{"text_format":"3","workbook":"xlsx","n_sheets":3,"sheets":["BM18","BM18A","filtro.12"],"not_rendered":{"external_links":2,"pivot_tables":1},"read":"whole","date_system":"1900"}

{"sheet":"BM18","index":0,"n_rows":96,"n_cols":7,"rows_kept":96,"merged":[[7,1,8,6],[9,1,9,3],[10,1,11,3],[10,4,11,4],[10,5,11,5],[10,6,11,6],[12,2,12,3],[13,2,13,3],[14,2,14,3],[15,2,15,3],[16,2,16,3],[17,2,17,3],[18,2,18,3],[19,2,19,3],[20,2,20,3],[21,2,21,3],[22,2,22,3],[23,1,36,1],[23,2,24,2],[25,2,26,2],[27,2,28,2],[29,2,30,2],[31,2,32,2],[33,2,34,2],[35,2,36,2],[39,1,40,1],[39,2,40,2],[39,3,40,3],[39,4,40,4],[54,1,55,1],[54,2,55,2],[58,1,58,2],[59,1,61,1]]}
[null,"SERVICIO DE SALUD "]
[null,{"$f":"CONCATENATE(\"COMUNA: \",[1]NOMBRE!B2,\"  \",\"( \",[1]NOMBRE!C2,[1]NOMBRE!D2,[1]NOMBRE!E2,[1]NOMBRE!F2,[1]NOMBRE!G2,\" )\")","v":"COMUNA: 0  ( 00000 )"}]
[null,{"$f":"CONCATENATE(\"ESTABLECIMIENTO/ESTRATEGIA: \",[1]NOMBRE!B3,\"  \",\"( \",[1]NOMBRE!C3,[1]NOMBRE!D3,[1]NOMBRE!E3,[1]NOMBRE!F3,[1]NOMBRE!G3,[1]NOMBRE!H3,\" )\")","v":"ESTABLECIMIENTO/ESTRATEGIA: 0  ( 000000 )"}]
[null,{"$f":"CONCATENATE(\"MES: \",[1]NOMBRE!B6,\"  \",\"( \",[1]NOMBRE!C6,[1]NOMBRE!D6,\" )\")","v":"MES: 0  ( 00 )"}]
[null,{"$f":"CONCATENATE(\"AÑO: \",[1]NOMBRE!B7)","v":"AÑO: 2025"}]
[]
[]
[null,"REM-B18.   ACTIVIDADES DE APOYO DIAGNOSTICO Y TERAPEUTICO\n     (USO EXCLUSIVO DE ESTABLECIMIENTOS MUNICIPALES)"]
[]
[null,"SECCIÓN A: EXÁMENES DE DIAGNOSTICO"]
[null,"EXÁMENES",null,null,"TOTAL","SAPU/SAR/SUR","Resto Establecimientos APS"]
[{"$nulls":5},"Total","Total"]
[null,"TOTAL EXÁMENES LABORATORIO",null,null,{"$f":"SUM(F13:G13)","v":{"v":758991,"d":"758,991"}},{"$f":"SUM(F14:F20)","v":{"v":5296,"d":"5,296"}},{"$f":"SUM(G14:G20)","v":{"v":753695,"d":"753,695"}}]
[18010100,"I","HEMATOLÓGICOS",null,{"v":99508,"d":"99,508"},{"$f":"IFERROR(VLOOKUP($A14,[2]filtro.12!$A5:$H178,3,FALSE),0)","v":2},{"$f":"IFERROR(VLOOKUP($A14,[2]filtro.12!A5:H178,4,FALSE),0)","v":{"v":99506,"d":"99,506"}}]
[18010200,"II","BIOQUÍMICOS",null,{"v":408037,"d":"408,037"},{"$f":"IFERROR(VLOOKUP($A15,[2]filtro.12!$A6:$H179,3,FALSE),0)","v":9},{"$f":"IFERROR(VLOOKUP($A15,[2]filtro.12!A6:H179,4,FALSE),0)","v":{"v":408028,"d":"408,028"}}]
[18090100,"III","HORMONALES",null,{"v":78993,"d":"78,993"},{"$f":"IFERROR(VLOOKUP($A16,[2]filtro.12!$A7:$H180,3,FALSE),0)","v":0},{"$f":"IFERROR(VLOOKUP($A16,[2]filtro.12!A7:H180,4,FALSE),0)","v":{"v":78993,"d":"78,993"}}]
[18010500,"V","INMUNOLÓGICOS",null,{"v":2104,"d":"2,104"},{"$f":"IFERROR(VLOOKUP($A17,[2]filtro.12!$A8:$H181,3,FALSE),0)","v":0},{"$f":"IFERROR(VLOOKUP($A17,[2]filtro.12!A8:H181,4,FALSE),0)","v":{"v":2104,"d":"2,104"}}]
[18010601,"VI","MICROBIOLÓGICOS",null,{"v":27208,"d":"27,208"},{"$f":"IFERROR(VLOOKUP($A18,[2]filtro.12!$A9:$H182,3,FALSE),0)","v":40},{"$f":"IFERROR(VLOOKUP($A18,[2]filtro.12!A9:H182,4,FALSE),0)","v":{"v":27168,"d":"27,168"}}]
[18010800,"VIII","EX.  DE DEPOSICIONES EXUDADOS. SECREC. Y OTROS LIQ.  ",null,480,{"$f":"IFERROR(VLOOKUP($A19,[2]filtro.12!$A10:$H183,3,FALSE),0)","v":0},{"$f":"IFERROR(VLOOKUP($A19,[2]filtro.12!A10:H183,4,FALSE),0)","v":480}]
[18010900,"IX","ORINA",null,{"v":142661,"d":"142,661"},{"$f":"IFERROR(VLOOKUP($A20,[2]filtro.12!$A11:$H184,3,FALSE),0)","v":{"v":5245,"d":"5,245"}},{"$f":"IFERROR(VLOOKUP($A20,[2]filtro.12!A11:H184,4,FALSE),0)","v":{"v":137416,"d":"137,416"}}]
[null,"TOTAL EXÁMENES IMAGENOLOGIA"]
[18011001,"a)","EX. RADIOLÓGICOS SIMPLES",null,{"$f":"IFERROR(VLOOKUP($A22,[2]filtro.12!$A5:$H178,2,FALSE),0)","v":{"v":43237,"d":"43,237"}},{"$f":"IFERROR(VLOOKUP($A22,[2]filtro.12!A5:H178,3,FALSE),0)","v":{"v":38654,"d":"38,654"}},{"$f":"IFERROR(VLOOKUP($A22,[2]filtro.12!$A5:$H178,4,FALSE),0)","v":{"v":4583,"d":"4,583"}}]
[18700370,null,"ECOGRAFÍAS OBSTÉTRICAS Y GINECOLÓGICAS",null,{"$f":"IFERROR(VLOOKUP($A23,[2]filtro.12!$A6:$H179,2,FALSE),0)","v":{"v":4304,"d":"4,304"}},{"$f":"IFERROR(VLOOKUP($A23,[2]filtro.12!A6:H179,3,FALSE),0)","v":0},{"$f":"IFERROR(VLOOKUP($A23,[2]TdBM.12!A6:H179,4,FALSE),0)","v":{"v":4304,"d":"4,304"}}]
[18700240,null,"Ecografías Obstétricas Primer Trimestre (<11 semanas)","Médico/a",{"$f":"IFERROR(VLOOKUP($A24,[2]filtro.12!$A7:$H180,2,FALSE),0)","v":1},{"$f":"IFERROR(VLOOKUP($A24,[2]filtro.12!A7:H180,3,FALSE),0)","v":0},{"$f":"IFERROR(VLOOKUP($A24,[2]TdBM.12!A7:H180,4,FALSE),0)","v":1}]
[18700250,null,null,"Matrón/a",{"$f":"IFERROR(VLOOKUP($A25,[2]filtro.12!$A8:$H181,2,FALSE),0)","v":903},{"$f":"IFERROR(VLOOKUP($A25,[2]filtro.12!A8:H181,3,FALSE),0)","v":0},{"$f":"IFERROR(VLOOKUP($A25,[2]TdBM.12!A8:H181,4,FALSE),0)","v":903}]
[18700260,null,"Ecografias Obstétricas Primer Trimestre (11 - 14 semanas)","Médico/a",{"$f":"IFERROR(VLOOKUP($A26,[2]filtro.12!$A9:$H182,2,FALSE),0)","v":1},{"$f":"IFERROR(VLOOKUP($A26,[2]filtro.12!A9:H182,3,FALSE),0)","v":0},{"$f":"IFERROR(VLOOKUP($A26,[2]TdBM.12!A9:H182,4,FALSE),0)","v":1}]
[18700270,null,null,"Matrón/a",{"$f":"IFERROR(VLOOKUP($A27,[2]filtro.12!$A10:$H183,2,FALSE),0)","v":{"v":1659,"d":"1,659"}},{"$f":"IFERROR(VLOOKUP($A27,[2]filtro.12!A10:H183,3,FALSE),0)","v":0},{"$f":"IFERROR(VLOOKUP($A27,[2]TdBM.12!A10:H183,4,FALSE),0)","v":{"v":1659,"d":"1,659"}}]
[18700280,null,"Ecografias Obstétricas Segundo Trimestre (22 - 24 semanas)","Médico/a",{"$f":"IFERROR(VLOOKUP($A28,[2]filtro.12!$A11:$H184,2,FALSE),0)","v":1},{"$f":"IFERROR(VLOOKUP($A28,[2]filtro.12!A11:H184,3,FALSE),0)","v":0},{"$f":"IFERROR(VLOOKUP($A28,[2]TdBM.12!A11:H184,4,FALSE),0)","v":1}]
[18700290,null,null,"Matrón/a",{"$f":"IFERROR(VLOOKUP($A29,[2]filtro.12!$A12:$H185,2,FALSE),0)","v":967},{"$f":"IFERROR(VLOOKUP($A29,[2]filtro.12!A12:H185,3,FALSE),0)","v":0},{"$f":"IFERROR(VLOOKUP($A29,[2]TdBM.12!A12:H185,4,FALSE),0)","v":967}]
[18700300,null,"Ecografias Obstétricas Tercer Trimestre (30 - 34 semanas)","Médico/a",{"$f":"IFERROR(VLOOKUP($A30,[2]filtro.12!$A13:$H186,2,FALSE),0)","v":8},{"$f":"IFERROR(VLOOKUP($A30,[2]filtro.12!A13:H186,3,FALSE),0)","v":0},{"$f":"IFERROR(VLOOKUP($A30,[2]TdBM.12!A13:H186,4,FALSE),0)","v":8}]
[18700310,null,null,"Matrón/a",{"$f":"IFERROR(VLOOKUP($A31,[2]filtro.12!$A14:$H187,2,FALSE),0)","v":955},{"$f":"IFERROR(VLOOKUP($A31,[2]filtro.12!A14:H187,3,FALSE),0)","v":0},{"$f":"IFERROR(VLOOKUP($A31,[2]TdBM.12!A14:H187,4,FALSE),0)","v":955}]
[null,null,"Total Ecografías Obstétricas por profesional","Médico/a",{"$f":"IFERROR(VLOOKUP($A32,[2]filtro.12!$A15:$H188,2,FALSE),0)","v":0},{"$f":"IFERROR(VLOOKUP($A32,[2]filtro.12!A15:H188,3,FALSE),0)","v":0}]
[{"$nulls":3},"Matrón/a",{"$f":"IFERROR(VLOOKUP($A33,[2]filtro.12!$A16:$H189,2,FALSE),0)","v":0},{"$f":"IFERROR(VLOOKUP($A33,[2]filtro.12!A16:H189,3,FALSE),0)","v":0}]
[18700320,null,"Ecografía de seguimiento DIU (Regulación de la Fertilidad)","Médico/a",{"$f":"IFERROR(VLOOKUP($A34,[2]filtro.12!$A17:$H190,2,FALSE),0)","v":0},{"$f":"IFERROR(VLOOKUP($A34,[2]filtro.12!A17:H190,3,FALSE),0)","v":0},{"$f":"IFERROR(VLOOKUP($A34,[2]TdBM.12!A17:H190,4,FALSE),0)","v":0}]
[18700330,null,null,"Matrón/a",{"$f":"IFERROR(VLOOKUP($A35,[2]filtro.12!$A18:$H191,2,FALSE),0)","v":201},{"$f":"IFERROR(VLOOKUP($A35,[2]filtro.12!A18:H191,3,FALSE),0)","v":0},{"$f":"IFERROR(VLOOKUP($A35,[2]TdBM.12!A18:H191,4,FALSE),0)","v":201}]
[18700340,null,"Ecografía Transvaginal (control de Climaterio y Ginecológico)","Médico/a",{"$f":"IFERROR(VLOOKUP($A36,[2]filtro.12!$A19:$H192,2,FALSE),0)","v":5},{"$f":"IFERROR(VLOOKUP($A36,[2]filtro.12!A19:H192,3,FALSE),0)","v":0},{"$f":"IFERROR(VLOOKUP($A36,[2]TdBM.12!A19:H192,4,FALSE),0)","v":5}]
[18700350,null,null,"Matrón/a",{"$f":"IFERROR(VLOOKUP($A37,[2]filtro.12!$A20:$H193,2,FALSE),0)","v":604},{"$f":"IFERROR(VLOOKUP($A37,[2]filtro.12!A20:H193,3,FALSE),0)","v":0},{"$f":"IFERROR(VLOOKUP($A37,[2]TdBM.12!A20:H193,4,FALSE),0)","v":604}]
[]
[null,"SECCIÓN B:  PROCEDIMIENTO E INTERVENCIONES QUIRÚRGICAS DE APOYO CLÍNICO Y TERAPÉUTICO"]
[null,"PROCEDIMIENTOS","TOTAL","SAPU/SAR/SUR","Resto Establecimientos APS"]
[{"$nulls":3},"Total","Total"]
[18020200,"PROC. DE OTORRINOLARINGOLOGÍA ",{"$f":"IFERROR(VLOOKUP($A42,[2]filtro.12!A5:H178,2,FALSE),0)","v":632},{"$f":"IFERROR(VLOOKUP($A42,[2]filtro.12!A5:H178,3,FALSE),0)","v":178},{"$f":"IFERROR(VLOOKUP($A42,[2]filtro.12!A5:H178,4,FALSE),0)","v":454}]
[18020300,"PROC. DE NEUMOLOGÍA",{"$f":"IFERROR(VLOOKUP($A43,[2]filtro.12!A6:H179,2,FALSE),0)","v":{"v":28141,"d":"28,141"}},{"$f":"IFERROR(VLOOKUP($A43,[2]filtro.12!A6:H179,3,FALSE),0)","v":{"v":21919,"d":"21,919"}},{"$f":"IFERROR(VLOOKUP($A43,[2]filtro.12!A6:H179,4,FALSE),0)","v":{"v":6222,"d":"6,222"}}]
[18020400,"PROC. DE DERMATOLOGÍA",{"$f":"IFERROR(VLOOKUP($A44,[2]filtro.12!A7:H180,2,FALSE),0)","v":113},{"$f":"IFERROR(VLOOKUP($A44,[2]filtro.12!A7:H180,3,FALSE),0)","v":6},{"$f":"IFERROR(VLOOKUP($A44,[2]filtro.12!A7:H180,4,FALSE),0)","v":107}]
[18030000,"INTERVENCIONES QUIRÚRGICAS MENORES (SUB-GRUPO TEGUMENTOS)",{"$f":"IFERROR(VLOOKUP($A45,[2]filtro.12!A8:H181,2,FALSE),0)","v":{"v":4296,"d":"4,296"}},{"$f":"IFERROR(VLOOKUP($A45,[2]filtro.12!A8:H181,3,FALSE),0)","v":{"v":2944,"d":"2,944"}},{"$f":"IFERROR(VLOOKUP($A45,[2]filtro.12!A8:H181,4,FALSE),0)","v":{"v":1352,"d":"1,352"}}]
[18020500,"PROC. DE CARDIOLOGÍA",{"$f":"IFERROR(VLOOKUP($A46,[2]filtro.12!A9:H182,2,FALSE),0)","v":{"v":138381,"d":"138,381"}},{"$f":"IFERROR(VLOOKUP($A46,[2]filtro.12!A9:H182,3,FALSE),0)","v":{"v":36215,"d":"36,215"}},{"$f":"IFERROR(VLOOKUP($A46,[2]filtro.12!A9:H182,4,FALSE),0)","v":{"v":102166,"d":"102,166"}}]
[18020600,"PROC. DE GASTROENTEROLOGÍA",{"$f":"IFERROR(VLOOKUP($A47,[2]filtro.12!A10:H183,2,FALSE),0)","v":848},{"$f":"IFERROR(VLOOKUP($A47,[2]filtro.12!A10:H183,3,FALSE),0)","v":608},{"$f":"IFERROR(VLOOKUP($A47,[2]filtro.12!A10:H183,4,FALSE),0)","v":240}]
[18020700,"PROC. DE UROLOGÍA",{"$f":"IFERROR(VLOOKUP($A48,[2]filtro.12!A11:H184,2,FALSE),0)","v":{"v":3127,"d":"3,127"}},{"$f":"IFERROR(VLOOKUP($A48,[2]filtro.12!A11:H184,3,FALSE),0)","v":{"v":1723,"d":"1,723"}},{"$f":"IFERROR(VLOOKUP($A48,[2]filtro.12!A11:H184,4,FALSE),0)","v":{"v":1404,"d":"1,404"}}]
[18020800,"PROC. ORTOPEDIA Y TRAUMATOLOGÍA",{"$f":"IFERROR(VLOOKUP($A49,[2]filtro.12!A12:H185,2,FALSE),0)","v":{"v":2079,"d":"2,079"}},{"$f":"IFERROR(VLOOKUP($A49,[2]filtro.12!A12:H185,3,FALSE),0)","v":{"v":2079,"d":"2,079"}},{"$f":"IFERROR(VLOOKUP($A49,[2]filtro.12!A12:H185,4,FALSE),0)","v":0}]
[18020900,"PROC. GINECOLOGÍA",{"$f":"IFERROR(VLOOKUP($A50,[2]filtro.12!A13:H186,2,FALSE),0)","v":{"v":37722,"d":"37,722"}},{"$f":"IFERROR(VLOOKUP($A50,[2]filtro.12!A13:H186,3,FALSE),0)","v":25},{"$f":"IFERROR(VLOOKUP($A50,[2]filtro.12!A13:H186,4,FALSE),0)","v":{"v":37697,"d":"37,697"}}]
[18700360,"MISCELÁNEOS",{"$f":"IFERROR(VLOOKUP($A51,[2]filtro.12!A14:H187,2,FALSE),0)","v":{"v":1082893,"d":"1,082,893"}},{"$f":"IFERROR(VLOOKUP($A51,[2]filtro.12!A14:H187,3,FALSE),0)","v":{"v":418526,"d":"418,526"}},{"$f":"IFERROR(VLOOKUP($A51,[2]filtro.12!A14:H187,4,FALSE),0)","v":{"v":664367,"d":"664,367"}}]
[null,"TOTAL",{"$f":"SUM(C42:C51)","v":{"v":1298232,"d":"1,298,232"}},{"$f":"SUM(D42:D51)","v":{"v":484223,"d":"484,223"}},{"$f":"SUM(E42:E51)","v":{"v":814009,"d":"814,009"}}]
[]
[null,"SECCIÓN C: PRESCRIPCIONES ADMINISTRADAS EN URGENCIA "]
[null,"ATENCIÓN","TOTAL"]
[]
[18400700,"URGENCIA SAPU/SAR/SUR",{"$f":"IFERROR(VLOOKUP($A57,[2]filtro.12!A5:H178,2,FALSE),0)","v":{"v":566706,"d":"566,706"}}]
[null,"SECCIÓN D: OTROS TRASLADOS DE PACIENTES"]
[null,"TIPO DE ACCION",null,"TOTAL        ","POR COMPRA \nDE SERVICIO"]
[18090200,"TRASLADOS NO DE URGENCIA","AMBULANCIA",{"$f":"IFERROR(VLOOKUP($A60,[2]filtro.12!A5:H178,2,FALSE),0)","v":{"v":9210,"d":"9,210"}},{"$f":"IFERROR(VLOOKUP($A60,[2]filtro.12!A5:H178,3,FALSE),0)","v":{"v":1373,"d":"1,373"}}]
[18090300,null,"MARÍTIMO",{"$f":"IFERROR(VLOOKUP($A61,[2]filtro.12!A6:H179,2,FALSE),0)","v":64},{"$f":"IFERROR(VLOOKUP($A61,[2]filtro.12!A6:H179,3,FALSE),0)","v":0}]
[18090400,null,"AÉREO",{"$f":"IFERROR(VLOOKUP($A62,[2]filtro.12!A7:H180,2,FALSE),0)","v":0},{"$f":"IFERROR(VLOOKUP($A62,[2]filtro.12!A7:H180,3,FALSE),0)","v":0}]
[]
[]
["CODIGOS ELIMINADOS"]
[18011002]
[18400500]
[18020100]
["18400400"]
["18040100"]
["18040200"]
["18090000"]
["18050100"]
[18050400]
[18050500]
["18050200"]
["18050300"]
["18070100"]
["18070300"]
["18400900"]
[18700100]
[]
["CODIGO NUEVO"]
[18700360]
[18700370]
{"$rows_empty":10}
[null,{"$f":"SUM(E13:E37,C42:C52,C57,D60:D62)","v":{"v":4743272,"d":"4,743,272"}}]

{"sheet":"BM18A","index":1,"n_rows":646,"n_cols":7,"rows_kept":646,"merged":[[5,1,5,3],[6,1,6,6],[9,1,10,1],[9,2,10,2],[9,3,10,3],[9,4,10,4],[9,5,10,5],[9,6,10,6],[11,1,11,2],[11,3,11,6],[19,1,19,2],[21,1,21,2],[21,3,21,6],[42,1,42,2],[44,1,44,2],[44,3,44,6],[48,1,48,2],[50,1,50,2],[50,3,50,6],[53,1,53,2],[55,1,55,2],[55,3,55,6],[72,1,72,2],[74,1,74,2],[77,1,77,2],[79,1,79,2],[87,1,87,2],[88,1,88,2],[90,1,90,2],[90,3,90,6],[120,1,121,1],[120,2,121,2],[120,3,121,3],[120,4,121,4],[120,5,121,5],[120,6,121,6],[122,1,122,2],[127,1,127,2],[129,1,129,2],[129,5,129,6],[139,1,139,2],[141,1,141,2],[147,1,147,2],[149,1,149,2],[157,1,157,2],[159,1,159,2],[163,1,163,2],[165,1,165,2],[168,1,168,2],[170,1,170,2],[176,1,176,2],[178,1,178,2],[185,1,185,2],[187,1,187,2],[205,1,205,2]]}
[null,"SERVICIO DE SALUD "]
[null,{"$f":"CONCATENATE(\"COMUNA: \",[1]NOMBRE!B2,\"  \",\"( \",[1]NOMBRE!C2,[1]NOMBRE!D2,[1]NOMBRE!E2,[1]NOMBRE!F2,[1]NOMBRE!G2,\" )\")","v":"COMUNA: 0  ( 00000 )"}]
[null,{"$f":"CONCATENATE(\"ESTABLECIMIENTO/ESTRATEGIA: \",[1]NOMBRE!B3,\"  \",\"( \",[1]NOMBRE!C3,[1]NOMBRE!D3,[1]NOMBRE!E3,[1]NOMBRE!F3,[1]NOMBRE!G3,[1]NOMBRE!H3,\" )\")","v":"ESTABLECIMIENTO/ESTRATEGIA: 0  ( 000000 )"}]
[null,{"$f":"CONCATENATE(\"MES: \",[1]NOMBRE!B6,\"  \",\"( \",[1]NOMBRE!C6,[1]NOMBRE!D6,\" )\")","v":"MES: 0  ( 00 )"}]
[null,{"$f":"CONCATENATE(\"AÑO: \",[1]NOMBRE!B7)","v":"AÑO: 2025"}]
[]
[null,"REM-18A  -  LIBRO DE PRESTACIONES DE APOYO DIAGNOSTICO y TERAPÉUTICO\n(USO EXCLUSIVO DE ESTABLECIMIENTOS MUNICIPALES)"]
[]
[null,"SECCIÓN A: EXÁMENES DE DIAGNOSTICO"]
[null,"CÓDIGOS","EXÁMENES","TOTAL","SAPU/SAR/SUR","Resto Establecimientos APS","Compra de Servicios"]
[]
[null,"SANGRE HEMATOLOGÍA"]
[80301036,"0301036","Hematocrito (proc. aut.)",{"$f":"IFERROR(VLOOKUP($A13,[2]filtro.12!$A5:$H178,2,FALSE),0)","v":{"v":5995,"d":"5,995"}},{"$f":"IFERROR(VLOOKUP($A13,[2]filtro.12!$A5:$H178,3,FALSE),0)","v":0},{"$f":"IFERROR(VLOOKUP($A13,[2]filtro.12!$A5:$H178,4,FALSE),0)","v":{"v":5493,"d":"5,493"}},{"$f":"IFERROR(VLOOKUP($A13,[2]filtro.12!$A5:$H178,5,FALSE),0)","v":{"v":32822,"d":"32,822"}}]
[80301041,"0301041","Hemoglobina glicada A1c",{"$f":"IFERROR(VLOOKUP($A14,[2]filtro.12!$A6:$H179,2,FALSE),0)","v":{"v":37710,"d":"37,710"}},{"$f":"IFERROR(VLOOKUP($A14,[2]filtro.12!$A6:$H179,3,FALSE),0)","v":0},{"$f":"IFERROR(VLOOKUP($A14,[2]filtro.12!$A6:$H179,4,FALSE),0)","v":{"v":37397,"d":"37,397"}},{"$f":"IFERROR(VLOOKUP($A14,[2]filtro.12!$A6:$H179,5,FALSE),0)","v":{"v":59200,"d":"59,200"}}]
[80301045,"0301045","Hemograma (incluye recuentos de leucocitos, eritrocitos, plaquetas, hemoglobina, hematocrito, fórmula leucocitaria, características de los elementos figurados y velocidad de eritrosedimentación)",{"$f":"IFERROR(VLOOKUP($A15,[2]filtro.12!$A7:$H180,2,FALSE),0)","v":{"v":52253,"d":"52,253"}},{"$f":"IFERROR(VLOOKUP($A15,[2]filtro.12!$A7:$H180,3,FALSE),0)","v":1},{"$f":"IFERROR(VLOOKUP($A15,[2]filtro.12!$A7:$H180,4,FALSE),0)","v":{"v":52195,"d":"52,195"}},{"$f":"IFERROR(VLOOKUP($A15,[2]filtro.12!$A7:$H180,5,FALSE),0)","v":{"v":77705,"d":"77,705"}}]
[80301065,"0301065","Recuento de leucocitos, absoluto (proc. aut.)",{"$f":"IFERROR(VLOOKUP($A16,[2]filtro.12!$A8:$H181,2,FALSE),0)","v":50},{"$f":"IFERROR(VLOOKUP($A16,[2]filtro.12!$A8:$H181,3,FALSE),0)","v":0},{"$f":"IFERROR(VLOOKUP($A16,[2]filtro.12!$A8:$H181,4,FALSE),0)","v":50},{"$f":"IFERROR(VLOOKUP($A16,[2]filtro.12!$A8:$H181,5,FALSE),0)","v":139}]
[80301067,"0301067","Recuento de plaquetas (absoluto)",{"$f":"IFERROR(VLOOKUP($A17,[2]filtro.12!$A9:$H182,2,FALSE),0)","v":146},{"$f":"IFERROR(VLOOKUP($A17,[2]filtro.12!$A9:$H182,3,FALSE),0)","v":0},{"$f":"IFERROR(VLOOKUP($A17,[2]filtro.12!$A9:$H182,4,FALSE),0)","v":146},{"$f":"IFERROR(VLOOKUP($A17,[2]filtro.12!$A9:$H182,5,FALSE),0)","v":75}]
[82201010,"0301059","Tiempo de protrombina (incluye INR, Razón Internacional Normalizada)",{"$f":"IFERROR(VLOOKUP($A18,[2]filtro.12!$A10:$H183,2,FALSE),0)","v":{"v":2905,"d":"2,905"}},{"$f":"IFERROR(VLOOKUP($A18,[2]filtro.12!$A10:$H183,3,FALSE),0)","v":1},{"$f":"IFERROR(VLOOKUP($A18,[2]filtro.12!$A10:$H183,4,FALSE),0)","v":{"v":2904,"d":"2,904"}},{"$f":"IFERROR(VLOOKUP($A18,[2]filtro.12!$A10:$H183,5,FALSE),0)","v":{"v":2910,"d":"2,910"}}]
[80301086,"0301086","Velocidad de eritrosedimentación (proc. aut.)",{"$f":"IFERROR(VLOOKUP($A19,[2]filtro.12!$A11:$H184,2,FALSE),0)","v":388},{"$f":"IFERROR(VLOOKUP($A19,[2]filtro.12!$A11:$H184,3,FALSE),0)","v":0},{"$f":"IFERROR(VLOOKUP($A19,[2]filtro.12!$A11:$H184,4,FALSE),0)","v":385},{"$f":"IFERROR(VLOOKUP($A19,[2]filtro.12!$A11:$H184,5,FALSE),0)","v":{"v":1508,"d":"1,508"}}]
[null,"TOTAL",null,{"$f":"SUM(D13:D19)","v":{"v":99447,"d":"99,447"}},{"$f":"SUM(E13:E19)","v":2},{"$f":"SUM(F13:F19)","v":{"v":98570,"d":"98,570"}},{"$f":"SUM(G13:G19)","v":{"v":174359,"d":"174,359"}}]
[]
[null,"SANGRE BIOQUÍMICO"]
[80302005,"0302005","Ácido úrico, en sangre",{"$f":"IFERROR(VLOOKUP($A23,[2]filtro.12!$A15:$H188,2,FALSE),0)","v":{"v":33889,"d":"33,889"}},{"$f":"IFERROR(VLOOKUP($A23,[2]filtro.12!$A15:$H188,3,FALSE),0)","v":0},{"$f":"IFERROR(VLOOKUP($A23,[2]filtro.12!$A15:$H188,4,FALSE),0)","v":{"v":33871,"d":"33,871"}},{"$f":"IFERROR(VLOOKUP($A23,[2]filtro.12!$A15:$H188,5,FALSE),0)","v":{"v":35558,"d":"35,558"}}]
[80302013,"0302013","Bilirrubina total y conjugada",{"$f":"IFERROR(VLOOKUP($A24,[2]filtro.12!$A16:$H189,2,FALSE),0)","v":660},{"$f":"IFERROR(VLOOKUP($A24,[2]filtro.12!$A16:$H189,3,FALSE),0)","v":0},{"$f":"IFERROR(VLOOKUP($A24,[2]filtro.12!$A16:$H189,4,FALSE),0)","v":631},{"$f":"IFERROR(VLOOKUP($A24,[2]filtro.12!$A16:$H189,5,FALSE),0)","v":{"v":8726,"d":"8,726"}}]
[80302067,"0302067","Colesterol total (proc. aut.)",{"$f":"IFERROR(VLOOKUP($A25,[2]filtro.12!$A17:$H190,2,FALSE),0)","v":{"v":3768,"d":"3,768"}},{"$f":"IFERROR(VLOOKUP($A25,[2]filtro.12!$A17:$H190,3,FALSE),0)","v":0},{"$f":"IFERROR(VLOOKUP($A25,[2]filtro.12!$A17:$H190,4,FALSE),0)","v":{"v":3734,"d":"3,734"}},{"$f":"IFERROR(VLOOKUP($A25,[2]filtro.12!$A17:$H190,5,FALSE),0)","v":{"v":46917,"d":"46,917"}}]
[80302068,"0302068","Colesterol HDL (proc. aut.)",{"$f":"IFERROR(VLOOKUP($A26,[2]filtro.12!$A18:$H191,2,FALSE),0)","v":{"v":1749,"d":"1,749"}},{"$f":"IFERROR(VLOOKUP($A26,[2]filtro.12!$A18:$H191,3,FALSE),0)","v":0},{"$f":"IFERROR(VLOOKUP($A26,[2]filtro.12!$A18:$H191,4,FALSE),0)","v":{"v":1723,"d":"1,723"}},{"$f":"IFERROR(VLOOKUP($A26,[2]filtro.12!$A18:$H191,5,FALSE),0)","v":{"v":37095,"d":"37,095"}}]
[80302023,"0302023","Creatinina en sangre",{"$f":"IFERROR(VLOOKUP($A27,[2]filtro.12!$A19:$H192,2,FALSE),0)","v":{"v":57974,"d":"57,974"}},{"$f":"IFERROR(VLOOKUP($A27,[2]filtro.12!$A19:$H192,3,FALSE),0)","v":0},{"$f":"IFERROR(VLOOKUP($A27,[2]filtro.12!$A19:$H192,4,FALSE),0)","v":{"v":57438,"d":"57,438"}},{"$f":"IFERROR(VLOOKUP($A27,[2]filtro.12!$A19:$H192,5,FALSE),0)","v":{"v":96432,"d":"96,432"}}]
[80302024,"0302024","Clearance de creatinina (proc.aut.)",{"$f":"IFERROR(VLOOKUP($A28,[2]filtro.12!$A20:$H193,2,FALSE),0)","v":{"v":2456,"d":"2,456"}},{"$f":"IFERROR(VLOOKUP($A28,[2]filtro.12!$A20:$H193,3,FALSE),0)","v":0},{"$f":"IFERROR(VLOOKUP($A28,[2]filtro.12!$A20:$H193,4,FALSE),0)","v":{"v":2456,"d":"2,456"}},{"$f":"IFERROR(VLOOKUP($A28,[2]filtro.12!$A20:$H193,5,FALSE),0)","v":{"v":7388,"d":"7,388"}}]
[80302032,"0302032","Electrolitos plasmáticos (sodio, potasio, cloro) c/u",{"$f":"IFERROR(VLOOKUP($A29,[2]filtro.12!$A21:$H194,2,FALSE),0)","v":{"v":92757,"d":"92,757"}},{"$f":"IFERROR(VLOOKUP($A29,[2]filtro.12!$A21:$H194,3,FALSE),0)","v":0},{"$f":"IFERROR(VLOOKUP($A29,[2]filtro.12!$A21:$H194,4,FALSE),0)","v":{"v":92371,"d":"92,371"}},{"$f":"IFERROR(VLOOKUP($A29,[2]filtro.12!$A21:$H194,5,FALSE),0)","v":{"v":83561,"d":"83,561"}}]
[80302034,"0302034","Perfil lipídico (incluye mediciones de colesterol total, HDL-colesterol y triglicéridos con estimaciones por fórmula de LDL-colesterol, VLDL-colesterol y colesterol no-HDL)",{"$f":"IFERROR(VLOOKUP($A30,[2]filtro.12!$A22:$H195,2,FALSE),0)","v":{"v":60613,"d":"60,613"}},{"$f":"IFERROR(VLOOKUP($A30,[2]filtro.12!$A22:$H195,3,FALSE),0)","v":0},{"$f":"IFERROR(VLOOKUP($A30,[2]filtro.12!$A22:$H195,4,FALSE),0)","v":{"v":60613,"d":"60,613"}},{"$f":"IFERROR(VLOOKUP($A30,[2]filtro.12!$A22:$H195,5,FALSE),0)","v":{"v":71715,"d":"71,715"}}]
[80302035,"0302035","Fármacos y/o drogas; niveles plasmáticos de (alcohol, anorexígenos, antiarrítmicos, antibióticos, antidepresivos, antiepilépticos, antihistamínicos, antiinflamatorios y analgésicos, estimulantes respiratorios, tranquilizantes mayores y menores, etc.) c/u",{"$f":"IFERROR(VLOOKUP($A31,[2]filtro.12!$A23:$H196,2,FALSE),0)","v":609},{"$f":"IFERROR(VLOOKUP($A31,[2]filtro.12!$A23:$H196,3,FALSE),0)","v":0},{"$f":"IFERROR(VLOOKUP($A31,[2]filtro.12!$A23:$H196,4,FALSE),0)","v":609},{"$f":"IFERROR(VLOOKUP($A31,[2]filtro.12!$A23:$H196,5,FALSE),0)","v":{"v":6288,"d":"6,288"}}]
[80302040,"0302040","Fosfatasas alcalinas totales",{"$f":"IFERROR(VLOOKUP($A32,[2]filtro.12!$A24:$H197,2,FALSE),0)","v":648},{"$f":"IFERROR(VLOOKUP($A32,[2]filtro.12!$A24:$H197,3,FALSE),0)","v":0},{"$f":"IFERROR(VLOOKUP($A32,[2]filtro.12!$A24:$H197,4,FALSE),0)","v":626},{"$f":"IFERROR(VLOOKUP($A32,[2]filtro.12!$A24:$H197,5,FALSE),0)","v":{"v":7543,"d":"7,543"}}]
[80302047,"0302047","Glucosa en sangre",{"$f":"IFERROR(VLOOKUP($A33,[2]filtro.12!$A25:$H198,2,FALSE),0)","v":{"v":70099,"d":"70,099"}},{"$f":"IFERROR(VLOOKUP($A33,[2]filtro.12!$A25:$H198,3,FALSE),0)","v":0},{"$f":"IFERROR(VLOOKUP($A33,[2]filtro.12!$A25:$H198,4,FALSE),0)","v":{"v":69458,"d":"69,458"}},{"$f":"IFERROR(VLOOKUP($A33,[2]filtro.12!$A25:$H198,5,FALSE),0)","v":{"v":118279,"d":"118,279"}}]
[80302048,"0302048","Glucosa, Prueba de Tolerancia a la Glucosa Oral (PTGO), (dos determinaciones)",{"$f":"IFERROR(VLOOKUP($A34,[2]filtro.12!$A26:$H199,2,FALSE),0)","v":{"v":5320,"d":"5,320"}},{"$f":"IFERROR(VLOOKUP($A34,[2]filtro.12!$A26:$H199,3,FALSE),0)","v":0},{"$f":"IFERROR(VLOOKUP($A34,[2]filtro.12!$A26:$H199,4,FALSE),0)","v":{"v":5252,"d":"5,252"}},{"$f":"IFERROR(VLOOKUP($A34,[2]filtro.12!$A26:$H199,5,FALSE),0)","v":{"v":10944,"d":"10,944"}}]
[80302057,"0302057","Nitrógeno ureico y/o úrea en sangre",{"$f":"IFERROR(VLOOKUP($A35,[2]filtro.12!$A27:$H200,2,FALSE),0)","v":{"v":36477,"d":"36,477"}},{"$f":"IFERROR(VLOOKUP($A35,[2]filtro.12!$A27:$H200,3,FALSE),0)","v":0},{"$f":"IFERROR(VLOOKUP($A35,[2]filtro.12!$A27:$H200,4,FALSE),0)","v":{"v":36456,"d":"36,456"}},{"$f":"IFERROR(VLOOKUP($A35,[2]filtro.12!$A27:$H200,5,FALSE),0)","v":{"v":43470,"d":"43,470"}}]
[80302075,"0302075","Perfil bioquímico (determinación automatizada de 12 parámetros)",{"$f":"IFERROR(VLOOKUP($A36,[2]filtro.12!$A28:$H201,2,FALSE),0)","v":443},{"$f":"IFERROR(VLOOKUP($A36,[2]filtro.12!$A28:$H201,3,FALSE),0)","v":7},{"$f":"IFERROR(VLOOKUP($A36,[2]filtro.12!$A28:$H201,4,FALSE),0)","v":436},{"$f":"IFERROR(VLOOKUP($A36,[2]filtro.12!$A28:$H201,5,FALSE),0)","v":{"v":2481,"d":"2,481"}}]
[80302076,"0302076","Perfil Hepático (incluye tiempo de protrombina, bilirrubina total y conjugada, fosfatasas alcalinas totales, GGT, transaminasas GOT/AST y GPT/ALT)",{"$f":"IFERROR(VLOOKUP($A37,[2]filtro.12!$A29:$H202,2,FALSE),0)","v":{"v":31763,"d":"31,763"}},{"$f":"IFERROR(VLOOKUP($A37,[2]filtro.12!$A29:$H202,3,FALSE),0)","v":0},{"$f":"IFERROR(VLOOKUP($A37,[2]filtro.12!$A29:$H202,4,FALSE),0)","v":{"v":31763,"d":"31,763"}},{"$f":"IFERROR(VLOOKUP($A37,[2]filtro.12!$A29:$H202,5,FALSE),0)","v":{"v":25161,"d":"25,161"}}]
[80302063,"0302063","Transaminasas, oxalacética (GOT/AST), Pirúvica (GPT/ALT), c/u",{"$f":"IFERROR(VLOOKUP($A38,[2]filtro.12!$A30:$H203,2,FALSE),0)","v":{"v":1137,"d":"1,137"}},{"$f":"IFERROR(VLOOKUP($A38,[2]filtro.12!$A30:$H203,3,FALSE),0)","v":0},{"$f":"IFERROR(VLOOKUP($A38,[2]filtro.12!$A30:$H203,4,FALSE),0)","v":{"v":1067,"d":"1,067"}},{"$f":"IFERROR(VLOOKUP($A38,[2]filtro.12!$A30:$H203,5,FALSE),0)","v":{"v":18659,"d":"18,659"}}]
[80302064,"0302064","Triglicéridos en sangre (proc.aut.)",{"$f":"IFERROR(VLOOKUP($A39,[2]filtro.12!$A31:$H204,2,FALSE),0)","v":{"v":3758,"d":"3,758"}},{"$f":"IFERROR(VLOOKUP($A39,[2]filtro.12!$A31:$H204,3,FALSE),0)","v":0},{"$f":"IFERROR(VLOOKUP($A39,[2]filtro.12!$A31:$H204,4,FALSE),0)","v":{"v":3095,"d":"3,095"}},{"$f":"IFERROR(VLOOKUP($A39,[2]filtro.12!$A31:$H204,5,FALSE),0)","v":{"v":41936,"d":"41,936"}}]
[82201011,"0302100","Proteínas totales en sangre",{"$f":"IFERROR(VLOOKUP($A40,[2]filtro.12!$A32:$H205,2,FALSE),0)","v":{"v":1054,"d":"1,054"}},{"$f":"IFERROR(VLOOKUP($A40,[2]filtro.12!$A32:$H205,3,FALSE),0)","v":0},{"$f":"IFERROR(VLOOKUP($A40,[2]filtro.12!$A32:$H205,4,FALSE),0)","v":{"v":1050,"d":"1,050"}},{"$f":"IFERROR(VLOOKUP($A40,[2]filtro.12!$A32:$H205,5,FALSE),0)","v":{"v":1631,"d":"1,631"}}]
[82201012,"0302077","Vitamina B12 por inmunoensayo",{"$f":"IFERROR(VLOOKUP($A41,[2]filtro.12!$A33:$H206,2,FALSE),0)","v":{"v":1692,"d":"1,692"}},{"$f":"IFERROR(VLOOKUP($A41,[2]filtro.12!$A33:$H206,3,FALSE),0)","v":0},{"$f":"IFERROR(VLOOKUP($A41,[2]filtro.12!$A33:$H206,4,FALSE),0)","v":{"v":1689,"d":"1,689"}},{"$f":"IFERROR(VLOOKUP($A41,[2]filtro.12!$A33:$H206,5,FALSE),0)","v":{"v":5310,"d":"5,310"}}]
[82201013,"0302101","Albúminas en sangre",{"$f":"IFERROR(VLOOKUP($A42,[2]filtro.12!$A34:$H207,2,FALSE),0)","v":684},{"$f":"IFERROR(VLOOKUP($A42,[2]filtro.12!$A34:$H207,3,FALSE),0)","v":0},{"$f":"IFERROR(VLOOKUP($A42,[2]filtro.12!$A34:$H207,4,FALSE),0)","v":684},{"$f":"IFERROR(VLOOKUP($A42,[2]filtro.12!$A34:$H207,5,FALSE),0)","v":{"v":2041,"d":"2,041"}}]
[null,"TOTAL",null,{"$f":"SUM(D23:D42)","v":{"v":407550,"d":"407,550"}},{"$f":"SUM(E23:E42)","v":7},{"$f":"SUM(F23:F42)","v":{"v":405022,"d":"405,022"}},{"$f":"SUM(G23:G42)","v":{"v":671135,"d":"671,135"}}]
[]
[null," EXÁMENES HORMONALES"]
[80303024,"0303024","Tiroestimulante (TSH), hormona (adulto, niño o R.N.)                            ",{"$f":"IFERROR(VLOOKUP($A46,[2]filtro.12!$A38:$H211,2,FALSE),0)","v":{"v":46128,"d":"46,128"}},{"$f":"IFERROR(VLOOKUP($A46,[2]filtro.12!$A38:$H211,3,FALSE),0)","v":0},{"$f":"IFERROR(VLOOKUP($A46,[2]filtro.12!$A38:$H211,4,FALSE),0)","v":{"v":45831,"d":"45,831"}},{"$f":"IFERROR(VLOOKUP($A46,[2]filtro.12!$A38:$H211,5,FALSE),0)","v":{"v":83533,"d":"83,533"}}]
[80303026,"0303026","Tiroxina libre (T4L)                                                                       ",{"$f":"IFERROR(VLOOKUP($A47,[2]filtro.12!$A39:$H212,2,FALSE),0)","v":{"v":30752,"d":"30,752"}},{"$f":"IFERROR(VLOOKUP($A47,[2]filtro.12!$A39:$H212,3,FALSE),0)","v":0},{"$f":"IFERROR(VLOOKUP($A47,[2]filtro.12!$A39:$H212,4,FALSE),0)","v":{"v":30697,"d":"30,697"}},{"$f":"IFERROR(VLOOKUP($A47,[2]filtro.12!$A39:$H212,5,FALSE),0)","v":{"v":29348,"d":"29,348"}}]
[80303027,"0303027","Tiroxina o tetrayodotironina (T4)                                               ",{"$f":"IFERROR(VLOOKUP($A48,[2]filtro.12!$A40:$H213,2,FALSE),0)","v":{"v":2065,"d":"2,065"}},{"$f":"IFERROR(VLOOKUP($A48,[2]filtro.12!$A40:$H213,3,FALSE),0)","v":0},{"$f":"IFERROR(VLOOKUP($A48,[2]filtro.12!$A40:$H213,4,FALSE),0)","v":{"v":2065,"d":"2,065"}},{"$f":"IFERROR(VLOOKUP($A48,[2]filtro.12!$A40:$H213,5,FALSE),0)","v":54}]
[null,"TOTAL",null,{"$f":"SUM(D46:D48)","v":{"v":78945,"d":"78,945"}},{"$f":"SUM(E46:E48)","v":0},{"$f":"SUM(F46:F48)","v":{"v":78593,"d":"78,593"}},{"$f":"SUM(G46:G48)","v":{"v":112935,"d":"112,935"}}]
[]
[null,"INMUNOLÓGICOS"]
[80305019,"0305019","Factor reumatoídeo por técnica de látex u otras similares",{"$f":"IFERROR(VLOOKUP($A52,[2]filtro.12!$A44:$H217,2,FALSE),0)","v":{"v":2088,"d":"2,088"}},{"$f":"IFERROR(VLOOKUP($A52,[2]filtro.12!$A44:$H217,3,FALSE),0)","v":0},{"$f":"IFERROR(VLOOKUP($A52,[2]filtro.12!$A44:$H217,4,FALSE),0)","v":{"v":2087,"d":"2,087"}},{"$f":"IFERROR(VLOOKUP($A52,[2]filtro.12!$A44:$H217,5,FALSE),0)","v":{"v":2549,"d":"2,549"}}]
[80305020,"0305020","Factor reumatoídeo por técnica Scat, Waaler Rose, nefelométricas y/o turbidimétricas",{"$f":"IFERROR(VLOOKUP($A53,[2]filtro.12!$A45:$H218,2,FALSE),0)","v":16},{"$f":"IFERROR(VLOOKUP($A53,[2]filtro.12!$A45:$H218,3,FALSE),0)","v":0},{"$f":"IFERROR(VLOOKUP($A53,[2]filtro.12!$A45:$H218,4,FALSE),0)","v":8},{"$f":"IFERROR(VLOOKUP($A53,[2]filtro.12!$A45:$H218,5,FALSE),0)","v":466}]
[null,"TOTAL",null,{"$f":"SUM(D52:D53)","v":{"v":2104,"d":"2,104"}},{"$f":"SUM(E52:E53)","v":0},{"$f":"SUM(F52:F53)","v":{"v":2095,"d":"2,095"}},{"$f":"SUM(G52:G53)","v":{"v":3015,"d":"3,015"}}]
[]
[null,"MICROBIOLÓGICOS"]
[80306002,"0306002","Baciloscopia Ziehl-Neelsen, c/u",{"$f":"IFERROR(VLOOKUP($A57,[2]filtro.12!$A49:$H222,2,FALSE),0)","v":194},{"$f":"IFERROR(VLOOKUP($A57,[2]filtro.12!$A49:$H222,3,FALSE),0)","v":13},{"$f":"IFERROR(VLOOKUP($A57,[2]filtro.12!$A49:$H222,4,FALSE),0)","v":178},{"$f":"IFERROR(VLOOKUP($A57,[2]filtro.12!$A49:$H222,5,FALSE),0)","v":{"v":1017,"d":"1,017"}}]
[80306004,"0306004","Examen directo al fresco, c/s tinción (incluye trichomonas)",{"$f":"IFERROR(VLOOKUP($A58,[2]filtro.12!$A50:$H223,2,FALSE),0)","v":{"v":1081,"d":"1,081"}},{"$f":"IFERROR(VLOOKUP($A58,[2]filtro.12!$A50:$H223,3,FALSE),0)","v":0},{"$f":"IFERROR(VLOOKUP($A58,[2]filtro.12!$A50:$H223,4,FALSE),0)","v":{"v":1081,"d":"1,081"}},{"$f":"IFERROR(VLOOKUP($A58,[2]filtro.12!$A50:$H223,5,FALSE),0)","v":33}]
[80306005,"0306005","Tinción de Gram",{"$f":"IFERROR(VLOOKUP($A59,[2]filtro.12!$A51:$H224,2,FALSE),0)","v":358},{"$f":"IFERROR(VLOOKUP($A59,[2]filtro.12!$A51:$H224,3,FALSE),0)","v":0},{"$f":"IFERROR(VLOOKUP($A59,[2]filtro.12!$A51:$H224,4,FALSE),0)","v":358},{"$f":"IFERROR(VLOOKUP($A59,[2]filtro.12!$A51:$H224,5,FALSE),0)","v":32}]
[80306007,"0306007","Coprocultivo, c/u",{"$f":"IFERROR(VLOOKUP($A60,[2]filtro.12!$A52:$H225,2,FALSE),0)","v":483},{"$f":"IFERROR(VLOOKUP($A60,[2]filtro.12!$A52:$H225,3,FALSE),0)","v":6},{"$f":"IFERROR(VLOOKUP($A60,[2]filtro.12!$A52:$H225,4,FALSE),0)","v":477},{"$f":"IFERROR(VLOOKUP($A60,[2]filtro.12!$A52:$H225,5,FALSE),0)","v":{"v":1084,"d":"1,084"}}]
[80306011,"0306011","Urocultivo, recuento de colonias y antibiograma (cualquier técnica)",{"$f":"IFERROR(VLOOKUP($A61,[2]filtro.12!$A53:$H226,2,FALSE),0)","v":{"v":12637,"d":"12,637"}},{"$f":"IFERROR(VLOOKUP($A61,[2]filtro.12!$A53:$H226,3,FALSE),0)","v":21},{"$f":"IFERROR(VLOOKUP($A61,[2]filtro.12!$A53:$H226,4,FALSE),0)","v":{"v":12542,"d":"12,542"}},{"$f":"IFERROR(VLOOKUP($A61,[2]filtro.12!$A53:$H226,5,FALSE),0)","v":{"v":19231,"d":"19,231"}}]
[80306016,"0306016","Neisseria gonorrhoeae (gonococo)",{"$f":"IFERROR(VLOOKUP($A62,[2]filtro.12!$A54:$H227,2,FALSE),0)","v":1},{"$f":"IFERROR(VLOOKUP($A62,[2]filtro.12!$A54:$H227,3,FALSE),0)","v":0},{"$f":"IFERROR(VLOOKUP($A62,[2]filtro.12!$A54:$H227,4,FALSE),0)","v":1},{"$f":"IFERROR(VLOOKUP($A62,[2]filtro.12!$A54:$H227,5,FALSE),0)","v":81}]
[80306026,"0306026","Antibiograma Corriente (mínimo 10 fármacos) (en caso de urocultivo no corresponde su cobro; incluido en el valor 03-06-011)",{"$f":"IFERROR(VLOOKUP($A63,[2]filtro.12!$A55:$H228,2,FALSE),0)","v":{"v":1302,"d":"1,302"}},{"$f":"IFERROR(VLOOKUP($A63,[2]filtro.12!$A55:$H228,3,FALSE),0)","v":0},{"$f":"IFERROR(VLOOKUP($A63,[2]filtro.12!$A55:$H228,4,FALSE),0)","v":{"v":1302,"d":"1,302"}},{"$f":"IFERROR(VLOOKUP($A63,[2]filtro.12!$A55:$H228,5,FALSE),0)","v":331}]
[80306038,"0306038","R.P.R.",{"$f":"IFERROR(VLOOKUP($A64,[2]filtro.12!$A56:$H229,2,FALSE),0)","v":{"v":9684,"d":"9,684"}},{"$f":"IFERROR(VLOOKUP($A64,[2]filtro.12!$A56:$H229,3,FALSE),0)","v":0},{"$f":"IFERROR(VLOOKUP($A64,[2]filtro.12!$A56:$H229,4,FALSE),0)","v":{"v":9680,"d":"9,680"}},{"$f":"IFERROR(VLOOKUP($A64,[2]filtro.12!$A56:$H229,5,FALSE),0)","v":{"v":19876,"d":"19,876"}}]
[80306042,"0306042","V.D.R.L.",{"$f":"IFERROR(VLOOKUP($A65,[2]filtro.12!$A57:$H230,2,FALSE),0)","v":75},{"$f":"IFERROR(VLOOKUP($A65,[2]filtro.12!$A57:$H230,3,FALSE),0)","v":0},{"$f":"IFERROR(VLOOKUP($A65,[2]filtro.12!$A57:$H230,4,FALSE),0)","v":75},{"$f":"IFERROR(VLOOKUP($A65,[2]filtro.12!$A57:$H230,5,FALSE),0)","v":{"v":1019,"d":"1,019"}}]
[80306051,"0306051","Graham, examen de (incluye diagnóstico de gusanos macroscópicos y examen microscópico de 5 muestras separadas)",{"$f":"IFERROR(VLOOKUP($A66,[2]filtro.12!$A58:$H231,2,FALSE),0)","v":278},{"$f":"IFERROR(VLOOKUP($A66,[2]filtro.12!$A58:$H231,3,FALSE),0)","v":0},{"$f":"IFERROR(VLOOKUP($A66,[2]filtro.12!$A58:$H231,4,FALSE),0)","v":277},{"$f":"IFERROR(VLOOKUP($A66,[2]filtro.12!$A58:$H231,5,FALSE),0)","v":268}]
[80306052,"0306052","Estudio de gusanos macroscópicos",{"$f":"IFERROR(VLOOKUP($A67,[2]filtro.12!$A59:$H232,2,FALSE),0)","v":3},{"$f":"IFERROR(VLOOKUP($A67,[2]filtro.12!$A59:$H232,3,FALSE),0)","v":0},{"$f":"IFERROR(VLOOKUP($A67,[2]filtro.12!$A59:$H232,4,FALSE),0)","v":3},{"$f":"IFERROR(VLOOKUP($A67,[2]filtro.12!$A59:$H232,5,FALSE),0)","v":79}]
[80306048,"0306048","Coproparasitológico seriado simple (incluye diagnóstico de gusanos macroscópicos y examen microscópico por concentración de tres muestras separadas método Telemann ) (proc. aut.)",{"$f":"IFERROR(VLOOKUP($A68,[2]filtro.12!$A60:$H233,2,FALSE),0)","v":465},{"$f":"IFERROR(VLOOKUP($A68,[2]filtro.12!$A60:$H233,3,FALSE),0)","v":0},{"$f":"IFERROR(VLOOKUP($A68,[2]filtro.12!$A60:$H233,4,FALSE),0)","v":464},{"$f":"IFERROR(VLOOKUP($A68,[2]filtro.12!$A60:$H233,5,FALSE),0)","v":{"v":1074,"d":"1,074"}}]
[80306059,"0306059","Coproparasitológico seriado simple (incluye diagnóstico de gusanos macroscópicos y examen microscópico por concentración de tres muestras separadas método PAFS (proc. aut.)",{"$f":"IFERROR(VLOOKUP($A69,[2]filtro.12!$A61:$H234,2,FALSE),0)","v":298},{"$f":"IFERROR(VLOOKUP($A69,[2]filtro.12!$A61:$H234,3,FALSE),0)","v":0},{"$f":"IFERROR(VLOOKUP($A69,[2]filtro.12!$A61:$H234,4,FALSE),0)","v":296},{"$f":"IFERROR(VLOOKUP($A69,[2]filtro.12!$A61:$H234,5,FALSE),0)","v":197}]
[80306169,"0306169","Anticuerpos virales, determ. de H.I.V.",{"$f":"IFERROR(VLOOKUP($A70,[2]filtro.12!$A62:$H235,2,FALSE),0)","v":237},{"$f":"IFERROR(VLOOKUP($A70,[2]filtro.12!$A62:$H235,3,FALSE),0)","v":0},{"$f":"IFERROR(VLOOKUP($A70,[2]filtro.12!$A62:$H235,4,FALSE),0)","v":237},{"$f":"IFERROR(VLOOKUP($A70,[2]filtro.12!$A62:$H235,5,FALSE),0)","v":{"v":2050,"d":"2,050"}}]
[80306081,"0306081","Virus hepatitis C, anticuerpos de (anti HCV)",{"$f":"IFERROR(VLOOKUP($A71,[2]filtro.12!$A63:$H236,2,FALSE),0)","v":9},{"$f":"IFERROR(VLOOKUP($A71,[2]filtro.12!$A63:$H236,3,FALSE),0)","v":0},{"$f":"IFERROR(VLOOKUP($A71,[2]filtro.12!$A63:$H236,4,FALSE),0)","v":9},{"$f":"IFERROR(VLOOKUP($A71,[2]filtro.12!$A63:$H236,5,FALSE),0)","v":31}]
[80306112,"0306112","VIH, anticuerpos y antígenos virales, determ. de H.I.V. ",{"$f":"IFERROR(VLOOKUP($A72,[2]filtro.12!$A64:$H237,2,FALSE),0)","v":89},{"$f":"IFERROR(VLOOKUP($A72,[2]filtro.12!$A64:$H237,3,FALSE),0)","v":0},{"$f":"IFERROR(VLOOKUP($A72,[2]filtro.12!$A64:$H237,4,FALSE),0)","v":89},{"$f":"IFERROR(VLOOKUP($A72,[2]filtro.12!$A64:$H237,5,FALSE),0)","v":534}]
[null,"TOTAL",null,{"$f":"SUM(D57:D72)","v":{"v":27194,"d":"27,194"}},{"$f":"SUM(E57:E72)","v":40},{"$f":"SUM(F57:F72)","v":{"v":27069,"d":"27,069"}},{"$f":"SUM(G57:G72)","v":{"v":46937,"d":"46,937"}}]
[]
[null,"EXÁMENES DE DEPOSICIONES, EXUDADOS, SECRECIONES Y OTROS LÍQUIDOS"]
[80308004,"0308004","Hemorragias ocultas, (bencidina, guayaco o test de Weber y similares), cualquier método, c/muestra",{"$f":"IFERROR(VLOOKUP($A76,[2]filtro.12!$A68:$H241,2,FALSE),0)","v":318},{"$f":"IFERROR(VLOOKUP($A76,[2]filtro.12!$A68:$H241,3,FALSE),0)","v":0},{"$f":"IFERROR(VLOOKUP($A76,[2]filtro.12!$A68:$H241,4,FALSE),0)","v":317},{"$f":"IFERROR(VLOOKUP($A76,[2]filtro.12!$A68:$H241,5,FALSE),0)","v":{"v":1666,"d":"1,666"}}]
[80308005,"0308005","Leucocitos fecales",{"$f":"IFERROR(VLOOKUP($A77,[2]filtro.12!$A69:$H242,2,FALSE),0)","v":162},{"$f":"IFERROR(VLOOKUP($A77,[2]filtro.12!$A69:$H242,3,FALSE),0)","v":0},{"$f":"IFERROR(VLOOKUP($A77,[2]filtro.12!$A69:$H242,4,FALSE),0)","v":162},{"$f":"IFERROR(VLOOKUP($A77,[2]filtro.12!$A69:$H242,5,FALSE),0)","v":248}]
[null,"TOTAL",null,{"$f":"SUM(D76:D77)","v":480},{"$f":"SUM(E76:E77)","v":0},{"$f":"SUM(F76:F77)","v":479},{"$f":"SUM(G76:G77)","v":{"v":1914,"d":"1,914"}}]
[]
[null,"EXÁMENES DE ORINA"]
[80309010,"0309010","Creatinina cuantitativa en orina",{"$f":"IFERROR(VLOOKUP($A81,[2]filtro.12!$A73:$H246,2,FALSE),0)","v":{"v":38446,"d":"38,446"}},{"$f":"IFERROR(VLOOKUP($A81,[2]filtro.12!$A73:$H246,3,FALSE),0)","v":0},{"$f":"IFERROR(VLOOKUP($A81,[2]filtro.12!$A73:$H246,4,FALSE),0)","v":{"v":38118,"d":"38,118"}},{"$f":"IFERROR(VLOOKUP($A81,[2]filtro.12!$A73:$H246,5,FALSE),0)","v":{"v":40073,"d":"40,073"}}]
[80309013,"0309013","Microalbuminuria cuantitativa",{"$f":"IFERROR(VLOOKUP($A82,[2]filtro.12!$A74:$H247,2,FALSE),0)","v":{"v":39596,"d":"39,596"}},{"$f":"IFERROR(VLOOKUP($A82,[2]filtro.12!$A74:$H247,3,FALSE),0)","v":0},{"$f":"IFERROR(VLOOKUP($A82,[2]filtro.12!$A74:$H247,4,FALSE),0)","v":{"v":39596,"d":"39,596"}},{"$f":"IFERROR(VLOOKUP($A82,[2]filtro.12!$A74:$H247,5,FALSE),0)","v":{"v":43152,"d":"43,152"}}]
[80309014,"0309014","Gonadotrofina coriónica, sub-unidad beta en orina (test rápido)",{"$f":"IFERROR(VLOOKUP($A83,[2]filtro.12!$A75:$H248,2,FALSE),0)","v":129},{"$f":"IFERROR(VLOOKUP($A83,[2]filtro.12!$A75:$H248,3,FALSE),0)","v":0},{"$f":"IFERROR(VLOOKUP($A83,[2]filtro.12!$A75:$H248,4,FALSE),0)","v":129},{"$f":"IFERROR(VLOOKUP($A83,[2]filtro.12!$A75:$H248,5,FALSE),0)","v":179}]
[80309020,"0309020","Nitrógeno ureico o urea en orina (cuantitativo)",{"$f":"IFERROR(VLOOKUP($A84,[2]filtro.12!$A76:$H249,2,FALSE),0)","v":594},{"$f":"IFERROR(VLOOKUP($A84,[2]filtro.12!$A76:$H249,3,FALSE),0)","v":0},{"$f":"IFERROR(VLOOKUP($A84,[2]filtro.12!$A76:$H249,4,FALSE),0)","v":594},{"$f":"IFERROR(VLOOKUP($A84,[2]filtro.12!$A76:$H249,5,FALSE),0)","v":{"v":1789,"d":"1,789"}}]
[80309022,"0309022","Orina completa, (incluye cód. 03-09-023 y 03-09-024)",{"$f":"IFERROR(VLOOKUP($A85,[2]filtro.12!$A77:$H250,2,FALSE),0)","v":{"v":50984,"d":"50,984"}},{"$f":"IFERROR(VLOOKUP($A85,[2]filtro.12!$A77:$H250,3,FALSE),0)","v":57},{"$f":"IFERROR(VLOOKUP($A85,[2]filtro.12!$A77:$H250,4,FALSE),0)","v":{"v":50454,"d":"50,454"}},{"$f":"IFERROR(VLOOKUP($A85,[2]filtro.12!$A77:$H250,5,FALSE),0)","v":{"v":91724,"d":"91,724"}}]
[80309023,"0309023","Orina, físicoquímico (aspecto, color, densidad, pH, proteínas, glucosa, cuerpos cetónicos, urobilinógeno, bilirrubina, hemoglobina y nitritos) todos o cada uno de los parámetros (proc. aut.)",{"$f":"IFERROR(VLOOKUP($A86,[2]filtro.12!$A78:$H251,2,FALSE),0)","v":{"v":12349,"d":"12,349"}},{"$f":"IFERROR(VLOOKUP($A86,[2]filtro.12!$A78:$H251,3,FALSE),0)","v":{"v":5188,"d":"5,188"}},{"$f":"IFERROR(VLOOKUP($A86,[2]filtro.12!$A78:$H251,4,FALSE),0)","v":{"v":7161,"d":"7,161"}},{"$f":"IFERROR(VLOOKUP($A86,[2]filtro.12!$A78:$H251,5,FALSE),0)","v":{"v":1533,"d":"1,533"}}]
[80309024,"0309024","Sedimento de orina (proc. aut.)",{"$f":"IFERROR(VLOOKUP($A87,[2]filtro.12!$A79:$H252,2,FALSE),0)","v":502},{"$f":"IFERROR(VLOOKUP($A87,[2]filtro.12!$A79:$H252,3,FALSE),0)","v":0},{"$f":"IFERROR(VLOOKUP($A87,[2]filtro.12!$A79:$H252,4,FALSE),0)","v":502},{"$f":"IFERROR(VLOOKUP($A87,[2]filtro.12!$A79:$H252,5,FALSE),0)","v":{"v":8582,"d":"8,582"}}]
[null,"TOTAL",null,{"$f":"SUM(D81:D87)","v":{"v":142600,"d":"142,600"}},{"$f":"SUM(E81:E87)","v":{"v":5245,"d":"5,245"}},{"$f":"SUM(F81:F87)","v":{"v":136554,"d":"136,554"}},{"$f":"SUM(G81:G87)","v":{"v":187032,"d":"187,032"}}]
[null,"TOTAL EXÁMENES",null,{"$f":"+D20+D43+D49+D54+D73+D78+D88","v":{"v":758320,"d":"758,320"}},{"$f":"+E20+E43+E49+E54+E73+E78+E88","v":{"v":5294,"d":"5,294"}},{"$f":"+F20+F43+F49+F54+F73+F78+F88","v":{"v":748382,"d":"748,382"}},{"$f":"+G20+G43+G49+G54+G73+G78+G88","v":{"v":1197327,"d":"1,197,327"}}]
[]
[null,"EXÁMENES RADIOLÓGICOS"]
[80401004,"0401004","Radiografía de tórax, proyección complementaria (oblicuas, selectivas u otras)",{"$f":"IFERROR(VLOOKUP($A92,[2]filtro.12!$A84:$H257,2,FALSE),0)","v":0},{"$f":"IFERROR(VLOOKUP($A92,[2]filtro.12!$A84:$H257,3,FALSE),0)","v":0},{"$f":"IFERROR(VLOOKUP($A92,[2]filtro.12!$A84:$H257,4,FALSE),0)","v":0},{"$f":"IFERROR(VLOOKUP($A92,[2]filtro.12!$A84:$H257,5,FALSE),0)","v":0}]
[80401008,"0401008","Radiografía de tórax  frontal o lateral con equipo móvil fuera del departamento de rayos.",{"$f":"IFERROR(VLOOKUP($A93,[2]filtro.12!$A85:$H258,2,FALSE),0)","v":4},{"$f":"IFERROR(VLOOKUP($A93,[2]filtro.12!$A85:$H258,3,FALSE),0)","v":0},{"$f":"IFERROR(VLOOKUP($A93,[2]filtro.12!$A85:$H258,4,FALSE),0)","v":4},{"$f":"IFERROR(VLOOKUP($A93,[2]filtro.12!$A85:$H258,5,FALSE),0)","v":129}]
[80401009,"0401009","Radiografía de tórax simple frontal o lateral ",{"$f":"IFERROR(VLOOKUP($A94,[2]filtro.12!$A86:$H259,2,FALSE),0)","v":{"v":1011,"d":"1,011"}},{"$f":"IFERROR(VLOOKUP($A94,[2]filtro.12!$A86:$H259,3,FALSE),0)","v":829},{"$f":"IFERROR(VLOOKUP($A94,[2]filtro.12!$A86:$H259,4,FALSE),0)","v":182},{"$f":"IFERROR(VLOOKUP($A94,[2]filtro.12!$A86:$H259,5,FALSE),0)","v":710}]
[80401070,"0401070","Radiografía de tórax frontal y lateral",{"$f":"IFERROR(VLOOKUP($A95,[2]filtro.12!$A87:$H260,2,FALSE),0)","v":{"v":11580,"d":"11,580"}},{"$f":"IFERROR(VLOOKUP($A95,[2]filtro.12!$A87:$H260,3,FALSE),0)","v":{"v":9917,"d":"9,917"}},{"$f":"IFERROR(VLOOKUP($A95,[2]filtro.12!$A87:$H260,4,FALSE),0)","v":{"v":1663,"d":"1,663"}},{"$f":"IFERROR(VLOOKUP($A95,[2]filtro.12!$A87:$H260,5,FALSE),0)","v":{"v":7333,"d":"7,333"}}]
[80401010,"0401010","Mamografía bilateral",{"$f":"IFERROR(VLOOKUP($A96,[2]filtro.12!$A88:$H261,2,FALSE),0)","v":{"v":1703,"d":"1,703"}},{"$f":"IFERROR(VLOOKUP($A96,[2]filtro.12!$A88:$H261,3,FALSE),0)","v":0},{"$f":"IFERROR(VLOOKUP($A96,[2]filtro.12!$A88:$H261,4,FALSE),0)","v":{"v":1703,"d":"1,703"}},{"$f":"IFERROR(VLOOKUP($A96,[2]filtro.12!$A88:$H261,5,FALSE),0)","v":{"v":3601,"d":"3,601"}}]
[80401110,"0401110","Mamografía unilateral",{"$f":"IFERROR(VLOOKUP($A97,[2]filtro.12!$A89:$H262,2,FALSE),0)","v":308},{"$f":"IFERROR(VLOOKUP($A97,[2]filtro.12!$A89:$H262,3,FALSE),0)","v":0},{"$f":"IFERROR(VLOOKUP($A97,[2]filtro.12!$A89:$H262,4,FALSE),0)","v":308},{"$f":"IFERROR(VLOOKUP($A97,[2]filtro.12!$A89:$H262,5,FALSE),0)","v":381}]
[80401130,"0401130","Mamografía proyección complementaria  (axilar u otras)",{"$f":"IFERROR(VLOOKUP($A98,[2]filtro.12!$A90:$H263,2,FALSE),0)","v":2},{"$f":"IFERROR(VLOOKUP($A98,[2]filtro.12!$A90:$H263,3,FALSE),0)","v":0},{"$f":"IFERROR(VLOOKUP($A98,[2]filtro.12!$A90:$H263,4,FALSE),0)","v":2},{"$f":"IFERROR(VLOOKUP($A98,[2]filtro.12!$A90:$H263,5,FALSE),0)","v":0}]
[80401042,"0401042","Radiografía de columna cervical o atlas-axis (frontal y lateral)",{"$f":"IFERROR(VLOOKUP($A99,[2]filtro.12!$A91:$H264,2,FALSE),0)","v":{"v":1321,"d":"1,321"}},{"$f":"IFERROR(VLOOKUP($A99,[2]filtro.12!$A91:$H264,3,FALSE),0)","v":{"v":1321,"d":"1,321"}},{"$f":"IFERROR(VLOOKUP($A99,[2]filtro.12!$A91:$H264,4,FALSE),0)","v":0},{"$f":"IFERROR(VLOOKUP($A99,[2]filtro.12!$A91:$H264,5,FALSE),0)","v":336}]
[80401043,"0401043","Radiografía de columna cervical (frontal, lateral y oblicuas)",{"$f":"IFERROR(VLOOKUP($A100,[2]filtro.12!$A92:$H265,2,FALSE),0)","v":13},{"$f":"IFERROR(VLOOKUP($A100,[2]filtro.12!$A92:$H265,3,FALSE),0)","v":13},{"$f":"IFERROR(VLOOKUP($A100,[2]filtro.12!$A92:$H265,4,FALSE),0)","v":0},{"$f":"IFERROR(VLOOKUP($A100,[2]filtro.12!$A92:$H265,5,FALSE),0)","v":11}]
[80401044,"0401044","Radiografía de columna cervical  flexión y  extensión (Dinámicas)",{"$f":"IFERROR(VLOOKUP($A101,[2]filtro.12!$A93:$H266,2,FALSE),0)","v":2},{"$f":"IFERROR(VLOOKUP($A101,[2]filtro.12!$A93:$H266,3,FALSE),0)","v":2},{"$f":"IFERROR(VLOOKUP($A101,[2]filtro.12!$A93:$H266,4,FALSE),0)","v":0},{"$f":"IFERROR(VLOOKUP($A101,[2]filtro.12!$A93:$H266,5,FALSE),0)","v":2}]
[80401045,"0401045","Radiografía de columna dorsal o dorsolumbar localizada, parrilla costal adultos (frontal y lateral).",{"$f":"IFERROR(VLOOKUP($A102,[2]filtro.12!$A94:$H267,2,FALSE),0)","v":{"v":2222,"d":"2,222"}},{"$f":"IFERROR(VLOOKUP($A102,[2]filtro.12!$A94:$H267,3,FALSE),0)","v":{"v":2222,"d":"2,222"}},{"$f":"IFERROR(VLOOKUP($A102,[2]filtro.12!$A94:$H267,4,FALSE),0)","v":0},{"$f":"IFERROR(VLOOKUP($A102,[2]filtro.12!$A94:$H267,5,FALSE),0)","v":573}]
[80401046,"0401046","Radiografía columna lumbar o lumbosacra   ",{"$f":"IFERROR(VLOOKUP($A103,[2]filtro.12!$A95:$H268,2,FALSE),0)","v":{"v":1263,"d":"1,263"}},{"$f":"IFERROR(VLOOKUP($A103,[2]filtro.12!$A95:$H268,3,FALSE),0)","v":{"v":1263,"d":"1,263"}},{"$f":"IFERROR(VLOOKUP($A103,[2]filtro.12!$A95:$H268,4,FALSE),0)","v":0},{"$f":"IFERROR(VLOOKUP($A103,[2]filtro.12!$A95:$H268,5,FALSE),0)","v":412}]
[80401047,"0401047","Radiografía columna lumbar o lumbosacra  flexión y  extensión (Dinámicas)",{"$f":"IFERROR(VLOOKUP($A104,[2]filtro.12!$A96:$H269,2,FALSE),0)","v":18},{"$f":"IFERROR(VLOOKUP($A104,[2]filtro.12!$A96:$H269,3,FALSE),0)","v":18},{"$f":"IFERROR(VLOOKUP($A104,[2]filtro.12!$A96:$H269,4,FALSE),0)","v":0},{"$f":"IFERROR(VLOOKUP($A104,[2]filtro.12!$A96:$H269,5,FALSE),0)","v":0}]
[80401048,"0401048","Radiografía columna lumbar o lumbosacra, oblicuas adicionales ",{"$f":"IFERROR(VLOOKUP($A105,[2]filtro.12!$A97:$H270,2,FALSE),0)","v":6},{"$f":"IFERROR(VLOOKUP($A105,[2]filtro.12!$A97:$H270,3,FALSE),0)","v":6},{"$f":"IFERROR(VLOOKUP($A105,[2]filtro.12!$A97:$H270,4,FALSE),0)","v":0},{"$f":"IFERROR(VLOOKUP($A105,[2]filtro.12!$A97:$H270,5,FALSE),0)","v":4}]
[80401049,"0401049","Radiografía de columna total, panorámica con folio graduado  frontal o lateral",{"$f":"IFERROR(VLOOKUP($A106,[2]filtro.12!$A98:$H271,2,FALSE),0)","v":0},{"$f":"IFERROR(VLOOKUP($A106,[2]filtro.12!$A98:$H271,3,FALSE),0)","v":0},{"$f":"IFERROR(VLOOKUP($A106,[2]filtro.12!$A98:$H271,4,FALSE),0)","v":0},{"$f":"IFERROR(VLOOKUP($A106,[2]filtro.12!$A98:$H271,5,FALSE),0)","v":0}]
[80401051,"0401051","Radiografía de pelvis, cadera o coxofemoral",{"$f":"IFERROR(VLOOKUP($A107,[2]filtro.12!$A99:$H272,2,FALSE),0)","v":{"v":2081,"d":"2,081"}},{"$f":"IFERROR(VLOOKUP($A107,[2]filtro.12!$A99:$H272,3,FALSE),0)","v":{"v":2070,"d":"2,070"}},{"$f":"IFERROR(VLOOKUP($A107,[2]filtro.12!$A99:$H272,4,FALSE),0)","v":11},{"$f":"IFERROR(VLOOKUP($A107,[2]filtro.12!$A99:$H272,5,FALSE),0)","v":{"v":7255,"d":"7,255"}}]
[80401151,"0401151","Radiografía de pelvis, cadera o coxofemoral de RN, lactante o niño menor de 6 años.",{"$f":"IFERROR(VLOOKUP($A108,[2]filtro.12!$A100:$H273,2,FALSE),0)","v":{"v":1347,"d":"1,347"}},{"$f":"IFERROR(VLOOKUP($A108,[2]filtro.12!$A100:$H273,3,FALSE),0)","v":706},{"$f":"IFERROR(VLOOKUP($A108,[2]filtro.12!$A100:$H273,4,FALSE),0)","v":641},{"$f":"IFERROR(VLOOKUP($A108,[2]filtro.12!$A100:$H273,5,FALSE),0)","v":{"v":1886,"d":"1,886"}}]
[80401052,"0401052","Radiografía de pelvis, cadera o coxofemoral, proyecciones especiales; (rotación interna, abducción, lateral, Lawenstein u otras)",{"$f":"IFERROR(VLOOKUP($A109,[2]filtro.12!$A101:$H274,2,FALSE),0)","v":431},{"$f":"IFERROR(VLOOKUP($A109,[2]filtro.12!$A101:$H274,3,FALSE),0)","v":386},{"$f":"IFERROR(VLOOKUP($A109,[2]filtro.12!$A101:$H274,4,FALSE),0)","v":45},{"$f":"IFERROR(VLOOKUP($A109,[2]filtro.12!$A101:$H274,5,FALSE),0)","v":314}]
[80401053,"0401053","Radiografía de Sacrocoxis o articulaciones sacroilíacas.",{"$f":"IFERROR(VLOOKUP($A110,[2]filtro.12!$A102:$H275,2,FALSE),0)","v":283},{"$f":"IFERROR(VLOOKUP($A110,[2]filtro.12!$A102:$H275,3,FALSE),0)","v":283},{"$f":"IFERROR(VLOOKUP($A110,[2]filtro.12!$A102:$H275,4,FALSE),0)","v":0},{"$f":"IFERROR(VLOOKUP($A110,[2]filtro.12!$A102:$H275,5,FALSE),0)","v":62}]
[80401054,"0401054","Radiografía de brazo, antebrazo, codo, muñeca, mano, dedos, pie  (frontal y lateral)",{"$f":"IFERROR(VLOOKUP($A111,[2]filtro.12!$A103:$H276,2,FALSE),0)","v":{"v":13023,"d":"13,023"}},{"$f":"IFERROR(VLOOKUP($A111,[2]filtro.12!$A103:$H276,3,FALSE),0)","v":{"v":13023,"d":"13,023"}},{"$f":"IFERROR(VLOOKUP($A111,[2]filtro.12!$A103:$H276,4,FALSE),0)","v":0},{"$f":"IFERROR(VLOOKUP($A111,[2]filtro.12!$A103:$H276,5,FALSE),0)","v":{"v":3548,"d":"3,548"}}]
[80401055,"0401055","Radiografía de clavícula.",{"$f":"IFERROR(VLOOKUP($A112,[2]filtro.12!$A104:$H277,2,FALSE),0)","v":223},{"$f":"IFERROR(VLOOKUP($A112,[2]filtro.12!$A104:$H277,3,FALSE),0)","v":223},{"$f":"IFERROR(VLOOKUP($A112,[2]filtro.12!$A104:$H277,4,FALSE),0)","v":0},{"$f":"IFERROR(VLOOKUP($A112,[2]filtro.12!$A104:$H277,5,FALSE),0)","v":63}]
[80401060,"0401060","Radiografía de hombro, fémur, rodilla, pierna, costilla o esternón Frontal y Lateral",{"$f":"IFERROR(VLOOKUP($A113,[2]filtro.12!$A105:$H278,2,FALSE),0)","v":{"v":6396,"d":"6,396"}},{"$f":"IFERROR(VLOOKUP($A113,[2]filtro.12!$A105:$H278,3,FALSE),0)","v":{"v":6372,"d":"6,372"}},{"$f":"IFERROR(VLOOKUP($A113,[2]filtro.12!$A105:$H278,4,FALSE),0)","v":24},{"$f":"IFERROR(VLOOKUP($A113,[2]filtro.12!$A105:$H278,5,FALSE),0)","v":{"v":8667,"d":"8,667"}}]
[80404002,"0404002","Ecografía obstétrica",{"$f":"IFERROR(VLOOKUP($A114,[2]filtro.12!$A106:$H279,2,FALSE),0)","v":{"v":3590,"d":"3,590"}},{"$f":"IFERROR(VLOOKUP($A114,[2]filtro.12!$A106:$H279,3,FALSE),0)","v":0},{"$f":"IFERROR(VLOOKUP($A114,[2]filtro.12!$A106:$H279,4,FALSE),0)","v":{"v":3590,"d":"3,590"}},{"$f":"IFERROR(VLOOKUP($A114,[2]filtro.12!$A106:$H279,5,FALSE),0)","v":23}]
[80404005,"0404005","Ecografía transvaginal o transrectal",{"$f":"IFERROR(VLOOKUP($A115,[2]filtro.12!$A107:$H280,2,FALSE),0)","v":493},{"$f":"IFERROR(VLOOKUP($A115,[2]filtro.12!$A107:$H280,3,FALSE),0)","v":0},{"$f":"IFERROR(VLOOKUP($A115,[2]filtro.12!$A107:$H280,4,FALSE),0)","v":493},{"$f":"IFERROR(VLOOKUP($A115,[2]filtro.12!$A107:$H280,5,FALSE),0)","v":0}]
[80404006,"0404006","Ecografía ginecológica, pelviana femenina u obstétrica con estudio fetal",{"$f":"IFERROR(VLOOKUP($A116,[2]filtro.12!$A108:$H281,2,FALSE),0)","v":468},{"$f":"IFERROR(VLOOKUP($A116,[2]filtro.12!$A108:$H281,3,FALSE),0)","v":0},{"$f":"IFERROR(VLOOKUP($A116,[2]filtro.12!$A108:$H281,4,FALSE),0)","v":468},{"$f":"IFERROR(VLOOKUP($A116,[2]filtro.12!$A108:$H281,5,FALSE),0)","v":0}]
[80404007,"0404007","Ecografía transvaginal para seguimiento de ovulación, procedimiento completo (6-8 sesiones )",{"$f":"IFERROR(VLOOKUP($A117,[2]filtro.12!$A109:$H282,2,FALSE),0)","v":0},{"$f":"IFERROR(VLOOKUP($A117,[2]filtro.12!$A109:$H282,3,FALSE),0)","v":0},{"$f":"IFERROR(VLOOKUP($A117,[2]filtro.12!$A109:$H282,4,FALSE),0)","v":0},{"$f":"IFERROR(VLOOKUP($A117,[2]filtro.12!$A109:$H282,5,FALSE),0)","v":0}]
[80404008,"0404008","Ecografía para seguimiento de ovulación, procedimiento completo (6 a 8 sesiones)",{"$f":"IFERROR(VLOOKUP($A118,[2]filtro.12!$A110:$H283,2,FALSE),0)","v":0},{"$f":"IFERROR(VLOOKUP($A118,[2]filtro.12!$A110:$H283,3,FALSE),0)","v":0},{"$f":"IFERROR(VLOOKUP($A118,[2]filtro.12!$A110:$H283,4,FALSE),0)","v":0},{"$f":"IFERROR(VLOOKUP($A118,[2]filtro.12!$A110:$H283,5,FALSE),0)","v":0}]
[]
[null,"SECCIÓN B: PROCEDIMIENTOS E INTERVENCIONES QUIRÚRGICAS DE APOYO CLÍNICO Y TERAPÉUTICO"]
[null,"CÓDIGOS","PROCEDIMIENTOS","Total","SAPU/SAR/SUR","Resto Establecimientos APS","Compra de Servicios"]
[]
[null,"OTORRINOLARINGOLOGÍA"]
[81301025,1301025,"Taponamiento nasal anterior (proc. aut.)",{"$f":"IFERROR(VLOOKUP($A124,[2]filtro.12!$A116:$H289,2,FALSE),0)","v":334},{"$f":"IFERROR(VLOOKUP($A124,[2]filtro.12!$A116:$H289,3,FALSE),0)","v":136},{"$f":"IFERROR(VLOOKUP($A124,[2]filtro.12!$A116:$H289,4,FALSE),0)","v":198},{"$f":"IFERROR(VLOOKUP($A124,[2]filtro.12!$A116:$H289,5,FALSE),0)","v":0}]
[81301026,1301026,"Taponamiento nasal posterior",{"$f":"IFERROR(VLOOKUP($A125,[2]filtro.12!$A117:$H290,2,FALSE),0)","v":107},{"$f":"IFERROR(VLOOKUP($A125,[2]filtro.12!$A117:$H290,3,FALSE),0)","v":8},{"$f":"IFERROR(VLOOKUP($A125,[2]filtro.12!$A117:$H290,4,FALSE),0)","v":99},{"$f":"IFERROR(VLOOKUP($A125,[2]filtro.12!$A117:$H290,5,FALSE),0)","v":0}]
[81301029,1301029,"Cuerpo extraño en fosas nasales, extracción de: - En adultos        ",{"$f":"IFERROR(VLOOKUP($A126,[2]filtro.12!$A118:$H291,2,FALSE),0)","v":28},{"$f":"IFERROR(VLOOKUP($A126,[2]filtro.12!$A118:$H291,3,FALSE),0)","v":20},{"$f":"IFERROR(VLOOKUP($A126,[2]filtro.12!$A118:$H291,4,FALSE),0)","v":8},{"$f":"IFERROR(VLOOKUP($A126,[2]filtro.12!$A118:$H291,5,FALSE),0)","v":0}]
[81301030,1301030,"Cuerpo extraño en fosas nasales, extracción de: - En niños",{"$f":"IFERROR(VLOOKUP($A127,[2]filtro.12!$A119:$H292,2,FALSE),0)","v":163},{"$f":"IFERROR(VLOOKUP($A127,[2]filtro.12!$A119:$H292,3,FALSE),0)","v":14},{"$f":"IFERROR(VLOOKUP($A127,[2]filtro.12!$A119:$H292,4,FALSE),0)","v":149},{"$f":"IFERROR(VLOOKUP($A127,[2]filtro.12!$A119:$H292,5,FALSE),0)","v":0}]
[null,"TOTAL",null,{"$f":"SUM(D124:D127)","v":632},{"$f":"SUM(E124:E127)","v":178},{"$f":"SUM(F124:F127)","v":454}]
[]
[null,"DERMATOLOGÍA, TEGUMENTOS E INTERVENCIONES QUIRÚRGICAS MENORES"]
[81601110,1601110,"Curetaje de lesiones virales y similares hasta 10 lesiones por sesión                 ",{"$f":"IFERROR(VLOOKUP($A131,[2]filtro.12!$A123:$H296,2,FALSE),0)","v":113},{"$f":"IFERROR(VLOOKUP($A131,[2]filtro.12!$A123:$H296,3,FALSE),0)","v":6},{"$f":"IFERROR(VLOOKUP($A131,[2]filtro.12!$A123:$H296,4,FALSE),0)","v":107},{"$f":"IFERROR(VLOOKUP($A131,[2]filtro.12!$A123:$H296,5,FALSE),0)","v":2}]
[81602203,1602203,"Resto del cuerpo hasta 3 lesiones: extirpación, reparación o biopsia, total o parcial, de lesiones benignas cutáneas por excisión                                                                       ",{"$f":"IFERROR(VLOOKUP($A132,[2]filtro.12!$A124:$H297,2,FALSE),0)","v":77},{"$f":"IFERROR(VLOOKUP($A132,[2]filtro.12!$A124:$H297,3,FALSE),0)","v":7},{"$f":"IFERROR(VLOOKUP($A132,[2]filtro.12!$A124:$H297,4,FALSE),0)","v":70},{"$f":"IFERROR(VLOOKUP($A132,[2]filtro.12!$A124:$H297,5,FALSE),0)","v":18}]
[81602206,1602206,"Extirpación de lesiones benignas por sec tangencial, curetaje, y/o fulguración hasta 15 lesiones ",{"$f":"IFERROR(VLOOKUP($A133,[2]filtro.12!$A125:$H298,2,FALSE),0)","v":241},{"$f":"IFERROR(VLOOKUP($A133,[2]filtro.12!$A125:$H298,3,FALSE),0)","v":0},{"$f":"IFERROR(VLOOKUP($A133,[2]filtro.12!$A125:$H298,4,FALSE),0)","v":241},{"$f":"IFERROR(VLOOKUP($A133,[2]filtro.12!$A125:$H298,5,FALSE),0)","v":205}]
[81602221,1602221,"Herida cortante o contusa complicada, reparación y sutura (más de 5 cm)",{"$f":"IFERROR(VLOOKUP($A134,[2]filtro.12!$A126:$H299,2,FALSE),0)","v":{"v":1250,"d":"1,250"}},{"$f":"IFERROR(VLOOKUP($A134,[2]filtro.12!$A126:$H299,3,FALSE),0)","v":{"v":1087,"d":"1,087"}},{"$f":"IFERROR(VLOOKUP($A134,[2]filtro.12!$A126:$H299,4,FALSE),0)","v":163},{"$f":"IFERROR(VLOOKUP($A134,[2]filtro.12!$A126:$H299,5,FALSE),0)","v":12}]
[81602222,1602222,"Herida cortante o contusa NO complicada, reparación y sutura (una o múltiples de más de 5 cms de largo total que comprometa solo piel)                                             ",{"$f":"IFERROR(VLOOKUP($A135,[2]filtro.12!$A127:$H300,2,FALSE),0)","v":{"v":2039,"d":"2,039"}},{"$f":"IFERROR(VLOOKUP($A135,[2]filtro.12!$A127:$H300,3,FALSE),0)","v":{"v":1694,"d":"1,694"}},{"$f":"IFERROR(VLOOKUP($A135,[2]filtro.12!$A127:$H300,4,FALSE),0)","v":345},{"$f":"IFERROR(VLOOKUP($A135,[2]filtro.12!$A127:$H300,5,FALSE),0)","v":14}]
[81602223,1602223,"Cabeza, cuello, genitales: extirpación de lesión benigna subepidérmica, incluye tumor sólido, quiste epidérmico y lipoma por lesión ",{"$f":"IFERROR(VLOOKUP($A136,[2]filtro.12!$A128:$H301,2,FALSE),0)","v":151},{"$f":"IFERROR(VLOOKUP($A136,[2]filtro.12!$A128:$H301,3,FALSE),0)","v":0},{"$f":"IFERROR(VLOOKUP($A136,[2]filtro.12!$A128:$H301,4,FALSE),0)","v":151},{"$f":"IFERROR(VLOOKUP($A136,[2]filtro.12!$A128:$H301,5,FALSE),0)","v":117}]
[81602224,1602224,"Resto del cuerpo: extirpación de lesión benigna subepidérmica, incluye tumor sólido, quiste epidérmico y lipoma por lesión ",{"$f":"IFERROR(VLOOKUP($A137,[2]filtro.12!$A129:$H302,2,FALSE),0)","v":235},{"$f":"IFERROR(VLOOKUP($A137,[2]filtro.12!$A129:$H302,3,FALSE),0)","v":3},{"$f":"IFERROR(VLOOKUP($A137,[2]filtro.12!$A129:$H302,4,FALSE),0)","v":232},{"$f":"IFERROR(VLOOKUP($A137,[2]filtro.12!$A129:$H302,5,FALSE),0)","v":175}]
[81602225,1602225,"Vaciamiento y curetaje quirúrgico de lesiones quística o abscesos                              ",{"$f":"IFERROR(VLOOKUP($A138,[2]filtro.12!$A130:$H303,2,FALSE),0)","v":202},{"$f":"IFERROR(VLOOKUP($A138,[2]filtro.12!$A130:$H303,3,FALSE),0)","v":149},{"$f":"IFERROR(VLOOKUP($A138,[2]filtro.12!$A130:$H303,4,FALSE),0)","v":53},{"$f":"IFERROR(VLOOKUP($A138,[2]filtro.12!$A130:$H303,5,FALSE),0)","v":2}]
[81602231,1602231,"Onisectomía total o parcial simple                                                                                      ",{"$f":"IFERROR(VLOOKUP($A139,[2]filtro.12!$A131:$H304,2,FALSE),0)","v":101},{"$f":"IFERROR(VLOOKUP($A139,[2]filtro.12!$A131:$H304,3,FALSE),0)","v":4},{"$f":"IFERROR(VLOOKUP($A139,[2]filtro.12!$A131:$H304,4,FALSE),0)","v":97},{"$f":"IFERROR(VLOOKUP($A139,[2]filtro.12!$A131:$H304,5,FALSE),0)","v":33}]
[null,"TOTAL",null,{"$f":"SUM(D131:D139)","v":{"v":4409,"d":"4,409"}},{"$f":"SUM(E131:E139)","v":{"v":2950,"d":"2,950"}},{"v":1459,"d":"1,459"},578]
[]
[null,"CARDIOLOGÍA"]
[81701001,"1701001","E.C.G. de reposo (incluye mínimo 12 derivaciones y 4 complejos por derivación)",{"$f":"IFERROR(VLOOKUP($A143,[2]filtro.12!$A135:$H308,2,FALSE),0)","v":{"v":79970,"d":"79,970"}},{"$f":"IFERROR(VLOOKUP($A143,[2]filtro.12!$A135:$H308,3,FALSE),0)","v":{"v":23293,"d":"23,293"}},{"$f":"IFERROR(VLOOKUP($A143,[2]filtro.12!$A135:$H308,4,FALSE),0)","v":{"v":56677,"d":"56,677"}},{"$f":"IFERROR(VLOOKUP($A143,[2]filtro.12!$A135:$H308,5,FALSE),0)","v":{"v":22479,"d":"22,479"}}]
[81701009,"1701009","Monitoreo continuo de presión arterial (Holter)",{"$f":"IFERROR(VLOOKUP($A144,[2]filtro.12!A5:H178,2,FALSE),0)","v":{"v":7915,"d":"7,915"}},{"$f":"IFERROR(VLOOKUP($A144,[2]filtro.12!A5:H178,3,FALSE),0)","v":{"v":1789,"d":"1,789"}},{"$f":"IFERROR(VLOOKUP($A144,[2]filtro.12!$A136:$H309,4,FALSE),0)","v":{"v":6126,"d":"6,126"}},{"$f":"IFERROR(VLOOKUP($A144,[2]filtro.12!$A136:$H309,5,FALSE),0)","v":702}]
[81707038,null,"Monitoreo Ambulatorio de Presión Arterial (procedimiento de 3 evaluaciones de presión arterial finalizado)",{"$f":"IFERROR(VLOOKUP($A145,[2]filtro.12!A6:H179,2,FALSE),0)","v":{"v":46750,"d":"46,750"}},{"$f":"IFERROR(VLOOKUP($A145,[2]filtro.12!A6:H179,3,FALSE),0)","v":{"v":7544,"d":"7,544"}},{"$f":"IFERROR(VLOOKUP($A145,[2]filtro.12!$A137:$H310,4,FALSE),0)","v":{"v":39206,"d":"39,206"}},{"$f":"IFERROR(VLOOKUP($A145,[2]filtro.12!$A137:$H310,5,FALSE),0)","v":0}]
[80500016,null,"Cartridge para Troponina",{"$f":"IFERROR(VLOOKUP($A146,[2]filtro.12!A7:H180,2,FALSE),0)","v":{"v":1034,"d":"1,034"}},{"$f":"IFERROR(VLOOKUP($A146,[2]filtro.12!A7:H180,3,FALSE),0)","v":{"v":1004,"d":"1,004"}},{"$f":"IFERROR(VLOOKUP($A146,[2]filtro.12!A5:H178,4,FALSE),0)","v":30},{"$f":"IFERROR(VLOOKUP($A146,[2]filtro.12!A5:H178,5,FALSE),0)","v":11}]
[80500017,null,"Cartridge Multiple",{"$f":"IFERROR(VLOOKUP($A147,[2]filtro.12!A8:H181,2,FALSE),0)","v":{"v":2629,"d":"2,629"}},{"$f":"IFERROR(VLOOKUP($A147,[2]filtro.12!A8:H181,3,FALSE),0)","v":{"v":2585,"d":"2,585"}},{"$f":"IFERROR(VLOOKUP($A147,[2]filtro.12!A5:H178,4,FALSE),0)","v":44},{"$f":"IFERROR(VLOOKUP($A147,[2]filtro.12!$A139:$H312,5,FALSE),0)","v":0}]
[null,"TOTAL",null,{"$f":"SUM(D143:D147)","v":{"v":138298,"d":"138,298"}},{"$f":"SUM(E143:E147)","v":{"v":36215,"d":"36,215"}},{"v":102083,"d":"102,083"},{"$f":"SUM(G143:G147)","v":{"v":23192,"d":"23,192"}}]
[]
[null,"NEUMOLOGÍA"]
[81707001,1707001,"Espirometría Basal                                                                                       ",{"$f":"IFERROR(VLOOKUP($A151,[2]filtro.12!A12:H185,2,FALSE),0)","v":{"v":2100,"d":"2,100"}},{"$f":"IFERROR(VLOOKUP($A151,[2]filtro.12!A12:H185,3,FALSE),0)","v":0},{"$f":"IFERROR(VLOOKUP($A151,[2]filtro.12!A9:H182,4,FALSE),0)","v":{"v":2100,"d":"2,100"}},{"$f":"IFERROR(VLOOKUP($A151,[2]filtro.12!$A143:$H316,5,FALSE),0)","v":119}]
[81707002,1707002,"Espirometria basal y con broncodilatador                                                         ",{"$f":"IFERROR(VLOOKUP($A152,[2]filtro.12!A13:H186,2,FALSE),0)","v":{"v":1730,"d":"1,730"}},{"$f":"IFERROR(VLOOKUP($A152,[2]filtro.12!A13:H186,3,FALSE),0)","v":0},{"$f":"IFERROR(VLOOKUP($A152,[2]filtro.12!A10:H183,4,FALSE),0)","v":{"v":1730,"d":"1,730"}},{"$f":"IFERROR(VLOOKUP($A152,[2]filtro.12!$A144:$H317,5,FALSE),0)","v":24}]
[81707004,1707004,"Test de provocacion con ejercicio                                                                      ",{"$f":"IFERROR(VLOOKUP($A153,[2]filtro.12!A14:H187,2,FALSE),0)","v":18},{"$f":"IFERROR(VLOOKUP($A153,[2]filtro.12!A14:H187,3,FALSE),0)","v":8},{"$f":"IFERROR(VLOOKUP($A153,[2]filtro.12!A11:H184,4,FALSE),0)","v":10},{"$f":"IFERROR(VLOOKUP($A153,[2]filtro.12!$A145:$H318,5,FALSE),0)","v":0}]
[81707030,1707030,"Aerosolterapia (Nebulización)    ",{"$f":"IFERROR(VLOOKUP($A154,[2]filtro.12!A15:H188,2,FALSE),0)","v":{"v":20018,"d":"20,018"}},{"$f":"IFERROR(VLOOKUP($A154,[2]filtro.12!A15:H188,3,FALSE),0)","v":{"v":18415,"d":"18,415"}},{"$f":"IFERROR(VLOOKUP($A154,[2]filtro.12!A12:H185,4,FALSE),0)","v":{"v":1603,"d":"1,603"}},{"$f":"IFERROR(VLOOKUP($A154,[2]filtro.12!$A146:$H319,5,FALSE),0)","v":159}]
[80106006,"0106006","Oxigenoterapia domiciliaria (pacientes oxígeno dependientes)",{"$f":"IFERROR(VLOOKUP($A155,[2]filtro.12!A16:H189,2,FALSE),0)","v":460},{"$f":"IFERROR(VLOOKUP($A155,[2]filtro.12!A16:H189,3,FALSE),0)","v":261},{"$f":"IFERROR(VLOOKUP($A155,[2]filtro.12!A13:H186,4,FALSE),0)","v":199},{"$f":"IFERROR(VLOOKUP($A155,[2]filtro.12!A5:H178,5,FALSE),0)","v":3}]
[80106020,"0106020","Administración oxigeno",{"$f":"IFERROR(VLOOKUP($A156,[2]filtro.12!A17:H190,2,FALSE),0)","v":{"v":3644,"d":"3,644"}},{"$f":"IFERROR(VLOOKUP($A156,[2]filtro.12!A17:H190,3,FALSE),0)","v":{"v":3123,"d":"3,123"}},{"$f":"IFERROR(VLOOKUP($A156,[2]filtro.12!A14:H187,4,FALSE),0)","v":521},{"$f":"IFERROR(VLOOKUP($A156,[2]filtro.12!A6:H179,5,FALSE),0)","v":75}]
[80106021,"0106021","Aspiración secreciones",{"$f":"IFERROR(VLOOKUP($A157,[2]filtro.12!A18:H191,2,FALSE),0)","v":171},{"$f":"IFERROR(VLOOKUP($A157,[2]filtro.12!A18:H191,3,FALSE),0)","v":112},{"$f":"IFERROR(VLOOKUP($A157,[2]filtro.12!A15:H188,4,FALSE),0)","v":59},{"$f":"IFERROR(VLOOKUP($A157,[2]filtro.12!A7:H180,5,FALSE),0)","v":5}]
[null,"TOTAL",null,{"$f":"SUM(D151:D157)","v":{"v":28141,"d":"28,141"}},{"$f":"SUM(E151:E157)","v":{"v":21919,"d":"21,919"}},{"v":6222,"d":"6,222"},385]
[]
[null,"GASTROENTEROLOGÍA"]
[82201014,null,"Instalación / retiro de sonda nasogástrica",{"$f":"IFERROR(VLOOKUP($A161,[2]filtro.12!A22:H195,2,FALSE),0)","v":808},{"$f":"IFERROR(VLOOKUP($A161,[2]filtro.12!A22:H195,3,FALSE),0)","v":580},{"$f":"IFERROR(VLOOKUP($A161,[2]filtro.12!A19:H192,4,FALSE),0)","v":228},{"$f":"IFERROR(VLOOKUP($A161,[2]filtro.12!A11:H184,5,FALSE),0)","v":0}]
[80106009,"0106009","Lavado gástrico",{"$f":"IFERROR(VLOOKUP($A162,[2]filtro.12!A23:H196,2,FALSE),0)","v":20},{"$f":"IFERROR(VLOOKUP($A162,[2]filtro.12!A23:H196,3,FALSE),0)","v":20},{"$f":"IFERROR(VLOOKUP($A162,[2]filtro.12!A20:H193,4,FALSE),0)","v":0},{"$f":"IFERROR(VLOOKUP($A162,[2]filtro.12!A12:H185,5,FALSE),0)","v":0}]
[81801042,1801042,"Vaciamiento manual de fecaloma                                                                   ",{"$f":"IFERROR(VLOOKUP($A163,[2]filtro.12!A24:H197,2,FALSE),0)","v":16},{"$f":"IFERROR(VLOOKUP($A163,[2]filtro.12!A24:H197,3,FALSE),0)","v":8},{"$f":"IFERROR(VLOOKUP($A163,[2]filtro.12!A21:H194,4,FALSE),0)","v":8},{"$f":"IFERROR(VLOOKUP($A163,[2]filtro.12!A13:H186,5,FALSE),0)","v":0}]
[null,"TOTAL",null,{"$f":"SUM(D161:D163)","v":844},{"$f":"SUM(E161:E163)","v":608},{"$f":"SUM(F161:F163)","v":236}]
[]
[null,"UROLOGÍA"]
[82201015,null,"Instalación / retiro de sonda urinaria",{"$f":"IFERROR(VLOOKUP($A167,[2]filtro.12!A28:H201,2,FALSE),0)","v":{"v":2802,"d":"2,802"}},{"$f":"IFERROR(VLOOKUP($A167,[2]filtro.12!A28:H201,3,FALSE),0)","v":{"v":1494,"d":"1,494"}},{"$f":"IFERROR(VLOOKUP($A167,[2]filtro.12!A25:H198,4,FALSE),0)","v":{"v":1308,"d":"1,308"}},{"$f":"IFERROR(VLOOKUP($A167,[2]filtro.12!A17:H190,5,FALSE),0)","v":0}]
[81901022,1901022,"Vac. Vesical por sonda uretral, (proc. Aut.)                                                    ",{"$f":"IFERROR(VLOOKUP($A168,[2]filtro.12!A29:H202,2,FALSE),0)","v":322},{"$f":"IFERROR(VLOOKUP($A168,[2]filtro.12!A29:H202,3,FALSE),0)","v":229},{"$f":"IFERROR(VLOOKUP($A168,[2]filtro.12!A26:H199,4,FALSE),0)","v":93},{"$f":"IFERROR(VLOOKUP($A168,[2]filtro.12!A18:H191,5,FALSE),0)","v":0}]
[null,"TOTAL",null,{"$f":"SUM(D167:D168)","v":{"v":3124,"d":"3,124"}},{"$f":"SUM(E167:E168)","v":{"v":1723,"d":"1,723"}},{"$f":"SUM(F167:F168)","v":{"v":1401,"d":"1,401"}}]
[]
[null,"GINECOLOGÍA"]
[80500008,null,"Inserción Implante Anticonceptivo",{"$f":"IFERROR(VLOOKUP($A172,[2]filtro.12!A33:H206,2,FALSE),0)","v":{"v":2867,"d":"2,867"}},{"$f":"IFERROR(VLOOKUP($A172,[2]filtro.12!A33:H206,3,FALSE),0)","v":5},{"$f":"IFERROR(VLOOKUP($A172,[2]filtro.12!A30:H203,4,FALSE),0)","v":{"v":2862,"d":"2,862"}},{"$f":"IFERROR(VLOOKUP($A172,[2]filtro.12!A22:H195,5,FALSE),0)","v":0}]
[80500009,null,"Remoción Implante Anticonceptivo",{"$f":"IFERROR(VLOOKUP($A173,[2]filtro.12!A34:H207,2,FALSE),0)","v":{"v":2511,"d":"2,511"}},{"$f":"IFERROR(VLOOKUP($A173,[2]filtro.12!A34:H207,3,FALSE),0)","v":8},{"$f":"IFERROR(VLOOKUP($A173,[2]filtro.12!A31:H204,4,FALSE),0)","v":{"v":2503,"d":"2,503"}},{"$f":"IFERROR(VLOOKUP($A173,[2]filtro.12!A23:H196,5,FALSE),0)","v":0}]
[82001015,2001015,"Colocación o extracción de dispositivo intrauterino (no incluye el valor del dispositivo)                    ",{"$f":"IFERROR(VLOOKUP($A174,[2]filtro.12!A35:H208,2,FALSE),0)","v":{"v":1155,"d":"1,155"}},{"$f":"IFERROR(VLOOKUP($A174,[2]filtro.12!A35:H208,3,FALSE),0)","v":3},{"$f":"IFERROR(VLOOKUP($A174,[2]filtro.12!A32:H205,4,FALSE),0)","v":{"v":1152,"d":"1,152"}},{"$f":"IFERROR(VLOOKUP($A174,[2]filtro.12!A24:H197,5,FALSE),0)","v":0}]
[82201016,null,"Toma de muestra de PAP ",{"$f":"IFERROR(VLOOKUP($A175,[2]filtro.12!A36:H209,2,FALSE),0)","v":{"v":23797,"d":"23,797"}},{"$f":"IFERROR(VLOOKUP($A175,[2]filtro.12!A36:H209,3,FALSE),0)","v":9},{"$f":"IFERROR(VLOOKUP($A175,[2]filtro.12!A33:H206,4,FALSE),0)","v":{"v":23788,"d":"23,788"}},{"$f":"IFERROR(VLOOKUP($A175,[2]filtro.12!A25:H198,5,FALSE),0)","v":0}]
[82201017,null,"Toma de muestra de PAP (PRAPS)",{"$f":"IFERROR(VLOOKUP($A176,[2]filtro.12!A37:H210,2,FALSE),0)","v":{"v":7366,"d":"7,366"}},{"$f":"IFERROR(VLOOKUP($A176,[2]filtro.12!A37:H210,3,FALSE),0)","v":0},{"$f":"IFERROR(VLOOKUP($A176,[2]filtro.12!A34:H207,4,FALSE),0)","v":{"v":7366,"d":"7,366"}},{"$f":"IFERROR(VLOOKUP($A176,[2]filtro.12!A26:H199,5,FALSE),0)","v":0}]
[null,"TOTAL",null,{"$f":"SUM(D172:D176)","v":{"v":37696,"d":"37,696"}},{"$f":"SUM(E172:E176)","v":25},{"v":37671,"d":"37,671"}]
[]
[null,"ORTOPEDIA Y TRAUMATOLOGÍA"]
[82101001,2101001,"Infiltración local medicamentos (bursas, tendones, yuxtaarticulares y/o intraarticulares",{"$f":"IFERROR(VLOOKUP($A180,[2]filtro.12!A41:H214,2,FALSE),0)","v":10},{"$f":"IFERROR(VLOOKUP($A180,[2]filtro.12!A41:H214,3,FALSE),0)","v":10},{"$f":"IFERROR(VLOOKUP($A180,[2]filtro.12!A38:H211,4,FALSE),0)","v":0},{"$f":"IFERROR(VLOOKUP($A180,[2]filtro.12!A30:H203,5,FALSE),0)","v":0}]
[82106005,2105004,"Rodillera, bota larga o corta de yeso",{"$f":"IFERROR(VLOOKUP($A181,[2]filtro.12!A42:H215,2,FALSE),0)","v":401},{"$f":"IFERROR(VLOOKUP($A181,[2]filtro.12!A42:H215,3,FALSE),0)","v":401},{"$f":"IFERROR(VLOOKUP($A181,[2]filtro.12!A39:H212,4,FALSE),0)","v":0},{"$f":"IFERROR(VLOOKUP($A181,[2]filtro.12!A31:H204,5,FALSE),0)","v":0}]
[82106007,2105005,"Velpeau",{"$f":"IFERROR(VLOOKUP($A182,[2]filtro.12!A43:H216,2,FALSE),0)","v":118},{"$f":"IFERROR(VLOOKUP($A182,[2]filtro.12!A43:H216,3,FALSE),0)","v":118},{"$f":"IFERROR(VLOOKUP($A182,[2]filtro.12!A40:H213,4,FALSE),0)","v":0},{"$f":"IFERROR(VLOOKUP($A182,[2]filtro.12!A32:H205,5,FALSE),0)","v":0}]
[82106006,2105006,"Yeso antebraquial c/s férula digital",{"$f":"IFERROR(VLOOKUP($A183,[2]filtro.12!A44:H217,2,FALSE),0)","v":537},{"$f":"IFERROR(VLOOKUP($A183,[2]filtro.12!A44:H217,3,FALSE),0)","v":537},{"$f":"IFERROR(VLOOKUP($A183,[2]filtro.12!A41:H214,4,FALSE),0)","v":0},{"$f":"IFERROR(VLOOKUP($A183,[2]filtro.12!A33:H206,5,FALSE),0)","v":0}]
[82106004,2105007,"Yeso braquicarpiano",{"$f":"IFERROR(VLOOKUP($A184,[2]filtro.12!A45:H218,2,FALSE),0)","v":139},{"$f":"IFERROR(VLOOKUP($A184,[2]filtro.12!A45:H218,3,FALSE),0)","v":139},{"$f":"IFERROR(VLOOKUP($A184,[2]filtro.12!A42:H215,4,FALSE),0)","v":0},{"$f":"IFERROR(VLOOKUP($A184,[2]filtro.12!A34:H207,5,FALSE),0)","v":0}]
[82107003,2107003,"Luxaciones de articulaciones menores (el resto)",{"$f":"IFERROR(VLOOKUP($A185,[2]filtro.12!A46:H219,2,FALSE),0)","v":874},{"$f":"IFERROR(VLOOKUP($A185,[2]filtro.12!A46:H219,3,FALSE),0)","v":874},{"$f":"IFERROR(VLOOKUP($A185,[2]filtro.12!A43:H216,4,FALSE),0)","v":0},{"$f":"IFERROR(VLOOKUP($A185,[2]filtro.12!A35:H208,5,FALSE),0)","v":0}]
[null,"TOTAL",null,{"$f":"SUM(D180:D185)","v":{"v":2079,"d":"2,079"}},{"$f":"SUM(E180:E185)","v":{"v":2079,"d":"2,079"}},{"$f":"SUM(F180:F185)","v":0}]
[]
[null,"MISCELÁNEOS"]
[80500011,null,"Hemoglocotest instantáneo ",{"$f":"IFERROR(VLOOKUP($A189,[2]filtro.12!A50:H223,2,FALSE),0)","v":{"v":88673,"d":"88,673"}},{"$f":"IFERROR(VLOOKUP($A189,[2]filtro.12!A50:H223,3,FALSE),0)","v":{"v":57744,"d":"57,744"}},{"$f":"IFERROR(VLOOKUP($A189,[2]filtro.12!A47:H220,4,FALSE),0)","v":{"v":30919,"d":"30,919"}},{"$f":"IFERROR(VLOOKUP($A189,[2]filtro.12!A39:H212,5,FALSE),0)","v":0}]
[82201018,null,"Entrega de Glucómetro",{"$f":"IFERROR(VLOOKUP($A190,[2]filtro.12!A51:H224,2,FALSE),0)","v":932},{"$f":"IFERROR(VLOOKUP($A190,[2]filtro.12!A51:H224,3,FALSE),0)","v":1},{"$f":"IFERROR(VLOOKUP($A190,[2]filtro.12!A48:H221,4,FALSE),0)","v":931},{"$f":"IFERROR(VLOOKUP($A190,[2]filtro.12!A40:H213,5,FALSE),0)","v":0}]
[80106002,"0106002","Curación simple ambulatoria",{"$f":"IFERROR(VLOOKUP($A191,[2]filtro.12!A5:H178,2,FALSE),0)","v":{"v":99974,"d":"99,974"}},{"$f":"IFERROR(VLOOKUP($A191,[2]filtro.12!A5:H178,3,FALSE),0)","v":{"v":19081,"d":"19,081"}},{"$f":"IFERROR(VLOOKUP($A191,[2]filtro.12!A5:H178,4,FALSE),0)","v":{"v":80882,"d":"80,882"}},{"$f":"IFERROR(VLOOKUP($A191,[2]filtro.12!A41:H214,5,FALSE),0)","v":0}]
[82201019,null,"Curación Avanzada",{"$f":"IFERROR(VLOOKUP($A192,[2]filtro.12!A53:H226,2,FALSE),0)","v":{"v":49978,"d":"49,978"}},{"$f":"IFERROR(VLOOKUP($A192,[2]filtro.12!A6:H179,3,FALSE),0)","v":{"v":3084,"d":"3,084"}},{"$f":"IFERROR(VLOOKUP($A192,[2]filtro.12!A6:H179,4,FALSE),0)","v":{"v":46891,"d":"46,891"}},{"$f":"IFERROR(VLOOKUP($A192,[2]filtro.12!A42:H215,5,FALSE),0)","v":0}]
[82201020,null,"Curación Avanzada Pie Diabético",{"$f":"IFERROR(VLOOKUP($A193,[2]filtro.12!A54:H227,2,FALSE),0)","v":{"v":20025,"d":"20,025"}},{"$f":"IFERROR(VLOOKUP($A193,[2]filtro.12!A7:H180,3,FALSE),0)","v":234},{"$f":"IFERROR(VLOOKUP($A193,[2]filtro.12!A7:H180,4,FALSE),0)","v":{"v":19791,"d":"19,791"}},{"$f":"IFERROR(VLOOKUP($A193,[2]filtro.12!A43:H216,5,FALSE),0)","v":0}]
[82201021,null,"Curación Avanzada Úlcera Venosa",{"$f":"IFERROR(VLOOKUP($A194,[2]filtro.12!A55:H228,2,FALSE),0)","v":{"v":16516,"d":"16,516"}},{"$f":"IFERROR(VLOOKUP($A194,[2]filtro.12!A8:H181,3,FALSE),0)","v":328},{"$f":"IFERROR(VLOOKUP($A194,[2]filtro.12!A8:H181,4,FALSE),0)","v":{"v":16183,"d":"16,183"}},{"$f":"IFERROR(VLOOKUP($A194,[2]filtro.12!A44:H217,5,FALSE),0)","v":0}]
[80106023,null,"Procedimientos de podología",{"$f":"IFERROR(VLOOKUP($A195,[2]filtro.12!A5:H178,2,FALSE),0)","v":{"v":41806,"d":"41,806"}},{"$f":"IFERROR(VLOOKUP($A195,[2]filtro.12!A9:H182,3,FALSE),0)","v":438},{"$f":"IFERROR(VLOOKUP($A195,[2]filtro.12!A9:H182,4,FALSE),0)","v":{"v":41686,"d":"41,686"}},{"$f":"IFERROR(VLOOKUP($A195,[2]filtro.12!A45:H218,5,FALSE),0)","v":0}]
[80106007,"0106008","Extracción cuerpo extraño ojo",{"$f":"IFERROR(VLOOKUP($A196,[2]filtro.12!A6:H179,2,FALSE),0)","v":{"v":1012,"d":"1,012"}},{"$f":"IFERROR(VLOOKUP($A196,[2]filtro.12!A10:H183,3,FALSE),0)","v":588},{"$f":"IFERROR(VLOOKUP($A196,[2]filtro.12!A10:H183,4,FALSE),0)","v":424},{"$f":"IFERROR(VLOOKUP($A196,[2]filtro.12!A46:H219,5,FALSE),0)","v":0}]
[80106008,"0106010","Extracción cuerpo extraño otro lugar",{"$f":"IFERROR(VLOOKUP($A197,[2]filtro.12!A7:H180,2,FALSE),0)","v":799},{"$f":"IFERROR(VLOOKUP($A197,[2]filtro.12!A11:H184,3,FALSE),0)","v":190},{"$f":"IFERROR(VLOOKUP($A197,[2]filtro.12!A11:H184,4,FALSE),0)","v":609},{"$f":"IFERROR(VLOOKUP($A197,[2]filtro.12!A47:H220,5,FALSE),0)","v":0}]
[80106010,"0106011","Lavado oído",{"$f":"IFERROR(VLOOKUP($A198,[2]filtro.12!A8:H181,2,FALSE),0)","v":{"v":1312,"d":"1,312"}},{"$f":"IFERROR(VLOOKUP($A198,[2]filtro.12!A12:H185,3,FALSE),0)","v":116},{"$f":"IFERROR(VLOOKUP($A198,[2]filtro.12!A12:H185,4,FALSE),0)","v":{"v":1196,"d":"1,196"}},{"$f":"IFERROR(VLOOKUP($A198,[2]filtro.12!A48:H221,5,FALSE),0)","v":0}]
[80106011,"0106012","Técnicas reanimación cardiopulmonar básico",{"$f":"IFERROR(VLOOKUP($A199,[2]filtro.12!A9:H182,2,FALSE),0)","v":34},{"$f":"IFERROR(VLOOKUP($A199,[2]filtro.12!A13:H186,3,FALSE),0)","v":21},{"$f":"IFERROR(VLOOKUP($A199,[2]filtro.12!A13:H186,4,FALSE),0)","v":13},{"$f":"IFERROR(VLOOKUP($A199,[2]filtro.12!A49:H222,5,FALSE),0)","v":0}]
[80106012,"0106013","Técnicas reanimación cardiopulmonar avanzado",{"$f":"IFERROR(VLOOKUP($A200,[2]filtro.12!A10:H183,2,FALSE),0)","v":375},{"$f":"IFERROR(VLOOKUP($A200,[2]filtro.12!A14:H187,3,FALSE),0)","v":57},{"$f":"IFERROR(VLOOKUP($A200,[2]filtro.12!A14:H187,4,FALSE),0)","v":318},{"$f":"IFERROR(VLOOKUP($A200,[2]filtro.12!A50:H223,5,FALSE),0)","v":0}]
[80106013,"0106014","Aseo ocular",{"$f":"IFERROR(VLOOKUP($A201,[2]filtro.12!A11:H184,2,FALSE),0)","v":{"v":3187,"d":"3,187"}},{"$f":"IFERROR(VLOOKUP($A201,[2]filtro.12!A15:H188,3,FALSE),0)","v":{"v":1929,"d":"1,929"}},{"$f":"IFERROR(VLOOKUP($A201,[2]filtro.12!A15:H188,4,FALSE),0)","v":{"v":1258,"d":"1,258"}},{"$f":"IFERROR(VLOOKUP($A201,[2]filtro.12!A51:H224,5,FALSE),0)","v":0}]
[80106014,"0106015","Administración inyecciones",{"$f":"IFERROR(VLOOKUP($A202,[2]filtro.12!A12:H185,2,FALSE),0)","v":{"v":413855,"d":"413,855"}},{"$f":"IFERROR(VLOOKUP($A202,[2]filtro.12!A16:H189,3,FALSE),0)","v":{"v":266897,"d":"266,897"}},{"$f":"IFERROR(VLOOKUP($A202,[2]filtro.12!A16:H189,4,FALSE),0)","v":{"v":146948,"d":"146,948"}},{"$f":"IFERROR(VLOOKUP($A202,[2]filtro.12!A52:H225,5,FALSE),0)","v":0}]
[80106015,"0307011","Administración fleboclisis",{"$f":"IFERROR(VLOOKUP($A203,[2]filtro.12!A13:H186,2,FALSE),0)","v":{"v":70190,"d":"70,190"}},{"$f":"IFERROR(VLOOKUP($A203,[2]filtro.12!A17:H190,3,FALSE),0)","v":{"v":62534,"d":"62,534"}},{"$f":"IFERROR(VLOOKUP($A203,[2]filtro.12!A17:H190,4,FALSE),0)","v":{"v":7655,"d":"7,655"}},{"$f":"IFERROR(VLOOKUP($A203,[2]filtro.12!A53:H226,5,FALSE),0)","v":0}]
[80307011,"0307012","Toma de muestra de sangre venosa en adultos",{"$f":"IFERROR(VLOOKUP($A204,[2]filtro.12!A14:H187,2,FALSE),0)","v":{"v":260119,"d":"260,119"}},{"$f":"IFERROR(VLOOKUP($A204,[2]filtro.12!A18:H191,3,FALSE),0)","v":{"v":5177,"d":"5,177"}},{"$f":"IFERROR(VLOOKUP($A204,[2]filtro.12!A18:H191,4,FALSE),0)","v":{"v":254942,"d":"254,942"}},{"$f":"IFERROR(VLOOKUP($A204,[2]filtro.12!A54:H227,5,FALSE),0)","v":{"v":65632,"d":"65,632"}}]
[80307012,"0106022","Toma de muestra de sangre venosa en niños y lactantes",{"$f":"IFERROR(VLOOKUP($A205,[2]filtro.12!A15:H188,2,FALSE),0)","v":{"v":15382,"d":"15,382"}},{"$f":"IFERROR(VLOOKUP($A205,[2]filtro.12!A19:H192,3,FALSE),0)","v":107},{"$f":"IFERROR(VLOOKUP($A205,[2]filtro.12!A19:H192,4,FALSE),0)","v":{"v":15275,"d":"15,275"}},{"$f":"IFERROR(VLOOKUP($A205,[2]filtro.12!A55:H228,5,FALSE),0)","v":{"v":2322,"d":"2,322"}}]
[null,"TOTAL",null,{"$f":"SUM(D189:D205)","v":{"v":1084169,"d":"1,084,169"}},{"$f":"SUM(E189:E205)","v":{"v":418526,"d":"418,526"}},{"v":665921,"d":"665,921"},{"v":67954,"d":"67,954"}]
[]
[]
["CODIGOS NUEVOS"]
[82201010]
[82201011]
[82201012]
[82201013]
[80306112]
[82201014]
[82201015]
[82201016]
[82201017]
[82201018]
[82201019]
[82201020]
[82201021]
[]
[]
["CODIGOS ELIMINADOS"]
[80301001]
[80301002]
[80301003]
[80301004]
[80301005]
[80301006]
[80301007]
[80301008]
[80301009]
[80301010]
[80301011]
[80301012]
[80301013]
[80301014]
[80301015]
[80301016]
[80301017]
[80301020]
[80301021]
[80301022]
[80301023]
[80301024]
[80301025]
[80301026]
[80301027]
[80301028]
[80301029]
[80301030]
[80301032]
[80301033]
[80301034]
[80301035]
[80301038]
[80301039]
[80301040]
[80301042]
[80301043]
[80301044]
[80301046]
[80301047]
[80301048]
[80301049]
[80301050]
[80301051]
[80301052]
[80301053]
[80301054]
[80301055]
[80301056]
[80301057]
[80301058]
[80301059]
[80301062]
[80301063]
[80301064]
[80301066]
[80301068]
[80301069]
[80301070]
[80301071]
[80301072]
[80301074]
[80301075]
[80301076]
[80301077]
[80301078]
[80301079]
[80301080]
[80301081]
[80301082]
[80301083]
[80301085]
[80301087]
[80301088]
[80301089]
[80301090]
[80301091]
[80301092]
[80301093]
[80302001]
[80302002]
[80302004]
[80302006]
[80302007]
[80302008]
[80302009]
[80302010]
[80302070]
[80302011]
[80302012]
[80302014]
[80302015]
[80302016]
[80302017]
[80302018]
[80302019]
[80302020]
[80302021]
[80302022]
[80302025]
[80302026]
[80302028]
[80302029]
[80302030]
[80302031]
[80302033]
[80302036]
[80302037]
[80302038]
[80302039]
[80302041]
[80302042]
[80302043]
[80302044]
[80302045]
[80302046]
[80302050]
[80302051]
[80302052]
[80302053]
[80302069]
[80302054]
[80302055]
[80302056]
[80302058]
[80302059]
[80302060]
[80302061]
[80302062]
[80302065]
[80302066]
[80303015]
[80303025]
[80303028]
[80305001]
[80305002]
[80305003]
[80305004]
[80305005]
[80305006]
[80305007]
[80305008]
[80305009]
[80305070]
[80305170]
[80305010]
[80305011]
[80305012]
[80305013]
[80305014]
[80305015]
[80305016]
[80305017]
[80305018]
[80305021]
[80305025]
[80305026]
[80305027]
[80305028]
[80305029]
[80305030]
[80305031]
[80305034]
[80305035]
[80305036]
[80305037]
[80305038]
[80305039]
[80305040]
[80305041]
[80305042]
[80305043]
[80305044]
[80305045]
[80305047]
[80305048]
[80305049]
[80305051]
[80305052]
[80305053]
[80305054]
[80305056]
[80305057]
[80305058]
[80305059]
[80305060]
[80305061]
[80305062]
[80305063]
[80306001]
[80306006]
[80306008]
[80306009]
[80306010]
[80306012]
[80306013]
[80306014]
[80306015]
[80306017]
[80306117]
[80306018]
[80306019]
[80306020]
[80306021]
[80306022]
[80306023]
[80306024]
[80306025]
[80306027]
[80306028]
[80306029]
[80306030]
[80306031]
[80306032]
[80306033]
[80306034]
[80306036]
[80306037]
[80306039]
[80306041]
[80306043]
[80306045]
[80306046]
[80306047]
[80306050]
[80306053]
[80306054]
[80306056]
[80306057]
[80306058]
[80306061]
[80306062]
[80306063]
[80306064]
[80306065]
[80306066]
[80306067]
[80306068]
[80306069]
[80306070]
[80306170]
[80306270]
[80306072]
[80306073]
[80306074]
[80306075]
[80306076]
[80306077]
[80306078]
[80306079]
[80306080]
[80308001]
[80308002]
[80308003]
[80308006]
[80308007]
[80308008]
[80308009]
[80308010]
[80308011]
[80308012]
[80308013]
[80308014]
[80308015]
[80308016]
[80308017]
[80308018]
[80308019]
[80308020]
[80308021]
[80308022]
[80308023]
[80308024]
[80308025]
[80308026]
[80308027]
[80308028]
[80308029]
[80308030]
[80308031]
[80308032]
[80308033]
[80308034]
[80308035]
[80308036]
[80308037]
[80308038]
[80308039]
[80308040]
[80308041]
[80308042]
[80308043]
[80308044]
[80309001]
[80309002]
[80309003]
[80309004]
[80309005]
[80309006]
[80309007]
[80309008]
[80309009]
[80309011]
[80309012]
[80309040]
[80309015]
[80309016]
[80309035]
[80309017]
[80309018]
[80309019]
[80309021]
[80309025]
[80309027]
[80309028]
[80309029]
[80401001]
[80401002]
[80401003]
[80401005]
[80401006]
[80401007]
[80401011]
[80401012]
[80401013]
[80401014]
[80401015]
[80401016]
[80401017]
[80401018]
[80401019]
[80401020]
[80401021]
[80401022]
[80401023]
[80401024]
[80401026]
[80401027]
[80401028]
[80401029]
[80401030]
[80401031]
[80401032]
[80401033]
[80401034]
[80401035]
[80401036]
[80401037]
[80401038]
[80401039]
[80401040]
[80401041]
[80401056]
[80401057]
[80401058]
[80401059]
[80401061]
[80401062]
[80401063]
[80401064]
[80404003]
[80404004]
[80404009]
[80404010]
[80404011]
[80404012]
[80404013]
[80404014]
[80404015]
[80404016]
[80404018]
[80404019]
[81101003]
[81201003]
[81201004]
[81201005]
[81201009]
[81201012]
[81201014]
[81201015]
[81201019]
[81201029]
[81201042]
["81201042A"]
[81301042]
[81301043]
[81601115]
[81701006]
[81801023]
[81801001]
[81901019]
[82101002]
[81602201]
[81602202]
[81602204]
[81602205]
[81602207]
[81602211]
[81602212]
[81602213]
[81602214]
[81602215]
[81602216]
[81602217]
[81602232]
[81602240]
[81602241]
[81602242]
[80106005]
[80106024]
[80106017]
[80106022]
[80500001]
[80500002]
[80500003]
[80500004]
[80500005]
[80500006]
[80500007]
[80500010]
[80500014]

{"sheet":"filtro.12","index":2,"n_rows":178,"n_cols":8,"rows_kept":178}
["comuna","(Todas)"]
["establecimiento","(Todas)"]
["Mes","(Todas)"]
[]
["Etiquetas de fila","Suma de Col01","Suma de Col02","Suma de Col03","Suma de Col04","Suma de Col05","Suma de Col06","Suma de Col07"]
[18010100,99508,2,99506]
[18010200,408037,9,408028]
[18010500,2104,0,2104]
[18010601,27208,40,27168]
[18010800,480,0,480]
[18010900,142661,5245,137416]
[18011001,43237,38654,4583]
[18020200,632,178,454]
[18020300,28141,21919,6222]
[18020400,113,6,107]
[18020500,138381,36215,102166]
[18020600,848,608,240]
[18020700,3127,1723,1404]
[18020800,2079,2079]
[18020900,37722,25,37697]
[18030000,4296,2944,1352]
[18090100,78993,0,78993]
[18090200,9210,1373]
[18090300,64,0]
[18400700,566706]
[18700240,1,null,1]
[18700250,903,null,903]
[18700260,1,null,1]
[18700270,1659,null,1659]
[18700280,1,null,1]
[18700290,967,null,967]
[18700300,8,null,8]
[18700310,955,null,955]
[18700330,201,null,201]
[18700340,5,null,5]
[18700350,604,null,604]
[18700360,1082893,418526,664367]
[18700370,4304,0,4304]
[80106002,99974,19081,80882]
[80106006,460,261,199,3]
[80106007,1012,588,424]
[80106008,799,190,609]
[80106009,20,20,0]
[80106010,1312,116,1196]
[80106011,34,21,13]
[80106012,375,57,318]
[80106013,3187,1929,1258]
[80106014,413855,266897,146948]
[80106015,70190,62534,7655]
[80106020,3644,3123,521,75]
[80106021,171,112,59,5]
[80106023,41806,438,41686]
[80301036,5995,0,5493,32822]
[80301041,37710,0,37397,59200]
[80301045,52253,1,52195,77705]
[80301065,50,0,50,139]
[80301067,146,null,146,75]
[80301086,388,null,385,1508]
[80302005,33889,0,33871,35558]
[80302013,660,0,631,8726]
[80302023,57974,0,57438,96432]
[80302024,2456,0,2456,7388]
[80302032,92757,0,92371,83561]
[80302034,60613,0,60613,71715]
[80302035,609,0,609,6288]
[80302040,648,0,626,7543]
[80302047,70099,0,69458,118279]
[80302048,5320,0,5252,10944]
[80302057,36477,0,36456,43470]
[80302063,1137,0,1067,18659]
[80302064,3758,0,3095,41936]
[80302067,3768,0,3734,46917]
[80302068,1749,0,1723,37095]
[80302075,443,7,436,2481]
[80302076,31763,0,31763,25161]
[80303024,46128,0,45831,83533]
[80303026,30752,0,30697,29348]
[80303027,2065,null,2065,54]
[80305019,2088,0,2087,2549]
[80305020,16,null,8,466]
[80306002,194,13,178,1017]
[80306004,1081,null,1081,33]
[80306005,358,null,358,32]
[80306007,483,6,477,1084]
[80306011,12637,21,12542,19231]
[80306016,1,null,1,81]
[80306026,1302,null,1302,331]
[80306038,9684,0,9680,19876]
[80306042,75,null,75,1019]
[80306048,465,0,464,1074]
[80306051,278,0,277,268]
[80306052,3,0,3,79]
[80306059,298,null,296,197]
[80306081,9,null,9,31]
[80306112,89,null,89,534]
[80306169,237,0,237,2050]
[80307011,260119,5177,254942,65632]
[80307012,15382,107,15275,2322]
[80308004,318,0,317,1666]
[80308005,162,0,162,248]
[80309010,38446,0,38118,40073]
[80309013,39596,0,39596,43152]
[80309014,129,0,129,179]
[80309020,594,null,594,1789]
[80309022,50984,57,50454,91724]
[80309023,12349,5188,7161,1533]
[80309024,502,null,502,8582]
[80401008,4,null,4,129]
[80401009,1011,829,182,710]
[80401010,1703,0,1703,3601]
[80401042,1321,1321,0,336]
[80401043,13,13,null,11]
[80401044,2,2,null,2]
[80401045,2222,2222,0,573]
[80401046,1263,1263,0,412]
[80401047,18,18]
[80401048,6,6,null,4]
[80401051,2081,2070,11,7255]
[80401052,431,386,45,314]
[80401053,283,283,0,62]
[80401054,13023,13023,0,3548]
[80401055,223,223,0,63]
[80401060,6396,6372,24,8667]
[80401070,11580,9917,1663,7333]
[80401110,308,null,308,381]
[80401130,2,null,2]
[80401151,1347,706,641,1886]
[80404002,3590,0,3590,23]
[80404005,493,0,493,0]
[80404006,468,0,468,0]
[80500008,2867,5,2862]
[80500009,2511,8,2503]
[80500011,88673,57744,30919]
[80500016,1034,1004,30,11]
[80500017,2629,2585,44,0]
[81301025,334,136,198]
[81301026,107,8,99]
[81301029,28,20,8]
[81301030,163,14,149]
[81601110,113,6,107,2]
[81602203,77,7,70,18]
[81602206,241,0,241,205]
[81602221,1250,1087,163,12]
[81602222,2039,1694,345,14]
[81602223,151,0,151,117]
[81602224,235,3,232,175]
[81602225,202,149,53,2]
[81602231,101,4,97,33]
[81701001,79970,23293,56677,22479]
[81701009,7915,1789,6126,702]
[81707001,2100,0,2100,119]
[81707002,1730,0,1730,24]
[81707004,18,8,10]
[81707030,20018,18415,1603,159]
[81707038,46750,7544,39206]
[81801042,16,8,8]
[81901022,322,229,93]
[82001015,1155,3,1152]
[82101001,10,10]
[82106004,139,139]
[82106005,401,401]
[82106006,537,537]
[82106007,118,118]
[82107003,874,874]
[82201010,2905,1,2904,2910]
[82201011,1054,0,1050,1631]
[82201012,1692,0,1689,5310]
[82201013,684,0,684,2041]
[82201014,808,580,228]
[82201015,2802,1494,1308]
[82201016,23797,9,23788]
[82201017,7366,0,7366]
[82201018,932,1,931]
[82201019,49978,3084,46891]
[82201020,20025,234,19791]
[82201021,16516,328,16183]
["(en blanco)"]
["Total general",4791549,1057717,3154859,1324746]