Workbook

Sheet Resumen
A1: MINISTERIO DE SALUD
A2: SERVICIO DE SALUD COQUIMBO
A3: DEPARTAMENTO DE GESTIÓN, PLANIFICACIÓN Y CONTROL
A4: SUBDEPTO. DE ESTADÍSTICAS Y GESTIÓN DE LA INFORMACIÓN
A5: AÑO 2022
B8: COMUNA | C8: RESUMEN DE CUMPLIMIENTO DE METAS SANITARIAS 2022
C9: META 1 | D9: META 2 | E9: META 3A | F9: META 3B | G9: META 4A | H9: META 4B | I9: META 5 | J9: META 6 | K9: META 7
C10: Recuperación del desarrollo psicomotor | D10: Detección precoz del cáncer de cuello uterino | E10: Control odontológico en población infantil | F10: Niños y niñas de 6 años libres de caries | G10: Cobertura efectiva de diabetes tipo 2 en personas de 15 y más años | H10: Evaluación anual de los pies en personas con diabetes bajo control de 15 años y más | I10: Cobertura efectiva de hipertensión arterial en personas de 15 años y más | J10: Lactancia materna exclusiva en menores de 6 meses de vida | K10: % Altas Odontologicas Nivel Seundario x Ingreso de Tratamiento
B12: LA SERENA | C12: ='Meta 01'!$C$26 -> 0.68308703 | D12: ='Meta 02'!$C$26 -> 1.4773681 | E12: ='Meta 3A'!$C$26 -> 1.2045216 | F12: ='Meta 3B'!$C$26 -> 1.1449961 | G12: ='Meta 4A'!$C$26 -> 0.95895841 | H12: ='Meta 4B'!$F$26 -> 1.1007778 | I12: ='Meta 05'!$F$27 -> 1.6360366 | J12: ='Meta 06'!$C$26 -> 0.83873477 | K12: ='Meta 07'!E13 -> 0
B13: COQUIMBO | C13: ='Meta 01'!$C$40 -> 0.83044983 | D13: ='Meta 02'!$C$39 -> 1.4196704 | E13: ='Meta 3A'!$C$40 -> 1.0238576 | F13: ='Meta 3B'!$C$40 -> 0.9459485 | G13: ='Meta 4A'!$C$39 -> 1.0826402 | H13: ='Meta 4B'!$F$39 -> 0.94983441 | I13: ='Meta 05'!$F$40 -> 1.9998202 | J13: ='Meta 06'!$C$39 -> 0.82708475 | K13: ='Meta 07'!E14 -> 0
B14: LA HIGUERA | C14: ='Meta 01'!$C$45 -> 0.31746032 | D14: ='Meta 02'!$C$44 -> 1.110819 | E14: ='Meta 3A'!$C$45 -> 1.05555 | F14: ='Meta 3B'!$C$45 -> 0.82051282 | G14: ='Meta 4A'!$C$44 -> 0.82501444 | H14: ='Meta 4B'!$F$44 -> 0.92092728 | I14: ='Meta 05'!$F$45 -> 1.4551192 | J14: ='Meta 06'!$C$44 -> 0.83333333
B15: PAIHUANO | C15: ='Meta 01'!$C$50 -> 2.2222222 | D15: ='Meta 02'!$C$49 -> 0 | E15: ='Meta 3A'!$C$50 -> 2.4271168 | F15: ='Meta 3B'!$C$50 -> 1.0323661 | G15: ='Meta 4A'!$C$49 -> 0.87108014 | H15: ='Meta 4B'!$F$49 -> 0.88851351 | I15: ='Meta 05'!$F$50 -> 2.0905923 | J15: ='Meta 06'!$C$49 -> 1.0576415
B16: VICUÑA | C16: ='Meta 01'!$C$61 -> 0.83333333 | D16: ='Meta 02'!$C$60 -> 0 | E16: ='Meta 3A'!$C$61 -> 0.86032213 | F16: ='Meta 3B'!$C$61 -> 1.2452711 | G16: ='Meta 4A'!$C$60 -> 1.1227085 | H16: ='Meta 4B'!$F$60 -> 0.9220467 | I16: ='Meta 05'!$F$61 -> 1.7808035 | J16: ='Meta 06'!$C$60 -> 0.94466937
B17: ILLAPEL | C17: ='Meta 01'!$C$76 -> 1.2698413 | D17: ='Meta 02'!$C$75 -> 1.2159742 | E17: ='Meta 3A'!$C$76 -> 0.75655138 | F17: ='Meta 3B'!$C$76 -> 0.668868 | G17: ='Meta 4A'!$C$75 -> 1.4243821 | H17: ='Meta 4B'!$F$75 -> 0.99678672 | I17: ='Meta 05'!$F$76 -> 2.3903703 | J17: ='Meta 06'!$C$75 -> 1.0021322 | K17: ='Meta 07'!E16 -> 0
B18: CANELA | C18: ='Meta 01'!$C$87 -> 0.625 | D18: ='Meta 02'!$C$86 -> 0 | E18: ='Meta 3A'!$C$87 -> 0.60298718 | F18: ='Meta 3B'!$C$87 -> 0.61764706 | G18: ='Meta 4A'!$C$86 -> 1.1017214 | H18: ='Meta 4B'!$F$86 -> 0.96920181 | I18: ='Meta 05'!$F$87 -> 2.5520645 | J18: ='Meta 06'!$C$86 -> 0.56818182
B19: LOS VILOS | C19: ='Meta 01'!$C$93 -> 1 | D19: ='Meta 02'!$C$92 -> 0 | E19: ='Meta 3A'!$C$93 -> 1.0451717 | F19: ='Meta 3B'!$C$93 -> 1.0149573 | G19: ='Meta 4A'!$C$92 -> 1.1060835 | H19: ='Meta 4B'!$F$92 -> 1.2588748 | I19: ='Meta 05'!$F$93 -> 2.7149321 | J19: ='Meta 06'!$C$92 -> 1.2132353
B20: SALAMANCA | C20: ='Meta 01'!$C$104 -> 0.69444444 | D20: ='Meta 02'!$C$103 -> 1.0362675 | E20: ='Meta 3A'!$C$104 -> 0.93733796 | F20: ='Meta 3B'!$C$104 -> 0.87390762 | G20: ='Meta 4A'!$C$103 -> 1.4589695 | H20: ='Meta 4B'!$F$103 -> 0.97954975 | I20: ='Meta 05'!$F$104 -> 2.5307367 | J20: ='Meta 06'!$C$103 -> 1.2720157
B21: OVALLE | C21: ='Meta 01'!$C$123 -> 0.80049261 | D21: ='Meta 02'!$C$122 -> 0.33316915 | E21: ='Meta 3A'!$C$123 -> 0.97253333 | F21: ='Meta 3B'!$C$123 -> 1.0787963 | G21: ='Meta 4A'!$C$122 -> 1.1370324 | H21: ='Meta 4B'!$F$122 -> 1.0006037 | I21: ='Meta 05'!$F$123 -> 2.0664687 | J21: ='Meta 06'!$C$122 -> 1.0022211 | K21: ='Meta 07'!E15 -> 0
B22: COMBARBALÁ | C22: ='Meta 01'!$C$136 -> 0.63492063 | D22: ='Meta 02'!$C$135 -> 0 | E22: ='Meta 3A'!$C$136 -> 1.1807448 | F22: ='Meta 3B'!$C$136 -> 0.93582888 | G22: ='Meta 4A'!$C$135 -> 1.0525817 | H22: ='Meta 4B'!$F$135 -> 0.90410959 | I22: ='Meta 05'!$F$136 -> 2.251761 | J22: ='Meta 06'!$C$135 -> 1.0233918
B23: MONTE PATRIA | C23: ='Meta 01'!$C$150 -> 0.83333333 | D23: ='Meta 02'!$C$149 -> 1.412081 | E23: ='Meta 3A'!$C$150 -> 0.83514789 | F23: ='Meta 3B'!$C$150 -> 0.57004593 | G23: ='Meta 4A'!$C$149 -> 1.2202563 | H23: ='Meta 4B'!$F$149 -> 0.79880044 | I23: ='Meta 05'!$F$150 -> 2.44458 | J23: ='Meta 06'!$C$149 -> 0.94007051
B24: PUNITAQUI | C24: ='Meta 01'!$C$155 -> 0.88888889 | D24: ='Meta 02'!$C$154 -> 0 | E24: ='Meta 3A'!$C$155 -> 0.96331308 | F24: ='Meta 3B'!$C$155 -> 0.93245968 | G24: ='Meta 4A'!$C$154 -> 1.2501209 | H24: ='Meta 4B'!$F$154 -> 0.63175456 | I24: ='Meta 05'!$F$155 -> 2.0930457 | J24: ='Meta 06'!$C$154 -> 1.0918114
B25: RIO HURTADO | C25: ='Meta 01'!$C$163 -> 0.55555556 | D25: ='Meta 02'!$C$162 -> 0 | E25: ='Meta 3A'!$C$163 -> 1.3962766 | F25: ='Meta 3B'!$C$163 -> 1.1074197 | G25: ='Meta 4A'!$C$162 -> 1.4913726 | H25: ='Meta 4B'!$F$162 -> 1.0835815 | I25: ='Meta 05'!$F$163 -> 2.0303664 | J25: ='Meta 06'!$C$162 -> 2.1126761

Sheet Meta 01
A1: COMUNA | B1: ESTABLECIMIENTO | C1: CUMPLIMIENTO | D1: Indicador | E1: META 1: RECUPERACIÓN DEL DESARROLLO PSICOMOTOR
E2: NUMERADOR | R2: DENOMINADOR
E10: Nº de Niños y Niñas de 12-23 meses diagnosticados en control de salud de los 18 meses con riesgo del desarrollo psicomotor recuperados | R10: Nº de Niños y Niñas de 12-23 meses diagnosticados en control de salud de los 18 meses con riesgo del desarrollo psicomotor en su primera evaluación(OCT_NOV_DIC 2022/ENERO _SEPT 2023)* CÁLCULO A AGOSTO
D11: Resultado | E11: ENERO | F11: FEBRERO | G11: MARZO | H11: ABRIL | I11: MAYO | J11: JUNIO | K11: JULIO | L11: AGOSTO | M11: SEPBRE | N11: OCTUBRE | O11: NOVBRE | P11: DICBRE | Q11: TOTAL | R11: TOTAL
A12: 04101-LA SERENA | B12: 105300-Centro de Salud Familiar Cardenal Caro | F12: 1 | H12: 1 | I12: 2 | K12: 1 | L12: 0 | M12: 1 | N12: 1 | Q12: =SUM(E12:P12) -> 7 | R12: 27
A13: 04101-LA SERENA | B13: 105301-Centro de Salud Familiar Las Compañías | E13: 3 | G13: 3 | H13: 2 | I13: 0 | K13: 4 | L13: 1 | M13: 3 | Q13: =SUM(E13:P13) -> 16 | R13: 15
A14: 04101-LA SERENA | B14: 105302-Centro de Salud Familiar Pedro Aguirre Cerda | I14: 1 | J14: 1 | K14: 2 | L14: 5 | N14: 4 | Q14: =SUM(E14:P14) -> 13 | R14: 20
A15: 04101-LA SERENA | B15: 105313-Centro de Salud Familiar Dr. Emilio Schaffhauser | E15: 0 | G15: 1 | I15: 2 | J15: 0 | K15: 3 | L15: 5 | N15: 8 | Q15: =SUM(E15:P15) -> 19 | R15: 26
A16: 04101-LA SERENA | B16: 105319-Centro de Salud Familiar Cardenal Raúl Silva Henríquez de La Serena | E16: 3 | H16: 6 | I16: 6 | J16: 6 | K16: 2 | M16: 8 | N16: 0 | Q16: =SUM(E16:P16) -> 31 | R16: 59
A17: 04101-LA SERENA | B17: 105325-Centro de Salud Familiar Juan Pablo II (La Serena) | E17: 0 | F17: 0 | H17: 1 | I17: 2 | J17: 2 | L17: 4 | N17: 4 | Q17: =SUM(E17:P17) -> 13 | R17: 35
A18: 04101-LA SERENA | B18: 105400-Posta de Salud Rural Algarrobito | Q18: =SUM(E18:P18) -> 0
A19: 04101-LA SERENA | B19: 105401-Posta de Salud Rural Las Rojas | Q19: =SUM(E19:P19) -> 0 | R19: 1
A20: 04101-LA SERENA | B20: 105402-Posta de Salud Rural El Romero | L20: 0 | Q20: =SUM(E20:P20) -> 0 | R20: 2
A21: 04101-LA SERENA | B21: 105499-Posta de Salud Rural Lambert | Q21: =SUM(E21:P21) -> 0
A22: 04101-LA SERENA | B22: 105700-Centro Comunitario de Salud Familiar Villa el Indio | Q22: =SUM(E22:P22) -> 0 | R22: 2
A23: 04101-LA SERENA | B23: 105701-Centro Comunitario de Salud Familiar Villa Alemania | H23: 0 | I23: 0 | J23: 3 | M23: 2 | N23: 0 | Q23: =SUM(E23:P23) -> 5 | R23: 9
A24: 04101-LA SERENA | B24: 105702-Centro Comunitario de Salud Familiar Lambert | E24: 0 | F24: 0 | G24: 0 | H24: 0 | I24: 0 | J24: 0 | K24: 0 | L24: 0 | Q24: =SUM(E24:P24) -> 0 | R24: 5
A25: 04101-LA SERENA | B25: 200402-Centro Comunitario de Salud Familiar Arcos de Pinamar | E25: 0 | F25: 0 | G25: 0 | H25: 0 | I25: 0 | J25: 0 | K25: 0 | L25: 0 | Q25: =SUM(E25:P25) -> 0 | R25: 2
A26: TOTAL LA SERENA | C26: =D26/Metas!G5 -> 0.68308703 | D26: =Q26/R26 -> 0.51231527 | E26: =SUM(E12:E25) -> 6 | F26: =SUM(F12:F25) -> 1 | G26: =SUM(G12:G25) -> 4 | H26: =SUM(H12:H25) -> 10 | I26: =SUM(I12:I25) -> 13 | J26: =SUM(J12:J25) -> 12 | K26: =SUM(K12:K25) -> 12 | L26: =SUM(L12:L25) -> 15 | ... R26: =SUM(R12:R25) -> 203
A27: 04102-COQUIMBO | B27: 105303-CES. SAN JUAN | E27: 1 | F27: 3 | G27: 1 | H27: 2 | I27: 2 | K27: 2 | L27: 1 | M27: 1 | N27: 2 | Q27: =SUM(E27:P27) -> 15 | R27: 24
A28: 04102-COQUIMBO | B28: 105304-CES. SANTA CECILIA | E28: 0 | F28: 3 | G28: 1 | H28: 1 | I28: 5 | K28: 1 | L28: 1 | M28: 1 | N28: 3 | Q28: =SUM(E28:P28) -> 16 | R28: 24
A29: 04102-COQUIMBO | B29: 105305-CES. TIERRAS BLANCAS | E29: 4 | F29: 3 | G29: 1 | H29: 2 | I29: 2 | J29: 2 | K29: 5 | L29: 1 | M29: 2 | N29: 1 | Q29: =SUM(E29:P29) -> 23 | R29: 31
A30: 04102-COQUIMBO | B30: 105321-CES. RURAL TONGOY | I30: 0 | L30: 3 | M30: 1 | N30: 3 | Q30: =SUM(E30:P30) -> 7 | R30: 8
A31: 04102-COQUIMBO | B31: 105323-CES. DR. SERGIO AGUILAR | E31: 2 | F31: 3 | G31: 1 | H31: 2 | I31: 2 | J31: 4 | K31: 3 | L31: 0 | M31: 1 | N31: 0 | Q31: =SUM(E31:P31) -> 18 | R31: 21
A32: 04102-COQUIMBO | B32: 105404-P.S.R. EL TANGUE | Q32: =SUM(E32:P32) -> 0
A33: 04102-COQUIMBO | B33: 105405-P.S.R. GUANAQUEROS | Q33: =SUM(E33:P33) -> 0 | R33: 0
A34: 04102-COQUIMBO | B34: 105407-P.S.R. TAMBILLOS | M34: 0 | Q34: =SUM(E34:P34) -> 0 | R34: 2
A35: 04102-COQUIMBO | B35: 200273-CECOF PUNTA MIRA | F35: 1 | Q35: =SUM(E35:P35) -> 1 | R35: 1
A36: 04102-COQUIMBO | B36: 200494-CESFAM EL SAUCE | E36: 3 | G36: 1 | H36: 2 | I36: 2 | J36: 1 | L36: 2 | M36: 2 | N36: 0 | Q36: =SUM(E36:P36) -> 13 | R36: 20
A37: 04102-COQUIMBO | B37: 200499-CESFAM PAN DE AZÚCAR | E37: 0 | F37: 1 | L37: 1 | M37: 1 | N37: 2 | Q37: =SUM(E37:P37) -> 5 | R37: 5
A38: 04102-COQUIMBO | B38: 200607-CESFAM LILA CORTES | E38: 0 | F38: 0 | G38: 0 | H38: 2 | I38: 2 | J38: 0 | K38: 1 | L38: 0 | M38: 3 | N38: 2 | Q38: =SUM(E38:P38) -> 10 | R38: 17
A39: 04102-COQUIMBO | B39: 105803-SAPU San Juan | Q39: =SUM(E39:P39) -> 0 | R39: 0
A40: TOTAL COQUIMBO | C40: =D40/Metas!G6 -> 0.83044983 | D40: =Q40/R40 -> 0.70588235 | E40: =SUM(E27:E38) -> 10 | F40: =SUM(F27:F38) -> 14 | G40: =SUM(G27:G38) -> 5 | H40: =SUM(H27:H38) -> 11 | I40: =SUM(I27:I38) -> 15 | J40: =SUM(J27:J38) -> 7 | K40: =SUM(K27:K38) -> 12 | L40: =SUM(L27:L38) -> 9 | ... Q40: =SUM(Q27:Q38) -> 108 | R40: =SUM(R27:R39) -> 153
A41: 04104-LA HIGUERA | B41: 105314-CES. LA HIGUERA | I41: 0 | N41: 0 | Q41: =SUM(E41:P41) -> 0 | R41: 1
A42: 04104-LA HIGUERA | B42: 105500-P.S.R. CALETA HORNOS | J42: 1 | Q42: =SUM(E42:P42) -> 1 | R42: 4
A43: 04104-LA HIGUERA | B43: 105505-P.S.R. LOS CHOROS | Q43: =SUM(E43:P43) -> 0 | R43: 1
A44: 04104-LA HIGUERA | B44: 105506-P.S.R. EL TRAPICHE | I44: 0 | L44: 1 | Q44: =SUM(E44:P44) -> 1 | R44: 1
A45: TOTAL LA HIGUERA | C45: =D45/Metas!G7 -> 0.31746032 | D45: =Q45/R45 -> 0.28571429 | E45: =SUM(E41:E44) -> 0 | F45: =SUM(F41:F44) -> 0 | G45: =SUM(G41:G44) -> 0 | H45: =SUM(H41:H44) -> 0 | I45: =SUM(I41:I44) -> 0 | J45: =SUM(J41:J44) -> 1 | K45: =SUM(K41:K44) -> 0 | L45: =SUM(L41:L44) -> 1 | ... R45: =SUM(R41:R44) -> 7
A46: 04105-PAIHUANO | B46: 105306-CES. PAIHUANO | E46: 0 | F46: 0 | G46: 0 | H46: 0 | I46: 0 | J46: 0 | K46: 0 | L46: 1 | Q46: =SUM(E46:P46) -> 1 | R46: 1
A47: 04105-PAIHUANO | B47: 105475-P.S.R. HORCON | E47: 0 | F47: 0 | G47: 0 | H47: 0 | I47: 0 | J47: 0 | K47: 0 | L47: 1 | Q47: =SUM(E47:P47) -> 1 | R47: 0
...

Sheet Meta 02
A1: COMUNA | B1: ESTABLECIMIENTO | C1: CUMPLIMIENTO | D1: Indicador | E1: META 2 : DETECCIÓN PRECOZ DEL CÁNCER DE CUELLO UTERINO
E2: NUMERADOR | G2: DENOMINADOR
E10: Nº logrado de mujeres de 25 a 64 años inscritas validadas por FONASA con PAP vigente | G10: Nº de mujeres comprometidas con PAP vigente
D11: Resultado | E11: A JUNIO | F11: A DICBRE
A12: 04101-LA SERENA | B12: 105300-Centro de Salud Familiar Cardenal Caro | E12: 2855 | F12: =IFERROR(VLOOKUP($B12,'[1]Num 2'!$G$3:$J$75,3,FALSE),0) -> 0
A13: 04101-LA SERENA | B13: 105301-Centro de Salud Familiar Las Compañías | E13: 2260 | F13: =IFERROR(VLOOKUP($B13,'[1]Num 2'!$G$3:$J$75,3,FALSE),0) -> 0
A14: 04101-LA SERENA | B14: 105302-Centro de Salud Familiar Pedro Aguirre Cerda | E14: 2757 | F14: =IFERROR(VLOOKUP($B14,'[1]Num 2'!$G$3:$J$75,3,FALSE),0) -> 0
A15: 04101-LA SERENA | B15: 105313-Centro de Salud Familiar Dr. Emilio Schaffhauser | E15: 3010 | F15: =IFERROR(VLOOKUP($B15,'[1]Num 2'!$G$3:$J$75,3,FALSE),0) -> 0
A16: 04101-LA SERENA | B16: 105319-Centro de Salud Familiar Cardenal Raúl Silva Henríquez de La Serena | E16: 2018 | F16: =IFERROR(VLOOKUP($B16,'[1]Num 2'!$G$3:$J$75,3,FALSE),0) -> 0
A17: 04101-LA SERENA | B17: 105325-Centro de Salud Familiar Juan Pablo II (La Serena) | E17: 2470 | F17: =IFERROR(VLOOKUP($B17,'[1]Num 2'!$G$3:$J$75,3,FALSE),0) -> 0
A18: 04101-LA SERENA | B18: 105400-Posta de Salud Rural Algarrobito | E18: 156 | F18: =IFERROR(VLOOKUP($B18,'[1]Num 2'!$G$3:$J$75,3,FALSE),0) -> 0
A19: 04101-LA SERENA | B19: 105401-Posta de Salud Rural Las Rojas | E19: 281 | F19: =IFERROR(VLOOKUP($B19,'[1]Num 2'!$G$3:$J$75,3,FALSE),0) -> 0
A20: 04101-LA SERENA | B20: 105402-Posta de Salud Rural El Romero | E20: 296 | F20: =IFERROR(VLOOKUP($B20,'[1]Num 2'!$G$3:$J$75,3,FALSE),0) -> 0
A21: 04101-LA SERENA | B21: 105499-Posta de Salud Rural Lambert | E21: 117 | F21: =IFERROR(VLOOKUP($B21,'[1]Num 2'!$G$3:$J$75,3,FALSE),0) -> 0
A22: 04101-LA SERENA | B22: 105700-Centro Comunitario de Salud Familiar Villa el Indio | E22: 431 | F22: =IFERROR(VLOOKUP($B22,'[1]Num 2'!$G$3:$J$75,3,FALSE),0) -> 0
A23: 04101-LA SERENA | B23: 105701-Centro Comunitario de Salud Familiar Villa Alemania | E23: 372 | F23: =IFERROR(VLOOKUP($B23,'[1]Num 2'!$G$3:$J$75,3,FALSE),0) -> 0
... A25: 04101-LA SERENA | B25: 200402-Centro Comunitario de Salud Familiar Arcos de Pinamar | E25: 446 | F25: =IFERROR(VLOOKUP($B25,'[1]Num 2'!$G$3:$J$75,3,FALSE),0) -> 0
A26: TOTAL LA SERENA | C26: =D26/Metas!H5 -> 1.4773681 | D26: =E26/H26 -> 0.65447408 | E26: =SUM(E12:E25) -> 17839 | F26: =SUM(F12:F25) -> 0 | H26: 27257
A27: 04102-COQUIMBO | B27: 105303-Centro de Salud Familiar San Juan | E27: 3066 | F27: =IFERROR(VLOOKUP($B27,'[1]Num 2'!$G$3:$J$75,3,FALSE),0) -> 0
A28: 04102-COQUIMBO | B28: 105304-Centro de Salud Familiar Santa Cecilia | E28: 3214 | F28: =IFERROR(VLOOKUP($B28,'[1]Num 2'!$G$3:$J$75,3,FALSE),0) -> 0
A29: 04102-COQUIMBO | B29: 105305-Centro de Salud Familiar Tierras Blancas | E29: 4483 | F29: =IFERROR(VLOOKUP($B29,'[1]Num 2'!$G$3:$J$75,3,FALSE),0) -> 0
A30: 04102-COQUIMBO | B30: 105321-Centro de Salud Familiar Tongoy | E30: 712 | F30: =IFERROR(VLOOKUP($B30,'[1]Num 2'!$G$3:$J$75,3,FALSE),0) -> 0
A31: 04102-COQUIMBO | B31: 105323-Centro de Salud Familiar Dr. Sergio Aguilar Delgado | E31: 4340 | F31: =IFERROR(VLOOKUP($B31,'[1]Num 2'!$G$3:$J$75,3,FALSE),0) -> 0
A32: 04102-COQUIMBO | B32: 105404-P.S.R. EL TANGUE | E32: =IFERROR(VLOOKUP($B32,#REF!,2,FALSE),0) -> 0 | F32: =IFERROR(VLOOKUP($B32,'[1]Num 2'!$G$3:$J$75,3,FALSE),0) -> 0
A33: 04102-COQUIMBO | B33: 105405-Posta de Salud Rural Guanaqueros | E33: 154 | F33: =IFERROR(VLOOKUP($B33,'[1]Num 2'!$G$3:$J$75,3,FALSE),0) -> 0
A34: 04102-COQUIMBO | B34: 105407-P.S.R. TAMBILLOS | E34: =IFERROR(VLOOKUP($B34,#REF!,2,FALSE),0) -> 0 | F34: =IFERROR(VLOOKUP($B34,'[1]Num 2'!$G$3:$J$75,3,FALSE),0) -> 0
A35: 04102-COQUIMBO | B35: 200273-Centro Comunitario de Salud Familiar Punta Mira | E35: 288 | F35: =IFERROR(VLOOKUP($B35,'[1]Num 2'!$G$3:$J$75,3,FALSE),0) -> 0
A36: 04102-COQUIMBO | B36: 200494-Centro de Salud Familiar El Sauce | E36: 2279 | F36: =IFERROR(VLOOKUP($B36,'[1]Num 2'!$G$3:$J$75,3,FALSE),0) -> 0
A37: 04102-COQUIMBO | B37: 200499-Centro de Salud Familiar Rural Pan de Azúcar | E37: 1864 | F37: =IFERROR(VLOOKUP($B37,'[1]Num 2'!$G$3:$J$75,3,FALSE),0) -> 0
A38: 04102-COQUIMBO | B38: 200607-Centro de Salud Familiar Lila Cortés Godoy | E38: 3127 | F38: =IFERROR(VLOOKUP($B38,'[1]Num 2'!$G$3:$J$75,3,FALSE),0) -> 0
A39: TOTAL COQUIMBO | C39: =D39/Metas!H6 -> 1.4196704 | D39: =E39/H39 -> 0.74674665 | E39: =SUM(E27:E38) -> 23527 | F39: =SUM(F27:F38) -> 0 | H39: 31506
A40: 04104-LA HIGUERA | B40: 105314-Centro de Salud Familiar La Higuera | E40: 524 | F40: =IFERROR(VLOOKUP($B40,'[1]Num 2'!$G$3:$J$75,3,FALSE),0) -> 0
A41: 04104-LA HIGUERA | B41: 105500-P.S.R. CALETA HORNOS | E41: =IFERROR(VLOOKUP($B41,#REF!,2,FALSE),0) -> 0 | F41: =IFERROR(VLOOKUP($B41,'[1]Num 2'!$G$3:$J$75,3,FALSE),0) -> 0
A42: 04104-LA HIGUERA | B42: 105505-P.S.R. LOS CHOROS | E42: =IFERROR(VLOOKUP($B42,#REF!,2,FALSE),0) -> 0 | F42: =IFERROR(VLOOKUP($B42,'[1]Num 2'!$G$3:$J$75,3,FALSE),0) -> 0
A43: 04104-LA HIGUERA | B43: 105506-P.S.R. EL TRAPICHE | E43: =IFERROR(VLOOKUP($B43,#REF!,2,FALSE),0) -> 0 | F43: =IFERROR(VLOOKUP($B43,'[1]Num 2'!$G$3:$J$75,3,FALSE),0) -> 0
A44: TOTAL LA HIGUERA | C44: =D44/Metas!H7 -> 1.110819 | D44: =E44/H44 -> 0.86754967 | E44: =SUM(E40:E43) -> 524 | F44: =SUM(F40:F43) -> 0 | H44: 604
A45: 04105-PAIHUANO | B45: 105306-CES. PAIHUANO | E45: =IFERROR(VLOOKUP($B45,#REF!,2,FALSE),0) -> 0 | F45: 0
A46: 04105-PAIHUANO | B46: 105475-P.S.R. HORCON | E46: =IFERROR(VLOOKUP($B46,#REF!,2,FALSE),0) -> 0 | F46: =IFERROR(VLOOKUP($B46,'[1]Num 2'!$G$3:$J$75,3,FALSE),0) -> 0
A47: 04105-PAIHUANO | B47: 105476-P.S.R. MONTE GRANDE | E47: =IFERROR(VLOOKUP($B47,#REF!,2,FALSE),0) -> 0 | F47: =IFERROR(VLOOKUP($B47,'[1]Num 2'!$G$3:$J$75,3,FALSE),0) -> 0
A48: 04105-PAIHUANO | B48: 105477-P.S.R. PISCO ELQUI | E48: =IFERROR(VLOOKUP($B48,#REF!,2,FALSE),0) -> 0 | F48: =IFERROR(VLOOKUP($B48,'[1]Num 2'!$G$3:$J$75,3,FALSE),0) -> 0
...

Sheet Meta 3A
A1: COMUNA | B1: ESTABLECIMIENTO | C1: CUMPLIMIENTO | D1: Indicador | E1: META 3a: CONTROL ODONTOLOGICO EN POBLACION INFANTIL | T1: ** con denominador corregido
E2: NUMERADOR | R2: DENOMINADOR
E10: N° de niños(as) de 0 a 9 años con control odontológico | R10: Total de niños(as) de 0 a 9 años inscritos validados
D11: Resultado | E11: ENERO | F11: FEBRERO | G11: MARZO | H11: ABRIL | I11: MAYO | J11: JUNIO | K11: JULIO | L11: AGOSTO | M11: SEPBRE | N11: OCTUBRE | O11: NOVBRE | P11: DICBRE | Q11: TOTAL
A12: 04101-LA SERENA | B12: 105300-CES. CARDENAL CARO | E12: 164 | F12: 112 | G12: 94 | H12: 116 | I12: 174 | J12: 225 | K12: 122 | L12: 161 | M12: 126 | N12: 157 | Q12: =SUM(E12:P12) -> 1451
A13: 04101-LA SERENA | B13: 105301-CES. LAS COMPAÑIAS | E13: 69 | F13: 179 | G13: 71 | H13: 164 | I13: 297 | J13: 216 | K13: 119 | L13: 59 | M13: 40 | N13: 51 | Q13: =SUM(E13:P13) -> 1265
A14: 04101-LA SERENA | B14: 105302-CES. PEDRO AGUIRRE C. | E14: 151 | F14: 119 | G14: 130 | I14: 250 | J14: 93 | K14: 82 | L14: 133 | M14: 106 | N14: 150 | Q14: =SUM(E14:P14) -> 1214
A15: 04101-LA SERENA | B15: 105313-CES. SCHAFFHAUSER | E15: 109 | F15: 492 | G15: 323 | H15: 156 | I15: 379 | J15: 344 | K15: 309 | L15: 181 | M15: 229 | N15: 261 | Q15: =SUM(E15:P15) -> 2783
A16: 04101-LA SERENA | B16: 105319-CES. CARDENAL R.S.H. | E16: 113 | F16: 106 | G16: 102 | H16: 102 | I16: 293 | J16: 131 | K16: 65 | L16: 64 | M16: 46 | N16: 42 | Q16: =SUM(E16:P16) -> 1064
A17: 04101-LA SERENA | B17: 105325-CESFAM JUAN PABLO II | E17: 192 | F17: 165 | G17: 148 | H17: 139 | I17: 149 | J17: 86 | K17: 107 | L17: 199 | M17: 98 | N17: 74 | Q17: =SUM(E17:P17) -> 1357
A18: 04101-LA SERENA | B18: 105400-P.S.R. ALGARROBITO | F18: 3 | G18: 4 | H18: 3 | I18: 8 | K18: 4 | L18: 15 | M18: 4 | N18: 5 | Q18: =SUM(E18:P18) -> 46
A19: 04101-LA SERENA | B19: 105401-P.S.R. LAS ROJAS | G19: 5 | H19: 2 | I19: 8 | J19: 9 | K19: 4 | L19: 5 | M19: 6 | N19: 5 | Q19: =SUM(E19:P19) -> 44
A20: 04101-LA SERENA | B20: 105402-P.S.R. EL ROMERO | H20: 8 | I20: 5 | J20: 12 | K20: 11 | L20: 13 | M20: 8 | Q20: =SUM(E20:P20) -> 57
A21: 04101-LA SERENA | B21: 105499-P.S.R. LAMBERT | H21: 8 | Q21: =SUM(E21:P21) -> 8
A22: 04101-LA SERENA | B22: 105700-CECOF VILLA EL INDIO | E22: 1 | G22: 19 | I22: 8 | J22: 10 | K22: 5 | L22: 41 | M22: 5 | N22: 10 | Q22: =SUM(E22:P22) -> 99
A23: 04101-LA SERENA | B23: 105701-CECOF VILLA ALEMANIA | E23: 5 | F23: 9 | G23: 17 | H23: 14 | I23: 12 | J23: 13 | K23: 4 | L23: 1 | M23: 18 | N23: 12 | Q23: =SUM(E23:P23) -> 105
A24: 04101-LA SERENA | B24: 105702-CECOF VILLA LAMBERT | E24: 11 | F24: 13 | G24: 8 | H24: 11 | I24: 17 | J24: 7 | K24: 11 | L24: 17 | M24: 2 | N24: 15 | Q24: =SUM(E24:P24) -> 112
A25: 04101-LA SERENA | B25: 200402-CECOF ARCOS DE PINAMAR | E25: 15 | F25: 24 | G25: 11 | H25: 26 | I25: 27 | J25: 33 | K25: 23 | L25: 0 | M25: 15 | N25: 19 | Q25: =SUM(E25:P25) -> 193
A26: TOTAL LA SERENA | C26: =D26/Metas!I5 -> 1.2045216 | D26: =Q26/R26 -> 0.42158255 | E26: =SUM(E12:E25) -> 830 | F26: =SUM(F12:F25) -> 1222 | G26: =SUM(G12:G25) -> 932 | H26: =SUM(H12:H25) -> 749 | I26: =SUM(I12:I25) -> 1627 | J26: =SUM(J12:J25) -> 1179 | K26: =SUM(K12:K25) -> 866 | L26: =SUM(L12:L25) -> 889 | ... Q26: =SUM(Q12:Q25) -> 9798 | R26: 23241
A27: 04102-COQUIMBO | B27: 105303-CES. SAN JUAN | E27: 130 | F27: 135 | G27: 140 | H27: 147 | I27: 155 | J27: 70 | K27: 139 | L27: 140 | M27: 191 | N27: 95 | Q27: =SUM(E27:P27) -> 1342
A28: 04102-COQUIMBO | B28: 105304-CES. SANTA CECILIA | E28: 58 | F28: 134 | G28: 88 | H28: 77 | I28: 153 | J28: 68 | K28: 77 | L28: 47 | M28: 111 | N28: 209 | Q28: =SUM(E28:P28) -> 1022
A29: 04102-COQUIMBO | B29: 105305-CES. TIERRAS BLANCAS | E29: 137 | F29: 246 | G29: 96 | H29: 107 | I29: 131 | J29: 120 | K29: 140 | L29: 153 | M29: 163 | N29: 51 | Q29: =SUM(E29:P29) -> 1344
A30: 04102-COQUIMBO | B30: 105321-CES. RURAL TONGOY | E30: 48 | F30: 48 | G30: 44 | H30: 25 | I30: 48 | J30: 76 | K30: 38 | L30: 83 | M30: 49 | N30: 46 | Q30: =SUM(E30:P30) -> 505
A31: 04102-COQUIMBO | B31: 105323-CES. DR. SERGIO AGUILAR | E31: 147 | F31: 92 | G31: 166 | H31: 185 | I31: 184 | J31: 129 | K31: 150 | L31: 159 | M31: 86 | N31: 122 | Q31: =SUM(E31:P31) -> 1420
A32: 04102-COQUIMBO | B32: 105404-P.S.R. EL TANGUE | E32: 0 | F32: 0 | G32: 0 | H32: 0 | I32: 0 | J32: 0 | K32: 0 | L32: 0 | Q32: =SUM(E32:P32) -> 0
A33: 04102-COQUIMBO | B33: 105405-P.S.R. GUANAQUEROS | E33: 26 | F33: 26 | G33: 15 | H33: 14 | I33: 11 | J33: 14 | K33: 12 | L33: 17 | M33: 13 | N33: 17 | Q33: =SUM(E33:P33) -> 165
A34: 04102-COQUIMBO | B34: 105407-P.S.R. TAMBILLOS | L34: 0 | Q34: =SUM(E34:P34) -> 0
A35: 04102-COQUIMBO | B35: 200273-CECOF PUNTA MIRA | E35: 21 | F35: 7 | G35: 18 | H35: 22 | I35: 22 | J35: 14 | K35: 16 | L35: 20 | M35: 12 | N35: 13 | Q35: =SUM(E35:P35) -> 165
A36: 04102-COQUIMBO | B36: 200494-CESFAM EL SAUCE | E36: 50 | F36: 67 | G36: 71 | H36: 42 | I36: 75 | J36: 73 | K36: 107 | L36: 187 | M36: 90 | N36: 105 | Q36: =SUM(E36:P36) -> 867
A37: 04102-COQUIMBO | B37: 200499-CESFAM PAN DE AZÚCAR | E37: 77 | F37: 91 | G37: 93 | H37: 66 | I37: 92 | J37: 84 | K37: 45 | L37: 67 | M37: 40 | N37: 21 | Q37: =SUM(E37:P37) -> 676
A38: 04102-COQUIMBO | B38: 105803-SAPU San Juan | J38: 70 | Q38: 70
A39: 04102-COQUIMBO | B39: 200607-CESFAM LILA CORTES | E39: 94 | F39: 60 | G39: 70 | I39: 147 | J39: 44 | K39: 120 | L39: 84 | M39: 64 | N39: 70 | Q39: =SUM(E39:P39) -> 753
A40: TOTAL COQUIMBO | C40: =D40/Metas!I6 -> 1.0238576 | D40: =Q40/R40 -> 0.36858875 | E40: =SUM(E27:E39) -> 788 | F40: =SUM(F27:F39) -> 906 | G40: =SUM(G27:G39) -> 801 | H40: =SUM(H27:H39) -> 685 | I40: =SUM(I27:I39) -> 1018 | J40: =SUM(J27:J39) -> 762 | K40: =SUM(K27:K39) -> 844 | L40: =SUM(L27:L39) -> 957 | ... Q40: =SUM(Q27:Q39) -> 8329 | R40: 22597
A41: 04104-LA HIGUERA | B41: 105314-CES. LA HIGUERA | E41: 16 | F41: 9 | G41: 6 | H41: 6 | I41: 48 | J41: 14 | K41: 22 | L41: 4 | M41: 3 | N41: 1 | Q41: =SUM(E41:P41) -> 129
A42: 04104-LA HIGUERA | B42: 105500-P.S.R. CALETA HORNOS | E42: 6 | F42: 6 | G42: 5 | H42: 4 | I42: 38 | J42: 5 | K42: 6 | L42: 2 | M42: 8 | N42: 3 | Q42: =SUM(E42:P42) -> 83
A43: 04104-LA HIGUERA | B43: 105505-P.S.R. LOS CHOROS | E43: 1 | F43: 2 | G43: 0 | H43: 13 | I43: 26 | J43: 7 | K43: 3 | L43: 7 | M43: 2 | N43: 2 | Q43: =SUM(E43:P43) -> 63
A44: 04104-LA HIGUERA | B44: 105506-P.S.R. EL TRAPICHE | E44: 6 | F44: 3 | G44: 0 | H44: 4 | I44: 8 | J44: 4 | K44: 4 | L44: 6 | M44: 4 | N44: 2 | Q44: =SUM(E44:P44) -> 41
A45: TOTAL LA HIGUERA | C45: =D45/Metas!I7 -> 1.05555 | D45: =Q45/R45 -> 0.53833049 | E45: =SUM(E41:E44) -> 29 | F45: =SUM(F41:F44) -> 20 | G45: =SUM(G41:G44) -> 11 | H45: =SUM(H41:H44) -> 27 | I45: =SUM(I41:I44) -> 120 | J45: =SUM(J41:J44) -> 30 | K45: =SUM(K41:K44) -> 35 | L45: =SUM(L41:L44) -> 19 | ... Q45: =SUM(Q41:Q44) -> 316 | R45: 587
A46: 04105-PAIHUANO | B46: 105306-CES. PAIHUANO | E46: 10 | F46: 17 | G46: 39 | H46: 20 | I46: 12 | J46: 15 | K46: 10 | L46: 23 | M46: 8 | N46: 11 | Q46: =SUM(E46:P46) -> 165
A47: 04105-PAIHUANO | B47: 105475-P.S.R. HORCON | E47: 0 | F47: 2 | G47: 16 | H47: 5 | I47: 10 | J47: 1 | K47: 1 | L47: 1 | M47: 1 | N47: 29 | Q47: =SUM(E47:P47) -> 66
...

Sheet Meta 3B
A1: COMUNA | B1: ESTABLECIMIENTO | C1: CUMPLIMIENTO | D1: Indicador | E1: META 3b: NIÑOS Y NIÑAS DE 6 AÑOS LIBRES DE CARIES
E2: NUMERADOR | R2: DENOMINADOR
E10: Nº de niños(as) de 6 años con ceod igual a 0 | R10: Nº total de niños(as) inscritos validados de 6 años
D11: Resultado | E11: ENERO | F11: FEBRERO | G11: MARZO | H11: ABRIL | I11: MAYO | J11: JUNIO | K11: JULIO | L11: AGOSTO | M11: SEPBRE | N11: OCTUBRE | O11: NOVBRE | P11: DICBRE | Q11: TOTAL
A12: 04101-LA SERENA | B12: 105300-CES. CARDENAL CARO | E12: 20 | F12: 10 | G12: 9 | H12: 10 | I12: 42 | J12: 16 | K12: 5 | L12: 26 | M12: 4 | N12: 22 | Q12: =SUM(E12:P12) -> 164
A13: 04101-LA SERENA | B13: 105301-CES. LAS COMPAÑIAS | E13: 1 | F13: 6 | G13: 2 | H13: 33 | I13: 22 | J13: 7 | K13: 1 | L13: 13 | M13: 4 | N13: 2 | Q13: =SUM(E13:P13) -> 91
A14: 04101-LA SERENA | B14: 105302-CES. PEDRO AGUIRRE C. | E14: 4 | F14: 9 | G14: 9 | H14: 9 | I14: 6 | J14: 5 | K14: 3 | L14: 10 | M14: 2 | N14: 5 | Q14: =SUM(E14:P14) -> 62
A15: 04101-LA SERENA | B15: 105313-CES. SCHAFFHAUSER | E15: 16 | F15: 10 | G15: 17 | H15: 34 | I15: 23 | J15: 29 | K15: 26 | L15: 22 | M15: 10 | N15: 14 | Q15: =SUM(E15:P15) -> 201
A16: 04101-LA SERENA | B16: 105319-CES. CARDENAL R.S.H. | E16: 4 | F16: 4 | G16: 4 | H16: 30 | I16: 38 | J16: 38 | K16: 3 | L16: 5 | M16: 3 | N16: 2 | Q16: =SUM(E16:P16) -> 131
A17: 04101-LA SERENA | B17: 105325-CESFAM JUAN PABLO II | E17: 10 | F17: 15 | G17: 19 | H17: 10 | I17: 18 | J17: 19 | K17: 8 | L17: 17 | M17: 9 | N17: 5 | Q17: =SUM(E17:P17) -> 130
A18: 04101-LA SERENA | B18: 105400-P.S.R. ALGARROBITO | E18: 1 | F18: 0 | G18: 0 | H18: 0 | I18: 0 | K18: 1 | L18: 0 | M18: 0 | N18: 0 | Q18: =SUM(E18:P18) -> 2
A19: 04101-LA SERENA | B19: 105401-P.S.R. LAS ROJAS | E19: 0 | F19: 0 | G19: 0 | H19: 0 | I19: 1 | J19: 2 | K19: 0 | L19: 0 | M19: 1 | Q19: =SUM(E19:P19) -> 4
A20: 04101-LA SERENA | B20: 105402-P.S.R. EL ROMERO | E20: 0 | F20: 0 | G20: 0 | H20: 0 | I20: 0 | J20: 2 | K20: 2 | L20: 1 | M20: 1 | N20: 0 | Q20: =SUM(E20:P20) -> 6
A21: 04101-LA SERENA | B21: 105499-P.S.R. LAMBERT | E21: 0 | F21: 0 | G21: 0 | H21: 0 | I21: 0 | J21: 0 | K21: 0 | M21: 0 | Q21: =SUM(E21:P21) -> 0
A22: 04101-LA SERENA | B22: 105700-CECOF VILLA EL INDIO | E22: 0 | F22: 0 | G22: 0 | H22: 0 | I22: 0 | J22: 0 | K22: 0 | L22: 9 | M22: 0 | N22: 0 | Q22: =SUM(E22:P22) -> 9
A23: 04101-LA SERENA | B23: 105701-CECOF VILLA ALEMANIA | E23: 0 | F23: 1 | G23: 0 | H23: 1 | I23: 0 | J23: 1 | K23: 0 | L23: 1 | M23: 0 | N23: 0 | Q23: =SUM(E23:P23) -> 4
A24: 04101-LA SERENA | B24: 105702-CECOF VILLA LAMBERT | E24: 1 | F24: 0 | G24: 0 | H24: 1 | I24: 0 | J24: 2 | K24: 0 | L24: 2 | M24: 0 | N24: 0 | Q24: =SUM(E24:P24) -> 6
A25: 04101-LA SERENA | B25: 200402-CECOF ARCOS DE PINAMAR | E25: 2 | F25: 0 | G25: 0 | H25: 1 | I25: 13 | J25: 5 | K25: 0 | L25: 0 | M25: 0 | N25: 1 | Q25: =SUM(E25:P25) -> 22
A26: TOTAL LA SERENA | C26: =D26/Metas!J5 -> 1.1449961 | D26: =Q26/R26 -> 0.35494881 | E26: =SUM(E12:E25) -> 59 | F26: =SUM(F12:F25) -> 55 | G26: =SUM(G12:G25) -> 60 | H26: =SUM(H12:H25) -> 129 | I26: =SUM(I12:I25) -> 163 | J26: =SUM(J12:J25) -> 126 | K26: =SUM(K12:K25) -> 49 | L26: =SUM(L12:L25) -> 106 | ... Q26: =SUM(Q12:Q25) -> 832 | R26: 2344
A27: 04102-COQUIMBO | B27: 105303-CES. SAN JUAN | E27: 11 | F27: 7 | G27: 10 | H27: 6 | I27: 5 | J27: 5 | K27: 6 | L27: 9 | M27: 8 | N27: 3 | Q27: =SUM(E27:P27) -> 70
A28: 04102-COQUIMBO | B28: 105304-CES. SANTA CECILIA | E28: 2 | F28: 2 | G28: 13 | H28: 4 | I28: 8 | J28: 8 | K28: 6 | L28: 9 | M28: 7 | N28: 14 | Q28: =SUM(E28:P28) -> 73
A29: 04102-COQUIMBO | B29: 105305-CES. TIERRAS BLANCAS | E29: 7 | F29: 18 | G29: 4 | H29: 1 | I29: 6 | J29: 6 | K29: 41 | L29: 1 | M29: 4 | N29: 33 | Q29: =SUM(E29:P29) -> 121
A30: 04102-COQUIMBO | B30: 105321-CES. RURAL TONGOY | E30: 1 | F30: 1 | G30: 0 | H30: 0 | I30: 6 | J30: 0 | K30: 1 | L30: 2 | M30: 3 | N30: 3 | Q30: =SUM(E30:P30) -> 17
A31: 04102-COQUIMBO | B31: 105323-CES. DR. SERGIO AGUILAR | E31: 10 | F31: 3 | G31: 0 | H31: 11 | I31: 20 | J31: 7 | K31: 7 | L31: 8 | M31: 4 | N31: 10 | Q31: =SUM(E31:P31) -> 80
A32: 04102-COQUIMBO | B32: 105404-P.S.R. EL TANGUE | E32: 0 | F32: 0 | G32: 0 | H32: 0 | I32: 0 | J32: 0 | K32: 0 | M32: 0 | Q32: =SUM(E32:P32) -> 0
A33: 04102-COQUIMBO | B33: 105405-P.S.R. GUANAQUEROS | E33: 0 | F33: 0 | G33: 0 | H33: 0 | I33: 0 | J33: 0 | K33: 0 | L33: 1 | M33: 1 | N33: 0 | Q33: =SUM(E33:P33) -> 2
A34: 04102-COQUIMBO | B34: 105407-P.S.R. TAMBILLOS | E34: 0 | F34: 0 | G34: 0 | H34: 0 | I34: 0 | J34: 0 | K34: 0 | M34: 0 | Q34: =SUM(E34:P34) -> 0
A35: 04102-COQUIMBO | B35: 200273-CECOF PUNTA MIRA | E35: 1 | F35: 1 | G35: 0 | H35: 0 | I35: 0 | J35: 0 | K35: 1 | L35: 2 | M35: 0 | N35: 1 | Q35: =SUM(E35:P35) -> 6
A36: 04102-COQUIMBO | B36: 200494-CESFAM EL SAUCE | E36: 2 | F36: 3 | G36: 2 | H36: 2 | I36: 5 | J36: 3 | K36: 14 | L36: 26 | M36: 5 | N36: 1 | Q36: =SUM(E36:P36) -> 63
A37: 04102-COQUIMBO | B37: 200499-CESFAM PAN DE AZÚCAR | E37: 2 | F37: 5 | G37: 10 | H37: 1 | I37: 3 | J37: 7 | K37: 1 | L37: 1 | M37: 4 | N37: 1 | Q37: =SUM(E37:P37) -> 35
A38: 04102-COQUIMBO | B38: 200607-CESFAM LILA CORTES | E38: 3 | F38: 0 | G38: 1 | H38: 7 | I38: 7 | J38: 4 | K38: 4 | L38: 0 | M38: 1 | N38: 1 | Q38: =SUM(E38:P38) -> 28
A39: 04102-COQUIMBO | B39: 105803-SAPU San Juan | J39: 5 | M39: 0 | Q39: =SUM(E39:P39) -> 5
A40: TOTAL COQUIMBO | C40: =D40/Metas!J6 -> 0.9459485 | D40: =Q40/R40 -> 0.19864919 | E40: =SUM(E27:E38) -> 39 | F40: =SUM(F27:F38) -> 40 | G40: =SUM(G27:G38) -> 40 | H40: =SUM(H27:H38) -> 32 | I40: =SUM(I27:I38) -> 60 | J40: =SUM(J27:J38) -> 40 | K40: =SUM(K27:K38) -> 81 | L40: =SUM(L27:L38) -> 59 | M40: =SUM(M27:M39) -> 37 | N40: =SUM(N27:N38) -> 67 | O40: =SUM(O27:O38) -> 0 | P40: =SUM(P27:P38) -> 0 | Q40: =SUM(Q27:Q39) -> 500 | R40: 2517
A41: 04104-LA HIGUERA | B41: 105314-CES. LA HIGUERA | E41: 0 | F41: 0 | G41: 0 | H41: 0 | I41: 0 | J41: 1 | K41: 1 | L41: 0 | M41: 0 | N41: 4 | Q41: =SUM(E41:P41) -> 6
A42: 04104-LA HIGUERA | B42: 105500-P.S.R. CALETA HORNOS | E42: 0 | F42: 0 | G42: 0 | H42: 0 | I42: 1 | J42: 1 | K42: 0 | L42: 0 | M42: 0 | N42: 1 | Q42: =SUM(E42:P42) -> 3
A43: 04104-LA HIGUERA | B43: 105505-P.S.R. LOS CHOROS | F43: 0 | G43: 0 | H43: 0 | I43: 0 | J43: 2 | K43: 0 | L43: 2 | M43: 0 | N43: 0 | Q43: =SUM(E43:P43) -> 4
A44: 04104-LA HIGUERA | B44: 105506-P.S.R. EL TRAPICHE | E44: 0 | H44: 0 | I44: 0 | J44: 0 | K44: 1 | L44: 0 | M44: 1 | N44: 1 | Q44: =SUM(E44:P44) -> 3
A45: TOTAL LA HIGUERA | C45: =D45/Metas!J7 -> 0.82051282 | D45: =Q45/R45 -> 0.24615385 | E45: =SUM(E41:E44) -> 0 | F45: =SUM(F41:F44) -> 0 | G45: =SUM(G41:G44) -> 0 | H45: =SUM(H41:H44) -> 0 | I45: =SUM(I41:I44) -> 1 | J45: =SUM(J41:J44) -> 4 | K45: =SUM(K41:K44) -> 2 | L45: =SUM(L41:L44) -> 2 | ... Q45: =SUM(Q41:Q44) -> 16 | R45: 65
A46: 04105-PAIHUANO | B46: 105306-CES. PAIHUANO | E46: 1 | F46: 0 | G46: 6 | H46: 0 | I46: 3 | J46: 5 | K46: 1 | L46: 0 | M46: 0 | N46: 1 | Q46: =SUM(E46:P46) -> 17
A47: 04105-PAIHUANO | B47: 105475-P.S.R. HORCON | E47: 0 | F47: 0 | G47: 2 | H47: 0 | I47: 4 | J47: 0 | K47: 0 | L47: 0 | M47: 0 | N47: 5 | Q47: =SUM(E47:P47) -> 11
...

Sheet Meta 4A
A1: COMUNA | B1: ESTABLECIMIENTO | C1: CUMPLIMIENTO | D1: Indicador | E1: META 4a: COBERTURA EFECTIVA DE DIABETES TIPO 2 (DM2) EN PERSONAS DE 15 Y MÁS AÑOS
E2: NUMERADOR | K2: DENOMINADOR
E10: Nº de personas bajo control por Diabetes Mellitus | G10: Nº de personas con DM 2 de 15 a 79 años con Hb A1c bajo 7% | I10: Nº de personas con DM 2 de 80 y más años con Hb A1c bajo 8% | K10: Nº total de personas egún prevalencia
D11: Resultado | E11: A JUNIO | F11: A DICBRE | G11: A JUNIO | H11: A DICBRE | I11: A JUNIO | J11: A DICBRE
A12: 04101-LA SERENA | B12: 105300-CES. CARDENAL CARO | E12: =G12+I12 -> 967 | F12: =H12+J12 -> 1134 | G12: 706 | H12: 927 | I12: 261 | J12: 207
A13: 04101-LA SERENA | B13: 105301-CES. LAS COMPAÑIAS | E13: =G13+I13 -> 484 | F13: =H13+J13 -> 794 | G13: 337 | H13: 626 | I13: 147 | J13: 168
A14: 04101-LA SERENA | B14: 105302-CES. PEDRO AGUIRRE C. | E14: =G14+I14 -> 725 | F14: =H14+J14 -> 884 | G14: 579 | H14: 720 | I14: 146 | J14: 164
A15: 04101-LA SERENA | B15: 105313-CES. SCHAFFHAUSER | E15: =G15+I15 -> 561 | F15: =H15+J15 -> 699 | G15: 448 | H15: 601 | I15: 113 | J15: 98
A16: 04101-LA SERENA | B16: 105319-CES. CARDENAL R.S.H. | E16: =G16+I16 -> 386 | F16: =H16+J16 -> 339 | G16: 322 | H16: 321 | I16: 64 | J16: 18
A17: 04101-LA SERENA | B17: 105325-CESFAM JUAN PABLO II | E17: =G17+I17 -> 674 | F17: =H17+J17 -> 665 | G17: 635 | H17: 617 | I17: 39 | J17: 48
A18: 04101-LA SERENA | B18: 105400-P.S.R. ALGARROBITO | E18: =G18+I18 -> 37 | F18: =H18+J18 -> 30 | G18: 37 | H18: 25 | I18: 0 | J18: 5
A19: 04101-LA SERENA | B19: 105401-P.S.R. LAS ROJAS | E19: =G19+I19 -> 32 | F19: =H19+J19 -> 22 | G19: 32 | H19: 22 | I19: 0 | J19: 0
A20: 04101-LA SERENA | B20: 105402-P.S.R. EL ROMERO | E20: =G20+I20 -> 55 | F20: =H20+J20 -> 37 | G20: 41 | H20: 32 | I20: 14 | J20: 5
A21: 04101-LA SERENA | B21: 105499-P.S.R. LAMBERT | E21: =G21+I21 -> 29 | F21: =H21+J21 -> 10 | G21: 23 | H21: 8 | I21: 6 | J21: 2
A22: 04101-LA SERENA | B22: 105700-CECOF VILLA EL INDIO | E22: =G22+I22 -> 72 | F22: =H22+J22 -> 72 | G22: 53 | H22: 55 | I22: 19 | J22: 17
A23: 04101-LA SERENA | B23: 105701-CECOF VILLA ALEMANIA | E23: =G23+I23 -> 35 | F23: =H23+J23 -> 45 | G23: 31 | H23: 41 | I23: 4 | J23: 4
... A25: 04101-LA SERENA | B25: 200402-CECOF ARCOS DE PINAMAR | E25: =G25+I25 -> 78 | F25: =H25+J25 -> 79 | G25: 73 | H25: 74 | I25: 5 | J25: 5
A26: TOTAL LA SERENA | C26: =D26/Metas!K5 -> 0.95895841 | D26: =E26/K26 -> 0.1822021 | E26: =SUM(E12:E25) -> 4185 | F26: =SUM(F12:F25) -> 4863 | G26: =SUM(G12:G25) -> 3361 | H26: =SUM(H12:H25) -> 4122 | I26: =SUM(I12:I25) -> 824 | J26: =SUM(J12:J25) -> 741 | K26: 22969
A27: 04102-COQUIMBO | B27: 105303-CES. SAN JUAN | E27: =G27+I27 -> 873 | F27: =H27+J27 -> 218 | G27: 713 | H27: 164 | I27: 160 | J27: 54
A28: 04102-COQUIMBO | B28: 105304-CES. SANTA CECILIA | E28: =G28+I28 -> 517 | F28: =H28+J28 -> 597 | G28: 424 | H28: 491 | I28: 93 | J28: 106
A29: 04102-COQUIMBO | B29: 105305-CES. TIERRAS BLANCAS | E29: =G29+I29 -> 1009 | F29: =H29+J29 -> 943 | G29: 845 | H29: 796 | I29: 164 | J29: 147
A30: 04102-COQUIMBO | B30: 105321-CES. RURAL TONGOY | E30: =G30+I30 -> 279 | F30: =H30+J30 -> 209 | G30: 246 | H30: 179 | I30: 33 | J30: 30
A31: 04102-COQUIMBO | B31: 105323-CES. DR. SERGIO AGUILAR | E31: =G31+I31 -> 1017 | F31: =H31+J31 -> 1353 | G31: 845 | H31: 1115 | I31: 172 | J31: 238
A32: 04102-COQUIMBO | B32: 105404-P.S.R. EL TANGUE | E32: =G32+I32 -> 0 | F32: =H32+J32 -> 0 | G32: 0 | H32: 0 | I32: 0 | J32: 0
A33: 04102-COQUIMBO | B33: 105405-P.S.R. GUANAQUEROS | E33: =G33+I33 -> 120 | F33: =H33+J33 -> 62 | G33: 106 | H33: 54 | I33: 14 | J33: 8
A34: 04102-COQUIMBO | B34: 105407-P.S.R. TAMBILLOS | E34: =G34+I34 -> 23 | F34: =H34+J34 -> 27 | G34: 19 | H34: 20 | I34: 4 | J34: 7
A35: 04102-COQUIMBO | B35: 200273-CECOF PUNTA MIRA | E35: =G35+I35 -> 90 | F35: =H35+J35 -> 15 | G35: 80 | H35: 12 | I35: 10 | J35: 3
A36: 04102-COQUIMBO | B36: 200494-CESFAM EL SAUCE | E36: =G36+I36 -> 565 | F36: =H36+J36 -> 413 | G36: 488 | H36: 388 | I36: 77 | J36: 25
A37: 04102-COQUIMBO | B37: 200607-CESFAM LILA CORTES | E37: =G37+I37 -> 420 | F37: =H37+J37 -> 291 | G37: 380 | H37: 263 | I37: 40 | J37: 28
A38: 04102-COQUIMBO | B38: 200499-CESFAM PAN DE AZÚCAR | E38: =G38+I38 -> 387 | F38: =H38+J38 -> 450 | G38: 366 | H38: 396 | I38: 21 | J38: 54
A39: TOTAL COQUIMBO | C39: =D39/Metas!K6 -> 1.0826402 | D39: =E39/K39 -> 0.23818084 | E39: =SUM(E27:E38) -> 5300 | F39: =SUM(F27:F38) -> 4578 | G39: =SUM(G27:G38) -> 4512 | H39: =SUM(H27:H38) -> 3878 | I39: =SUM(I27:I38) -> 788 | J39: =SUM(J27:J38) -> 700 | K39: 22252
A40: 04104-LA HIGUERA | B40: 105314-CES. LA HIGUERA | E40: =G40+I40 -> 39 | F40: =H40+J40 -> 41 | G40: 38 | H40: 37 | I40: 1 | J40: 4
A41: 04104-LA HIGUERA | B41: 105500-P.S.R. CALETA HORNOS | E41: =G41+I41 -> 29 | F41: =H41+J41 -> 24 | G41: 22 | H41: 23 | I41: 7 | J41: 1
A42: 04104-LA HIGUERA | B42: 105505-P.S.R. LOS CHOROS | E42: =G42+I42 -> 22 | F42: =H42+J42 -> 21 | G42: 18 | H42: 19 | I42: 4 | J42: 2
A43: 04104-LA HIGUERA | B43: 105506-P.S.R. EL TRAPICHE | E43: =G43+I43 -> 10 | F43: =H43+J43 -> 15 | G43: 10 | H43: 13 | I43: 0 | J43: 2
A44: TOTAL LA HIGUERA | C44: =D44/Metas!K7 -> 0.82501444 | D44: =E44/K44 -> 0.14025245 | E44: =SUM(E40:E43) -> 100 | F44: =SUM(F40:F43) -> 101 | G44: =SUM(G40:G43) -> 88 | H44: =SUM(H40:H43) -> 92 | I44: =SUM(I40:I43) -> 12 | J44: =SUM(J40:J43) -> 9 | K44: 713
A45: 04105-PAIHUANO | B45: 105306-CES. PAIHUANO | E45: =G45+I45 -> 97 | F45: =H45+J45 -> 87 | G45: 79 | H45: 73 | I45: 18 | J45: 14
A46: 04105-PAIHUANO | B46: 105475-P.S.R. HORCON | E46: =G46+I46 -> 23 | F46: =H46+J46 -> 26 | G46: 20 | H46: 23 | I46: 3 | J46: 3
A47: 04105-PAIHUANO | B47: 105476-P.S.R. MONTE GRANDE | E47: =G47+I47 -> 7 | F47: =H47+J47 -> 12 | G47: 7 | H47: 11 | I47: 0 | J47: 1
A48: 04105-PAIHUANO | B48: 105477-P.S.R. PISCO ELQUI | E48: =G48+I48 -> 43 | F48: =H48+J48 -> 49 | G48: 31 | H48: 37 | I48: 12 | J48: 12
...

Sheet Meta 4B
D1: COMUNA | E1: ESTABLECIMIENTO | F1: CUMPLIMIENTO | G1: Indicador | H1: META 4b : EVALUACIÓN ANUAL DE LOS PIES EN PERSONAS CON DIABETES BAJO CONTROL DE 15 AÑOS Y MÁS
H2: NUMERADOR | J2: DENOMINADOR
H10: Nº de personas con diabetes bajo control de 15 y más años con una evaluación de pie vigente | J10: Total de personas diabéticas de 15 y más años con DM2 bajo control
G11: Resultado | H11: A JUNIO | I11: A DICBRE | J11: A JUNIO | K11: A DICBRE
A12: 105300 | B12: 2176 | C12: =IF(B12=J12,TRUE) -> TRUE | D12: 04101-LA SERENA | E12: 105300-CES. CARDENAL CARO | H12: 1386 | I12: 1187 | J12: 2176 | K12: 2168
A13: 105301 | B13: 1447 | C13: =IF(B13=J13,TRUE) -> TRUE | D13: 04101-LA SERENA | E13: 105301-CES. LAS COMPAÑIAS | H13: 1616 | I13: 1357 | J13: 1447 | K13: 1542
A14: 105302 | B14: 1673 | C14: =IF(B14=J14,TRUE) -> TRUE | D14: 04101-LA SERENA | E14: 105302-CES. PEDRO AGUIRRE C. | H14: 1034 | I14: 1076 | J14: 1673 | K14: 1997
A15: 105313 | B15: 1934 | C15: =IF(B15=J15,TRUE) -> TRUE | D15: 04101-LA SERENA | E15: 105313-CES. SCHAFFHAUSER | H15: 1107 | I15: 1064 | J15: 1934 | K15: 1835
A16: 105319 | B16: 1340 | C16: =IF(B16=J16,TRUE) -> TRUE | D16: 04101-LA SERENA | E16: 105319-CES. CARDENAL R.S.H. | H16: 1107 | I16: 723 | J16: 1340 | K16: 1347
A17: 105325 | B17: 1176 | C17: =IF(B17=J17,TRUE) -> TRUE | D17: 04101-LA SERENA | E17: 105325-CESFAM JUAN PABLO II | H17: 737 | I17: 653 | J17: 1176 | K17: 997
A18: 105400 | B18: 121 | C18: =IF(B18=J18,TRUE) -> TRUE | D18: 04101-LA SERENA | E18: 105400-P.S.R. ALGARROBITO | H18: 88 | I18: 43 | J18: 121 | K18: 123
A19: 105401 | B19: 122 | C19: =IF(B19=J19,TRUE) -> TRUE | D19: 04101-LA SERENA | E19: 105401-P.S.R. LAS ROJAS | H19: 79 | I19: 35 | J19: 122 | K19: 91
A20: 105402 | B20: 183 | C20: =IF(B20=J20,TRUE) -> TRUE | D20: 04101-LA SERENA | E20: 105402-P.S.R. EL ROMERO | H20: 89 | I20: 52 | J20: 183 | K20: 152
A21: 105499 | B21: 91 | C21: =IF(B21=J21,TRUE) -> TRUE | D21: 04101-LA SERENA | E21: 105499-P.S.R. LAMBERT | H21: 67 | I21: 10 | J21: 91 | K21: 70
A22: 105700 | B22: 205 | C22: =IF(B22=J22,TRUE) -> TRUE | D22: 04101-LA SERENA | E22: 105700-CECOF VILLA EL INDIO | H22: 112 | I22: 95 | J22: 205 | K22: 185
A23: 105701 | B23: 132 | C23: =IF(B23=J23,TRUE) -> TRUE | D23: 04101-LA SERENA | E23: 105701-CECOF VILLA ALEMANIA | H23: 69 | I23: 68 | J23: 132 | K23: 95
... A25: 200402 | B25: 148 | C25: =IF(B25=J25,TRUE) -> TRUE | D25: 04101-LA SERENA | E25: 200402-CECOF ARCOS DE PINAMAR | H25: 106 | I25: 68 | J25: 148 | K25: 137
C26: =IF(B26=J26,TRUE) -> FALSE | D26: TOTAL LA SERENA | F26: =G26/Metas!L5 -> 1.1007778 | G26: =H26/J26 -> 0.70449776 | H26: =SUM(H12:H25) -> 7722 | I26: =SUM(I12:I25) -> 6602 | J26: =SUM(J12:J25) -> 10961 | K26: =SUM(K12:K25) -> 10936
A27: 105303 | B27: 1921 | C27: =IF(B27=J27,TRUE) -> TRUE | D27: 04102-COQUIMBO | E27: 105303-CES. SAN JUAN | H27: 1345 | I27: 1292 | J27: 1921 | K27: 1268
A28: 105304 | B28: 1433 | C28: =IF(B28=J28,TRUE) -> TRUE | D28: 04102-COQUIMBO | E28: 105304-CES. SANTA CECILIA | H28: 1013 | I28: 1142 | J28: 1433 | K28: 1384
A29: 105305 | B29: 1889 | C29: =IF(B29=J29,TRUE) -> TRUE | D29: 04102-COQUIMBO | E29: 105305-CES. TIERRAS BLANCAS | H29: 1416 | I29: 1510 | J29: 1889 | K29: 1898
A30: 105321 | B30: 460 | C30: =IF(B30=J30,TRUE) -> TRUE | D30: 04102-COQUIMBO | E30: 105321-CES. RURAL TONGOY | H30: 240 | I30: 164 | J30: 460 | K30: 424
A31: 105323 | B31: 2347 | C31: =IF(B31=J31,TRUE) -> TRUE | D31: 04102-COQUIMBO | E31: 105323-CES. DR. SERGIO AGUILAR | H31: 1075 | I31: 930 | J31: 2347 | K31: 1780
C32: =IF(B32=J32,TRUE) -> TRUE | D32: 04102-COQUIMBO | E32: 105404-P.S.R. EL TANGUE | H32: 0 | I32: 0 | J32: 0 | K32: 0
A33: 105405 | B33: 185 | C33: =IF(B33=J33,TRUE) -> TRUE | D33: 04102-COQUIMBO | E33: 105405-P.S.R. GUANAQUEROS | H33: 129 | I33: 60 | J33: 185 | K33: 147
A34: 105407 | B34: 46 | C34: =IF(B34=J34,TRUE) -> TRUE | D34: 04102-COQUIMBO | E34: 105407-P.S.R. TAMBILLOS | H34: 10 | I34: 38 | J34: 46 | K34: 45
A35: 200273 | B35: 204 | C35: =IF(B35=J35,TRUE) -> TRUE | D35: 04102-COQUIMBO | E35: 200273-CECOF PUNTA MIRA | H35: 88 | I35: 54 | J35: 204 | K35: 153
A36: 200494 | B36: 1116 | C36: =IF(B36=J36,TRUE) -> TRUE | D36: 04102-COQUIMBO | E36: 200494-CESFAM EL SAUCE | H36: 544 | I36: 524 | J36: 1116 | K36: 883
A37: 200607 | B37: 967 | C37: =IF(B37=J37,TRUE) -> TRUE | D37: 04102-COQUIMBO | E37: 200607-CESFAM LILA CORTES | H37: 668 | I37: 603 | J37: 967 | K37: 894
A38: 200499 | B38: 901 | C38: =IF(B38=J38,TRUE) -> TRUE | D38: 04102-COQUIMBO | E38: 200499-CESFAM PAN DE AZÚCAR | H38: 335 | I38: 458 | J38: 901 | K38: 910
C39: =IF(B39=J39,TRUE) -> FALSE | D39: TOTAL COQUIMBO | F39: =G39/Metas!L6 -> 0.94983441 | G39: =H39/J39 -> 0.59839568 | H39: =SUM(H27:H38) -> 6863 | I39: =SUM(I27:I38) -> 6775 | J39: =SUM(J27:J38) -> 11469 | K39: =SUM(K27:K38) -> 9786
A40: 105314 | B40: 83 | C40: =IF(B40=J40,TRUE) -> TRUE | D40: 04104-LA HIGUERA | E40: 105314-CES. LA HIGUERA | H40: 57 | I40: 69 | J40: 83 | K40: 94
A41: 105500 | B41: 64 | C41: =IF(B41=J41,TRUE) -> TRUE | D41: 04104-LA HIGUERA | E41: 105500-P.S.R. CALETA HORNOS | H41: 42 | I41: 28 | J41: 64 | K41: 51
A42: 105505 | B42: 57 | C42: =IF(B42=J42,TRUE) -> TRUE | D42: 04104-LA HIGUERA | E42: 105505-P.S.R. LOS CHOROS | H42: 29 | I42: 17 | J42: 57 | K42: 43
A43: 105506 | B43: 31 | C43: =IF(B43=J43,TRUE) -> TRUE | D43: 04104-LA HIGUERA | E43: 105506-P.S.R. EL TRAPICHE | H43: 17 | I43: 19 | J43: 31 | K43: 37
C44: =IF(B44=J44,TRUE) -> FALSE | D44: TOTAL LA HIGUERA | F44: =G44/Metas!L7 -> 0.92092728 | G44: =H44/J44 -> 0.61702128 | H44: =SUM(H40:H43) -> 145 | I44: =SUM(I40:I43) -> 133 | J44: =SUM(J40:J43) -> 235 | K44: =SUM(K40:K43) -> 225
A45: 105306 | B45: 199 | C45: =IF(B45=J45,TRUE) -> TRUE | D45: 04105-PAIHUANO | E45: 105306-CES. PAIHUANO | H45: 121 | I45: 142 | J45: 199 | K45: 178
A46: 105475 | B46: 58 | C46: =IF(B46=J46,TRUE) -> TRUE | D46: 04105-PAIHUANO | E46: 105475-P.S.R. HORCON | H46: 52 | I46: 47 | J46: 58 | K46: 59
A47: 105476 | B47: 26 | C47: =IF(B47=J47,TRUE) -> TRUE | D47: 04105-PAIHUANO | E47: 105476-P.S.R. MONTE GRANDE | H47: 23 | I47: 24 | J47: 26 | K47: 25
A48: 105477 | B48: 87 | C48: =IF(B48=J48,TRUE) -> TRUE | D48: 04105-PAIHUANO | E48: 105477-P.S.R. PISCO ELQUI | H48: 67 | I48: 74 | J48: 87 | K48: 87
...

Sheet Meta 05
D1: COMUNA | E1: ESTABLECIMIENTO | F1: CUMPLIMIENTO | G1: Indicador | I1: META 5: COBERTURA EFECTIVA DE HIPERTENSIÓN ARTERIAL (HTA) EN PERSONAS DE 15 AÑOS Y MÁS
I2: NUMERADOR | K2: DENOMINADOR
I10: Personas bajo control por hipertensión | K10: Total de personas hipertensas de 15 y más años estimadas según prevalencia
G11: Resultado a Junio | H11: Resultado a Dic | I11: JUNIO | J11: DICBRE
A13: 105300 | B13: 2681 | C13: =IF(B13=I13,TRUE) -> TRUE | D13: 04101-LA SERENA | E13: 105300-CES. CARDENAL CARO | I13: 2681
A14: 105301 | B14: 1590 | C14: =IF(B14=I14,TRUE) -> TRUE | D14: 04101-LA SERENA | E14: 105301-CES. LAS COMPAÑIAS | I14: 1590
A15: 105302 | B15: 1830 | C15: =IF(B15=I15,TRUE) -> TRUE | D15: 04101-LA SERENA | E15: 105302-CES. PEDRO AGUIRRE C. | I15: 1830
A16: 105313 | B16: 1817 | C16: =IF(B16=I16,TRUE) -> TRUE | D16: 04101-LA SERENA | E16: 105313-CES. SCHAFFHAUSER | I16: 1817
A17: 105319 | B17: 1191 | C17: =IF(B17=I17,TRUE) -> TRUE | D17: 04101-LA SERENA | E17: 105319-CES. CARDENAL R.S.H. | I17: 1191
A18: 105325 | B18: 1558 | C18: =IF(B18=I18,TRUE) -> TRUE | D18: 04101-LA SERENA | E18: 105325-CESFAM JUAN PABLO II | I18: 1558
A19: 105400 | B19: 147 | C19: =IF(B19=I19,TRUE) -> TRUE | D19: 04101-LA SERENA | E19: 105400-P.S.R. ALGARROBITO | I19: 147
A20: 105401 | B20: 158 | C20: =IF(B20=I20,TRUE) -> TRUE | D20: 04101-LA SERENA | E20: 105401-P.S.R. LAS ROJAS | I20: 158
A21: 105402 | B21: 201 | C21: =IF(B21=I21,TRUE) -> TRUE | D21: 04101-LA SERENA | E21: 105402-P.S.R. EL ROMERO | I21: 201
A22: 105499 | B22: 106 | C22: =IF(B22=I22,TRUE) -> TRUE | D22: 04101-LA SERENA | E22: 105499-P.S.R. LAMBERT | I22: 106
A23: 105700 | B23: 259 | C23: =IF(B23=I23,TRUE) -> TRUE | D23: 04101-LA SERENA | E23: 105700-CECOF VILLA EL INDIO | I23: 259
A24: 105701 | B24: 85 | C24: =IF(B24=I24,TRUE) -> TRUE | D24: 04101-LA SERENA | E24: 105701-CECOF VILLA ALEMANIA | I24: 85
... A26: 200402 | B26: 221 | C26: =IF(B26=I26,TRUE) -> TRUE | D26: 04101-LA SERENA | E26: 200402-CECOF ARCOS DE PINAMAR | I26: 221
D27: TOTAL LA SERENA | F27: =G27/Metas!M5 -> 1.6360366 | G27: =I27/K27 -> 0.52353172 | I27: =SUM(I13:I26) -> 12025 | K27: 22969
A28: 105303 | B28: 1820 | C28: =IF(B28=I28,TRUE) -> TRUE | D28: 04102-COQUIMBO | E28: 105303-CES. SAN JUAN | I28: 1820
A29: 105304 | B29: 1282 | C29: =IF(B29=I29,TRUE) -> TRUE | D29: 04102-COQUIMBO | E29: 105304-CES. SANTA CECILIA | I29: 1282
A30: 105305 | B30: 2365 | C30: =IF(B30=I30,TRUE) -> TRUE | D30: 04102-COQUIMBO | E30: 105305-CES. TIERRAS BLANCAS | I30: 2365
A31: 105321 | B31: 571 | C31: =IF(B31=I31,TRUE) -> TRUE | D31: 04102-COQUIMBO | E31: 105321-CES. RURAL TONGOY | I31: 571
A32: 105323 | B32: 2348 | C32: =IF(B32=I32,TRUE) -> TRUE | D32: 04102-COQUIMBO | E32: 105323-CES. DR. SERGIO AGUILAR | I32: 2348
C33: =IF(B33=I33,TRUE) -> TRUE | D33: 04102-COQUIMBO | E33: 105404-P.S.R. EL TANGUE
A34: 105405 | B34: 250 | C34: =IF(B34=I34,TRUE) -> TRUE | D34: 04102-COQUIMBO | E34: 105405-P.S.R. GUANAQUEROS | I34: 250
A35: 105407 | B35: 61 | C35: =IF(B35=I35,TRUE) -> TRUE | D35: 04102-COQUIMBO | E35: 105407-P.S.R. TAMBILLOS | I35: 61
A36: 200273 | B36: 222 | C36: =IF(B36=I36,TRUE) -> TRUE | D36: 04102-COQUIMBO | E36: 200273-CECOF PUNTA MIRA | I36: 222
A37: 200494 | B37: 959 | C37: =IF(B37=I37,TRUE) -> TRUE | D37: 04102-COQUIMBO | E37: 200494-CESFAM EL SAUCE | I37: 959
A38: 200607 | B38: 868 | C38: =IF(B38=I38,TRUE) -> TRUE | D38: 04102-COQUIMBO | E38: 200607-CESFAM LILA CORTES | I38: 868
A39: 200499 | B39: 824 | C39: =IF(B39=I39,TRUE) -> TRUE | D39: 04102-COQUIMBO | E39: 200499-CESFAM PAN DE AZÚCAR | I39: 824
C40: =IF(B40=I40,TRUE) -> FALSE | D40: TOTAL COQUIMBO | F40: =G40/Metas!M6 -> 1.9998202 | G40: =I40/K40 -> 0.51995326 | I40: =SUM(I28:I39) -> 11570 | K40: 22252
A41: 105314 | B41: 77 | C41: =IF(B41=I41,TRUE) -> TRUE | D41: 04104-LA HIGUERA | E41: 105314-CES. LA HIGUERA | I41: 77
A42: 105500 | B42: 101 | C42: =IF(B42=I42,TRUE) -> TRUE | D42: 04104-LA HIGUERA | E42: 105500-P.S.R. CALETA HORNOS | I42: 101
A43: 105505 | B43: 47 | C43: =IF(B43=I43,TRUE) -> TRUE | D43: 04104-LA HIGUERA | E43: 105505-P.S.R. LOS CHOROS | I43: 47
A44: 105506 | B44: 24 | C44: =IF(B44=I44,TRUE) -> TRUE | D44: 04104-LA HIGUERA | E44: 105506-P.S.R. EL TRAPICHE | I44: 24
C45: =IF(B45=I45,TRUE) -> FALSE | D45: TOTAL LA HIGUERA | F45: =G45/Metas!M7 -> 1.4551192 | G45: =I45/K45 -> 0.34922861 | I45: =SUM(I41:I44) -> 249 | K45: 713
A46: 105306 | B46: 198 | C46: =IF(B46=I46,TRUE) -> TRUE | D46: 04105-PAIHUANO | E46: 105306-CES. PAIHUANO | I46: 198
A47: 105475 | B47: 76 | C47: =IF(B47=I47,TRUE) -> TRUE | D47: 04105-PAIHUANO | E47: 105475-P.S.R. HORCON | I47: 76
A48: 105476 | B48: 39 | C48: =IF(B48=I48,TRUE) -> TRUE | D48: 04105-PAIHUANO | E48: 105476-P.S.R. MONTE GRANDE | I48: 39
A49: 105477 | B49: 95 | C49: =IF(B49=I49,TRUE) -> TRUE | D49: 04105-PAIHUANO | E49: 105477-P.S.R. PISCO ELQUI | I49: 95
...

Sheet Meta 06
A1: COMUNA | B1: ESTABLECIMIENTO | C1: CUMPLIMIENTO | D1: Indicador | E1: META 6: LACTANCIA MATERNA EXCLUSIVA (LME) EN MENORES DE 6 MESES DE VIDA
E2: NUMERADOR | R2: DENOMINADOR
E10: Nº de niños y niñas que al control de salud del sexto mes recibieorn LME | R10: Nº de menores con control de salud del sexto mes
D11: Resultado | E11: ENERO | F11: FEBRERO | G11: MARZO | H11: ABRIL | I11: MAYO | J11: JUNIO | K11: JULIO | L11: AGOSTO | M11: SEPBRE | N11: OCTUBRE | O11: NOVBRE | P11: DICBRE | Q11: TOTAL | R11: ENERO | S11: FEBRERO | T11: MARZO | U11: ABRIL | V11: MAYO | W11: JUNIO | X11: JULIO | Y11: AGOSTO | Z11: SEPBRE | AA11: OCTUBRE | AB11: NOVBRE | AC11: DICBRE | AD11: TOTAL
A12: 04101-LA SERENA | B12: 105300-CES. CARDENAL CARO | E12: 2 | F12: 5 | G12: 12 | H12: 10 | I12: 13 | J12: 5 | K12: 26 | L12: 14 | M12: 12 | N12: 6 | Q12: =SUM(E12:P12) -> 105 | R12: 4 | S12: 8 | T12: 33 | U12: 17 | V12: 21 | W12: 8 | X12: 33 | Y12: 27 | Z12: 15 | AA12: 9 | AD12: =SUM(R12:AC12) -> 175
A13: 04101-LA SERENA | B13: 105301-CES. LAS COMPAÑIAS | E13: 5 | F13: 6 | G13: 13 | H13: 8 | I13: 16 | J13: 8 | K13: 11 | L13: 5 | M13: 4 | N13: 0 | Q13: =SUM(E13:P13) -> 76 | R13: 7 | S13: 9 | T13: 17 | U13: 12 | V13: 20 | W13: 11 | X13: 15 | Y13: 7 | Z13: 5 | AA13: 0 | AD13: =SUM(R13:AC13) -> 103
A14: 04101-LA SERENA | B14: 105302-CES. PEDRO AGUIRRE C. | E14: 15 | F14: 13 | G14: 16 | H14: 10 | I14: 13 | J14: 13 | K14: 10 | L14: 20 | M14: 7 | N14: 9 | Q14: =SUM(E14:P14) -> 126 | R14: 22 | S14: 21 | T14: 26 | U14: 17 | V14: 21 | W14: 20 | X14: 16 | Y14: 32 | Z14: 11 | AA14: 18 | AD14: =SUM(R14:AC14) -> 204
A15: 04101-LA SERENA | B15: 105313-CES. SCHAFFHAUSER | E15: 12 | F15: 4 | G15: 19 | H15: 15 | I15: 12 | J15: 10 | K15: 13 | L15: 15 | M15: 23 | N15: 6 | Q15: =SUM(E15:P15) -> 129 | R15: 21 | S15: 6 | T15: 30 | U15: 25 | V15: 18 | W15: 22 | X15: 23 | Y15: 24 | Z15: 30 | AA15: 12 | AD15: =SUM(R15:AC15) -> 211
A16: 04101-LA SERENA | B16: 105319-CES. CARDENAL R.S.H. | E16: 7 | F16: 13 | G16: 3 | H16: 15 | I16: 15 | J16: 4 | K16: 6 | L16: 2 | M16: 4 | N16: 10 | Q16: =SUM(E16:P16) -> 79 | R16: 16 | S16: 15 | T16: 14 | U16: 21 | V16: 19 | W16: 5 | X16: 23 | Y16: 7 | Z16: 17 | AA16: 15 | AD16: =SUM(R16:AC16) -> 152
A17: 04101-LA SERENA | B17: 105325-CESFAM JUAN PABLO II | E17: 2 | F17: 10 | G17: 9 | H17: 7 | I17: 9 | J17: 1 | K17: 13 | L17: 12 | M17: 5 | N17: 10 | Q17: =SUM(E17:P17) -> 78 | R17: 12 | S17: 20 | T17: 12 | U17: 18 | V17: 16 | W17: 10 | X17: 26 | Y17: 23 | Z17: 10 | AA17: 18 | AD17: =SUM(R17:AC17) -> 165
A18: 04101-LA SERENA | B18: 105400-P.S.R. ALGARROBITO | E18: 0 | F18: 1 | G18: 0 | H18: 0 | I18: 0 | J18: 2 | K18: 1 | L18: 0 | M18: 0 | N18: 0 | Q18: =SUM(E18:P18) -> 4 | S18: 2 | U18: 0 | V18: 0 | W18: 2 | X18: 1 | Y18: 0 | Z18: 0 | AA18: 0 | AD18: =SUM(R18:AC18) -> 5
A19: 04101-LA SERENA | B19: 105401-P.S.R. LAS ROJAS | E19: 0 | G19: 0 | H19: 0 | I19: 1 | J19: 2 | K19: 0 | L19: 0 | M19: 0 | N19: 1 | Q19: =SUM(E19:P19) -> 4 | S19: 0 | U19: 0 | V19: 1 | W19: 2 | X19: 1 | Y19: 0 | Z19: 1 | AA19: 1 | AD19: =SUM(R19:AC19) -> 6
A20: 04101-LA SERENA | B20: 105402-P.S.R. EL ROMERO | F20: 1 | H20: 1 | I20: 2 | J20: 0 | K20: 4 | M20: 0 | N20: 1 | Q20: =SUM(E20:P20) -> 9 | S20: 3 | U20: 1 | V20: 4 | W20: 0 | X20: 4 | Y20: 0 | Z20: 0 | AA20: 1 | AD20: =SUM(R20:AC20) -> 13
A21: 04101-LA SERENA | B21: 105499-P.S.R. LAMBERT | E21: 0 | F21: 0 | G21: 1 | H21: 0 | I21: 0 | J21: 0 | L21: 0 | M21: 1 | Q21: =SUM(E21:P21) -> 2 | U21: 2 | V21: 0 | W21: 0 | X21: 0 | Y21: 0 | Z21: 1 | AA21: 0 | AD21: =SUM(R21:AC21) -> 3
A22: 04101-LA SERENA | B22: 105700-CECOF VILLA EL INDIO | E22: 0 | F22: 0 | G22: 1 | H22: 2 | I22: 2 | J22: 2 | K22: 0 | L22: 0 | M22: 0 | N22: 4 | Q22: =SUM(E22:P22) -> 11 | R22: 2 | S22: 0 | T22: 3 | U22: 4 | V22: 2 | W22: 2 | X22: 2 | Y22: 3 | Z22: 0 | AA22: 5 | AD22: =SUM(R22:AC22) -> 23
A23: 04101-LA SERENA | B23: 105701-CECOF VILLA ALEMANIA | E23: 1 | F23: 1 | G23: 2 | H23: 0 | I23: 1 | J23: 1 | K23: 2 | L23: 0 | M23: 2 | N23: 1 | Q23: =SUM(E23:P23) -> 11 | R23: 1 | S23: 1 | T23: 2 | U23: 0 | V23: 1 | W23: 1 | X23: 2 | Y23: 0 | Z23: 2 | AA23: 2 | AD23: =SUM(R23:AC23) -> 12
A24: 04101-LA SERENA | B24: 105702-CECOF VILLA LAMBERT | E24: 0 | F24: 1 | G24: 0 | H24: 2 | I24: 1 | J24: 0 | L24: 1 | M24: 0 | N24: 1 | Q24: =SUM(E24:P24) -> 6 | R24: 0 | S24: 3 | T24: 0 | V24: 2 | W24: 0 | X24: 0 | Y24: 1 | Z24: 1 | AA24: 4 | AD24: =SUM(R24:AC24) -> 11
A25: 04101-LA SERENA | B25: 200402-CECOF ARCOS DE PINAMAR | E25: 1 | F25: 1 | G25: 1 | H25: 0 | I25: 2 | J25: 0 | K25: 0 | M25: 0 | N25: 2 | Q25: =SUM(E25:P25) -> 7 | R25: 1 | S25: 3 | T25: 1 | U25: 0 | V25: 3 | W25: 0 | X25: 1 | Z25: 0 | AA25: 10 | AD25: =SUM(R25:AC25) -> 19
A26: TOTAL LA SERENA | C26: =D26/Metas!N5 -> 0.83873477 | D26: =Q26/AD26 -> 0.58711434 | E26: =SUM(E12:E25) -> 45 | F26: =SUM(F12:F25) -> 56 | G26: =SUM(G12:G25) -> 77 | H26: =SUM(H12:H25) -> 70 | I26: =SUM(I12:I25) -> 87 | J26: =SUM(J12:J25) -> 48 | K26: =SUM(K12:K25) -> 86 | L26: =SUM(L12:L25) -> 69 | ... AD26: =SUM(AD12:AD25) -> 1102
A27: 04102-COQUIMBO | B27: 105303-CES. SAN JUAN | E27: 7 | F27: 6 | G27: 8 | H27: 5 | I27: 10 | J27: 9 | K27: 9 | L27: 16 | M27: 8 | N27: 14 | Q27: =SUM(E27:P27) -> 92 | R27: 20 | S27: 16 | T27: 17 | U27: 18 | V27: 19 | W27: 21 | X27: 66 | Y27: 33 | Z27: 18 | AA27: 25 | AD27: =SUM(R27:AC27) -> 253
A28: 04102-COQUIMBO | B28: 105304-CES. SANTA CECILIA | E28: 9 | F28: 9 | G28: 13 | H28: 10 | I28: 9 | J28: 4 | K28: 11 | L28: 5 | M28: 7 | N28: 9 | Q28: =SUM(E28:P28) -> 86 | R28: 22 | S28: 17 | T28: 27 | U28: 19 | V28: 21 | W28: 10 | X28: 23 | Y28: 16 | Z28: 25 | AA28: 17 | AD28: =SUM(R28:AC28) -> 197
A29: 04102-COQUIMBO | B29: 105305-CES. TIERRAS BLANCAS | E29: 13 | F29: 14 | G29: 15 | H29: 14 | I29: 14 | J29: 12 | K29: 16 | L29: 6 | M29: 11 | N29: 14 | Q29: =SUM(E29:P29) -> 129 | R29: 23 | S29: 19 | T29: 30 | U29: 22 | V29: 23 | W29: 26 | X29: 24 | Y29: 12 | Z29: 21 | AA29: 21 | AD29: =SUM(R29:AC29) -> 221
A30: 04102-COQUIMBO | B30: 105321-CES. RURAL TONGOY | E30: 6 | F30: 6 | G30: 3 | H30: 4 | I30: 4 | J30: 3 | K30: 7 | L30: 8 | M30: 0 | N30: 5 | Q30: =SUM(E30:P30) -> 46 | R30: 12 | S30: 12 | T30: 6 | U30: 7 | V30: 7 | W30: 5 | X30: 10 | Y30: 11 | Z30: 5 | AA30: 9 | AD30: =SUM(R30:AC30) -> 84
A31: 04102-COQUIMBO | B31: 105323-CES. DR. SERGIO AGUILAR | E31: 9 | F31: 10 | G31: 10 | H31: 12 | I31: 10 | J31: 6 | K31: 11 | L31: 9 | M31: 9 | N31: 5 | Q31: =SUM(E31:P31) -> 91 | R31: 25 | S31: 21 | T31: 15 | U31: 18 | V31: 26 | W31: 13 | X31: 20 | Y31: 24 | Z31: 14 | AA31: 16 | AD31: =SUM(R31:AC31) -> 192
A32: 04102-COQUIMBO | B32: 105404-P.S.R. EL TANGUE | Q32: =SUM(E32:P32) -> 0 | AD32: =SUM(R32:AC32) -> 0
A33: 04102-COQUIMBO | B33: 105405-P.S.R. GUANAQUEROS | F33: 1 | H33: 0 | I33: 1 | J33: 0 | K33: 1 | L33: 1 | M33: 0 | N33: 0 | Q33: =SUM(E33:P33) -> 4 | R33: 1 | S33: 2 | U33: 2 | V33: 2 | W33: 2 | X33: 1 | Y33: 3 | Z33: 0 | AA33: 0 | AD33: =SUM(R33:AC33) -> 13
A34: 04102-COQUIMBO | B34: 105407-P.S.R. TAMBILLOS | E34: 0 | H34: 1 | M34: 0 | Q34: =SUM(E34:P34) -> 1 | R34: 0 | S34: 0 | T34: 0 | U34: 2 | AD34: =SUM(R34:AC34) -> 2
A35: 04102-COQUIMBO | B35: 200273-CECOF PUNTA MIRA | E35: 0 | F35: 3 | G35: 2 | H35: 0 | I35: 1 | J35: 3 | L35: 1 | M35: 0 | N35: 1 | Q35: =SUM(E35:P35) -> 11 | S35: 4 | T35: 2 | U35: 1 | V35: 5 | W35: 4 | Y35: 3 | Z35: 1 | AA35: 1 | AD35: =SUM(R35:AC35) -> 21
A36: 04102-COQUIMBO | B36: 200494-CESFAM EL SAUCE | E36: 13 | F36: 14 | G36: 9 | H36: 9 | I36: 14 | J36: 5 | K36: 9 | L36: 9 | M36: 11 | N36: 6 | Q36: =SUM(E36:P36) -> 99 | R36: 18 | S36: 19 | T36: 17 | U36: 15 | V36: 27 | W36: 15 | X36: 15 | Y36: 17 | Z36: 12 | AA36: 9 | AD36: =SUM(R36:AC36) -> 164
A37: 04102-COQUIMBO | B37: 200499-CESFAM PAN DE AZÚCAR | E37: 8 | F37: 7 | G37: 6 | H37: 4 | I37: 9 | J37: 3 | K37: 4 | L37: 6 | M37: 4 | N37: 4 | Q37: =SUM(E37:P37) -> 55 | R37: 17 | S37: 10 | T37: 8 | U37: 7 | V37: 13 | W37: 6 | X37: 14 | Y37: 13 | Z37: 4 | AA37: 9 | AD37: =SUM(R37:AC37) -> 101
A38: 04102-COQUIMBO | B38: 200607-CESFAM LILA CORTES | E38: 16 | G38: 12 | H38: 8 | I38: 12 | J38: 14 | K38: 14 | L38: 13 | M38: 9 | N38: 16 | Q38: =SUM(E38:P38) -> 114 | R38: 29 | T38: 19 | U38: 22 | V38: 25 | W38: 23 | X38: 27 | Y38: 28 | Z38: 19 | AA38: 27 | AD38: =SUM(R38:AC38) -> 219
A39: TOTAL COQUIMBO | C39: =D39/Metas!N6 -> 0.82708475 | D39: =Q39/AD39 -> 0.49625085 | E39: =SUM(E27:E38) -> 81 | F39: =SUM(F27:F38) -> 70 | G39: =SUM(G27:G38) -> 78 | H39: =SUM(H27:H38) -> 67 | I39: =SUM(I27:I38) -> 84 | J39: =SUM(J27:J38) -> 59 | K39: =SUM(K27:K38) -> 82 | L39: =SUM(L27:L38) -> 74 | ... AD39: =SUM(AD27:AD38) -> 1467
A40: 04104-LA HIGUERA | B40: 105314-CES. LA HIGUERA | G40: 0 | H40: 2 | I40: 2 | J40: 0 | K40: 0 | L40: 0 | M40: 0 | N40: 0 | Q40: =SUM(E40:P40) -> 4 | R40: 1 | T40: 0 | U40: 3 | V40: 3 | W40: 0 | X40: 1 | Y40: 1 | Z40: 1 | AA40: 1 | AD40: =SUM(R40:AC40) -> 11
A41: 04104-LA HIGUERA | B41: 105500-P.S.R. CALETA HORNOS | G41: 0 | H41: 0 | I41: 1 | J41: 1 | M41: 0 | N41: 0 | Q41: =SUM(E41:P41) -> 2 | S41: 1 | T41: 1 | U41: 0 | V41: 1 | W41: 1 | X41: 1 | Z41: 0 | AA41: 0 | AD41: =SUM(R41:AC41) -> 5
A42: 04104-LA HIGUERA | B42: 105505-P.S.R. LOS CHOROS | F42: 0 | H42: 1 | I42: 0 | J42: 0 | M42: 0 | N42: 3 | Q42: =SUM(E42:P42) -> 4 | S42: 0 | U42: 1 | V42: 0 | W42: 0 | X42: 1 | Z42: 0 | AA42: 3 | AD42: =SUM(R42:AC42) -> 5
A43: 04104-LA HIGUERA | B43: 105506-P.S.R. EL TRAPICHE | H43: 0 | I43: 0 | J43: 1 | M43: 0 | N43: 0 | Q43: =SUM(E43:P43) -> 1 | U43: 0 | V43: 0 | W43: 1 | X43: 0 | Z43: 0 | AA43: 0 | AD43: =SUM(R43:AC43) -> 1
A44: TOTAL LA HIGUERA | C44: =D44/Metas!N7 -> 0.83333333 | D44: =Q44/AD44 -> 0.5 | E44: =SUM(E40:E43) -> 0 | F44: =SUM(F40:F43) -> 0 | G44: =SUM(G40:G43) -> 0 | H44: =SUM(H40:H43) -> 3 | I44: =SUM(I40:I43) -> 3 | J44: =SUM(J40:J43) -> 2 | K44: =SUM(K40:K43) -> 0 | L44: =SUM(L40:L43) -> 0 | ... AD44: =SUM(AD40:AD43) -> 22
A45: 04105-PAIHUANO | B45: 105306-CES. PAIHUANO | E45: 2 | F45: 1 | G45: 0 | H45: 1 | I45: 2 | J45: 3 | K45: 4 | L45: 0 | M45: 0 | N45: 2 | Q45: =SUM(E45:P45) -> 15 | R45: 2 | S45: 2 | T45: 0 | U45: 2 | V45: 2 | W45: 4 | X45: 4 | Y45: 1 | Z45: 1 | AA45: 2 | AD45: =SUM(R45:AC45) -> 20
A46: 04105-PAIHUANO | B46: 105475-P.S.R. HORCON | E46: 1 | G46: 0 | H46: 1 | J46: 0 | K46: 0 | L46: 1 | M46: 0 | N46: 0 | Q46: =SUM(E46:P46) -> 3 | R46: 2 | T46: 0 | U46: 1 | W46: 0 | X46: 0 | Y46: 1 | Z46: 1 | AA46: 0 | AD46: =SUM(R46:AC46) -> 5
A47: 04105-PAIHUANO | B47: 105476-P.S.R. MONTE GRANDE | H47: 0 | L47: 2 | M47: 0 | N47: 0 | Q47: =SUM(E47:P47) -> 2 | U47: 0 | Y47: 4 | Z47: 0 | AA47: 0 | AD47: =SUM(R47:AC47) -> 4
...

Sheet Meta 07
C1: COMUNA | D1: ESTABLECIMIENTO | E1: CUMPLIMIENTO | F1: Indicador | H1: META 7: COBERTURA DE TRATAMIENTO EN PERSONAS CON ASMA Y EPOC
H2: NUMERADOR | J2: DENOMINADOR
