Workbook

Sheet Resumen
A1: MINISTERIO DE SALUD
A2: SERVICIO DE SALUD COQUIMBO
A3: DEPARTAMENTO DE GESTIÓN, PLANIFICACIÓN Y CONTROL
A4: SUBDEPTO. DE ESTADÍSTICAS Y GESTIÓN DE LA INFORMACIÓN
A5: AÑO 2022
B8: COMUNA | C8: RESUMEN DE CUMPLIMIENTO DE METAS SANITARIAS 2022
C9: META 1 | D9: META 2 | E9: META 3A | F9: META 3B | G9: META 4A | H9: META 4B | I9: META 5 | J9: META 6 | K9: META 7
C10: Recuperación del desarrollo psicomotor | D10: Detección precoz del cáncer de cuello uterino | E10: Control odontológico en población infantil | F10: Niños y niñas de 6 años libres de caries | G10: Cobertura efectiva de diabetes tipo 2 en personas de 15 y más años | H10: Evaluación anual de los pies en personas con diabetes bajo control de 15 años y más | I10: Cobertura efectiva de hipertensión arterial en personas de 15 años y más | J10: Lactancia materna exclusiva en menores de 6 meses de vida | K10: % Altas Odontologicas Nivel Seundario x Ingreso de Tratamiento
B12: LA SERENA | C12: ='Meta 01'!$C$26 -> 0.68308703 | D12: ='Meta 02'!$C$26 -> 1.4773681 | E12: ='Meta 3A'!$C$26 -> 1.2045216 | F12: ='Meta 3B'!$C$26 -> 1.1449961 | G12: ='Meta 4A'!$C$26 -> 0.95895841 | H12: ='Meta 4B'!$F$26 -> 1.1007778 | I12: ='Meta 05'!$F$27 -> 1.6360366 | J12: ='Meta 06'!$C$26 -> 0.83873477 | K12: ='Meta 07'!E13 -> 0
B13: COQUIMBO | C13: ='Meta 01'!$C$40 -> 0.83044983 | D13: ='Meta 02'!$C$39 -> 1.4196704 | E13: ='Meta 3A'!$C$40 -> 1.0238576 | F13: ='Meta 3B'!$C$40 -> 0.9459485 | G13: ='Meta 4A'!$C$39 -> 1.0826402 | H13: ='Meta 4B'!$F$39 -> 0.94983441 | I13: ='Meta 05'!$F$40 -> 1.9998202 | J13: ='Meta 06'!$C$39 -> 0.82708475 | K13: ='Meta 07'!E14 -> 0
B14: LA HIGUERA | C14: ='Meta 01'!$C$45 -> 0.31746032 | D14: ='Meta 02'!$C$44 -> 1.110819 | E14: ='Meta 3A'!$C$45 -> 1.05555 | F14: ='Meta 3B'!$C$45 -> 0.82051282 | G14: ='Meta 4A'!$C$44 -> 0.82501444 | H14: ='Meta 4B'!$F$44 -> 0.92092728 | I14: ='Meta 05'!$F$45 -> 1.4551192 | J14: ='Meta 06'!$C$44 -> 0.83333333
B15: PAIHUANO | C15: ='Meta 01'!$C$50 -> 2.2222222 | D15: ='Meta 02'!$C$49 -> 0 | E15: ='Meta 3A'!$C$50 -> 2.4271168 | F15: ='Meta 3B'!$C$50 -> 1.0323661 | G15: ='Meta 4A'!$C$49 -> 0.87108014 | H15: ='Meta 4B'!$F$49 -> 0.88851351 | I15: ='Meta 05'!$F$50 -> 2.0905923 | J15: ='Meta 06'!$C$49 -> 1.0576415
B16: VICUÑA | C16: ='Meta 01'!$C$61 -> 0.83333333 | D16: ='Meta 02'!$C$60 -> 0 | E16: ='Meta 3A'!$C$61 -> 0.86032213 | F16: ='Meta 3B'!$C$61 -> 1.2452711 | G16: ='Meta 4A'!$C$60 -> 1.1227085 | H16: ='Meta 4B'!$F$60 -> 0.9220467 | I16: ='Meta 05'!$F$61 -> 1.7808035 | J16: ='Meta 06'!$C$60 -> 0.94466937
B17: ILLAPEL | C17: ='Meta 01'!$C$76 -> 1.2698413 | D17: ='Meta 02'!$C$75 -> 1.2159742 | E17: ='Meta 3A'!$C$76 -> 0.75655138 | F17: ='Meta 3B'!$C$76 -> 0.668868 | G17: ='Meta 4A'!$C$75 -> 1.4243821 | H17: ='Meta 4B'!$F$75 -> 0.99678672 | I17: ='Meta 05'!$F$76 -> 2.3903703 | J17: ='Meta 06'!$C$75 -> 1.0021322 | K17: ='Meta 07'!E16 -> 0
B18: CANELA | C18: ='Meta 01'!$C$87 -> 0.625 | D18: ='Meta 02'!$C$86 -> 0 | E18: ='Meta 3A'!$C$87 -> 0.60298718 | F18: ='Meta 3B'!$C$87 -> 0.61764706 | G18: ='Meta 4A'!$C$86 -> 1.1017214 | H18: ='Meta 4B'!$F$86 -> 0.96920181 | I18: ='Meta 05'!$F$87 -> 2.5520645 | J18: ='Meta 06'!$C$86 -> 0.56818182
B19: LOS VILOS | C19: ='Meta 01'!$C$93 -> 1 | D19: ='Meta 02'!$C$92 -> 0 | E19: ='Meta 3A'!$C$93 -> 1.0451717 | F19: ='Meta 3B'!$C$93 -> 1.0149573 | G19: ='Meta 4A'!$C$92 -> 1.1060835 | H19: ='Meta 4B'!$F$92 -> 1.2588748 | I19: ='Meta 05'!$F$93 -> 2.7149321 | J19: ='Meta 06'!$C$92 -> 1.2132353
B20: SALAMANCA | C20: ='Meta 01'!$C$104 -> 0.69444444 | D20: ='Meta 02'!$C$103 -> 1.0362675 | E20: ='Meta 3A'!$C$104 -> 0.93733796 | F20: ='Meta 3B'!$C$104 -> 0.87390762 | G20: ='Meta 4A'!$C$103 -> 1.4589695 | H20: ='Meta 4B'!$F$103 -> 0.97954975 | I20: ='Meta 05'!$F$104 -> 2.5307367 | J20: ='Meta 06'!$C$103 -> 1.2720157
B21: OVALLE | C21: ='Meta 01'!$C$123 -> 0.80049261 | D21: ='Meta 02'!$C$122 -> 0.33316915 | E21: ='Meta 3A'!$C$123 -> 0.97253333 | F21: ='Meta 3B'!$C$123 -> 1.0787963 | G21: ='Meta 4A'!$C$122 -> 1.1370324 | H21: ='Meta 4B'!$F$122 -> 1.0006037 | I21: ='Meta 05'!$F$123 -> 2.0664687 | J21: ='Meta 06'!$C$122 -> 1.0022211 | K21: ='Meta 07'!E15 -> 0
B22: COMBARBALÁ | C22: ='Meta 01'!$C$136 -> 0.63492063 | D22: ='Meta 02'!$C$135 -> 0 | E22: ='Meta 3A'!$C$136 -> 1.1807448 | F22: ='Meta 3B'!$C$136 -> 0.93582888 | G22: ='Meta 4A'!$C$135 -> 1.0525817 | H22: ='Meta 4B'!$F$135 -> 0.90410959 | I22: ='Meta 05'!$F$136 -> 2.251761 | J22: ='Meta 06'!$C$135 -> 1.0233918
B23: MONTE PATRIA | C23: ='Meta 01'!$C$150 -> 0.83333333 | D23: ='Meta 02'!$C$149 -> 1.412081 | E23: ='Meta 3A'!$C$150 -> 0.83514789 | F23: ='Meta 3B'!$C$150 -> 0.57004593 | G23: ='Meta 4A'!$C$149 -> 1.2202563 | H23: ='Meta 4B'!$F$149 -> 0.79880044 | I23: ='Meta 05'!$F$150 -> 2.44458 | J23: ='Meta 06'!$C$149 -> 0.94007051
B24: PUNITAQUI | C24: ='Meta 01'!$C$155 -> 0.88888889 | D24: ='Meta 02'!$C$154 -> 0 | E24: ='Meta 3A'!$C$155 -> 0.96331308 | F24: ='Meta 3B'!$C$155 -> 0.93245968 | G24: ='Meta 4A'!$C$154 -> 1.2501209 | H24: ='Meta 4B'!$F$154 -> 0.63175456 | I24: ='Meta 05'!$F$155 -> 2.0930457 | J24: ='Meta 06'!$C$154 -> 1.0918114
B25: RIO HURTADO | C25: ='Meta 01'!$C$163 -> 0.55555556 | D25: ='Meta 02'!$C$162 -> 0 | E25: ='Meta 3A'!$C$163 -> 1.3962766 | F25: ='Meta 3B'!$C$163 -> 1.1074197 | G25: ='Meta 4A'!$C$162 -> 1.4913726 | H25: ='Meta 4B'!$F$162 -> 1.0835815 | I25: ='Meta 05'!$F$163 -> 2.0303664 | J25: ='Meta 06'!$C$162 -> 2.1126761

Sheet Meta 01
A1: COMUNA | B1: ESTABLECIMIENTO | C1: CUMPLIMIENTO | D1: Indicador | E1: META 1: RECUPERACIÓN DEL DESARROLLO PSICOMOTOR
E2: NUMERADOR | R2: DENOMINADOR
E10: Nº de Niños y Niñas de 12-23 meses diagnosticados en control de salud de los 18 meses con riesgo del desarrollo psicomotor recuperados | R10: Nº de Niños y Niñas de 12-23 meses diagnosticados en control de salud de los 18 meses con riesgo del desarrollo psicomotor en su primera evaluación(OCT_NOV_DIC 2022/ENERO _SEPT 2023)* CÁLCULO A AGOSTO
D11: Resultado | E11: ENERO | F11: FEBRERO | G11: MARZO | H11: ABRIL | I11: MAYO | J11: JUNIO | K11: JULIO | L11: AGOSTO | M11: SEPBRE | N11: OCTUBRE | O11: NOVBRE | P11: DICBRE | Q11: TOTAL | R11: TOTAL
A12: 04101-LA SERENA | B12: 105300-Centro de Salud Familiar Cardenal Caro | F12: 1 | H12: 1 | I12: 2 | K12: 1 | L12: 0 | M12: 1 | N12: 1 | Q12: =SUM(E12:P12) -> 7 | R12: 27
A13: 04101-LA SERENA | B13: 105301-Centro de Salud Familiar Las Compañías | E13: 3 | G13: 3 | H13: 2 | I13: 0 | K13: 4 | L13: 1 | M13: 3 | Q13: =SUM(E13:P13) -> 16 | R13: 15
A14: 04101-LA SERENA | B14: 105302-Centro de Salud Familiar Pedro Aguirre Cerda | I14: 1 | J14: 1 | K14: 2 | L14: 5 | N14: 4 | Q14: =SUM(E14:P14) -> 13 | R14: 20
A15: 04101-LA SERENA | B15: 105313-Centro de Salud Familiar Dr. Emilio Schaffhauser | E15: 0 | G15: 1 | I15: 2 | J15: 0 | K15: 3 | L15: 5 | N15: 8 | Q15: =SUM(E15:P15) -> 19 | R15: 26
A16: 04101-LA SERENA | B16: 105319-Centro de Salud Familiar Cardenal Raúl Silva Henríquez de La Serena | E16: 3 | H16: 6 | I16: 6 | J16: 6 | K16: 2 | M16: 8 | N16: 0 | Q16: =SUM(E16:P16) -> 31 | R16: 59
A17: 04101-LA SERENA | B17: 105325-Centro de Salud Familiar Juan Pablo II (La Serena) | E17: 0 | F17: 0 | H17: 1 | I17: 2 | J17: 2 | L17: 4 | N17: 4 | Q17: =SUM(E17:P17) -> 13 | R17: 35
A18: 04101-LA SERENA | B18: 105400-Posta de Salud Rural Algarrobito | Q18: =SUM(E18:P18) -> 0
A19: 04101-LA SERENA | B19: 105401-Posta de Salud Rural Las Rojas | Q19: =SUM(E19:P19) -> 0 | R19: 1
A20: 04101-LA SERENA | B20: 105402-Posta de Salud Rural El Romero | L20: 0 | Q20: =SUM(E20:P20) -> 0 | R20: 2
A21: 04101-LA SERENA | B21: 105499-Posta de Salud Rural Lambert | Q21: =SUM(E21:P21) -> 0
A22: 04101-LA SERENA | B22: 105700-Centro Comunitario de Salud Familiar Villa el Indio | Q22: =SUM(E22:P22) -> 0 | R22: 2
A23: 04101-LA SERENA | B23: 105701-Centro Comunitario de Salud Familiar Villa Alemania | H23: 0 | I23: 0 | J23: 3 | M23: 2 | N23: 0 | Q23: =SUM(E23:P23) -> 5 | R23: 9
A24: 04101-LA SERENA | B24: 105702-Centro Comunitario de Salud Familiar Lambert | E24: 0 | F24: 0 | G24: 0 | H24: 0 | I24: 0 | J24: 0 | K24: 0 | L24: 0 | Q24: =SUM(E24:P24) -> 0 | R24: 5
A25: 04101-LA SERENA | B25: 200402-Centro Comunitario de Salud Familiar Arcos de Pinamar | E25: 0 | F25: 0 | G25: 0 | H25: 0 | I25: 0 | J25: 0 | K25: 0 | L25: 0 | Q25: =SUM(E25:P25) -> 0 | R25: 2
A26: TOTAL LA SERENA | C26: =D26/Metas!G5 -> 0.68308703 | D26: =Q26/R26 -> 0.51231527 | E26: =SUM(E12:E25) -> 6 | F26: =SUM(F12:F25) -> 1 | G26: =SUM(G12:G25) -> 4 | H26: =SUM(H12:H25) -> 10 | I26: =SUM(I12:I25) -> 13 | J26: =SUM(J12:J25) -> 12 | K26: =SUM(K12:K25) -> 12 | L26: =SUM(L12:L25) -> 15 | ... R26: =SUM(R12:R25) -> 203
A27: 04102-COQUIMBO | B27: 105303-CES. SAN JUAN | E27: 1 | F27: 3 | G27: 1 | H27: 2 | I27: 2 | K27: 2 | L27: 1 | M27: 1 | N27: 2 | Q27: =SUM(E27:P27) -> 15 | R27: 24
A28: 04102-COQUIMBO | B28: 105304-CES. SANTA CECILIA | E28: 0 | F28: 3 | G28: 1 | H28: 1 | I28: 5 | K28: 1 | L28: 1 | M28: 1 | N28: 3 | Q28: =SUM(E28:P28) -> 16 | R28: 24
A29: 04102-COQUIMBO | B29: 105305-CES. TIERRAS BLANCAS | E29: 4 | F29: 3 | G29: 1 | H29: 2 | I29: 2 | J29: 2 | K29: 5 | L29: 1 | M29: 2 | N29: 1 | Q29: =SUM(E29:P29) -> 23 | R29: 31
A30: 04102-COQUIMBO | B30: 105321-CES. RURAL TONGOY | I30: 0 | L30: 3 | M30: 1 | N30: 3 | Q30: =SUM(E30:P30) -> 7 | R30: 8
A31: 04102-COQUIMBO | B31: 105323-CES. DR. SERGIO AGUILAR | E31: 2 | F31: 3 | G31: 1 | H31: 2 | I31: 2 | J31: 4 | K31: 3 | L31: 0 | M31: 1 | N31: 0 | Q31: =SUM(E31:P31) -> 18 | R31: 21
A32: 04102-COQUIMBO | B32: 105404-P.S.R. EL TANGUE | Q32: =SUM(E32:P32) -> 0
A33: 04102-COQUIMBO | B33: 105405-P.S.R. GUANAQUEROS | Q33: =SUM(E33:P33) -> 0 | R33: 0
A34: 04102-COQUIMBO | B34: 105407-P.S.R. TAMBILLOS | M34: 0 | Q34: =SUM(E34:P34) -> 0 | R34: 2
A35: 04102-COQUIMBO | B35: 200273-CECOF PUNTA MIRA | F35: 1 | Q35: =SUM(E35:P35) -> 1 | R35: 1
A36: 04102-COQUIMBO | B36: 200494-CESFAM EL SAUCE | E36: 3 | G36: 1 | H36: 2 | I36: 2 | J36: 1 | L36: 2 | M36: 2 | N36: 0 | Q36: =SUM(E36:P36) -> 13 | R36: 20
A37: 04102-COQUIMBO | B37: 200499-CESFAM PAN DE AZÚCAR | E37: 0 | F37: 1 | L37: 1 | M37: 1 | N37: 2 | Q37: =SUM(E37:P37) -> 5 | R37: 5
A38: 04102-COQUIMBO | B38: 200607-CESFAM LILA CORTES | E38: 0 | F38: 0 | G38: 0 | H38: 2 | I38: 2 | J38: 0 | K38: 1 | L38: 0 | M38: 3 | N38: 2 | Q38: =SUM(E38:P38) -> 10 | R38: 17
A39: 04102-COQUIMBO | B39: 105803-SAPU San Juan | Q39: =SUM(E39:P39) -> 0 | R39: 0
A40: TOTAL COQUIMBO | C40: =D40/Metas!G6 -> 0.83044983 | D40: =Q40/R40 -> 0.70588235 | E40: =SUM(E27:E38) -> 10 | F40: =SUM(F27:F38) -> 14 | G40: =SUM(G27:G38) -> 5 | H40: =SUM(H27:H38) -> 11 | I40: =SUM(I27:I38) -> 15 | J40: =SUM(J27:J38) -> 7 | K40: =SUM(K27:K38) -> 12 | L40: =SUM(L27:L38) -> 9 | ... Q40: =SUM(Q27:Q38) -> 108 | R40: =SUM(R27:R39) -> 153
A41: 04104-LA HIGUERA | B41: 105314-CES. LA HIGUERA | I41: 0 | N41: 0 | Q41: =SUM(E41:P41) -> 0 | R41: 1
A42: 04104-LA HIGUERA | B42: 105500-P.S.R. CALETA HORNOS | J42: 1 | Q42: =SUM(E42:P42) -> 1 | R42: 4
A43: 04104-LA HIGUERA | B43: 105505-P.S.R. LOS CHOROS | Q43: =SUM(E43:P43) -> 0 | R43: 1
A44: 04104-LA HIGUERA | B44: 105506-P.S.R. EL TRAPICHE | I44: 0 | L44: 1 | Q44: =SUM(E44:P44) -> 1 | R44: 1
A45: TOTAL LA HIGUERA | C45: =D45/Metas!G7 -> 0.31746032 | D45: =Q45/R45 -> 0.28571429 | E45: =SUM(E41:E44) -> 0 | F45: =SUM(F41:F44) -> 0 | G45: =SUM(G41:G44) -> 0 | H45: =SUM(H41:H44) -> 0 | I45: =SUM(I41:I44) -> 0 | J45: =SUM(J41:J44) -> 1 | K45: =SUM(K41:K44) -> 0 | L45: =SUM(L41:L44) -> 1 | ... R45: =SUM(R41:R44) -> 7
A46: 04105-PAIHUANO | B46: 105306-CES. PAIHUANO | E46: 0 | F46: 0 | G46: 0 | H46: 0 | I46: 0 | J46: 0 | K46: 0 | L46: 1 | Q46: =SUM(E46:P46) -> 1 | R46: 1
A47: 04105-PAIHUANO | B47: 105475-P.S.R. HORCON | E47: 0 | F47: 0 | G47: 0 | H47: 0 | I47: 0 | J47: 0 | K47: 0 | L47: 1 | Q47: =SUM(E47:P47) -> 1 | R47: 0
A48: 04105-PAIHUANO | B48: 105476-P.S.R. MONTE GRANDE | E48: 0 | F48: 0 | G48: 0 | H48: 0 | I48: 0 | J48: 0 | K48: 0 | L48: 0 | Q48: =SUM(E48:P48) -> 0 | R48: 0
A49: 04105-PAIHUANO | B49: 105477-P.S.R. PISCO ELQUI | E49: 0 | F49: 0 | G49: 0 | H49: 0 | I49: 0 | J49: 0 | K49: 0 | L49: 0 | Q49: =SUM(E49:P49) -> 0
A50: TOTAL PAIHUANO | C50: =D50/Metas!G8 -> 2.2222222 | D50: =Q50/R50 -> 2 | E50: =SUM(E46:E49) -> 0 | F50: =SUM(F46:F49) -> 0 | G50: =SUM(G46:G49) -> 0 | H50: =SUM(H46:H49) -> 0 | I50: =SUM(I46:I49) -> 0 | J50: =SUM(J46:J49) -> 0 | K50: =SUM(K46:K49) -> 0 | L50: =SUM(L46:L49) -> 2 | ... R50: =SUM(R46:R49) -> 1
A51: 04106-VICUÑA | B51: 105467-P.S.R. DIAGUITAS | J51: 1 | M51: 0 | Q51: =SUM(E51:P51) -> 1 | R51: 1
A52: 04106-VICUÑA | B52: 105468-P.S.R. EL MOLLE | H52: 0 | I52: 0 | Q52: =SUM(E52:P52) -> 0 | R52: 0
A53: 04106-VICUÑA | B53: 105469-P.S.R. EL TAMBO | J53: 1 | Q53: =SUM(E53:P53) -> 1 | R53: 1
A54: 04106-VICUÑA | B54: 105470-P.S.R. HUANTA | Q54: =SUM(E54:P54) -> 0
A55: 04106-VICUÑA | B55: 105471-P.S.R. PERALILLO | N55: 0 | Q55: =SUM(E55:P55) -> 0 | R55: 0
A56: 04106-VICUÑA | B56: 105472-P.S.R. RIVADAVIA | I56: 0 | M56: 0 | Q56: =SUM(E56:P56) -> 0 | R56: 0
A57: 04106-VICUÑA | B57: 105473-P.S.R. TALCUNA | I57: 0 | J57: 0 | Q57: =SUM(E57:P57) -> 0 | R57: 1
A58: 04106-VICUÑA | B58: 105474-P.S.R. CHAPILCA | Q58: =SUM(E58:P58) -> 0
A59: 04106-VICUÑA | B59: 105509-P.S.R. GUALLIGUAICA | H59: 0 | J59: 0 | Q59: =SUM(E59:P59) -> 0 | R59: 1
A60: 04106-VICUÑA | B60: 200538-CESFAM SAN ISIDRO CALINGASTA | J60: 2 | M60: 2 | Q60: =SUM(E60:P60) -> 4 | R60: 4
A61: TOTAL VICUÑA | C61: =D61/Metas!G9 -> 0.83333333 | D61: =Q61/R61 -> 0.75 | E61: =SUM(E51:E60) -> 0 | F61: =SUM(F51:F60) -> 0 | G61: =SUM(G51:G60) -> 0 | H61: =SUM(H51:H60) -> 0 | I61: =SUM(I51:I60) -> 0 | J61: =SUM(J51:J60) -> 4 | K61: =SUM(K51:K60) -> 0 | L61: =SUM(L51:L60) -> 0 | ... R61: =SUM(R51:R60) -> 8
A62: 04201-ILLAPEL | B62: 105326-CESFAM SAN RAFAEL | I62: 1 | J62: 0 | K62: 2 | Q62: =SUM(E62:P62) -> 3 | R62: 3
A63: 04201-ILLAPEL | B63: 105443-P.S.R. CARCAMO | Q63: =SUM(E63:P63) -> 0
A64: 04201-ILLAPEL | B64: 105444-P.S.R. HUINTIL | Q64: =SUM(E64:P64) -> 0
A65: 04201-ILLAPEL | B65: 105445-P.S.R. LIMAHUIDA | Q65: =SUM(E65:P65) -> 0
A66: 04201-ILLAPEL | B66: 105446-P.S.R. MATANCILLA | Q66: =SUM(E66:P66) -> 0
A67: 04201-ILLAPEL | B67: 105447-P.S.R. PERALILLO | Q67: =SUM(E67:P67) -> 0
A68: 04201-ILLAPEL | B68: 105448-P.S.R. SANTA VIRGINIA | G68: 1 | Q68: =SUM(E68:P68) -> 1 | R68: 1
A69: 04201-ILLAPEL | B69: 105449-P.S.R. TUNGA NORTE | Q69: =SUM(E69:P69) -> 0
A70: 04201-ILLAPEL | B70: 105485-P.S.R. PLAN DE HORNOS | M70: 0 | Q70: =SUM(E70:P70) -> 0 | R70: 0
A71: 04201-ILLAPEL | B71: 105486-P.S.R. TUNGA SUR | Q71: =SUM(E71:P71) -> 0
A72: 04201-ILLAPEL | B72: 105487-P.S.R. CAÑAS UNO | Q72: =SUM(E72:P72) -> 0 | R72: 0
A73: 04201-ILLAPEL | B73: 105496-P.S.R. PINTACURA SUR | Q73: =SUM(E73:P73) -> 0
A74: 04201-ILLAPEL | B74: 105504-P.S.R. SOCAVON | Q74: =SUM(E74:P74) -> 0
A75: 04201-ILLAPEL | B75: 200366-CESFAM URBANO II | G75: 3 | I75: 1 | Q75: =SUM(E75:P75) -> 4 | R75: 3
A76: TOTAL ILLAPEL | C76: =D76/Metas!G10 -> 1.2698413 | D76: =Q76/R76 -> 1.1428571 | E76: =SUM(E62:E75) -> 0 | F76: =SUM(F62:F75) -> 0 | G76: =SUM(G62:G75) -> 4 | H76: =SUM(H62:H75) -> 0 | I76: =SUM(I62:I75) -> 2 | J76: =SUM(J62:J75) -> 0 | K76: =SUM(K62:K75) -> 2 | L76: =SUM(L62:L75) -> 0 | ... R76: =SUM(R62:R75) -> 7
A77: 04202-CANELA | B77: 105309-CES. RURAL CANELA | E77: 0 | G77: 0 | J77: 1 | K77: 1 | L77: 1 | M77: 2 | Q77: =SUM(E77:P77) -> 5 | R77: 10
A78: 04202-CANELA | B78: 105450-P.S.R. MINCHA NORTE | E78: 0 | F78: 0 | G78: 0 | H78: 0 | I78: 0 | J78: 0 | K78: 0 | L78: 0 | Q78: =SUM(E78:P78) -> 0
A79: 04202-CANELA | B79: 105451-P.S.R. AGUA FRIA | E79: 0 | F79: 0 | G79: 0 | H79: 0 | I79: 0 | J79: 0 | K79: 0 | L79: 0 | Q79: =SUM(E79:P79) -> 0
A80: 04202-CANELA | B80: 105482-P.S.R. CANELA ALTA | E80: 0 | F80: 0 | G80: 0 | H80: 0 | I80: 0 | J80: 0 | K80: 0 | L80: 0 | Q80: =SUM(E80:P80) -> 0
A81: 04202-CANELA | B81: 105483-P.S.R. LOS RULOS | E81: 0 | F81: 0 | G81: 0 | H81: 0 | I81: 0 | J81: 0 | K81: 0 | L81: 0 | Q81: =SUM(E81:P81) -> 0
A82: 04202-CANELA | B82: 105484-P.S.R. HUENTELAUQUEN | E82: 0 | F82: 0 | G82: 0 | H82: 0 | I82: 0 | J82: 0 | K82: 0 | L82: 0 | Q82: =SUM(E82:P82) -> 0 | R82: 0
A83: 04202-CANELA | B83: 105488-P.S.R. ESPIRITU SANTO | E83: 0 | F83: 0 | G83: 0 | H83: 0 | I83: 0 | J83: 0 | K83: 0 | L83: 0 | Q83: =SUM(E83:P83) -> 0
A84: 04202-CANELA | B84: 105493-P.S.R. MINCHA SUR | E84: 0 | F84: 0 | G84: 0 | H84: 0 | I84: 0 | J84: 0 | K84: 0 | L84: 0 | Q84: =SUM(E84:P84) -> 0
A85: 04202-CANELA | B85: 105497-P.S.R. JABONERIA | E85: 0 | F85: 0 | G85: 0 | H85: 0 | I85: 0 | J85: 0 | K85: 0 | L85: 0 | Q85: =SUM(E85:P85) -> 0
A86: 04202-CANELA | B86: 105498-P.S.R. QUEBRADA DE LINARES | E86: 0 | F86: 0 | G86: 0 | H86: 0 | I86: 0 | J86: 0 | K86: 0 | L86: 0 | Q86: =SUM(E86:P86) -> 0
A87: TOTAL CANELA | C87: =D87/Metas!G11 -> 0.625 | D87: =Q87/R87 -> 0.5 | E87: =SUM(E77:E86) -> 0 | F87: =SUM(F77:F86) -> 0 | G87: =SUM(G77:G86) -> 0 | H87: =SUM(H77:H86) -> 0 | I87: =SUM(I77:I86) -> 0 | J87: =SUM(J77:J86) -> 1 | K87: =SUM(K77:K86) -> 1 | L87: =SUM(L77:L86) -> 1 | ... R87: =SUM(R77:R86) -> 10
A88: 04203-LOS VILOS | B88: 105478-P.S.R. CAIMANES | J88: 1 | Q88: =SUM(E88:P88) -> 1 | R88: 0
A89: 04203-LOS VILOS | B89: 105479-P.S.R. GUANGUALI | M89: 1 | Q89: =SUM(E89:P89) -> 1 | R89: 1
A90: 04203-LOS VILOS | B90: 105480-P.S.R. QUILIMARI | F90: 0 | J90: 0 | M90: 1 | Q90: =SUM(E90:P90) -> 1 | R90: 2
A91: 04203-LOS VILOS | B91: 105481-P.S.R. TILAMA | Q91: =SUM(E91:P91) -> 0
A92: 04203-LOS VILOS | B92: 105511-P.S.R. LOS CONDORES | H92: 0 | I92: 1 | K92: 1 | L92: 1 | M92: 0 | Q92: =SUM(E92:P92) -> 3 | R92: 5
A93: TOTAL LOS VILOS | C93: =D93/Metas!G12 -> 1 | D93: =Q93/R93 -> 0.75 | E93: =SUM(E88:E92) -> 0 | F93: =SUM(F88:F92) -> 0 | G93: =SUM(G88:G92) -> 0 | H93: =SUM(H88:H92) -> 0 | I93: =SUM(I88:I92) -> 1 | J93: =SUM(J88:J92) -> 1 | K93: =SUM(K88:K92) -> 1 | L93: =SUM(L88:L92) -> 1 | ... R93: =SUM(R88:R92) -> 8
A94: 04204-SALAMANCA | B94: 105452-P.S.R. CUNCUMEN | J94: 1 | Q94: =SUM(E94:P94) -> 1 | R94: 2
A95: 04204-SALAMANCA | B95: 105453-P.S.R. TRANQUILLA | L95: 0 | M95: 0 | Q95: =SUM(E95:P95) -> 0 | R95: 0
A96: 04204-SALAMANCA | B96: 105454-P.S.R. CUNLAGUA | Q96: =SUM(E96:P96) -> 0
A97: 04204-SALAMANCA | B97: 105455-CESFAM Valle Alto | N97: 0 | Q97: =SUM(E97:P97) -> 0 | R97: 0
A98: 04204-SALAMANCA | B98: 105456-P.S.R. LLIMPO | I98: 0 | Q98: =SUM(E98:P98) -> 0 | R98: 0
A99: 04204-SALAMANCA | B99: 105457-P.S.R. SAN AGUSTIN | Q99: =SUM(E99:P99) -> 0 | R99: 0
A100: 04204-SALAMANCA | B100: 105458-P.S.R. TAHUINCO | F100: 0 | G100: 1 | J100: 0 | Q100: =SUM(E100:P100) -> 1 | R100: 2
A101: 04204-SALAMANCA | B101: 105491-P.S.R. QUELEN BAJO | G101: 2 | I101: 0 | M101: 0 | Q101: =SUM(E101:P101) -> 2 | R101: 3
A102: 04204-SALAMANCA | B102: 105492-P.S.R. CAMISA | Q102: =SUM(E102:P102) -> 0 | R102: 0
A103: 04204-SALAMANCA | B103: 105501-P.S.R. ARBOLEDA GRANDE | J103: 1 | K103: 0 | Q103: =SUM(E103:P103) -> 1 | R103: 1
A104: TOTAL SALAMANCA | C104: =D104/Metas!G13 -> 0.69444444 | D104: =Q104/R104 -> 0.625 | E104: =SUM(E94:E103) -> 0 | F104: =SUM(F94:F103) -> 0 | G104: =SUM(G94:G103) -> 3 | H104: =SUM(H94:H103) -> 0 | I104: =SUM(I94:I103) -> 0 | J104: =SUM(J94:J103) -> 2 | K104: =SUM(K94:K103) -> 0 | L104: =SUM(L94:L103) -> 0 | ... R104: =SUM(R94:R103) -> 8
A105: 04301-OVALLE | B105: 105315-CES. RURAL C. DE TAMAYA | H105: 0 | K105: 0 | N105: 0 | Q105: =SUM(E105:P105) -> 0 | R105: 1
A106: 04301-OVALLE | B106: 105317-CES. JORGE JORDAN D. | G106: 0 | I106: 1 | J106: 2 | K106: 2 | L106: 1 | N106: 1 | Q106: =SUM(E106:P106) -> 7 | R106: 9
A107: 04301-OVALLE | B107: 105322-CES. MARCOS MACUADA | F107: 0 | G107: 1 | H107: 3 | I107: 2 | M107: 3 | N107: 1 | Q107: =SUM(E107:P107) -> 10 | R107: 9
...

Sheet Meta 02
A1: COMUNA | B1: ESTABLECIMIENTO | C1: CUMPLIMIENTO | D1: Indicador | E1: META 2 : DETECCIÓN PRECOZ DEL CÁNCER DE CUELLO UTERINO
E2: NUMERADOR | G2: DENOMINADOR
E10: Nº logrado de mujeres de 25 a 64 años inscritas validadas por FONASA con PAP vigente | G10: Nº de mujeres comprometidas con PAP vigente
D11: Resultado | E11: A JUNIO | F11: A DICBRE
A12: 04101-LA SERENA | B12: 105300-Centro de Salud Familiar Cardenal Caro | E12: 2855 | F12: =IFERROR(VLOOKUP($B12,'[1]Num 2'!$G$3:$J$75,3,FALSE),0) -> 0
A13: 04101-LA SERENA | B13: 105301-Centro de Salud Familiar Las Compañías | E13: 2260 | F13: =IFERROR(VLOOKUP($B13,'[1]Num 2'!$G$3:$J$75,3,FALSE),0) -> 0
A14: 04101-LA SERENA | B14: 105302-Centro de Salud Familiar Pedro Aguirre Cerda | E14: 2757 | F14: =IFERROR(VLOOKUP($B14,'[1]Num 2'!$G$3:$J$75,3,FALSE),0) -> 0
A15: 04101-LA SERENA | B15: 105313-Centro de Salud Familiar Dr. Emilio Schaffhauser | E15: 3010 | F15: =IFERROR(VLOOKUP($B15,'[1]Num 2'!$G$3:$J$75,3,FALSE),0) -> 0
A16: 04101-LA SERENA | B16: 105319-Centro de Salud Familiar Cardenal Raúl Silva Henríquez de La Serena | E16: 2018 | F16: =IFERROR(VLOOKUP($B16,'[1]Num 2'!$G$3:$J$75,3,FALSE),0) -> 0
A17: 04101-LA SERENA | B17: 105325-Centro de Salud Familiar Juan Pablo II (La Serena) | E17: 2470 | F17: =IFERROR(VLOOKUP($B17,'[1]Num 2'!$G$3:$J$75,3,FALSE),0) -> 0
A18: 04101-LA SERENA | B18: 105400-Posta de Salud Rural Algarrobito | E18: 156 | F18: =IFERROR(VLOOKUP($B18,'[1]Num 2'!$G$3:$J$75,3,FALSE),0) -> 0
A19: 04101-LA SERENA | B19: 105401-Posta de Salud Rural Las Rojas | E19: 281 | F19: =IFERROR(VLOOKUP($B19,'[1]Num 2'!$G$3:$J$75,3,FALSE),0) -> 0
A20: 04101-LA SERENA | B20: 105402-Posta de Salud Rural El Romero | E20: 296 | F20: =IFERROR(VLOOKUP($B20,'[1]Num 2'!$G$3:$J$75,3,FALSE),0) -> 0
A21: 04101-LA SERENA | B21: 105499-Posta de Salud Rural Lambert | E21: 117 | F21: =IFERROR(VLOOKUP($B21,'[1]Num 2'!$G$3:$J$75,3,FALSE),0) -> 0
A22: 04101-LA SERENA | B22: 105700-Centro Comunitario de Salud Familiar Villa el Indio | E22: 431 | F22: =IFERROR(VLOOKUP($B22,'[1]Num 2'!$G$3:$J$75,3,FALSE),0) -> 0
A23: 04101-LA SERENA | B23: 105701-Centro Comunitario de Salud Familiar Villa Alemania | E23: 372 | F23: =IFERROR(VLOOKUP($B23,'[1]Num 2'!$G$3:$J$75,3,FALSE),0) -> 0
... A25: 04101-LA SERENA | B25: 200402-Centro Comunitario de Salud Familiar Arcos de Pinamar | E25: 446 | F25: =IFERROR(VLOOKUP($B25,'[1]Num 2'!$G$3:$J$75,3,FALSE),0) -> 0
A26: TOTAL LA SERENA | C26: =D26/Metas!H5 -> 1.4773681 | D26: =E26/H26 -> 0.65447408 | E26: =SUM(E12:E25) -> 17839 | F26: =SUM(F12:F25) -> 0 | H26: 27257
A27: 04102-COQUIMBO | B27: 105303-Centro de Salud Familiar San Juan | E27: 3066 | F27: =IFERROR(VLOOKUP($B27,'[1]Num 2'!$G$3:$J$75,3,FALSE),0) -> 0
A28: 04102-COQUIMBO | B28: 105304-Centro de Salud Familiar Santa Cecilia | E28: 3214 | F28: =IFERROR(VLOOKUP($B28,'[1]Num 2'!$G$3:$J$75,3,FALSE),0) -> 0
A29: 04102-COQUIMBO | B29: 105305-Centro de Salud Familiar Tierras Blancas | E29: 4483 | F29: =IFERROR(VLOOKUP($B29,'[1]Num 2'!$G$3:$J$75,3,FALSE),0) -> 0
A30: 04102-COQUIMBO | B30: 105321-Centro de Salud Familiar Tongoy | E30: 712 | F30: =IFERROR(VLOOKUP($B30,'[1]Num 2'!$G$3:$J$75,3,FALSE),0) -> 0
A31: 04102-COQUIMBO | B31: 105323-Centro de Salud Familiar Dr. Sergio Aguilar Delgado | E31: 4340 | F31: =IFERROR(VLOOKUP($B31,'[1]Num 2'!$G$3:$J$75,3,FALSE),0) -> 0
A32: 04102-COQUIMBO | B32: 105404-P.S.R. EL TANGUE | E32: =IFERROR(VLOOKUP($B32,#REF!,2,FALSE),0) -> 0 | F32: =IFERROR(VLOOKUP($B32,'[1]Num 2'!$G$3:$J$75,3,FALSE),0) -> 0
A33: 04102-COQUIMBO | B33: 105405-Posta de Salud Rural Guanaqueros | E33: 154 | F33: =IFERROR(VLOOKUP($B33,'[1]Num 2'!$G$3:$J$75,3,FALSE),0) -> 0
A34: 04102-COQUIMBO | B34: 105407-P.S.R. TAMBILLOS | E34: =IFERROR(VLOOKUP($B34,#REF!,2,FALSE),0) -> 0 | F34: =IFERROR(VLOOKUP($B34,'[1]Num 2'!$G$3:$J$75,3,FALSE),0) -> 0
A35: 04102-COQUIMBO | B35: 200273-Centro Comunitario de Salud Familiar Punta Mira | E35: 288 | F35: =IFERROR(VLOOKUP($B35,'[1]Num 2'!$G$3:$J$75,3,FALSE),0) -> 0
A36: 04102-COQUIMBO | B36: 200494-Centro de Salud Familiar El Sauce | E36: 2279 | F36: =IFERROR(VLOOKUP($B36,'[1]Num 2'!$G$3:$J$75,3,FALSE),0) -> 0
A37: 04102-COQUIMBO | B37: 200499-Centro de Salud Familiar Rural Pan de Azúcar | E37: 1864 | F37: =IFERROR(VLOOKUP($B37,'[1]Num 2'!$G$3:$J$75,3,FALSE),0) -> 0
A38: 04102-COQUIMBO | B38: 200607-Centro de Salud Familiar Lila Cortés Godoy | E38: 3127 | F38: =IFERROR(VLOOKUP($B38,'[1]Num 2'!$G$3:$J$75,3,FALSE),0) -> 0
A39: TOTAL COQUIMBO | C39: =D39/Metas!H6 -> 1.4196704 | D39: =E39/H39 -> 0.74674665 | E39: =SUM(E27:E38) -> 23527 | F39: =SUM(F27:F38) -> 0 | H39: 31506
A40: 04104-LA HIGUERA | B40: 105314-Centro de Salud Familiar La Higuera | E40: 524 | F40: =IFERROR(VLOOKUP($B40,'[1]Num 2'!$G$3:$J$75,3,FALSE),0) -> 0
A41: 04104-LA HIGUERA | B41: 105500-P.S.R. CALETA HORNOS | E41: =IFERROR(VLOOKUP($B41,#REF!,2,FALSE),0) -> 0 | F41: =IFERROR(VLOOKUP($B41,'[1]Num 2'!$G$3:$J$75,3,FALSE),0) -> 0
A42: 04104-LA HIGUERA | B42: 105505-P.S.R. LOS CHOROS | E42: =IFERROR(VLOOKUP($B42,#REF!,2,FALSE),0) -> 0 | F42: =IFERROR(VLOOKUP($B42,'[1]Num 2'!$G$3:$J$75,3,FALSE),0) -> 0
A43: 04104-LA HIGUERA | B43: 105506-P.S.R. EL TRAPICHE | E43: =IFERROR(VLOOKUP($B43,#REF!,2,FALSE),0) -> 0 | F43: =IFERROR(VLOOKUP($B43,'[1]Num 2'!$G$3:$J$75,3,FALSE),0) -> 0
A44: TOTAL LA HIGUERA | C44: =D44/Metas!H7 -> 1.110819 | D44: =E44/H44 -> 0.86754967 | E44: =SUM(E40:E43) -> 524 | F44: =SUM(F40:F43) -> 0 | H44: 604
A45: 04105-PAIHUANO | B45: 105306-CES. PAIHUANO | E45: =IFERROR(VLOOKUP($B45,#REF!,2,FALSE),0) -> 0 | F45: 0
A46: 04105-PAIHUANO | B46: 105475-P.S.R. HORCON | E46: =IFERROR(VLOOKUP($B46,#REF!,2,FALSE),0) -> 0 | F46: =IFERROR(VLOOKUP($B46,'[1]Num 2'!$G$3:$J$75,3,FALSE),0) -> 0
A47: 04105-PAIHUANO | B47: 105476-P.S.R. MONTE GRANDE | E47: =IFERROR(VLOOKUP($B47,#REF!,2,FALSE),0) -> 0 | F47: =IFERROR(VLOOKUP($B47,'[1]Num 2'!$G$3:$J$75,3,FALSE),0) -> 0
A48: 04105-PAIHUANO | B48: 105477-P.S.R. PISCO ELQUI | E48: =IFERROR(VLOOKUP($B48,#REF!,2,FALSE),0) -> 0 | F48: =IFERROR(VLOOKUP($B48,'[1]Num 2'!$G$3:$J$75,3,FALSE),0) -> 0
A49: TOTAL PAIHUANO | C49: =D49/Metas!H8 -> 0 | D49: =E49/H49 -> 0 | E49: =SUM(E45:E48) -> 0 | F49: =SUM(F45:F48) -> 0 | H49: 856
A50: 04106-VICUÑA | B50: 105467-P.S.R. DIAGUITAS | E50: =IFERROR(VLOOKUP($B50,#REF!,2,FALSE),0) -> 0 | F50: 0
A51: 04106-VICUÑA | B51: 105468-P.S.R. EL MOLLE | E51: =IFERROR(VLOOKUP($B51,#REF!,2,FALSE),0) -> 0 | F51: =IFERROR(VLOOKUP($B51,'[1]Num 2'!$G$3:$J$75,3,FALSE),0) -> 0
A52: 04106-VICUÑA | B52: 105469-P.S.R. EL TAMBO | E52: =IFERROR(VLOOKUP($B52,#REF!,2,FALSE),0) -> 0 | F52: =IFERROR(VLOOKUP($B52,'[1]Num 2'!$G$3:$J$75,3,FALSE),0) -> 0
A53: 04106-VICUÑA | B53: 105470-P.S.R. HUANTA | E53: =IFERROR(VLOOKUP($B53,#REF!,2,FALSE),0) -> 0 | F53: =IFERROR(VLOOKUP($B53,'[1]Num 2'!$G$3:$J$75,3,FALSE),0) -> 0
A54: 04106-VICUÑA | B54: 105471-P.S.R. PERALILLO | E54: =IFERROR(VLOOKUP($B54,#REF!,2,FALSE),0) -> 0 | F54: =IFERROR(VLOOKUP($B54,'[1]Num 2'!$G$3:$J$75,3,FALSE),0) -> 0
A55: 04106-VICUÑA | B55: 105472-P.S.R. RIVADAVIA | E55: =IFERROR(VLOOKUP($B55,#REF!,2,FALSE),0) -> 0 | F55: =IFERROR(VLOOKUP($B55,'[1]Num 2'!$G$3:$J$75,3,FALSE),0) -> 0
A56: 04106-VICUÑA | B56: 105473-P.S.R. TALCUNA | E56: =IFERROR(VLOOKUP($B56,#REF!,2,FALSE),0) -> 0 | F56: =IFERROR(VLOOKUP($B56,'[1]Num 2'!$G$3:$J$75,3,FALSE),0) -> 0
A57: 04106-VICUÑA | B57: 105474-P.S.R. CHAPILCA | E57: =IFERROR(VLOOKUP($B57,#REF!,2,FALSE),0) -> 0 | F57: =IFERROR(VLOOKUP($B57,'[1]Num 2'!$G$3:$J$75,3,FALSE),0) -> 0
A58: 04106-VICUÑA | B58: 105509-P.S.R. GUALLIGUAICA | E58: =IFERROR(VLOOKUP($B58,#REF!,2,FALSE),0) -> 0 | F58: =IFERROR(VLOOKUP($B58,'[1]Num 2'!$G$3:$J$75,3,FALSE),0) -> 0
A59: 04106-VICUÑA | B59: 200538-CESFAM SAN ISIDRO CALINGASTA | E59: =IFERROR(VLOOKUP($B59,#REF!,2,FALSE),0) -> 0 | F59: =IFERROR(VLOOKUP($B59,'[1]Num 2'!$G$3:$J$75,3,FALSE),0) -> 0
A60: TOTAL VICUÑA | C60: =D60/Metas!H9 -> 0 | D60: =E60/H60 -> 0 | E60: =SUM(E50:E59) -> 0 | F60: =SUM(F50:F59) -> 0 | H60: 2946
A61: 04201-ILLAPEL | B61: 105326-CESFAM SAN RAFAEL | E61: 894 | F61: 0
A62: 04201-ILLAPEL | B62: 105443-P.S.R. CARCAMO | E62: 137 | F62: 0
A63: 04201-ILLAPEL | B63: 105444-P.S.R. HUINTIL | E63: 0 | F63: =IFERROR(VLOOKUP($B63,'[1]Num 2'!$G$3:$J$75,3,FALSE),0) -> 0
A64: 04201-ILLAPEL | B64: 105445-P.S.R. LIMAHUIDA | E64: 116 | F64: =IFERROR(VLOOKUP($B64,'[1]Num 2'!$G$3:$J$75,3,FALSE),0) -> 0
A65: 04201-ILLAPEL | B65: 105446-P.S.R. MATANCILLA | E65: =IFERROR(VLOOKUP($B65,#REF!,2,FALSE),0) -> 0 | F65: =IFERROR(VLOOKUP($B65,'[1]Num 2'!$G$3:$J$75,3,FALSE),0) -> 0
A66: 04201-ILLAPEL | B66: 105447-P.S.R. PERALILLO | E66: 112 | F66: =IFERROR(VLOOKUP($B66,'[1]Num 2'!$G$3:$J$75,3,FALSE),0) -> 0
A67: 04201-ILLAPEL | B67: 105448-P.S.R. SANTA VIRGINIA | E67: 100 | F67: =IFERROR(VLOOKUP($B67,'[1]Num 2'!$G$3:$J$75,3,FALSE),0) -> 0
A68: 04201-ILLAPEL | B68: 105449-P.S.R. TUNGA NORTE | E68: 19 | F68: =IFERROR(VLOOKUP($B68,'[1]Num 2'!$G$3:$J$75,3,FALSE),0) -> 0
A69: 04201-ILLAPEL | B69: 105485-P.S.R. PLAN DE HORNOS | E69: 136 | F69: =IFERROR(VLOOKUP($B69,'[1]Num 2'!$G$3:$J$75,3,FALSE),0) -> 0
A70: 04201-ILLAPEL | B70: 105486-P.S.R. TUNGA SUR | E70: 45 | F70: =IFERROR(VLOOKUP($B70,'[1]Num 2'!$G$3:$J$75,3,FALSE),0) -> 0
A71: 04201-ILLAPEL | B71: 105487-P.S.R. CAÑAS UNO | E71: 312 | F71: =IFERROR(VLOOKUP($B71,'[1]Num 2'!$G$3:$J$75,3,FALSE),0) -> 0
A72: 04201-ILLAPEL | B72: 105496-P.S.R. PINTACURA SUR | E72: 42 | F72: =IFERROR(VLOOKUP($B72,'[1]Num 2'!$G$3:$J$75,3,FALSE),0) -> 0
A73: 04201-ILLAPEL | B73: 105504-P.S.R. SOCAVON | E73: 88 | F73: =IFERROR(VLOOKUP($B73,'[1]Num 2'!$G$3:$J$75,3,FALSE),0) -> 0
A74: 04201-ILLAPEL | B74: 200366-CESFAM URBANO II | E74: 1596 | F74: 0
A75: TOTAL ILLAPEL | C75: =D75/Metas!H10 -> 1.2159742 | D75: =E75/H75 -> 0.73080049 | E75: =SUM(E61:E74) -> 3597 | F75: =SUM(F61:F74) -> 0 | H75: 4922
A76: 04202-CANELA | B76: 105309-CES. RURAL CANELA | E76: =IFERROR(VLOOKUP($B76,#REF!,2,FALSE),0) -> 0 | F76: 0
A77: 04202-CANELA | B77: 105450-P.S.R. MINCHA NORTE | E77: =IFERROR(VLOOKUP($B77,#REF!,2,FALSE),0) -> 0 | F77: =IFERROR(VLOOKUP($B77,'[1]Num 2'!$G$3:$J$75,3,FALSE),0) -> 0
A78: 04202-CANELA | B78: 105451-P.S.R. AGUA FRIA | E78: =IFERROR(VLOOKUP($B78,#REF!,2,FALSE),0) -> 0 | F78: =IFERROR(VLOOKUP($B78,'[1]Num 2'!$G$3:$J$75,3,FALSE),0) -> 0
A79: 04202-CANELA | B79: 105482-P.S.R. CANELA ALTA | E79: =IFERROR(VLOOKUP($B79,#REF!,2,FALSE),0) -> 0 | F79: =IFERROR(VLOOKUP($B79,'[1]Num 2'!$G$3:$J$75,3,FALSE),0) -> 0
A80: 04202-CANELA | B80: 105483-P.S.R. LOS RULOS | E80: =IFERROR(VLOOKUP($B80,#REF!,2,FALSE),0) -> 0 | F80: =IFERROR(VLOOKUP($B80,'[1]Num 2'!$G$3:$J$75,3,FALSE),0) -> 0
A81: 04202-CANELA | B81: 105484-P.S.R. HUENTELAUQUEN | E81: =IFERROR(VLOOKUP($B81,#REF!,2,FALSE),0) -> 0 | F81: =IFERROR(VLOOKUP($B81,'[1]Num 2'!$G$3:$J$75,3,FALSE),0) -> 0
A82: 04202-CANELA | B82: 105488-P.S.R. ESPIRITU SANTO | E82: =IFERROR(VLOOKUP($B82,#REF!,2,FALSE),0) -> 0 | F82: =IFERROR(VLOOKUP($B82,'[1]Num 2'!$G$3:$J$75,3,FALSE),0) -> 0
A83: 04202-CANELA | B83: 105493-P.S.R. MINCHA SUR | E83: =IFERROR(VLOOKUP($B83,#REF!,2,FALSE),0) -> 0 | F83: =IFERROR(VLOOKUP($B83,'[1]Num 2'!$G$3:$J$75,3,FALSE),0) -> 0
A84: 04202-CANELA | B84: 105497-P.S.R. JABONERIA | E84: =IFERROR(VLOOKUP($B84,#REF!,2,FALSE),0) -> 0 | F84: =IFERROR(VLOOKUP($B84,'[1]Num 2'!$G$3:$J$75,3,FALSE),0) -> 0
A85: 04202-CANELA | B85: 105498-P.S.R. QUEBRADA DE LINARES | E85: =IFERROR(VLOOKUP($B85,#REF!,2,FALSE),0) -> 0 | F85: =IFERROR(VLOOKUP($B85,'[1]Num 2'!$G$3:$J$75,3,FALSE),0) -> 0
A86: TOTAL CANELA | C86: =D86/Metas!H11 -> 0 | D86: =E86/H86 -> 0 | E86: =SUM(E76:E85) -> 0 | F86: =SUM(F76:F85) -> 0 | H86: 1687
A87: 04203-LOS VILOS | B87: 105478-P.S.R. CAIMANES | E87: =IFERROR(VLOOKUP($B87,#REF!,2,FALSE),0) -> 0 | F87: 0
A88: 04203-LOS VILOS | B88: 105479-P.S.R. GUANGUALI | E88: =IFERROR(VLOOKUP($B88,#REF!,2,FALSE),0) -> 0 | F88: =IFERROR(VLOOKUP($B88,'[1]Num 2'!$G$3:$J$75,3,FALSE),0) -> 0
A89: 04203-LOS VILOS | B89: 105480-P.S.R. QUILIMARI | E89: =IFERROR(VLOOKUP($B89,#REF!,2,FALSE),0) -> 0 | F89: =IFERROR(VLOOKUP($B89,'[1]Num 2'!$G$3:$J$75,3,FALSE),0) -> 0
A90: 04203-LOS VILOS | B90: 105481-P.S.R. TILAMA | E90: =IFERROR(VLOOKUP($B90,#REF!,2,FALSE),0) -> 0 | F90: =IFERROR(VLOOKUP($B90,'[1]Num 2'!$G$3:$J$75,3,FALSE),0) -> 0
A91: 04203-LOS VILOS | B91: 105511-P.S.R. LOS CONDORES | E91: =IFERROR(VLOOKUP($B91,#REF!,2,FALSE),0) -> 0 | F91: =IFERROR(VLOOKUP($B91,'[1]Num 2'!$G$3:$J$75,3,FALSE),0) -> 0
A92: TOTAL LOS VILOS | C92: =D92/Metas!H12 -> 0 | D92: =E92/H92 -> 0 | E92: =SUM(E87:E91) -> 0 | F92: =SUM(F87:F91) -> 0 | H92: 1186
A93: 04204-SALAMANCA | B93: 105452-P.S.R. CUNCUMEN | E93: 143 | F93: 0
A94: 04204-SALAMANCA | B94: 105453-P.S.R. TRANQUILLA | E94: 352 | F94: =IFERROR(VLOOKUP($B94,'[1]Num 2'!$G$3:$J$75,3,FALSE),0) -> 0
A95: 04204-SALAMANCA | B95: 105454-P.S.R. CUNLAGUA | E95: 20 | F95: =IFERROR(VLOOKUP($B95,'[1]Num 2'!$G$3:$J$75,3,FALSE),0) -> 0
A96: 04204-SALAMANCA | B96: 105455-CESFAM Valle Alto | E96: 282 | F96: =IFERROR(VLOOKUP($B96,'[1]Num 2'!$G$3:$J$75,3,FALSE),0) -> 0
A97: 04204-SALAMANCA | B97: 105456-P.S.R. LLIMPO | E97: 173 | F97: =IFERROR(VLOOKUP($B97,'[1]Num 2'!$G$3:$J$75,3,FALSE),0) -> 0
A98: 04204-SALAMANCA | B98: 105457-P.S.R. SAN AGUSTIN | E98: 96 | F98: =IFERROR(VLOOKUP($B98,'[1]Num 2'!$G$3:$J$75,3,FALSE),0) -> 0
A99: 04204-SALAMANCA | B99: 105458-P.S.R. TAHUINCO | E99: 434 | F99: =IFERROR(VLOOKUP($B99,'[1]Num 2'!$G$3:$J$75,3,FALSE),0) -> 0
A100: 04204-SALAMANCA | B100: 105491-P.S.R. QUELEN BAJO | E100: 411 | F100: =IFERROR(VLOOKUP($B100,'[1]Num 2'!$G$3:$J$75,3,FALSE),0) -> 0
A101: 04204-SALAMANCA | B101: 105492-P.S.R. CAMISA | E101: 105 | F101: =IFERROR(VLOOKUP($B101,'[1]Num 2'!$G$3:$J$75,3,FALSE),0) -> 0
A102: 04204-SALAMANCA | B102: 105501-P.S.R. ARBOLEDA GRANDE | E102: 223 | F102: =IFERROR(VLOOKUP($B102,'[1]Num 2'!$G$3:$J$75,3,FALSE),0) -> 0
A103: TOTAL SALAMANCA | C103: =D103/Metas!H13 -> 1.0362675 | D103: =E103/H103 -> 0.79481718 | E103: =SUM(E93:E102) -> 2239 | F103: =SUM(F93:F102) -> 0 | H103: 2817
A104: 04301-OVALLE | B104: 105315-CES. RURAL C. DE TAMAYA | E104: =IFERROR(VLOOKUP($B104,#REF!,2,FALSE),0) -> 0 | F104: 0
A105: 04301-OVALLE | B105: 105317-CES. JORGE JORDAN D. | E105: =IFERROR(VLOOKUP($B105,#REF!,2,FALSE),0) -> 0 | F105: 0
A106: 04301-OVALLE | B106: 105322-CES. MARCOS MACUADA | E106: =IFERROR(VLOOKUP($B106,#REF!,2,FALSE),0) -> 0 | F106: 0
A107: 04301-OVALLE | B107: 105324-CES. SOTAQUI | E107: 720 | F107: =IFERROR(VLOOKUP($B107,'[1]Num 2'!$G$3:$J$75,3,FALSE),0) -> 0
A108: 04301-OVALLE | B108: 105415-P.S.R. BARRAZA | E108: =IFERROR(VLOOKUP($B108,#REF!,2,FALSE),0) -> 0 | F108: 0
...

Sheet Meta 3A
A1: COMUNA | B1: ESTABLECIMIENTO | C1: CUMPLIMIENTO | D1: Indicador | E1: META 3a: CONTROL ODONTOLOGICO EN POBLACION INFANTIL | T1: ** con denominador corregido
E2: NUMERADOR | R2: DENOMINADOR
E10: N° de niños(as) de 0 a 9 años con control odontológico | R10: Total de niños(as) de 0 a 9 años inscritos validados
D11: Resultado | E11: ENERO | F11: FEBRERO | G11: MARZO | H11: ABRIL | I11: MAYO | J11: JUNIO | K11: JULIO | L11: AGOSTO | M11: SEPBRE | N11: OCTUBRE | O11: NOVBRE | P11: DICBRE | Q11: TOTAL
A12: 04101-LA SERENA | B12: 105300-CES. CARDENAL CARO | E12: 164 | F12: 112 | G12: 94 | H12: 116 | I12: 174 | J12: 225 | K12: 122 | L12: 161 | M12: 126 | N12: 157 | Q12: =SUM(E12:P12) -> 1451
A13: 04101-LA SERENA | B13: 105301-CES. LAS COMPAÑIAS | E13: 69 | F13: 179 | G13: 71 | H13: 164 | I13: 297 | J13: 216 | K13: 119 | L13: 59 | M13: 40 | N13: 51 | Q13: =SUM(E13:P13) -> 1265
A14: 04101-LA SERENA | B14: 105302-CES. PEDRO AGUIRRE C. | E14: 151 | F14: 119 | G14: 130 | I14: 250 | J14: 93 | K14: 82 | L14: 133 | M14: 106 | N14: 150 | Q14: =SUM(E14:P14) -> 1214
A15: 04101-LA SERENA | B15: 105313-CES. SCHAFFHAUSER | E15: 109 | F15: 492 | G15: 323 | H15: 156 | I15: 379 | J15: 344 | K15: 309 | L15: 181 | M15: 229 | N15: 261 | Q15: =SUM(E15:P15) -> 2783
A16: 04101-LA SERENA | B16: 105319-CES. CARDENAL R.S.H. | E16: 113 | F16: 106 | G16: 102 | H16: 102 | I16: 293 | J16: 131 | K16: 65 | L16: 64 | M16: 46 | N16: 42 | Q16: =SUM(E16:P16) -> 1064
A17: 04101-LA SERENA | B17: 105325-CESFAM JUAN PABLO II | E17: 192 | F17: 165 | G17: 148 | H17: 139 | I17: 149 | J17: 86 | K17: 107 | L17: 199 | M17: 98 | N17: 74 | Q17: =SUM(E17:P17) -> 1357
A18: 04101-LA SERENA | B18: 105400-P.S.R. ALGARROBITO | F18: 3 | G18: 4 | H18: 3 | I18: 8 | K18: 4 | L18: 15 | M18: 4 | N18: 5 | Q18: =SUM(E18:P18) -> 46
A19: 04101-LA SERENA | B19: 105401-P.S.R. LAS ROJAS | G19: 5 | H19: 2 | I19: 8 | J19: 9 | K19: 4 | L19: 5 | M19: 6 | N19: 5 | Q19: =SUM(E19:P19) -> 44
A20: 04101-LA SERENA | B20: 105402-P.S.R. EL ROMERO | H20: 8 | I20: 5 | J20: 12 | K20: 11 | L20: 13 | M20: 8 | Q20: =SUM(E20:P20) -> 57
A21: 04101-LA SERENA | B21: 105499-P.S.R. LAMBERT | H21: 8 | Q21: =SUM(E21:P21) -> 8
A22: 04101-LA SERENA | B22: 105700-CECOF VILLA EL INDIO | E22: 1 | G22: 19 | I22: 8 | J22: 10 | K22: 5 | L22: 41 | M22: 5 | N22: 10 | Q22: =SUM(E22:P22) -> 99
A23: 04101-LA SERENA | B23: 105701-CECOF VILLA ALEMANIA | E23: 5 | F23: 9 | G23: 17 | H23: 14 | I23: 12 | J23: 13 | K23: 4 | L23: 1 | M23: 18 | N23: 12 | Q23: =SUM(E23:P23) -> 105
A24: 04101-LA SERENA | B24: 105702-CECOF VILLA LAMBERT | E24: 11 | F24: 13 | G24: 8 | H24: 11 | I24: 17 | J24: 7 | K24: 11 | L24: 17 | M24: 2 | N24: 15 | Q24: =SUM(E24:P24) -> 112
A25: 04101-LA SERENA | B25: 200402-CECOF ARCOS DE PINAMAR | E25: 15 | F25: 24 | G25: 11 | H25: 26 | I25: 27 | J25: 33 | K25: 23 | L25: 0 | M25: 15 | N25: 19 | Q25: =SUM(E25:P25) -> 193
A26: TOTAL LA SERENA | C26: =D26/Metas!I5 -> 1.2045216 | D26: =Q26/R26 -> 0.42158255 | E26: =SUM(E12:E25) -> 830 | F26: =SUM(F12:F25) -> 1222 | G26: =SUM(G12:G25) -> 932 | H26: =SUM(H12:H25) -> 749 | I26: =SUM(I12:I25) -> 1627 | J26: =SUM(J12:J25) -> 1179 | K26: =SUM(K12:K25) -> 866 | L26: =SUM(L12:L25) -> 889 | ... Q26: =SUM(Q12:Q25) -> 9798 | R26: 23241
A27: 04102-COQUIMBO | B27: 105303-CES. SAN JUAN | E27: 130 | F27: 135 | G27: 140 | H27: 147 | I27: 155 | J27: 70 | K27: 139 | L27: 140 | M27: 191 | N27: 95 | Q27: =SUM(E27:P27) -> 1342
A28: 04102-COQUIMBO | B28: 105304-CES. SANTA CECILIA | E28: 58 | F28: 134 | G28: 88 | H28: 77 | I28: 153 | J28: 68 | K28: 77 | L28: 47 | M28: 111 | N28: 209 | Q28: =SUM(E28:P28) -> 1022
A29: 04102-COQUIMBO | B29: 105305-CES. TIERRAS BLANCAS | E29: 137 | F29: 246 | G29: 96 | H29: 107 | I29: 131 | J29: 120 | K29: 140 | L29: 153 | M29: 163 | N29: 51 | Q29: =SUM(E29:P29) -> 1344
A30: 04102-COQUIMBO | B30: 105321-CES. RURAL TONGOY | E30: 48 | F30: 48 | G30: 44 | H30: 25 | I30: 48 | J30: 76 | K30: 38 | L30: 83 | M30: 49 | N30: 46 | Q30: =SUM(E30:P30) -> 505
A31: 04102-COQUIMBO | B31: 105323-CES. DR. SERGIO AGUILAR | E31: 147 | F31: 92 | G31: 166 | H31: 185 | I31: 184 | J31: 129 | K31: 150 | L31: 159 | M31: 86 | N31: 122 | Q31: =SUM(E31:P31) -> 1420
A32: 04102-COQUIMBO | B32: 105404-P.S.R. EL TANGUE | E32: 0 | F32: 0 | G32: 0 | H32: 0 | I32: 0 | J32: 0 | K32: 0 | L32: 0 | Q32: =SUM(E32:P32) -> 0
A33: 04102-COQUIMBO | B33: 105405-P.S.R. GUANAQUEROS | E33: 26 | F33: 26 | G33: 15 | H33: 14 | I33: 11 | J33: 14 | K33: 12 | L33: 17 | M33: 13 | N33: 17 | Q33: =SUM(E33:P33) -> 165
A34: 04102-COQUIMBO | B34: 105407-P.S.R. TAMBILLOS | L34: 0 | Q34: =SUM(E34:P34) -> 0
A35: 04102-COQUIMBO | B35: 200273-CECOF PUNTA MIRA | E35: 21 | F35: 7 | G35: 18 | H35: 22 | I35: 22 | J35: 14 | K35: 16 | L35: 20 | M35: 12 | N35: 13 | Q35: =SUM(E35:P35) -> 165
A36: 04102-COQUIMBO | B36: 200494-CESFAM EL SAUCE | E36: 50 | F36: 67 | G36: 71 | H36: 42 | I36: 75 | J36: 73 | K36: 107 | L36: 187 | M36: 90 | N36: 105 | Q36: =SUM(E36:P36) -> 867
A37: 04102-COQUIMBO | B37: 200499-CESFAM PAN DE AZÚCAR | E37: 77 | F37: 91 | G37: 93 | H37: 66 | I37: 92 | J37: 84 | K37: 45 | L37: 67 | M37: 40 | N37: 21 | Q37: =SUM(E37:P37) -> 676
A38: 04102-COQUIMBO | B38: 105803-SAPU San Juan | J38: 70 | Q38: 70
A39: 04102-COQUIMBO | B39: 200607-CESFAM LILA CORTES | E39: 94 | F39: 60 | G39: 70 | I39: 147 | J39: 44 | K39: 120 | L39: 84 | M39: 64 | N39: 70 | Q39: =SUM(E39:P39) -> 753
A40: TOTAL COQUIMBO | C40: =D40/Metas!I6 -> 1.0238576 | D40: =Q40/R40 -> 0.36858875 | E40: =SUM(E27:E39) -> 788 | F40: =SUM(F27:F39) -> 906 | G40: =SUM(G27:G39) -> 801 | H40: =SUM(H27:H39) -> 685 | I40: =SUM(I27:I39) -> 1018 | J40: =SUM(J27:J39) -> 762 | K40: =SUM(K27:K39) -> 844 | L40: =SUM(L27:L39) -> 957 | ... Q40: =SUM(Q27:Q39) -> 8329 | R40: 22597
A41: 04104-LA HIGUERA | B41: 105314-CES. LA HIGUERA | E41: 16 | F41: 9 | G41: 6 | H41: 6 | I41: 48 | J41: 14 | K41: 22 | L41: 4 | M41: 3 | N41: 1 | Q41: =SUM(E41:P41) -> 129
A42: 04104-LA HIGUERA | B42: 105500-P.S.R. CALETA HORNOS | E42: 6 | F42: 6 | G42: 5 | H42: 4 | I42: 38 | J42: 5 | K42: 6 | L42: 2 | M42: 8 | N42: 3 | Q42: =SUM(E42:P42) -> 83
A43: 04104-LA HIGUERA | B43: 105505-P.S.R. LOS CHOROS | E43: 1 | F43: 2 | G43: 0 | H43: 13 | I43: 26 | J43: 7 | K43: 3 | L43: 7 | M43: 2 | N43: 2 | Q43: =SUM(E43:P43) -> 63
A44: 04104-LA HIGUERA | B44: 105506-P.S.R. EL TRAPICHE | E44: 6 | F44: 3 | G44: 0 | H44: 4 | I44: 8 | J44: 4 | K44: 4 | L44: 6 | M44: 4 | N44: 2 | Q44: =SUM(E44:P44) -> 41
A45: TOTAL LA HIGUERA | C45: =D45/Metas!I7 -> 1.05555 | D45: =Q45/R45 -> 0.53833049 | E45: =SUM(E41:E44) -> 29 | F45: =SUM(F41:F44) -> 20 | G45: =SUM(G41:G44) -> 11 | H45: =SUM(H41:H44) -> 27 | I45: =SUM(I41:I44) -> 120 | J45: =SUM(J41:J44) -> 30 | K45: =SUM(K41:K44) -> 35 | L45: =SUM(L41:L44) -> 19 | ... Q45: =SUM(Q41:Q44) -> 316 | R45: 587
A46: 04105-PAIHUANO | B46: 105306-CES. PAIHUANO | E46: 10 | F46: 17 | G46: 39 | H46: 20 | I46: 12 | J46: 15 | K46: 10 | L46: 23 | M46: 8 | N46: 11 | Q46: =SUM(E46:P46) -> 165
A47: 04105-PAIHUANO | B47: 105475-P.S.R. HORCON | E47: 0 | F47: 2 | G47: 16 | H47: 5 | I47: 10 | J47: 1 | K47: 1 | L47: 1 | M47: 1 | N47: 29 | Q47: =SUM(E47:P47) -> 66
A48: 04105-PAIHUANO | B48: 105476-P.S.R. MONTE GRANDE | E48: 2 | F48: 3 | G48: 10 | H48: 6 | I48: 3 | J48: 0 | K48: 0 | L48: 0 | M48: 1 | N48: 10 | Q48: =SUM(E48:P48) -> 35
A49: 04105-PAIHUANO | B49: 105477-P.S.R. PISCO ELQUI | E49: 2 | F49: 2 | G49: 4 | H49: 6 | I49: 34 | J49: 0 | K49: 0 | L49: 0 | M49: 1 | N49: 33 | Q49: =SUM(E49:P49) -> 82
A50: TOTAL PAIHUANO | C50: =D50/Metas!I8 -> 2.4271168 | D50: =Q50/R50 -> 1.6261682 | E50: =SUM(E46:E49) -> 14 | F50: =SUM(F46:F49) -> 24 | G50: =SUM(G46:G49) -> 69 | H50: =SUM(H46:H49) -> 37 | I50: =SUM(I46:I49) -> 59 | J50: =SUM(J46:J49) -> 16 | K50: =SUM(K46:K49) -> 11 | L50: =SUM(L46:L49) -> 24 | ... Q50: =SUM(Q46:Q49) -> 348 | R50: 214
A51: 04106-VICUÑA | B51: 105467-P.S.R. DIAGUITAS | E51: 5 | F51: 7 | G51: 10 | H51: 8 | I51: 11 | J51: 3 | K51: 3 | L51: 5 | M51: 5 | N51: 21 | Q51: =SUM(E51:P51) -> 78
A52: 04106-VICUÑA | B52: 105468-P.S.R. EL MOLLE | E52: 4 | F52: 8 | G52: 5 | H52: 1 | I52: 10 | J52: 5 | K52: 8 | L52: 2 | M52: 7 | Q52: =SUM(E52:P52) -> 50
A53: 04106-VICUÑA | B53: 105469-P.S.R. EL TAMBO | E53: 0 | F53: 0 | G53: 0 | H53: 1 | I53: 14 | J53: 8 | K53: 3 | L53: 13 | M53: 3 | N53: 19 | Q53: =SUM(E53:P53) -> 61
A54: 04106-VICUÑA | B54: 105470-P.S.R. HUANTA | E54: 0 | F54: 0 | G54: 0 | H54: 0 | I54: 0 | J54: 0 | K54: 1 | L54: 0 | M54: 0 | Q54: =SUM(E54:P54) -> 1
A55: 04106-VICUÑA | B55: 105471-P.S.R. PERALILLO | E55: 0 | F55: 1 | G55: 3 | H55: 14 | I55: 27 | J55: 7 | K55: 7 | L55: 11 | M55: 5 | N55: 2 | Q55: =SUM(E55:P55) -> 77
A56: 04106-VICUÑA | B56: 105472-P.S.R. RIVADAVIA | E56: 2 | F56: 8 | G56: 8 | H56: 8 | I56: 18 | J56: 3 | K56: 14 | L56: 4 | M56: 3 | N56: 28 | Q56: =SUM(E56:P56) -> 96
A57: 04106-VICUÑA | B57: 105473-P.S.R. TALCUNA | E57: 5 | F57: 0 | G57: 5 | H57: 9 | I57: 14 | J57: 9 | K57: 5 | L57: 19 | M57: 0 | N57: 23 | Q57: =SUM(E57:P57) -> 89
A58: 04106-VICUÑA | B58: 105474-P.S.R. CHAPILCA | E58: 0 | F58: 0 | G58: 3 | H58: 2 | I58: 2 | J58: 6 | K58: 0 | L58: 0 | M58: 1 | Q58: =SUM(E58:P58) -> 14
A59: 04106-VICUÑA | B59: 105509-P.S.R. GUALLIGUAICA | E59: 3 | F59: 1 | G59: 5 | H59: 1 | I59: 4 | J59: 4 | K59: 2 | L59: 3 | M59: 1 | N59: 7 | Q59: =SUM(E59:P59) -> 31
A60: 04106-VICUÑA | B60: 200538-CESFAM SAN ISIDRO CALINGASTA | E60: 21 | F60: 20 | G60: 29 | H60: 17 | I60: 34 | J60: 28 | K60: 14 | L60: 22 | M60: 30 | N60: 31 | Q60: =SUM(E60:P60) -> 246
A61: TOTAL VICUÑA | C61: =D61/Metas!I9 -> 0.86032213 | D61: =Q61/R61 -> 0.57641583 | E61: =SUM(E51:E60) -> 40 | F61: =SUM(F51:F60) -> 45 | G61: =SUM(G51:G60) -> 68 | H61: =SUM(H51:H60) -> 61 | I61: =SUM(I51:I60) -> 134 | J61: =SUM(J51:J60) -> 73 | K61: =SUM(K51:K60) -> 57 | L61: =SUM(L51:L60) -> 79 | ... Q61: =SUM(Q51:Q60) -> 743 | R61: 1289
A62: 04201-ILLAPEL | B62: 105326-CESFAM SAN RAFAEL | E62: 24 | F62: 16 | G62: 25 | H62: 24 | I62: 27 | J62: 23 | K62: 27 | L62: 37 | M62: 25 | N62: 32 | Q62: =SUM(E62:P62) -> 260
A63: 04201-ILLAPEL | B63: 105443-P.S.R. CARCAMO | E63: 2 | F63: 2 | H63: 4 | K63: 3 | L63: 1 | M63: 0 | N63: 2 | Q63: =SUM(E63:P63) -> 14
A64: 04201-ILLAPEL | B64: 105444-P.S.R. HUINTIL | E64: 1 | G64: 4 | H64: 2 | L64: 3 | M64: 0 | N64: 0 | Q64: =SUM(E64:P64) -> 10
A65: 04201-ILLAPEL | B65: 105445-P.S.R. LIMAHUIDA | E65: 6 | F65: 3 | G65: 6 | H65: 3 | I65: 2 | J65: 1 | K65: 2 | L65: 1 | M65: 0 | N65: 2 | Q65: =SUM(E65:P65) -> 26
A66: 04201-ILLAPEL | B66: 105446-P.S.R. MATANCILLA | J66: 4 | K66: 2 | M66: 0 | N66: 0 | Q66: =SUM(E66:P66) -> 6
A67: 04201-ILLAPEL | B67: 105447-P.S.R. PERALILLO | E67: 1 | G67: 4 | H67: 3 | I67: 6 | J67: 1 | K67: 3 | L67: 1 | M67: 4 | Q67: =SUM(E67:P67) -> 23
A68: 04201-ILLAPEL | B68: 105448-P.S.R. SANTA VIRGINIA | E68: 6 | F68: 3 | G68: 5 | H68: 3 | I68: 2 | J68: 4 | K68: 4 | L68: 1 | M68: 0 | Q68: =SUM(E68:P68) -> 28
A69: 04201-ILLAPEL | B69: 105449-P.S.R. TUNGA NORTE | E69: 4 | F69: 0 | H69: 1 | I69: 1 | J69: 0 | M69: 0 | Q69: =SUM(E69:P69) -> 6
A70: 04201-ILLAPEL | B70: 105485-P.S.R. PLAN DE HORNOS | E70: 1 | H70: 3 | I70: 2 | J70: 2 | L70: 1 | M70: 2 | Q70: =SUM(E70:P70) -> 11
A71: 04201-ILLAPEL | B71: 105486-P.S.R. TUNGA SUR | E71: 1 | F71: 3 | G71: 3 | J71: 1 | K71: 1 | L71: 2 | M71: 1 | N71: 1 | Q71: =SUM(E71:P71) -> 13
A72: 04201-ILLAPEL | B72: 105487-P.S.R. CAÑAS UNO | E72: 11 | F72: 11 | G72: 7 | H72: 9 | I72: 15 | J72: 7 | K72: 7 | L72: 4 | M72: 11 | N72: 5 | Q72: =SUM(E72:P72) -> 87
A73: 04201-ILLAPEL | B73: 105496-P.S.R. PINTACURA SUR | F73: 1 | G73: 2 | H73: 2 | I73: 3 | J73: 2 | L73: 2 | M73: 1 | Q73: =SUM(E73:P73) -> 13
A74: 04201-ILLAPEL | B74: 105504-P.S.R. SOCAVON | F74: 4 | G74: 1 | H74: 2 | I74: 1 | K74: 2 | L74: 3 | M74: 1 | N74: 2 | Q74: =SUM(E74:P74) -> 16
A75: 04201-ILLAPEL | B75: 200366-CESFAM URBANO II | E75: 63 | F75: 99 | G75: 129 | H75: 81 | I75: 96 | J75: 49 | K75: 61 | L75: 80 | M75: 50 | N75: 133 | Q75: =SUM(E75:P75) -> 841
A76: TOTAL ILLAPEL | C76: =D76/Metas!I10 -> 0.75655138 | D76: =Q76/R76 -> 0.41610326 | E76: =SUM(E62:E75) -> 120 | F76: =SUM(F62:F75) -> 142 | G76: =SUM(G62:G75) -> 186 | H76: =SUM(H62:H75) -> 137 | I76: =SUM(I62:I75) -> 155 | J76: =SUM(J62:J75) -> 94 | K76: =SUM(K62:K75) -> 112 | L76: =SUM(L62:L75) -> 136 | ... Q76: =SUM(Q62:Q75) -> 1354 | R76: 3254
A77: 04202-CANELA | B77: 105309-CES. RURAL CANELA | E77: 10 | F77: 9 | G77: 21 | H77: 25 | I77: 35 | J77: 18 | K77: 21 | L77: 34 | M77: 9 | N77: 57 | Q77: =SUM(E77:P77) -> 239
A78: 04202-CANELA | B78: 105450-P.S.R. MINCHA NORTE | Q78: =SUM(E78:P78) -> 0
A79: 04202-CANELA | B79: 105451-P.S.R. AGUA FRIA | Q79: =SUM(E79:P79) -> 0
A80: 04202-CANELA | B80: 105482-P.S.R. CANELA ALTA | Q80: =SUM(E80:P80) -> 0
A81: 04202-CANELA | B81: 105483-P.S.R. LOS RULOS | Q81: =SUM(E81:P81) -> 0
A82: 04202-CANELA | B82: 105484-P.S.R. HUENTELAUQUEN | Q82: =SUM(E82:P82) -> 0
A83: 04202-CANELA | B83: 105488-P.S.R. ESPIRITU SANTO | Q83: =SUM(E83:P83) -> 0
A84: 04202-CANELA | B84: 105493-P.S.R. MINCHA SUR | Q84: =SUM(E84:P84) -> 0
A85: 04202-CANELA | B85: 105497-P.S.R. JABONERIA | Q85: =SUM(E85:P85) -> 0
A86: 04202-CANELA | B86: 105498-P.S.R. QUEBRADA DE LINARES | Q86: =SUM(E86:P86) -> 0
A87: TOTAL CANELA | C87: =D87/Metas!I11 -> 0.60298718 | D87: =Q87/R87 -> 0.32561308 | E87: =SUM(E77:E86) -> 10 | F87: =SUM(F77:F86) -> 9 | G87: =SUM(G77:G86) -> 21 | H87: =SUM(H77:H86) -> 25 | I87: =SUM(I77:I86) -> 35 | J87: =SUM(J77:J86) -> 18 | K87: =SUM(K77:K86) -> 21 | L87: =SUM(L77:L86) -> 34 | ... Q87: =SUM(Q77:Q86) -> 239 | R87: 734
A88: 04203-LOS VILOS | B88: 105478-P.S.R. CAIMANES | E88: 3 | F88: 4 | G88: 11 | H88: 7 | I88: 10 | J88: 11 | K88: 6 | L88: 11 | M88: 1 | N88: 11 | Q88: =SUM(E88:P88) -> 75
A89: 04203-LOS VILOS | B89: 105479-P.S.R. GUANGUALI | E89: 1 | H89: 8 | I89: 7 | J89: 1 | L89: 2 | M89: 0 | N89: 5 | Q89: =SUM(E89:P89) -> 24
A90: 04203-LOS VILOS | B90: 105480-P.S.R. QUILIMARI | E90: 10 | G90: 11 | H90: 16 | I90: 5 | J90: 10 | K90: 34 | L90: 37 | M90: 12 | N90: 27 | Q90: =SUM(E90:P90) -> 162
A91: 04203-LOS VILOS | B91: 105481-P.S.R. TILAMA | E91: 3 | F91: 1 | G91: 7 | H91: 3 | I91: 0 | J91: 6 | K91: 1 | M91: 2 | N91: 4 | Q91: =SUM(E91:P91) -> 27
A92: 04203-LOS VILOS | B92: 105511-P.S.R. LOS CONDORES | E92: 3 | F92: 2 | G92: 7 | H92: 7 | I92: 7 | J92: 10 | K92: 4 | L92: 7 | M92: 9 | N92: 7 | Q92: =SUM(E92:P92) -> 63
A93: TOTAL LOS VILOS | C93: =D93/Metas!I12 -> 1.0451717 | D93: =Q93/R93 -> 0.44942382 | E93: =SUM(E88:E92) -> 20 | F93: =SUM(F88:F92) -> 7 | G93: =SUM(G88:G92) -> 36 | H93: =SUM(H88:H92) -> 41 | I93: =SUM(I88:I92) -> 29 | J93: =SUM(J88:J92) -> 38 | K93: =SUM(K88:K92) -> 45 | L93: =SUM(L88:L92) -> 57 | ... Q93: =SUM(Q88:Q92) -> 351 | R93: 781
A94: 04204-SALAMANCA | B94: 105452-P.S.R. CUNCUMEN | H94: 13 | I94: 4 | J94: 3 | M94: 0 | Q94: =SUM(E94:P94) -> 20
A95: 04204-SALAMANCA | B95: 105453-P.S.R. TRANQUILLA | F95: 5 | H95: 27 | I95: 7 | J95: 5 | K95: 16 | L95: 9 | M95: 0 | Q95: =SUM(E95:P95) -> 69
A96: 04204-SALAMANCA | B96: 105454-P.S.R. CUNLAGUA | Q96: =SUM(E96:P96) -> 0
A97: 04204-SALAMANCA | B97: 105455-CESFAM Valle Alto | E97: 18 | F97: 15 | G97: 29 | H97: 31 | I97: 24 | J97: 11 | K97: 20 | L97: 11 | M97: 2 | N97: 4 | Q97: =SUM(E97:P97) -> 165
A98: 04204-SALAMANCA | B98: 105456-P.S.R. LLIMPO | H98: 16 | I98: 8 | J98: 3 | K98: 2 | M98: 0 | Q98: =SUM(E98:P98) -> 29
A99: 04204-SALAMANCA | B99: 105457-P.S.R. SAN AGUSTIN | H99: 2 | J99: 1 | K99: 0 | M99: 0 | Q99: =SUM(E99:P99) -> 3
A100: 04204-SALAMANCA | B100: 105458-P.S.R. TAHUINCO | F100: 0 | G100: 0 | H100: 32 | I100: 8 | J100: 2 | K100: 11 | L100: 10 | M100: 9 | Q100: =SUM(E100:P100) -> 72
A101: 04204-SALAMANCA | B101: 105491-P.S.R. QUELEN BAJO | F101: 8 | H101: 4 | I101: 36 | J101: 6 | K101: 6 | L101: 1 | M101: 0 | Q101: =SUM(E101:P101) -> 61
A102: 04204-SALAMANCA | B102: 105492-P.S.R. CAMISA | F102: 4 | H102: 3 | I102: 2 | J102: 5 | K102: 0 | L102: 0 | M102: 0 | Q102: =SUM(E102:P102) -> 14
A103: 04204-SALAMANCA | B103: 105501-P.S.R. ARBOLEDA GRANDE | H103: 9 | I103: 7 | J103: 10 | K103: 9 | M103: 2 | Q103: =SUM(E103:P103) -> 37
A104: TOTAL SALAMANCA | C104: =D104/Metas!I13 -> 0.93733796 | D104: =Q104/R104 -> 0.57177616 | E104: =SUM(E94:E103) -> 18 | F104: =SUM(F94:F103) -> 32 | G104: =SUM(G94:G103) -> 29 | H104: =SUM(H94:H103) -> 137 | I104: =SUM(I94:I103) -> 96 | J104: =SUM(J94:J103) -> 46 | K104: =SUM(K94:K103) -> 64 | L104: =SUM(L94:L103) -> 31 | ... Q104: =SUM(Q94:Q103) -> 470 | R104: 822
A105: 04301-OVALLE | B105: 105315-CES. RURAL C. DE TAMAYA | E105: 46 | F105: 42 | G105: 25 | H105: 12 | I105: 56 | J105: 76 | K105: 34 | L105: 33 | M105: 0 | N105: 30 | Q105: =SUM(E105:P105) -> 354
A106: 04301-OVALLE | B106: 105317-CES. JORGE JORDAN D. | E106: 23 | F106: 13 | G106: 40 | H106: 64 | I106: 48 | J106: 34 | K106: 41 | L106: 64 | M106: 40 | N106: 73 | Q106: =SUM(E106:P106) -> 440
A107: 04301-OVALLE | B107: 105322-CES. MARCOS MACUADA | E107: 101 | F107: 92 | G107: 74 | H107: 206 | I107: 85 | J107: 107 | K107: 38 | L107: 121 | M107: 124 | N107: 111 | Q107: =SUM(E107:P107) -> 1059
...

Sheet Meta 3B
A1: COMUNA | B1: ESTABLECIMIENTO | C1: CUMPLIMIENTO | D1: Indicador | E1: META 3b: NIÑOS Y NIÑAS DE 6 AÑOS LIBRES DE CARIES
E2: NUMERADOR | R2: DENOMINADOR
E10: Nº de niños(as) de 6 años con ceod igual a 0 | R10: Nº total de niños(as) inscritos validados de 6 años
D11: Resultado | E11: ENERO | F11: FEBRERO | G11: MARZO | H11: ABRIL | I11: MAYO | J11: JUNIO | K11: JULIO | L11: AGOSTO | M11: SEPBRE | N11: OCTUBRE | O11: NOVBRE | P11: DICBRE | Q11: TOTAL
A12: 04101-LA SERENA | B12: 105300-CES. CARDENAL CARO | E12: 20 | F12: 10 | G12: 9 | H12: 10 | I12: 42 | J12: 16 | K12: 5 | L12: 26 | M12: 4 | N12: 22 | Q12: =SUM(E12:P12) -> 164
A13: 04101-LA SERENA | B13: 105301-CES. LAS COMPAÑIAS | E13: 1 | F13: 6 | G13: 2 | H13: 33 | I13: 22 | J13: 7 | K13: 1 | L13: 13 | M13: 4 | N13: 2 | Q13: =SUM(E13:P13) -> 91
A14: 04101-LA SERENA | B14: 105302-CES. PEDRO AGUIRRE C. | E14: 4 | F14: 9 | G14: 9 | H14: 9 | I14: 6 | J14: 5 | K14: 3 | L14: 10 | M14: 2 | N14: 5 | Q14: =SUM(E14:P14) -> 62
A15: 04101-LA SERENA | B15: 105313-CES. SCHAFFHAUSER | E15: 16 | F15: 10 | G15: 17 | H15: 34 | I15: 23 | J15: 29 | K15: 26 | L15: 22 | M15: 10 | N15: 14 | Q15: =SUM(E15:P15) -> 201
A16: 04101-LA SERENA | B16: 105319-CES. CARDENAL R.S.H. | E16: 4 | F16: 4 | G16: 4 | H16: 30 | I16: 38 | J16: 38 | K16: 3 | L16: 5 | M16: 3 | N16: 2 | Q16: =SUM(E16:P16) -> 131
A17: 04101-LA SERENA | B17: 105325-CESFAM JUAN PABLO II | E17: 10 | F17: 15 | G17: 19 | H17: 10 | I17: 18 | J17: 19 | K17: 8 | L17: 17 | M17: 9 | N17: 5 | Q17: =SUM(E17:P17) -> 130
A18: 04101-LA SERENA | B18: 105400-P.S.R. ALGARROBITO | E18: 1 | F18: 0 | G18: 0 | H18: 0 | I18: 0 | K18: 1 | L18: 0 | M18: 0 | N18: 0 | Q18: =SUM(E18:P18) -> 2
A19: 04101-LA SERENA | B19: 105401-P.S.R. LAS ROJAS | E19: 0 | F19: 0 | G19: 0 | H19: 0 | I19: 1 | J19: 2 | K19: 0 | L19: 0 | M19: 1 | Q19: =SUM(E19:P19) -> 4
A20: 04101-LA SERENA | B20: 105402-P.S.R. EL ROMERO | E20: 0 | F20: 0 | G20: 0 | H20: 0 | I20: 0 | J20: 2 | K20: 2 | L20: 1 | M20: 1 | N20: 0 | Q20: =SUM(E20:P20) -> 6
A21: 04101-LA SERENA | B21: 105499-P.S.R. LAMBERT | E21: 0 | F21: 0 | G21: 0 | H21: 0 | I21: 0 | J21: 0 | K21: 0 | M21: 0 | Q21: =SUM(E21:P21) -> 0
A22: 04101-LA SERENA | B22: 105700-CECOF VILLA EL INDIO | E22: 0 | F22: 0 | G22: 0 | H22: 0 | I22: 0 | J22: 0 | K22: 0 | L22: 9 | M22: 0 | N22: 0 | Q22: =SUM(E22:P22) -> 9
A23: 04101-LA SERENA | B23: 105701-CECOF VILLA ALEMANIA | E23: 0 | F23: 1 | G23: 0 | H23: 1 | I23: 0 | J23: 1 | K23: 0 | L23: 1 | M23: 0 | N23: 0 | Q23: =SUM(E23:P23) -> 4
A24: 04101-LA SERENA | B24: 105702-CECOF VILLA LAMBERT | E24: 1 | F24: 0 | G24: 0 | H24: 1 | I24: 0 | J24: 2 | K24: 0 | L24: 2 | M24: 0 | N24: 0 | Q24: =SUM(E24:P24) -> 6
A25: 04101-LA SERENA | B25: 200402-CECOF ARCOS DE PINAMAR | E25: 2 | F25: 0 | G25: 0 | H25: 1 | I25: 13 | J25: 5 | K25: 0 | L25: 0 | M25: 0 | N25: 1 | Q25: =SUM(E25:P25) -> 22
A26: TOTAL LA SERENA | C26: =D26/Metas!J5 -> 1.1449961 | D26: =Q26/R26 -> 0.35494881 | E26: =SUM(E12:E25) -> 59 | F26: =SUM(F12:F25) -> 55 | G26: =SUM(G12:G25) -> 60 | H26: =SUM(H12:H25) -> 129 | I26: =SUM(I12:I25) -> 163 | J26: =SUM(J12:J25) -> 126 | K26: =SUM(K12:K25) -> 49 | L26: =SUM(L12:L25) -> 106 | ... Q26: =SUM(Q12:Q25) -> 832 | R26: 2344
A27: 04102-COQUIMBO | B27: 105303-CES. SAN JUAN | E27: 11 | F27: 7 | G27: 10 | H27: 6 | I27: 5 | J27: 5 | K27: 6 | L27: 9 | M27: 8 | N27: 3 | Q27: =SUM(E27:P27) -> 70
A28: 04102-COQUIMBO | B28: 105304-CES. SANTA CECILIA | E28: 2 | F28: 2 | G28: 13 | H28: 4 | I28: 8 | J28: 8 | K28: 6 | L28: 9 | M28: 7 | N28: 14 | Q28: =SUM(E28:P28) -> 73
A29: 04102-COQUIMBO | B29: 105305-CES. TIERRAS BLANCAS | E29: 7 | F29: 18 | G29: 4 | H29: 1 | I29: 6 | J29: 6 | K29: 41 | L29: 1 | M29: 4 | N29: 33 | Q29: =SUM(E29:P29) -> 121
A30: 04102-COQUIMBO | B30: 105321-CES. RURAL TONGOY | E30: 1 | F30: 1 | G30: 0 | H30: 0 | I30: 6 | J30: 0 | K30: 1 | L30: 2 | M30: 3 | N30: 3 | Q30: =SUM(E30:P30) -> 17
A31: 04102-COQUIMBO | B31: 105323-CES. DR. SERGIO AGUILAR | E31: 10 | F31: 3 | G31: 0 | H31: 11 | I31: 20 | J31: 7 | K31: 7 | L31: 8 | M31: 4 | N31: 10 | Q31: =SUM(E31:P31) -> 80
A32: 04102-COQUIMBO | B32: 105404-P.S.R. EL TANGUE | E32: 0 | F32: 0 | G32: 0 | H32: 0 | I32: 0 | J32: 0 | K32: 0 | M32: 0 | Q32: =SUM(E32:P32) -> 0
A33: 04102-COQUIMBO | B33: 105405-P.S.R. GUANAQUEROS | E33: 0 | F33: 0 | G33: 0 | H33: 0 | I33: 0 | J33: 0 | K33: 0 | L33: 1 | M33: 1 | N33: 0 | Q33: =SUM(E33:P33) -> 2
A34: 04102-COQUIMBO | B34: 105407-P.S.R. TAMBILLOS | E34: 0 | F34: 0 | G34: 0 | H34: 0 | I34: 0 | J34: 0 | K34: 0 | M34: 0 | Q34: =SUM(E34:P34) -> 0
A35: 04102-COQUIMBO | B35: 200273-CECOF PUNTA MIRA | E35: 1 | F35: 1 | G35: 0 | H35: 0 | I35: 0 | J35: 0 | K35: 1 | L35: 2 | M35: 0 | N35: 1 | Q35: =SUM(E35:P35) -> 6
A36: 04102-COQUIMBO | B36: 200494-CESFAM EL SAUCE | E36: 2 | F36: 3 | G36: 2 | H36: 2 | I36: 5 | J36: 3 | K36: 14 | L36: 26 | M36: 5 | N36: 1 | Q36: =SUM(E36:P36) -> 63
A37: 04102-COQUIMBO | B37: 200499-CESFAM PAN DE AZÚCAR | E37: 2 | F37: 5 | G37: 10 | H37: 1 | I37: 3 | J37: 7 | K37: 1 | L37: 1 | M37: 4 | N37: 1 | Q37: =SUM(E37:P37) -> 35
A38: 04102-COQUIMBO | B38: 200607-CESFAM LILA CORTES | E38: 3 | F38: 0 | G38: 1 | H38: 7 | I38: 7 | J38: 4 | K38: 4 | L38: 0 | M38: 1 | N38: 1 | Q38: =SUM(E38:P38) -> 28
A39: 04102-COQUIMBO | B39: 105803-SAPU San Juan | J39: 5 | M39: 0 | Q39: =SUM(E39:P39) -> 5
A40: TOTAL COQUIMBO | C40: =D40/Metas!J6 -> 0.9459485 | D40: =Q40/R40 -> 0.19864919 | E40: =SUM(E27:E38) -> 39 | F40: =SUM(F27:F38) -> 40 | G40: =SUM(G27:G38) -> 40 | H40: =SUM(H27:H38) -> 32 | I40: =SUM(I27:I38) -> 60 | J40: =SUM(J27:J38) -> 40 | K40: =SUM(K27:K38) -> 81 | L40: =SUM(L27:L38) -> 59 | M40: =SUM(M27:M39) -> 37 | N40: =SUM(N27:N38) -> 67 | O40: =SUM(O27:O38) -> 0 | P40: =SUM(P27:P38) -> 0 | Q40: =SUM(Q27:Q39) -> 500 | R40: 2517
A41: 04104-LA HIGUERA | B41: 105314-CES. LA HIGUERA | E41: 0 | F41: 0 | G41: 0 | H41: 0 | I41: 0 | J41: 1 | K41: 1 | L41: 0 | M41: 0 | N41: 4 | Q41: =SUM(E41:P41) -> 6
A42: 04104-LA HIGUERA | B42: 105500-P.S.R. CALETA HORNOS | E42: 0 | F42: 0 | G42: 0 | H42: 0 | I42: 1 | J42: 1 | K42: 0 | L42: 0 | M42: 0 | N42: 1 | Q42: =SUM(E42:P42) -> 3
A43: 04104-LA HIGUERA | B43: 105505-P.S.R. LOS CHOROS | F43: 0 | G43: 0 | H43: 0 | I43: 0 | J43: 2 | K43: 0 | L43: 2 | M43: 0 | N43: 0 | Q43: =SUM(E43:P43) -> 4
A44: 04104-LA HIGUERA | B44: 105506-P.S.R. EL TRAPICHE | E44: 0 | H44: 0 | I44: 0 | J44: 0 | K44: 1 | L44: 0 | M44: 1 | N44: 1 | Q44: =SUM(E44:P44) -> 3
A45: TOTAL LA HIGUERA | C45: =D45/Metas!J7 -> 0.82051282 | D45: =Q45/R45 -> 0.24615385 | E45: =SUM(E41:E44) -> 0 | F45: =SUM(F41:F44) -> 0 | G45: =SUM(G41:G44) -> 0 | H45: =SUM(H41:H44) -> 0 | I45: =SUM(I41:I44) -> 1 | J45: =SUM(J41:J44) -> 4 | K45: =SUM(K41:K44) -> 2 | L45: =SUM(L41:L44) -> 2 | ... Q45: =SUM(Q41:Q44) -> 16 | R45: 65
A46: 04105-PAIHUANO | B46: 105306-CES. PAIHUANO | E46: 1 | F46: 0 | G46: 6 | H46: 0 | I46: 3 | J46: 5 | K46: 1 | L46: 0 | M46: 0 | N46: 1 | Q46: =SUM(E46:P46) -> 17
A47: 04105-PAIHUANO | B47: 105475-P.S.R. HORCON | E47: 0 | F47: 0 | G47: 2 | H47: 0 | I47: 4 | J47: 0 | K47: 0 | L47: 0 | M47: 0 | N47: 5 | Q47: =SUM(E47:P47) -> 11
A48: 04105-PAIHUANO | B48: 105476-P.S.R. MONTE GRANDE | E48: 0 | F48: 0 | G48: 2 | H48: 2 | I48: 0 | J48: 0 | K48: 0 | L48: 0 | M48: 0 | N48: 0 | Q48: =SUM(E48:P48) -> 4
A49: 04105-PAIHUANO | B49: 105477-P.S.R. PISCO ELQUI | E49: 0 | F49: 0 | H49: 5 | I49: 0 | J49: 0 | K49: 0 | L49: 0 | M49: 0 | N49: 0 | Q49: =SUM(E49:P49) -> 5
A50: TOTAL PAIHUANO | C50: =D50/Metas!J8 -> 1.0323661 | D50: =Q50/R50 -> 0.66071429 | E50: =SUM(E46:E49) -> 1 | F50: =SUM(F46:F49) -> 0 | G50: =SUM(G46:G49) -> 10 | H50: =SUM(H46:H49) -> 7 | I50: =SUM(I46:I49) -> 7 | J50: =SUM(J46:J49) -> 5 | K50: =SUM(K46:K49) -> 1 | L50: =SUM(L46:L49) -> 0 | ... Q50: =SUM(Q46:Q49) -> 37 | R50: 56
A51: 04106-VICUÑA | B51: 105467-P.S.R. DIAGUITAS | E51: 0 | F51: 0 | G51: 1 | H51: 0 | I51: 8 | J51: 0 | K51: 0 | L51: 1 | M51: 0 | N51: 4 | Q51: =SUM(E51:P51) -> 14
A52: 04106-VICUÑA | B52: 105468-P.S.R. EL MOLLE | E52: 0 | F52: 0 | G52: 0 | H52: 0 | I52: 5 | J52: 0 | K52: 1 | M52: 1 | Q52: =SUM(E52:P52) -> 7
A53: 04106-VICUÑA | B53: 105469-P.S.R. EL TAMBO | E53: 0 | F53: 0 | G53: 0 | H53: 0 | I53: 3 | J53: 0 | K53: 1 | L53: 0 | M53: 0 | N53: 1 | Q53: =SUM(E53:P53) -> 5
A54: 04106-VICUÑA | B54: 105470-P.S.R. HUANTA | E54: 0 | F54: 0 | G54: 0 | H54: 0 | K54: 0 | M54: 0 | Q54: =SUM(E54:P54) -> 0
A55: 04106-VICUÑA | B55: 105471-P.S.R. PERALILLO | E55: 0 | F55: 0 | G55: 0 | H55: 2 | I55: 12 | J55: 0 | K55: 1 | L55: 1 | M55: 1 | N55: 0 | Q55: =SUM(E55:P55) -> 17
A56: 04106-VICUÑA | B56: 105472-P.S.R. RIVADAVIA | E56: 0 | F56: 0 | G56: 0 | H56: 1 | I56: 8 | J56: 0 | K56: 1 | M56: 0 | N56: 3 | Q56: =SUM(E56:P56) -> 13
A57: 04106-VICUÑA | B57: 105473-P.S.R. TALCUNA | E57: 0 | F57: 0 | G57: 1 | H57: 0 | I57: 4 | J57: 0 | K57: 0 | L57: 3 | M57: 0 | N57: 1 | Q57: =SUM(E57:P57) -> 9
A58: 04106-VICUÑA | B58: 105474-P.S.R. CHAPILCA | E58: 0 | F58: 0 | G58: 0 | H58: 0 | I58: 0 | J58: 0 | K58: 1 | L58: 0 | M58: 0 | Q58: =SUM(E58:P58) -> 1
A59: 04106-VICUÑA | B59: 105509-P.S.R. GUALLIGUAICA | E59: 0 | F59: 0 | G59: 0 | H59: 0 | I59: 1 | J59: 1 | K59: 0 | L59: 0 | M59: 0 | N59: 1 | Q59: =SUM(E59:P59) -> 3
A60: 04106-VICUÑA | B60: 200538-CESFAM SAN ISIDRO CALINGASTA | E60: 0 | F60: 0 | G60: 3 | H60: 1 | I60: 1 | J60: 0 | K60: 0 | L60: 1 | M60: 2 | N60: 2 | Q60: =SUM(E60:P60) -> 10
A61: TOTAL VICUÑA | C61: =D61/Metas!J9 -> 1.2452711 | D61: =Q61/R61 -> 0.64754098 | E61: =SUM(E51:E60) -> 0 | F61: =SUM(F51:F60) -> 0 | G61: =SUM(G51:G60) -> 5 | H61: =SUM(H51:H60) -> 4 | I61: =SUM(I51:I60) -> 42 | J61: =SUM(J51:J60) -> 1 | K61: =SUM(K51:K60) -> 5 | L61: =SUM(L51:L60) -> 6 | ... Q61: =SUM(Q51:Q60) -> 79 | R61: 122
A62: 04201-ILLAPEL | B62: 105326-CESFAM SAN RAFAEL | E62: 1 | F62: 0 | G62: 0 | H62: 0 | I62: 1 | J62: 1 | K62: 2 | L62: 3 | M62: 1 | N62: 2 | Q62: =SUM(E62:P62) -> 11
A63: 04201-ILLAPEL | B63: 105443-P.S.R. CARCAMO | E63: 2 | F63: 0 | G63: 0 | H63: 1 | I63: 0 | J63: 0 | K63: 0 | L63: 0 | M63: 0 | N63: 0 | Q63: =SUM(E63:P63) -> 3
A64: 04201-ILLAPEL | B64: 105444-P.S.R. HUINTIL | E64: 0 | F64: 0 | G64: 0 | H64: 0 | J64: 0 | K64: 0 | L64: 0 | M64: 0 | Q64: =SUM(E64:P64) -> 0
A65: 04201-ILLAPEL | B65: 105445-P.S.R. LIMAHUIDA | E65: 1 | F65: 1 | G65: 0 | H65: 1 | I65: 0 | J65: 0 | K65: 0 | L65: 0 | M65: 0 | N65: 0 | Q65: =SUM(E65:P65) -> 3
A66: 04201-ILLAPEL | B66: 105446-P.S.R. MATANCILLA | E66: 0 | F66: 0 | G66: 0 | H66: 0 | I66: 0 | J66: 0 | K66: 2 | L66: 0 | M66: 0 | Q66: =SUM(E66:P66) -> 2
A67: 04201-ILLAPEL | B67: 105447-P.S.R. PERALILLO | E67: 0 | G67: 1 | H67: 0 | I67: 1 | J67: 1 | K67: 0 | L67: 0 | M67: 0 | Q67: =SUM(E67:P67) -> 3
A68: 04201-ILLAPEL | B68: 105448-P.S.R. SANTA VIRGINIA | E68: 0 | F68: 0 | G68: 0 | H68: 0 | I68: 0 | J68: 0 | K68: 0 | L68: 0 | M68: 0 | Q68: =SUM(E68:P68) -> 0
A69: 04201-ILLAPEL | B69: 105449-P.S.R. TUNGA NORTE | E69: 1 | F69: 0 | G69: 0 | I69: 0 | J69: 0 | K69: 0 | L69: 0 | M69: 0 | Q69: =SUM(E69:P69) -> 1
A70: 04201-ILLAPEL | B70: 105485-P.S.R. PLAN DE HORNOS | E70: 0 | F70: 0 | G70: 0 | H70: 0 | I70: 0 | J70: 0 | K70: 0 | L70: 0 | M70: 0 | Q70: =SUM(E70:P70) -> 0
A71: 04201-ILLAPEL | B71: 105486-P.S.R. TUNGA SUR | E71: 0 | F71: 0 | G71: 0 | I71: 0 | J71: 0 | K71: 0 | L71: 0 | M71: 0 | Q71: =SUM(E71:P71) -> 0
A72: 04201-ILLAPEL | B72: 105487-P.S.R. CAÑAS UNO | E72: 0 | F72: 0 | G72: 0 | H72: 1 | I72: 2 | J72: 0 | K72: 1 | L72: 0 | M72: 2 | N72: 1 | Q72: =SUM(E72:P72) -> 7
A73: 04201-ILLAPEL | B73: 105496-P.S.R. PINTACURA SUR | E73: 0 | F73: 0 | G73: 0 | H73: 0 | I73: 0 | J73: 0 | K73: 0 | L73: 0 | M73: 0 | N73: 0 | Q73: =SUM(E73:P73) -> 0
A74: 04201-ILLAPEL | B74: 105504-P.S.R. SOCAVON | E74: 0 | F74: 1 | G74: 0 | H74: 0 | I74: 0 | J74: 0 | K74: 1 | L74: 0 | M74: 0 | N74: 0 | Q74: =SUM(E74:P74) -> 2
A75: 04201-ILLAPEL | B75: 200366-CESFAM URBANO II | E75: 1 | F75: 6 | G75: 4 | H75: 3 | I75: 6 | J75: 1 | K75: 8 | L75: 11 | M75: 3 | N75: 4 | Q75: =SUM(E75:P75) -> 47
A76: TOTAL ILLAPEL | C76: =D76/Metas!J10 -> 0.668868 | D76: =Q76/R76 -> 0.20734908 | E76: =SUM(E62:E75) -> 6 | F76: =SUM(F62:F75) -> 8 | G76: =SUM(G62:G75) -> 5 | H76: =SUM(H62:H75) -> 6 | I76: =SUM(I62:I75) -> 10 | J76: =SUM(J62:J75) -> 3 | K76: =SUM(K62:K75) -> 14 | L76: =SUM(L62:L75) -> 14 | ... Q76: =SUM(Q62:Q75) -> 79 | R76: 381
A77: 04202-CANELA | B77: 105309-CES. RURAL CANELA | E77: 1 | F77: 4 | G77: 2 | H77: 5 | I77: 4 | J77: 0 | K77: 2 | L77: 4 | M77: 0 | N77: 6 | Q77: =SUM(E77:P77) -> 28
A78: 04202-CANELA | B78: 105450-P.S.R. MINCHA NORTE | E78: 0 | F78: 0 | G78: 0 | H78: 0 | I78: 0 | J78: 1 | K78: 0 | L78: 0 | M78: 0 | Q78: =SUM(E78:P78) -> 1
A79: 04202-CANELA | B79: 105451-P.S.R. AGUA FRIA | E79: 0 | F79: 0 | G79: 3 | H79: 0 | I79: 0 | J79: 0 | K79: 0 | L79: 0 | M79: 0 | Q79: =SUM(E79:P79) -> 3
A80: 04202-CANELA | B80: 105482-P.S.R. CANELA ALTA | E80: 0 | F80: 0 | G80: 0 | H80: 0 | I80: 0 | J80: 0 | K80: 0 | L80: 0 | M80: 0 | N80: 2 | Q80: =SUM(E80:P80) -> 2
A81: 04202-CANELA | B81: 105483-P.S.R. LOS RULOS | E81: 0 | F81: 0 | G81: 0 | H81: 1 | I81: 0 | J81: 0 | K81: 0 | L81: 0 | M81: 0 | Q81: =SUM(E81:P81) -> 1
A82: 04202-CANELA | B82: 105484-P.S.R. HUENTELAUQUEN | E82: 0 | F82: 0 | G82: 3 | H82: 1 | I82: 0 | J82: 0 | K82: 2 | L82: 0 | M82: 0 | N82: 1 | Q82: =SUM(E82:P82) -> 7
A83: 04202-CANELA | B83: 105488-P.S.R. ESPIRITU SANTO | E83: 0 | F83: 0 | G83: 0 | H83: 0 | I83: 0 | J83: 0 | K83: 0 | L83: 0 | M83: 0 | Q83: =SUM(E83:P83) -> 0
A84: 04202-CANELA | B84: 105493-P.S.R. MINCHA SUR | E84: 0 | F84: 0 | G84: 0 | H84: 0 | I84: 0 | J84: 0 | K84: 0 | L84: 0 | M84: 0 | Q84: =SUM(E84:P84) -> 0
A85: 04202-CANELA | B85: 105497-P.S.R. JABONERIA | E85: 0 | F85: 0 | G85: 0 | H85: 0 | I85: 0 | J85: 0 | K85: 0 | L85: 0 | M85: 0 | Q85: =SUM(E85:P85) -> 0
A86: 04202-CANELA | B86: 105498-P.S.R. QUEBRADA DE LINARES | E86: 0 | F86: 0 | G86: 0 | H86: 0 | I86: 0 | J86: 0 | K86: 0 | L86: 0 | M86: 0 | Q86: =SUM(E86:P86) -> 0
A87: TOTAL CANELA | C87: =D87/Metas!J11 -> 0.61764706 | D87: =Q87/R87 -> 0.49411765 | E87: =SUM(E77:E86) -> 1 | F87: =SUM(F77:F86) -> 4 | G87: =SUM(G77:G86) -> 8 | H87: =SUM(H77:H86) -> 7 | I87: =SUM(I77:I86) -> 4 | J87: =SUM(J77:J86) -> 1 | K87: =SUM(K77:K86) -> 4 | L87: =SUM(L77:L86) -> 4 | ... Q87: =SUM(Q77:Q86) -> 42 | R87: 85
A88: 04203-LOS VILOS | B88: 105478-P.S.R. CAIMANES | E88: 0 | F88: 0 | G88: 1 | H88: 0 | I88: 0 | J88: 2 | K88: 0 | L88: 2 | M88: 0 | N88: 1 | Q88: =SUM(E88:P88) -> 6
A89: 04203-LOS VILOS | B89: 105479-P.S.R. GUANGUALI | E89: 0 | F89: 0 | G89: 0 | H89: 0 | I89: 1 | J89: 0 | K89: 0 | L89: 0 | M89: 0 | N89: 0 | Q89: =SUM(E89:P89) -> 1
A90: 04203-LOS VILOS | B90: 105480-P.S.R. QUILIMARI | E90: 0 | F90: 0 | G90: 1 | H90: 0 | I90: 0 | J90: 0 | K90: 3 | L90: 2 | M90: 0 | N90: 3 | Q90: =SUM(E90:P90) -> 9
A91: 04203-LOS VILOS | B91: 105481-P.S.R. TILAMA | E91: 0 | F91: 0 | G91: 1 | I91: 0 | J91: 0 | K91: 0 | L91: 0 | M91: 0 | N91: 0 | Q91: =SUM(E91:P91) -> 1
A92: 04203-LOS VILOS | B92: 105511-P.S.R. LOS CONDORES | E92: 0 | F92: 0 | G92: 0 | H92: 0 | I92: 0 | J92: 0 | K92: 1 | L92: 0 | M92: 1 | N92: 0 | Q92: =SUM(E92:P92) -> 2
A93: TOTAL LOS VILOS | C93: =D93/Metas!J12 -> 1.0149573 | D93: =Q93/R93 -> 0.18269231 | E93: =SUM(E88:E92) -> 0 | F93: =SUM(F88:F92) -> 0 | G93: =SUM(G88:G92) -> 3 | H93: =SUM(H88:H92) -> 0 | I93: =SUM(I88:I92) -> 1 | J93: =SUM(J88:J92) -> 2 | K93: =SUM(K88:K92) -> 4 | L93: =SUM(L88:L92) -> 4 | ... Q93: =SUM(Q88:Q92) -> 19 | R93: 104
A94: 04204-SALAMANCA | B94: 105452-P.S.R. CUNCUMEN | E94: 0 | F94: 0 | G94: 0 | H94: 0 | I94: 1 | J94: 0 | K94: 0 | L94: 1 | M94: 0 | Q94: =SUM(E94:P94) -> 2
A95: 04204-SALAMANCA | B95: 105453-P.S.R. TRANQUILLA | E95: 0 | F95: 0 | G95: 0 | H95: 2 | I95: 1 | J95: 1 | K95: 0 | L95: 0 | M95: 0 | Q95: =SUM(E95:P95) -> 4
A96: 04204-SALAMANCA | B96: 105454-P.S.R. CUNLAGUA | E96: 0 | F96: 0 | G96: 0 | H96: 0 | I96: 0 | J96: 0 | K96: 0 | L96: 0 | M96: 0 | Q96: =SUM(E96:P96) -> 0
A97: 04204-SALAMANCA | B97: 105455-CESFAM Valle Alto | E97: 0 | F97: 0 | G97: 0 | H97: 6 | I97: 2 | J97: 0 | K97: 1 | L97: 1 | M97: 0 | N97: 0 | Q97: =SUM(E97:P97) -> 10
A98: 04204-SALAMANCA | B98: 105456-P.S.R. LLIMPO | E98: 0 | F98: 0 | G98: 1 | H98: 0 | I98: 0 | J98: 0 | K98: 0 | L98: 0 | M98: 0 | Q98: =SUM(E98:P98) -> 1
A99: 04204-SALAMANCA | B99: 105457-P.S.R. SAN AGUSTIN | E99: 0 | F99: 0 | G99: 0 | H99: 0 | I99: 0 | J99: 0 | K99: 0 | L99: 0 | M99: 0 | Q99: =SUM(E99:P99) -> 0
A100: 04204-SALAMANCA | B100: 105458-P.S.R. TAHUINCO | E100: 0 | F100: 0 | G100: 0 | H100: 0 | I100: 0 | J100: 0 | K100: 0 | L100: 0 | M100: 0 | N100: 0 | Q100: =SUM(E100:P100) -> 0
A101: 04204-SALAMANCA | B101: 105491-P.S.R. QUELEN BAJO | E101: 0 | F101: 0 | G101: 0 | H101: 4 | I101: 0 | J101: 0 | K101: 0 | L101: 0 | M101: 0 | Q101: =SUM(E101:P101) -> 4
A102: 04204-SALAMANCA | B102: 105492-P.S.R. CAMISA | E102: 0 | F102: 0 | G102: 0 | H102: 0 | I102: 0 | J102: 0 | K102: 0 | L102: 0 | M102: 0 | Q102: =SUM(E102:P102) -> 0
A103: 04204-SALAMANCA | B103: 105501-P.S.R. ARBOLEDA GRANDE | E103: 0 | F103: 0 | G103: 0 | H103: 0 | I103: 0 | J103: 0 | K103: 0 | L103: 0 | M103: 0 | N103: 0 | Q103: =SUM(E103:P103) -> 0
A104: TOTAL SALAMANCA | C104: =D104/Metas!J13 -> 0.87390762 | D104: =Q104/R104 -> 0.23595506 | E104: =SUM(E94:E103) -> 0 | F104: =SUM(F94:F103) -> 0 | G104: =SUM(G94:G103) -> 1 | H104: =SUM(H94:H103) -> 12 | I104: =SUM(I94:I103) -> 4 | J104: =SUM(J94:J103) -> 1 | K104: =SUM(K94:K103) -> 1 | L104: =SUM(L94:L103) -> 2 | ... Q104: =SUM(Q94:Q103) -> 21 | R104: 89
A105: 04301-OVALLE | B105: 105315-CES. RURAL C. DE TAMAYA | E105: 0 | F105: 2 | G105: 2 | H105: 0 | I105: 4 | J105: 5 | K105: 1 | L105: 1 | M105: 6 | N105: 2 | Q105: =SUM(E105:P105) -> 23
A106: 04301-OVALLE | B106: 105317-CES. JORGE JORDAN D. | E106: 1 | F106: 3 | G106: 6 | H106: 5 | I106: 4 | J106: 1 | K106: 3 | L106: 10 | M106: 2 | N106: 6 | Q106: =SUM(E106:P106) -> 41
A107: 04301-OVALLE | B107: 105322-CES. MARCOS MACUADA | E107: 8 | G107: 7 | H107: 29 | I107: 11 | J107: 9 | K107: 5 | L107: 7 | M107: 8 | N107: 6 | Q107: =SUM(E107:P107) -> 90
...

Sheet Meta 4A
A1: COMUNA | B1: ESTABLECIMIENTO | C1: CUMPLIMIENTO | D1: Indicador | E1: META 4a: COBERTURA EFECTIVA DE DIABETES TIPO 2 (DM2) EN PERSONAS DE 15 Y MÁS AÑOS
E2: NUMERADOR | K2: DENOMINADOR
E10: Nº de personas bajo control por Diabetes Mellitus | G10: Nº de personas con DM 2 de 15 a 79 años con Hb A1c bajo 7% | I10: Nº de personas con DM 2 de 80 y más años con Hb A1c bajo 8% | K10: Nº total de personas egún prevalencia
D11: Resultado | E11: A JUNIO | F11: A DICBRE | G11: A JUNIO | H11: A DICBRE | I11: A JUNIO | J11: A DICBRE
A12: 04101-LA SERENA | B12: 105300-CES. CARDENAL CARO | E12: =G12+I12 -> 967 | F12: =H12+J12 -> 1134 | G12: 706 | H12: 927 | I12: 261 | J12: 207
A13: 04101-LA SERENA | B13: 105301-CES. LAS COMPAÑIAS | E13: =G13+I13 -> 484 | F13: =H13+J13 -> 794 | G13: 337 | H13: 626 | I13: 147 | J13: 168
A14: 04101-LA SERENA | B14: 105302-CES. PEDRO AGUIRRE C. | E14: =G14+I14 -> 725 | F14: =H14+J14 -> 884 | G14: 579 | H14: 720 | I14: 146 | J14: 164
A15: 04101-LA SERENA | B15: 105313-CES. SCHAFFHAUSER | E15: =G15+I15 -> 561 | F15: =H15+J15 -> 699 | G15: 448 | H15: 601 | I15: 113 | J15: 98
A16: 04101-LA SERENA | B16: 105319-CES. CARDENAL R.S.H. | E16: =G16+I16 -> 386 | F16: =H16+J16 -> 339 | G16: 322 | H16: 321 | I16: 64 | J16: 18
A17: 04101-LA SERENA | B17: 105325-CESFAM JUAN PABLO II | E17: =G17+I17 -> 674 | F17: =H17+J17 -> 665 | G17: 635 | H17: 617 | I17: 39 | J17: 48
A18: 04101-LA SERENA | B18: 105400-P.S.R. ALGARROBITO | E18: =G18+I18 -> 37 | F18: =H18+J18 -> 30 | G18: 37 | H18: 25 | I18: 0 | J18: 5
A19: 04101-LA SERENA | B19: 105401-P.S.R. LAS ROJAS | E19: =G19+I19 -> 32 | F19: =H19+J19 -> 22 | G19: 32 | H19: 22 | I19: 0 | J19: 0
A20: 04101-LA SERENA | B20: 105402-P.S.R. EL ROMERO | E20: =G20+I20 -> 55 | F20: =H20+J20 -> 37 | G20: 41 | H20: 32 | I20: 14 | J20: 5
A21: 04101-LA SERENA | B21: 105499-P.S.R. LAMBERT | E21: =G21+I21 -> 29 | F21: =H21+J21 -> 10 | G21: 23 | H21: 8 | I21: 6 | J21: 2
A22: 04101-LA SERENA | B22: 105700-CECOF VILLA EL INDIO | E22: =G22+I22 -> 72 | F22: =H22+J22 -> 72 | G22: 53 | H22: 55 | I22: 19 | J22: 17
A23: 04101-LA SERENA | B23: 105701-CECOF VILLA ALEMANIA | E23: =G23+I23 -> 35 | F23: =H23+J23 -> 45 | G23: 31 | H23: 41 | I23: 4 | J23: 4
... A25: 04101-LA SERENA | B25: 200402-CECOF ARCOS DE PINAMAR | E25: =G25+I25 -> 78 | F25: =H25+J25 -> 79 | G25: 73 | H25: 74 | I25: 5 | J25: 5
A26: TOTAL LA SERENA | C26: =D26/Metas!K5 -> 0.95895841 | D26: =E26/K26 -> 0.1822021 | E26: =SUM(E12:E25) -> 4185 | F26: =SUM(F12:F25) -> 4863 | G26: =SUM(G12:G25) -> 3361 | H26: =SUM(H12:H25) -> 4122 | I26: =SUM(I12:I25) -> 824 | J26: =SUM(J12:J25) -> 741 | K26: 22969
A27: 04102-COQUIMBO | B27: 105303-CES. SAN JUAN | E27: =G27+I27 -> 873 | F27: =H27+J27 -> 218 | G27: 713 | H27: 164 | I27: 160 | J27: 54
A28: 04102-COQUIMBO | B28: 105304-CES. SANTA CECILIA | E28: =G28+I28 -> 517 | F28: =H28+J28 -> 597 | G28: 424 | H28: 491 | I28: 93 | J28: 106
A29: 04102-COQUIMBO | B29: 105305-CES. TIERRAS BLANCAS | E29: =G29+I29 -> 1009 | F29: =H29+J29 -> 943 | G29: 845 | H29: 796 | I29: 164 | J29: 147
A30: 04102-COQUIMBO | B30: 105321-CES. RURAL TONGOY | E30: =G30+I30 -> 279 | F30: =H30+J30 -> 209 | G30: 246 | H30: 179 | I30: 33 | J30: 30
A31: 04102-COQUIMBO | B31: 105323-CES. DR. SERGIO AGUILAR | E31: =G31+I31 -> 1017 | F31: =H31+J31 -> 1353 | G31: 845 | H31: 1115 | I31: 172 | J31: 238
A32: 04102-COQUIMBO | B32: 105404-P.S.R. EL TANGUE | E32: =G32+I32 -> 0 | F32: =H32+J32 -> 0 | G32: 0 | H32: 0 | I32: 0 | J32: 0
A33: 04102-COQUIMBO | B33: 105405-P.S.R. GUANAQUEROS | E33: =G33+I33 -> 120 | F33: =H33+J33 -> 62 | G33: 106 | H33: 54 | I33: 14 | J33: 8
A34: 04102-COQUIMBO | B34: 105407-P.S.R. TAMBILLOS | E34: =G34+I34 -> 23 | F34: =H34+J34 -> 27 | G34: 19 | H34: 20 | I34: 4 | J34: 7
A35: 04102-COQUIMBO | B35: 200273-CECOF PUNTA MIRA | E35: =G35+I35 -> 90 | F35: =H35+J35 -> 15 | G35: 80 | H35: 12 | I35: 10 | J35: 3
A36: 04102-COQUIMBO | B36: 200494-CESFAM EL SAUCE | E36: =G36+I36 -> 565 | F36: =H36+J36 -> 413 | G36: 488 | H36: 388 | I36: 77 | J36: 25
A37: 04102-COQUIMBO | B37: 200607-CESFAM LILA CORTES | E37: =G37+I37 -> 420 | F37: =H37+J37 -> 291 | G37: 380 | H37: 263 | I37: 40 | J37: 28
A38: 04102-COQUIMBO | B38: 200499-CESFAM PAN DE AZÚCAR | E38: =G38+I38 -> 387 | F38: =H38+J38 -> 450 | G38: 366 | H38: 396 | I38: 21 | J38: 54
A39: TOTAL COQUIMBO | C39: =D39/Metas!K6 -> 1.0826402 | D39: =E39/K39 -> 0.23818084 | E39: =SUM(E27:E38) -> 5300 | F39: =SUM(F27:F38) -> 4578 | G39: =SUM(G27:G38) -> 4512 | H39: =SUM(H27:H38) -> 3878 | I39: =SUM(I27:I38) -> 788 | J39: =SUM(J27:J38) -> 700 | K39: 22252
A40: 04104-LA HIGUERA | B40: 105314-CES. LA HIGUERA | E40: =G40+I40 -> 39 | F40: =H40+J40 -> 41 | G40: 38 | H40: 37 | I40: 1 | J40: 4
A41: 04104-LA HIGUERA | B41: 105500-P.S.R. CALETA HORNOS | E41: =G41+I41 -> 29 | F41: =H41+J41 -> 24 | G41: 22 | H41: 23 | I41: 7 | J41: 1
A42: 04104-LA HIGUERA | B42: 105505-P.S.R. LOS CHOROS | E42: =G42+I42 -> 22 | F42: =H42+J42 -> 21 | G42: 18 | H42: 19 | I42: 4 | J42: 2
A43: 04104-LA HIGUERA | B43: 105506-P.S.R. EL TRAPICHE | E43: =G43+I43 -> 10 | F43: =H43+J43 -> 15 | G43: 10 | H43: 13 | I43: 0 | J43: 2
A44: TOTAL LA HIGUERA | C44: =D44/Metas!K7 -> 0.82501444 | D44: =E44/K44 -> 0.14025245 | E44: =SUM(E40:E43) -> 100 | F44: =SUM(F40:F43) -> 101 | G44: =SUM(G40:G43) -> 88 | H44: =SUM(H40:H43) -> 92 | I44: =SUM(I40:I43) -> 12 | J44: =SUM(J40:J43) -> 9 | K44: 713
A45: 04105-PAIHUANO | B45: 105306-CES. PAIHUANO | E45: =G45+I45 -> 97 | F45: =H45+J45 -> 87 | G45: 79 | H45: 73 | I45: 18 | J45: 14
A46: 04105-PAIHUANO | B46: 105475-P.S.R. HORCON | E46: =G46+I46 -> 23 | F46: =H46+J46 -> 26 | G46: 20 | H46: 23 | I46: 3 | J46: 3
A47: 04105-PAIHUANO | B47: 105476-P.S.R. MONTE GRANDE | E47: =G47+I47 -> 7 | F47: =H47+J47 -> 12 | G47: 7 | H47: 11 | I47: 0 | J47: 1
A48: 04105-PAIHUANO | B48: 105477-P.S.R. PISCO ELQUI | E48: =G48+I48 -> 43 | F48: =H48+J48 -> 49 | G48: 31 | H48: 37 | I48: 12 | J48: 12
A49: TOTAL PAIHUANO | C49: =D49/Metas!K8 -> 0.87108014 | D49: =E49/K49 -> 0.24390244 | E49: =SUM(E45:E48) -> 170 | F49: =SUM(F45:F48) -> 174 | G49: =SUM(G45:G48) -> 137 | H49: =SUM(H45:H48) -> 144 | I49: =SUM(I45:I48) -> 33 | J49: =SUM(J45:J48) -> 30 | K49: 697
A50: 04106-VICUÑA | B50: 105467-P.S.R. DIAGUITAS | E50: =G50+I50 -> 68 | F50: =H50+J50 -> 40 | G50: 68 | H50: 36 | I50: 0 | J50: 4
A51: 04106-VICUÑA | B51: 105468-P.S.R. EL MOLLE | E51: =G51+I51 -> 46 | F51: =H51+J51 -> 30 | G51: 41 | H51: 26 | I51: 5 | J51: 4
A52: 04106-VICUÑA | B52: 105469-P.S.R. EL TAMBO | E52: =G52+I52 -> 56 | F52: =H52+J52 -> 27 | G52: 50 | H52: 24 | I52: 6 | J52: 3
A53: 04106-VICUÑA | B53: 105470-P.S.R. HUANTA | E53: =G53+I53 -> 10 | F53: =H53+J53 -> 8 | G53: 9 | H53: 7 | I53: 1 | J53: 1
A54: 04106-VICUÑA | B54: 105471-P.S.R. PERALILLO | E54: =G54+I54 -> 99 | F54: =H54+J54 -> 41 | G54: 89 | H54: 35 | I54: 10 | J54: 6
A55: 04106-VICUÑA | B55: 105472-P.S.R. RIVADAVIA | E55: =G55+I55 -> 48 | F55: =H55+J55 -> 20 | G55: 39 | H55: 16 | I55: 9 | J55: 4
A56: 04106-VICUÑA | B56: 105473-P.S.R. TALCUNA | E56: =G56+I56 -> 34 | F56: =H56+J56 -> 24 | G56: 34 | H56: 19 | I56: 0 | J56: 5
A57: 04106-VICUÑA | B57: 105474-P.S.R. CHAPILCA | E57: =G57+I57 -> 14 | F57: =H57+J57 -> 15 | G57: 13 | H57: 14 | I57: 1 | J57: 1
A58: 04106-VICUÑA | B58: 105509-P.S.R. GUALLIGUAICA | E58: =G58+I58 -> 15 | F58: =H58+J58 -> 15 | G58: 13 | H58: 12 | I58: 2 | J58: 3
A59: 04106-VICUÑA | B59: 200538-CESFAM SAN ISIDRO CALINGASTA | E59: =G59+I59 -> 122 | F59: =H59+J59 -> 118 | G59: 110 | H59: 106 | I59: 12 | J59: 12
A60: TOTAL VICUÑA | C60: =D60/Metas!K9 -> 1.1227085 | D60: =E60/K60 -> 0.29190422 | E60: =SUM(E50:E59) -> 512 | F60: =SUM(F50:F59) -> 338 | G60: =SUM(G50:G59) -> 466 | H60: =SUM(H50:H59) -> 295 | I60: =SUM(I50:I59) -> 46 | J60: =SUM(J50:J59) -> 43 | K60: 1754
A61: 04201-ILLAPEL | B61: 105326-CESFAM SAN RAFAEL | E61: =G61+I61 -> 296 | F61: =H61+J61 -> 254 | G61: 267 | H61: 230 | I61: 29 | J61: 24
A62: 04201-ILLAPEL | B62: 105443-P.S.R. CARCAMO | E62: =G62+I62 -> 48 | F62: =H62+J62 -> 27 | G62: 40 | H62: 22 | I62: 8 | J62: 5
A63: 04201-ILLAPEL | B63: 105444-P.S.R. HUINTIL | E63: =G63+I63 -> 0 | F63: =H63+J63 -> 14 | G63: 0 | H63: 9 | I63: 0 | J63: 5
A64: 04201-ILLAPEL | B64: 105445-P.S.R. LIMAHUIDA | E64: =G64+I64 -> 17 | F64: =H64+J64 -> 15 | G64: 13 | H64: 12 | I64: 4 | J64: 3
A65: 04201-ILLAPEL | B65: 105446-P.S.R. MATANCILLA | E65: =G65+I65 -> 0 | F65: =H65+J65 -> 3 | G65: 0 | H65: 3 | I65: 0 | J65: 0
A66: 04201-ILLAPEL | B66: 105447-P.S.R. PERALILLO | E66: =G66+I66 -> 13 | F66: =H66+J66 -> 18 | G66: 11 | H66: 13 | I66: 2 | J66: 5
A67: 04201-ILLAPEL | B67: 105448-P.S.R. SANTA VIRGINIA | E67: =G67+I67 -> 27 | F67: =H67+J67 -> 19 | G67: 23 | H67: 17 | I67: 4 | J67: 2
A68: 04201-ILLAPEL | B68: 105449-P.S.R. TUNGA NORTE | E68: =G68+I68 -> 8 | F68: =H68+J68 -> 4 | G68: 6 | H68: 3 | I68: 2 | J68: 1
A69: 04201-ILLAPEL | B69: 105485-P.S.R. PLAN DE HORNOS | E69: =G69+I69 -> 28 | F69: =H69+J69 -> 26 | G69: 24 | H69: 23 | I69: 4 | J69: 3
A70: 04201-ILLAPEL | B70: 105486-P.S.R. TUNGA SUR | E70: =G70+I70 -> 14 | F70: =H70+J70 -> 10 | G70: 12 | H70: 8 | I70: 2 | J70: 2
A71: 04201-ILLAPEL | B71: 105487-P.S.R. CAÑAS UNO | E71: =G71+I71 -> 85 | F71: =H71+J71 -> 57 | G71: 76 | H71: 50 | I71: 9 | J71: 7
A72: 04201-ILLAPEL | B72: 105496-P.S.R. PINTACURA SUR | E72: =G72+I72 -> 16 | F72: =H72+J72 -> 14 | G72: 14 | H72: 13 | I72: 2 | J72: 1
... A74: 04201-ILLAPEL | B74: 200366-CESFAM URBANO II | E74: =G74+I74 -> 797 | F74: =H74+J74 -> 624 | G74: 657 | H74: 504 | I74: 140 | J74: 120
A75: TOTAL ILLAPEL | C75: =D75/Metas!K10 -> 1.4243821 | D75: =E75/K75 -> 0.39882698 | E75: =SUM(E61:E74) -> 1360 | F75: =SUM(F61:F74) -> 1094 | G75: =SUM(G61:G74) -> 1151 | H75: =SUM(H61:H74) -> 913 | I75: =SUM(I61:I74) -> 209 | J75: =SUM(J61:J74) -> 181 | K75: 3410
A76: 04202-CANELA | B76: 105309-CES. RURAL CANELA | E76: =G76+I76 -> 198 | F76: =H76+J76 -> 141 | G76: 157 | H76: 118 | I76: 41 | J76: 23
A77: 04202-CANELA | B77: 105450-P.S.R. MINCHA NORTE | E77: =G77+I77 -> 70 | F77: =H77+J77 -> 70 | G77: 51 | H77: 49 | I77: 19 | J77: 21
A78: 04202-CANELA | B78: 105451-P.S.R. AGUA FRIA | E78: =G78+I78 -> 10 | F78: =H78+J78 -> 8 | G78: 9 | H78: 8 | I78: 1 | J78: 0
A79: 04202-CANELA | B79: 105482-P.S.R. CANELA ALTA | E79: =G79+I79 -> 24 | F79: =H79+J79 -> 23 | G79: 14 | H79: 20 | I79: 10 | J79: 3
A80: 04202-CANELA | B80: 105483-P.S.R. LOS RULOS | E80: =G80+I80 -> 4 | F80: =H80+J80 -> 6 | G80: 3 | H80: 4 | I80: 1 | J80: 2
A81: 04202-CANELA | B81: 105484-P.S.R. HUENTELAUQUEN | E81: =G81+I81 -> 36 | F81: =H81+J81 -> 25 | G81: 29 | H81: 22 | I81: 7 | J81: 3
A82: 04202-CANELA | B82: 105488-P.S.R. ESPIRITU SANTO | E82: =G82+I82 -> 2 | F82: =H82+J82 -> 2 | G82: 2 | H82: 2 | I82: 0 | J82: 0
A83: 04202-CANELA | B83: 105493-P.S.R. MINCHA SUR | E83: =G83+I83 -> 4 | F83: =H83+J83 -> 2 | G83: 4 | H83: 2 | I83: 0 | J83: 0
A84: 04202-CANELA | B84: 105497-P.S.R. JABONERIA | E84: =G84+I84 -> 4 | F84: =H84+J84 -> 7 | G84: 3 | H84: 6 | I84: 1 | J84: 1
A85: 04202-CANELA | B85: 105498-P.S.R. QUEBRADA DE LINARES | E85: =G85+I85 -> 0 | F85: =H85+J85 -> 0 | G85: =IFERROR(VLOOKUP($B85,'[1]Num 4A'!$G$3:$J$164,2,FALSE),0) -> 0 | H85: 0 | I85: 0 | J85: 0
A86: TOTAL CANELA | C86: =D86/Metas!K11 -> 1.1017214 | D86: =E86/K86 -> 0.27543036 | E86: =SUM(E76:E85) -> 352 | F86: =SUM(F76:F85) -> 284 | G86: =SUM(G76:G85) -> 272 | H86: =SUM(H76:H85) -> 231 | I86: =SUM(I76:I85) -> 80 | J86: =SUM(J76:J85) -> 53 | K86: 1278
A87: 04203-LOS VILOS | B87: 105478-P.S.R. CAIMANES | E87: =G87+I87 -> 57 | F87: =H87+J87 -> 61 | G87: 48 | H87: 50 | I87: 9 | J87: 11
A88: 04203-LOS VILOS | B88: 105479-P.S.R. GUANGUALI | E88: =G88+I88 -> 25 | F88: =H88+J88 -> 25 | G88: 17 | H88: 18 | I88: 8 | J88: 7
A89: 04203-LOS VILOS | B89: 105480-P.S.R. QUILIMARI | E89: =G89+I89 -> 154 | F89: =H89+J89 -> 154 | G89: 134 | H89: 133 | I89: 20 | J89: 21
A90: 04203-LOS VILOS | B90: 105481-P.S.R. TILAMA | E90: =G90+I90 -> 9 | F90: =H90+J90 -> 10 | G90: 9 | H90: 8 | I90: 0 | J90: 2
A91: 04203-LOS VILOS | B91: 105511-P.S.R. LOS CONDORES | E91: =G91+I91 -> 19 | F91: =H91+J91 -> 24 | G91: 14 | H91: 17 | I91: 5 | J91: 7
A92: TOTAL LOS VILOS | C92: =D92/Metas!K12 -> 1.1060835 | D92: =E92/K92 -> 0.29864253 | E92: =SUM(E87:E91) -> 264 | F92: =SUM(F87:F91) -> 274 | G92: =SUM(G87:G91) -> 222 | H92: =SUM(H87:H91) -> 226 | I92: =SUM(I87:I91) -> 42 | J92: =SUM(J87:J91) -> 48 | K92: 884
A93: 04204-SALAMANCA | B93: 105452-P.S.R. CUNCUMEN | E93: =G93+I93 -> 21 | F93: =H93+J93 -> 21 | G93: 20 | H93: 16 | I93: 1 | J93: 5
A94: 04204-SALAMANCA | B94: 105453-P.S.R. TRANQUILLA | E94: =G94+I94 -> 85 | F94: =H94+J94 -> 80 | G94: 76 | H94: 68 | I94: 9 | J94: 12
A95: 04204-SALAMANCA | B95: 105454-P.S.R. CUNLAGUA | E95: =G95+I95 -> 15 | F95: =H95+J95 -> 10 | G95: 15 | H95: 10 | I95: 0 | J95: 0
A96: 04204-SALAMANCA | B96: 105455-CESFAM Valle Alto | E96: =G96+I96 -> 74 | F96: =H96+J96 -> 47 | G96: 63 | H96: 37 | I96: 11 | J96: 10
A97: 04204-SALAMANCA | B97: 105456-P.S.R. LLIMPO | E97: =G97+I97 -> 46 | F97: =H97+J97 -> 40 | G97: 43 | H97: 37 | I97: 3 | J97: 3
A98: 04204-SALAMANCA | B98: 105457-P.S.R. SAN AGUSTIN | E98: =G98+I98 -> 16 | F98: =H98+J98 -> 16 | G98: 12 | H98: 11 | I98: 4 | J98: 5
A99: 04204-SALAMANCA | B99: 105458-P.S.R. TAHUINCO | E99: =G99+I99 -> 127 | F99: =H99+J99 -> 108 | G99: 105 | H99: 85 | I99: 22 | J99: 23
A100: 04204-SALAMANCA | B100: 105491-P.S.R. QUELEN BAJO | E100: =G100+I100 -> 125 | F100: =H100+J100 -> 108 | G100: 109 | H100: 92 | I100: 16 | J100: 16
A101: 04204-SALAMANCA | B101: 105492-P.S.R. CAMISA | E101: =G101+I101 -> 17 | F101: =H101+J101 -> 16 | G101: 16 | H101: 16 | I101: 1 | J101: 0
A102: 04204-SALAMANCA | B102: 105501-P.S.R. ARBOLEDA GRANDE | E102: =G102+I102 -> 76 | F102: =H102+J102 -> 64 | G102: 64 | H102: 51 | I102: 12 | J102: 13
A103: TOTAL SALAMANCA | C103: =D103/Metas!K13 -> 1.4589695 | D103: =E103/K103 -> 0.37933207 | E103: =SUM(E93:E102) -> 602 | F103: =SUM(F93:F102) -> 510 | G103: =SUM(G93:G102) -> 523 | H103: =SUM(H93:H102) -> 423 | I103: =SUM(I93:I102) -> 79 | J103: =SUM(J93:J102) -> 87 | K103: 1587
A104: 04301-OVALLE | B104: 105315-CES. RURAL C. DE TAMAYA | E104: =G104+I104 -> 237 | F104: =H104+J104 -> 236 | G104: 237 | H104: 210 | I104: 0 | J104: 26
A105: 04301-OVALLE | B105: 105317-CES. JORGE JORDAN D. | E105: =G105+I105 -> 579 | F105: =H105+J105 -> 387 | G105: 483 | H105: 326 | I105: 96 | J105: 61
A106: 04301-OVALLE | B106: 105322-CES. MARCOS MACUADA | E106: =G106+I106 -> 652 | F106: =H106+J106 -> 623 | G106: 508 | H106: 497 | I106: 144 | J106: 126
A107: 04301-OVALLE | B107: 105324-CES. SOTAQUI | E107: =G107+I107 -> 201 | F107: =H107+J107 -> 167 | G107: 162 | H107: 134 | I107: 39 | J107: 33
A108: 04301-OVALLE | B108: 105415-P.S.R. BARRAZA | E108: =G108+I108 -> 53 | F108: =H108+J108 -> 52 | G108: 41 | H108: 39 | I108: 12 | J108: 13
A109: 04301-OVALLE | B109: 105416-P.S.R. CAMARICO | E109: =G109+I109 -> 37 | F109: =H109+J109 -> 29 | G109: 37 | H109: 25 | I109: 0 | J109: 4
...

Sheet Meta 4B
D1: COMUNA | E1: ESTABLECIMIENTO | F1: CUMPLIMIENTO | G1: Indicador | H1: META 4b : EVALUACIÓN ANUAL DE LOS PIES EN PERSONAS CON DIABETES BAJO CONTROL DE 15 AÑOS Y MÁS
H2: NUMERADOR | J2: DENOMINADOR
H10: Nº de personas con diabetes bajo control de 15 y más años con una evaluación de pie vigente | J10: Total de personas diabéticas de 15 y más años con DM2 bajo control
G11: Resultado | H11: A JUNIO | I11: A DICBRE | J11: A JUNIO | K11: A DICBRE
A12: 105300 | B12: 2176 | C12: =IF(B12=J12,TRUE) -> TRUE | D12: 04101-LA SERENA | E12: 105300-CES. CARDENAL CARO | H12: 1386 | I12: 1187 | J12: 2176 | K12: 2168
A13: 105301 | B13: 1447 | C13: =IF(B13=J13,TRUE) -> TRUE | D13: 04101-LA SERENA | E13: 105301-CES. LAS COMPAÑIAS | H13: 1616 | I13: 1357 | J13: 1447 | K13: 1542
A14: 105302 | B14: 1673 | C14: =IF(B14=J14,TRUE) -> TRUE | D14: 04101-LA SERENA | E14: 105302-CES. PEDRO AGUIRRE C. | H14: 1034 | I14: 1076 | J14: 1673 | K14: 1997
A15: 105313 | B15: 1934 | C15: =IF(B15=J15,TRUE) -> TRUE | D15: 04101-LA SERENA | E15: 105313-CES. SCHAFFHAUSER | H15: 1107 | I15: 1064 | J15: 1934 | K15: 1835
A16: 105319 | B16: 1340 | C16: =IF(B16=J16,TRUE) -> TRUE | D16: 04101-LA SERENA | E16: 105319-CES. CARDENAL R.S.H. | H16: 1107 | I16: 723 | J16: 1340 | K16: 1347
A17: 105325 | B17: 1176 | C17: =IF(B17=J17,TRUE) -> TRUE | D17: 04101-LA SERENA | E17: 105325-CESFAM JUAN PABLO II | H17: 737 | I17: 653 | J17: 1176 | K17: 997
A18: 105400 | B18: 121 | C18: =IF(B18=J18,TRUE) -> TRUE | D18: 04101-LA SERENA | E18: 105400-P.S.R. ALGARROBITO | H18: 88 | I18: 43 | J18: 121 | K18: 123
A19: 105401 | B19: 122 | C19: =IF(B19=J19,TRUE) -> TRUE | D19: 04101-LA SERENA | E19: 105401-P.S.R. LAS ROJAS | H19: 79 | I19: 35 | J19: 122 | K19: 91
A20: 105402 | B20: 183 | C20: =IF(B20=J20,TRUE) -> TRUE | D20: 04101-LA SERENA | E20: 105402-P.S.R. EL ROMERO | H20: 89 | I20: 52 | J20: 183 | K20: 152
A21: 105499 | B21: 91 | C21: =IF(B21=J21,TRUE) -> TRUE | D21: 04101-LA SERENA | E21: 105499-P.S.R. LAMBERT | H21: 67 | I21: 10 | J21: 91 | K21: 70
A22: 105700 | B22: 205 | C22: =IF(B22=J22,TRUE) -> TRUE | D22: 04101-LA SERENA | E22: 105700-CECOF VILLA EL INDIO | H22: 112 | I22: 95 | J22: 205 | K22: 185
A23: 105701 | B23: 132 | C23: =IF(B23=J23,TRUE) -> TRUE | D23: 04101-LA SERENA | E23: 105701-CECOF VILLA ALEMANIA | H23: 69 | I23: 68 | J23: 132 | K23: 95
... A25: 200402 | B25: 148 | C25: =IF(B25=J25,TRUE) -> TRUE | D25: 04101-LA SERENA | E25: 200402-CECOF ARCOS DE PINAMAR | H25: 106 | I25: 68 | J25: 148 | K25: 137
C26: =IF(B26=J26,TRUE) -> FALSE | D26: TOTAL LA SERENA | F26: =G26/Metas!L5 -> 1.1007778 | G26: =H26/J26 -> 0.70449776 | H26: =SUM(H12:H25) -> 7722 | I26: =SUM(I12:I25) -> 6602 | J26: =SUM(J12:J25) -> 10961 | K26: =SUM(K12:K25) -> 10936
A27: 105303 | B27: 1921 | C27: =IF(B27=J27,TRUE) -> TRUE | D27: 04102-COQUIMBO | E27: 105303-CES. SAN JUAN | H27: 1345 | I27: 1292 | J27: 1921 | K27: 1268
A28: 105304 | B28: 1433 | C28: =IF(B28=J28,TRUE) -> TRUE | D28: 04102-COQUIMBO | E28: 105304-CES. SANTA CECILIA | H28: 1013 | I28: 1142 | J28: 1433 | K28: 1384
A29: 105305 | B29: 1889 | C29: =IF(B29=J29,TRUE) -> TRUE | D29: 04102-COQUIMBO | E29: 105305-CES. TIERRAS BLANCAS | H29: 1416 | I29: 1510 | J29: 1889 | K29: 1898
A30: 105321 | B30: 460 | C30: =IF(B30=J30,TRUE) -> TRUE | D30: 04102-COQUIMBO | E30: 105321-CES. RURAL TONGOY | H30: 240 | I30: 164 | J30: 460 | K30: 424
A31: 105323 | B31: 2347 | C31: =IF(B31=J31,TRUE) -> TRUE | D31: 04102-COQUIMBO | E31: 105323-CES. DR. SERGIO AGUILAR | H31: 1075 | I31: 930 | J31: 2347 | K31: 1780
C32: =IF(B32=J32,TRUE) -> TRUE | D32: 04102-COQUIMBO | E32: 105404-P.S.R. EL TANGUE | H32: 0 | I32: 0 | J32: 0 | K32: 0
A33: 105405 | B33: 185 | C33: =IF(B33=J33,TRUE) -> TRUE | D33: 04102-COQUIMBO | E33: 105405-P.S.R. GUANAQUEROS | H33: 129 | I33: 60 | J33: 185 | K33: 147
A34: 105407 | B34: 46 | C34: =IF(B34=J34,TRUE) -> TRUE | D34: 04102-COQUIMBO | E34: 105407-P.S.R. TAMBILLOS | H34: 10 | I34: 38 | J34: 46 | K34: 45
A35: 200273 | B35: 204 | C35: =IF(B35=J35,TRUE) -> TRUE | D35: 04102-COQUIMBO | E35: 200273-CECOF PUNTA MIRA | H35: 88 | I35: 54 | J35: 204 | K35: 153
A36: 200494 | B36: 1116 | C36: =IF(B36=J36,TRUE) -> TRUE | D36: 04102-COQUIMBO | E36: 200494-CESFAM EL SAUCE | H36: 544 | I36: 524 | J36: 1116 | K36: 883
A37: 200607 | B37: 967 | C37: =IF(B37=J37,TRUE) -> TRUE | D37: 04102-COQUIMBO | E37: 200607-CESFAM LILA CORTES | H37: 668 | I37: 603 | J37: 967 | K37: 894
A38: 200499 | B38: 901 | C38: =IF(B38=J38,TRUE) -> TRUE | D38: 04102-COQUIMBO | E38: 200499-CESFAM PAN DE AZÚCAR | H38: 335 | I38: 458 | J38: 901 | K38: 910
C39: =IF(B39=J39,TRUE) -> FALSE | D39: TOTAL COQUIMBO | F39: =G39/Metas!L6 -> 0.94983441 | G39: =H39/J39 -> 0.59839568 | H39: =SUM(H27:H38) -> 6863 | I39: =SUM(I27:I38) -> 6775 | J39: =SUM(J27:J38) -> 11469 | K39: =SUM(K27:K38) -> 9786
A40: 105314 | B40: 83 | C40: =IF(B40=J40,TRUE) -> TRUE | D40: 04104-LA HIGUERA | E40: 105314-CES. LA HIGUERA | H40: 57 | I40: 69 | J40: 83 | K40: 94
A41: 105500 | B41: 64 | C41: =IF(B41=J41,TRUE) -> TRUE | D41: 04104-LA HIGUERA | E41: 105500-P.S.R. CALETA HORNOS | H41: 42 | I41: 28 | J41: 64 | K41: 51
A42: 105505 | B42: 57 | C42: =IF(B42=J42,TRUE) -> TRUE | D42: 04104-LA HIGUERA | E42: 105505-P.S.R. LOS CHOROS | H42: 29 | I42: 17 | J42: 57 | K42: 43
A43: 105506 | B43: 31 | C43: =IF(B43=J43,TRUE) -> TRUE | D43: 04104-LA HIGUERA | E43: 105506-P.S.R. EL TRAPICHE | H43: 17 | I43: 19 | J43: 31 | K43: 37
C44: =IF(B44=J44,TRUE) -> FALSE | D44: TOTAL LA HIGUERA | F44: =G44/Metas!L7 -> 0.92092728 | G44: =H44/J44 -> 0.61702128 | H44: =SUM(H40:H43) -> 145 | I44: =SUM(I40:I43) -> 133 | J44: =SUM(J40:J43) -> 235 | K44: =SUM(K40:K43) -> 225
A45: 105306 | B45: 199 | C45: =IF(B45=J45,TRUE) -> TRUE | D45: 04105-PAIHUANO | E45: 105306-CES. PAIHUANO | H45: 121 | I45: 142 | J45: 199 | K45: 178
A46: 105475 | B46: 58 | C46: =IF(B46=J46,TRUE) -> TRUE | D46: 04105-PAIHUANO | E46: 105475-P.S.R. HORCON | H46: 52 | I46: 47 | J46: 58 | K46: 59
A47: 105476 | B47: 26 | C47: =IF(B47=J47,TRUE) -> TRUE | D47: 04105-PAIHUANO | E47: 105476-P.S.R. MONTE GRANDE | H47: 23 | I47: 24 | J47: 26 | K47: 25
A48: 105477 | B48: 87 | C48: =IF(B48=J48,TRUE) -> TRUE | D48: 04105-PAIHUANO | E48: 105477-P.S.R. PISCO ELQUI | H48: 67 | I48: 74 | J48: 87 | K48: 87
C49: =IF(B49=J49,TRUE) -> FALSE | D49: TOTAL PAIHUANO | F49: =G49/Metas!L8 -> 0.88851351 | G49: =H49/J49 -> 0.71081081 | H49: =SUM(H45:H48) -> 263 | I49: =SUM(I45:I48) -> 287 | J49: =SUM(J45:J48) -> 370 | K49: =SUM(K45:K48) -> 349
A50: 105467 | B50: 97 | C50: =IF(B50=J50,TRUE) -> TRUE | D50: 04106-VICUÑA | E50: 105467-P.S.R. DIAGUITAS | H50: 72 | I50: 44 | J50: 97 | K50: 109
A51: 105468 | B51: 66 | C51: =IF(B51=J51,TRUE) -> TRUE | D51: 04106-VICUÑA | E51: 105468-P.S.R. EL MOLLE | H51: 45 | I51: 32 | J51: 66 | K51: 60
A52: 105469 | B52: 88 | C52: =IF(B52=J52,TRUE) -> TRUE | D52: 04106-VICUÑA | E52: 105469-P.S.R. EL TAMBO | H52: 43 | I52: 34 | J52: 88 | K52: 68
A53: 105470 | B53: 13 | C53: =IF(B53=J53,TRUE) -> TRUE | D53: 04106-VICUÑA | E53: 105470-P.S.R. HUANTA | H53: 9 | I53: 11 | J53: 13 | K53: 15
A54: 105471 | B54: 151 | C54: =IF(B54=J54,TRUE) -> TRUE | D54: 04106-VICUÑA | E54: 105471-P.S.R. PERALILLO | H54: 82 | I54: 79 | J54: 151 | K54: 143
A55: 105472 | B55: 74 | C55: =IF(B55=J55,TRUE) -> TRUE | D55: 04106-VICUÑA | E55: 105472-P.S.R. RIVADAVIA | H55: 51 | I55: 33 | J55: 74 | K55: 68
A56: 105473 | B56: 57 | C56: =IF(B56=J56,TRUE) -> TRUE | D56: 04106-VICUÑA | E56: 105473-P.S.R. TALCUNA | H56: 42 | I56: 29 | J56: 57 | K56: 50
A57: 105474 | B57: 23 | C57: =IF(B57=J57,TRUE) -> TRUE | D57: 04106-VICUÑA | E57: 105474-P.S.R. CHAPILCA | H57: 13 | I57: 19 | J57: 23 | K57: 29
A58: 105509 | B58: 26 | C58: =IF(B58=J58,TRUE) -> TRUE | D58: 04106-VICUÑA | E58: 105509-P.S.R. GUALLIGUAICA | H58: 21 | I58: 17 | J58: 26 | K58: 25
A59: 200538 | B59: 315 | C59: =IF(B59=J59,TRUE) -> TRUE | D59: 04106-VICUÑA | E59: 200538-CESFAM SAN ISIDRO CALINGASTA | H59: 159 | I59: 186 | J59: 315 | K59: 277
C60: =IF(B60=J60,TRUE) -> FALSE | D60: TOTAL VICUÑA | F60: =G60/Metas!L9 -> 0.9220467 | G60: =H60/J60 -> 0.59010989 | H60: =SUM(H50:H59) -> 537 | I60: =SUM(I50:I59) -> 484 | J60: =SUM(J50:J59) -> 910 | K60: =SUM(K50:K59) -> 844
A61: 105326 | B61: 444 | C61: =IF(B61=J61,TRUE) -> TRUE | D61: 04201-ILLAPEL | E61: 105326-CESFAM SAN RAFAEL | H61: 294 | I61: 273 | J61: 444 | K61: 401
A62: 105443 | B62: 74 | C62: =IF(B62=J62,TRUE) -> TRUE | D62: 04201-ILLAPEL | E62: 105443-P.S.R. CARCAMO | H62: 54 | I62: 49 | J62: 74 | K62: 70
C63: =IF(B63=J63,TRUE) -> TRUE | D63: 04201-ILLAPEL | E63: 105444-P.S.R. HUINTIL | H63: 0 | I63: 29 | J63: 0 | K63: 37
A64: 105445 | B64: 36 | C64: =IF(B64=J64,TRUE) -> TRUE | D64: 04201-ILLAPEL | E64: 105445-P.S.R. LIMAHUIDA | H64: 27 | I64: 25 | J64: 36 | K64: 36
C65: =IF(B65=J65,TRUE) -> TRUE | D65: 04201-ILLAPEL | E65: 105446-P.S.R. MATANCILLA | H65: 0 | I65: 6 | J65: 0 | K65: 7
A66: 105447 | B66: 52 | C66: =IF(B66=J66,TRUE) -> TRUE | D66: 04201-ILLAPEL | E66: 105447-P.S.R. PERALILLO | H66: 19 | I66: 29 | J66: 52 | K66: 52
A67: 105448 | B67: 46 | C67: =IF(B67=J67,TRUE) -> TRUE | D67: 04201-ILLAPEL | E67: 105448-P.S.R. SANTA VIRGINIA | H67: 27 | I67: 29 | J67: 46 | K67: 46
A68: 105449 | B68: 13 | C68: =IF(B68=J68,TRUE) -> TRUE | D68: 04201-ILLAPEL | E68: 105449-P.S.R. TUNGA NORTE | H68: 9 | I68: 7 | J68: 13 | K68: 11
A69: 105485 | B69: 61 | C69: =IF(B69=J69,TRUE) -> TRUE | D69: 04201-ILLAPEL | E69: 105485-P.S.R. PLAN DE HORNOS | H69: 41 | I69: 41 | J69: 61 | K69: 56
A70: 105486 | B70: 26 | C70: =IF(B70=J70,TRUE) -> TRUE | D70: 04201-ILLAPEL | E70: 105486-P.S.R. TUNGA SUR | H70: 21 | I70: 22 | J70: 26 | K70: 25
A71: 105487 | B71: 133 | C71: =IF(B71=J71,TRUE) -> TRUE | D71: 04201-ILLAPEL | E71: 105487-P.S.R. CAÑAS UNO | H71: 90 | I71: 106 | J71: 133 | K71: 126
A72: 105496 | B72: 27 | C72: =IF(B72=J72,TRUE) -> TRUE | D72: 04201-ILLAPEL | E72: 105496-P.S.R. PINTACURA SUR | H72: 20 | I72: 18 | J72: 27 | K72: 26
A73: 105504 | B73: 29 | C73: =IF(B73=J73,TRUE) -> TRUE | D73: 04201-ILLAPEL | E73: 105504-P.S.R. SOCAVON | H73: 12 | I73: 21 | J73: 29 | K73: 29
A74: 200366 | B74: 1193 | C74: =IF(B74=J74,TRUE) -> TRUE | D74: 04201-ILLAPEL | E74: 200366-CESFAM URBANO II | H74: 875 | I74: 905 | J74: 1193 | K74: 1039
C75: =IF(B75=J75,TRUE) -> FALSE | D75: TOTAL ILLAPEL | F75: =G75/Metas!L10 -> 0.99678672 | G75: =H75/J75 -> 0.6977507 | H75: =SUM(H61:H74) -> 1489 | I75: =SUM(I61:I74) -> 1560 | J75: =SUM(J61:J74) -> 2134 | K75: =SUM(K61:K74) -> 1961
A76: 105309 | B76: 317 | C76: =IF(B76=J76,TRUE) -> TRUE | D76: 04202-CANELA | E76: 105309-CES. RURAL CANELA | H76: 272 | I76: 119 | J76: 317 | K76: 313
A77: 105450 | B77: 112 | C77: =IF(B77=J77,TRUE) -> TRUE | D77: 04202-CANELA | E77: 105450-P.S.R. MINCHA NORTE | H77: 97 | I77: 89 | J77: 112 | K77: 111
A78: 105451 | B78: 23 | C78: =IF(B78=J78,TRUE) -> TRUE | D78: 04202-CANELA | E78: 105451-P.S.R. AGUA FRIA | H78: 11 | I78: 4 | J78: 23 | K78: 25
A79: 105482 | B79: 61 | C79: =IF(B79=J79,TRUE) -> TRUE | D79: 04202-CANELA | E79: 105482-P.S.R. CANELA ALTA | H79: 26 | I79: 36 | J79: 61 | K79: 49
A80: 105483 | B80: 7 | C80: =IF(B80=J80,TRUE) -> TRUE | D80: 04202-CANELA | E80: 105483-P.S.R. LOS RULOS | H80: 7 | I80: 8 | J80: 7 | K80: 8
A81: 105484 | B81: 61 | C81: =IF(B81=J81,TRUE) -> TRUE | D81: 04202-CANELA | E81: 105484-P.S.R. HUENTELAUQUEN | H81: 54 | I81: 44 | J81: 61 | K81: 48
A82: 105488 | B82: 8 | C82: =IF(B82=J82,TRUE) -> TRUE | D82: 04202-CANELA | E82: 105488-P.S.R. ESPIRITU SANTO | H82: 8 | I82: 8 | J82: 8 | K82: 8
A83: 105493 | B83: 7 | C83: =IF(B83=J83,TRUE) -> TRUE | D83: 04202-CANELA | E83: 105493-P.S.R. MINCHA SUR | H83: 3 | I83: 3 | J83: 7 | K83: 7
A84: 105497 | B84: 12 | C84: =IF(B84=J84,TRUE) -> TRUE | D84: 04202-CANELA | E84: 105497-P.S.R. JABONERIA | H84: 5 | I84: 9 | J84: 12 | K84: 12
A85: 105498 | B85: 1 | C85: =IF(B85=J85,TRUE) -> TRUE | D85: 04202-CANELA | E85: 105498-P.S.R. QUEBRADA DE LINARES | H85: 1 | I85: 1 | J85: 1 | K85: 0
C86: =IF(B86=J86,TRUE) -> FALSE | D86: TOTAL CANELA | F86: =G86/Metas!L11 -> 0.96920181 | G86: =H86/J86 -> 0.79474548 | H86: =SUM(H76:H85) -> 484 | I86: =SUM(I76:I85) -> 321 | J86: =SUM(J76:J85) -> 609 | K86: =SUM(K76:K85) -> 581
A87: 105478 | B87: 91 | C87: =IF(B87=J87,TRUE) -> TRUE | D87: 04203-LOS VILOS | E87: 105478-P.S.R. CAIMANES | H87: 91 | I87: 75 | J87: 91 | K87: 86
A88: 105479 | B88: 47 | C88: =IF(B88=J88,TRUE) -> TRUE | D88: 04203-LOS VILOS | E88: 105479-P.S.R. GUANGUALI | H88: 33 | I88: 33 | J88: 47 | K88: 43
A89: 105480 | B89: 263 | C89: =IF(B89=J89,TRUE) -> TRUE | D89: 04203-LOS VILOS | E89: 105480-P.S.R. QUILIMARI | H89: 254 | I89: 234 | J89: 263 | K89: 251
A90: 105481 | B90: 14 | C90: =IF(B90=J90,TRUE) -> TRUE | D90: 04203-LOS VILOS | E90: 105481-P.S.R. TILAMA | H90: 12 | I90: 12 | J90: 14 | K90: 14
A91: 105511 | B91: 38 | C91: =IF(B91=J91,TRUE) -> TRUE | D91: 04203-LOS VILOS | E91: 105511-P.S.R. LOS CONDORES | H91: 32 | I91: 33 | J91: 38 | K91: 38
C92: =IF(B92=J92,TRUE) -> FALSE | D92: TOTAL LOS VILOS | F92: =G92/Metas!L12 -> 1.2588748 | G92: =H92/J92 -> 0.93156733 | H92: =SUM(H87:H91) -> 422 | I92: =SUM(I87:I91) -> 387 | J92: =SUM(J87:J91) -> 453 | K92: =SUM(K87:K91) -> 432
A93: 105452 | B93: 56 | C93: =IF(B93=J93,TRUE) -> TRUE | D93: 04204-SALAMANCA | E93: 105452-P.S.R. CUNCUMEN | H93: 54 | I93: 52 | J93: 56 | K93: 52
A94: 105453 | B94: 148 | C94: =IF(B94=J94,TRUE) -> TRUE | D94: 04204-SALAMANCA | E94: 105453-P.S.R. TRANQUILLA | H94: 99 | I94: 134 | J94: 148 | K94: 155
A95: 105454 | B95: 21 | C95: =IF(B95=J95,TRUE) -> TRUE | D95: 04204-SALAMANCA | E95: 105454-P.S.R. CUNLAGUA | H95: 21 | I95: 20 | J95: 21 | K95: 20
A96: 105455 | B96: 136 | C96: =IF(B96=J96,TRUE) -> TRUE | D96: 04204-SALAMANCA | E96: 105455-CESFAM Valle Alto | H96: 91 | I96: 25 | J96: 136 | K96: 105
A97: 105456 | B97: 76 | C97: =IF(B97=J97,TRUE) -> TRUE | D97: 04204-SALAMANCA | E97: 105456-P.S.R. LLIMPO | H97: 63 | I97: 71 | J97: 76 | K97: 73
A98: 105457 | B98: 42 | C98: =IF(B98=J98,TRUE) -> TRUE | D98: 04204-SALAMANCA | E98: 105457-P.S.R. SAN AGUSTIN | H98: 19 | I98: 33 | J98: 42 | K98: 37
A99: 105458 | B99: 204 | C99: =IF(B99=J99,TRUE) -> TRUE | D99: 04204-SALAMANCA | E99: 105458-P.S.R. TAHUINCO | H99: 143 | I99: 155 | J99: 204 | K99: 209
A100: 105491 | B100: 217 | C100: =IF(B100=J100,TRUE) -> TRUE | D100: 04204-SALAMANCA | E100: 105491-P.S.R. QUELEN BAJO | H100: 173 | I100: 185 | J100: 217 | K100: 208
A101: 105492 | B101: 39 | C101: =IF(B101=J101,TRUE) -> TRUE | D101: 04204-SALAMANCA | E101: 105492-P.S.R. CAMISA | H101: 36 | I101: 32 | J101: 39 | K101: 37
A102: 105501 | B102: 119 | C102: =IF(B102=J102,TRUE) -> TRUE | D102: 04204-SALAMANCA | E102: 105501-P.S.R. ARBOLEDA GRANDE | H102: 99 | I102: 90 | J102: 119 | K102: 121
C103: =IF(B103=J103,TRUE) -> FALSE | D103: TOTAL SALAMANCA | F103: =G103/Metas!L13 -> 0.97954975 | G103: =H103/J103 -> 0.75425331 | H103: =SUM(H93:H102) -> 798 | I103: =SUM(I93:I102) -> 797 | J103: =SUM(J93:J102) -> 1058 | K103: =SUM(K93:K102) -> 1017
A104: 105315 | B104: 442 | C104: =IF(B104=J104,TRUE) -> TRUE | D104: 04301-OVALLE | E104: 105315-CES. RURAL C. DE TAMAYA | H104: 382 | I104: 294 | J104: 442 | K104: 418
A105: 105317 | B105: 1435 | C105: =IF(B105=J105,TRUE) -> TRUE | D105: 04301-OVALLE | E105: 105317-CES. JORGE JORDAN D. | H105: 826 | I105: 709 | J105: 1435 | K105: 1245
A106: 105322 | B106: 1341 | C106: =IF(B106=J106,TRUE) -> TRUE | D106: 04301-OVALLE | E106: 105322-CES. MARCOS MACUADA | H106: 1064 | I106: 1073 | J106: 1341 | K106: 1501
A107: 105324 | B107: 378 | C107: =IF(B107=J107,TRUE) -> TRUE | D107: 04301-OVALLE | E107: 105324-CES. SOTAQUI | H107: 274 | I107: 310 | J107: 378 | K107: 414
A108: 105415 | B108: 102 | C108: =IF(B108=J108,TRUE) -> TRUE | D108: 04301-OVALLE | E108: 105415-P.S.R. BARRAZA | H108: 102 | I108: 67 | J108: 102 | K108: 103
...

Sheet Meta 05
D1: COMUNA | E1: ESTABLECIMIENTO | F1: CUMPLIMIENTO | G1: Indicador | I1: META 5: COBERTURA EFECTIVA DE HIPERTENSIÓN ARTERIAL (HTA) EN PERSONAS DE 15 AÑOS Y MÁS
I2: NUMERADOR | K2: DENOMINADOR
I10: Personas bajo control por hipertensión | K10: Total de personas hipertensas de 15 y más años estimadas según prevalencia
G11: Resultado a Junio | H11: Resultado a Dic | I11: JUNIO | J11: DICBRE
A13: 105300 | B13: 2681 | C13: =IF(B13=I13,TRUE) -> TRUE | D13: 04101-LA SERENA | E13: 105300-CES. CARDENAL CARO | I13: 2681
A14: 105301 | B14: 1590 | C14: =IF(B14=I14,TRUE) -> TRUE | D14: 04101-LA SERENA | E14: 105301-CES. LAS COMPAÑIAS | I14: 1590
A15: 105302 | B15: 1830 | C15: =IF(B15=I15,TRUE) -> TRUE | D15: 04101-LA SERENA | E15: 105302-CES. PEDRO AGUIRRE C. | I15: 1830
A16: 105313 | B16: 1817 | C16: =IF(B16=I16,TRUE) -> TRUE | D16: 04101-LA SERENA | E16: 105313-CES. SCHAFFHAUSER | I16: 1817
A17: 105319 | B17: 1191 | C17: =IF(B17=I17,TRUE) -> TRUE | D17: 04101-LA SERENA | E17: 105319-CES. CARDENAL R.S.H. | I17: 1191
A18: 105325 | B18: 1558 | C18: =IF(B18=I18,TRUE) -> TRUE | D18: 04101-LA SERENA | E18: 105325-CESFAM JUAN PABLO II | I18: 1558
A19: 105400 | B19: 147 | C19: =IF(B19=I19,TRUE) -> TRUE | D19: 04101-LA SERENA | E19: 105400-P.S.R. ALGARROBITO | I19: 147
A20: 105401 | B20: 158 | C20: =IF(B20=I20,TRUE) -> TRUE | D20: 04101-LA SERENA | E20: 105401-P.S.R. LAS ROJAS | I20: 158
A21: 105402 | B21: 201 | C21: =IF(B21=I21,TRUE) -> TRUE | D21: 04101-LA SERENA | E21: 105402-P.S.R. EL ROMERO | I21: 201
A22: 105499 | B22: 106 | C22: =IF(B22=I22,TRUE) -> TRUE | D22: 04101-LA SERENA | E22: 105499-P.S.R. LAMBERT | I22: 106
A23: 105700 | B23: 259 | C23: =IF(B23=I23,TRUE) -> TRUE | D23: 04101-LA SERENA | E23: 105700-CECOF VILLA EL INDIO | I23: 259
A24: 105701 | B24: 85 | C24: =IF(B24=I24,TRUE) -> TRUE | D24: 04101-LA SERENA | E24: 105701-CECOF VILLA ALEMANIA | I24: 85
... A26: 200402 | B26: 221 | C26: =IF(B26=I26,TRUE) -> TRUE | D26: 04101-LA SERENA | E26: 200402-CECOF ARCOS DE PINAMAR | I26: 221
D27: TOTAL LA SERENA | F27: =G27/Metas!M5 -> 1.6360366 | G27: =I27/K27 -> 0.52353172 | I27: =SUM(I13:I26) -> 12025 | K27: 22969
A28: 105303 | B28: 1820 | C28: =IF(B28=I28,TRUE) -> TRUE | D28: 04102-COQUIMBO | E28: 105303-CES. SAN JUAN | I28: 1820
A29: 105304 | B29: 1282 | C29: =IF(B29=I29,TRUE) -> TRUE | D29: 04102-COQUIMBO | E29: 105304-CES. SANTA CECILIA | I29: 1282
A30: 105305 | B30: 2365 | C30: =IF(B30=I30,TRUE) -> TRUE | D30: 04102-COQUIMBO | E30: 105305-CES. TIERRAS BLANCAS | I30: 2365
A31: 105321 | B31: 571 | C31: =IF(B31=I31,TRUE) -> TRUE | D31: 04102-COQUIMBO | E31: 105321-CES. RURAL TONGOY | I31: 571
A32: 105323 | B32: 2348 | C32: =IF(B32=I32,TRUE) -> TRUE | D32: 04102-COQUIMBO | E32: 105323-CES. DR. SERGIO AGUILAR | I32: 2348
C33: =IF(B33=I33,TRUE) -> TRUE | D33: 04102-COQUIMBO | E33: 105404-P.S.R. EL TANGUE
A34: 105405 | B34: 250 | C34: =IF(B34=I34,TRUE) -> TRUE | D34: 04102-COQUIMBO | E34: 105405-P.S.R. GUANAQUEROS | I34: 250
A35: 105407 | B35: 61 | C35: =IF(B35=I35,TRUE) -> TRUE | D35: 04102-COQUIMBO | E35: 105407-P.S.R. TAMBILLOS | I35: 61
A36: 200273 | B36: 222 | C36: =IF(B36=I36,TRUE) -> TRUE | D36: 04102-COQUIMBO | E36: 200273-CECOF PUNTA MIRA | I36: 222
A37: 200494 | B37: 959 | C37: =IF(B37=I37,TRUE) -> TRUE | D37: 04102-COQUIMBO | E37: 200494-CESFAM EL SAUCE | I37: 959
A38: 200607 | B38: 868 | C38: =IF(B38=I38,TRUE) -> TRUE | D38: 04102-COQUIMBO | E38: 200607-CESFAM LILA CORTES | I38: 868
A39: 200499 | B39: 824 | C39: =IF(B39=I39,TRUE) -> TRUE | D39: 04102-COQUIMBO | E39: 200499-CESFAM PAN DE AZÚCAR | I39: 824
C40: =IF(B40=I40,TRUE) -> FALSE | D40: TOTAL COQUIMBO | F40: =G40/Metas!M6 -> 1.9998202 | G40: =I40/K40 -> 0.51995326 | I40: =SUM(I28:I39) -> 11570 | K40: 22252
A41: 105314 | B41: 77 | C41: =IF(B41=I41,TRUE) -> TRUE | D41: 04104-LA HIGUERA | E41: 105314-CES. LA HIGUERA | I41: 77
A42: 105500 | B42: 101 | C42: =IF(B42=I42,TRUE) -> TRUE | D42: 04104-LA HIGUERA | E42: 105500-P.S.R. CALETA HORNOS | I42: 101
A43: 105505 | B43: 47 | C43: =IF(B43=I43,TRUE) -> TRUE | D43: 04104-LA HIGUERA | E43: 105505-P.S.R. LOS CHOROS | I43: 47
A44: 105506 | B44: 24 | C44: =IF(B44=I44,TRUE) -> TRUE | D44: 04104-LA HIGUERA | E44: 105506-P.S.R. EL TRAPICHE | I44: 24
C45: =IF(B45=I45,TRUE) -> FALSE | D45: TOTAL LA HIGUERA | F45: =G45/Metas!M7 -> 1.4551192 | G45: =I45/K45 -> 0.34922861 | I45: =SUM(I41:I44) -> 249 | K45: 713
A46: 105306 | B46: 198 | C46: =IF(B46=I46,TRUE) -> TRUE | D46: 04105-PAIHUANO | E46: 105306-CES. PAIHUANO | I46: 198
A47: 105475 | B47: 76 | C47: =IF(B47=I47,TRUE) -> TRUE | D47: 04105-PAIHUANO | E47: 105475-P.S.R. HORCON | I47: 76
A48: 105476 | B48: 39 | C48: =IF(B48=I48,TRUE) -> TRUE | D48: 04105-PAIHUANO | E48: 105476-P.S.R. MONTE GRANDE | I48: 39
A49: 105477 | B49: 95 | C49: =IF(B49=I49,TRUE) -> TRUE | D49: 04105-PAIHUANO | E49: 105477-P.S.R. PISCO ELQUI | I49: 95
C50: =IF(B50=I50,TRUE) -> FALSE | D50: TOTAL PAIHUANO | F50: =G50/Metas!M8 -> 2.0905923 | G50: =I50/K50 -> 0.58536585 | I50: =SUM(I46:I49) -> 408 | K50: 697
A51: 105467 | B51: 99 | C51: =IF(B51=I51,TRUE) -> TRUE | D51: 04106-VICUÑA | E51: 105467-P.S.R. DIAGUITAS | I51: 99
A52: 105468 | B52: 71 | C52: =IF(B52=I52,TRUE) -> TRUE | D52: 04106-VICUÑA | E52: 105468-P.S.R. EL MOLLE | I52: 71
A53: 105469 | B53: 140 | C53: =IF(B53=I53,TRUE) -> TRUE | D53: 04106-VICUÑA | E53: 105469-P.S.R. EL TAMBO | I53: 140
A54: 105470 | B54: 21 | C54: =IF(B54=I54,TRUE) -> TRUE | D54: 04106-VICUÑA | E54: 105470-P.S.R. HUANTA | I54: 21
A55: 105471 | B55: 183 | C55: =IF(B55=I55,TRUE) -> TRUE | D55: 04106-VICUÑA | E55: 105471-P.S.R. PERALILLO | I55: 183
A56: 105472 | B56: 103 | C56: =IF(B56=I56,TRUE) -> TRUE | D56: 04106-VICUÑA | E56: 105472-P.S.R. RIVADAVIA | I56: 103
A57: 105473 | B57: 94 | C57: =IF(B57=I57,TRUE) -> TRUE | D57: 04106-VICUÑA | E57: 105473-P.S.R. TALCUNA | I57: 94
A58: 105474 | B58: 37 | C58: =IF(B58=I58,TRUE) -> TRUE | D58: 04106-VICUÑA | E58: 105474-P.S.R. CHAPILCA | I58: 37
A59: 105509 | B59: 39 | C59: =IF(B59=I59,TRUE) -> TRUE | D59: 04106-VICUÑA | E59: 105509-P.S.R. GUALLIGUAICA | I59: 39
A60: 200538 | B60: 275 | C60: =IF(B60=I60,TRUE) -> TRUE | D60: 04106-VICUÑA | E60: 200538-CESFAM SAN ISIDRO CALINGASTA | I60: 275
C61: =IF(B61=I61,TRUE) -> FALSE | D61: TOTAL VICUÑA | F61: =G61/Metas!M9 -> 1.7808035 | G61: =I61/K61 -> 0.6054732 | I61: =SUM(I51:I60) -> 1062 | K61: 1754
A62: 105326 | B62: 722 | C62: =IF(B62=I62,TRUE) -> TRUE | D62: 04201-ILLAPEL | E62: 105326-CESFAM SAN RAFAEL | I62: 722
A63: 105443 | B63: 125 | C63: =IF(B63=I63,TRUE) -> TRUE | D63: 04201-ILLAPEL | E63: 105443-P.S.R. CARCAMO | I63: 125
C64: =IF(B64=I64,TRUE) -> TRUE | D64: 04201-ILLAPEL | E64: 105444-P.S.R. HUINTIL
A65: 105445 | B65: 48 | C65: =IF(B65=I65,TRUE) -> TRUE | D65: 04201-ILLAPEL | E65: 105445-P.S.R. LIMAHUIDA | I65: 48
C66: =IF(B66=I66,TRUE) -> TRUE | D66: 04201-ILLAPEL | E66: 105446-P.S.R. MATANCILLA
A67: 105447 | B67: 66 | C67: =IF(B67=I67,TRUE) -> TRUE | D67: 04201-ILLAPEL | E67: 105447-P.S.R. PERALILLO | I67: 66
A68: 105448 | B68: 79 | C68: =IF(B68=I68,TRUE) -> TRUE | D68: 04201-ILLAPEL | E68: 105448-P.S.R. SANTA VIRGINIA | I68: 79
A69: 105449 | B69: 25 | C69: =IF(B69=I69,TRUE) -> TRUE | D69: 04201-ILLAPEL | E69: 105449-P.S.R. TUNGA NORTE | I69: 25
A70: 105485 | B70: 120 | C70: =IF(B70=I70,TRUE) -> TRUE | D70: 04201-ILLAPEL | E70: 105485-P.S.R. PLAN DE HORNOS | I70: 120
A71: 105486 | B71: 46 | C71: =IF(B71=I71,TRUE) -> TRUE | D71: 04201-ILLAPEL | E71: 105486-P.S.R. TUNGA SUR | I71: 46
A72: 105487 | B72: 166 | C72: =IF(B72=I72,TRUE) -> TRUE | D72: 04201-ILLAPEL | E72: 105487-P.S.R. CAÑAS UNO | I72: 166
A73: 105496 | B73: 58 | C73: =IF(B73=I73,TRUE) -> TRUE | D73: 04201-ILLAPEL | E73: 105496-P.S.R. PINTACURA SUR | I73: 58
A74: 105504 | B74: 49 | C74: =IF(B74=I74,TRUE) -> TRUE | D74: 04201-ILLAPEL | E74: 105504-P.S.R. SOCAVON | I74: 49
A75: 200366 | B75: 2001 | C75: =IF(B75=I75,TRUE) -> TRUE | D75: 04201-ILLAPEL | E75: 200366-CESFAM URBANO II | I75: 2001
C76: =IF(B76=I76,TRUE) -> FALSE | D76: TOTAL ILLAPEL | F76: =G76/Metas!M10 -> 2.3903703 | G76: =I76/K76 -> 1.0278592 | I76: =SUM(I62:I75) -> 3505 | K76: 3410
A77: 105309 | B77: 549 | C77: =IF(B77=I77,TRUE) -> TRUE | D77: 04202-CANELA | E77: 105309-CES. RURAL CANELA | I77: 549
A78: 105450 | B78: 259 | C78: =IF(B78=I78,TRUE) -> TRUE | D78: 04202-CANELA | E78: 105450-P.S.R. MINCHA NORTE | I78: 259
A79: 105451 | B79: 103 | C79: =IF(B79=I79,TRUE) -> TRUE | D79: 04202-CANELA | E79: 105451-P.S.R. AGUA FRIA | I79: 103
A80: 105482 | B80: 107 | C80: =IF(B80=I80,TRUE) -> TRUE | D80: 04202-CANELA | E80: 105482-P.S.R. CANELA ALTA | I80: 107
A81: 105483 | B81: 45 | C81: =IF(B81=I81,TRUE) -> TRUE | D81: 04202-CANELA | E81: 105483-P.S.R. LOS RULOS | I81: 45
A82: 105484 | B82: 142 | C82: =IF(B82=I82,TRUE) -> TRUE | D82: 04202-CANELA | E82: 105484-P.S.R. HUENTELAUQUEN | I82: 142
A83: 105488 | B83: 11 | C83: =IF(B83=I83,TRUE) -> TRUE | D83: 04202-CANELA | E83: 105488-P.S.R. ESPIRITU SANTO | I83: 11
A84: 105493 | B84: 26 | C84: =IF(B84=I84,TRUE) -> TRUE | D84: 04202-CANELA | E84: 105493-P.S.R. MINCHA SUR | I84: 26
A85: 105497 | B85: 16 | C85: =IF(B85=I85,TRUE) -> TRUE | D85: 04202-CANELA | E85: 105497-P.S.R. JABONERIA | I85: 16
A86: 105498 | B86: 14 | C86: =IF(B86=I86,TRUE) -> TRUE | D86: 04202-CANELA | E86: 105498-P.S.R. QUEBRADA DE LINARES | I86: 14
C87: =IF(B87=I87,TRUE) -> FALSE | D87: TOTAL CANELA | F87: =G87/Metas!M11 -> 2.5520645 | G87: =I87/K87 -> 0.99530516 | I87: =SUM(I77:I86) -> 1272 | K87: 1278
A88: 105478 | B88: 187 | C88: =IF(B88=I88,TRUE) -> TRUE | D88: 04203-LOS VILOS | E88: 105478-P.S.R. CAIMANES | I88: 187
A89: 105479 | B89: 165 | C89: =IF(B89=I89,TRUE) -> TRUE | D89: 04203-LOS VILOS | E89: 105479-P.S.R. GUANGUALI | I89: 165
A90: 105480 | B90: 506 | C90: =IF(B90=I90,TRUE) -> TRUE | D90: 04203-LOS VILOS | E90: 105480-P.S.R. QUILIMARI | I90: 506
A91: 105481 | B91: 55 | C91: =IF(B91=I91,TRUE) -> TRUE | D91: 04203-LOS VILOS | E91: 105481-P.S.R. TILAMA | I91: 55
A92: 105511 | B92: 119 | C92: =IF(B92=I92,TRUE) -> TRUE | D92: 04203-LOS VILOS | E92: 105511-P.S.R. LOS CONDORES | I92: 119
C93: =IF(B93=I93,TRUE) -> FALSE | D93: TOTAL LOS VILOS | F93: =G93/Metas!M12 -> 2.7149321 | G93: =I93/K93 -> 1.1674208 | I93: =SUM(I88:I92) -> 1032 | K93: 884
A94: 105452 | B94: 82 | C94: =IF(B94=I94,TRUE) -> TRUE | D94: 04204-SALAMANCA | E94: 105452-P.S.R. CUNCUMEN | I94: 82
A95: 105453 | B95: 243 | C95: =IF(B95=I95,TRUE) -> TRUE | D95: 04204-SALAMANCA | E95: 105453-P.S.R. TRANQUILLA | I95: 243
A96: 105454 | B96: 51 | C96: =IF(B96=I96,TRUE) -> TRUE | D96: 04204-SALAMANCA | E96: 105454-P.S.R. CUNLAGUA | I96: 51
A97: 105455 | B97: 201 | C97: =IF(B97=I97,TRUE) -> TRUE | D97: 04204-SALAMANCA | E97: 105455-CESFAM Valle Alto | I97: 201
A98: 105456 | B98: 124 | C98: =IF(B98=I98,TRUE) -> TRUE | D98: 04204-SALAMANCA | E98: 105456-P.S.R. LLIMPO | I98: 124
A99: 105457 | B99: 71 | C99: =IF(B99=I99,TRUE) -> TRUE | D99: 04204-SALAMANCA | E99: 105457-P.S.R. SAN AGUSTIN | I99: 71
A100: 105458 | B100: 333 | C100: =IF(B100=I100,TRUE) -> TRUE | D100: 04204-SALAMANCA | E100: 105458-P.S.R. TAHUINCO | I100: 333
A101: 105491 | B101: 302 | C101: =IF(B101=I101,TRUE) -> TRUE | D101: 04204-SALAMANCA | E101: 105491-P.S.R. QUELEN BAJO | I101: 302
A102: 105492 | B102: 88 | C102: =IF(B102=I102,TRUE) -> TRUE | D102: 04204-SALAMANCA | E102: 105492-P.S.R. CAMISA | I102: 88
A103: 105501 | B103: 232 | C103: =IF(B103=I103,TRUE) -> TRUE | D103: 04204-SALAMANCA | E103: 105501-P.S.R. ARBOLEDA GRANDE | I103: 232
C104: =IF(B104=I104,TRUE) -> FALSE | D104: TOTAL SALAMANCA | F104: =G104/Metas!M13 -> 2.5307367 | G104: =I104/K104 -> 1.0882168 | I104: =SUM(I94:I103) -> 1727 | K104: 1587
A105: 105315 | B105: 632 | C105: =IF(B105=I105,TRUE) -> TRUE | D105: 04301-OVALLE | E105: 105315-CES. RURAL C. DE TAMAYA | I105: 632
A106: 105317 | B106: 1634 | C106: =IF(B106=I106,TRUE) -> TRUE | D106: 04301-OVALLE | E106: 105317-CES. JORGE JORDAN D. | I106: 1634
A107: 105322 | B107: 1703 | C107: =IF(B107=I107,TRUE) -> TRUE | D107: 04301-OVALLE | E107: 105322-CES. MARCOS MACUADA | I107: 1703
A108: 105324 | B108: 468 | C108: =IF(B108=I108,TRUE) -> TRUE | D108: 04301-OVALLE | E108: 105324-CES. SOTAQUI | I108: 468
A109: 105415 | B109: 229 | C109: =IF(B109=I109,TRUE) -> TRUE | D109: 04301-OVALLE | E109: 105415-P.S.R. BARRAZA | I109: 229
...

Sheet Meta 06
A1: COMUNA | B1: ESTABLECIMIENTO | C1: CUMPLIMIENTO | D1: Indicador | E1: META 6: LACTANCIA MATERNA EXCLUSIVA (LME) EN MENORES DE 6 MESES DE VIDA
E2: NUMERADOR | R2: DENOMINADOR
E10: Nº de niños y niñas que al control de salud del sexto mes recibieorn LME | R10: Nº de menores con control de salud del sexto mes
D11: Resultado | E11: ENERO | F11: FEBRERO | G11: MARZO | H11: ABRIL | I11: MAYO | J11: JUNIO | K11: JULIO | L11: AGOSTO | M11: SEPBRE | N11: OCTUBRE | O11: NOVBRE | P11: DICBRE | Q11: TOTAL | R11: ENERO | S11: FEBRERO | T11: MARZO | U11: ABRIL | V11: MAYO | W11: JUNIO | X11: JULIO | Y11: AGOSTO | Z11: SEPBRE | AA11: OCTUBRE | AB11: NOVBRE | AC11: DICBRE | AD11: TOTAL
A12: 04101-LA SERENA | B12: 105300-CES. CARDENAL CARO | E12: 2 | F12: 5 | G12: 12 | H12: 10 | I12: 13 | J12: 5 | K12: 26 | L12: 14 | M12: 12 | N12: 6 | Q12: =SUM(E12:P12) -> 105 | R12: 4 | S12: 8 | T12: 33 | U12: 17 | V12: 21 | W12: 8 | X12: 33 | Y12: 27 | Z12: 15 | AA12: 9 | AD12: =SUM(R12:AC12) -> 175
A13: 04101-LA SERENA | B13: 105301-CES. LAS COMPAÑIAS | E13: 5 | F13: 6 | G13: 13 | H13: 8 | I13: 16 | J13: 8 | K13: 11 | L13: 5 | M13: 4 | N13: 0 | Q13: =SUM(E13:P13) -> 76 | R13: 7 | S13: 9 | T13: 17 | U13: 12 | V13: 20 | W13: 11 | X13: 15 | Y13: 7 | Z13: 5 | AA13: 0 | AD13: =SUM(R13:AC13) -> 103
A14: 04101-LA SERENA | B14: 105302-CES. PEDRO AGUIRRE C. | E14: 15 | F14: 13 | G14: 16 | H14: 10 | I14: 13 | J14: 13 | K14: 10 | L14: 20 | M14: 7 | N14: 9 | Q14: =SUM(E14:P14) -> 126 | R14: 22 | S14: 21 | T14: 26 | U14: 17 | V14: 21 | W14: 20 | X14: 16 | Y14: 32 | Z14: 11 | AA14: 18 | AD14: =SUM(R14:AC14) -> 204
A15: 04101-LA SERENA | B15: 105313-CES. SCHAFFHAUSER | E15: 12 | F15: 4 | G15: 19 | H15: 15 | I15: 12 | J15: 10 | K15: 13 | L15: 15 | M15: 23 | N15: 6 | Q15: =SUM(E15:P15) -> 129 | R15: 21 | S15: 6 | T15: 30 | U15: 25 | V15: 18 | W15: 22 | X15: 23 | Y15: 24 | Z15: 30 | AA15: 12 | AD15: =SUM(R15:AC15) -> 211
A16: 04101-LA SERENA | B16: 105319-CES. CARDENAL R.S.H. | E16: 7 | F16: 13 | G16: 3 | H16: 15 | I16: 15 | J16: 4 | K16: 6 | L16: 2 | M16: 4 | N16: 10 | Q16: =SUM(E16:P16) -> 79 | R16: 16 | S16: 15 | T16: 14 | U16: 21 | V16: 19 | W16: 5 | X16: 23 | Y16: 7 | Z16: 17 | AA16: 15 | AD16: =SUM(R16:AC16) -> 152
A17: 04101-LA SERENA | B17: 105325-CESFAM JUAN PABLO II | E17: 2 | F17: 10 | G17: 9 | H17: 7 | I17: 9 | J17: 1 | K17: 13 | L17: 12 | M17: 5 | N17: 10 | Q17: =SUM(E17:P17) -> 78 | R17: 12 | S17: 20 | T17: 12 | U17: 18 | V17: 16 | W17: 10 | X17: 26 | Y17: 23 | Z17: 10 | AA17: 18 | AD17: =SUM(R17:AC17) -> 165
A18: 04101-LA SERENA | B18: 105400-P.S.R. ALGARROBITO | E18: 0 | F18: 1 | G18: 0 | H18: 0 | I18: 0 | J18: 2 | K18: 1 | L18: 0 | M18: 0 | N18: 0 | Q18: =SUM(E18:P18) -> 4 | S18: 2 | U18: 0 | V18: 0 | W18: 2 | X18: 1 | Y18: 0 | Z18: 0 | AA18: 0 | AD18: =SUM(R18:AC18) -> 5
A19: 04101-LA SERENA | B19: 105401-P.S.R. LAS ROJAS | E19: 0 | G19: 0 | H19: 0 | I19: 1 | J19: 2 | K19: 0 | L19: 0 | M19: 0 | N19: 1 | Q19: =SUM(E19:P19) -> 4 | S19: 0 | U19: 0 | V19: 1 | W19: 2 | X19: 1 | Y19: 0 | Z19: 1 | AA19: 1 | AD19: =SUM(R19:AC19) -> 6
A20: 04101-LA SERENA | B20: 105402-P.S.R. EL ROMERO | F20: 1 | H20: 1 | I20: 2 | J20: 0 | K20: 4 | M20: 0 | N20: 1 | Q20: =SUM(E20:P20) -> 9 | S20: 3 | U20: 1 | V20: 4 | W20: 0 | X20: 4 | Y20: 0 | Z20: 0 | AA20: 1 | AD20: =SUM(R20:AC20) -> 13
A21: 04101-LA SERENA | B21: 105499-P.S.R. LAMBERT | E21: 0 | F21: 0 | G21: 1 | H21: 0 | I21: 0 | J21: 0 | L21: 0 | M21: 1 | Q21: =SUM(E21:P21) -> 2 | U21: 2 | V21: 0 | W21: 0 | X21: 0 | Y21: 0 | Z21: 1 | AA21: 0 | AD21: =SUM(R21:AC21) -> 3
A22: 04101-LA SERENA | B22: 105700-CECOF VILLA EL INDIO | E22: 0 | F22: 0 | G22: 1 | H22: 2 | I22: 2 | J22: 2 | K22: 0 | L22: 0 | M22: 0 | N22: 4 | Q22: =SUM(E22:P22) -> 11 | R22: 2 | S22: 0 | T22: 3 | U22: 4 | V22: 2 | W22: 2 | X22: 2 | Y22: 3 | Z22: 0 | AA22: 5 | AD22: =SUM(R22:AC22) -> 23
A23: 04101-LA SERENA | B23: 105701-CECOF VILLA ALEMANIA | E23: 1 | F23: 1 | G23: 2 | H23: 0 | I23: 1 | J23: 1 | K23: 2 | L23: 0 | M23: 2 | N23: 1 | Q23: =SUM(E23:P23) -> 11 | R23: 1 | S23: 1 | T23: 2 | U23: 0 | V23: 1 | W23: 1 | X23: 2 | Y23: 0 | Z23: 2 | AA23: 2 | AD23: =SUM(R23:AC23) -> 12
A24: 04101-LA SERENA | B24: 105702-CECOF VILLA LAMBERT | E24: 0 | F24: 1 | G24: 0 | H24: 2 | I24: 1 | J24: 0 | L24: 1 | M24: 0 | N24: 1 | Q24: =SUM(E24:P24) -> 6 | R24: 0 | S24: 3 | T24: 0 | V24: 2 | W24: 0 | X24: 0 | Y24: 1 | Z24: 1 | AA24: 4 | AD24: =SUM(R24:AC24) -> 11
A25: 04101-LA SERENA | B25: 200402-CECOF ARCOS DE PINAMAR | E25: 1 | F25: 1 | G25: 1 | H25: 0 | I25: 2 | J25: 0 | K25: 0 | M25: 0 | N25: 2 | Q25: =SUM(E25:P25) -> 7 | R25: 1 | S25: 3 | T25: 1 | U25: 0 | V25: 3 | W25: 0 | X25: 1 | Z25: 0 | AA25: 10 | AD25: =SUM(R25:AC25) -> 19
A26: TOTAL LA SERENA | C26: =D26/Metas!N5 -> 0.83873477 | D26: =Q26/AD26 -> 0.58711434 | E26: =SUM(E12:E25) -> 45 | F26: =SUM(F12:F25) -> 56 | G26: =SUM(G12:G25) -> 77 | H26: =SUM(H12:H25) -> 70 | I26: =SUM(I12:I25) -> 87 | J26: =SUM(J12:J25) -> 48 | K26: =SUM(K12:K25) -> 86 | L26: =SUM(L12:L25) -> 69 | ... AD26: =SUM(AD12:AD25) -> 1102
A27: 04102-COQUIMBO | B27: 105303-CES. SAN JUAN | E27: 7 | F27: 6 | G27: 8 | H27: 5 | I27: 10 | J27: 9 | K27: 9 | L27: 16 | M27: 8 | N27: 14 | Q27: =SUM(E27:P27) -> 92 | R27: 20 | S27: 16 | T27: 17 | U27: 18 | V27: 19 | W27: 21 | X27: 66 | Y27: 33 | Z27: 18 | AA27: 25 | AD27: =SUM(R27:AC27) -> 253
A28: 04102-COQUIMBO | B28: 105304-CES. SANTA CECILIA | E28: 9 | F28: 9 | G28: 13 | H28: 10 | I28: 9 | J28: 4 | K28: 11 | L28: 5 | M28: 7 | N28: 9 | Q28: =SUM(E28:P28) -> 86 | R28: 22 | S28: 17 | T28: 27 | U28: 19 | V28: 21 | W28: 10 | X28: 23 | Y28: 16 | Z28: 25 | AA28: 17 | AD28: =SUM(R28:AC28) -> 197
A29: 04102-COQUIMBO | B29: 105305-CES. TIERRAS BLANCAS | E29: 13 | F29: 14 | G29: 15 | H29: 14 | I29: 14 | J29: 12 | K29: 16 | L29: 6 | M29: 11 | N29: 14 | Q29: =SUM(E29:P29) -> 129 | R29: 23 | S29: 19 | T29: 30 | U29: 22 | V29: 23 | W29: 26 | X29: 24 | Y29: 12 | Z29: 21 | AA29: 21 | AD29: =SUM(R29:AC29) -> 221
A30: 04102-COQUIMBO | B30: 105321-CES. RURAL TONGOY | E30: 6 | F30: 6 | G30: 3 | H30: 4 | I30: 4 | J30: 3 | K30: 7 | L30: 8 | M30: 0 | N30: 5 | Q30: =SUM(E30:P30) -> 46 | R30: 12 | S30: 12 | T30: 6 | U30: 7 | V30: 7 | W30: 5 | X30: 10 | Y30: 11 | Z30: 5 | AA30: 9 | AD30: =SUM(R30:AC30) -> 84
A31: 04102-COQUIMBO | B31: 105323-CES. DR. SERGIO AGUILAR | E31: 9 | F31: 10 | G31: 10 | H31: 12 | I31: 10 | J31: 6 | K31: 11 | L31: 9 | M31: 9 | N31: 5 | Q31: =SUM(E31:P31) -> 91 | R31: 25 | S31: 21 | T31: 15 | U31: 18 | V31: 26 | W31: 13 | X31: 20 | Y31: 24 | Z31: 14 | AA31: 16 | AD31: =SUM(R31:AC31) -> 192
A32: 04102-COQUIMBO | B32: 105404-P.S.R. EL TANGUE | Q32: =SUM(E32:P32) -> 0 | AD32: =SUM(R32:AC32) -> 0
A33: 04102-COQUIMBO | B33: 105405-P.S.R. GUANAQUEROS | F33: 1 | H33: 0 | I33: 1 | J33: 0 | K33: 1 | L33: 1 | M33: 0 | N33: 0 | Q33: =SUM(E33:P33) -> 4 | R33: 1 | S33: 2 | U33: 2 | V33: 2 | W33: 2 | X33: 1 | Y33: 3 | Z33: 0 | AA33: 0 | AD33: =SUM(R33:AC33) -> 13
A34: 04102-COQUIMBO | B34: 105407-P.S.R. TAMBILLOS | E34: 0 | H34: 1 | M34: 0 | Q34: =SUM(E34:P34) -> 1 | R34: 0 | S34: 0 | T34: 0 | U34: 2 | AD34: =SUM(R34:AC34) -> 2
A35: 04102-COQUIMBO | B35: 200273-CECOF PUNTA MIRA | E35: 0 | F35: 3 | G35: 2 | H35: 0 | I35: 1 | J35: 3 | L35: 1 | M35: 0 | N35: 1 | Q35: =SUM(E35:P35) -> 11 | S35: 4 | T35: 2 | U35: 1 | V35: 5 | W35: 4 | Y35: 3 | Z35: 1 | AA35: 1 | AD35: =SUM(R35:AC35) -> 21
A36: 04102-COQUIMBO | B36: 200494-CESFAM EL SAUCE | E36: 13 | F36: 14 | G36: 9 | H36: 9 | I36: 14 | J36: 5 | K36: 9 | L36: 9 | M36: 11 | N36: 6 | Q36: =SUM(E36:P36) -> 99 | R36: 18 | S36: 19 | T36: 17 | U36: 15 | V36: 27 | W36: 15 | X36: 15 | Y36: 17 | Z36: 12 | AA36: 9 | AD36: =SUM(R36:AC36) -> 164
A37: 04102-COQUIMBO | B37: 200499-CESFAM PAN DE AZÚCAR | E37: 8 | F37: 7 | G37: 6 | H37: 4 | I37: 9 | J37: 3 | K37: 4 | L37: 6 | M37: 4 | N37: 4 | Q37: =SUM(E37:P37) -> 55 | R37: 17 | S37: 10 | T37: 8 | U37: 7 | V37: 13 | W37: 6 | X37: 14 | Y37: 13 | Z37: 4 | AA37: 9 | AD37: =SUM(R37:AC37) -> 101
A38: 04102-COQUIMBO | B38: 200607-CESFAM LILA CORTES | E38: 16 | G38: 12 | H38: 8 | I38: 12 | J38: 14 | K38: 14 | L38: 13 | M38: 9 | N38: 16 | Q38: =SUM(E38:P38) -> 114 | R38: 29 | T38: 19 | U38: 22 | V38: 25 | W38: 23 | X38: 27 | Y38: 28 | Z38: 19 | AA38: 27 | AD38: =SUM(R38:AC38) -> 219
A39: TOTAL COQUIMBO | C39: =D39/Metas!N6 -> 0.82708475 | D39: =Q39/AD39 -> 0.49625085 | E39: =SUM(E27:E38) -> 81 | F39: =SUM(F27:F38) -> 70 | G39: =SUM(G27:G38) -> 78 | H39: =SUM(H27:H38) -> 67 | I39: =SUM(I27:I38) -> 84 | J39: =SUM(J27:J38) -> 59 | K39: =SUM(K27:K38) -> 82 | L39: =SUM(L27:L38) -> 74 | ... AD39: =SUM(AD27:AD38) -> 1467
A40: 04104-LA HIGUERA | B40: 105314-CES. LA HIGUERA | G40: 0 | H40: 2 | I40: 2 | J40: 0 | K40: 0 | L40: 0 | M40: 0 | N40: 0 | Q40: =SUM(E40:P40) -> 4 | R40: 1 | T40: 0 | U40: 3 | V40: 3 | W40: 0 | X40: 1 | Y40: 1 | Z40: 1 | AA40: 1 | AD40: =SUM(R40:AC40) -> 11
A41: 04104-LA HIGUERA | B41: 105500-P.S.R. CALETA HORNOS | G41: 0 | H41: 0 | I41: 1 | J41: 1 | M41: 0 | N41: 0 | Q41: =SUM(E41:P41) -> 2 | S41: 1 | T41: 1 | U41: 0 | V41: 1 | W41: 1 | X41: 1 | Z41: 0 | AA41: 0 | AD41: =SUM(R41:AC41) -> 5
A42: 04104-LA HIGUERA | B42: 105505-P.S.R. LOS CHOROS | F42: 0 | H42: 1 | I42: 0 | J42: 0 | M42: 0 | N42: 3 | Q42: =SUM(E42:P42) -> 4 | S42: 0 | U42: 1 | V42: 0 | W42: 0 | X42: 1 | Z42: 0 | AA42: 3 | AD42: =SUM(R42:AC42) -> 5
A43: 04104-LA HIGUERA | B43: 105506-P.S.R. EL TRAPICHE | H43: 0 | I43: 0 | J43: 1 | M43: 0 | N43: 0 | Q43: =SUM(E43:P43) -> 1 | U43: 0 | V43: 0 | W43: 1 | X43: 0 | Z43: 0 | AA43: 0 | AD43: =SUM(R43:AC43) -> 1
A44: TOTAL LA HIGUERA | C44: =D44/Metas!N7 -> 0.83333333 | D44: =Q44/AD44 -> 0.5 | E44: =SUM(E40:E43) -> 0 | F44: =SUM(F40:F43) -> 0 | G44: =SUM(G40:G43) -> 0 | H44: =SUM(H40:H43) -> 3 | I44: =SUM(I40:I43) -> 3 | J44: =SUM(J40:J43) -> 2 | K44: =SUM(K40:K43) -> 0 | L44: =SUM(L40:L43) -> 0 | ... AD44: =SUM(AD40:AD43) -> 22
A45: 04105-PAIHUANO | B45: 105306-CES. PAIHUANO | E45: 2 | F45: 1 | G45: 0 | H45: 1 | I45: 2 | J45: 3 | K45: 4 | L45: 0 | M45: 0 | N45: 2 | Q45: =SUM(E45:P45) -> 15 | R45: 2 | S45: 2 | T45: 0 | U45: 2 | V45: 2 | W45: 4 | X45: 4 | Y45: 1 | Z45: 1 | AA45: 2 | AD45: =SUM(R45:AC45) -> 20
A46: 04105-PAIHUANO | B46: 105475-P.S.R. HORCON | E46: 1 | G46: 0 | H46: 1 | J46: 0 | K46: 0 | L46: 1 | M46: 0 | N46: 0 | Q46: =SUM(E46:P46) -> 3 | R46: 2 | T46: 0 | U46: 1 | W46: 0 | X46: 0 | Y46: 1 | Z46: 1 | AA46: 0 | AD46: =SUM(R46:AC46) -> 5
A47: 04105-PAIHUANO | B47: 105476-P.S.R. MONTE GRANDE | H47: 0 | L47: 2 | M47: 0 | N47: 0 | Q47: =SUM(E47:P47) -> 2 | U47: 0 | Y47: 4 | Z47: 0 | AA47: 0 | AD47: =SUM(R47:AC47) -> 4
A48: 04105-PAIHUANO | B48: 105477-P.S.R. PISCO ELQUI | F48: 0 | H48: 0 | J48: 0 | K48: 0 | M48: 0 | Q48: =SUM(E48:P48) -> 0 | S48: 0 | U48: 0 | W48: 0 | X48: 1 | Z48: 1 | AD48: =SUM(R48:AC48) -> 2
A49: TOTAL PAIHUANO | C49: =D49/Metas!N8 -> 1.0576415 | D49: =Q49/AD49 -> 0.64516129 | E49: =SUM(E45:E48) -> 3 | F49: =SUM(F45:F48) -> 1 | G49: =SUM(G45:G48) -> 0 | H49: =SUM(H45:H48) -> 2 | I49: =SUM(I45:I48) -> 2 | J49: =SUM(J45:J48) -> 3 | K49: =SUM(K45:K48) -> 4 | L49: =SUM(L45:L48) -> 3 | ... AD49: =SUM(AD45:AD48) -> 31
A50: 04106-VICUÑA | B50: 105467-P.S.R. DIAGUITAS | E50: 1 | F50: 1 | G50: 1 | H50: 1 | J50: 3 | K50: 0 | L50: 0 | M50: 1 | N50: 0 | Q50: =SUM(E50:P50) -> 8 | R50: 1 | S50: 1 | T50: 1 | U50: 1 | V50: 1 | W50: 5 | X50: 1 | Y50: 1 | Z50: 1 | AA50: 0 | AD50: =SUM(R50:AC50) -> 13
A51: 04106-VICUÑA | B51: 105468-P.S.R. EL MOLLE | K51: 0 | L51: 1 | M51: 0 | N51: 0 | Q51: =SUM(E51:P51) -> 1 | R51: 0 | S51: 0 | T51: 1 | V51: 0 | X51: 0 | Y51: 1 | Z51: 0 | AA51: 0 | AD51: =SUM(R51:AC51) -> 2
A52: 04106-VICUÑA | B52: 105469-P.S.R. EL TAMBO | F52: 0 | G52: 0 | H52: 1 | J52: 0 | K52: 0 | L52: 0 | M52: 1 | N52: 1 | Q52: =SUM(E52:P52) -> 3 | R52: 1 | S52: 0 | T52: 0 | U52: 1 | V52: 0 | W52: 1 | X52: 0 | Y52: 0 | Z52: 1 | AA52: 1 | AD52: =SUM(R52:AC52) -> 5
A53: 04106-VICUÑA | B53: 105470-P.S.R. HUANTA | M53: 0 | Q53: =SUM(E53:P53) -> 0 | AD53: =SUM(R53:AC53) -> 0
A54: 04106-VICUÑA | B54: 105471-P.S.R. PERALILLO | F54: 0 | G54: 0 | H54: 1 | I54: 1 | J54: 1 | K54: 2 | L54: 3 | M54: 0 | N54: 3 | Q54: =SUM(E54:P54) -> 11 | R54: 0 | S54: 0 | T54: 1 | U54: 1 | V54: 2 | W54: 1 | X54: 2 | Y54: 3 | Z54: 0 | AA54: 3 | AD54: =SUM(R54:AC54) -> 13
A55: 04106-VICUÑA | B55: 105472-P.S.R. RIVADAVIA | F55: 1 | I55: 0 | J55: 0 | K55: 0 | L55: 0 | M55: 0 | Q55: =SUM(E55:P55) -> 1 | R55: 0 | S55: 1 | U55: 0 | V55: 0 | W55: 0 | X55: 0 | Y55: 0 | Z55: 0 | AA55: 0 | AD55: =SUM(R55:AC55) -> 1
A56: 04106-VICUÑA | B56: 105473-P.S.R. TALCUNA | E56: 1 | F56: 2 | G56: 1 | I56: 0 | J56: 2 | K56: 1 | L56: 1 | M56: 1 | N56: 3 | Q56: =SUM(E56:P56) -> 12 | R56: 2 | S56: 2 | T56: 1 | U56: 0 | V56: 0 | W56: 2 | X56: 1 | Y56: 3 | Z56: 1 | AA56: 3 | AD56: =SUM(R56:AC56) -> 15
A57: 04106-VICUÑA | B57: 105474-P.S.R. CHAPILCA | K57: 0 | M57: 0 | N57: 0 | Q57: =SUM(E57:P57) -> 0 | V57: 0 | W57: 0 | X57: 0 | Y57: 0 | Z57: 0 | AD57: =SUM(R57:AC57) -> 0
A58: 04106-VICUÑA | B58: 105509-P.S.R. GUALLIGUAICA | L58: 0 | M58: 0 | N58: 0 | Q58: =SUM(E58:P58) -> 0 | R58: 0 | S58: 0 | U58: 0 | W58: 0 | Y58: 0 | Z58: 0 | AA58: 0 | AD58: =SUM(R58:AC58) -> 0
A59: 04106-VICUÑA | B59: 200538-CESFAM SAN ISIDRO CALINGASTA | E59: 1 | F59: 1 | G59: 1 | H59: 1 | I59: 0 | J59: 3 | K59: 6 | L59: 2 | M59: 3 | N59: 2 | Q59: =SUM(E59:P59) -> 20 | R59: 2 | S59: 1 | T59: 2 | U59: 2 | V59: 1 | W59: 4 | X59: 7 | Y59: 2 | Z59: 3 | AA59: 3 | AD59: =SUM(R59:AC59) -> 27
A60: TOTAL VICUÑA | C60: =D60/Metas!N9 -> 0.94466937 | D60: =Q60/AD60 -> 0.73684211 | E60: =SUM(E50:E59) -> 3 | F60: =SUM(F50:F59) -> 5 | G60: =SUM(G50:G59) -> 3 | H60: =SUM(H50:H59) -> 4 | I60: =SUM(I50:I59) -> 1 | J60: =SUM(J50:J59) -> 9 | K60: =SUM(K50:K59) -> 9 | L60: =SUM(L50:L59) -> 7 | ... AD60: =SUM(AD50:AD59) -> 76
A61: 04201-ILLAPEL | B61: 105326-CESFAM SAN RAFAEL | E61: 2 | F61: 2 | G61: 4 | H61: 4 | I61: 7 | J61: 2 | K61: 2 | L61: 3 | M61: 3 | N61: 5 | Q61: =SUM(E61:P61) -> 34 | R61: 3 | S61: 4 | T61: 6 | U61: 5 | V61: 9 | W61: 3 | X61: 3 | Y61: 4 | Z61: 3 | AA61: 7 | AD61: =SUM(R61:AC61) -> 47
A62: 04201-ILLAPEL | B62: 105443-P.S.R. CARCAMO | G62: 0 | H62: 0 | K62: 2 | M62: 1 | N62: 1 | Q62: =SUM(E62:P62) -> 4 | S62: 1 | T62: 0 | U62: 0 | X62: 2 | Z62: 2 | AA62: 1 | AD62: =SUM(R62:AC62) -> 6
A63: 04201-ILLAPEL | B63: 105444-P.S.R. HUINTIL | F63: 1 | L63: 1 | M63: 0 | N63: 1 | Q63: =SUM(E63:P63) -> 3 | R63: 1 | S63: 1 | U63: 2 | Y63: 1 | Z63: 0 | AA63: 1 | AD63: =SUM(R63:AC63) -> 6
A64: 04201-ILLAPEL | B64: 105445-P.S.R. LIMAHUIDA | G64: 0 | K64: 1 | L64: 1 | M64: 1 | N64: 1 | Q64: =SUM(E64:P64) -> 4 | T64: 0 | X64: 1 | Y64: 1 | Z64: 1 | AA64: 1 | AD64: =SUM(R64:AC64) -> 4
A65: 04201-ILLAPEL | B65: 105446-P.S.R. MATANCILLA | M65: 0 | Q65: =SUM(E65:P65) -> 0 | AD65: =SUM(R65:AC65) -> 0
A66: 04201-ILLAPEL | B66: 105447-P.S.R. PERALILLO | E66: 1 | G66: 1 | H66: 1 | M66: 1 | Q66: =SUM(E66:P66) -> 4 | R66: 1 | T66: 1 | U66: 1 | V66: 0 | W66: 1 | Z66: 1 | AA66: 0 | AD66: =SUM(R66:AC66) -> 5
A67: 04201-ILLAPEL | B67: 105448-P.S.R. SANTA VIRGINIA | G67: 1 | K67: 1 | M67: 1 | N67: 1 | Q67: =SUM(E67:P67) -> 4 | T67: 1 | X67: 1 | Z67: 1 | AA67: 1 | AD67: =SUM(R67:AC67) -> 4
A68: 04201-ILLAPEL | B68: 105449-P.S.R. TUNGA NORTE | M68: 0 | Q68: =SUM(E68:P68) -> 0 | AD68: =SUM(R68:AC68) -> 0
A69: 04201-ILLAPEL | B69: 105485-P.S.R. PLAN DE HORNOS | F69: 0 | G69: 1 | H69: 0 | I69: 2 | M69: 0 | Q69: =SUM(E69:P69) -> 3 | R69: 0 | S69: 0 | T69: 1 | U69: 0 | V69: 2 | X69: 0 | Y69: 1 | Z69: 0 | AA69: 1 | AD69: =SUM(R69:AC69) -> 5
A70: 04201-ILLAPEL | B70: 105486-P.S.R. TUNGA SUR | E70: 0 | L70: 0 | Q70: =SUM(E70:P70) -> 0 | R70: 0 | Y70: 0 | AD70: =SUM(R70:AC70) -> 0
A71: 04201-ILLAPEL | B71: 105487-P.S.R. CAÑAS UNO | E71: 3 | F71: 1 | G71: 3 | H71: 0 | J71: 1 | M71: 0 | N71: 1 | Q71: =SUM(E71:P71) -> 9 | R71: 3 | S71: 1 | T71: 4 | U71: 0 | V71: 2 | W71: 2 | X71: 0 | Z71: 0 | AA71: 1 | AD71: =SUM(R71:AC71) -> 13
A72: 04201-ILLAPEL | B72: 105496-P.S.R. PINTACURA SUR | I72: 0 | M72: 0 | Q72: =SUM(E72:P72) -> 0 | V72: 0 | AD72: =SUM(R72:AC72) -> 0
A73: 04201-ILLAPEL | B73: 105504-P.S.R. SOCAVON | G73: 1 | M73: 0 | Q73: =SUM(E73:P73) -> 1 | T73: 1 | AA73: 0 | AD73: =SUM(R73:AC73) -> 1
A74: 04201-ILLAPEL | B74: 200366-CESFAM URBANO II | E74: 7 | F74: 7 | G74: 9 | H74: 12 | I74: 10 | J74: 6 | K74: 5 | L74: 5 | M74: 4 | N74: 10 | Q74: =SUM(E74:P74) -> 75 | R74: 13 | S74: 11 | T74: 13 | U74: 16 | V74: 15 | W74: 8 | X74: 5 | Y74: 9 | Z74: 8 | AA74: 12 | AD74: =SUM(R74:AC74) -> 110
A75: TOTAL ILLAPEL | C75: =D75/Metas!N10 -> 1.0021322 | D75: =Q75/AD75 -> 0.70149254 | E75: =SUM(E61:E74) -> 13 | F75: =SUM(F61:F74) -> 11 | G75: =SUM(G61:G74) -> 20 | H75: =SUM(H61:H74) -> 17 | I75: =SUM(I61:I74) -> 19 | J75: =SUM(J61:J74) -> 9 | K75: =SUM(K61:K74) -> 11 | L75: =SUM(L61:L74) -> 10 | ... AD75: =SUM(AD61:AD74) -> 201
A76: 04202-CANELA | B76: 105309-CES. RURAL CANELA | E76: 1 | F76: 0 | G76: 3 | H76: 2 | I76: 4 | J76: 0 | K76: 1 | L76: 2 | M76: 0 | N76: 2 | Q76: =SUM(E76:P76) -> 15 | R76: 5 | S76: 1 | T76: 5 | U76: 7 | V76: 8 | W76: 5 | X76: 2 | Y76: 6 | Z76: 1 | AA76: 4 | AD76: =SUM(R76:AC76) -> 44
A77: 04202-CANELA | B77: 105450-P.S.R. MINCHA NORTE | E77: =IFERROR(VLOOKUP($B77,'[1]Num 6'!$G$3:$T$139,2,FALSE),0) -> 0 | F77: =IFERROR(VLOOKUP($B77,'[1]Num 6'!$G$3:$T$139,3,FALSE),0) -> 0 | G77: =IFERROR(VLOOKUP($B77,'[1]Num 6'!$G$3:$T$139,4,FALSE),0) -> 0 | H77: =IFERROR(VLOOKUP($B77,'[1]Num 6'!$G$3:$T$139,5,FALSE),0) -> 0 | I77: =IFERROR(VLOOKUP($B77,'[1]Num 6'!$G$3:$T$139,6,FALSE),0) -> 0 | J77: =IFERROR(VLOOKUP($B77,'[1]Num 6'!$G$3:$T$139,7,FALSE),0) -> 0 | K77: =IFERROR(VLOOKUP($B77,'[1]Num 6'!$G$3:$T$139,8,FALSE),0) -> 0 | L77: =IFERROR(VLOOKUP($B77,'[1]Num 6'!$G$3:$T$139,9,FALSE),0) -> 0 | M77: 0 | Q77: =SUM(E77:P77) -> 0 | R77: 0 | S77: 0 | T77: 0 | U77: 0 | V77: 0 | W77: 0 | X77: 0 | Y77: 0 | Z77: 0 | AD77: =SUM(R77:AC77) -> 0
A78: 04202-CANELA | B78: 105451-P.S.R. AGUA FRIA | E78: =IFERROR(VLOOKUP($B78,'[1]Num 6'!$G$3:$T$139,2,FALSE),0) -> 0 | F78: =IFERROR(VLOOKUP($B78,'[1]Num 6'!$G$3:$T$139,3,FALSE),0) -> 0 | G78: =IFERROR(VLOOKUP($B78,'[1]Num 6'!$G$3:$T$139,4,FALSE),0) -> 0 | H78: =IFERROR(VLOOKUP($B78,'[1]Num 6'!$G$3:$T$139,5,FALSE),0) -> 0 | I78: =IFERROR(VLOOKUP($B78,'[1]Num 6'!$G$3:$T$139,6,FALSE),0) -> 0 | J78: =IFERROR(VLOOKUP($B78,'[1]Num 6'!$G$3:$T$139,7,FALSE),0) -> 0 | K78: =IFERROR(VLOOKUP($B78,'[1]Num 6'!$G$3:$T$139,8,FALSE),0) -> 0 | L78: =IFERROR(VLOOKUP($B78,'[1]Num 6'!$G$3:$T$139,9,FALSE),0) -> 0 | M78: 0 | Q78: =SUM(E78:P78) -> 0 | R78: 0 | S78: 0 | T78: 0 | U78: 0 | V78: 0 | W78: 0 | X78: 0 | Y78: 0 | Z78: 0 | AD78: =SUM(R78:AC78) -> 0
A79: 04202-CANELA | B79: 105482-P.S.R. CANELA ALTA | E79: =IFERROR(VLOOKUP($B79,'[1]Num 6'!$G$3:$T$139,2,FALSE),0) -> 0 | F79: =IFERROR(VLOOKUP($B79,'[1]Num 6'!$G$3:$T$139,3,FALSE),0) -> 0 | G79: =IFERROR(VLOOKUP($B79,'[1]Num 6'!$G$3:$T$139,4,FALSE),0) -> 0 | H79: =IFERROR(VLOOKUP($B79,'[1]Num 6'!$G$3:$T$139,5,FALSE),0) -> 0 | I79: =IFERROR(VLOOKUP($B79,'[1]Num 6'!$G$3:$T$139,6,FALSE),0) -> 0 | J79: =IFERROR(VLOOKUP($B79,'[1]Num 6'!$G$3:$T$139,7,FALSE),0) -> 0 | K79: =IFERROR(VLOOKUP($B79,'[1]Num 6'!$G$3:$T$139,8,FALSE),0) -> 0 | L79: =IFERROR(VLOOKUP($B79,'[1]Num 6'!$G$3:$T$139,9,FALSE),0) -> 0 | M79: 0 | Q79: =SUM(E79:P79) -> 0 | R79: 0 | S79: 0 | T79: 0 | U79: 0 | V79: 0 | W79: 0 | X79: 0 | Y79: 0 | Z79: 0 | AD79: =SUM(R79:AC79) -> 0
A80: 04202-CANELA | B80: 105483-P.S.R. LOS RULOS | E80: =IFERROR(VLOOKUP($B80,'[1]Num 6'!$G$3:$T$139,2,FALSE),0) -> 0 | F80: =IFERROR(VLOOKUP($B80,'[1]Num 6'!$G$3:$T$139,3,FALSE),0) -> 0 | G80: =IFERROR(VLOOKUP($B80,'[1]Num 6'!$G$3:$T$139,4,FALSE),0) -> 0 | H80: =IFERROR(VLOOKUP($B80,'[1]Num 6'!$G$3:$T$139,5,FALSE),0) -> 0 | I80: =IFERROR(VLOOKUP($B80,'[1]Num 6'!$G$3:$T$139,6,FALSE),0) -> 0 | J80: =IFERROR(VLOOKUP($B80,'[1]Num 6'!$G$3:$T$139,7,FALSE),0) -> 0 | K80: =IFERROR(VLOOKUP($B80,'[1]Num 6'!$G$3:$T$139,8,FALSE),0) -> 0 | L80: =IFERROR(VLOOKUP($B80,'[1]Num 6'!$G$3:$T$139,9,FALSE),0) -> 0 | M80: 0 | Q80: =SUM(E80:P80) -> 0 | R80: 0 | S80: 0 | T80: 0 | U80: 0 | V80: 0 | W80: 0 | X80: 0 | Y80: 0 | Z80: 0 | AD80: =SUM(R80:AC80) -> 0
A81: 04202-CANELA | B81: 105484-P.S.R. HUENTELAUQUEN | E81: =IFERROR(VLOOKUP($B81,'[1]Num 6'!$G$3:$T$139,2,FALSE),0) -> 0 | F81: =IFERROR(VLOOKUP($B81,'[1]Num 6'!$G$3:$T$139,3,FALSE),0) -> 0 | G81: =IFERROR(VLOOKUP($B81,'[1]Num 6'!$G$3:$T$139,4,FALSE),0) -> 0 | H81: =IFERROR(VLOOKUP($B81,'[1]Num 6'!$G$3:$T$139,5,FALSE),0) -> 0 | I81: =IFERROR(VLOOKUP($B81,'[1]Num 6'!$G$3:$T$139,6,FALSE),0) -> 0 | J81: =IFERROR(VLOOKUP($B81,'[1]Num 6'!$G$3:$T$139,7,FALSE),0) -> 0 | K81: =IFERROR(VLOOKUP($B81,'[1]Num 6'!$G$3:$T$139,8,FALSE),0) -> 0 | L81: =IFERROR(VLOOKUP($B81,'[1]Num 6'!$G$3:$T$139,9,FALSE),0) -> 0 | M81: 0 | Q81: =SUM(E81:P81) -> 0 | R81: 0 | S81: 0 | T81: 0 | U81: 0 | V81: 0 | W81: 0 | X81: 0 | Y81: 0 | Z81: 0 | AD81: =SUM(R81:AC81) -> 0
A82: 04202-CANELA | B82: 105488-P.S.R. ESPIRITU SANTO | E82: =IFERROR(VLOOKUP($B82,'[1]Num 6'!$G$3:$T$139,2,FALSE),0) -> 0 | F82: =IFERROR(VLOOKUP($B82,'[1]Num 6'!$G$3:$T$139,3,FALSE),0) -> 0 | G82: =IFERROR(VLOOKUP($B82,'[1]Num 6'!$G$3:$T$139,4,FALSE),0) -> 0 | H82: =IFERROR(VLOOKUP($B82,'[1]Num 6'!$G$3:$T$139,5,FALSE),0) -> 0 | I82: =IFERROR(VLOOKUP($B82,'[1]Num 6'!$G$3:$T$139,6,FALSE),0) -> 0 | J82: =IFERROR(VLOOKUP($B82,'[1]Num 6'!$G$3:$T$139,7,FALSE),0) -> 0 | K82: =IFERROR(VLOOKUP($B82,'[1]Num 6'!$G$3:$T$139,8,FALSE),0) -> 0 | L82: =IFERROR(VLOOKUP($B82,'[1]Num 6'!$G$3:$T$139,9,FALSE),0) -> 0 | M82: 0 | Q82: =SUM(E82:P82) -> 0 | R82: 0 | S82: 0 | T82: 0 | U82: 0 | V82: 0 | W82: 0 | X82: 0 | Y82: 0 | Z82: 0 | AD82: =SUM(R82:AC82) -> 0
A83: 04202-CANELA | B83: 105493-P.S.R. MINCHA SUR | E83: =IFERROR(VLOOKUP($B83,'[1]Num 6'!$G$3:$T$139,2,FALSE),0) -> 0 | F83: =IFERROR(VLOOKUP($B83,'[1]Num 6'!$G$3:$T$139,3,FALSE),0) -> 0 | G83: =IFERROR(VLOOKUP($B83,'[1]Num 6'!$G$3:$T$139,4,FALSE),0) -> 0 | H83: =IFERROR(VLOOKUP($B83,'[1]Num 6'!$G$3:$T$139,5,FALSE),0) -> 0 | I83: =IFERROR(VLOOKUP($B83,'[1]Num 6'!$G$3:$T$139,6,FALSE),0) -> 0 | J83: =IFERROR(VLOOKUP($B83,'[1]Num 6'!$G$3:$T$139,7,FALSE),0) -> 0 | K83: =IFERROR(VLOOKUP($B83,'[1]Num 6'!$G$3:$T$139,8,FALSE),0) -> 0 | L83: =IFERROR(VLOOKUP($B83,'[1]Num 6'!$G$3:$T$139,9,FALSE),0) -> 0 | M83: 0 | Q83: =SUM(E83:P83) -> 0 | R83: 0 | S83: 0 | T83: 0 | U83: 0 | V83: 0 | W83: 0 | X83: 0 | Y83: 0 | Z83: 0 | AA83: 0 | AD83: =SUM(R83:AC83) -> 0
A84: 04202-CANELA | B84: 105497-P.S.R. JABONERIA | E84: =IFERROR(VLOOKUP($B84,'[1]Num 6'!$G$3:$T$139,2,FALSE),0) -> 0 | F84: =IFERROR(VLOOKUP($B84,'[1]Num 6'!$G$3:$T$139,3,FALSE),0) -> 0 | G84: =IFERROR(VLOOKUP($B84,'[1]Num 6'!$G$3:$T$139,4,FALSE),0) -> 0 | H84: =IFERROR(VLOOKUP($B84,'[1]Num 6'!$G$3:$T$139,5,FALSE),0) -> 0 | I84: =IFERROR(VLOOKUP($B84,'[1]Num 6'!$G$3:$T$139,6,FALSE),0) -> 0 | J84: =IFERROR(VLOOKUP($B84,'[1]Num 6'!$G$3:$T$139,7,FALSE),0) -> 0 | K84: =IFERROR(VLOOKUP($B84,'[1]Num 6'!$G$3:$T$139,8,FALSE),0) -> 0 | L84: =IFERROR(VLOOKUP($B84,'[1]Num 6'!$G$3:$T$139,9,FALSE),0) -> 0 | M84: 0 | Q84: =SUM(E84:P84) -> 0 | R84: 0 | S84: 0 | T84: 0 | U84: 0 | V84: 0 | W84: 0 | X84: 0 | Y84: 0 | Z84: 0 | AD84: =SUM(R84:AC84) -> 0
A85: 04202-CANELA | B85: 105498-P.S.R. QUEBRADA DE LINARES | E85: =IFERROR(VLOOKUP($B85,'[1]Num 6'!$G$3:$T$139,2,FALSE),0) -> 0 | F85: =IFERROR(VLOOKUP($B85,'[1]Num 6'!$G$3:$T$139,3,FALSE),0) -> 0 | G85: =IFERROR(VLOOKUP($B85,'[1]Num 6'!$G$3:$T$139,4,FALSE),0) -> 0 | H85: =IFERROR(VLOOKUP($B85,'[1]Num 6'!$G$3:$T$139,5,FALSE),0) -> 0 | I85: =IFERROR(VLOOKUP($B85,'[1]Num 6'!$G$3:$T$139,6,FALSE),0) -> 0 | J85: =IFERROR(VLOOKUP($B85,'[1]Num 6'!$G$3:$T$139,7,FALSE),0) -> 0 | K85: =IFERROR(VLOOKUP($B85,'[1]Num 6'!$G$3:$T$139,8,FALSE),0) -> 0 | L85: =IFERROR(VLOOKUP($B85,'[1]Num 6'!$G$3:$T$139,9,FALSE),0) -> 0 | M85: 0 | Q85: =SUM(E85:P85) -> 0 | R85: 0 | S85: 0 | T85: 0 | U85: 0 | V85: 0 | W85: 0 | X85: 0 | Y85: 0 | Z85: 0 | AD85: =SUM(R85:AC85) -> 0
A86: TOTAL CANELA | C86: =D86/Metas!N11 -> 0.56818182 | D86: =Q86/AD86 -> 0.34090909 | E86: =SUM(E76:E85) -> 1 | F86: =SUM(F76:F85) -> 0 | G86: =SUM(G76:G85) -> 3 | H86: =SUM(H76:H85) -> 2 | I86: =SUM(I76:I85) -> 4 | J86: =SUM(J76:J85) -> 0 | K86: =SUM(K76:K85) -> 1 | L86: =SUM(L76:L85) -> 2 | ... AD86: =SUM(AD76:AD85) -> 44
A87: 04203-LOS VILOS | B87: 105478-P.S.R. CAIMANES | E87: 0 | F87: 0 | G87: 4 | H87: 2 | J87: 0 | K87: 0 | N87: 0 | Q87: =SUM(E87:P87) -> 6 | R87: 0 | S87: 1 | T87: 4 | U87: 2 | V87: 0 | W87: 0 | X87: 1 | Y87: 0 | Z87: 0 | AA87: 0 | AD87: =SUM(R87:AC87) -> 8
A88: 04203-LOS VILOS | B88: 105479-P.S.R. GUANGUALI | G88: 2 | H88: 1 | I88: 0 | J88: 0 | L88: 0 | M88: 1 | Q88: =SUM(E88:P88) -> 4 | T88: 3 | U88: 1 | V88: 0 | W88: 0 | X88: 0 | Y88: 0 | Z88: 1 | AA88: 0 | AD88: =SUM(R88:AC88) -> 5
A89: 04203-LOS VILOS | B89: 105480-P.S.R. QUILIMARI | E89: 0 | F89: 0 | G89: 3 | H89: 3 | I89: 2 | J89: 0 | K89: 2 | L89: 2 | M89: 0 | N89: 2 | Q89: =SUM(E89:P89) -> 14 | R89: 0 | S89: 0 | T89: 3 | U89: 3 | V89: 2 | W89: 0 | X89: 2 | Z89: 0 | AA89: 2 | AD89: =SUM(R89:AC89) -> 12
A90: 04203-LOS VILOS | B90: 105481-P.S.R. TILAMA | E90: 0 | F90: 1 | G90: 1 | H90: 1 | I90: 0 | K90: 0 | M90: 0 | Q90: =SUM(E90:P90) -> 3 | R90: 0 | S90: 1 | T90: 1 | U90: 1 | V90: 0 | X90: 0 | Z90: 0 | AA90: 0 | AD90: =SUM(R90:AC90) -> 3
A91: 04203-LOS VILOS | B91: 105511-P.S.R. LOS CONDORES | E91: 1 | F91: 0 | G91: 3 | H91: 0 | I91: 0 | J91: 1 | K91: 1 | M91: 0 | Q91: =SUM(E91:P91) -> 6 | R91: 1 | S91: 0 | T91: 3 | U91: 0 | V91: 0 | W91: 1 | X91: 1 | Z91: 0 | AA91: 0 | AD91: =SUM(R91:AC91) -> 6
A92: TOTAL LOS VILOS | C92: =D92/Metas!N12 -> 1.2132353 | D92: =Q92/AD92 -> 0.97058824 | E92: =SUM(E87:E91) -> 1 | F92: =SUM(F87:F91) -> 1 | G92: =SUM(G87:G91) -> 13 | H92: =SUM(H87:H91) -> 7 | I92: =SUM(I87:I91) -> 2 | J92: =SUM(J87:J91) -> 1 | K92: =SUM(K87:K91) -> 3 | L92: =SUM(L87:L91) -> 2 | ... AD92: =SUM(AD87:AD91) -> 34
A93: 04204-SALAMANCA | B93: 105452-P.S.R. CUNCUMEN | F93: 3 | H93: 1 | M93: 0 | Q93: =SUM(E93:P93) -> 4 | Z93: 0 | AD93: =SUM(R93:AC93) -> 0
A94: 04204-SALAMANCA | B94: 105453-P.S.R. TRANQUILLA | F94: 2 | I94: 1 | K94: 1 | L94: 1 | M94: 1 | N94: 1 | Q94: =SUM(E94:P94) -> 7 | T94: 0 | V94: 0 | W94: 0 | X94: 2 | Y94: 1 | Z94: 1 | AA94: 1 | AD94: =SUM(R94:AC94) -> 5
A95: 04204-SALAMANCA | B95: 105454-P.S.R. CUNLAGUA | Q95: =SUM(E95:P95) -> 0 | AD95: =SUM(R95:AC95) -> 0
A96: 04204-SALAMANCA | B96: 105455-CESFAM Valle Alto | E96: 0 | F96: 0 | G96: 0 | H96: 1 | I96: 0 | J96: 2 | K96: 1 | L96: 3 | M96: 4 | N96: 2 | Q96: =SUM(E96:P96) -> 13 | S96: 1 | T96: 0 | U96: 3 | V96: 3 | W96: 3 | X96: 1 | Y96: 3 | Z96: 4 | AA96: 2 | AD96: =SUM(R96:AC96) -> 20
A97: 04204-SALAMANCA | B97: 105456-P.S.R. LLIMPO | F97: 0 | M97: 0 | Q97: =SUM(E97:P97) -> 0 | V97: 0 | W97: 1 | X97: 0 | Y97: 2 | Z97: 2 | AA97: 0 | AD97: =SUM(R97:AC97) -> 5
A98: 04204-SALAMANCA | B98: 105457-P.S.R. SAN AGUSTIN | F98: 0 | Q98: =SUM(E98:P98) -> 0 | V98: 0 | W98: 1 | Z98: 0 | AA98: 0 | AD98: =SUM(R98:AC98) -> 1
A99: 04204-SALAMANCA | B99: 105458-P.S.R. TAHUINCO | F99: 2 | H99: 1 | I99: 2 | J99: 0 | L99: 0 | M99: 1 | N99: 0 | Q99: =SUM(E99:P99) -> 6 | S99: 0 | U99: 0 | V99: 2 | W99: 0 | X99: 0 | Z99: 1 | AA99: 0 | AD99: =SUM(R99:AC99) -> 3
A100: 04204-SALAMANCA | B100: 105491-P.S.R. QUELEN BAJO | F100: 2 | H100: 1 | I100: 0 | J100: 1 | K100: 0 | L100: 1 | M100: 1 | N100: 1 | Q100: =SUM(E100:P100) -> 7 | U100: 0 | V100: 1 | W100: 2 | X100: 0 | Y100: 1 | Z100: 1 | AA100: 1 | AD100: =SUM(R100:AC100) -> 6
A101: 04204-SALAMANCA | B101: 105492-P.S.R. CAMISA | F101: 0 | H101: 1 | I101: 0 | L101: 0 | M101: 0 | Q101: =SUM(E101:P101) -> 1 | V101: 0 | W101: 1 | X101: 0 | Z101: 0 | AA101: 0 | AD101: =SUM(R101:AC101) -> 1
A102: 04204-SALAMANCA | B102: 105501-P.S.R. ARBOLEDA GRANDE | G102: 0 | H102: 1 | I102: 0 | M102: 0 | Q102: =SUM(E102:P102) -> 1 | T102: 0 | U102: 1 | V102: 0 | AA102: 0 | AD102: =SUM(R102:AC102) -> 1
A103: TOTAL SALAMANCA | C103: =D103/Metas!N13 -> 1.2720157 | D103: =Q103/AD103 -> 0.92857143 | E103: =SUM(E93:E102) -> 0 | F103: =SUM(F93:F102) -> 9 | G103: =SUM(G93:G102) -> 0 | H103: =SUM(H93:H102) -> 6 | I103: =SUM(I93:I102) -> 3 | J103: =SUM(J93:J102) -> 3 | K103: =SUM(K93:K102) -> 2 | L103: =SUM(L93:L102) -> 5 | ... AD103: =SUM(AD93:AD102) -> 42
A104: 04301-OVALLE | B104: 105315-CES. RURAL C. DE TAMAYA | E104: 7 | F104: 3 | G104: 2 | H104: 2 | I104: 5 | J104: 1 | K104: 6 | L104: 2 | M104: 3 | N104: 3 | Q104: =SUM(E104:P104) -> 34 | R104: 10 | S104: 5 | T104: 6 | U104: 2 | V104: 6 | W104: 4 | X104: 6 | Y104: 7 | Z104: 6 | AA104: 8 | AD104: =SUM(R104:AC104) -> 60
A105: 04301-OVALLE | B105: 105317-CES. JORGE JORDAN D. | E105: 7 | F105: 12 | G105: 10 | H105: 12 | I105: 12 | J105: 10 | K105: 11 | L105: 7 | M105: 7 | N105: 15 | Q105: =SUM(E105:P105) -> 103 | R105: 14 | S105: 16 | T105: 14 | U105: 17 | V105: 19 | W105: 12 | X105: 13 | Y105: 8 | Z105: 8 | AA105: 18 | AD105: =SUM(R105:AC105) -> 139
A106: 04301-OVALLE | B106: 105322-CES. MARCOS MACUADA | E106: 8 | F106: 9 | H106: 5 | I106: 12 | J106: 9 | K106: 8 | L106: 0 | M106: 0 | N106: 0 | Q106: =SUM(E106:P106) -> 51 | R106: 10 | S106: 15 | T106: 20 | U106: 12 | V106: 15 | W106: 13 | X106: 11 | Z106: 0 | AA106: 0 | AD106: =SUM(R106:AC106) -> 96
A107: 04301-OVALLE | B107: 105324-CES. SOTAQUI | E107: 6 | F107: 2 | G107: 2 | H107: 4 | I107: 5 | J107: 3 | K107: 1 | L107: 7 | M107: 2 | N107: 2 | Q107: =SUM(E107:P107) -> 34 | R107: 8 | S107: 2 | T107: 2 | U107: 5 | V107: 7 | W107: 3 | X107: 1 | Y107: 9 | Z107: 5 | AA107: 4 | AD107: =SUM(R107:AC107) -> 46
...

Sheet Meta 07
C1: COMUNA | D1: ESTABLECIMIENTO | E1: CUMPLIMIENTO | F1: Indicador | H1: META 7: COBERTURA DE TRATAMIENTO EN PERSONAS CON ASMA Y EPOC
H2: NUMERADOR | J2: DENOMINADOR
H11: N° de personas con EPOC de 40 años y más que logran nivel de control “adecuado” más el N° de personas con asma de 5 años y más, que logran nivel de control “controlado”, durante el año 2023 el N° de personas con asma de 5 años y más, que logran nivel de control “controlado”, durante el año 2028 | J11: N° Total de personas con EPOC de 40 años y más, más N° de personas con asma de 5 años y más, esperadas según prevalencia nacional para año 2023
F12: Resultado a Junio | G12: Resultado a Dic | H12: JUNIO | I12: DICBRE | J12: TOTAL | K12: ***con cálculo de cumplimiento corregido
A13: 105300 | B13: 441 | C13: 04101-LA SERENA | D13: 105300-CES. CARDENAL CARO | H13: 441
A14: 105301 | B14: 249 | C14: 04101-LA SERENA | D14: 105301-CES. LAS COMPAÑIAS | H14: 249
A15: 105302 | B15: 491 | C15: 04101-LA SERENA | D15: 105302-CES. PEDRO AGUIRRE C. | H15: 491
A16: 105313 | B16: 368 | C16: 04101-LA SERENA | D16: 105313-CES. SCHAFFHAUSER | H16: 368
A17: 105319 | B17: 184 | C17: 04101-LA SERENA | D17: 105319-CES. CARDENAL R.S.H. | H17: 184
A18: 105325 | B18: 369 | C18: 04101-LA SERENA | D18: 105325-CESFAM JUAN PABLO II | H18: 369
A19: 105400 | B19: 17 | C19: 04101-LA SERENA | D19: 105400-P.S.R. ALGARROBITO | H19: 17
A20: 105401 | B20: 17 | C20: 04101-LA SERENA | D20: 105401-P.S.R. LAS ROJAS | H20: 17
A21: 105402 | B21: 35 | C21: 04101-LA SERENA | D21: 105402-P.S.R. EL ROMERO | H21: 35
A22: 105499 | B22: 10 | C22: 04101-LA SERENA | D22: 105499-P.S.R. LAMBERT | H22: 10
C23: 04101-LA SERENA | D23: 105700-CECOF VILLA EL INDIO
C24: 04101-LA SERENA | D24: 105701-CECOF VILLA ALEMANIA
C25: 04101-LA SERENA | D25: 105702-CECOF VILLA LAMBERT
C26: 04101-LA SERENA | D26: 200402-CECOF ARCOS DE PINAMAR
C27: TOTAL LA SERENA | E27: =F27/Metas!O5 -> 0.69890406 | F27: =H27/J27 -> 0.069890406 | H27: =SUM(H13:H26) -> 2181 | I27: =SUM(I13:I26) -> 0 | J27: 31206
A28: 105303 | B28: 357 | C28: 04102-COQUIMBO | D28: 105303-CES. SAN JUAN | H28: 357
A29: 105304 | B29: 605 | C29: 04102-COQUIMBO | D29: 105304-CES. SANTA CECILIA | H29: 605
A30: 105305 | B30: 600 | C30: 04102-COQUIMBO | D30: 105305-CES. TIERRAS BLANCAS | H30: 600
A31: 105321 | B31: 118 | C31: 04102-COQUIMBO | D31: 105321-CES. RURAL TONGOY | H31: 118
A32: 105323 | B32: 334 | C32: 04102-COQUIMBO | D32: 105323-CES. DR. SERGIO AGUILAR | H32: 334
C33: 04102-COQUIMBO | D33: 105404-P.S.R. EL TANGUE
A34: 105405 | B34: 45 | C34: 04102-COQUIMBO | D34: 105405-P.S.R. GUANAQUEROS | H34: 45
C35: 04102-COQUIMBO | D35: 105407-P.S.R. TAMBILLOS
A36: 200273 | B36: 5 | C36: 04102-COQUIMBO | D36: 200273-CECOF PUNTA MIRA | H36: 5
A37: 200494 | B37: 290 | C37: 04102-COQUIMBO | D37: 200494-CESFAM EL SAUCE | H37: 290
A38: 200607 | B38: 332 | C38: 04102-COQUIMBO | D38: 200607-CESFAM LILA CORTES | H38: 332
A39: 200499 | B39: 174 | C39: 04102-COQUIMBO | D39: 200499-CESFAM PAN DE AZÚCAR | H39: 174
C40: TOTAL COQUIMBO | E40: =F40/Metas!O6 -> 0.9334813 | F40: =H40/J40 -> 0.09334813 | H40: =SUM(H28:H39) -> 2860 | I40: =SUM(I28:I39) -> 0 | J40: 30638
A41: 105314 | B41: 44 | C41: 04104-LA HIGUERA | D41: 105314-CES. LA HIGUERA | H41: 44
A42: 105500 | B42: 38 | C42: 04104-LA HIGUERA | D42: 105500-P.S.R. CALETA HORNOS | H42: 38
A43: 105505 | B43: 23 | C43: 04104-LA HIGUERA | D43: 105505-P.S.R. LOS CHOROS | H43: 23
A44: 105506 | B44: 17 | C44: 04104-LA HIGUERA | D44: 105506-P.S.R. EL TRAPICHE | H44: 17
C45: TOTAL LA HIGUERA | E45: =F45/Metas!O7 -> 1.711008 | F45: =H45/J45 -> 0.1933439 | H45: =SUM(H41:H44) -> 122 | I45: =SUM(I41:I44) -> 0 | J45: 631
A46: 105306 | B46: 13 | C46: 04105-PAIHUANO | D46: 105306-CES. PAIHUANO | H46: 13
C47: 04105-PAIHUANO | D47: 105475-P.S.R. HORCON
C48: 04105-PAIHUANO | D48: 105476-P.S.R. MONTE GRANDE
C49: 04105-PAIHUANO | D49: 105477-P.S.R. PISCO ELQUI
C50: TOTAL PAIHUANO | E50: =F50/Metas!O8 -> 0.41139241 | F50: =H50/J50 -> 0.032911392 | H50: =SUM(H46:H49) -> 13 | I50: =SUM(I46:I49) -> 0 | J50: 395
A51: 105467 | B51: 17 | C51: 04106-VICUÑA | D51: 105467-P.S.R. DIAGUITAS | H51: 17
A52: 105468 | B52: 32 | C52: 04106-VICUÑA | D52: 105468-P.S.R. EL MOLLE | H52: 32
A53: 105469 | B53: 28 | C53: 04106-VICUÑA | D53: 105469-P.S.R. EL TAMBO | H53: 28
A54: 105470 | B54: 2 | C54: 04106-VICUÑA | D54: 105470-P.S.R. HUANTA | H54: 2
A55: 105471 | B55: 41 | C55: 04106-VICUÑA | D55: 105471-P.S.R. PERALILLO | H55: 41
A56: 105472 | B56: 15 | C56: 04106-VICUÑA | D56: 105472-P.S.R. RIVADAVIA | H56: 15
A57: 105473 | B57: 9 | C57: 04106-VICUÑA | D57: 105473-P.S.R. TALCUNA | H57: 9
A58: 105474 | B58: 16 | C58: 04106-VICUÑA | D58: 105474-P.S.R. CHAPILCA | H58: 16
A59: 105509 | B59: 13 | C59: 04106-VICUÑA | D59: 105509-P.S.R. GUALLIGUAICA | H59: 13
A60: 200538 | B60: 108 | C60: 04106-VICUÑA | D60: 200538-CESFAM SAN ISIDRO CALINGASTA | H60: 108
C61: TOTAL VICUÑA | E61: =F61/Metas!O9 -> 0.62076126 | F61: =H61/J61 -> 0.1185654 | H61: =SUM(H51:H60) -> 281 | I61: =SUM(I51:I60) -> 0 | J61: 2370
A62: 105326 | B62: 87 | C62: 04201-ILLAPEL | D62: 105326-CESFAM SAN RAFAEL | H62: 87
A63: 105443 | B63: 21 | C63: 04201-ILLAPEL | D63: 105443-P.S.R. CARCAMO | H63: 21
C64: 04201-ILLAPEL | D64: 105444-P.S.R. HUINTIL
A65: 105445 | B65: 5 | C65: 04201-ILLAPEL | D65: 105445-P.S.R. LIMAHUIDA | H65: 5
C66: 04201-ILLAPEL | D66: 105446-P.S.R. MATANCILLA
A67: 105447 | B67: 10 | C67: 04201-ILLAPEL | D67: 105447-P.S.R. PERALILLO | H67: 10
A68: 105448 | B68: 8 | C68: 04201-ILLAPEL | D68: 105448-P.S.R. SANTA VIRGINIA | H68: 8
A69: 105449 | B69: 6 | C69: 04201-ILLAPEL | D69: 105449-P.S.R. TUNGA NORTE | H69: 6
A70: 105485 | B70: 14 | C70: 04201-ILLAPEL | D70: 105485-P.S.R. PLAN DE HORNOS | H70: 14
A71: 105486 | B71: 14 | C71: 04201-ILLAPEL | D71: 105486-P.S.R. TUNGA SUR | H71: 14
A72: 105487 | B72: 50 | C72: 04201-ILLAPEL | D72: 105487-P.S.R. CAÑAS UNO | H72: 50
A73: 105496 | B73: 4 | C73: 04201-ILLAPEL | D73: 105496-P.S.R. PINTACURA SUR | H73: 4
A74: 105504 | B74: 7 | C74: 04201-ILLAPEL | D74: 105504-P.S.R. SOCAVON | H74: 7
A75: 200366 | B75: 496 | C75: 04201-ILLAPEL | D75: 200366-CESFAM URBANO II | H75: 496
C76: TOTAL ILLAPEL | E76: =F76/Metas!O10 -> 1.6130474 | F76: =H76/J76 -> 0.16130474 | H76: =SUM(H62:H75) -> 722 | I76: =SUM(I62:I75) -> 0 | J76: 4476
A77: 105309 | B77: 159 | C77: 04202-CANELA | D77: 105309-CES. RURAL CANELA | H77: 159
C78: 04202-CANELA | D78: 105450-P.S.R. MINCHA NORTE
C79: 04202-CANELA | D79: 105451-P.S.R. AGUA FRIA
C80: 04202-CANELA | D80: 105482-P.S.R. CANELA ALTA
C81: 04202-CANELA | D81: 105483-P.S.R. LOS RULOS
C82: 04202-CANELA | D82: 105484-P.S.R. HUENTELAUQUEN
A83: 105488 | B83: 2 | C83: 04202-CANELA | D83: 105488-P.S.R. ESPIRITU SANTO | H83: 2
A84: 105493 | B84: 2 | C84: 04202-CANELA | D84: 105493-P.S.R. MINCHA SUR | H84: 2
C85: 04202-CANELA | D85: 105497-P.S.R. JABONERIA
A86: 105498 | B86: 1 | C86: 04202-CANELA | D86: 105498-P.S.R. QUEBRADA DE LINARES | H86: 1
C87: TOTAL CANELA | E87: =F87/Metas!O11 -> 1.3082323 | F87: =H87/J87 -> 0.10465858 | H87: =SUM(H77:H86) -> 164 | I87: =SUM(I77:I86) -> 0 | J87: 1567
A88: 105478 | B88: 21 | C88: 04203-LOS VILOS | D88: 105478-P.S.R. CAIMANES | H88: 21
A89: 105479 | B89: 18 | C89: 04203-LOS VILOS | D89: 105479-P.S.R. GUANGUALI | H89: 18
A90: 105480 | B90: 53 | C90: 04203-LOS VILOS | D90: 105480-P.S.R. QUILIMARI | H90: 53
A91: 105481 | B91: 7 | C91: 04203-LOS VILOS | D91: 105481-P.S.R. TILAMA | H91: 7
A92: 105511 | B92: 23 | C92: 04203-LOS VILOS | D92: 105511-P.S.R. LOS CONDORES | H92: 23
C93: TOTAL LOS VILOS | E93: =F93/Metas!O12 -> 0.64634392 | F93: =H93/J93 -> 0.10535406 | H93: =SUM(H88:H92) -> 122 | I93: =SUM(I88:I92) -> 0 | J93: 1158
A94: 105452 | B94: 17 | C94: 04204-SALAMANCA | D94: 105452-P.S.R. CUNCUMEN | H94: 17
A95: 105453 | B95: 40 | C95: 04204-SALAMANCA | D95: 105453-P.S.R. TRANQUILLA | H95: 40
A96: 105454 | B96: 9 | C96: 04204-SALAMANCA | D96: 105454-P.S.R. CUNLAGUA | H96: 9
A97: 105455 | B97: 38 | C97: 04204-SALAMANCA | D97: 105455-CESFAM Valle Alto | H97: 38
A98: 105456 | B98: 36 | C98: 04204-SALAMANCA | D98: 105456-P.S.R. LLIMPO | H98: 36
A99: 105457 | B99: 25 | C99: 04204-SALAMANCA | D99: 105457-P.S.R. SAN AGUSTIN | H99: 25
A100: 105458 | B100: 51 | C100: 04204-SALAMANCA | D100: 105458-P.S.R. TAHUINCO | H100: 51
A101: 105491 | B101: 58 | C101: 04204-SALAMANCA | D101: 105491-P.S.R. QUELEN BAJO | H101: 58
A102: 105492 | B102: 19 | C102: 04204-SALAMANCA | D102: 105492-P.S.R. CAMISA | H102: 19
A103: 105501 | B103: 43 | C103: 04204-SALAMANCA | D103: 105501-P.S.R. ARBOLEDA GRANDE | H103: 43
C104: TOTAL SALAMANCA | E104: =F104/Metas!O13 -> 0.65979381 | F104: =H104/J104 -> 0.16494845 | H104: =SUM(H94:H103) -> 336 | I104: =SUM(I94:I103) -> 0 | J104: 2037
C105: 04301-OVALLE | D105: 105315-CES. RURAL C. DE TAMAYA
A106: 105317 | B106: 279 | C106: 04301-OVALLE | D106: 105317-CES. JORGE JORDAN D. | H106: 279
A107: 105322 | B107: 436 | C107: 04301-OVALLE | D107: 105322-CES. MARCOS MACUADA | H107: 436
A108: 105324 | B108: 133 | C108: 04301-OVALLE | D108: 105324-CES. SOTAQUI | H108: 133
...

Sheet Metas
A1: METAS ANUALES
E2: CODIGO COMUNA | F2: TIPO | G2: METAS COMPONENTE ACTIVIDAD GENERAL
G3: =+'[2]Metas Anuales'!I4 -> META Nº1 | H3: =+'[2]Metas Anuales'!J4 -> META Nº2 | I3: META Nº3a | J3: META Nº3b | K3: META Nº4a | L3: META Nº4b | M3: META Nº5 | N3: META Nº6 | O3: META Nº7
A4: Nº | B4: SERVICIOS DE SALUD | C4: Nº | D4: COMUNA | G4: RECUPERACIÓN DEL DSM | H4: COBERTURA DEL PAP | I4: COBERTURA DE RIESGO ODONTO 0-9 AÑOS | J4: Niños y niñas de 6 años libres de caries | K4: COBERTURA EFECTIVA DE DM2 EN PERSONAS DE 15 Y MÁS AÑOS | L4: EVALUACIÓN ANUAL DE LOS PIES EN PERSONAS CON DM BAJO CONTROL DE 15 AÑOS Y MÁS | M4: COBERTURA EFECTIVA DE HTA EN PERSONAS DE 15 Y MÁS AÑOS | N4: COBERTURA DE LACTANCIA MATERNA EXCLUSIVA (LME) EN MENORES DE 6 MESES DE VIDA | O4: COBERTURA DE TRATAMIENTO EN PERSONAS CON ASMA Y EPOC | P4: PARTICIPACION social salud
A5: 17 | B5: COQUIMBO | C5: 5 | D5: LA SERENA | G5: 0.75 | H5: 0.443 | I5: 0.35 | J5: 0.31 | K5: 0.19 | L5: 0.64 | M5: 0.32 | N5: 0.7 | O5: 0.1 | P5: 100
A6: 18 | B6: COQUIMBO | C6: 5 | D6: COQUIMBO | G6: 0.85 | H6: 0.526 | I6: 0.36 | J6: 0.21 | K6: 0.22 | L6: 0.63 | M6: 0.26 | N6: 0.6 | O6: 0.1 | P6: 100
A7: 17 | B7: COQUIMBO | C7: 5 | D7: LA HIGUERA | G7: 0.9 | H7: 0.781 | I7: 0.51 | J7: 0.3 | K7: 0.17 | L7: 0.67 | M7: 0.24 | N7: 0.6 | O7: 0.113 | P7: 100
A8: 18 | B8: COQUIMBO | C8: 5 | D8: PAIHUANO | G8: 0.9 | H8: 1 | I8: 0.67 | J8: 0.64 | K8: 0.28 | L8: 0.8 | M8: 0.28 | N8: 0.61 | O8: 0.08 | P8: 1
A9: 19 | B9: COQUIMBO | C9: 5 | D9: VICUÑA | G9: 0.9 | H9: 0.647 | I9: 0.67 | J9: 0.52 | K9: 0.26 | L9: 0.64 | M9: 0.34 | N9: 0.78 | O9: 0.191 | P9: 1
A10: 20 | B10: COQUIMBO | C10: 5 | D10: ILLAPEL | G10: 0.9 | H10: 0.601 | I10: 0.55 | J10: 0.31 | K10: 0.28 | L10: 0.7 | M10: 0.43 | N10: 0.7 | O10: 0.1 | P10: 100
A11: 21 | B11: COQUIMBO | C11: 5 | D11: CANELA | G11: 0.8 | H11: 0.629 | I11: 0.54 | J11: 0.8 | K11: 0.25 | L11: 0.82 | M11: 0.39 | N11: 0.6 | O11: 0.08 | P11: 100
A12: 22 | B12: COQUIMBO | C12: 5 | D12: LOS VILOS | G12: 0.75 | H12: 0.551 | I12: 0.43 | J12: 0.18 | K12: 0.27 | L12: 0.74 | M12: 0.43 | N12: 0.8 | O12: 0.163 | P12: 100
A13: 23 | B13: COQUIMBO | C13: 5 | D13: SALAMANCA | G13: 0.9 | H13: 0.767 | I13: 0.61 | J13: 0.27 | K13: 0.26 | L13: 0.77 | M13: 0.43 | N13: 0.73 | O13: 0.25 | P13: 1
A14: 24 | B14: COQUIMBO | C14: 5 | D14: OVALLE | G14: 0.87 | H14: 0.487 | I14: 0.35 | J14: 0.22 | K14: 0.2 | L14: 0.71 | M14: 0.31 | N14: 0.63 | O14: 0.1 | P14: 100
A15: 25 | B15: COQUIMBO | C15: 5 | D15: COMBARBALÁ | G15: 0.9 | H15: 0.641 | I15: 0.51 | J15: 0.34 | K15: 0.23 | L15: 0.73 | M15: 0.37 | N15: 0.76 | O15: 0.25 | P15: 100
A16: 26 | B16: COQUIMBO | C16: 5 | D16: MONTE PATRIA | G16: 0.9 | H16: 0.627 | I16: 0.6 | J16: 0.64 | K16: 0.22 | L16: 0.7 | M16: 0.33 | N16: 0.69 | O16: 0.102 | P16: 100
... A18: 28 | B18: COQUIMBO | C18: 5 | D18: RIO HURTADO | G18: 0.9 | H18: 0.711 | I18: 0.47 | J18: 0.21 | K18: 0.19 | L18: 0.86 | M18: 0.37 | N18: 0.71 | O18: 0.1 | P18: 1
