Workbook

Sheet CG13
A1: MINISTERIO DE SALUD
A2: SERVICIO DE SALUD COQUIMBO
A3: SUBDIRECCIÓN DE GESTIÓN ASISTENCIAL
A4: SUBDEPTO. DE ESTADÍSTICAS Y GESTIÓN DE LA INFORMACIÓN
A5: AÑO 2022
B8: INDICADOR 13.2: Porcentaje de suspensión de intervenciones quirúrgicas en pacientes de tabla quirúrgica programada.
B11: HOSPITAL | C11: Numerador | P11: Denominador | AC11: INDICADOR
C12: N° de IQ suspendidas en el periodo | P12: N° de IQ programadas en el periodo
C13: Ene | D13: Feb | E13: Mar | F13: Abr | G13: May | H13: Jun | I13: Jul | J13: Ago | K13: Sep | L13: Oct | M13: Nov | N13: Dic | O13: TOTAL | P13: Ene | Q13: Feb | R13: Mar | S13: Abr | T13: May | U13: Jun | V13: Jul | W13: Ago | X13: Sep | Y13: Oct | Z13: Nov | AA13: Dic | AB13: TOTAL
B14: 105100-HOSPITAL LA SERENA | C14: =IFERROR(VLOOKUP($B14,Datos13.2!$F$3:$S$9,2,FALSE),0) -> 42 | D14: =IFERROR(VLOOKUP($B14,Datos13.2!$F$3:$S$9,3,FALSE),0) -> 46 | E14: =IFERROR(VLOOKUP($B14,Datos13.2!$F$3:$S$9,4,FALSE),0) -> 41 | F14: =IFERROR(VLOOKUP($B14,Datos13.2!$F$3:$S$9,5,FALSE),0) -> 41 | G14: =IFERROR(VLOOKUP($B14,Datos13.2!$F$3:$S$9,6,FALSE),0) -> 47 | H14: =IFERROR(VLOOKUP($B14,Datos13.2!$F$3:$S$9,7,FALSE),0) -> 43 | I14: =IFERROR(VLOOKUP($B14,Datos13.2!$F$3:$S$9,8,FALSE),0) -> 40 | J14: =IFERROR(VLOOKUP($B14,Datos13.2!$F$3:$S$9,9,FALSE),0) -> 36 | K14: =IFERROR(VLOOKUP($B14,Datos13.2!$F$3:$S$9,10,FALSE),0) -> 38 | L14: =IFERROR(VLOOKUP($B14,Datos13.2!$F$3:$S$9,11,FALSE),0) -> 48 | M14: =IFERROR(VLOOKUP($B14,Datos13.2!$F$3:$S$9,12,FALSE),0) -> 66 | N14: =IFERROR(VLOOKUP($B14,Datos13.2!$F$3:$S$9,13,FALSE),0) -> 60 | O14: =SUM(C14:N14) -> 548 | P14: =IFERROR(VLOOKUP($B14,Datos13.2!$F$14:$S$20,2,FALSE),0) -> 371 | Q14: =IFERROR(VLOOKUP($B14,Datos13.2!$F$14:$S$20,3,FALSE),0) -> 362 | R14: =IFERROR(VLOOKUP($B14,Datos13.2!$F$14:$S$20,4,FALSE),0) -> 445 | S14: =IFERROR(VLOOKUP($B14,Datos13.2!$F$14:$S$20,5,FALSE),0) -> 434 | T14: =IFERROR(VLOOKUP($B14,Datos13.2!$F$14:$S$20,6,FALSE),0) -> 461 | U14: =IFERROR(VLOOKUP($B14,Datos13.2!$F$14:$S$20,7,FALSE),0) -> 373 | V14: =IFERROR(VLOOKUP($B14,Datos13.2!$F$14:$S$20,8,FALSE),0) -> 440 | W14: =IFERROR(VLOOKUP($B14,Datos13.2!$F$14:$S$20,9,FALSE),0) -> 565 | X14: =IFERROR(VLOOKUP($B14,Datos13.2!$F$14:$S$20,10,FALSE),0) -> 670 | Y14: =IFERROR(VLOOKUP($B14,Datos13.2!$F$14:$S$20,11,FALSE),0) -> 651 | Z14: =IFERROR(VLOOKUP($B14,Datos13.2!$F$14:$S$20,12,FALSE),0) -> 779 | AA14: =IFERROR(VLOOKUP($B14,Datos13.2!$F$14:$S$20,13,FALSE),0) -> 676 | AB14: =SUM(P14:AA14) -> 6227 | AC14: =O14/AB14 -> 0.088003854
B15: 105101-HOSPITAL COQUIMBO | C15: =IFERROR(VLOOKUP($B15,Datos13.2!$F$3:$S$9,2,FALSE),0) -> 40 | D15: =IFERROR(VLOOKUP($B15,Datos13.2!$F$3:$S$9,3,FALSE),0) -> 43 | E15: =IFERROR(VLOOKUP($B15,Datos13.2!$F$3:$S$9,4,FALSE),0) -> 48 | F15: =IFERROR(VLOOKUP($B15,Datos13.2!$F$3:$S$9,5,FALSE),0) -> 43 | G15: =IFERROR(VLOOKUP($B15,Datos13.2!$F$3:$S$9,6,FALSE),0) -> 90 | H15: =IFERROR(VLOOKUP($B15,Datos13.2!$F$3:$S$9,7,FALSE),0) -> 56 | I15: =IFERROR(VLOOKUP($B15,Datos13.2!$F$3:$S$9,8,FALSE),0) -> 73 | J15: =IFERROR(VLOOKUP($B15,Datos13.2!$F$3:$S$9,9,FALSE),0) -> 36 | K15: =IFERROR(VLOOKUP($B15,Datos13.2!$F$3:$S$9,10,FALSE),0) -> 15 | L15: =IFERROR(VLOOKUP($B15,Datos13.2!$F$3:$S$9,11,FALSE),0) -> 37 | M15: =IFERROR(VLOOKUP($B15,Datos13.2!$F$3:$S$9,12,FALSE),0) -> 58 | N15: =IFERROR(VLOOKUP($B15,Datos13.2!$F$3:$S$9,13,FALSE),0) -> 63 | O15: =SUM(C15:N15) -> 602 | P15: =IFERROR(VLOOKUP($B15,Datos13.2!$F$14:$S$20,2,FALSE),0) -> 626 | Q15: =IFERROR(VLOOKUP($B15,Datos13.2!$F$14:$S$20,3,FALSE),0) -> 472 | R15: =IFERROR(VLOOKUP($B15,Datos13.2!$F$14:$S$20,4,FALSE),0) -> 676 | S15: =IFERROR(VLOOKUP($B15,Datos13.2!$F$14:$S$20,5,FALSE),0) -> 665 | T15: =IFERROR(VLOOKUP($B15,Datos13.2!$F$14:$S$20,6,FALSE),0) -> 678 | U15: =IFERROR(VLOOKUP($B15,Datos13.2!$F$14:$S$20,7,FALSE),0) -> 524 | V15: =IFERROR(VLOOKUP($B15,Datos13.2!$F$14:$S$20,8,FALSE),0) -> 560 | W15: =IFERROR(VLOOKUP($B15,Datos13.2!$F$14:$S$20,9,FALSE),0) -> 588 | X15: =IFERROR(VLOOKUP($B15,Datos13.2!$F$14:$S$20,10,FALSE),0) -> 519 | Y15: =IFERROR(VLOOKUP($B15,Datos13.2!$F$14:$S$20,11,FALSE),0) -> 582 | Z15: =IFERROR(VLOOKUP($B15,Datos13.2!$F$14:$S$20,12,FALSE),0) -> 610 | AA15: =IFERROR(VLOOKUP($B15,Datos13.2!$F$14:$S$20,13,FALSE),0) -> 579 | AB15: =SUM(P15:AA15) -> 7079 | AC15: =O15/AB15 -> 0.08504026
B16: 105102-HOSPITAL OVALLE | C16: =IFERROR(VLOOKUP($B16,Datos13.2!$F$3:$S$9,2,FALSE),0) -> 12 | D16: =IFERROR(VLOOKUP($B16,Datos13.2!$F$3:$S$9,3,FALSE),0) -> 6 | E16: =IFERROR(VLOOKUP($B16,Datos13.2!$F$3:$S$9,4,FALSE),0) -> 12 | F16: =IFERROR(VLOOKUP($B16,Datos13.2!$F$3:$S$9,5,FALSE),0) -> 26 | G16: =IFERROR(VLOOKUP($B16,Datos13.2!$F$3:$S$9,6,FALSE),0) -> 19 | H16: =IFERROR(VLOOKUP($B16,Datos13.2!$F$3:$S$9,7,FALSE),0) -> 31 | I16: =IFERROR(VLOOKUP($B16,Datos13.2!$F$3:$S$9,8,FALSE),0) -> 21 | J16: =IFERROR(VLOOKUP($B16,Datos13.2!$F$3:$S$9,9,FALSE),0) -> 13 | K16: =IFERROR(VLOOKUP($B16,Datos13.2!$F$3:$S$9,10,FALSE),0) -> 11 | L16: =IFERROR(VLOOKUP($B16,Datos13.2!$F$3:$S$9,11,FALSE),0) -> 14 | M16: =IFERROR(VLOOKUP($B16,Datos13.2!$F$3:$S$9,12,FALSE),0) -> 28 | N16: =IFERROR(VLOOKUP($B16,Datos13.2!$F$3:$S$9,13,FALSE),0) -> 38 | O16: =SUM(C16:N16) -> 231 | P16: =IFERROR(VLOOKUP($B16,Datos13.2!$F$14:$S$20,2,FALSE),0) -> 275 | Q16: =IFERROR(VLOOKUP($B16,Datos13.2!$F$14:$S$20,3,FALSE),0) -> 237 | R16: =IFERROR(VLOOKUP($B16,Datos13.2!$F$14:$S$20,4,FALSE),0) -> 302 | S16: =IFERROR(VLOOKUP($B16,Datos13.2!$F$14:$S$20,5,FALSE),0) -> 516 | T16: =IFERROR(VLOOKUP($B16,Datos13.2!$F$14:$S$20,6,FALSE),0) -> 416 | U16: =IFERROR(VLOOKUP($B16,Datos13.2!$F$14:$S$20,7,FALSE),0) -> 376 | V16: =IFERROR(VLOOKUP($B16,Datos13.2!$F$14:$S$20,8,FALSE),0) -> 403 | W16: =IFERROR(VLOOKUP($B16,Datos13.2!$F$14:$S$20,9,FALSE),0) -> 453 | X16: =IFERROR(VLOOKUP($B16,Datos13.2!$F$14:$S$20,10,FALSE),0) -> 356 | Y16: =IFERROR(VLOOKUP($B16,Datos13.2!$F$14:$S$20,11,FALSE),0) -> 563 | Z16: =IFERROR(VLOOKUP($B16,Datos13.2!$F$14:$S$20,12,FALSE),0) -> 553 | AA16: =IFERROR(VLOOKUP($B16,Datos13.2!$F$14:$S$20,13,FALSE),0) -> 457 | AB16: =SUM(P16:AA16) -> 4907 | AC16: =O16/AB16 -> 0.047075606
B17: 105103-HOSPITAL ILLAPEL | C17: =IFERROR(VLOOKUP($B17,Datos13.2!$F$3:$S$9,2,FALSE),0) -> 16 | D17: =IFERROR(VLOOKUP($B17,Datos13.2!$F$3:$S$9,3,FALSE),0) -> 15 | E17: =IFERROR(VLOOKUP($B17,Datos13.2!$F$3:$S$9,4,FALSE),0) -> 11 | F17: =IFERROR(VLOOKUP($B17,Datos13.2!$F$3:$S$9,5,FALSE),0) -> 5 | G17: =IFERROR(VLOOKUP($B17,Datos13.2!$F$3:$S$9,6,FALSE),0) -> 10 | H17: =IFERROR(VLOOKUP($B17,Datos13.2!$F$3:$S$9,7,FALSE),0) -> 4 | I17: =IFERROR(VLOOKUP($B17,Datos13.2!$F$3:$S$9,8,FALSE),0) -> 6 | J17: =IFERROR(VLOOKUP($B17,Datos13.2!$F$3:$S$9,9,FALSE),0) -> 5 | K17: =IFERROR(VLOOKUP($B17,Datos13.2!$F$3:$S$9,10,FALSE),0) -> 4 | L17: =IFERROR(VLOOKUP($B17,Datos13.2!$F$3:$S$9,11,FALSE),0) -> 9 | M17: =IFERROR(VLOOKUP($B17,Datos13.2!$F$3:$S$9,12,FALSE),0) -> 6 | N17: =IFERROR(VLOOKUP($B17,Datos13.2!$F$3:$S$9,13,FALSE),0) -> 4 | O17: =SUM(C17:N17) -> 95 | P17: =IFERROR(VLOOKUP($B17,Datos13.2!$F$14:$S$20,2,FALSE),0) -> 186 | Q17: =IFERROR(VLOOKUP($B17,Datos13.2!$F$14:$S$20,3,FALSE),0) -> 191 | R17: =IFERROR(VLOOKUP($B17,Datos13.2!$F$14:$S$20,4,FALSE),0) -> 219 | S17: =IFERROR(VLOOKUP($B17,Datos13.2!$F$14:$S$20,5,FALSE),0) -> 187 | T17: =IFERROR(VLOOKUP($B17,Datos13.2!$F$14:$S$20,6,FALSE),0) -> 206 | U17: =IFERROR(VLOOKUP($B17,Datos13.2!$F$14:$S$20,7,FALSE),0) -> 176 | V17: =IFERROR(VLOOKUP($B17,Datos13.2!$F$14:$S$20,8,FALSE),0) -> 156 | W17: =IFERROR(VLOOKUP($B17,Datos13.2!$F$14:$S$20,9,FALSE),0) -> 148 | X17: =IFERROR(VLOOKUP($B17,Datos13.2!$F$14:$S$20,10,FALSE),0) -> 133 | Y17: =IFERROR(VLOOKUP($B17,Datos13.2!$F$14:$S$20,11,FALSE),0) -> 153 | Z17: =IFERROR(VLOOKUP($B17,Datos13.2!$F$14:$S$20,12,FALSE),0) -> 119 | AA17: =IFERROR(VLOOKUP($B17,Datos13.2!$F$14:$S$20,13,FALSE),0) -> 109 | AB17: =SUM(P17:AA17) -> 1983 | AC17: =O17/AB17 -> 0.047907211
B18: Total Regional | C18: =SUM(C14:C17) -> 110 | D18: =SUM(D14:D17) -> 110 | E18: =SUM(E14:E17) -> 112 | F18: =SUM(F14:F17) -> 115 | G18: =SUM(G14:G17) -> 166 | H18: =SUM(H14:H17) -> 134 | I18: =SUM(I14:I17) -> 140 | J18: =SUM(J14:J17) -> 90 | ... AB18: =SUM(AB14:AB17) -> 20196 | AC18: =O18/AB18 -> 0.073083779
B19: *Fuente: REM A21, Sección E
B23: INDICADOR 13.3: Porcentaje de ocupación de quirófanos de cirugía electiva.
B26: HOSPITAL | C26: Numerador | P26: Denominador | AC26: INDICADOR
C27: N° de horas de cirugías ocupadas en Qx trabajo | P27: N° de horas totales disponibles Qx habilitados
C28: Ene | D28: Feb | E28: Mar | F28: Abr | G28: May | H28: Jun | I28: Jul | J28: Ago | K28: Sep | L28: Oct | M28: Nov | N28: Dic | O28: TOTAL | P28: Ene | Q28: Feb | R28: Mar | S28: Abr | T28: May | U28: Jun | V28: Jul | W28: Ago | X28: Sep | Y28: Oct | Z28: Nov | AA28: Dic | AB28: TOTAL
B29: 105100-HOSPITAL LA SERENA | C29: =IFERROR(VLOOKUP($B29,Datos13.3!$F$3:$S$8,2,FALSE),0) -> 509.7 | D29: =IFERROR(VLOOKUP($B29,Datos13.3!$F$3:$S$8,3,FALSE),0) -> 437.05 | E29: =IFERROR(VLOOKUP($B29,Datos13.3!$F$3:$S$8,4,FALSE),0) -> 616.85 | F29: =IFERROR(VLOOKUP($B29,Datos13.3!$F$3:$S$8,5,FALSE),0) -> 661.92 | G29: =IFERROR(VLOOKUP($B29,Datos13.3!$F$3:$S$8,6,FALSE),0) -> 681.3 | H29: =IFERROR(VLOOKUP($B29,Datos13.3!$F$3:$S$8,7,FALSE),0) -> 600.63 | I29: =IFERROR(VLOOKUP($B29,Datos13.3!$F$3:$S$8,8,FALSE),0) -> 744.61 | J29: =IFERROR(VLOOKUP($B29,Datos13.3!$F$3:$S$8,9,FALSE),0) -> 670.02 | K29: =IFERROR(VLOOKUP($B29,Datos13.3!$F$3:$S$8,10,FALSE),0) -> 825.63 | L29: =IFERROR(VLOOKUP($B29,Datos13.3!$F$3:$S$8,11,FALSE),0) -> 792.6 | M29: =IFERROR(VLOOKUP($B29,Datos13.3!$F$3:$S$8,12,FALSE),0) -> 795.74 | N29: =IFERROR(VLOOKUP($B29,Datos13.3!$F$3:$S$8,13,FALSE),0) -> 767.41 | O29: =SUM(C29:N29) -> 8103.46 | P29: =IFERROR(VLOOKUP($B29,Datos13.3!$F$12:$S$17,2,FALSE),0) -> 715 | Q29: =IFERROR(VLOOKUP($B29,Datos13.3!$F$12:$S$17,3,FALSE),0) -> 680 | R29: =IFERROR(VLOOKUP($B29,Datos13.3!$F$12:$S$17,4,FALSE),0) -> 785 | S29: =IFERROR(VLOOKUP($B29,Datos13.3!$F$12:$S$17,5,FALSE),0) -> 680 | T29: =IFERROR(VLOOKUP($B29,Datos13.3!$F$12:$S$17,6,FALSE),0) -> 900 | U29: =IFERROR(VLOOKUP($B29,Datos13.3!$F$12:$S$17,7,FALSE),0) -> 972 | V29: =IFERROR(VLOOKUP($B29,Datos13.3!$F$12:$S$17,8,FALSE),0) -> 894 | W29: =IFERROR(VLOOKUP($B29,Datos13.3!$F$12:$S$17,9,FALSE),0) -> 1116 | X29: =IFERROR(VLOOKUP($B29,Datos13.3!$F$12:$S$17,10,FALSE),0) -> 1012 | Y29: =IFERROR(VLOOKUP($B29,Datos13.3!$F$12:$S$17,11,FALSE),0) -> 960 | Z29: =IFERROR(VLOOKUP($B29,Datos13.3!$F$12:$S$17,12,FALSE),0) -> 1064 | AA29: =IFERROR(VLOOKUP($B29,Datos13.3!$F$12:$S$17,13,FALSE),0) -> 1057 | AB29: =SUM(P29:AA29) -> 10835 | AC29: =O29/AB29 -> 0.74789663
B30: 105101-HOSPITAL COQUIMBO | C30: =IFERROR(VLOOKUP($B30,Datos13.3!$F$3:$S$8,2,FALSE),0) -> 911.71 | D30: =IFERROR(VLOOKUP($B30,Datos13.3!$F$3:$S$8,3,FALSE),0) -> 1001.51 | E30: =IFERROR(VLOOKUP($B30,Datos13.3!$F$3:$S$8,4,FALSE),0) -> 1285.57 | F30: =IFERROR(VLOOKUP($B30,Datos13.3!$F$3:$S$8,5,FALSE),0) -> 1168.9 | G30: =IFERROR(VLOOKUP($B30,Datos13.3!$F$3:$S$8,6,FALSE),0) -> 1127.14 | H30: =IFERROR(VLOOKUP($B30,Datos13.3!$F$3:$S$8,7,FALSE),0) -> 971.69 | I30: =IFERROR(VLOOKUP($B30,Datos13.3!$F$3:$S$8,8,FALSE),0) -> 1004.59 | J30: =IFERROR(VLOOKUP($B30,Datos13.3!$F$3:$S$8,9,FALSE),0) -> 1173.48 | K30: =IFERROR(VLOOKUP($B30,Datos13.3!$F$3:$S$8,10,FALSE),0) -> 1033.34 | L30: =IFERROR(VLOOKUP($B30,Datos13.3!$F$3:$S$8,11,FALSE),0) -> 1039.09 | M30: =IFERROR(VLOOKUP($B30,Datos13.3!$F$3:$S$8,12,FALSE),0) -> 913.16 | N30: =IFERROR(VLOOKUP($B30,Datos13.3!$F$3:$S$8,13,FALSE),0) -> 874.96 | O30: =SUM(C30:N30) -> 12505.14 | P30: =IFERROR(VLOOKUP($B30,Datos13.3!$F$12:$S$17,2,FALSE),0) -> 1512 | Q30: =IFERROR(VLOOKUP($B30,Datos13.3!$F$12:$S$17,3,FALSE),0) -> 1440 | R30: =IFERROR(VLOOKUP($B30,Datos13.3!$F$12:$S$17,4,FALSE),0) -> 1656 | S30: =IFERROR(VLOOKUP($B30,Datos13.3!$F$12:$S$17,5,FALSE),0) -> 1440 | T30: =IFERROR(VLOOKUP($B30,Datos13.3!$F$12:$S$17,6,FALSE),0) -> 1584 | U30: =IFERROR(VLOOKUP($B30,Datos13.3!$F$12:$S$17,7,FALSE),0) -> 1440 | V30: =IFERROR(VLOOKUP($B30,Datos13.3!$F$12:$S$17,8,FALSE),0) -> 1512 | W30: =IFERROR(VLOOKUP($B30,Datos13.3!$F$12:$S$17,9,FALSE),0) -> 1461 | X30: =IFERROR(VLOOKUP($B30,Datos13.3!$F$12:$S$17,10,FALSE),0) -> 1344 | Y30: =IFERROR(VLOOKUP($B30,Datos13.3!$F$12:$S$17,11,FALSE),0) -> 1216 | Z30: =IFERROR(VLOOKUP($B30,Datos13.3!$F$12:$S$17,12,FALSE),0) -> 1344 | AA30: =IFERROR(VLOOKUP($B30,Datos13.3!$F$12:$S$17,13,FALSE),0) -> 1344 | AB30: =SUM(P30:AA30) -> 17293 | AC30: =O30/AB30 -> 0.72313306
B31: 105102-HOSPITAL OVALLE | C31: =IFERROR(VLOOKUP($B31,Datos13.3!$F$3:$S$8,2,FALSE),0) -> 250.05 | D31: =IFERROR(VLOOKUP($B31,Datos13.3!$F$3:$S$8,3,FALSE),0) -> 229.3 | E31: =IFERROR(VLOOKUP($B31,Datos13.3!$F$3:$S$8,4,FALSE),0) -> 308.47 | F31: =IFERROR(VLOOKUP($B31,Datos13.3!$F$3:$S$8,5,FALSE),0) -> 725.18 | G31: =IFERROR(VLOOKUP($B31,Datos13.3!$F$3:$S$8,6,FALSE),0) -> 678.4 | H31: =IFERROR(VLOOKUP($B31,Datos13.3!$F$3:$S$8,7,FALSE),0) -> 506.05 | I31: =IFERROR(VLOOKUP($B31,Datos13.3!$F$3:$S$8,8,FALSE),0) -> 568.12 | J31: =IFERROR(VLOOKUP($B31,Datos13.3!$F$3:$S$8,9,FALSE),0) -> 627.23 | K31: =IFERROR(VLOOKUP($B31,Datos13.3!$F$3:$S$8,10,FALSE),0) -> 546.05 | L31: =IFERROR(VLOOKUP($B31,Datos13.3!$F$3:$S$8,11,FALSE),0) -> 553.2 | M31: =IFERROR(VLOOKUP($B31,Datos13.3!$F$3:$S$8,12,FALSE),0) -> 525.23 | N31: =IFERROR(VLOOKUP($B31,Datos13.3!$F$3:$S$8,13,FALSE),0) -> 505.65 | O31: =SUM(C31:N31) -> 6022.93 | P31: =IFERROR(VLOOKUP($B31,Datos13.3!$F$12:$S$17,2,FALSE),0) -> 488.2 | Q31: =IFERROR(VLOOKUP($B31,Datos13.3!$F$12:$S$17,3,FALSE),0) -> 320.17 | R31: =IFERROR(VLOOKUP($B31,Datos13.3!$F$12:$S$17,4,FALSE),0) -> 381.12 | S31: =IFERROR(VLOOKUP($B31,Datos13.3!$F$12:$S$17,5,FALSE),0) -> 927.1 | T31: =IFERROR(VLOOKUP($B31,Datos13.3!$F$12:$S$17,6,FALSE),0) -> 900.3 | U31: =IFERROR(VLOOKUP($B31,Datos13.3!$F$12:$S$17,7,FALSE),0) -> 629.98 | V31: =IFERROR(VLOOKUP($B31,Datos13.3!$F$12:$S$17,8,FALSE),0) -> 756.95 | W31: =IFERROR(VLOOKUP($B31,Datos13.3!$F$12:$S$17,9,FALSE),0) -> 870.38 | X31: =IFERROR(VLOOKUP($B31,Datos13.3!$F$12:$S$17,10,FALSE),0) -> 779.5 | Y31: =IFERROR(VLOOKUP($B31,Datos13.3!$F$12:$S$17,11,FALSE),0) -> 763.83 | Z31: =IFERROR(VLOOKUP($B31,Datos13.3!$F$12:$S$17,12,FALSE),0) -> 761.97 | AA31: =IFERROR(VLOOKUP($B31,Datos13.3!$F$12:$S$17,13,FALSE),0) -> 761.88 | AB31: =SUM(P31:AA31) -> 8341.38 | AC31: =O31/AB31 -> 0.72205438
B32: Total Regional | C32: =SUM(C29:C31) -> 1671.46 | D32: =SUM(D29:D31) -> 1667.86 | E32: =SUM(E29:E31) -> 2210.89 | F32: =SUM(F29:F31) -> 2556 | G32: =SUM(G29:G31) -> 2486.84 | H32: =SUM(H29:H31) -> 2078.37 | I32: =SUM(I29:I31) -> 2317.32 | J32: =SUM(J29:J31) -> 2470.73 | ... AB32: =SUM(AB29:AB31) -> 36469.38 | AC32: =O32/AB32 -> 0.73024356
B33: *Fuente: REM A21, Sección A

Sheet Datos13.2
A1: Idestablecimiento | B1: Establecimiento | C1: Mes | D1: Total | U1: Idestablecimiento | V1: Establecimiento | W1: Mes | X1: Total
A2: 105100 | B2: =IFERROR(VLOOKUP($A2,[1]Establecimientos!$A$1:$E$175,5,FALSE),0) -> 105100-HOSPITAL LA SERENA | C2: 1 | D2: 42 | U2: 105100 | V2: =IFERROR(VLOOKUP($U2,[1]Establecimientos!$A$1:$E$175,5,FALSE),0) -> 105100-HOSPITAL LA SERENA | W2: 1 | X2: 371
A3: 105100 | B3: =IFERROR(VLOOKUP($A3,[1]Establecimientos!$A$1:$E$175,5,FALSE),0) -> 105100-HOSPITAL LA SERENA | C3: 2 | D3: 46 | F3: Suma de Total | G3: Etiquetas de columna | U3: 105100 | V3: =IFERROR(VLOOKUP($U3,[1]Establecimientos!$A$1:$E$175,5,FALSE),0) -> 105100-HOSPITAL LA SERENA | W3: 2 | X3: 362
A4: 105100 | B4: =IFERROR(VLOOKUP($A4,[1]Establecimientos!$A$1:$E$175,5,FALSE),0) -> 105100-HOSPITAL LA SERENA | C4: 3 | D4: 41 | F4: Etiquetas de fila | G4: 1 | H4: 2 | I4: 3 | J4: 4 | K4: 5 | L4: 6 | M4: 7 | N4: 8 | O4: 9 | P4: 10 | Q4: 11 | R4: 12 | S4: Total general | U4: 105100 | V4: =IFERROR(VLOOKUP($U4,[1]Establecimientos!$A$1:$E$175,5,FALSE),0) -> 105100-HOSPITAL LA SERENA | W4: 3 | X4: 445
A5: 105100 | B5: =IFERROR(VLOOKUP($A5,[1]Establecimientos!$A$1:$E$175,5,FALSE),0) -> 105100-HOSPITAL LA SERENA | C5: 4 | D5: 41 | F5: 105100-HOSPITAL LA SERENA | G5: 42 | H5: 46 | I5: 41 | J5: 41 | K5: 47 | L5: 43 | M5: 40 | N5: 36 | O5: 38 | P5: 48 | Q5: 66 | R5: 60 | S5: 548 | U5: 105100 | V5: =IFERROR(VLOOKUP($U5,[1]Establecimientos!$A$1:$E$175,5,FALSE),0) -> 105100-HOSPITAL LA SERENA | W5: 4 | X5: 434
A6: 105100 | B6: =IFERROR(VLOOKUP($A6,[1]Establecimientos!$A$1:$E$175,5,FALSE),0) -> 105100-HOSPITAL LA SERENA | C6: 5 | D6: 47 | F6: 105101-HOSPITAL COQUIMBO | G6: 40 | H6: 43 | I6: 48 | J6: 43 | K6: 90 | L6: 56 | M6: 73 | N6: 36 | O6: 15 | P6: 37 | Q6: 58 | R6: 63 | S6: 602 | U6: 105100 | V6: =IFERROR(VLOOKUP($U6,[1]Establecimientos!$A$1:$E$175,5,FALSE),0) -> 105100-HOSPITAL LA SERENA | W6: 5 | X6: 461
A7: 105100 | B7: =IFERROR(VLOOKUP($A7,[1]Establecimientos!$A$1:$E$175,5,FALSE),0) -> 105100-HOSPITAL LA SERENA | C7: 6 | D7: 43 | F7: 105102-HOSPITAL OVALLE | G7: 12 | H7: 6 | I7: 12 | J7: 26 | K7: 19 | L7: 31 | M7: 21 | N7: 13 | O7: 11 | P7: 14 | Q7: 28 | R7: 38 | S7: 231 | U7: 105100 | V7: =IFERROR(VLOOKUP($U7,[1]Establecimientos!$A$1:$E$175,5,FALSE),0) -> 105100-HOSPITAL LA SERENA | W7: 6 | X7: 373
A8: 105100 | B8: =IFERROR(VLOOKUP($A8,[1]Establecimientos!$A$1:$E$175,5,FALSE),0) -> 105100-HOSPITAL LA SERENA | C8: 7 | D8: 40 | F8: 105103-HOSPITAL ILLAPEL | G8: 16 | H8: 15 | I8: 11 | J8: 5 | K8: 10 | L8: 4 | M8: 6 | N8: 5 | O8: 4 | P8: 9 | Q8: 6 | R8: 4 | S8: 95 | U8: 105100 | V8: =IFERROR(VLOOKUP($U8,[1]Establecimientos!$A$1:$E$175,5,FALSE),0) -> 105100-HOSPITAL LA SERENA | W8: 7 | X8: 440
A9: 105100 | B9: =IFERROR(VLOOKUP($A9,[1]Establecimientos!$A$1:$E$175,5,FALSE),0) -> 105100-HOSPITAL LA SERENA | C9: 8 | D9: 36 | F9: Total general | G9: 110 | H9: 110 | I9: 112 | J9: 115 | K9: 166 | L9: 134 | M9: 140 | N9: 90 | O9: 68 | P9: 108 | Q9: 158 | R9: 165 | S9: 1476 | U9: 105100 | V9: =IFERROR(VLOOKUP($U9,[1]Establecimientos!$A$1:$E$175,5,FALSE),0) -> 105100-HOSPITAL LA SERENA | W9: 8 | X9: 565
A10: 105100 | B10: =IFERROR(VLOOKUP($A10,[1]Establecimientos!$A$1:$E$175,5,FALSE),0) -> 105100-HOSPITAL LA SERENA | C10: 9 | D10: 38 | U10: 105100 | V10: =IFERROR(VLOOKUP($U10,[1]Establecimientos!$A$1:$E$175,5,FALSE),0) -> 105100-HOSPITAL LA SERENA | W10: 9 | X10: 670
A11: 105100 | B11: =IFERROR(VLOOKUP($A11,[1]Establecimientos!$A$1:$E$175,5,FALSE),0) -> 105100-HOSPITAL LA SERENA | C11: 10 | D11: 48 | U11: 105100 | V11: =IFERROR(VLOOKUP($U11,[1]Establecimientos!$A$1:$E$175,5,FALSE),0) -> 105100-HOSPITAL LA SERENA | W11: 10 | X11: 651
A12: 105100 | B12: =IFERROR(VLOOKUP($A12,[1]Establecimientos!$A$1:$E$175,5,FALSE),0) -> 105100-HOSPITAL LA SERENA | C12: 11 | D12: 66 | U12: 105100 | V12: =IFERROR(VLOOKUP($U12,[1]Establecimientos!$A$1:$E$175,5,FALSE),0) -> 105100-HOSPITAL LA SERENA | W12: 11 | X12: 779
A13: 105100 | B13: =IFERROR(VLOOKUP($A13,[1]Establecimientos!$A$1:$E$175,5,FALSE),0) -> 105100-HOSPITAL LA SERENA | C13: 12 | D13: 60 | U13: 105100 | V13: =IFERROR(VLOOKUP($U13,[1]Establecimientos!$A$1:$E$175,5,FALSE),0) -> 105100-HOSPITAL LA SERENA | W13: 12 | X13: 676
A14: 105101 | B14: =IFERROR(VLOOKUP($A14,[1]Establecimientos!$A$1:$E$175,5,FALSE),0) -> 105101-HOSPITAL COQUIMBO | C14: 1 | D14: 40 | F14: Suma de Total | G14: Etiquetas de columna | U14: 105101 | V14: =IFERROR(VLOOKUP($U14,[1]Establecimientos!$A$1:$E$175,5,FALSE),0) -> 105101-HOSPITAL COQUIMBO | W14: 1 | X14: 626
A15: 105101 | B15: =IFERROR(VLOOKUP($A15,[1]Establecimientos!$A$1:$E$175,5,FALSE),0) -> 105101-HOSPITAL COQUIMBO | C15: 2 | D15: 43 | F15: Etiquetas de fila | G15: 1 | H15: 2 | I15: 3 | J15: 4 | K15: 5 | L15: 6 | M15: 7 | N15: 8 | O15: 9 | P15: 10 | Q15: 11 | R15: 12 | S15: Total general | U15: 105101 | V15: =IFERROR(VLOOKUP($U15,[1]Establecimientos!$A$1:$E$175,5,FALSE),0) -> 105101-HOSPITAL COQUIMBO | W15: 2 | X15: 472
A16: 105101 | B16: =IFERROR(VLOOKUP($A16,[1]Establecimientos!$A$1:$E$175,5,FALSE),0) -> 105101-HOSPITAL COQUIMBO | C16: 3 | D16: 48 | F16: 105100-HOSPITAL LA SERENA | G16: 371 | H16: 362 | I16: 445 | J16: 434 | K16: 461 | L16: 373 | M16: 440 | N16: 565 | O16: 670 | P16: 651 | Q16: 779 | R16: 676 | S16: 6227 | U16: 105101 | V16: =IFERROR(VLOOKUP($U16,[1]Establecimientos!$A$1:$E$175,5,FALSE),0) -> 105101-HOSPITAL COQUIMBO | W16: 3 | X16: 676
A17: 105101 | B17: =IFERROR(VLOOKUP($A17,[1]Establecimientos!$A$1:$E$175,5,FALSE),0) -> 105101-HOSPITAL COQUIMBO | C17: 4 | D17: 43 | F17: 105101-HOSPITAL COQUIMBO | G17: 626 | H17: 472 | I17: 676 | J17: 665 | K17: 678 | L17: 524 | M17: 560 | N17: 588 | O17: 519 | P17: 582 | Q17: 610 | R17: 579 | S17: 7079 | U17: 105101 | V17: =IFERROR(VLOOKUP($U17,[1]Establecimientos!$A$1:$E$175,5,FALSE),0) -> 105101-HOSPITAL COQUIMBO | W17: 4 | X17: 665
A18: 105101 | B18: =IFERROR(VLOOKUP($A18,[1]Establecimientos!$A$1:$E$175,5,FALSE),0) -> 105101-HOSPITAL COQUIMBO | C18: 5 | D18: 90 | F18: 105102-HOSPITAL OVALLE | G18: 275 | H18: 237 | I18: 302 | J18: 516 | K18: 416 | L18: 376 | M18: 403 | N18: 453 | O18: 356 | P18: 563 | Q18: 553 | R18: 457 | S18: 4907 | U18: 105101 | V18: =IFERROR(VLOOKUP($U18,[1]Establecimientos!$A$1:$E$175,5,FALSE),0) -> 105101-HOSPITAL COQUIMBO | W18: 5 | X18: 678
A19: 105101 | B19: =IFERROR(VLOOKUP($A19,[1]Establecimientos!$A$1:$E$175,5,FALSE),0) -> 105101-HOSPITAL COQUIMBO | C19: 6 | D19: 56 | F19: 105103-HOSPITAL ILLAPEL | G19: 186 | H19: 191 | I19: 219 | J19: 187 | K19: 206 | L19: 176 | M19: 156 | N19: 148 | O19: 133 | P19: 153 | Q19: 119 | R19: 109 | S19: 1983 | U19: 105101 | V19: =IFERROR(VLOOKUP($U19,[1]Establecimientos!$A$1:$E$175,5,FALSE),0) -> 105101-HOSPITAL COQUIMBO | W19: 6 | X19: 524
A20: 105101 | B20: =IFERROR(VLOOKUP($A20,[1]Establecimientos!$A$1:$E$175,5,FALSE),0) -> 105101-HOSPITAL COQUIMBO | C20: 7 | D20: 73 | F20: Total general | G20: 1458 | H20: 1262 | I20: 1642 | J20: 1802 | K20: 1761 | L20: 1449 | M20: 1559 | N20: 1754 | O20: 1678 | P20: 1949 | Q20: 2061 | R20: 1821 | S20: 20196 | U20: 105101 | V20: =IFERROR(VLOOKUP($U20,[1]Establecimientos!$A$1:$E$175,5,FALSE),0) -> 105101-HOSPITAL COQUIMBO | W20: 7 | X20: 560
A21: 105101 | B21: =IFERROR(VLOOKUP($A21,[1]Establecimientos!$A$1:$E$175,5,FALSE),0) -> 105101-HOSPITAL COQUIMBO | C21: 8 | D21: 36 | U21: 105101 | V21: =IFERROR(VLOOKUP($U21,[1]Establecimientos!$A$1:$E$175,5,FALSE),0) -> 105101-HOSPITAL COQUIMBO | W21: 8 | X21: 588
A22: 105101 | B22: =IFERROR(VLOOKUP($A22,[1]Establecimientos!$A$1:$E$175,5,FALSE),0) -> 105101-HOSPITAL COQUIMBO | C22: 9 | D22: 15 | U22: 105101 | V22: =IFERROR(VLOOKUP($U22,[1]Establecimientos!$A$1:$E$175,5,FALSE),0) -> 105101-HOSPITAL COQUIMBO | W22: 9 | X22: 519
A23: 105101 | B23: =IFERROR(VLOOKUP($A23,[1]Establecimientos!$A$1:$E$175,5,FALSE),0) -> 105101-HOSPITAL COQUIMBO | C23: 10 | D23: 37 | U23: 105101 | V23: =IFERROR(VLOOKUP($U23,[1]Establecimientos!$A$1:$E$175,5,FALSE),0) -> 105101-HOSPITAL COQUIMBO | W23: 10 | X23: 582
A24: 105101 | B24: =IFERROR(VLOOKUP($A24,[1]Establecimientos!$A$1:$E$175,5,FALSE),0) -> 105101-HOSPITAL COQUIMBO | C24: 11 | D24: 58 | U24: 105101 | V24: =IFERROR(VLOOKUP($U24,[1]Establecimientos!$A$1:$E$175,5,FALSE),0) -> 105101-HOSPITAL COQUIMBO | W24: 11 | X24: 610
A25: 105101 | B25: =IFERROR(VLOOKUP($A25,[1]Establecimientos!$A$1:$E$175,5,FALSE),0) -> 105101-HOSPITAL COQUIMBO | C25: 12 | D25: 63 | U25: 105101 | V25: =IFERROR(VLOOKUP($U25,[1]Establecimientos!$A$1:$E$175,5,FALSE),0) -> 105101-HOSPITAL COQUIMBO | W25: 12 | X25: 579
A26: 105102 | B26: =IFERROR(VLOOKUP($A26,[1]Establecimientos!$A$1:$E$175,5,FALSE),0) -> 105102-HOSPITAL OVALLE | C26: 1 | D26: 12 | U26: 105102 | V26: =IFERROR(VLOOKUP($U26,[1]Establecimientos!$A$1:$E$175,5,FALSE),0) -> 105102-HOSPITAL OVALLE | W26: 1 | X26: 275
A27: 105102 | B27: =IFERROR(VLOOKUP($A27,[1]Establecimientos!$A$1:$E$175,5,FALSE),0) -> 105102-HOSPITAL OVALLE | C27: 2 | D27: 6 | U27: 105102 | V27: =IFERROR(VLOOKUP($U27,[1]Establecimientos!$A$1:$E$175,5,FALSE),0) -> 105102-HOSPITAL OVALLE | W27: 2 | X27: 237
A28: 105102 | B28: =IFERROR(VLOOKUP($A28,[1]Establecimientos!$A$1:$E$175,5,FALSE),0) -> 105102-HOSPITAL OVALLE | C28: 3 | D28: 12 | U28: 105102 | V28: =IFERROR(VLOOKUP($U28,[1]Establecimientos!$A$1:$E$175,5,FALSE),0) -> 105102-HOSPITAL OVALLE | W28: 3 | X28: 302
A29: 105102 | B29: =IFERROR(VLOOKUP($A29,[1]Establecimientos!$A$1:$E$175,5,FALSE),0) -> 105102-HOSPITAL OVALLE | C29: 4 | D29: 26 | U29: 105102 | V29: =IFERROR(VLOOKUP($U29,[1]Establecimientos!$A$1:$E$175,5,FALSE),0) -> 105102-HOSPITAL OVALLE | W29: 4 | X29: 516
A30: 105102 | B30: =IFERROR(VLOOKUP($A30,[1]Establecimientos!$A$1:$E$175,5,FALSE),0) -> 105102-HOSPITAL OVALLE | C30: 5 | D30: 19 | U30: 105102 | V30: =IFERROR(VLOOKUP($U30,[1]Establecimientos!$A$1:$E$175,5,FALSE),0) -> 105102-HOSPITAL OVALLE | W30: 5 | X30: 416
A31: 105102 | B31: =IFERROR(VLOOKUP($A31,[1]Establecimientos!$A$1:$E$175,5,FALSE),0) -> 105102-HOSPITAL OVALLE | C31: 6 | D31: 31 | U31: 105102 | V31: =IFERROR(VLOOKUP($U31,[1]Establecimientos!$A$1:$E$175,5,FALSE),0) -> 105102-HOSPITAL OVALLE | W31: 6 | X31: 376
A32: 105102 | B32: =IFERROR(VLOOKUP($A32,[1]Establecimientos!$A$1:$E$175,5,FALSE),0) -> 105102-HOSPITAL OVALLE | C32: 7 | D32: 21 | U32: 105102 | V32: =IFERROR(VLOOKUP($U32,[1]Establecimientos!$A$1:$E$175,5,FALSE),0) -> 105102-HOSPITAL OVALLE | W32: 7 | X32: 403
... A49: 105103 | B49: =IFERROR(VLOOKUP($A49,[1]Establecimientos!$A$1:$E$175,5,FALSE),0) -> 105103-HOSPITAL ILLAPEL | C49: 12 | D49: 4 | U49: 105103 | V49: =IFERROR(VLOOKUP($U49,[1]Establecimientos!$A$1:$E$175,5,FALSE),0) -> 105103-HOSPITAL ILLAPEL | W49: 12 | X49: 109

Sheet Datos13.3
A1: Idestablecimiento | B1: Establecimiento | C1: Mes | D1: Total | U1: Idestablecimiento | V1: Establecimiento | W1: Mes | X1: Total
A2: 105100 | B2: =IFERROR(VLOOKUP($A2,[1]Establecimientos!$A$1:$E$175,5,FALSE),0) -> 105100-HOSPITAL LA SERENA | C2: 1 | D2: 509.7 | U2: 105100 | V2: =IFERROR(VLOOKUP($U2,[1]Establecimientos!$A$1:$E$175,5,FALSE),0) -> 105100-HOSPITAL LA SERENA | W2: 1 | X2: 715
A3: 105100 | B3: =IFERROR(VLOOKUP($A3,[1]Establecimientos!$A$1:$E$175,5,FALSE),0) -> 105100-HOSPITAL LA SERENA | C3: 2 | D3: 437.05 | F3: Suma de Total | G3: Etiquetas de columna | U3: 105100 | V3: =IFERROR(VLOOKUP($U3,[1]Establecimientos!$A$1:$E$175,5,FALSE),0) -> 105100-HOSPITAL LA SERENA | W3: 2 | X3: 680
A4: 105100 | B4: =IFERROR(VLOOKUP($A4,[1]Establecimientos!$A$1:$E$175,5,FALSE),0) -> 105100-HOSPITAL LA SERENA | C4: 3 | D4: 616.85 | F4: Etiquetas de fila | G4: 1 | H4: 2 | I4: 3 | J4: 4 | K4: 5 | L4: 6 | M4: 7 | N4: 8 | O4: 9 | P4: 10 | Q4: 11 | R4: 12 | S4: Total general | U4: 105100 | V4: =IFERROR(VLOOKUP($U4,[1]Establecimientos!$A$1:$E$175,5,FALSE),0) -> 105100-HOSPITAL LA SERENA | W4: 3 | X4: 785
A5: 105100 | B5: =IFERROR(VLOOKUP($A5,[1]Establecimientos!$A$1:$E$175,5,FALSE),0) -> 105100-HOSPITAL LA SERENA | C5: 4 | D5: 661.92 | F5: 105100-HOSPITAL LA SERENA | G5: 509.7 | H5: 437.05 | I5: 616.85 | J5: 661.92 | K5: 681.3 | L5: 600.63 | M5: 744.61 | N5: 670.02 | O5: 825.63 | P5: 792.6 | Q5: 795.74 | R5: 767.41 | S5: 8103.46 | U5: 105100 | V5: =IFERROR(VLOOKUP($U5,[1]Establecimientos!$A$1:$E$175,5,FALSE),0) -> 105100-HOSPITAL LA SERENA | W5: 4 | X5: 680
A6: 105100 | B6: =IFERROR(VLOOKUP($A6,[1]Establecimientos!$A$1:$E$175,5,FALSE),0) -> 105100-HOSPITAL LA SERENA | C6: 5 | D6: 681.3 | F6: 105101-HOSPITAL COQUIMBO | G6: 911.71 | H6: 1001.51 | I6: 1285.57 | J6: 1168.9 | K6: 1127.14 | L6: 971.69 | M6: 1004.59 | N6: 1173.48 | O6: 1033.34 | P6: 1039.09 | Q6: 913.16 | R6: 874.96 | S6: 12505.14 | U6: 105100 | V6: =IFERROR(VLOOKUP($U6,[1]Establecimientos!$A$1:$E$175,5,FALSE),0) -> 105100-HOSPITAL LA SERENA | W6: 5 | X6: 900
A7: 105100 | B7: =IFERROR(VLOOKUP($A7,[1]Establecimientos!$A$1:$E$175,5,FALSE),0) -> 105100-HOSPITAL LA SERENA | C7: 6 | D7: 600.63 | F7: 105102-HOSPITAL OVALLE | G7: 250.05 | H7: 229.3 | I7: 308.47 | J7: 725.18 | K7: 678.4 | L7: 506.05 | M7: 568.12 | N7: 627.23 | O7: 546.05 | P7: 553.2 | Q7: 525.23 | R7: 505.65 | S7: 6022.93 | U7: 105100 | V7: =IFERROR(VLOOKUP($U7,[1]Establecimientos!$A$1:$E$175,5,FALSE),0) -> 105100-HOSPITAL LA SERENA | W7: 6 | X7: 972
A8: 105100 | B8: =IFERROR(VLOOKUP($A8,[1]Establecimientos!$A$1:$E$175,5,FALSE),0) -> 105100-HOSPITAL LA SERENA | C8: 7 | D8: 744.61 | F8: Total general | G8: 1671.46 | H8: 1667.86 | I8: 2210.89 | J8: 2556 | K8: 2486.84 | L8: 2078.37 | M8: 2317.32 | N8: 2470.73 | O8: 2405.02 | P8: 2384.89 | Q8: 2234.13 | R8: 2148.02 | S8: 26631.53 | U8: 105100 | V8: =IFERROR(VLOOKUP($U8,[1]Establecimientos!$A$1:$E$175,5,FALSE),0) -> 105100-HOSPITAL LA SERENA | W8: 7 | X8: 894
A9: 105100 | B9: =IFERROR(VLOOKUP($A9,[1]Establecimientos!$A$1:$E$175,5,FALSE),0) -> 105100-HOSPITAL LA SERENA | C9: 8 | D9: 670.02 | U9: 105100 | V9: =IFERROR(VLOOKUP($U9,[1]Establecimientos!$A$1:$E$175,5,FALSE),0) -> 105100-HOSPITAL LA SERENA | W9: 8 | X9: 1116
A10: 105100 | B10: =IFERROR(VLOOKUP($A10,[1]Establecimientos!$A$1:$E$175,5,FALSE),0) -> 105100-HOSPITAL LA SERENA | C10: 9 | D10: 825.63 | U10: 105100 | V10: =IFERROR(VLOOKUP($U10,[1]Establecimientos!$A$1:$E$175,5,FALSE),0) -> 105100-HOSPITAL LA SERENA | W10: 9 | X10: 1012
A11: 105100 | B11: =IFERROR(VLOOKUP($A11,[1]Establecimientos!$A$1:$E$175,5,FALSE),0) -> 105100-HOSPITAL LA SERENA | C11: 10 | D11: 792.6 | U11: 105100 | V11: =IFERROR(VLOOKUP($U11,[1]Establecimientos!$A$1:$E$175,5,FALSE),0) -> 105100-HOSPITAL LA SERENA | W11: 10 | X11: 960
A12: 105100 | B12: =IFERROR(VLOOKUP($A12,[1]Establecimientos!$A$1:$E$175,5,FALSE),0) -> 105100-HOSPITAL LA SERENA | C12: 11 | D12: 795.74 | F12: Suma de Total | G12: Etiquetas de columna | U12: 105100 | V12: =IFERROR(VLOOKUP($U12,[1]Establecimientos!$A$1:$E$175,5,FALSE),0) -> 105100-HOSPITAL LA SERENA | W12: 11 | X12: 1064
A13: 105100 | B13: =IFERROR(VLOOKUP($A13,[1]Establecimientos!$A$1:$E$175,5,FALSE),0) -> 105100-HOSPITAL LA SERENA | C13: 12 | D13: 767.41 | F13: Etiquetas de fila | G13: 1 | H13: 2 | I13: 3 | J13: 4 | K13: 5 | L13: 6 | M13: 7 | N13: 8 | O13: 9 | P13: 10 | Q13: 11 | R13: 12 | S13: Total general | U13: 105100 | V13: =IFERROR(VLOOKUP($U13,[1]Establecimientos!$A$1:$E$175,5,FALSE),0) -> 105100-HOSPITAL LA SERENA | W13: 12 | X13: 1057
A14: 105101 | B14: =IFERROR(VLOOKUP($A14,[1]Establecimientos!$A$1:$E$175,5,FALSE),0) -> 105101-HOSPITAL COQUIMBO | C14: 1 | D14: 911.71 | F14: 105100-HOSPITAL LA SERENA | G14: 715 | H14: 680 | I14: 785 | J14: 680 | K14: 900 | L14: 972 | M14: 894 | N14: 1116 | O14: 1012 | P14: 960 | Q14: 1064 | R14: 1057 | S14: 10835 | U14: 105101 | V14: =IFERROR(VLOOKUP($U14,[1]Establecimientos!$A$1:$E$175,5,FALSE),0) -> 105101-HOSPITAL COQUIMBO | W14: 1 | X14: 1512
A15: 105101 | B15: =IFERROR(VLOOKUP($A15,[1]Establecimientos!$A$1:$E$175,5,FALSE),0) -> 105101-HOSPITAL COQUIMBO | C15: 2 | D15: 1001.51 | F15: 105101-HOSPITAL COQUIMBO | G15: 1512 | H15: 1440 | I15: 1656 | J15: 1440 | K15: 1584 | L15: 1440 | M15: 1512 | N15: 1461 | O15: 1344 | P15: 1216 | Q15: 1344 | R15: 1344 | S15: 17293 | U15: 105101 | V15: =IFERROR(VLOOKUP($U15,[1]Establecimientos!$A$1:$E$175,5,FALSE),0) -> 105101-HOSPITAL COQUIMBO | W15: 2 | X15: 1440
A16: 105101 | B16: =IFERROR(VLOOKUP($A16,[1]Establecimientos!$A$1:$E$175,5,FALSE),0) -> 105101-HOSPITAL COQUIMBO | C16: 3 | D16: 1285.57 | F16: 105102-HOSPITAL OVALLE | G16: 488.2 | H16: 320.17 | I16: 381.12 | J16: 927.1 | K16: 900.3 | L16: 629.98 | M16: 756.95 | N16: 870.38 | O16: 779.5 | P16: 763.83 | Q16: 761.97 | R16: 761.88 | S16: 8341.38 | U16: 105101 | V16: =IFERROR(VLOOKUP($U16,[1]Establecimientos!$A$1:$E$175,5,FALSE),0) -> 105101-HOSPITAL COQUIMBO | W16: 3 | X16: 1656
A17: 105101 | B17: =IFERROR(VLOOKUP($A17,[1]Establecimientos!$A$1:$E$175,5,FALSE),0) -> 105101-HOSPITAL COQUIMBO | C17: 4 | D17: 1168.9 | F17: Total general | G17: 2715.2 | H17: 2440.17 | I17: 2822.12 | J17: 3047.1 | K17: 3384.3 | L17: 3041.98 | M17: 3162.95 | N17: 3447.38 | O17: 3135.5 | P17: 2939.83 | Q17: 3169.97 | R17: 3162.88 | S17: 36469.38 | U17: 105101 | V17: =IFERROR(VLOOKUP($U17,[1]Establecimientos!$A$1:$E$175,5,FALSE),0) -> 105101-HOSPITAL COQUIMBO | W17: 4 | X17: 1440
A18: 105101 | B18: =IFERROR(VLOOKUP($A18,[1]Establecimientos!$A$1:$E$175,5,FALSE),0) -> 105101-HOSPITAL COQUIMBO | C18: 5 | D18: 1127.14 | U18: 105101 | V18: =IFERROR(VLOOKUP($U18,[1]Establecimientos!$A$1:$E$175,5,FALSE),0) -> 105101-HOSPITAL COQUIMBO | W18: 5 | X18: 1584
A19: 105101 | B19: =IFERROR(VLOOKUP($A19,[1]Establecimientos!$A$1:$E$175,5,FALSE),0) -> 105101-HOSPITAL COQUIMBO | C19: 6 | D19: 971.69 | U19: 105101 | V19: =IFERROR(VLOOKUP($U19,[1]Establecimientos!$A$1:$E$175,5,FALSE),0) -> 105101-HOSPITAL COQUIMBO | W19: 6 | X19: 1440
A20: 105101 | B20: =IFERROR(VLOOKUP($A20,[1]Establecimientos!$A$1:$E$175,5,FALSE),0) -> 105101-HOSPITAL COQUIMBO | C20: 7 | D20: 1004.59 | U20: 105101 | V20: =IFERROR(VLOOKUP($U20,[1]Establecimientos!$A$1:$E$175,5,FALSE),0) -> 105101-HOSPITAL COQUIMBO | W20: 7 | X20: 1512
A21: 105101 | B21: =IFERROR(VLOOKUP($A21,[1]Establecimientos!$A$1:$E$175,5,FALSE),0) -> 105101-HOSPITAL COQUIMBO | C21: 8 | D21: 1173.48 | U21: 105101 | V21: =IFERROR(VLOOKUP($U21,[1]Establecimientos!$A$1:$E$175,5,FALSE),0) -> 105101-HOSPITAL COQUIMBO | W21: 8 | X21: 1461
A22: 105101 | B22: =IFERROR(VLOOKUP($A22,[1]Establecimientos!$A$1:$E$175,5,FALSE),0) -> 105101-HOSPITAL COQUIMBO | C22: 9 | D22: 1033.34 | U22: 105101 | V22: =IFERROR(VLOOKUP($U22,[1]Establecimientos!$A$1:$E$175,5,FALSE),0) -> 105101-HOSPITAL COQUIMBO | W22: 9 | X22: 1344
A23: 105101 | B23: =IFERROR(VLOOKUP($A23,[1]Establecimientos!$A$1:$E$175,5,FALSE),0) -> 105101-HOSPITAL COQUIMBO | C23: 10 | D23: 1039.09 | U23: 105101 | V23: =IFERROR(VLOOKUP($U23,[1]Establecimientos!$A$1:$E$175,5,FALSE),0) -> 105101-HOSPITAL COQUIMBO | W23: 10 | X23: 1216
A24: 105101 | B24: =IFERROR(VLOOKUP($A24,[1]Establecimientos!$A$1:$E$175,5,FALSE),0) -> 105101-HOSPITAL COQUIMBO | C24: 11 | D24: 913.16 | U24: 105101 | V24: =IFERROR(VLOOKUP($U24,[1]Establecimientos!$A$1:$E$175,5,FALSE),0) -> 105101-HOSPITAL COQUIMBO | W24: 11 | X24: 1344
A25: 105101 | B25: =IFERROR(VLOOKUP($A25,[1]Establecimientos!$A$1:$E$175,5,FALSE),0) -> 105101-HOSPITAL COQUIMBO | C25: 12 | D25: 874.96 | U25: 105101 | V25: =IFERROR(VLOOKUP($U25,[1]Establecimientos!$A$1:$E$175,5,FALSE),0) -> 105101-HOSPITAL COQUIMBO | W25: 12 | X25: 1344
A26: 105102 | B26: =IFERROR(VLOOKUP($A26,[1]Establecimientos!$A$1:$E$175,5,FALSE),0) -> 105102-HOSPITAL OVALLE | C26: 1 | D26: 250.05 | U26: 105102 | V26: =IFERROR(VLOOKUP($U26,[1]Establecimientos!$A$1:$E$175,5,FALSE),0) -> 105102-HOSPITAL OVALLE | W26: 1 | X26: 488.2
A27: 105102 | B27: =IFERROR(VLOOKUP($A27,[1]Establecimientos!$A$1:$E$175,5,FALSE),0) -> 105102-HOSPITAL OVALLE | C27: 2 | D27: 229.3 | U27: 105102 | V27: =IFERROR(VLOOKUP($U27,[1]Establecimientos!$A$1:$E$175,5,FALSE),0) -> 105102-HOSPITAL OVALLE | W27: 2 | X27: 320.17
A28: 105102 | B28: =IFERROR(VLOOKUP($A28,[1]Establecimientos!$A$1:$E$175,5,FALSE),0) -> 105102-HOSPITAL OVALLE | C28: 3 | D28: 308.47 | U28: 105102 | V28: =IFERROR(VLOOKUP($U28,[1]Establecimientos!$A$1:$E$175,5,FALSE),0) -> 105102-HOSPITAL OVALLE | W28: 3 | X28: 381.12
A29: 105102 | B29: =IFERROR(VLOOKUP($A29,[1]Establecimientos!$A$1:$E$175,5,FALSE),0) -> 105102-HOSPITAL OVALLE | C29: 4 | D29: 725.18 | U29: 105102 | V29: =IFERROR(VLOOKUP($U29,[1]Establecimientos!$A$1:$E$175,5,FALSE),0) -> 105102-HOSPITAL OVALLE | W29: 4 | X29: 927.1
... A37: 105102 | B37: =IFERROR(VLOOKUP($A37,[1]Establecimientos!$A$1:$E$175,5,FALSE),0) -> 105102-HOSPITAL OVALLE | C37: 12 | D37: 505.65 | U37: 105102 | V37: =IFERROR(VLOOKUP($U37,[1]Establecimientos!$A$1:$E$175,5,FALSE),0) -> 105102-HOSPITAL OVALLE | W37: 12 | X37: 761.88
