Workbook

Sheet BM18
B1: SERVICIO DE SALUD
B2: COMUNA: ( )
B3: ESTABLECIMIENTO/ESTRATEGIA: ( )
B4: MES: ( )
B5: AÑO: 2026
B8: REM-B18. ACTIVIDADES DE APOYO DIAGNOSTICO Y TERAPEUTICO (USO EXCLUSIVO DE ESTABLECIMIENTOS MUNICIPALES)
B10: SECCIÓN A: EXÁMENES DE DIAGNOSTICO
B11: EXÁMENES | E11: TOTAL | F11: SAPU/SAR/SUR | G11: Resto Establecimientos APS
F12: Total | G12: Total
B13: TOTAL EXÁMENES LABORATORIO | E13: =SUM(F14:G20) -> 564870 | F13: =SUM(F14:F20) -> 17183 | G13: =SUM(G14:G20) -> 547687
A14: 18010100 | B14: I | C14: HEMATOLÓGICOS | E14: =SUM(F14:G14) -> 74282 | F14: {=IFERROR(VLOOKUP($A14,Filtro09!A5:G178,3,FALSE),0)} -> 0 | G14: {=IFERROR(VLOOKUP($A14,Filtro09!A5:G178,4,FALSE),0)} -> 74282
A15: 18010200 | B15: II | C15: BIOQUÍMICOS | E15: =SUM(F15:G15) -> 299499 | F15: {=IFERROR(VLOOKUP($A15,Filtro09!A6:G179,3,FALSE),0)} -> 0 | G15: {=IFERROR(VLOOKUP($A15,Filtro09!A6:G179,4,FALSE),0)} -> 299499
A16: 18090100 | B16: III | C16: HORMONALES | E16: =SUM(F16:G16) -> 60258 | F16: {=IFERROR(VLOOKUP($A16,Filtro09!A7:G180,3,FALSE),0)} -> 0 | G16: {=IFERROR(VLOOKUP($A16,Filtro09!A7:G180,4,FALSE),0)} -> 60258
A17: 18010500 | B17: V | C17: INMUNOLÓGICOS | E17: =SUM(F17:G17) -> 1199 | F17: {=IFERROR(VLOOKUP($A17,Filtro09!A8:G181,3,FALSE),0)} -> 0 | G17: {=IFERROR(VLOOKUP($A17,Filtro09!A8:G181,4,FALSE),0)} -> 1199
A18: 18010601 | B18: VI | C18: MICROBIOLÓGICOS | E18: =SUM(F18:G18) -> 19092 | F18: {=IFERROR(VLOOKUP($A18,Filtro09!A9:G182,3,FALSE),0)} -> 148 | G18: {=IFERROR(VLOOKUP($A18,Filtro09!A9:G182,4,FALSE),0)} -> 18944
A19: 18010800 | B19: VIII | C19: EX. DE DEPOSICIONES EXUDADOS. SECREC. Y OTROS LIQ. | E19: =SUM(F19:G19) -> 317 | F19: {=IFERROR(VLOOKUP($A19,Filtro09!A10:G183,3,FALSE),0)} -> 0 | G19: {=IFERROR(VLOOKUP($A19,Filtro09!A10:G183,4,FALSE),0)} -> 317
A20: 18010900 | B20: IX | C20: ORINA | E20: =SUM(F20:G20) -> 110223 | F20: {=IFERROR(VLOOKUP($A20,Filtro09!A11:G184,3,FALSE),0)} -> 17035 | G20: {=IFERROR(VLOOKUP($A20,Filtro09!A11:G184,4,FALSE),0)} -> 93188
B21: TOTAL EXÁMENES IMAGENOLOGIA
A22: 18011001 | B22: a) | C22: EX. RADIOLÓGICOS SIMPLES | E22: {=IFERROR(VLOOKUP($A22,Filtro09!A5:G178,2,FALSE),0)} -> 28373 | F22: {=IFERROR(VLOOKUP($A22,Filtro09!A5:G178,3,FALSE),0)} -> 26018 | G22: {=IFERROR(VLOOKUP($A22,Filtro09!A5:G178,4,FALSE),0)} -> 2355
A23: 18700370 | C23: ECOGRAFÍAS OBSTÉTRICAS Y GINECOLÓGICAS | E23: {=IFERROR(VLOOKUP($A23,Filtro09!A6:G179,2,FALSE),0)} -> 3886 | F23: {=IFERROR(VLOOKUP($A23,Filtro09!A6:G179,3,FALSE),0)} -> 0 | G23: {=IFERROR(VLOOKUP($A23,Filtro09!A6:G179,4,FALSE),0)} -> 3886
A24: 18700240 | C24: Ecografías Obstétricas Primer Trimestre (<11 semanas) | D24: Médico/a | E24: {=IFERROR(VLOOKUP($A24,Filtro09!A7:G180,2,FALSE),0)} -> 17 | F24: {=IFERROR(VLOOKUP($A24,Filtro09!A7:G180,3,FALSE),0)} -> 0 | G24: {=IFERROR(VLOOKUP($A24,Filtro09!A7:G180,4,FALSE),0)} -> 17
A25: 18700250 | D25: Matrón/a | E25: {=IFERROR(VLOOKUP($A25,Filtro09!A8:G181,2,FALSE),0)} -> 831 | F25: {=IFERROR(VLOOKUP($A25,Filtro09!A8:G181,3,FALSE),0)} -> 0 | G25: {=IFERROR(VLOOKUP($A25,Filtro09!A8:G181,4,FALSE),0)} -> 831
A26: 18700260 | C26: Ecografias Obstétricas Primer Trimestre (11 - 14 semanas) | D26: Médico/a | E26: {=IFERROR(VLOOKUP($A26,Filtro09!A9:G182,2,FALSE),0)} -> 38 | F26: {=IFERROR(VLOOKUP($A26,Filtro09!A9:G182,3,FALSE),0)} -> 0 | G26: {=IFERROR(VLOOKUP($A26,Filtro09!A9:G182,4,FALSE),0)} -> 38
A27: 18700270 | D27: Matrón/a | E27: {=IFERROR(VLOOKUP($A27,Filtro09!A10:G183,2,FALSE),0)} -> 1519 | F27: {=IFERROR(VLOOKUP($A27,Filtro09!A10:G183,3,FALSE),0)} -> 0 | G27: {=IFERROR(VLOOKUP($A27,Filtro09!A10:G183,4,FALSE),0)} -> 1519
A28: 18700280 | C28: Ecografias Obstétricas Segundo Trimestre (22 - 24 semanas) | D28: Médico/a | E28: {=IFERROR(VLOOKUP($A28,Filtro09!A11:G184,2,FALSE),0)} -> 12 | F28: {=IFERROR(VLOOKUP($A28,Filtro09!A11:G184,3,FALSE),0)} -> 0 | G28: {=IFERROR(VLOOKUP($A28,Filtro09!A11:G184,4,FALSE),0)} -> 12
A29: 18700290 | D29: Matrón/a | E29: {=IFERROR(VLOOKUP($A29,Filtro09!A12:G185,2,FALSE),0)} -> 814 | F29: {=IFERROR(VLOOKUP($A29,Filtro09!A12:G185,3,FALSE),0)} -> 0 | G29: {=IFERROR(VLOOKUP($A29,Filtro09!A12:G185,4,FALSE),0)} -> 814
A30: 18700300 | C30: Ecografias Obstétricas Tercer Trimestre (30 - 34 semanas) | D30: Médico/a | E30: {=IFERROR(VLOOKUP($A30,Filtro09!A13:G186,2,FALSE),0)} -> 25 | F30: {=IFERROR(VLOOKUP($A30,Filtro09!A13:G186,3,FALSE),0)} -> 0 | G30: {=IFERROR(VLOOKUP($A30,Filtro09!A13:G186,4,FALSE),0)} -> 25
A31: 18700310 | D31: Matrón/a | E31: {=IFERROR(VLOOKUP($A31,Filtro09!A14:G187,2,FALSE),0)} -> 990 | F31: {=IFERROR(VLOOKUP($A31,Filtro09!A14:G187,3,FALSE),0)} -> 0 | G31: {=IFERROR(VLOOKUP($A31,Filtro09!A14:G187,4,FALSE),0)} -> 990
C32: Total Ecografías Obstétricas por profesional | D32: Médico/a | E32: {=IFERROR(VLOOKUP($A32,Filtro09!A15:G188,2,FALSE),0)} -> 0 | F32: {=IFERROR(VLOOKUP($A32,Filtro09!A15:G188,3,FALSE),0)} -> 0 | G32: {=IFERROR(VLOOKUP($A32,[1]Filtro08!A15:F187,4,FALSE),0)} -> 0
D33: Matrón/a | E33: {=IFERROR(VLOOKUP($A33,Filtro09!A16:G189,2,FALSE),0)} -> 0 | F33: {=IFERROR(VLOOKUP($A33,Filtro09!A16:G189,3,FALSE),0)} -> 0 | G33: {=IFERROR(VLOOKUP($A33,[1]Filtro08!A16:F188,4,FALSE),0)} -> 0
A34: 18700320 | C34: Ecografía de seguimiento DIU (Regulación de la Fertilidad) | D34: Médico/a | E34: {=IFERROR(VLOOKUP($A34,Filtro09!A17:G190,2,FALSE),0)} -> 11 | F34: {=IFERROR(VLOOKUP($A34,Filtro09!A17:G190,3,FALSE),0)} -> 0 | G34: {=IFERROR(VLOOKUP($A34,Filtro09!A17:G190,4,FALSE),0)} -> 11
A35: 18700330 | D35: Matrón/a | E35: {=IFERROR(VLOOKUP($A35,Filtro09!A18:G191,2,FALSE),0)} -> 337 | F35: {=IFERROR(VLOOKUP($A35,Filtro09!A18:G191,3,FALSE),0)} -> 0 | G35: {=IFERROR(VLOOKUP($A35,Filtro09!A18:G191,4,FALSE),0)} -> 337
A36: 18700340 | C36: Ecografía Transvaginal (control de Climaterio y Ginecológico) | D36: Médico/a | E36: =IFERROR(VLOOKUP($A36,Filtro09!A19:G192,2,FALSE),0) -> 52 | F36: {=IFERROR(VLOOKUP($A36,Filtro09!A19:G192,3,FALSE),0)} -> 0 | G36: {=IFERROR(VLOOKUP($A36,Filtro09!A19:G192,4,FALSE),0)} -> 52
A37: 18700350 | D37: Matrón/a
B39: SECCIÓN B: PROCEDIMIENTO E INTERVENCIONES QUIRÚRGICAS DE APOYO CLÍNICO Y TERAPÉUTICO
B40: PROCEDIMIENTOS | C40: TOTAL | D40: SAPU/SAR/SUR | E40: Resto Establecimientos APS
D41: Total | E41: Total
A42: 18020200 | B42: PROC. DE OTORRINOLARINGOLOGÍA | C42: {=IFERROR(VLOOKUP($A42,Filtro09!A5:G178,2,FALSE),0)} -> 160 | D42: {=IFERROR(VLOOKUP($A42,Filtro09!A5:G178,3,FALSE),0)} -> 129 | E42: {=IFERROR(VLOOKUP($A42,Filtro09!A5:G178,4,FALSE),0)} -> 31
A43: 18020300 | B43: PROC. DE NEUMOLOGÍA | C43: {=IFERROR(VLOOKUP($A43,Filtro09!A6:G179,2,FALSE),0)} -> 19982 | D43: {=IFERROR(VLOOKUP($A43,Filtro09!A6:G179,3,FALSE),0)} -> 14347 | E43: {=IFERROR(VLOOKUP($A43,Filtro09!A6:G179,4,FALSE),0)} -> 5635
A44: 18020400 | B44: PROC. DE DERMATOLOGÍA | C44: {=IFERROR(VLOOKUP($A44,Filtro09!A7:G180,2,FALSE),0)} -> 36 | D44: {=IFERROR(VLOOKUP($A44,Filtro09!A7:G180,3,FALSE),0)} -> 23 | E44: {=IFERROR(VLOOKUP($A44,Filtro09!A7:G180,4,FALSE),0)} -> 13
A45: 18030000 | B45: INTERVENCIONES QUIRÚRGICAS MENORES (SUB-GRUPO TEGUMENTOS) | C45: {=IFERROR(VLOOKUP($A45,Filtro09!A8:G181,2,FALSE),0)} -> 3263 | D45: {=IFERROR(VLOOKUP($A45,Filtro09!A8:G181,3,FALSE),0)} -> 2462 | E45: {=IFERROR(VLOOKUP($A45,Filtro09!A8:G181,4,FALSE),0)} -> 801
A46: 18020500 | B46: PROC. DE CARDIOLOGÍA | C46: {=IFERROR(VLOOKUP($A46,Filtro09!A9:G182,2,FALSE),0)} -> 110408 | D46: {=IFERROR(VLOOKUP($A46,Filtro09!A9:G182,3,FALSE),0)} -> 31846
A47: 18020600 | B47: PROC. DE GASTROENTEROLOGÍA | C47: {=IFERROR(VLOOKUP($A47,Filtro09!A10:G183,2,FALSE),0)} -> 423 | D47: {=IFERROR(VLOOKUP($A47,Filtro09!A10:G183,3,FALSE),0)} -> 281 | E47: {=IFERROR(VLOOKUP($A47,Filtro09!A10:G183,4,FALSE),0)} -> 142
A48: 18020700 | B48: PROC. DE UROLOGÍA | C48: {=IFERROR(VLOOKUP($A48,Filtro09!A11:G184,2,FALSE),0)} -> 3405 | D48: {=IFERROR(VLOOKUP($A48,Filtro09!A11:G184,3,FALSE),0)} -> 1629 | E48: {=IFERROR(VLOOKUP($A48,Filtro09!A11:G184,4,FALSE),0)} -> 1776
A49: 18020800 | B49: PROC. ORTOPEDIA Y TRAUMATOLOGÍA | C49: {=IFERROR(VLOOKUP($A49,Filtro09!A12:G185,2,FALSE),0)} -> 3092 | D49: {=IFERROR(VLOOKUP($A49,Filtro09!A12:G185,3,FALSE),0)} -> 3092
A50: 18020900 | B50: PROC. GINECOLOGÍA | C50: {=IFERROR(VLOOKUP($A50,Filtro09!A13:G186,2,FALSE),0)} -> 26763 | D50: {=IFERROR(VLOOKUP($A50,Filtro09!A13:G186,3,FALSE),0)} -> 59 | E50: {=IFERROR(VLOOKUP($A50,Filtro09!A13:G186,4,FALSE),0)} -> 26704
A51: 18700360 | B51: MISCELÁNEOS | C51: {=IFERROR(VLOOKUP($A51,Filtro09!A14:G187,2,FALSE),0)} -> 820741 | D51: {=IFERROR(VLOOKUP($A51,Filtro09!A14:G187,3,FALSE),0)} -> 320662 | E51: {=IFERROR(VLOOKUP($A51,Filtro09!A14:G187,4,FALSE),0)} -> 500079
B52: TOTAL | C52: =SUM(C42:C51) -> 988273 | D52: =SUM(D42:D51) -> 374530 | E52: =SUM(E42:E51) -> 535181
B54: SECCIÓN C: PRESCRIPCIONES ADMINISTRADAS EN URGENCIA
B55: ATENCIÓN | C55: TOTAL
A57: 18400700 | B57: URGENCIA SAPU/SAR/SUR | C57: {=IFERROR(VLOOKUP($A57,[1]Filtro08!A5:F177,2,FALSE),0)} -> 365713
B58: SECCIÓN D: OTROS TRASLADOS DE PACIENTES
B59: TIPO DE ACCION | D59: TOTAL | E59: POR COMPRA DE SERVICIO
A60: 18090200 | B60: TRASLADOS NO DE URGENCIA | C60: AMBULANCIA | D60: {=IFERROR(VLOOKUP($A60,Filtro09!A5:G178,2,FALSE),0)} -> 6829 | E60: {=IFERROR(VLOOKUP($A60,Filtro09!A5:G178,3,FALSE),0)} -> 1166
A61: 18090300 | C61: MARÍTIMO | D61: {=IFERROR(VLOOKUP($A61,Filtro09!A6:G179,2,FALSE),0)} -> 2 | E61: {=IFERROR(VLOOKUP($A61,Filtro09!A6:G179,3,FALSE),0)} -> 0
A62: 18090400 | C62: AÉREO | D62: {=IFERROR(VLOOKUP($A62,Filtro09!A7:G180,2,FALSE),0)} -> 1 | E62: {=IFERROR(VLOOKUP($A62,Filtro09!A7:G180,3,FALSE),0)} -> 0
B96: 0

Sheet BMA18
B1: SERVICIO DE SALUD
B2: COMUNA: ( )
B3: ESTABLECIMIENTO/ESTRATEGIA: ( )
B4: MES: ( )
B5: AÑO: 2026
B7: REM-18A - LIBRO DE PRESTACIONES DE APOYO DIAGNOSTICO y TERAPÉUTICO (USO EXCLUSIVO DE ESTABLECIMIENTOS MUNICIPALES)
B9: SECCIÓN A: EXÁMENES DE DIAGNOSTICO
B10: CÓDIGOS | C10: EXÁMENES | D10: TOTAL | E10: SAPU/SAR/SUR | F10: Resto Establecimientos APS | G10: Compra de Servicios
B12: SANGRE HEMATOLOGÍA
A13: 80301036 | B13: 301036 | C13: Hematocrito (proc. aut.) | D13: {=IFERROR(VLOOKUP($A13,Filtro09!A5:G178,2,FALSE),0)} -> 3224 | E13: {=IFERROR(VLOOKUP($A13,Filtro09!A5:G178,3,FALSE),0)} -> 0 | F13: {=IFERROR(VLOOKUP($A13,Filtro09!A5:G178,4,FALSE),0)} -> 3224 | G13: {=IFERROR(VLOOKUP($A13,Filtro09!A5:G178,5,FALSE),0)} -> 14150
A14: 80301041 | B14: 301041 | C14: Hemoglobina glicada A1c | D14: {=IFERROR(VLOOKUP($A14,Filtro09!A6:G179,2,FALSE),0)} -> 28011 | E14: {=IFERROR(VLOOKUP($A14,Filtro09!A6:G179,3,FALSE),0)} -> 0 | F14: {=IFERROR(VLOOKUP($A14,Filtro09!A6:G179,4,FALSE),0)} -> 28011 | G14: {=IFERROR(VLOOKUP($A14,Filtro09!A6:G179,5,FALSE),0)} -> 50312
A15: 80301045 | B15: 301045 | C15: Hemograma (incluye recuentos de leucocitos, eritrocitos, plaquetas, hemoglobina, hematocrito, fórmula leucocitaria, características de los elementos figurados y velocidad de eritrosedimentación) | D15: {=IFERROR(VLOOKUP($A15,Filtro09!A7:G180,2,FALSE),0)} -> 40235 | E15: {=IFERROR(VLOOKUP($A15,Filtro09!A7:G180,3,FALSE),0)} -> 0 | F15: {=IFERROR(VLOOKUP($A15,Filtro09!A7:G180,4,FALSE),0)} -> 40235 | G15: {=IFERROR(VLOOKUP($A15,Filtro09!A7:G180,5,FALSE),0)} -> 75957
A16: 80301065 | B16: 301065 | C16: Recuento de leucocitos, absoluto (proc. aut.) | D16: {=IFERROR(VLOOKUP($A16,Filtro09!A8:G181,2,FALSE),0)} -> 121 | E16: {=IFERROR(VLOOKUP($A16,Filtro09!A8:G181,3,FALSE),0)} -> 0 | F16: {=IFERROR(VLOOKUP($A16,Filtro09!A8:G181,4,FALSE),0)} -> 121 | G16: {=IFERROR(VLOOKUP($A16,Filtro09!A8:G181,5,FALSE),0)} -> 93
A17: 80301067 | B17: 301067 | C17: Recuento de plaquetas (absoluto) | D17: {=IFERROR(VLOOKUP($A17,Filtro09!A9:G182,2,FALSE),0)} -> 129 | E17: {=IFERROR(VLOOKUP($A17,Filtro09!A9:G182,3,FALSE),0)} -> 0 | F17: {=IFERROR(VLOOKUP($A17,Filtro09!A9:G182,4,FALSE),0)} -> 129 | G17: {=IFERROR(VLOOKUP($A17,Filtro09!A9:G182,5,FALSE),0)} -> 113
A18: 82201010 | B18: 301059 | C18: Tiempo de protrombina (incluye INR, Razón Internacional Normalizada) | D18: {=IFERROR(VLOOKUP($A18,Filtro09!A10:G183,2,FALSE),0)} -> 2120 | E18: {=IFERROR(VLOOKUP($A18,Filtro09!A10:G183,3,FALSE),0)} -> 0 | F18: {=IFERROR(VLOOKUP($A18,Filtro09!A10:G183,4,FALSE),0)} -> 2120 | G18: {=IFERROR(VLOOKUP($A18,Filtro09!A10:G183,5,FALSE),0)} -> 2184
A19: 80301086 | B19: 301086 | C19: Velocidad de eritrosedimentación (proc. aut.) | D19: {=IFERROR(VLOOKUP($A19,Filtro09!A11:G184,2,FALSE),0)} -> 442 | E19: {=IFERROR(VLOOKUP($A19,Filtro09!A11:G184,3,FALSE),0)} -> 0 | F19: {=IFERROR(VLOOKUP($A19,Filtro09!A11:G184,4,FALSE),0)} -> 442 | G19: {=IFERROR(VLOOKUP($A19,Filtro09!A11:G184,5,FALSE),0)} -> 925
B20: TOTAL | D20: =SUM(D13:D19) -> 74282 | E20: =SUM(E13:E19) -> 0 | F20: =SUM(F13:F19) -> 74282 | G20: =SUM(G13:G19) -> 143734
B22: SANGRE BIOQUÍMICO
A23: 80302005 | B23: 302005 | C23: Ácido úrico, en sangre | D23: {=IFERROR(VLOOKUP($A23,Filtro09!A5:G178,2,FALSE),0)} -> 26146 | E23: {=IFERROR(VLOOKUP($A23,Filtro09!A15:G188,3,FALSE),0)} -> 0 | F23: {=IFERROR(VLOOKUP($A23,Filtro09!A5:G178,4,FALSE),0)} -> 26146 | G23: {=IFERROR(VLOOKUP($A23,Filtro09!A15:G188,5,FALSE),0)} -> 27049
A24: 80302013 | B24: 302013 | C24: Bilirrubina total y conjugada | D24: {=IFERROR(VLOOKUP($A24,Filtro09!A6:G179,2,FALSE),0)} -> 222 | E24: {=IFERROR(VLOOKUP($A24,Filtro09!A16:G189,3,FALSE),0)} -> 0 | F24: {=IFERROR(VLOOKUP($A24,Filtro09!A6:G179,4,FALSE),0)} -> 222 | G24: {=IFERROR(VLOOKUP($A24,Filtro09!A16:G189,5,FALSE),0)} -> 5836
A25: 80302067 | B25: 302067 | C25: Colesterol total (proc. aut.) | D25: {=IFERROR(VLOOKUP($A25,Filtro09!A7:G180,2,FALSE),0)} -> 2595 | E25: {=IFERROR(VLOOKUP($A25,Filtro09!A17:G190,3,FALSE),0)} -> 0 | F25: {=IFERROR(VLOOKUP($A25,Filtro09!A7:G180,4,FALSE),0)} -> 2595 | G25: {=IFERROR(VLOOKUP($A25,Filtro09!A17:G190,5,FALSE),0)} -> 37016
A26: 80302068 | B26: 302068 | C26: Colesterol HDL (proc. aut.) | D26: {=IFERROR(VLOOKUP($A26,Filtro09!A8:G181,2,FALSE),0)} -> 1540 | E26: {=IFERROR(VLOOKUP($A26,Filtro09!A18:G191,3,FALSE),0)} -> 0 | F26: {=IFERROR(VLOOKUP($A26,Filtro09!A8:G181,4,FALSE),0)} -> 1540 | G26: {=IFERROR(VLOOKUP($A26,Filtro09!A18:G191,5,FALSE),0)} -> 33293
A27: 80302023 | B27: 302023 | C27: Creatinina en sangre | D27: {=IFERROR(VLOOKUP($A27,Filtro09!A9:G182,2,FALSE),0)} -> 41566 | E27: {=IFERROR(VLOOKUP($A27,Filtro09!A19:G192,3,FALSE),0)} -> 0 | F27: {=IFERROR(VLOOKUP($A27,Filtro09!A9:G182,4,FALSE),0)} -> 41566 | G27: {=IFERROR(VLOOKUP($A27,Filtro09!A19:G192,5,FALSE),0)} -> 80732
A28: 80302024 | B28: 302024 | C28: Clearance de creatinina (proc.aut.) | D28: {=IFERROR(VLOOKUP($A28,Filtro09!A10:G183,2,FALSE),0)} -> 1977 | E28: {=IFERROR(VLOOKUP($A28,Filtro09!A20:G193,3,FALSE),0)} -> 0 | F28: {=IFERROR(VLOOKUP($A28,Filtro09!A10:G183,4,FALSE),0)} -> 1977 | G28: {=IFERROR(VLOOKUP($A28,Filtro09!A20:G193,5,FALSE),0)} -> 2891
A29: 80302032 | B29: 302032 | C29: Electrolitos plasmáticos (sodio, potasio, cloro) c/u | D29: {=IFERROR(VLOOKUP($A29,Filtro09!A11:G184,2,FALSE),0)} -> 68767 | E29: {=IFERROR(VLOOKUP($A29,Filtro09!A21:G194,3,FALSE),0)} -> 0 | F29: {=IFERROR(VLOOKUP($A29,Filtro09!A11:G184,4,FALSE),0)} -> 68767 | G29: {=IFERROR(VLOOKUP($A29,Filtro09!A21:G194,5,FALSE),0)} -> 79789
A30: 80302034 | B30: 302034 | C30: Perfil lipídico (incluye mediciones de colesterol total, HDL-colesterol y triglicéridos con estimaciones por fórmula de LDL-colesterol, VLDL-colesterol y colesterol no-HDL) | D30: {=IFERROR(VLOOKUP($A30,Filtro09!A12:G185,2,FALSE),0)} -> 43651 | E30: {=IFERROR(VLOOKUP($A30,Filtro09!A22:G195,3,FALSE),0)} -> 0 | F30: {=IFERROR(VLOOKUP($A30,Filtro09!A12:G185,4,FALSE),0)} -> 43651 | G30: {=IFERROR(VLOOKUP($A30,Filtro09!A22:G195,5,FALSE),0)} -> 61156
A31: 80302035 | B31: 302035 | C31: Fármacos y/o drogas; niveles plasmáticos de (alcohol, anorexígenos, antiarrítmicos, antibióticos, antidepresivos, antiepilépticos, antihistamínicos, antiinflamatorios y analgésicos, estimulantes respiratorios, tranquilizantes mayores y menores, etc.) c/u | D31: {=IFERROR(VLOOKUP($A31,Filtro09!A13:G186,2,FALSE),0)} -> 90 | E31: {=IFERROR(VLOOKUP($A31,Filtro09!A23:G196,3,FALSE),0)} -> 0 | F31: {=IFERROR(VLOOKUP($A31,Filtro09!A13:G186,4,FALSE),0)} -> 90 | G31: {=IFERROR(VLOOKUP($A31,Filtro09!A23:G196,5,FALSE),0)} -> 300
A32: 80302040 | B32: 302040 | C32: Fosfatasas alcalinas totales | D32: {=IFERROR(VLOOKUP($A32,Filtro09!A14:G187,2,FALSE),0)} -> 267 | E32: {=IFERROR(VLOOKUP($A32,Filtro09!A24:G197,3,FALSE),0)} -> 0 | F32: {=IFERROR(VLOOKUP($A32,Filtro09!A14:G187,4,FALSE),0)} -> 267 | G32: {=IFERROR(VLOOKUP($A32,Filtro09!A24:G197,5,FALSE),0)} -> 5925
A33: 80302047 | B33: 302047 | C33: Glucosa en sangre | D33: {=IFERROR(VLOOKUP($A33,Filtro09!A15:G188,2,FALSE),0)} -> 49046 | E33: {=IFERROR(VLOOKUP($A33,Filtro09!A25:G198,3,FALSE),0)} -> 0 | F33: {=IFERROR(VLOOKUP($A33,Filtro09!A15:G188,4,FALSE),0)} -> 49046 | G33: {=IFERROR(VLOOKUP($A33,Filtro09!A25:G198,5,FALSE),0)} -> 95841
A34: 80302048 | B34: 302048 | C34: Glucosa, Prueba de Tolerancia a la Glucosa Oral (PTGO), (dos determinaciones) | D34: {=IFERROR(VLOOKUP($A34,Filtro09!A16:G189,2,FALSE),0)} -> 3074 | E34: {=IFERROR(VLOOKUP($A34,Filtro09!A26:G199,3,FALSE),0)} -> 0 | F34: {=IFERROR(VLOOKUP($A34,Filtro09!A16:G189,4,FALSE),0)} -> 3074 | G34: {=IFERROR(VLOOKUP($A34,Filtro09!A26:G199,5,FALSE),0)} -> 6689
... A42: 82201013 | B42: 302101 | C42: Albúminas en sangre | D42: {=IFERROR(VLOOKUP($A42,Filtro09!A24:G197,2,FALSE),0)} -> 762 | E42: {=IFERROR(VLOOKUP($A42,Filtro09!A34:G207,3,FALSE),0)} -> 0 | F42: {=IFERROR(VLOOKUP($A42,Filtro09!A24:G197,4,FALSE),0)} -> 762 | G42: {=IFERROR(VLOOKUP($A42,Filtro09!A34:G207,5,FALSE),0)} -> 2606
B43: TOTAL | D43: =SUM(D23:D42) -> 299499 | E43: =SUM(E23:E42) -> 0 | F43: =SUM(F23:F42) -> 299499 | G43: =SUM(G23:G42) -> 559881
B45: EXÁMENES HORMONALES
A46: 80303024 | B46: 303024 | C46: Tiroestimulante (TSH), hormona (adulto, niño o R.N.) | D46: {=IFERROR(VLOOKUP($A46,Filtro09!A5:G178,2,FALSE),0)} -> 35022 | E46: {=IFERROR(VLOOKUP($A46,Filtro09!A38:G211,3,FALSE),0)} -> 0 | F46: {=IFERROR(VLOOKUP($A46,Filtro09!A5:G178,4,FALSE),0)} -> 35022 | G46: {=IFERROR(VLOOKUP($A46,Filtro09!A5:G178,5,FALSE),0)} -> 68646
A47: 80303026 | B47: 303026 | C47: Tiroxina libre (T4L) | D47: {=IFERROR(VLOOKUP($A47,Filtro09!A6:G179,2,FALSE),0)} -> 25232 | E47: {=IFERROR(VLOOKUP($A47,Filtro09!A39:G212,3,FALSE),0)} -> 0 | F47: {=IFERROR(VLOOKUP($A47,Filtro09!A6:G179,4,FALSE),0)} -> 25232 | G47: {=IFERROR(VLOOKUP($A47,Filtro09!A6:G179,5,FALSE),0)} -> 23758
A48: 80303027 | B48: 303027 | C48: Tiroxina o tetrayodotironina (T4) | D48: {=IFERROR(VLOOKUP($A48,Filtro09!A7:G180,2,FALSE),0)} -> 4 | E48: {=IFERROR(VLOOKUP($A48,Filtro09!A40:G213,3,FALSE),0)} -> 0 | F48: {=IFERROR(VLOOKUP($A48,Filtro09!A7:G180,4,FALSE),0)} -> 4 | G48: {=IFERROR(VLOOKUP($A48,Filtro09!A7:G180,5,FALSE),0)} -> 64
B49: TOTAL | D49: =SUM(D46:D48) -> 60258 | E49: =SUM(E46:E48) -> 0 | F49: =SUM(F46:F48) -> 60258 | G49: =SUM(G46:G48) -> 92468
B51: INMUNOLÓGICOS
A52: 80305019 | B52: 305019 | C52: Factor reumatoídeo por técnica de látex u otras similares | D52: {=IFERROR(VLOOKUP($A52,Filtro09!A5:G178,2,FALSE),0)} -> 1190 | E52: {=IFERROR(VLOOKUP($A52,Filtro09!A44:G217,3,FALSE),0)} -> 0 | F52: {=IFERROR(VLOOKUP($A52,Filtro09!A5:G178,4,FALSE),0)} -> 1190 | G52: {=IFERROR(VLOOKUP($A52,Filtro09!A5:G178,5,FALSE),0)} -> 1965
A53: 80305020 | B53: 305020 | C53: Factor reumatoídeo por técnica Scat, Waaler Rose, nefelométricas y/o turbidimétricas | D53: {=IFERROR(VLOOKUP($A53,Filtro09!A6:G179,2,FALSE),0)} -> 9 | E53: {=IFERROR(VLOOKUP($A53,Filtro09!A45:G218,3,FALSE),0)} -> 0 | F53: {=IFERROR(VLOOKUP($A53,Filtro09!A6:G179,4,FALSE),0)} -> 9 | G53: {=IFERROR(VLOOKUP($A53,Filtro09!A6:G179,5,FALSE),0)} -> 199
B54: TOTAL | D54: =SUM(D52:D53) -> 1199 | E54: =SUM(E52:E53) -> 0 | F54: =SUM(F52:F53) -> 1199 | G54: =SUM(G52:G53) -> 2164
B56: MICROBIOLÓGICOS
A57: 80306002 | B57: 306002 | C57: Baciloscopia Ziehl-Neelsen, c/u | D57: {=IFERROR(VLOOKUP($A57,Filtro09!A5:G178,2,FALSE),0)} -> 138 | E57: {=IFERROR(VLOOKUP($A57,Filtro09!A5:G178,3,FALSE),0)} -> 60 | F57: {=IFERROR(VLOOKUP($A57,Filtro09!A5:G178,4,FALSE),0)} -> 78 | G57: {=IFERROR(VLOOKUP($A57,Filtro09!A5:G178,5,FALSE),0)} -> 785
A58: 80306004 | B58: 306004 | C58: Examen directo al fresco, c/s tinción (incluye trichomonas) | D58: {=IFERROR(VLOOKUP($A58,Filtro09!A6:G179,2,FALSE),0)} -> 857 | E58: {=IFERROR(VLOOKUP($A58,Filtro09!A6:G179,3,FALSE),0)} -> 0 | F58: {=IFERROR(VLOOKUP($A58,Filtro09!A6:G179,4,FALSE),0)} -> 857 | G58: {=IFERROR(VLOOKUP($A58,Filtro09!A6:G179,5,FALSE),0)} -> 83
A59: 80306005 | B59: 306005 | C59: Tinción de Gram | D59: {=IFERROR(VLOOKUP($A59,Filtro09!A7:G180,2,FALSE),0)} -> 331 | E59: {=IFERROR(VLOOKUP($A59,Filtro09!A7:G180,3,FALSE),0)} -> 0 | F59: {=IFERROR(VLOOKUP($A59,Filtro09!A7:G180,4,FALSE),0)} -> 331 | G59: {=IFERROR(VLOOKUP($A59,Filtro09!A7:G180,5,FALSE),0)} -> 77
A60: 80306007 | B60: 306007 | C60: Coprocultivo, c/u | D60: {=IFERROR(VLOOKUP($A60,Filtro09!A8:G181,2,FALSE),0)} -> 318 | E60: {=IFERROR(VLOOKUP($A60,Filtro09!A8:G181,3,FALSE),0)} -> 1 | F60: {=IFERROR(VLOOKUP($A60,Filtro09!A8:G181,4,FALSE),0)} -> 317 | G60: {=IFERROR(VLOOKUP($A60,Filtro09!A8:G181,5,FALSE),0)} -> 882
A61: 80306011 | B61: 306011 | C61: Urocultivo, recuento de colonias y antibiograma (cualquier técnica) | D61: {=IFERROR(VLOOKUP($A61,Filtro09!A9:G182,2,FALSE),0)} -> 8876 | E61: {=IFERROR(VLOOKUP($A61,Filtro09!A9:G182,3,FALSE),0)} -> 87 | F61: {=IFERROR(VLOOKUP($A61,Filtro09!A9:G182,4,FALSE),0)} -> 8789 | G61: {=IFERROR(VLOOKUP($A61,Filtro09!A9:G182,5,FALSE),0)} -> 15090
A62: 80306016 | B62: 306016 | C62: Neisseria gonorrhoeae (gonococo) | D62: {=IFERROR(VLOOKUP($A62,Filtro09!A10:G183,2,FALSE),0)} -> 20 | E62: {=IFERROR(VLOOKUP($A62,Filtro09!A10:G183,3,FALSE),0)} -> 0 | F62: {=IFERROR(VLOOKUP($A62,Filtro09!A10:G183,4,FALSE),0)} -> 20 | G62: {=IFERROR(VLOOKUP($A62,Filtro09!A10:G183,5,FALSE),0)} -> 76
A63: 80306026 | B63: 306026 | C63: Antibiograma Corriente (mínimo 10 fármacos) (en caso de urocultivo no corresponde su cobro; incluido en el valor 03-06-011) | D63: {=IFERROR(VLOOKUP($A63,Filtro09!A11:G184,2,FALSE),0)} -> 1397 | E63: {=IFERROR(VLOOKUP($A63,Filtro09!A11:G184,3,FALSE),0)} -> 0 | F63: {=IFERROR(VLOOKUP($A63,Filtro09!A11:G184,4,FALSE),0)} -> 1397 | G63: {=IFERROR(VLOOKUP($A63,Filtro09!A11:G184,5,FALSE),0)} -> 154
A64: 80306038 | B64: 306038 | C64: R.P.R. | D64: {=IFERROR(VLOOKUP($A64,Filtro09!A12:G185,2,FALSE),0)} -> 6165 | E64: {=IFERROR(VLOOKUP($A64,Filtro09!A12:G185,3,FALSE),0)} -> 0 | F64: {=IFERROR(VLOOKUP($A64,Filtro09!A12:G185,4,FALSE),0)} -> 6165 | G64: {=IFERROR(VLOOKUP($A64,Filtro09!A12:G185,5,FALSE),0)} -> 15812
A65: 80306042 | B65: 306042 | C65: V.D.R.L. | D65: {=IFERROR(VLOOKUP($A65,Filtro09!A13:G186,2,FALSE),0)} -> 70 | E65: {=IFERROR(VLOOKUP($A65,Filtro09!A13:G186,3,FALSE),0)} -> 0 | F65: {=IFERROR(VLOOKUP($A65,Filtro09!A13:G186,4,FALSE),0)} -> 70 | G65: {=IFERROR(VLOOKUP($A65,Filtro09!A13:G186,5,FALSE),0)} -> 483
A66: 80306051 | B66: 306051 | C66: Graham, examen de (incluye diagnóstico de gusanos macroscópicos y examen microscópico de 5 muestras separadas) | D66: {=IFERROR(VLOOKUP($A66,Filtro09!A14:G187,2,FALSE),0)} -> 137 | E66: {=IFERROR(VLOOKUP($A66,Filtro09!A14:G187,3,FALSE),0)} -> 0 | F66: {=IFERROR(VLOOKUP($A66,Filtro09!A14:G187,4,FALSE),0)} -> 137 | G66: {=IFERROR(VLOOKUP($A66,Filtro09!A14:G187,5,FALSE),0)} -> 248
A67: 80306052 | B67: 306052 | C67: Estudio de gusanos macroscópicos | D67: {=IFERROR(VLOOKUP($A67,Filtro09!A15:G188,2,FALSE),0)} -> 5 | E67: {=IFERROR(VLOOKUP($A67,Filtro09!A15:G188,3,FALSE),0)} -> 0 | F67: {=IFERROR(VLOOKUP($A67,Filtro09!A15:G188,4,FALSE),0)} -> 5 | G67: {=IFERROR(VLOOKUP($A67,Filtro09!A15:G188,5,FALSE),0)} -> 85
A68: 80306048 | B68: 306048 | C68: Coproparasitológico seriado simple (incluye diagnóstico de gusanos macroscópicos y examen microscópico por concentración de tres muestras separadas método Telemann ) (proc. aut.) | D68: {=IFERROR(VLOOKUP($A68,Filtro09!A16:G189,2,FALSE),0)} -> 432 | E68: {=IFERROR(VLOOKUP($A68,Filtro09!A16:G189,3,FALSE),0)} -> 0 | F68: {=IFERROR(VLOOKUP($A68,Filtro09!A16:G189,4,FALSE),0)} -> 432 | G68: {=IFERROR(VLOOKUP($A68,Filtro09!A16:G189,5,FALSE),0)} -> 1004
... A72: 80306112 | B72: 306112 | C72: VIH, anticuerpos y antígenos virales, determ. de H.I.V. | D72: {=IFERROR(VLOOKUP($A72,Filtro09!A20:G193,2,FALSE),0)} -> 0 | E72: {=IFERROR(VLOOKUP($A72,Filtro09!A20:G193,3,FALSE),0)} -> 0 | F72: {=IFERROR(VLOOKUP($A72,Filtro09!A20:G193,4,FALSE),0)} -> 0 | G72: {=IFERROR(VLOOKUP($A72,Filtro09!A20:G193,5,FALSE),0)} -> 499
B73: TOTAL | D73: =SUM(D57:D72) -> 19092 | E73: =SUM(E57:E72) -> 148 | F73: =SUM(F57:F72) -> 18944 | G73: =SUM(G57:G72) -> 37723
B75: EXÁMENES DE DEPOSICIONES, EXUDADOS, SECRECIONES Y OTROS LÍQUIDOS
A76: 80308004 | B76: 308004 | C76: Hemorragias ocultas, (bencidina, guayaco o test de Weber y similares), cualquier método, c/muestra | D76: {=IFERROR(VLOOKUP($A76,Filtro09!A5:G178,2,FALSE),0)} -> 238 | E76: {=IFERROR(VLOOKUP($A76,Filtro09!A5:G178,3,FALSE),0)} -> 0 | F76: {=IFERROR(VLOOKUP($A76,Filtro09!A5:G178,4,FALSE),0)} -> 238 | G76: {=IFERROR(VLOOKUP($A76,Filtro09!A5:G178,5,FALSE),0)} -> 1444
A77: 80308005 | B77: 308005 | C77: Leucocitos fecales | D77: {=IFERROR(VLOOKUP($A77,Filtro09!A6:G179,2,FALSE),0)} -> 79 | E77: {=IFERROR(VLOOKUP($A77,Filtro09!A6:G179,3,FALSE),0)} -> 0 | F77: {=IFERROR(VLOOKUP($A77,Filtro09!A6:G179,4,FALSE),0)} -> 79 | G77: {=IFERROR(VLOOKUP($A77,Filtro09!A6:G179,5,FALSE),0)} -> 237
B78: TOTAL | D78: =SUM(D76:D77) -> 317 | E78: =SUM(E76:E77) -> 0 | F78: =SUM(F76:F77) -> 317 | G78: =SUM(G76:G77) -> 1681
B80: EXÁMENES DE ORINA
A81: 80309010 | B81: 309010 | C81: Creatinina cuantitativa en orina | D81: {=IFERROR(VLOOKUP($A81,Filtro09!A5:G178,2,FALSE),0)} -> 26722 | E81: {=IFERROR(VLOOKUP($A81,Filtro09!A5:G178,3,FALSE),0)} -> 0 | F81: {=IFERROR(VLOOKUP($A81,Filtro09!A5:G178,4,FALSE),0)} -> 26722 | G81: {=IFERROR(VLOOKUP($A81,Filtro09!A5:G178,5,FALSE),0)} -> 42462
A82: 80309013 | B82: 309013 | C82: Microalbuminuria cuantitativa | D82: {=IFERROR(VLOOKUP($A82,Filtro09!A6:G179,2,FALSE),0)} -> 26417 | E82: {=IFERROR(VLOOKUP($A82,Filtro09!A6:G179,3,FALSE),0)} -> 0 | F82: {=IFERROR(VLOOKUP($A82,Filtro09!A6:G179,4,FALSE),0)} -> 26417 | G82: {=IFERROR(VLOOKUP($A82,Filtro09!A6:G179,5,FALSE),0)} -> 39820
A83: 80309014 | B83: 309014 | C83: Gonadotrofina coriónica, sub-unidad beta en orina (test rápido) | D83: {=IFERROR(VLOOKUP($A83,Filtro09!A7:G180,2,FALSE),0)} -> 98 | E83: {=IFERROR(VLOOKUP($A83,Filtro09!A7:G180,3,FALSE),0)} -> 0 | F83: {=IFERROR(VLOOKUP($A83,Filtro09!A7:G180,4,FALSE),0)} -> 98 | G83: {=IFERROR(VLOOKUP($A83,Filtro09!A7:G180,5,FALSE),0)} -> 82
A84: 80309020 | B84: 309020 | C84: Nitrógeno ureico o urea en orina (cuantitativo) | D84: {=IFERROR(VLOOKUP($A84,Filtro09!A8:G181,2,FALSE),0)} -> 80 | E84: {=IFERROR(VLOOKUP($A84,Filtro09!A8:G181,3,FALSE),0)} -> 0 | F84: {=IFERROR(VLOOKUP($A84,Filtro09!A8:G181,4,FALSE),0)} -> 80 | G84: {=IFERROR(VLOOKUP($A84,Filtro09!A8:G181,5,FALSE),0)} -> 53
A85: 80309022 | B85: 309022 | C85: Orina completa, (incluye cód. 03-09-023 y 03-09-024) | D85: {=IFERROR(VLOOKUP($A85,Filtro09!A9:G182,2,FALSE),0)} -> 30039 | E85: {=IFERROR(VLOOKUP($A85,Filtro09!A9:G182,3,FALSE),0)} -> 17 | F85: {=IFERROR(VLOOKUP($A85,Filtro09!A9:G182,4,FALSE),0)} -> 30022 | G85: {=IFERROR(VLOOKUP($A85,Filtro09!A9:G182,5,FALSE),0)} -> 76350
A86: 80309023 | B86: 309023 | C86: Orina, físicoquímico (aspecto, color, densidad, pH, proteínas, glucosa, cuerpos cetónicos, urobilinógeno, bilirrubina, hemoglobina y nitritos) todos o cada uno de los parámetros (proc. aut.) | D86: {=IFERROR(VLOOKUP($A86,Filtro09!A10:G183,2,FALSE),0)} -> 26809 | E86: {=IFERROR(VLOOKUP($A86,Filtro09!A10:G183,3,FALSE),0)} -> 16981 | F86: {=IFERROR(VLOOKUP($A86,Filtro09!A10:G183,4,FALSE),0)} -> 9828 | G86: {=IFERROR(VLOOKUP($A86,Filtro09!A10:G183,5,FALSE),0)} -> 1395
A87: 80309024 | B87: 309024 | C87: Sedimento de orina (proc. aut.) | D87: {=IFERROR(VLOOKUP($A87,Filtro09!A11:G184,2,FALSE),0)} -> 58 | E87: {=IFERROR(VLOOKUP($A87,Filtro09!A11:G184,3,FALSE),0)} -> 37 | F87: {=IFERROR(VLOOKUP($A87,Filtro09!A11:G184,4,FALSE),0)} -> 21 | G87: {=IFERROR(VLOOKUP($A87,Filtro09!A11:G184,5,FALSE),0)} -> 3921
B88: TOTAL | D88: =SUM(D81:D87) -> 110223 | E88: =SUM(E81:E87) -> 17035 | F88: =SUM(F81:F87) -> 93188 | G88: =SUM(G81:G87) -> 164083
B89: TOTAL EXÁMENES | D89: =D20+D43+D49+D54+D73+D78+D88 -> 564870 | E89: =E20+E43+E49+E54+E73+E78+E88 -> 17183 | F89: =F20+F43+F49+F54+F73+F78+F88 -> 547687 | G89: =G20+G43+G49+G54+G73+G78+G88 -> 1001734
B91: EXÁMENES RADIOLÓGICOS
A92: 80401004 | B92: 401004 | C92: Radiografía de tórax, proyección complementaria (oblicuas, selectivas u otras) | D92: {=IFERROR(VLOOKUP($A92,Filtro09!A5:G178,2,FALSE),0)} -> 0 | E92: {=IFERROR(VLOOKUP($A92,Filtro09!A5:G178,3,FALSE),0)} -> 0 | F92: {=IFERROR(VLOOKUP($A92,Filtro09!A16:G189,4,FALSE),0)} -> 0 | G92: {=IFERROR(VLOOKUP($A92,Filtro09!A5:G178,5,FALSE),0)} -> 0
A93: 80401008 | B93: 401008 | C93: Radiografía de tórax frontal o lateral con equipo móvil fuera del departamento de rayos. | D93: {=IFERROR(VLOOKUP($A93,Filtro09!A6:G179,2,FALSE),0)} -> 0 | E93: {=IFERROR(VLOOKUP($A93,Filtro09!A6:G179,3,FALSE),0)} -> 0 | F93: {=IFERROR(VLOOKUP($A93,Filtro09!A17:G190,4,FALSE),0)} -> 0 | G93: {=IFERROR(VLOOKUP($A93,Filtro09!A6:G179,5,FALSE),0)} -> 0
A94: 80401009 | B94: 401009 | C94: Radiografía de tórax simple frontal o lateral | D94: {=IFERROR(VLOOKUP($A94,Filtro09!A7:G180,2,FALSE),0)} -> 448 | E94: {=IFERROR(VLOOKUP($A94,Filtro09!A7:G180,3,FALSE),0)} -> 418 | F94: {=IFERROR(VLOOKUP($A94,Filtro09!A18:G191,4,FALSE),0)} -> 30 | G94: {=IFERROR(VLOOKUP($A94,Filtro09!A7:G180,5,FALSE),0)} -> 199
A95: 80401070 | B95: 401070 | C95: Radiografía de tórax frontal y lateral | D95: {=IFERROR(VLOOKUP($A95,Filtro09!A8:G181,2,FALSE),0)} -> 7416 | E95: {=IFERROR(VLOOKUP($A95,Filtro09!A8:G181,3,FALSE),0)} -> 5925 | F95: {=IFERROR(VLOOKUP($A95,Filtro09!A19:G192,4,FALSE),0)} -> 1491 | G95: {=IFERROR(VLOOKUP($A95,Filtro09!A8:G181,5,FALSE),0)} -> 3513
A96: 80401010 | B96: 401010 | C96: Mamografía bilateral | D96: {=IFERROR(VLOOKUP($A96,Filtro09!A9:G182,2,FALSE),0)} -> 181 | E96: {=IFERROR(VLOOKUP($A96,Filtro09!A9:G182,3,FALSE),0)} -> 1 | F96: {=IFERROR(VLOOKUP($A96,Filtro09!A20:G193,4,FALSE),0)} -> 180 | G96: {=IFERROR(VLOOKUP($A96,Filtro09!A9:G182,5,FALSE),0)} -> 570
A97: 80401110 | B97: 401110 | C97: Mamografía unilateral | D97: {=IFERROR(VLOOKUP($A97,Filtro09!A10:G183,2,FALSE),0)} -> 110 | E97: {=IFERROR(VLOOKUP($A97,Filtro09!A10:G183,3,FALSE),0)} -> 0 | F97: {=IFERROR(VLOOKUP($A97,Filtro09!A21:G194,4,FALSE),0)} -> 110 | G97: {=IFERROR(VLOOKUP($A97,Filtro09!A10:G183,5,FALSE),0)} -> 110
A98: 80401130 | B98: 401130 | C98: Mamografía proyección complementaria (axilar u otras) | D98: {=IFERROR(VLOOKUP($A98,Filtro09!A11:G184,2,FALSE),0)} -> 0 | E98: {=IFERROR(VLOOKUP($A98,Filtro09!A11:G184,3,FALSE),0)} -> 0 | F98: {=IFERROR(VLOOKUP($A98,Filtro09!A22:G195,4,FALSE),0)} -> 0 | G98: {=IFERROR(VLOOKUP($A98,Filtro09!A11:G184,5,FALSE),0)} -> 25
A99: 80401042 | B99: 401042 | C99: Radiografía de columna cervical o atlas-axis (frontal y lateral) | D99: {=IFERROR(VLOOKUP($A99,Filtro09!A12:G185,2,FALSE),0)} -> 620 | E99: {=IFERROR(VLOOKUP($A99,Filtro09!A12:G185,3,FALSE),0)} -> 620 | F99: {=IFERROR(VLOOKUP($A99,Filtro09!A23:G196,4,FALSE),0)} -> 0 | G99: {=IFERROR(VLOOKUP($A99,Filtro09!A12:G185,5,FALSE),0)} -> 122
A100: 80401043 | B100: 401043 | C100: Radiografía de columna cervical (frontal, lateral y oblicuas) | D100: {=IFERROR(VLOOKUP($A100,Filtro09!A13:G186,2,FALSE),0)} -> 67 | E100: {=IFERROR(VLOOKUP($A100,Filtro09!A13:G186,3,FALSE),0)} -> 67 | F100: {=IFERROR(VLOOKUP($A100,Filtro09!A24:G197,4,FALSE),0)} -> 0 | G100: {=IFERROR(VLOOKUP($A100,Filtro09!A13:G186,5,FALSE),0)} -> 14
A101: 80401044 | B101: 401044 | C101: Radiografía de columna cervical flexión y extensión (Dinámicas) | D101: {=IFERROR(VLOOKUP($A101,Filtro09!A14:G187,2,FALSE),0)} -> 0 | E101: {=IFERROR(VLOOKUP($A101,Filtro09!A14:G187,3,FALSE),0)} -> 0 | F101: {=IFERROR(VLOOKUP($A101,Filtro09!A25:G198,4,FALSE),0)} -> 0 | G101: {=IFERROR(VLOOKUP($A101,Filtro09!A14:G187,5,FALSE),0)} -> 0
A102: 80401045 | B102: 401045 | C102: Radiografía de columna dorsal o dorsolumbar localizada, parrilla costal adultos (frontal y lateral). | D102: {=IFERROR(VLOOKUP($A102,Filtro09!A15:G188,2,FALSE),0)} -> 1608 | E102: {=IFERROR(VLOOKUP($A102,Filtro09!A15:G188,3,FALSE),0)} -> 1608 | F102: {=IFERROR(VLOOKUP($A102,Filtro09!A26:G199,4,FALSE),0)} -> 0 | G102: {=IFERROR(VLOOKUP($A102,Filtro09!A15:G188,5,FALSE),0)} -> 372
A103: 80401046 | B103: 401046 | C103: Radiografía columna lumbar o lumbosacra | D103: {=IFERROR(VLOOKUP($A103,Filtro09!A16:G189,2,FALSE),0)} -> 720 | E103: {=IFERROR(VLOOKUP($A103,Filtro09!A16:G189,3,FALSE),0)} -> 720 | F103: {=IFERROR(VLOOKUP($A103,Filtro09!A27:G200,4,FALSE),0)} -> 0 | G103: {=IFERROR(VLOOKUP($A103,Filtro09!A16:G189,5,FALSE),0)} -> 272
... A118: 80404008 | B118: 404008 | C118: Ecografía para seguimiento de ovulación, procedimiento completo (6 a 8 sesiones) | D118: {=IFERROR(VLOOKUP($A118,Filtro09!A31:G204,2,FALSE),0)} -> 0 | E118: {=IFERROR(VLOOKUP($A118,Filtro09!A31:G204,3,FALSE),0)} -> 0 | F118: {=IFERROR(VLOOKUP($A118,Filtro09!A42:G215,4,FALSE),0)} -> 0 | G118: {=IFERROR(VLOOKUP($A118,Filtro09!A31:G204,5,FALSE),0)} -> 0
B120: SECCIÓN B: PROCEDIMIENTOS E INTERVENCIONES QUIRÚRGICAS DE APOYO CLÍNICO Y TERAPÉUTICO
B121: CÓDIGOS | C121: PROCEDIMIENTOS | D121: Total | E121: SAPU/SAR/SUR | F121: Resto Establecimientos APS | G121: Compra de Servicios
B123: OTORRINOLARINGOLOGÍA
A124: 81301025 | B124: 1301025 | C124: Taponamiento nasal anterior (proc. aut.) | D124: {=IFERROR(VLOOKUP($A124,Filtro09!A37:G210,2,FALSE),0)} -> 113 | E124: {=IFERROR(VLOOKUP($A124,Filtro09!A37:G210,3,FALSE),0)} -> 94 | F124: {=IFERROR(VLOOKUP($A124,Filtro09!A48:G221,4,FALSE),0)} -> 19 | G124: {=IFERROR(VLOOKUP($A124,Filtro09!A37:G210,5,FALSE),0)} -> 0
A125: 81301026 | B125: 1301026 | C125: Taponamiento nasal posterior | D125: {=IFERROR(VLOOKUP($A125,Filtro09!A38:G211,2,FALSE),0)} -> 17 | E125: {=IFERROR(VLOOKUP($A125,Filtro09!A38:G211,3,FALSE),0)} -> 16 | F125: {=IFERROR(VLOOKUP($A125,Filtro09!A49:G222,4,FALSE),0)} -> 1 | G125: {=IFERROR(VLOOKUP($A125,Filtro09!A38:G211,5,FALSE),0)} -> 0
A126: 81301029 | B126: 1301029 | C126: Cuerpo extraño en fosas nasales, extracción de: - En adultos | D126: {=IFERROR(VLOOKUP($A126,Filtro09!A39:G212,2,FALSE),0)} -> 15 | E126: {=IFERROR(VLOOKUP($A126,Filtro09!A39:G212,3,FALSE),0)} -> 8 | F126: {=IFERROR(VLOOKUP($A126,Filtro09!A50:G223,4,FALSE),0)} -> 7 | G126: {=IFERROR(VLOOKUP($A126,Filtro09!A39:G212,5,FALSE),0)} -> 0
A127: 81301030 | B127: 1301030 | C127: Cuerpo extraño en fosas nasales, extracción de: - En niños | D127: {=IFERROR(VLOOKUP($A127,Filtro09!A40:G213,2,FALSE),0)} -> 15 | E127: {=IFERROR(VLOOKUP($A127,Filtro09!A40:G213,3,FALSE),0)} -> 11 | F127: {=IFERROR(VLOOKUP($A127,Filtro09!A51:G224,4,FALSE),0)} -> 4 | G127: {=IFERROR(VLOOKUP($A127,Filtro09!A40:G213,5,FALSE),0)} -> 0
B128: TOTAL | D128: =SUM(D121:D127) -> 160 | E128: =SUM(E121:E127) -> 129 | F128: =SUM(F121:F127) -> 31
B130: DERMATOLOGÍA, TEGUMENTOS E INTERVENCIONES QUIRÚRGICAS MENORES
A131: 81601110 | B131: 1601110 | C131: Curetaje de lesiones virales y similares hasta 10 lesiones por sesión | D131: {=IFERROR(VLOOKUP($A131,Filtro09!A44:G217,2,FALSE),0)} -> 36 | E131: {=IFERROR(VLOOKUP($A131,Filtro09!A44:G217,3,FALSE),0)} -> 23 | F131: {=IFERROR(VLOOKUP($A131,Filtro09!A55:G228,4,FALSE),0)} -> 13 | G131: {=IFERROR(VLOOKUP($A131,Filtro09!A44:G217,5,FALSE),0)} -> 1
A132: 81602203 | B132: 1602203 | C132: Resto del cuerpo hasta 3 lesiones: extirpación, reparación o biopsia, total o parcial, de lesiones benignas cutáneas por excisión | D132: {=IFERROR(VLOOKUP($A132,Filtro09!A45:G218,2,FALSE),0)} -> 30 | E132: {=IFERROR(VLOOKUP($A132,Filtro09!A45:G218,3,FALSE),0)} -> 1 | F132: {=IFERROR(VLOOKUP($A132,Filtro09!A56:G229,4,FALSE),0)} -> 29 | G132: {=IFERROR(VLOOKUP($A132,Filtro09!A45:G218,5,FALSE),0)} -> 28
A133: 81602206 | B133: 1602206 | C133: Extirpación de lesiones benignas por sec tangencial, curetaje, y/o fulguración hasta 15 lesiones | D133: {=IFERROR(VLOOKUP($A133,Filtro09!A46:G219,2,FALSE),0)} -> 189 | E133: {=IFERROR(VLOOKUP($A133,Filtro09!A46:G219,3,FALSE),0)} -> 0 | F133: {=IFERROR(VLOOKUP($A133,Filtro09!A57:G230,4,FALSE),0)} -> 189 | G133: {=IFERROR(VLOOKUP($A133,Filtro09!A46:G219,5,FALSE),0)} -> 179
A134: 81602221 | B134: 1602221 | C134: Herida cortante o contusa complicada, reparación y sutura (más de 5 cm) | D134: {=IFERROR(VLOOKUP($A134,Filtro09!A47:G220,2,FALSE),0)} -> 895 | E134: {=IFERROR(VLOOKUP($A134,Filtro09!A47:G220,3,FALSE),0)} -> 831 | F134: {=IFERROR(VLOOKUP($A134,Filtro09!A58:G231,4,FALSE),0)} -> 64 | G134: {=IFERROR(VLOOKUP($A134,Filtro09!A47:G220,5,FALSE),0)} -> 0
A135: 81602222 | B135: 1602222 | C135: Herida cortante o contusa NO complicada, reparación y sutura (una o múltiples de más de 5 cms de largo total que comprometa solo piel) | D135: {=IFERROR(VLOOKUP($A135,Filtro09!A48:G221,2,FALSE),0)} -> 1567 | E135: {=IFERROR(VLOOKUP($A135,Filtro09!A48:G221,3,FALSE),0)} -> 1390 | F135: {=IFERROR(VLOOKUP($A135,Filtro09!A59:G232,4,FALSE),0)} -> 177 | G135: {=IFERROR(VLOOKUP($A135,Filtro09!A48:G221,5,FALSE),0)} -> 2
A136: 81602223 | B136: 1602223 | C136: Cabeza, cuello, genitales: extirpación de lesión benigna subepidérmica, incluye tumor sólido, quiste epidérmico y lipoma por lesión | D136: {=IFERROR(VLOOKUP($A136,Filtro09!A49:G222,2,FALSE),0)} -> 105 | E136: {=IFERROR(VLOOKUP($A136,Filtro09!A49:G222,3,FALSE),0)} -> 0 | F136: {=IFERROR(VLOOKUP($A136,Filtro09!A60:G233,4,FALSE),0)} -> 105 | G136: {=IFERROR(VLOOKUP($A136,Filtro09!A49:G222,5,FALSE),0)} -> 76
A137: 81602224 | B137: 1602224 | C137: Resto del cuerpo: extirpación de lesión benigna subepidérmica, incluye tumor sólido, quiste epidérmico y lipoma por lesión | D137: {=IFERROR(VLOOKUP($A137,Filtro09!A50:G223,2,FALSE),0)} -> 113 | E137: {=IFERROR(VLOOKUP($A137,Filtro09!A50:G223,3,FALSE),0)} -> 8 | F137: {=IFERROR(VLOOKUP($A137,Filtro09!A61:G234,4,FALSE),0)} -> 105 | G137: {=IFERROR(VLOOKUP($A137,Filtro09!A50:G223,5,FALSE),0)} -> 54
...

Sheet Filtro09
A1: Mes | B1: (Todas)
A2: comuna | B2: (Todas)
A3: establecimiento | B3: (Todas)
A5: Etiquetas de fila | B5: Suma de Col01 | C5: Suma de Col02 | D5: Suma de Col03 | E5: Suma de Col04 | F5: Suma de Col05 | G5: Suma de Col06
A6: 18010100 | B6: 74282 | C6: 0 | D6: 74282
A7: 18010200 | B7: 299499 | C7: 0 | D7: 299499
A8: 18010500 | B8: 1199 | C8: 0 | D8: 1199
A9: 18010601 | B9: 19092 | C9: 148 | D9: 18944
A10: 18010800 | B10: 317 | C10: 0 | D10: 317
A11: 18010900 | B11: 110223 | C11: 17035 | D11: 93188
A12: 18011001 | B12: 28373 | C12: 26018 | D12: 2355
A13: 18020200 | B13: 160 | C13: 129 | D13: 31
A14: 18020300 | B14: 19982 | C14: 14347 | D14: 5635
A15: 18020400 | B15: 36 | C15: 23 | D15: 13
A16: 18020500 | B16: 110408 | C16: 31846 | D16: 78562
A17: 18020600 | B17: 423 | C17: 281 | D17: 142
A18: 18020700 | B18: 3405 | C18: 1629 | D18: 1776
A19: 18020800 | B19: 3092 | C19: 3092
A20: 18020900 | B20: 26763 | C20: 59 | D20: 26704
A21: 18030000 | B21: 3263 | C21: 2462 | D21: 801
A22: 18090100 | B22: 60258 | C22: 0 | D22: 60258
A23: 18090200 | B23: 6829 | C23: 1166
A24: 18090300 | B24: 2 | C24: 0
A25: 18090400 | B25: 1 | C25: 0
A26: 18400700 | B26: 434137
A27: 18700240 | B27: 17 | D27: 17
A28: 18700250 | B28: 831 | D28: 831
A29: 18700260 | B29: 38 | D29: 38
A30: 18700270 | B30: 1519 | D30: 1519
A31: 18700280 | B31: 12 | D31: 12
A32: 18700290 | B32: 814 | D32: 814
A33: 18700300 | B33: 25 | D33: 25
A34: 18700310 | B34: 990 | D34: 990
A35: 18700320 | B35: 11 | D35: 11
A36: 18700330 | B36: 337 | D36: 337
A37: 18700340 | B37: 52 | D37: 52
A38: 18700360 | B38: 820741 | C38: 320662 | D38: 500079
A39: 18700370 | B39: 3886 | C39: 0 | D39: 3886
A40: 80106002 | B40: 79160 | C40: 16954 | D40: 62206 | E40: 0
A41: 80106006 | B41: 306 | C41: 158 | D41: 148 | E41: 2
A42: 80106007 | B42: 747 | C42: 463 | D42: 284
A43: 80106008 | B43: 578 | C43: 141 | D43: 437
A44: 80106009 | B44: 44 | C44: 42 | D44: 2
A45: 80106010 | B45: 1052 | C45: 133 | D45: 919
A46: 80106011 | B46: 37 | C46: 28 | D46: 9
A47: 80106012 | B47: 56 | C47: 39 | D47: 17
A48: 80106013 | B48: 2863 | C48: 1879 | D48: 984 | E48: 0
A49: 80106014 | B49: 312766 | C49: 207687 | D49: 105079 | E49: 0
A50: 80106015 | B50: 49538 | C50: 43397 | D50: 6141 | E50: 0
A51: 80106020 | B51: 2354 | C51: 2057 | D51: 297 | E51: 68
A52: 80106021 | B52: 172 | C52: 76 | D52: 96 | E52: 0
A53: 80106023 | B53: 29536 | C53: 313 | D53: 29223
A54: 80301036 | B54: 3224 | C54: 0 | D54: 3224 | E54: 14150
A55: 80301041 | B55: 28011 | C55: 0 | D55: 28011 | E55: 50312
A56: 80301045 | B56: 40235 | C56: 0 | D56: 40235 | E56: 75957
A57: 80301065 | B57: 121 | D57: 121 | E57: 93
A58: 80301067 | B58: 129 | D58: 129 | E58: 113
A59: 80301086 | B59: 442 | C59: 0 | D59: 442 | E59: 925
A60: 80302005 | B60: 26146 | C60: 0 | D60: 26146 | E60: 27049
A61: 80302013 | B61: 222 | D61: 222 | E61: 5836
A62: 80302023 | B62: 41566 | C62: 0 | D62: 41566 | E62: 80732
A63: 80302024 | B63: 1977 | C63: 0 | D63: 1977 | E63: 2891
A64: 80302032 | B64: 68767 | C64: 0 | D64: 68767 | E64: 79789
A65: 80302034 | B65: 43651 | C65: 0 | D65: 43651 | E65: 61156
A66: 80302035 | B66: 90 | C66: 0 | D66: 90 | E66: 300
A67: 80302040 | B67: 267 | D67: 267 | E67: 5925
A68: 80302047 | B68: 49046 | C68: 0 | D68: 49046 | E68: 95841
A69: 80302048 | B69: 3074 | C69: 0 | D69: 3074 | E69: 6689
A70: 80302057 | B70: 27594 | C70: 0 | D70: 27594 | E70: 37941
A71: 80302063 | B71: 454 | D71: 454 | E71: 15563
A72: 80302064 | B72: 1973 | C72: 0 | D72: 1973 | E72: 32196
A73: 80302067 | B73: 2595 | C73: 0 | D73: 2595 | E73: 37016
A74: 80302068 | B74: 1540 | C74: 0 | D74: 1540 | E74: 33293
A75: 80302075 | B75: 187 | D75: 187 | E75: 1316
A76: 80302076 | B76: 26633 | C76: 0 | D76: 26633 | E76: 24406
A77: 80303024 | B77: 35022 | C77: 0 | D77: 35022 | E77: 68646
A78: 80303026 | B78: 25232 | C78: 0 | D78: 25232 | E78: 23758
A79: 80303027 | B79: 4 | D79: 4 | E79: 64
A80: 80305019 | B80: 1190 | C80: 0 | D80: 1190 | E80: 1965
A81: 80305020 | B81: 9 | D81: 9 | E81: 199
A82: 80306002 | B82: 138 | C82: 60 | D82: 78 | E82: 785
A83: 80306004 | B83: 857 | D83: 857 | E83: 83
A84: 80306005 | B84: 331 | D84: 331 | E84: 77
A85: 80306007 | B85: 318 | C85: 1 | D85: 317 | E85: 882
A86: 80306011 | B86: 8876 | C86: 87 | D86: 8789 | E86: 15090
A87: 80306016 | B87: 20 | D87: 20 | E87: 76
A88: 80306026 | B88: 1397 | D88: 1397 | E88: 154
A89: 80306038 | B89: 6165 | C89: 0 | D89: 6165 | E89: 15812
A90: 80306042 | B90: 70 | C90: 0 | D90: 70 | E90: 483
A91: 80306048 | B91: 432 | C91: 0 | D91: 432 | E91: 1004
A92: 80306051 | B92: 137 | C92: 0 | D92: 137 | E92: 248
A93: 80306052 | B93: 5 | D93: 5 | E93: 85
A94: 80306059 | B94: 145 | D94: 145 | E94: 300
A95: 80306081 | B95: 3 | D95: 3 | E95: 7
A96: 80306112 | B96: 0 | E96: 499
A97: 80306169 | B97: 198 | C97: 0 | D97: 198 | E97: 2138
A98: 80307011 | B98: 206830 | C98: 4466 | D98: 202364 | E98: 64411
A99: 80307012 | B99: 7953 | C99: 65 | D99: 7888 | E99: 2417
A100: 80308004 | B100: 238 | C100: 0 | D100: 238 | E100: 1444
A101: 80308005 | B101: 79 | C101: 0 | D101: 79 | E101: 237
...
