Workbook

Sheet BM18
B1: SERVICIO DE SALUD
B2: COMUNA: ( )
B3: ESTABLECIMIENTO/ESTRATEGIA: ( )
B4: MES: ( )
B5: AÑO: 2026
B8: REM-B18. ACTIVIDADES DE APOYO DIAGNOSTICO Y TERAPEUTICO (USO EXCLUSIVO DE ESTABLECIMIENTOS MUNICIPALES)
B10: SECCIÓN A: EXÁMENES DE DIAGNOSTICO
B11: EXÁMENES | E11: TOTAL | F11: SAPU/SAR/SUR | G11: Resto Establecimientos APS
F12: Total | G12: Total
B13: TOTAL EXÁMENES LABORATORIO | E13: =SUM(F14:G20) -> 564870 | F13: =SUM(F14:F20) -> 17183 | G13: =SUM(G14:G20) -> 547687
A14: 18010100 | B14: I | C14: HEMATOLÓGICOS | E14: =SUM(F14:G14) -> 74282 | F14: {=IFERROR(VLOOKUP($A14,Filtro09!A5:G178,3,FALSE),0)} -> 0 | G14: {=IFERROR(VLOOKUP($A14,Filtro09!A5:G178,4,FALSE),0)} -> 74282
A15: 18010200 | B15: II | C15: BIOQUÍMICOS | E15: =SUM(F15:G15) -> 299499 | F15: {=IFERROR(VLOOKUP($A15,Filtro09!A6:G179,3,FALSE),0)} -> 0 | G15: {=IFERROR(VLOOKUP($A15,Filtro09!A6:G179,4,FALSE),0)} -> 299499
A16: 18090100 | B16: III | C16: HORMONALES | E16: =SUM(F16:G16) -> 60258 | F16: {=IFERROR(VLOOKUP($A16,Filtro09!A7:G180,3,FALSE),0)} -> 0 | G16: {=IFERROR(VLOOKUP($A16,Filtro09!A7:G180,4,FALSE),0)} -> 60258
A17: 18010500 | B17: V | C17: INMUNOLÓGICOS | E17: =SUM(F17:G17) -> 1199 | F17: {=IFERROR(VLOOKUP($A17,Filtro09!A8:G181,3,FALSE),0)} -> 0 | G17: {=IFERROR(VLOOKUP($A17,Filtro09!A8:G181,4,FALSE),0)} -> 1199
A18: 18010601 | B18: VI | C18: MICROBIOLÓGICOS | E18: =SUM(F18:G18) -> 19092 | F18: {=IFERROR(VLOOKUP($A18,Filtro09!A9:G182,3,FALSE),0)} -> 148 | G18: {=IFERROR(VLOOKUP($A18,Filtro09!A9:G182,4,FALSE),0)} -> 18944
A19: 18010800 | B19: VIII | C19: EX. DE DEPOSICIONES EXUDADOS. SECREC. Y OTROS LIQ. | E19: =SUM(F19:G19) -> 317 | F19: {=IFERROR(VLOOKUP($A19,Filtro09!A10:G183,3,FALSE),0)} -> 0 | G19: {=IFERROR(VLOOKUP($A19,Filtro09!A10:G183,4,FALSE),0)} -> 317
A20: 18010900 | B20: IX | C20: ORINA | E20: =SUM(F20:G20) -> 110223 | F20: {=IFERROR(VLOOKUP($A20,Filtro09!A11:G184,3,FALSE),0)} -> 17035 | G20: {=IFERROR(VLOOKUP($A20,Filtro09!A11:G184,4,FALSE),0)} -> 93188
B21: TOTAL EXÁMENES IMAGENOLOGIA
A22: 18011001 | B22: a) | C22: EX. RADIOLÓGICOS SIMPLES | E22: {=IFERROR(VLOOKUP($A22,Filtro09!A5:G178,2,FALSE),0)} -> 28373 | F22: {=IFERROR(VLOOKUP($A22,Filtro09!A5:G178,3,FALSE),0)} -> 26018 | G22: {=IFERROR(VLOOKUP($A22,Filtro09!A5:G178,4,FALSE),0)} -> 2355
A23: 18700370 | C23: ECOGRAFÍAS OBSTÉTRICAS Y GINECOLÓGICAS | E23: {=IFERROR(VLOOKUP($A23,Filtro09!A6:G179,2,FALSE),0)} -> 3886 | F23: {=IFERROR(VLOOKUP($A23,Filtro09!A6:G179,3,FALSE),0)} -> 0 | G23: {=IFERROR(VLOOKUP($A23,Filtro09!A6:G179,4,FALSE),0)} -> 3886
A24: 18700240 | C24: Ecografías Obstétricas Primer Trimestre (<11 semanas) | D24: Médico/a | E24: {=IFERROR(VLOOKUP($A24,Filtro09!A7:G180,2,FALSE),0)} -> 17 | F24: {=IFERROR(VLOOKUP($A24,Filtro09!A7:G180,3,FALSE),0)} -> 0 | G24: {=IFERROR(VLOOKUP($A24,Filtro09!A7:G180,4,FALSE),0)} -> 17
A25: 18700250 | D25: Matrón/a | E25: {=IFERROR(VLOOKUP($A25,Filtro09!A8:G181,2,FALSE),0)} -> 831 | F25: {=IFERROR(VLOOKUP($A25,Filtro09!A8:G181,3,FALSE),0)} -> 0 | G25: {=IFERROR(VLOOKUP($A25,Filtro09!A8:G181,4,FALSE),0)} -> 831
A26: 18700260 | C26: Ecografias Obstétricas Primer Trimestre (11 - 14 semanas) | D26: Médico/a | E26: {=IFERROR(VLOOKUP($A26,Filtro09!A9:G182,2,FALSE),0)} -> 38 | F26: {=IFERROR(VLOOKUP($A26,Filtro09!A9:G182,3,FALSE),0)} -> 0 | G26: {=IFERROR(VLOOKUP($A26,Filtro09!A9:G182,4,FALSE),0)} -> 38
A27: 18700270 | D27: Matrón/a | E27: {=IFERROR(VLOOKUP($A27,Filtro09!A10:G183,2,FALSE),0)} -> 1519 | F27: {=IFERROR(VLOOKUP($A27,Filtro09!A10:G183,3,FALSE),0)} -> 0 | G27: {=IFERROR(VLOOKUP($A27,Filtro09!A10:G183,4,FALSE),0)} -> 1519
A28: 18700280 | C28: Ecografias Obstétricas Segundo Trimestre (22 - 24 semanas) | D28: Médico/a | E28: {=IFERROR(VLOOKUP($A28,Filtro09!A11:G184,2,FALSE),0)} -> 12 | F28: {=IFERROR(VLOOKUP($A28,Filtro09!A11:G184,3,FALSE),0)} -> 0 | G28: {=IFERROR(VLOOKUP($A28,Filtro09!A11:G184,4,FALSE),0)} -> 12
A29: 18700290 | D29: Matrón/a | E29: {=IFERROR(VLOOKUP($A29,Filtro09!A12:G185,2,FALSE),0)} -> 814 | F29: {=IFERROR(VLOOKUP($A29,Filtro09!A12:G185,3,FALSE),0)} -> 0 | G29: {=IFERROR(VLOOKUP($A29,Filtro09!A12:G185,4,FALSE),0)} -> 814
A30: 18700300 | C30: Ecografias Obstétricas Tercer Trimestre (30 - 34 semanas) | D30: Médico/a | E30: {=IFERROR(VLOOKUP($A30,Filtro09!A13:G186,2,FALSE),0)} -> 25 | F30: {=IFERROR(VLOOKUP($A30,Filtro09!A13:G186,3,FALSE),0)} -> 0 | G30: {=IFERROR(VLOOKUP($A30,Filtro09!A13:G186,4,FALSE),0)} -> 25
A31: 18700310 | D31: Matrón/a | E31: {=IFERROR(VLOOKUP($A31,Filtro09!A14:G187,2,FALSE),0)} -> 990 | F31: {=IFERROR(VLOOKUP($A31,Filtro09!A14:G187,3,FALSE),0)} -> 0 | G31: {=IFERROR(VLOOKUP($A31,Filtro09!A14:G187,4,FALSE),0)} -> 990
C32: Total Ecografías Obstétricas por profesional | D32: Médico/a | E32: {=IFERROR(VLOOKUP($A32,Filtro09!A15:G188,2,FALSE),0)} -> 0 | F32: {=IFERROR(VLOOKUP($A32,Filtro09!A15:G188,3,FALSE),0)} -> 0 | G32: {=IFERROR(VLOOKUP($A32,[1]Filtro08!A15:F187,4,FALSE),0)} -> 0
D33: Matrón/a | E33: {=IFERROR(VLOOKUP($A33,Filtro09!A16:G189,2,FALSE),0)} -> 0 | F33: {=IFERROR(VLOOKUP($A33,Filtro09!A16:G189,3,FALSE),0)} -> 0 | G33: {=IFERROR(VLOOKUP($A33,[1]Filtro08!A16:F188,4,FALSE),0)} -> 0
A34: 18700320 | C34: Ecografía de seguimiento DIU (Regulación de la Fertilidad) | D34: Médico/a | E34: {=IFERROR(VLOOKUP($A34,Filtro09!A17:G190,2,FALSE),0)} -> 11 | F34: {=IFERROR(VLOOKUP($A34,Filtro09!A17:G190,3,FALSE),0)} -> 0 | G34: {=IFERROR(VLOOKUP($A34,Filtro09!A17:G190,4,FALSE),0)} -> 11
A35: 18700330 | D35: Matrón/a | E35: {=IFERROR(VLOOKUP($A35,Filtro09!A18:G191,2,FALSE),0)} -> 337 | F35: {=IFERROR(VLOOKUP($A35,Filtro09!A18:G191,3,FALSE),0)} -> 0 | G35: {=IFERROR(VLOOKUP($A35,Filtro09!A18:G191,4,FALSE),0)} -> 337
A36: 18700340 | C36: Ecografía Transvaginal (control de Climaterio y Ginecológico) | D36: Médico/a | E36: =IFERROR(VLOOKUP($A36,Filtro09!A19:G192,2,FALSE),0) -> 52 | F36: {=IFERROR(VLOOKUP($A36,Filtro09!A19:G192,3,FALSE),0)} -> 0 | G36: {=IFERROR(VLOOKUP($A36,Filtro09!A19:G192,4,FALSE),0)} -> 52
A37: 18700350 | D37: Matrón/a
B39: SECCIÓN B: PROCEDIMIENTO E INTERVENCIONES QUIRÚRGICAS DE APOYO CLÍNICO Y TERAPÉUTICO
B40: PROCEDIMIENTOS | C40: TOTAL | D40: SAPU/SAR/SUR | E40: Resto Establecimientos APS
D41: Total | E41: Total
A42: 18020200 | B42: PROC. DE OTORRINOLARINGOLOGÍA | C42: {=IFERROR(VLOOKUP($A42,Filtro09!A5:G178,2,FALSE),0)} -> 160 | D42: {=IFERROR(VLOOKUP($A42,Filtro09!A5:G178,3,FALSE),0)} -> 129 | E42: {=IFERROR(VLOOKUP($A42,Filtro09!A5:G178,4,FALSE),0)} -> 31
A43: 18020300 | B43: PROC. DE NEUMOLOGÍA | C43: {=IFERROR(VLOOKUP($A43,Filtro09!A6:G179,2,FALSE),0)} -> 19982 | D43: {=IFERROR(VLOOKUP($A43,Filtro09!A6:G179,3,FALSE),0)} -> 14347 | E43: {=IFERROR(VLOOKUP($A43,Filtro09!A6:G179,4,FALSE),0)} -> 5635
A44: 18020400 | B44: PROC. DE DERMATOLOGÍA | C44: {=IFERROR(VLOOKUP($A44,Filtro09!A7:G180,2,FALSE),0)} -> 36 | D44: {=IFERROR(VLOOKUP($A44,Filtro09!A7:G180,3,FALSE),0)} -> 23 | E44: {=IFERROR(VLOOKUP($A44,Filtro09!A7:G180,4,FALSE),0)} -> 13
...

Sheet BMA18
B1: SERVICIO DE SALUD
B2: COMUNA: ( )
B3: ESTABLECIMIENTO/ESTRATEGIA: ( )
B4: MES: ( )
B5: AÑO: 2026
B7: REM-18A - LIBRO DE PRESTACIONES DE APOYO DIAGNOSTICO y TERAPÉUTICO (USO EXCLUSIVO DE ESTABLECIMIENTOS MUNICIPALES)
B9: SECCIÓN A: EXÁMENES DE DIAGNOSTICO
B10: CÓDIGOS | C10: EXÁMENES | D10: TOTAL | E10: SAPU/SAR/SUR | F10: Resto Establecimientos APS | G10: Compra de Servicios
B12: SANGRE HEMATOLOGÍA
A13: 80301036 | B13: 301036 | C13: Hematocrito (proc. aut.) | D13: {=IFERROR(VLOOKUP($A13,Filtro09!A5:G178,2,FALSE),0)} -> 3224 | E13: {=IFERROR(VLOOKUP($A13,Filtro09!A5:G178,3,FALSE),0)} -> 0 | F13: {=IFERROR(VLOOKUP($A13,Filtro09!A5:G178,4,FALSE),0)} -> 3224 | G13: {=IFERROR(VLOOKUP($A13,Filtro09!A5:G178,5,FALSE),0)} -> 14150
A14: 80301041 | B14: 301041 | C14: Hemoglobina glicada A1c | D14: {=IFERROR(VLOOKUP($A14,Filtro09!A6:G179,2,FALSE),0)} -> 28011 | E14: {=IFERROR(VLOOKUP($A14,Filtro09!A6:G179,3,FALSE),0)} -> 0 | F14: {=IFERROR(VLOOKUP($A14,Filtro09!A6:G179,4,FALSE),0)} -> 28011 | G14: {=IFERROR(VLOOKUP($A14,Filtro09!A6:G179,5,FALSE),0)} -> 50312
A15: 80301045 | B15: 301045 | C15: Hemograma (incluye recuentos de leucocitos, eritrocitos, plaquetas, hemoglobina, hematocrito, fórmula leucocitaria, características de los elementos figurados y velocidad de eritrosedimentación) | D15: {=IFERROR(VLOOKUP($A15,Filtro09!A7:G180,2,FALSE),0)} -> 40235 | E15: {=IFERROR(VLOOKUP($A15,Filtro09!A7:G180,3,FALSE),0)} -> 0 | F15: {=IFERROR(VLOOKUP($A15,Filtro09!A7:G180,4,FALSE),0)} -> 40235 | G15: {=IFERROR(VLOOKUP($A15,Filtro09!A7:G180,5,FALSE),0)} -> 75957
A16: 80301065 | B16: 301065 | C16: Recuento de leucocitos, absoluto (proc. aut.) | D16: {=IFERROR(VLOOKUP($A16,Filtro09!A8:G181,2,FALSE),0)} -> 121 | E16: {=IFERROR(VLOOKUP($A16,Filtro09!A8:G181,3,FALSE),0)} -> 0 | F16: {=IFERROR(VLOOKUP($A16,Filtro09!A8:G181,4,FALSE),0)} -> 121 | G16: {=IFERROR(VLOOKUP($A16,Filtro09!A8:G181,5,FALSE),0)} -> 93
A17: 80301067 | B17: 301067 | C17: Recuento de plaquetas (absoluto) | D17: {=IFERROR(VLOOKUP($A17,Filtro09!A9:G182,2,FALSE),0)} -> 129 | E17: {=IFERROR(VLOOKUP($A17,Filtro09!A9:G182,3,FALSE),0)} -> 0 | F17: {=IFERROR(VLOOKUP($A17,Filtro09!A9:G182,4,FALSE),0)} -> 129 | G17: {=IFERROR(VLOOKUP($A17,Filtro09!A9:G182,5,FALSE),0)} -> 113
A18: 82201010 | B18: 301059 | C18: Tiempo de protrombina (incluye INR, Razón Internacional Normalizada) | D18: {=IFERROR(VLOOKUP($A18,Filtro09!A10:G183,2,FALSE),0)} -> 2120 | E18: {=IFERROR(VLOOKUP($A18,Filtro09!A10:G183,3,FALSE),0)} -> 0 | F18: {=IFERROR(VLOOKUP($A18,Filtro09!A10:G183,4,FALSE),0)} -> 2120 | G18: {=IFERROR(VLOOKUP($A18,Filtro09!A10:G183,5,FALSE),0)} -> 2184
A19: 80301086 | B19: 301086 | C19: Velocidad de eritrosedimentación (proc. aut.) | D19: {=IFERROR(VLOOKUP($A19,Filtro09!A11:G184,2,FALSE),0)} -> 442 | E19: {=IFERROR(VLOOKUP($A19,Filtro09!A11:G184,3,FALSE),0)} -> 0 | F19: {=IFERROR(VLOOKUP($A19,Filtro09!A11:G184,4,FALSE),0)} -> 442 | G19: {=IFERROR(VLOOKUP($A19,Filtro09!A11:G184,5,FALSE),0)} -> 925
B20: TOTAL | D20: =SUM(D13:D19) -> 74282 | E20: =SUM(E13:E19) -> 0 | F20: =SUM(F13:F19) -> 74282 | G20: =SUM(G13:G19) -> 143734
B22: SANGRE BIOQUÍMICO
A23: 80302005 | B23: 302005 | C23: Ácido úrico, en sangre | D23: {=IFERROR(VLOOKUP($A23,Filtro09!A5:G178,2,FALSE),0)} -> 26146 | E23: {=IFERROR(VLOOKUP($A23,Filtro09!A15:G188,3,FALSE),0)} -> 0 | F23: {=IFERROR(VLOOKUP($A23,Filtro09!A5:G178,4,FALSE),0)} -> 26146 | G23: {=IFERROR(VLOOKUP($A23,Filtro09!A15:G188,5,FALSE),0)} -> 27049
A24: 80302013 | B24: 302013 | C24: Bilirrubina total y conjugada | D24: {=IFERROR(VLOOKUP($A24,Filtro09!A6:G179,2,FALSE),0)} -> 222 | E24: {=IFERROR(VLOOKUP($A24,Filtro09!A16:G189,3,FALSE),0)} -> 0 | F24: {=IFERROR(VLOOKUP($A24,Filtro09!A6:G179,4,FALSE),0)} -> 222 | G24: {=IFERROR(VLOOKUP($A24,Filtro09!A16:G189,5,FALSE),0)} -> 5836
A25: 80302067 | B25: 302067 | C25: Colesterol total (proc. aut.) | D25: {=IFERROR(VLOOKUP($A25,Filtro09!A7:G180,2,FALSE),0)} -> 2595 | E25: {=IFERROR(VLOOKUP($A25,Filtro09!A17:G190,3,FALSE),0)} -> 0 | F25: {=IFERROR(VLOOKUP($A25,Filtro09!A7:G180,4,FALSE),0)} -> 2595 | G25: {=IFERROR(VLOOKUP($A25,Filtro09!A17:G190,5,FALSE),0)} -> 37016
A26: 80302068 | B26: 302068 | C26: Colesterol HDL (proc. aut.) | D26: {=IFERROR(VLOOKUP($A26,Filtro09!A8:G181,2,FALSE),0)} -> 1540 | E26: {=IFERROR(VLOOKUP($A26,Filtro09!A18:G191,3,FALSE),0)} -> 0 | F26: {=IFERROR(VLOOKUP($A26,Filtro09!A8:G181,4,FALSE),0)} -> 1540 | G26: {=IFERROR(VLOOKUP($A26,Filtro09!A18:G191,5,FALSE),0)} -> 33293
A27: 80302023 | B27: 302023 | C27: Creatinina en sangre | D27: {=IFERROR(VLOOKUP($A27,Filtro09!A9:G182,2,FALSE),0)} -> 41566 | E27: {=IFERROR(VLOOKUP($A27,Filtro09!A19:G192,3,FALSE),0)} -> 0 | F27: {=IFERROR(VLOOKUP($A27,Filtro09!A9:G182,4,FALSE),0)} -> 41566 | G27: {=IFERROR(VLOOKUP($A27,Filtro09!A19:G192,5,FALSE),0)} -> 80732
A28: 80302024 | B28: 302024 | C28: Clearance de creatinina (proc.aut.) | D28: {=IFERROR(VLOOKUP($A28,Filtro09!A10:G183,2,FALSE),0)} -> 1977 | E28: {=IFERROR(VLOOKUP($A28,Filtro09!A20:G193,3,FALSE),0)} -> 0 | F28: {=IFERROR(VLOOKUP($A28,Filtro09!A10:G183,4,FALSE),0)} -> 1977 | G28: {=IFERROR(VLOOKUP($A28,Filtro09!A20:G193,5,FALSE),0)} -> 2891
A29: 80302032 | B29: 302032 | C29: Electrolitos plasmáticos (sodio, potasio, cloro) c/u | D29: {=IFERROR(VLOOKUP($A29,Filtro09!A11:G184,2,FALSE),0)} -> 68767 | E29: {=IFERROR(VLOOKUP($A29,Filtro09!A21:G194,3,FALSE),0)} -> 0 | F29: {=IFERROR(VLOOKUP($A29,Filtro09!A11:G184,4,FALSE),0)} -> 68767 | G29: {=IFERROR(VLOOKUP($A29,Filtro09!A21:G194,5,FALSE),0)} -> 79789
A30: 80302034 | B30: 302034 | C30: Perfil lipídico (incluye mediciones de colesterol total, HDL-colesterol y triglicéridos con estimaciones por fórmula de LDL-colesterol, VLDL-colesterol y colesterol no-HDL) | D30: {=IFERROR(VLOOKUP($A30,Filtro09!A12:G185,2,FALSE),0)} -> 43651 | E30: {=IFERROR(VLOOKUP($A30,Filtro09!A22:G195,3,FALSE),0)} -> 0 | F30: {=IFERROR(VLOOKUP($A30,Filtro09!A12:G185,4,FALSE),0)} -> 43651 | G30: {=IFERROR(VLOOKUP($A30,Filtro09!A22:G195,5,FALSE),0)} -> 61156
A31: 80302035 | B31: 302035 | C31: Fármacos y/o drogas; niveles plasmáticos de (alcohol, anorexígenos, antiarrítmicos, antibióticos, antidepresivos, antiepilépticos, antihistamínicos, antiinflamatorios y analgésicos, estimulantes respiratorios, tranquilizantes mayores y menores, etc.) c/u | D31: {=IFERROR(VLOOKUP($A31,Filtro09!A13:G186,2,FALSE),0)} -> 90 | E31: {=IFERROR(VLOOKUP($A31,Filtro09!A23:G196,3,FALSE),0)} -> 0 | F31: {=IFERROR(VLOOKUP($A31,Filtro09!A13:G186,4,FALSE),0)} -> 90 | G31: {=IFERROR(VLOOKUP($A31,Filtro09!A23:G196,5,FALSE),0)} -> 300
A32: 80302040 | B32: 302040 | C32: Fosfatasas alcalinas totales | D32: {=IFERROR(VLOOKUP($A32,Filtro09!A14:G187,2,FALSE),0)} -> 267 | E32: {=IFERROR(VLOOKUP($A32,Filtro09!A24:G197,3,FALSE),0)} -> 0 | F32: {=IFERROR(VLOOKUP($A32,Filtro09!A14:G187,4,FALSE),0)} -> 267 | G32: {=IFERROR(VLOOKUP($A32,Filtro09!A24:G197,5,FALSE),0)} -> 5925
A33: 80302047 | B33: 302047 | C33: Glucosa en sangre | D33: {=IFERROR(VLOOKUP($A33,Filtro09!A15:G188,2,FALSE),0)} -> 49046 | E33: {=IFERROR(VLOOKUP($A33,Filtro09!A25:G198,3,FALSE),0)} -> 0 | F33: {=IFERROR(VLOOKUP($A33,Filtro09!A15:G188,4,FALSE),0)} -> 49046 | G33: {=IFERROR(VLOOKUP($A33,Filtro09!A25:G198,5,FALSE),0)} -> 95841
A34: 80302048 | B34: 302048 | C34: Glucosa, Prueba de Tolerancia a la Glucosa Oral (PTGO), (dos determinaciones) | D34: {=IFERROR(VLOOKUP($A34,Filtro09!A16:G189,2,FALSE),0)} -> 3074 | E34: {=IFERROR(VLOOKUP($A34,Filtro09!A26:G199,3,FALSE),0)} -> 0 | F34: {=IFERROR(VLOOKUP($A34,Filtro09!A16:G189,4,FALSE),0)} -> 3074 | G34: {=IFERROR(VLOOKUP($A34,Filtro09!A26:G199,5,FALSE),0)} -> 6689
... A42: 82201013 | B42: 302101 | C42: Albúminas en sangre | D42: {=IFERROR(VLOOKUP($A42,Filtro09!A24:G197,2,FALSE),0)} -> 762 | E42: {=IFERROR(VLOOKUP($A42,Filtro09!A34:G207,3,FALSE),0)} -> 0 | F42: {=IFERROR(VLOOKUP($A42,Filtro09!A24:G197,4,FALSE),0)} -> 762 | G42: {=IFERROR(VLOOKUP($A42,Filtro09!A34:G207,5,FALSE),0)} -> 2606
B43: TOTAL | D43: =SUM(D23:D42) -> 299499 | E43: =SUM(E23:E42) -> 0 | F43: =SUM(F23:F42) -> 299499 | G43: =SUM(G23:G42) -> 559881
B45: EXÁMENES HORMONALES
A46: 80303024 | B46: 303024 | C46: Tiroestimulante (TSH), hormona (adulto, niño o R.N.) | D46: {=IFERROR(VLOOKUP($A46,Filtro09!A5:G178,2,FALSE),0)} -> 35022 | E46: {=IFERROR(VLOOKUP($A46,Filtro09!A38:G211,3,FALSE),0)} -> 0 | F46: {=IFERROR(VLOOKUP($A46,Filtro09!A5:G178,4,FALSE),0)} -> 35022 | G46: {=IFERROR(VLOOKUP($A46,Filtro09!A5:G178,5,FALSE),0)} -> 68646
A47: 80303026 | B47: 303026 | C47: Tiroxina libre (T4L) | D47: {=IFERROR(VLOOKUP($A47,Filtro09!A6:G179,2,FALSE),0)} -> 25232 | E47: {=IFERROR(VLOOKUP($A47,Filtro09!A39:G212,3,FALSE),0)} -> 0 | F47: {=IFERROR(VLOOKUP($A47,Filtro09!A6:G179,4,FALSE),0)} -> 25232 | G47: {=IFERROR(VLOOKUP($A47,Filtro09!A6:G179,5,FALSE),0)} -> 23758
A48: 80303027 | B48: 303027 | C48: Tiroxina o tetrayodotironina (T4) | D48: {=IFERROR(VLOOKUP($A48,Filtro09!A7:G180,2,FALSE),0)} -> 4 | E48: {=IFERROR(VLOOKUP($A48,Filtro09!A40:G213,3,FALSE),0)} -> 0 | F48: {=IFERROR(VLOOKUP($A48,Filtro09!A7:G180,4,FALSE),0)} -> 4 | G48: {=IFERROR(VLOOKUP($A48,Filtro09!A7:G180,5,FALSE),0)} -> 64
B49: TOTAL | D49: =SUM(D46:D48) -> 60258 | E49: =SUM(E46:E48) -> 0 | F49: =SUM(F46:F48) -> 60258 | G49: =SUM(G46:G48) -> 92468
B51: INMUNOLÓGICOS
A52: 80305019 | B52: 305019 | C52: Factor reumatoídeo por técnica de látex u otras similares | D52: {=IFERROR(VLOOKUP($A52,Filtro09!A5:G178,2,FALSE),0)} -> 1190 | E52: {=IFERROR(VLOOKUP($A52,Filtro09!A44:G217,3,FALSE),0)} -> 0 | F52: {=IFERROR(VLOOKUP($A52,Filtro09!A5:G178,4,FALSE),0)} -> 1190 | G52: {=IFERROR(VLOOKUP($A52,Filtro09!A5:G178,5,FALSE),0)} -> 1965
A53: 80305020 | B53: 305020 | C53: Factor reumatoídeo por técnica Scat, Waaler Rose, nefelométricas y/o turbidimétricas | D53: {=IFERROR(VLOOKUP($A53,Filtro09!A6:G179,2,FALSE),0)} -> 9 | E53: {=IFERROR(VLOOKUP($A53,Filtro09!A45:G218,3,FALSE),0)} -> 0 | F53: {=IFERROR(VLOOKUP($A53,Filtro09!A6:G179,4,FALSE),0)} -> 9 | G53: {=IFERROR(VLOOKUP($A53,Filtro09!A6:G179,5,FALSE),0)} -> 199
...

Sheet Filtro09
A1: Mes | B1: (Todas)
A2: comuna | B2: (Todas)
A3: establecimiento | B3: (Todas)
A5: Etiquetas de fila | B5: Suma de Col01 | C5: Suma de Col02 | D5: Suma de Col03 | E5: Suma de Col04 | F5: Suma de Col05 | G5: Suma de Col06
A6: 18010100 | B6: 74282 | C6: 0 | D6: 74282
A7: 18010200 | B7: 299499 | C7: 0 | D7: 299499
A8: 18010500 | B8: 1199 | C8: 0 | D8: 1199
A9: 18010601 | B9: 19092 | C9: 148 | D9: 18944
A10: 18010800 | B10: 317 | C10: 0 | D10: 317
A11: 18010900 | B11: 110223 | C11: 17035 | D11: 93188
A12: 18011001 | B12: 28373 | C12: 26018 | D12: 2355
A13: 18020200 | B13: 160 | C13: 129 | D13: 31
A14: 18020300 | B14: 19982 | C14: 14347 | D14: 5635
A15: 18020400 | B15: 36 | C15: 23 | D15: 13
A16: 18020500 | B16: 110408 | C16: 31846 | D16: 78562
A17: 18020600 | B17: 423 | C17: 281 | D17: 142
A18: 18020700 | B18: 3405 | C18: 1629 | D18: 1776
A19: 18020800 | B19: 3092 | C19: 3092
A20: 18020900 | B20: 26763 | C20: 59 | D20: 26704
A21: 18030000 | B21: 3263 | C21: 2462 | D21: 801
A22: 18090100 | B22: 60258 | C22: 0 | D22: 60258
A23: 18090200 | B23: 6829 | C23: 1166
A24: 18090300 | B24: 2 | C24: 0
A25: 18090400 | B25: 1 | C25: 0
A26: 18400700 | B26: 434137
A27: 18700240 | B27: 17 | D27: 17
A28: 18700250 | B28: 831 | D28: 831
A29: 18700260 | B29: 38 | D29: 38
A30: 18700270 | B30: 1519 | D30: 1519
A31: 18700280 | B31: 12 | D31: 12
A32: 18700290 | B32: 814 | D32: 814
A33: 18700300 | B33: 25 | D33: 25
A34: 18700310 | B34: 990 | D34: 990
A35: 18700320 | B35: 11 | D35: 11
A36: 18700330 | B36: 337 | D36: 337
A37: 18700340 | B37: 52 | D37: 52
A38: 18700360 | B38: 820741 | C38: 320662 | D38: 500079
A39: 18700370 | B39: 3886 | C39: 0 | D39: 3886
A40: 80106002 | B40: 79160 | C40: 16954 | D40: 62206 | E40: 0
A41: 80106006 | B41: 306 | C41: 158 | D41: 148 | E41: 2
...
