Workbook
Name FAMILIA_CON_NIÑO_NANEAS: #REF!
Name SegmentaciónDeDatos_Consultas_Pertinentes: #N/A
Name SegmentaciónDeDatos_Hospital: #N/A

Sheet Resumen
A1: MINISTERIO DE SALUD
A2: SERVICIO DE SALUD COQUIMBO
A3: DEPARTAMENTO DE GESTIÓN, PLANIFICACIÓN Y CONTROL
A4: SUBDEPTO. DE ESTADÍSTICAS Y GESTIÓN DE LA INFORMACIÓN
A5: AÑO 2022

Sheet Servicio de Salud
B2: CONSULTAS, INGRESOS Y EGRESOS EN ESPECIALIDADES ODONTOLÓGICAS REALIZADOS EN NIVEL PRIMARIO Y SECUNDARIO DE SALUD.
B4: ESPECIALIDAD Y TIPO DE INGRESO O EGRESO | E4: TOTAL | F4: CONSULTAS PERTINENTES | H4: CONSULTAS PERTINENTES
H5: Según Protocolo de Referencia | J5: Según Condición Clínica
F6: Cantidad | G6: Porcentaje | H6: Cantidad | I6: Porcentaje | J6: Cantidad | K6: Porcentaje
B7: CIRUGÍA BUCAL | C7: CONSULTA NUEVA | E7: ='Hospital La Serena'!F7+'Hospital Coquimbo'!E7+'Hospital Ovalle'!E7+'Hospital Illapel'!E7 -> 591 | F7: =H7+J7 -> 1157 | G7: =F7/E7 -> 1.9576988 | H7: ='Hospital La Serena'!I7+'Hospital Coquimbo'!H7+'Hospital Ovalle'!H7+'Hospital Illapel'!H7 -> 582 | I7: =H7/E7 -> 0.98477157 | J7: ='Hospital La Serena'!K7+'Hospital Coquimbo'!J7+'Hospital Ovalle'!J7+'Hospital Illapel'!J7 -> 575 | K7: =J7/E7 -> 0.97292724 | BB7: =IF(BI7=1,"* El número de pacientes de 60 años NO DEBE Ser mayor a lo registrado en el grupo Etario 20-64 años. ","") -> #REF! | BC7: =IF(BJ7=1,"* La consulta pertinente según Protocolo de Referencia NO DEBE ser mayor al Total registrado. ","") -> #REF! | BD7: =IF(BK7=1,"* La consulta pertinente según condición clínica NO DEBE ser mayor al Total registrado. ","") -> #REF! | BE7: =IF(AND(E7<>0,#REF!=""),"* Recuerde que las Embarazadas deben ser incluídas en el ingreso por rango Etario (Digite CEROS si no tiene). ",IF(#REF!<#REF!,"* Las Embarazadas NO DEBEN ser mayor al total de Mujeres. ","")) -> #REF! | BF7: =IF(AND($E7<>0,#REF!=""),"* No olvide digitar la columna Usuarios en Situación de Discapacidad (Digite CEROS si no tiene). ",IF($E7<#REF!,"* Los Usuarios en Situación de Discapacidad NO DEBEN ser mayor al total. ","")) -> #REF! | BG7: =IF(AND($E7<>0,#REF!=""),"* No olvide digitar la columna Niños, Niñas, Adolescentes y Jóvenes Población SENAME (Digite CEROS si no tiene). ",IF($E7<#REF!,"* Los Niños, Niñas, Adolescentes y Jóvenes Población SENAME NO DEBEN ser mayor al total. ","")) -> #REF! | BH7: =IF(AND($E7<>0,#REF!=""),"* No olvide digitar la columna Migrantes (Digite CEROS si no tiene). ",IF($E7<#REF!,"* Los Migrantes NO DEBEN ser mayor al total. ","")) -> #REF! | BI7: =IF((#REF!+#REF!)<#REF!,1,0) -> #REF! | BJ7: =IF(E7<#REF!,1,0) -> #REF! | BK7: =IF(#REF!<#REF!,1,0) -> #REF! | BL7: =IF(AND(E7<>0,#REF!=""),1,IF(#REF!<#REF!,1,0)) -> #REF! | BM7: =IF(AND($E7<>0,#REF!=""),1,IF($E7<#REF!,1,0)) -> #REF! | BN7: =IF(AND($E7<>0,#REF!=""),1,IF($E7<#REF!,1,0)) -> #REF! | BO7: =IF(AND($E7<>0,#REF!=""),1,IF($E7<#REF!,1,0)) -> #REF!
C8: CONTROL | E8: ='Hospital La Serena'!F8+'Hospital Coquimbo'!E8+'Hospital Ovalle'!E8+'Hospital Illapel'!E8 -> 1540 | F8: =H8+J8 -> 0 | G8: =F8/E8 -> 0 | H8: ='Hospital La Serena'!I8+'Hospital Coquimbo'!H8+'Hospital Ovalle'!H8+'Hospital Illapel'!H8 -> 0 | I8: =H8/E8 -> 0 | J8: ='Hospital La Serena'!K8+'Hospital Coquimbo'!J8+'Hospital Ovalle'!J8+'Hospital Illapel'!J8 -> 0 | K8: =J8/E8 -> 0 | BB8: =IF(BI8=1,"* El número de pacientes de 60 años NO DEBE Ser mayor a lo registrado en el grupo Etario 20-64 años. ","") -> #REF! | BC8: =IF(BJ8=1,"* La consulta pertinente según Protocolo de Referencia NO DEBE ser mayor al Total registrado. ","") -> #REF! | BD8: =IF(BK8=1,"* La consulta pertinente según condición clínica NO DEBE ser mayor al Total registrado. ","") -> #REF! | BE8: =IF(AND(E8<>0,#REF!=""),"* Recuerde que las Embarazadas deben ser incluídas en el ingreso por rango Etario (Digite CEROS si no tiene). ",IF(#REF!<#REF!,"* Las Embarazadas NO DEBEN ser mayor al total de Mujeres. ","")) -> #REF! | BF8: =IF(AND($E8<>0,#REF!=""),"* No olvide digitar la columna Usuarios en Situación de Discapacidad (Digite CEROS si no tiene). ",IF($E8<#REF!,"* Los Usuarios en Situación de Discapacidad NO DEBEN ser mayor al total. ","")) -> #REF! | BG8: =IF(AND($E8<>0,#REF!=""),"* No olvide digitar la columna Niños, Niñas, Adolescentes y Jóvenes Población SENAME (Digite CEROS si no tiene). ",IF($E8<#REF!,"* Los Niños, Niñas, Adolescentes y Jóvenes Población SENAME NO DEBEN ser mayor al total. ","")) -> #REF! | BH8: =IF(AND($E8<>0,#REF!=""),"* No olvide digitar la columna Migrantes (Digite CEROS si no tiene). ",IF($E8<#REF!,"* Los Migrantes NO DEBEN ser mayor al total. ","")) -> #REF! | BI8: =IF((#REF!+#REF!)<#REF!,1,0) -> #REF! | BJ8: =IF(E8<#REF!,1,0) -> #REF! | BK8: =IF(#REF!<#REF!,1,0) -> #REF! | BL8: =IF(AND(E8<>0,#REF!=""),1,IF(#REF!<#REF!,1,0)) -> #REF! | BM8: =IF(AND($E8<>0,#REF!=""),1,IF($E8<#REF!,1,0)) -> #REF! | BN8: =IF(AND($E8<>0,#REF!=""),1,IF($E8<#REF!,1,0)) -> #REF! | BO8: =IF(AND($E8<>0,#REF!=""),1,IF($E8<#REF!,1,0)) -> #REF!
B9: CIRUGÍA Y TRAUMATOLOGÍA MAXILOFACIAL | C9: CONSULTA NUEVA | E9: ='Hospital La Serena'!F9+'Hospital Coquimbo'!E9+'Hospital Ovalle'!E9+'Hospital Illapel'!E9 -> 2651 | F9: =H9+J9 -> 3535 | G9: =F9/E9 -> 1.3334591 | H9: ='Hospital La Serena'!I9+'Hospital Coquimbo'!H9+'Hospital Ovalle'!H9+'Hospital Illapel'!H9 -> 2221 | I9: =H9/E9 -> 0.83779706 | J9: ='Hospital La Serena'!K9+'Hospital Coquimbo'!J9+'Hospital Ovalle'!J9+'Hospital Illapel'!J9 -> 1314 | K9: =J9/E9 -> 0.49566201 | BB9: =IF(BI9=1,"* El número de pacientes de 60 años NO DEBE Ser mayor a lo registrado en el grupo Etario 20-64 años. ","") -> #REF! | BC9: =IF(BJ9=1,"* La consulta pertinente según Protocolo de Referencia NO DEBE ser mayor al Total registrado. ","") -> #REF! | BD9: =IF(BK9=1,"* La consulta pertinente según condición clínica NO DEBE ser mayor al Total registrado. ","") -> #REF! | BE9: =IF(AND(E9<>0,#REF!=""),"* Recuerde que las Embarazadas deben ser incluídas en el ingreso por rango Etario (Digite CEROS si no tiene). ",IF(#REF!<#REF!,"* Las Embarazadas NO DEBEN ser mayor al total de Mujeres. ","")) -> #REF! | BF9: =IF(AND($E9<>0,#REF!=""),"* No olvide digitar la columna Usuarios en Situación de Discapacidad (Digite CEROS si no tiene). ",IF($E9<#REF!,"* Los Usuarios en Situación de Discapacidad NO DEBEN ser mayor al total. ","")) -> #REF! | BG9: =IF(AND($E9<>0,#REF!=""),"* No olvide digitar la columna Niños, Niñas, Adolescentes y Jóvenes Población SENAME (Digite CEROS si no tiene). ",IF($E9<#REF!,"* Los Niños, Niñas, Adolescentes y Jóvenes Población SENAME NO DEBEN ser mayor al total. ","")) -> #REF! | BH9: =IF(AND($E9<>0,#REF!=""),"* No olvide digitar la columna Migrantes (Digite CEROS si no tiene). ",IF($E9<#REF!,"* Los Migrantes NO DEBEN ser mayor al total. ","")) -> #REF! | BI9: =IF((#REF!+#REF!)<#REF!,1,0) -> #REF! | BJ9: =IF(E9<#REF!,1,0) -> #REF! | BK9: =IF(#REF!<#REF!,1,0) -> #REF! | BL9: =IF(AND(E9<>0,#REF!=""),1,IF(#REF!<#REF!,1,0)) -> #REF! | BM9: =IF(AND($E9<>0,#REF!=""),1,IF($E9<#REF!,1,0)) -> #REF! | BN9: =IF(AND($E9<>0,#REF!=""),1,IF($E9<#REF!,1,0)) -> #REF! | BO9: =IF(AND($E9<>0,#REF!=""),1,IF($E9<#REF!,1,0)) -> #REF!
C10: CONTROL | E10: ='Hospital La Serena'!F10+'Hospital Coquimbo'!E10+'Hospital Ovalle'!E10+'Hospital Illapel'!E10 -> 6029 | F10: =H10+J10 -> 0 | G10: =F10/E10 -> 0 | H10: ='Hospital La Serena'!I10+'Hospital Coquimbo'!H10+'Hospital Ovalle'!H10+'Hospital Illapel'!H10 -> 0 | I10: =H10/E10 -> 0 | J10: ='Hospital La Serena'!K10+'Hospital Coquimbo'!J10+'Hospital Ovalle'!J10+'Hospital Illapel'!J10 -> 0 | K10: =J10/E10 -> 0 | BB10: =IF(BI10=1,"* El número de pacientes de 60 años NO DEBE Ser mayor a lo registrado en el grupo Etario 20-64 años. ","") -> #REF! | BC10: =IF(BJ10=1,"* La consulta pertinente según Protocolo de Referencia NO DEBE ser mayor al Total registrado. ","") -> #REF! | BD10: =IF(BK10=1,"* La consulta pertinente según condición clínica NO DEBE ser mayor al Total registrado. ","") -> #REF! | BE10: =IF(AND(E10<>0,#REF!=""),"* Recuerde que las Embarazadas deben ser incluídas en el ingreso por rango Etario (Digite CEROS si no tiene). ",IF(#REF!<#REF!,"* Las Embarazadas NO DEBEN ser mayor al total de Mujeres. ","")) -> #REF! | BF10: =IF(AND($E10<>0,#REF!=""),"* No olvide digitar la columna Usuarios en Situación de Discapacidad (Digite CEROS si no tiene). ",IF($E10<#REF!,"* Los Usuarios en Situación de Discapacidad NO DEBEN ser mayor al total. ","")) -> #REF! | BG10: =IF(AND($E10<>0,#REF!=""),"* No olvide digitar la columna Niños, Niñas, Adolescentes y Jóvenes Población SENAME (Digite CEROS si no tiene). ",IF($E10<#REF!,"* Los Niños, Niñas, Adolescentes y Jóvenes Población SENAME NO DEBEN ser mayor al total. ","")) -> #REF! | BH10: =IF(AND($E10<>0,#REF!=""),"* No olvide digitar la columna Migrantes (Digite CEROS si no tiene). ",IF($E10<#REF!,"* Los Migrantes NO DEBEN ser mayor al total. ","")) -> #REF! | BI10: =IF((#REF!+#REF!)<#REF!,1,0) -> #REF! | BJ10: =IF(E10<#REF!,1,0) -> #REF! | BK10: =IF(#REF!<#REF!,1,0) -> #REF! | BL10: =IF(AND(E10<>0,#REF!=""),1,IF(#REF!<#REF!,1,0)) -> #REF! | BM10: =IF(AND($E10<>0,#REF!=""),1,IF($E10<#REF!,1,0)) -> #REF! | BN10: =IF(AND($E10<>0,#REF!=""),1,IF($E10<#REF!,1,0)) -> #REF! | BO10: =IF(AND($E10<>0,#REF!=""),1,IF($E10<#REF!,1,0)) -> #REF!
B11: ENDODONCIA | C11: CONSULTA NUEVA | E11: ='Hospital La Serena'!F11+'Hospital Coquimbo'!E11+'Hospital Ovalle'!E11+'Hospital Illapel'!E11 -> 3810 | F11: =H11+J11 -> 5617 | G11: =F11/E11 -> 1.4742782 | H11: ='Hospital La Serena'!I11+'Hospital Coquimbo'!H11+'Hospital Ovalle'!H11+'Hospital Illapel'!H11 -> 3459 | I11: =H11/E11 -> 0.90787402 | J11: ='Hospital La Serena'!K11+'Hospital Coquimbo'!J11+'Hospital Ovalle'!J11+'Hospital Illapel'!J11 -> 2158 | K11: =J11/E11 -> 0.5664042 | BB11: =IF(BI11=1,"* El número de pacientes de 60 años NO DEBE Ser mayor a lo registrado en el grupo Etario 20-64 años. ","") -> #REF! | BC11: =IF(BJ11=1,"* La consulta pertinente según Protocolo de Referencia NO DEBE ser mayor al Total registrado. ","") -> #REF! | BD11: =IF(BK11=1,"* La consulta pertinente según condición clínica NO DEBE ser mayor al Total registrado. ","") -> #REF! | BE11: =IF(AND(E11<>0,#REF!=""),"* Recuerde que las Embarazadas deben ser incluídas en el ingreso por rango Etario (Digite CEROS si no tiene). ",IF(#REF!<#REF!,"* Las Embarazadas NO DEBEN ser mayor al total de Mujeres. ","")) -> #REF! | BF11: =IF(AND($E11<>0,#REF!=""),"* No olvide digitar la columna Usuarios en Situación de Discapacidad (Digite CEROS si no tiene). ",IF($E11<#REF!,"* Los Usuarios en Situación de Discapacidad NO DEBEN ser mayor al total. ","")) -> #REF! | BG11: =IF(AND($E11<>0,#REF!=""),"* No olvide digitar la columna Niños, Niñas, Adolescentes y Jóvenes Población SENAME (Digite CEROS si no tiene). ",IF($E11<#REF!,"* Los Niños, Niñas, Adolescentes y Jóvenes Población SENAME NO DEBEN ser mayor al total. ","")) -> #REF! | BH11: =IF(AND($E11<>0,#REF!=""),"* No olvide digitar la columna Migrantes (Digite CEROS si no tiene). ",IF($E11<#REF!,"* Los Migrantes NO DEBEN ser mayor al total. ","")) -> #REF! | BI11: =IF((#REF!+#REF!)<#REF!,1,0) -> #REF! | BJ11: =IF(E11<#REF!,1,0) -> #REF! | BK11: =IF(#REF!<#REF!,1,0) -> #REF! | BL11: =IF(AND(E11<>0,#REF!=""),1,IF(#REF!<#REF!,1,0)) -> #REF! | BM11: =IF(AND($E11<>0,#REF!=""),1,IF($E11<#REF!,1,0)) -> #REF! | BN11: =IF(AND($E11<>0,#REF!=""),1,IF($E11<#REF!,1,0)) -> #REF! | BO11: =IF(AND($E11<>0,#REF!=""),1,IF($E11<#REF!,1,0)) -> #REF!
C12: CONTROL | E12: ='Hospital La Serena'!F12+'Hospital Coquimbo'!E12+'Hospital Ovalle'!E12+'Hospital Illapel'!E12 -> 7244 | F12: =H12+J12 -> 0 | G12: =F12/E12 -> 0 | H12: ='Hospital La Serena'!I12+'Hospital Coquimbo'!H12+'Hospital Ovalle'!H12+'Hospital Illapel'!H12 -> 0 | I12: =H12/E12 -> 0 | J12: ='Hospital La Serena'!K12+'Hospital Coquimbo'!J12+'Hospital Ovalle'!J12+'Hospital Illapel'!J12 -> 0 | K12: =J12/E12 -> 0 | BB12: =IF(BI12=1,"* El número de pacientes de 60 años NO DEBE Ser mayor a lo registrado en el grupo Etario 20-64 años. ","") -> #REF! | BC12: =IF(BJ12=1,"* La consulta pertinente según Protocolo de Referencia NO DEBE ser mayor al Total registrado. ","") -> #REF! | BD12: =IF(BK12=1,"* La consulta pertinente según condición clínica NO DEBE ser mayor al Total registrado. ","") -> #REF! | BE12: =IF(AND(E12<>0,#REF!=""),"* Recuerde que las Embarazadas deben ser incluídas en el ingreso por rango Etario (Digite CEROS si no tiene). ",IF(#REF!<#REF!,"* Las Embarazadas NO DEBEN ser mayor al total de Mujeres. ","")) -> #REF! | BF12: =IF(AND($E12<>0,#REF!=""),"* No olvide digitar la columna Usuarios en Situación de Discapacidad (Digite CEROS si no tiene). ",IF($E12<#REF!,"* Los Usuarios en Situación de Discapacidad NO DEBEN ser mayor al total. ","")) -> #REF! | BG12: =IF(AND($E12<>0,#REF!=""),"* No olvide digitar la columna Niños, Niñas, Adolescentes y Jóvenes Población SENAME (Digite CEROS si no tiene). ",IF($E12<#REF!,"* Los Niños, Niñas, Adolescentes y Jóvenes Población SENAME NO DEBEN ser mayor al total. ","")) -> #REF! | BH12: =IF(AND($E12<>0,#REF!=""),"* No olvide digitar la columna Migrantes (Digite CEROS si no tiene). ",IF($E12<#REF!,"* Los Migrantes NO DEBEN ser mayor al total. ","")) -> #REF! | BI12: =IF((#REF!+#REF!)<#REF!,1,0) -> #REF! | BJ12: =IF(E12<#REF!,1,0) -> #REF! | BK12: =IF(#REF!<#REF!,1,0) -> #REF! | BL12: =IF(AND(E12<>0,#REF!=""),1,IF(#REF!<#REF!,1,0)) -> #REF! | BM12: =IF(AND($E12<>0,#REF!=""),1,IF($E12<#REF!,1,0)) -> #REF! | BN12: =IF(AND($E12<>0,#REF!=""),1,IF($E12<#REF!,1,0)) -> #REF! | BO12: =IF(AND($E12<>0,#REF!=""),1,IF($E12<#REF!,1,0)) -> #REF!
B13: ODONTOPEDIATRÍA | C13: CONSULTA NUEVA | E13: ='Hospital La Serena'!F13+'Hospital Coquimbo'!E13+'Hospital Ovalle'!E13+'Hospital Illapel'!E13 -> 1312 | F13: =H13+J13 -> 1949 | G13: =F13/E13 -> 1.4855183 | H13: ='Hospital La Serena'!I13+'Hospital Coquimbo'!H13+'Hospital Ovalle'!H13+'Hospital Illapel'!H13 -> 1103 | I13: =H13/E13 -> 0.84070122 | J13: ='Hospital La Serena'!K13+'Hospital Coquimbo'!J13+'Hospital Ovalle'!J13+'Hospital Illapel'!J13 -> 846 | K13: =J13/E13 -> 0.64481707 | BC13: =IF(BJ13=1,"* La consulta pertinente según Protocolo de Referencia NO DEBE ser mayor al Total registrado. ","") -> #REF! | BD13: =IF(BK13=1,"* La consulta pertinente según condición clínica NO DEBE ser mayor al Total registrado. ","") -> #REF! | BE13: =IF(AND(E13<>0,#REF!=""),"* Recuerde que las Embarazadas deben ser incluídas en el ingreso por rango Etario (Digite CEROS si no tiene). ",IF(#REF!<#REF!,"* Las Embarazadas NO DEBEN ser mayor al total de Mujeres. ","")) -> #REF! | BF13: =IF(AND($E13<>0,#REF!=""),"* No olvide digitar la columna Usuarios en Situación de Discapacidad (Digite CEROS si no tiene). ",IF($E13<#REF!,"* Los Usuarios en Situación de Discapacidad NO DEBEN ser mayor al total. ","")) -> #REF! | BG13: =IF(AND($E13<>0,#REF!=""),"* No olvide digitar la columna Niños, Niñas, Adolescentes y Jóvenes Población SENAME (Digite CEROS si no tiene). ",IF($E13<#REF!,"* Los Niños, Niñas, Adolescentes y Jóvenes Población SENAME NO DEBEN ser mayor al total. ","")) -> #REF! | BH13: =IF(AND($E13<>0,#REF!=""),"* No olvide digitar la columna Migrantes (Digite CEROS si no tiene). ",IF($E13<#REF!,"* Los Migrantes NO DEBEN ser mayor al total. ","")) -> #REF! | BJ13: =IF(E13<#REF!,1,0) -> #REF! | BK13: =IF(#REF!<#REF!,1,0) -> #REF! | BL13: =IF(AND(E13<>0,#REF!=""),1,IF(#REF!<#REF!,1,0)) -> #REF! | BM13: =IF(AND($E13<>0,#REF!=""),1,IF($E13<#REF!,1,0)) -> #REF! | BN13: =IF(AND($E13<>0,#REF!=""),1,IF($E13<#REF!,1,0)) -> #REF! | BO13: =IF(AND($E13<>0,#REF!=""),1,IF($E13<#REF!,1,0)) -> #REF!
C14: CONTROL | E14: ='Hospital La Serena'!F14+'Hospital Coquimbo'!E14+'Hospital Ovalle'!E14+'Hospital Illapel'!E14 -> 6702 | F14: =H14+J14 -> 0 | G14: =F14/E14 -> 0 | H14: ='Hospital La Serena'!I14+'Hospital Coquimbo'!H14+'Hospital Ovalle'!H14+'Hospital Illapel'!H14 -> 0 | I14: =H14/E14 -> 0 | J14: ='Hospital La Serena'!K14+'Hospital Coquimbo'!J14+'Hospital Ovalle'!J14+'Hospital Illapel'!J14 -> 0 | K14: =J14/E14 -> 0 | BC14: =IF(BJ14=1,"* La consulta pertinente según Protocolo de Referencia NO DEBE ser mayor al Total registrado. ","") -> #REF! | BD14: =IF(BK14=1,"* La consulta pertinente según condición clínica NO DEBE ser mayor al Total registrado. ","") -> #REF! | BE14: =IF(AND(E14<>0,#REF!=""),"* Recuerde que las Embarazadas deben ser incluídas en el ingreso por rango Etario (Digite CEROS si no tiene). ",IF(#REF!<#REF!,"* Las Embarazadas NO DEBEN ser mayor al total de Mujeres. ","")) -> #REF! | BF14: =IF(AND($E14<>0,#REF!=""),"* No olvide digitar la columna Usuarios en Situación de Discapacidad (Digite CEROS si no tiene). ",IF($E14<#REF!,"* Los Usuarios en Situación de Discapacidad NO DEBEN ser mayor al total. ","")) -> #REF! | BG14: =IF(AND($E14<>0,#REF!=""),"* No olvide digitar la columna Niños, Niñas, Adolescentes y Jóvenes Población SENAME (Digite CEROS si no tiene). ",IF($E14<#REF!,"* Los Niños, Niñas, Adolescentes y Jóvenes Población SENAME NO DEBEN ser mayor al total. ","")) -> #REF! | BH14: =IF(AND($E14<>0,#REF!=""),"* No olvide digitar la columna Migrantes (Digite CEROS si no tiene). ",IF($E14<#REF!,"* Los Migrantes NO DEBEN ser mayor al total. ","")) -> #REF! | BJ14: =IF(E14<#REF!,1,0) -> #REF! | BK14: =IF(#REF!<#REF!,1,0) -> #REF! | BL14: =IF(AND(E14<>0,#REF!=""),1,IF(#REF!<#REF!,1,0)) -> #REF! | BM14: =IF(AND($E14<>0,#REF!=""),1,IF($E14<#REF!,1,0)) -> #REF! | BN14: =IF(AND($E14<>0,#REF!=""),1,IF($E14<#REF!,1,0)) -> #REF! | BO14: =IF(AND($E14<>0,#REF!=""),1,IF($E14<#REF!,1,0)) -> #REF!
B15: OPERATORIA | C15: CONSULTA NUEVA | E15: ='Hospital La Serena'!F15+'Hospital Coquimbo'!E15+'Hospital Ovalle'!E15+'Hospital Illapel'!E15 -> 208 | F15: =H15+J15 -> 335 | G15: =F15/E15 -> 1.6105769 | H15: ='Hospital La Serena'!I15+'Hospital Coquimbo'!H15+'Hospital Ovalle'!H15+'Hospital Illapel'!H15 -> 133 | I15: =H15/E15 -> 0.63942308 | J15: ='Hospital La Serena'!K15+'Hospital Coquimbo'!J15+'Hospital Ovalle'!J15+'Hospital Illapel'!J15 -> 202 | K15: =J15/E15 -> 0.97115385 | BB15: =IF(BI15=1,"* El número de pacientes de 60 años NO DEBE Ser mayor a lo registrado en el grupo Etario 20-64 años. ","") -> #REF! | BC15: =IF(BJ15=1,"* La consulta pertinente según Protocolo de Referencia NO DEBE ser mayor al Total registrado. ","") -> #REF! | BD15: =IF(BK15=1,"* La consulta pertinente según condición clínica NO DEBE ser mayor al Total registrado. ","") -> #REF! | BE15: =IF(AND(E15<>0,#REF!=""),"* Recuerde que las Embarazadas deben ser incluídas en el ingreso por rango Etario (Digite CEROS si no tiene). ",IF(#REF!<#REF!,"* Las Embarazadas NO DEBEN ser mayor al total de Mujeres. ","")) -> #REF! | BF15: =IF(AND($E15<>0,#REF!=""),"* No olvide digitar la columna Usuarios en Situación de Discapacidad (Digite CEROS si no tiene). ",IF($E15<#REF!,"* Los Usuarios en Situación de Discapacidad NO DEBEN ser mayor al total. ","")) -> #REF! | BG15: =IF(AND($E15<>0,#REF!=""),"* No olvide digitar la columna Niños, Niñas, Adolescentes y Jóvenes Población SENAME (Digite CEROS si no tiene). ",IF($E15<#REF!,"* Los Niños, Niñas, Adolescentes y Jóvenes Población SENAME NO DEBEN ser mayor al total. ","")) -> #REF! | BH15: =IF(AND($E15<>0,#REF!=""),"* No olvide digitar la columna Migrantes (Digite CEROS si no tiene). ",IF($E15<#REF!,"* Los Migrantes NO DEBEN ser mayor al total. ","")) -> #REF! | BI15: =IF((#REF!+#REF!)<#REF!,1,0) -> #REF! | BJ15: =IF(E15<#REF!,1,0) -> #REF! | BK15: =IF(#REF!<#REF!,1,0) -> #REF! | BL15: =IF(AND(E15<>0,#REF!=""),1,IF(#REF!<#REF!,1,0)) -> #REF! | BM15: =IF(AND($E15<>0,#REF!=""),1,IF($E15<#REF!,1,0)) -> #REF! | BN15: =IF(AND($E15<>0,#REF!=""),1,IF($E15<#REF!,1,0)) -> #REF! | BO15: =IF(AND($E15<>0,#REF!=""),1,IF($E15<#REF!,1,0)) -> #REF!
C16: CONTROL | E16: ='Hospital La Serena'!F16+'Hospital Coquimbo'!E16+'Hospital Ovalle'!E16+'Hospital Illapel'!E16 -> 1082 | F16: =H16+J16 -> 0 | G16: =F16/E16 -> 0 | H16: ='Hospital La Serena'!I16+'Hospital Coquimbo'!H16+'Hospital Ovalle'!H16+'Hospital Illapel'!H16 -> 0 | I16: =H16/E16 -> 0 | J16: ='Hospital La Serena'!K16+'Hospital Coquimbo'!J16+'Hospital Ovalle'!J16+'Hospital Illapel'!J16 -> 0 | K16: =J16/E16 -> 0 | BB16: =IF(BI16=1,"* El número de pacientes de 60 años NO DEBE Ser mayor a lo registrado en el grupo Etario 20-64 años. ","") -> #REF! | BC16: =IF(BJ16=1,"* La consulta pertinente según Protocolo de Referencia NO DEBE ser mayor al Total registrado. ","") -> #REF! | BD16: =IF(BK16=1,"* La consulta pertinente según condición clínica NO DEBE ser mayor al Total registrado. ","") -> #REF! | BE16: =IF(AND(E16<>0,#REF!=""),"* Recuerde que las Embarazadas deben ser incluídas en el ingreso por rango Etario (Digite CEROS si no tiene). ",IF(#REF!<#REF!,"* Las Embarazadas NO DEBEN ser mayor al total de Mujeres. ","")) -> #REF! | BF16: =IF(AND($E16<>0,#REF!=""),"* No olvide digitar la columna Usuarios en Situación de Discapacidad (Digite CEROS si no tiene). ",IF($E16<#REF!,"* Los Usuarios en Situación de Discapacidad NO DEBEN ser mayor al total. ","")) -> #REF! | BG16: =IF(AND($E16<>0,#REF!=""),"* No olvide digitar la columna Niños, Niñas, Adolescentes y Jóvenes Población SENAME (Digite CEROS si no tiene). ",IF($E16<#REF!,"* Los Niños, Niñas, Adolescentes y Jóvenes Población SENAME NO DEBEN ser mayor al total. ","")) -> #REF! | BH16: =IF(AND($E16<>0,#REF!=""),"* No olvide digitar la columna Migrantes (Digite CEROS si no tiene). ",IF($E16<#REF!,"* Los Migrantes NO DEBEN ser mayor al total. ","")) -> #REF! | BI16: =IF((#REF!+#REF!)<#REF!,1,0) -> #REF! | BJ16: =IF(E16<#REF!,1,0) -> #REF! | BK16: =IF(#REF!<#REF!,1,0) -> #REF! | BL16: =IF(AND(E16<>0,#REF!=""),1,IF(#REF!<#REF!,1,0)) -> #REF! | BM16: =IF(AND($E16<>0,#REF!=""),1,IF($E16<#REF!,1,0)) -> #REF! | BN16: =IF(AND($E16<>0,#REF!=""),1,IF($E16<#REF!,1,0)) -> #REF! | BO16: =IF(AND($E16<>0,#REF!=""),1,IF($E16<#REF!,1,0)) -> #REF!
B17: ORTODONCIA Y ORTOPEDIA DENTO MAXILOFACIAL: APARATOLOGÍA FIJA | C17: CONSULTA NUEVA | E17: ='Hospital La Serena'!F17+'Hospital Coquimbo'!E17+'Hospital Ovalle'!E17+'Hospital Illapel'!E17 -> 1136 | F17: =H17+J17 -> 1371 | G17: =F17/E17 -> 1.2068662 | H17: ='Hospital La Serena'!I17+'Hospital Coquimbo'!H17+'Hospital Ovalle'!H17+'Hospital Illapel'!H17 -> 1016 | I17: =H17/E17 -> 0.8943662 | J17: ='Hospital La Serena'!K17+'Hospital Coquimbo'!J17+'Hospital Ovalle'!J17+'Hospital Illapel'!J17 -> 355 | K17: =J17/E17 -> 0.3125 | BC17: =IF(BJ17=1,"* La consulta pertinente según Protocolo de Referencia NO DEBE ser mayor al Total registrado. ","") -> #REF! | BD17: =IF(BK17=1,"* La consulta pertinente según condición clínica NO DEBE ser mayor al Total registrado. ","") -> #REF! | BF17: =IF(AND($E17<>0,#REF!=""),"* No olvide digitar la columna Usuarios en Situación de Discapacidad (Digite CEROS si no tiene). ",IF($E17<#REF!,"* Los Usuarios en Situación de Discapacidad NO DEBEN ser mayor al total. ","")) -> #REF! | BG17: =IF(AND($E17<>0,#REF!=""),"* No olvide digitar la columna Niños, Niñas, Adolescentes y Jóvenes Población SENAME (Digite CEROS si no tiene). ",IF($E17<#REF!,"* Los Niños, Niñas, Adolescentes y Jóvenes Población SENAME NO DEBEN ser mayor al total. ","")) -> #REF! | BH17: =IF(AND($E17<>0,#REF!=""),"* No olvide digitar la columna Migrantes (Digite CEROS si no tiene). ",IF($E17<#REF!,"* Los Migrantes NO DEBEN ser mayor al total. ","")) -> #REF! | BJ17: =IF(E17<#REF!,1,0) -> #REF! | BK17: =IF(#REF!<#REF!,1,0) -> #REF! | BM17: =IF(AND($E17<>0,#REF!=""),1,IF($E17<#REF!,1,0)) -> #REF! | BN17: =IF(AND($E17<>0,#REF!=""),1,IF($E17<#REF!,1,0)) -> #REF! | BO17: =IF(AND($E17<>0,#REF!=""),1,IF($E17<#REF!,1,0)) -> #REF!
C18: CONTROL | E18: ='Hospital La Serena'!F18+'Hospital Coquimbo'!E18+'Hospital Ovalle'!E18+'Hospital Illapel'!E18 -> 10217 | F18: =H18+J18 -> 0 | G18: =F18/E18 -> 0 | H18: ='Hospital La Serena'!I18+'Hospital Coquimbo'!H18+'Hospital Ovalle'!H18+'Hospital Illapel'!H18 -> 0 | I18: =H18/E18 -> 0 | J18: ='Hospital La Serena'!K18+'Hospital Coquimbo'!J18+'Hospital Ovalle'!J18+'Hospital Illapel'!J18 -> 0 | K18: =J18/E18 -> 0 | BC18: =IF(BJ18=1,"* La consulta pertinente según Protocolo de Referencia NO DEBE ser mayor al Total registrado. ","") -> #REF! | BD18: =IF(BK18=1,"* La consulta pertinente según condición clínica NO DEBE ser mayor al Total registrado. ","") -> #REF! | BF18: =IF(AND($E18<>0,#REF!=""),"* No olvide digitar la columna Usuarios en Situación de Discapacidad (Digite CEROS si no tiene). ",IF($E18<#REF!,"* Los Usuarios en Situación de Discapacidad NO DEBEN ser mayor al total. ","")) -> #REF! | BG18: =IF(AND($E18<>0,#REF!=""),"* No olvide digitar la columna Niños, Niñas, Adolescentes y Jóvenes Población SENAME (Digite CEROS si no tiene). ",IF($E18<#REF!,"* Los Niños, Niñas, Adolescentes y Jóvenes Población SENAME NO DEBEN ser mayor al total. ","")) -> #REF! | BH18: =IF(AND($E18<>0,#REF!=""),"* No olvide digitar la columna Migrantes (Digite CEROS si no tiene). ",IF($E18<#REF!,"* Los Migrantes NO DEBEN ser mayor al total. ","")) -> #REF! | BJ18: =IF(E18<#REF!,1,0) -> #REF! | BK18: =IF(#REF!<#REF!,1,0) -> #REF! | BM18: =IF(AND($E18<>0,#REF!=""),1,IF($E18<#REF!,1,0)) -> #REF! | BN18: =IF(AND($E18<>0,#REF!=""),1,IF($E18<#REF!,1,0)) -> #REF! | BO18: =IF(AND($E18<>0,#REF!=""),1,IF($E18<#REF!,1,0)) -> #REF!
B19: ORTODONCIA Y ORTOPEDIA DENTO MAXILOFACIAL: APARATOLOGÍA REMOVIBLE | C19: CONSULTA NUEVA | E19: ='Hospital La Serena'!F19+'Hospital Coquimbo'!E19+'Hospital Ovalle'!E19+'Hospital Illapel'!E19 -> 148 | F19: =H19+J19 -> 219 | G19: =F19/E19 -> 1.4797297 | H19: ='Hospital La Serena'!I19+'Hospital Coquimbo'!H19+'Hospital Ovalle'!H19+'Hospital Illapel'!H19 -> 136 | I19: =H19/E19 -> 0.91891892 | J19: ='Hospital La Serena'!K19+'Hospital Coquimbo'!J19+'Hospital Ovalle'!J19+'Hospital Illapel'!J19 -> 83 | K19: =J19/E19 -> 0.56081081 | BC19: =IF(BJ19=1,"* La consulta pertinente según Protocolo de Referencia NO DEBE ser mayor al Total registrado. ","") -> #REF! | BD19: =IF(BK19=1,"* La consulta pertinente según condición clínica NO DEBE ser mayor al Total registrado. ","") -> #REF! | BF19: =IF(AND($E19<>0,#REF!=""),"* No olvide digitar la columna Usuarios en Situación de Discapacidad (Digite CEROS si no tiene). ",IF($E19<#REF!,"* Los Usuarios en Situación de Discapacidad NO DEBEN ser mayor al total. ","")) -> #REF! | BG19: =IF(AND($E19<>0,#REF!=""),"* No olvide digitar la columna Niños, Niñas, Adolescentes y Jóvenes Población SENAME (Digite CEROS si no tiene). ",IF($E19<#REF!,"* Los Niños, Niñas, Adolescentes y Jóvenes Población SENAME NO DEBEN ser mayor al total. ","")) -> #REF! | BH19: =IF(AND($E19<>0,#REF!=""),"* No olvide digitar la columna Migrantes (Digite CEROS si no tiene). ",IF($E19<#REF!,"* Los Migrantes NO DEBEN ser mayor al total. ","")) -> #REF! | BJ19: =IF(E19<#REF!,1,0) -> #REF! | BK19: =IF(#REF!<#REF!,1,0) -> #REF! | BM19: =IF(AND($E19<>0,#REF!=""),1,IF($E19<#REF!,1,0)) -> #REF! | BN19: =IF(AND($E19<>0,#REF!=""),1,IF($E19<#REF!,1,0)) -> #REF! | BO19: =IF(AND($E19<>0,#REF!=""),1,IF($E19<#REF!,1,0)) -> #REF!
C20: CONTROL | E20: ='Hospital La Serena'!F20+'Hospital Coquimbo'!E20+'Hospital Ovalle'!E20+'Hospital Illapel'!E20 -> 1269 | F20: =H20+J20 -> 0 | G20: =F20/E20 -> 0 | H20: ='Hospital La Serena'!I20+'Hospital Coquimbo'!H20+'Hospital Ovalle'!H20+'Hospital Illapel'!H20 -> 0 | I20: =H20/E20 -> 0 | J20: ='Hospital La Serena'!K20+'Hospital Coquimbo'!J20+'Hospital Ovalle'!J20+'Hospital Illapel'!J20 -> 0 | K20: =J20/E20 -> 0 | BC20: =IF(BJ20=1,"* La consulta pertinente según Protocolo de Referencia NO DEBE ser mayor al Total registrado. ","") -> #REF! | BD20: =IF(BK20=1,"* La consulta pertinente según condición clínica NO DEBE ser mayor al Total registrado. ","") -> #REF! | BF20: =IF(AND($E20<>0,#REF!=""),"* No olvide digitar la columna Usuarios en Situación de Discapacidad (Digite CEROS si no tiene). ",IF($E20<#REF!,"* Los Usuarios en Situación de Discapacidad NO DEBEN ser mayor al total. ","")) -> #REF! | BG20: =IF(AND($E20<>0,#REF!=""),"* No olvide digitar la columna Niños, Niñas, Adolescentes y Jóvenes Población SENAME (Digite CEROS si no tiene). ",IF($E20<#REF!,"* Los Niños, Niñas, Adolescentes y Jóvenes Población SENAME NO DEBEN ser mayor al total. ","")) -> #REF! | BH20: =IF(AND($E20<>0,#REF!=""),"* No olvide digitar la columna Migrantes (Digite CEROS si no tiene). ",IF($E20<#REF!,"* Los Migrantes NO DEBEN ser mayor al total. ","")) -> #REF! | BJ20: =IF(E20<#REF!,1,0) -> #REF! | BK20: =IF(#REF!<#REF!,1,0) -> #REF! | BM20: =IF(AND($E20<>0,#REF!=""),1,IF($E20<#REF!,1,0)) -> #REF! | BN20: =IF(AND($E20<>0,#REF!=""),1,IF($E20<#REF!,1,0)) -> #REF! | BO20: =IF(AND($E20<>0,#REF!=""),1,IF($E20<#REF!,1,0)) -> #REF!
B21: PERIODONCIA | C21: CONSULTA NUEVA | E21: ='Hospital La Serena'!F21+'Hospital Coquimbo'!E21+'Hospital Ovalle'!E21+'Hospital Illapel'!E21 -> 1698 | F21: =H21+J21 -> 2600 | G21: =F21/E21 -> 1.5312132 | H21: ='Hospital La Serena'!I21+'Hospital Coquimbo'!H21+'Hospital Ovalle'!H21+'Hospital Illapel'!H21 -> 1637 | I21: =H21/E21 -> 0.96407538 | J21: ='Hospital La Serena'!K21+'Hospital Coquimbo'!J21+'Hospital Ovalle'!J21+'Hospital Illapel'!J21 -> 963 | K21: =J21/E21 -> 0.56713781 | BB21: =IF(BI21=1,"* El número de pacientes de 60 años NO DEBE Ser mayor a lo registrado en el grupo Etario 20-64 años. ","") -> #REF! | BC21: =IF(BJ21=1,"* La consulta pertinente según Protocolo de Referencia NO DEBE ser mayor al Total registrado. ","") -> #REF! | BD21: =IF(BK21=1,"* La consulta pertinente según condición clínica NO DEBE ser mayor al Total registrado. ","") -> #REF! | BE21: =IF(AND(E21<>0,#REF!=""),"* Recuerde que las Embarazadas deben ser incluídas en el ingreso por rango Etario (Digite CEROS si no tiene). ",IF(#REF!<#REF!,"* Las Embarazadas NO DEBEN ser mayor al total de Mujeres. ","")) -> #REF! | BF21: =IF(AND($E21<>0,#REF!=""),"* No olvide digitar la columna Usuarios en Situación de Discapacidad (Digite CEROS si no tiene). ",IF($E21<#REF!,"* Los Usuarios en Situación de Discapacidad NO DEBEN ser mayor al total. ","")) -> #REF! | BG21: =IF(AND($E21<>0,#REF!=""),"* No olvide digitar la columna Niños, Niñas, Adolescentes y Jóvenes Población SENAME (Digite CEROS si no tiene). ",IF($E21<#REF!,"* Los Niños, Niñas, Adolescentes y Jóvenes Población SENAME NO DEBEN ser mayor al total. ","")) -> #REF! | BH21: =IF(AND($E21<>0,#REF!=""),"* No olvide digitar la columna Migrantes (Digite CEROS si no tiene). ",IF($E21<#REF!,"* Los Migrantes NO DEBEN ser mayor al total. ","")) -> #REF! | BI21: =IF((#REF!+#REF!)<#REF!,1,0) -> #REF! | BJ21: =IF(E21<#REF!,1,0) -> #REF! | BK21: =IF(#REF!<#REF!,1,0) -> #REF! | BL21: =IF(AND(E21<>0,#REF!=""),1,IF(#REF!<#REF!,1,0)) -> #REF! | BM21: =IF(AND($E21<>0,#REF!=""),1,IF($E21<#REF!,1,0)) -> #REF! | BN21: =IF(AND($E21<>0,#REF!=""),1,IF($E21<#REF!,1,0)) -> #REF! | BO21: =IF(AND($E21<>0,#REF!=""),1,IF($E21<#REF!,1,0)) -> #REF!
C22: CONTROL | E22: ='Hospital La Serena'!F22+'Hospital Coquimbo'!E22+'Hospital Ovalle'!E22+'Hospital Illapel'!E22 -> 4703 | F22: =H22+J22 -> 0 | G22: =F22/E22 -> 0 | H22: ='Hospital La Serena'!I22+'Hospital Coquimbo'!H22+'Hospital Ovalle'!H22+'Hospital Illapel'!H22 -> 0 | I22: =H22/E22 -> 0 | J22: ='Hospital La Serena'!K22+'Hospital Coquimbo'!J22+'Hospital Ovalle'!J22+'Hospital Illapel'!J22 -> 0 | K22: =J22/E22 -> 0 | BB22: =IF(BI22=1,"* El número de pacientes de 60 años NO DEBE Ser mayor a lo registrado en el grupo Etario 20-64 años. ","") -> #REF! | BC22: =IF(BJ22=1,"* La consulta pertinente según Protocolo de Referencia NO DEBE ser mayor al Total registrado. ","") -> #REF! | BD22: =IF(BK22=1,"* La consulta pertinente según condición clínica NO DEBE ser mayor al Total registrado. ","") -> #REF! | BE22: =IF(AND(E22<>0,#REF!=""),"* Recuerde que las Embarazadas deben ser incluídas en el ingreso por rango Etario (Digite CEROS si no tiene). ",IF(#REF!<#REF!,"* Las Embarazadas NO DEBEN ser mayor al total de Mujeres. ","")) -> #REF! | BF22: =IF(AND($E22<>0,#REF!=""),"* No olvide digitar la columna Usuarios en Situación de Discapacidad (Digite CEROS si no tiene). ",IF($E22<#REF!,"* Los Usuarios en Situación de Discapacidad NO DEBEN ser mayor al total. ","")) -> #REF! | BG22: =IF(AND($E22<>0,#REF!=""),"* No olvide digitar la columna Niños, Niñas, Adolescentes y Jóvenes Población SENAME (Digite CEROS si no tiene). ",IF($E22<#REF!,"* Los Niños, Niñas, Adolescentes y Jóvenes Población SENAME NO DEBEN ser mayor al total. ","")) -> #REF! | BH22: =IF(AND($E22<>0,#REF!=""),"* No olvide digitar la columna Migrantes (Digite CEROS si no tiene). ",IF($E22<#REF!,"* Los Migrantes NO DEBEN ser mayor al total. ","")) -> #REF! | BI22: =IF((#REF!+#REF!)<#REF!,1,0) -> #REF! | BJ22: =IF(E22<#REF!,1,0) -> #REF! | BK22: =IF(#REF!<#REF!,1,0) -> #REF! | BL22: =IF(AND(E22<>0,#REF!=""),1,IF(#REF!<#REF!,1,0)) -> #REF! | BM22: =IF(AND($E22<>0,#REF!=""),1,IF($E22<#REF!,1,0)) -> #REF! | BN22: =IF(AND($E22<>0,#REF!=""),1,IF($E22<#REF!,1,0)) -> #REF! | BO22: =IF(AND($E22<>0,#REF!=""),1,IF($E22<#REF!,1,0)) -> #REF!
B23: REHABILITACIÓN: PRÓTESIS FIJA | C23: CONSULTA NUEVA | E23: ='Hospital La Serena'!F23+'Hospital Coquimbo'!E23+'Hospital Ovalle'!E23+'Hospital Illapel'!E23 -> 50 | F23: =H23+J23 -> 90 | G23: =F23/E23 -> 1.8 | H23: ='Hospital La Serena'!I23+'Hospital Coquimbo'!H23+'Hospital Ovalle'!H23+'Hospital Illapel'!H23 -> 41 | I23: =H23/E23 -> 0.82 | J23: ='Hospital La Serena'!K23+'Hospital Coquimbo'!J23+'Hospital Ovalle'!J23+'Hospital Illapel'!J23 -> 49 | K23: =J23/E23 -> 0.98 | BB23: =IF(BI23=1,"* El número de pacientes de 60 años NO DEBE Ser mayor a lo registrado en el grupo Etario 20-64 años. ","") -> #REF! | BC23: =IF(BJ23=1,"* La consulta pertinente según Protocolo de Referencia NO DEBE ser mayor al Total registrado. ","") -> #REF! | BD23: =IF(BK23=1,"* La consulta pertinente según condición clínica NO DEBE ser mayor al Total registrado. ","") -> #REF! | BE23: =IF(AND(E23<>0,#REF!=""),"* Recuerde que las Embarazadas deben ser incluídas en el ingreso por rango Etario (Digite CEROS si no tiene). ",IF(#REF!<#REF!,"* Las Embarazadas NO DEBEN ser mayor al total de Mujeres. ","")) -> #REF! | BF23: =IF(AND($E23<>0,#REF!=""),"* No olvide digitar la columna Usuarios en Situación de Discapacidad (Digite CEROS si no tiene). ",IF($E23<#REF!,"* Los Usuarios en Situación de Discapacidad NO DEBEN ser mayor al total. ","")) -> #REF! | BG23: =IF(AND($E23<>0,#REF!=""),"* No olvide digitar la columna Niños, Niñas, Adolescentes y Jóvenes Población SENAME (Digite CEROS si no tiene). ",IF($E23<#REF!,"* Los Niños, Niñas, Adolescentes y Jóvenes Población SENAME NO DEBEN ser mayor al total. ","")) -> #REF! | BH23: =IF(AND($E23<>0,#REF!=""),"* No olvide digitar la columna Migrantes (Digite CEROS si no tiene). ",IF($E23<#REF!,"* Los Migrantes NO DEBEN ser mayor al total. ","")) -> #REF! | BI23: =IF((#REF!+#REF!)<#REF!,1,0) -> #REF! | BJ23: =IF(E23<#REF!,1,0) -> #REF! | BK23: =IF(#REF!<#REF!,1,0) -> #REF! | BL23: =IF(AND(E23<>0,#REF!=""),1,IF(#REF!<#REF!,1,0)) -> #REF! | BM23: =IF(AND($E23<>0,#REF!=""),1,IF($E23<#REF!,1,0)) -> #REF! | BN23: =IF(AND($E23<>0,#REF!=""),1,IF($E23<#REF!,1,0)) -> #REF! | BO23: =IF(AND($E23<>0,#REF!=""),1,IF($E23<#REF!,1,0)) -> #REF!
C24: CONTROL | E24: ='Hospital La Serena'!F24+'Hospital Coquimbo'!E24+'Hospital Ovalle'!E24+'Hospital Illapel'!E24 -> 196 | F24: =H24+J24 -> 0 | G24: =F24/E24 -> 0 | H24: ='Hospital La Serena'!I24+'Hospital Coquimbo'!H24+'Hospital Ovalle'!H24+'Hospital Illapel'!H24 -> 0 | I24: =H24/E24 -> 0 | J24: ='Hospital La Serena'!K24+'Hospital Coquimbo'!J24+'Hospital Ovalle'!J24+'Hospital Illapel'!J24 -> 0 | K24: =J24/E24 -> 0 | BB24: =IF(BI24=1,"* El número de pacientes de 60 años NO DEBE Ser mayor a lo registrado en el grupo Etario 20-64 años. ","") -> #REF! | BC24: =IF(BJ24=1,"* La consulta pertinente según Protocolo de Referencia NO DEBE ser mayor al Total registrado. ","") -> #REF! | BD24: =IF(BK24=1,"* La consulta pertinente según condición clínica NO DEBE ser mayor al Total registrado. ","") -> #REF! | BE24: =IF(AND(E24<>0,#REF!=""),"* Recuerde que las Embarazadas deben ser incluídas en el ingreso por rango Etario (Digite CEROS si no tiene). ",IF(#REF!<#REF!,"* Las Embarazadas NO DEBEN ser mayor al total de Mujeres. ","")) -> #REF! | BF24: =IF(AND($E24<>0,#REF!=""),"* No olvide digitar la columna Usuarios en Situación de Discapacidad (Digite CEROS si no tiene). ",IF($E24<#REF!,"* Los Usuarios en Situación de Discapacidad NO DEBEN ser mayor al total. ","")) -> #REF! | BG24: =IF(AND($E24<>0,#REF!=""),"* No olvide digitar la columna Niños, Niñas, Adolescentes y Jóvenes Población SENAME (Digite CEROS si no tiene). ",IF($E24<#REF!,"* Los Niños, Niñas, Adolescentes y Jóvenes Población SENAME NO DEBEN ser mayor al total. ","")) -> #REF! | BH24: =IF(AND($E24<>0,#REF!=""),"* No olvide digitar la columna Migrantes (Digite CEROS si no tiene). ",IF($E24<#REF!,"* Los Migrantes NO DEBEN ser mayor al total. ","")) -> #REF! | BI24: =IF((#REF!+#REF!)<#REF!,1,0) -> #REF! | BJ24: =IF(E24<#REF!,1,0) -> #REF! | BK24: =IF(#REF!<#REF!,1,0) -> #REF! | BL24: =IF(AND(E24<>0,#REF!=""),1,IF(#REF!<#REF!,1,0)) -> #REF! | BM24: =IF(AND($E24<>0,#REF!=""),1,IF($E24<#REF!,1,0)) -> #REF! | BN24: =IF(AND($E24<>0,#REF!=""),1,IF($E24<#REF!,1,0)) -> #REF! | BO24: =IF(AND($E24<>0,#REF!=""),1,IF($E24<#REF!,1,0)) -> #REF!
B25: REHABILITACIÓN: PRÓTESIS REMOVIBLE | C25: CONSULTA NUEVA | E25: ='Hospital La Serena'!F25+'Hospital Coquimbo'!E25+'Hospital Ovalle'!E25+'Hospital Illapel'!E25 -> 2059 | F25: =H25+J25 -> 2636 | G25: =F25/E25 -> 1.2802331 | H25: ='Hospital La Serena'!I25+'Hospital Coquimbo'!H25+'Hospital Ovalle'!H25+'Hospital Illapel'!H25 -> 1688 | I25: =H25/E25 -> 0.81981544 | J25: ='Hospital La Serena'!K25+'Hospital Coquimbo'!J25+'Hospital Ovalle'!J25+'Hospital Illapel'!J25 -> 948 | K25: =J25/E25 -> 0.46041768 | BB25: =IF(BI25=1,"* El número de pacientes de 60 años NO DEBE Ser mayor a lo registrado en el grupo Etario 20-64 años. ","") -> #REF! | BC25: =IF(BJ25=1,"* La consulta pertinente según Protocolo de Referencia NO DEBE ser mayor al Total registrado. ","") -> #REF! | BD25: =IF(BK25=1,"* La consulta pertinente según condición clínica NO DEBE ser mayor al Total registrado. ","") -> #REF! | BE25: =IF(AND(E25<>0,#REF!=""),"* Recuerde que las Embarazadas deben ser incluídas en el ingreso por rango Etario (Digite CEROS si no tiene). ",IF(#REF!<#REF!,"* Las Embarazadas NO DEBEN ser mayor al total de Mujeres. ","")) -> #REF! | BF25: =IF(AND($E25<>0,#REF!=""),"* No olvide digitar la columna Usuarios en Situación de Discapacidad (Digite CEROS si no tiene). ",IF($E25<#REF!,"* Los Usuarios en Situación de Discapacidad NO DEBEN ser mayor al total. ","")) -> #REF! | BG25: =IF(AND($E25<>0,#REF!=""),"* No olvide digitar la columna Niños, Niñas, Adolescentes y Jóvenes Población SENAME (Digite CEROS si no tiene). ",IF($E25<#REF!,"* Los Niños, Niñas, Adolescentes y Jóvenes Población SENAME NO DEBEN ser mayor al total. ","")) -> #REF! | BH25: =IF(AND($E25<>0,#REF!=""),"* No olvide digitar la columna Migrantes (Digite CEROS si no tiene). ",IF($E25<#REF!,"* Los Migrantes NO DEBEN ser mayor al total. ","")) -> #REF! | BI25: =IF((#REF!+#REF!)<#REF!,1,0) -> #REF! | BJ25: =IF(E25<#REF!,1,0) -> #REF! | BK25: =IF(#REF!<#REF!,1,0) -> #REF! | BL25: =IF(AND(E25<>0,#REF!=""),1,IF(#REF!<#REF!,1,0)) -> #REF! | BM25: =IF(AND($E25<>0,#REF!=""),1,IF($E25<#REF!,1,0)) -> #REF! | BN25: =IF(AND($E25<>0,#REF!=""),1,IF($E25<#REF!,1,0)) -> #REF! | BO25: =IF(AND($E25<>0,#REF!=""),1,IF($E25<#REF!,1,0)) -> #REF!
C26: CONTROL | E26: ='Hospital La Serena'!F26+'Hospital Coquimbo'!E26+'Hospital Ovalle'!E26+'Hospital Illapel'!E26 -> 8694 | F26: =H26+J26 -> 0 | G26: =F26/E26 -> 0 | H26: ='Hospital La Serena'!I26+'Hospital Coquimbo'!H26+'Hospital Ovalle'!H26+'Hospital Illapel'!H26 -> 0 | I26: =H26/E26 -> 0 | J26: ='Hospital La Serena'!K26+'Hospital Coquimbo'!J26+'Hospital Ovalle'!J26+'Hospital Illapel'!J26 -> 0 | K26: =J26/E26 -> 0 | BB26: =IF(BI26=1,"* El número de pacientes de 60 años NO DEBE Ser mayor a lo registrado en el grupo Etario 20-64 años. ","") -> #REF! | BC26: =IF(BJ26=1,"* La consulta pertinente según Protocolo de Referencia NO DEBE ser mayor al Total registrado. ","") -> #REF! | BD26: =IF(BK26=1,"* La consulta pertinente según condición clínica NO DEBE ser mayor al Total registrado. ","") -> #REF! | BE26: =IF(AND(E26<>0,#REF!=""),"* Recuerde que las Embarazadas deben ser incluídas en el ingreso por rango Etario (Digite CEROS si no tiene). ",IF(#REF!<#REF!,"* Las Embarazadas NO DEBEN ser mayor al total de Mujeres. ","")) -> #REF! | BF26: =IF(AND($E26<>0,#REF!=""),"* No olvide digitar la columna Usuarios en Situación de Discapacidad (Digite CEROS si no tiene). ",IF($E26<#REF!,"* Los Usuarios en Situación de Discapacidad NO DEBEN ser mayor al total. ","")) -> #REF! | BG26: =IF(AND($E26<>0,#REF!=""),"* No olvide digitar la columna Niños, Niñas, Adolescentes y Jóvenes Población SENAME (Digite CEROS si no tiene). ",IF($E26<#REF!,"* Los Niños, Niñas, Adolescentes y Jóvenes Población SENAME NO DEBEN ser mayor al total. ","")) -> #REF! | BH26: =IF(AND($E26<>0,#REF!=""),"* No olvide digitar la columna Migrantes (Digite CEROS si no tiene). ",IF($E26<#REF!,"* Los Migrantes NO DEBEN ser mayor al total. ","")) -> #REF! | BI26: =IF((#REF!+#REF!)<#REF!,1,0) -> #REF! | BJ26: =IF(E26<#REF!,1,0) -> #REF! | BK26: =IF(#REF!<#REF!,1,0) -> #REF! | BL26: =IF(AND(E26<>0,#REF!=""),1,IF(#REF!<#REF!,1,0)) -> #REF! | BM26: =IF(AND($E26<>0,#REF!=""),1,IF($E26<#REF!,1,0)) -> #REF! | BN26: =IF(AND($E26<>0,#REF!=""),1,IF($E26<#REF!,1,0)) -> #REF! | BO26: =IF(AND($E26<>0,#REF!=""),1,IF($E26<#REF!,1,0)) -> #REF!
B27: REHABILITACIÓN: PRÓTESIS IMPLANTOASISTIDA | C27: CONSULTA NUEVA | E27: ='Hospital La Serena'!F27+'Hospital Coquimbo'!E27+'Hospital Ovalle'!E27+'Hospital Illapel'!E27 -> 231 | F27: =H27+J27 -> 281 | G27: =F27/E27 -> 1.2164502 | H27: ='Hospital La Serena'!I27+'Hospital Coquimbo'!H27+'Hospital Ovalle'!H27+'Hospital Illapel'!H27 -> 231 | I27: =H27/E27 -> 1 | J27: ='Hospital La Serena'!K27+'Hospital Coquimbo'!J27+'Hospital Ovalle'!J27+'Hospital Illapel'!J27 -> 50 | K27: =J27/E27 -> 0.21645022 | BB27: =IF(BI27=1,"* El número de pacientes de 60 años NO DEBE Ser mayor a lo registrado en el grupo Etario 20-64 años. ","") -> #REF! | BC27: =IF(BJ27=1,"* La consulta pertinente según Protocolo de Referencia NO DEBE ser mayor al Total registrado. ","") -> #REF! | BD27: =IF(BK27=1,"* La consulta pertinente según condición clínica NO DEBE ser mayor al Total registrado. ","") -> #REF! | BE27: =IF(AND(E27<>0,#REF!=""),"* Recuerde que las Embarazadas deben ser incluídas en el ingreso por rango Etario (Digite CEROS si no tiene). ",IF(#REF!<#REF!,"* Las Embarazadas NO DEBEN ser mayor al total de Mujeres. ","")) -> #REF! | BF27: =IF(AND($E27<>0,#REF!=""),"* No olvide digitar la columna Usuarios en Situación de Discapacidad (Digite CEROS si no tiene). ",IF($E27<#REF!,"* Los Usuarios en Situación de Discapacidad NO DEBEN ser mayor al total. ","")) -> #REF! | BG27: =IF(AND($E27<>0,#REF!=""),"* No olvide digitar la columna Niños, Niñas, Adolescentes y Jóvenes Población SENAME (Digite CEROS si no tiene). ",IF($E27<#REF!,"* Los Niños, Niñas, Adolescentes y Jóvenes Población SENAME NO DEBEN ser mayor al total. ","")) -> #REF! | BH27: =IF(AND($E27<>0,#REF!=""),"* No olvide digitar la columna Migrantes (Digite CEROS si no tiene). ",IF($E27<#REF!,"* Los Migrantes NO DEBEN ser mayor al total. ","")) -> #REF! | BI27: =IF((#REF!+#REF!)<#REF!,1,0) -> #REF! | BJ27: =IF(E27<#REF!,1,0) -> #REF! | BK27: =IF(#REF!<#REF!,1,0) -> #REF! | BL27: =IF(AND(E27<>0,#REF!=""),1,IF(#REF!<#REF!,1,0)) -> #REF! | BM27: =IF(AND($E27<>0,#REF!=""),1,IF($E27<#REF!,1,0)) -> #REF! | BN27: =IF(AND($E27<>0,#REF!=""),1,IF($E27<#REF!,1,0)) -> #REF! | BO27: =IF(AND($E27<>0,#REF!=""),1,IF($E27<#REF!,1,0)) -> #REF!
C28: CONTROL | E28: ='Hospital La Serena'!F28+'Hospital Coquimbo'!E28+'Hospital Ovalle'!E28+'Hospital Illapel'!E28 -> 866 | F28: =H28+J28 -> 0 | G28: =F28/E28 -> 0 | H28: ='Hospital La Serena'!I28+'Hospital Coquimbo'!H28+'Hospital Ovalle'!H28+'Hospital Illapel'!H28 -> 0 | I28: =H28/E28 -> 0 | J28: ='Hospital La Serena'!K28+'Hospital Coquimbo'!J28+'Hospital Ovalle'!J28+'Hospital Illapel'!J28 -> 0 | K28: =J28/E28 -> 0 | BB28: =IF(BI28=1,"* El número de pacientes de 60 años NO DEBE Ser mayor a lo registrado en el grupo Etario 20-64 años. ","") -> #REF! | BC28: =IF(BJ28=1,"* La consulta pertinente según Protocolo de Referencia NO DEBE ser mayor al Total registrado. ","") -> #REF! | BD28: =IF(BK28=1,"* La consulta pertinente según condición clínica NO DEBE ser mayor al Total registrado. ","") -> #REF! | BE28: =IF(AND(E28<>0,#REF!=""),"* Recuerde que las Embarazadas deben ser incluídas en el ingreso por rango Etario (Digite CEROS si no tiene). ",IF(#REF!<#REF!,"* Las Embarazadas NO DEBEN ser mayor al total de Mujeres. ","")) -> #REF! | BF28: =IF(AND($E28<>0,#REF!=""),"* No olvide digitar la columna Usuarios en Situación de Discapacidad (Digite CEROS si no tiene). ",IF($E28<#REF!,"* Los Usuarios en Situación de Discapacidad NO DEBEN ser mayor al total. ","")) -> #REF! | BG28: =IF(AND($E28<>0,#REF!=""),"* No olvide digitar la columna Niños, Niñas, Adolescentes y Jóvenes Población SENAME (Digite CEROS si no tiene). ",IF($E28<#REF!,"* Los Niños, Niñas, Adolescentes y Jóvenes Población SENAME NO DEBEN ser mayor al total. ","")) -> #REF! | BH28: =IF(AND($E28<>0,#REF!=""),"* No olvide digitar la columna Migrantes (Digite CEROS si no tiene). ",IF($E28<#REF!,"* Los Migrantes NO DEBEN ser mayor al total. ","")) -> #REF! | BI28: =IF((#REF!+#REF!)<#REF!,1,0) -> #REF! | BJ28: =IF(E28<#REF!,1,0) -> #REF! | BK28: =IF(#REF!<#REF!,1,0) -> #REF! | BL28: =IF(AND(E28<>0,#REF!=""),1,IF(#REF!<#REF!,1,0)) -> #REF! | BM28: =IF(AND($E28<>0,#REF!=""),1,IF($E28<#REF!,1,0)) -> #REF! | BN28: =IF(AND($E28<>0,#REF!=""),1,IF($E28<#REF!,1,0)) -> #REF! | BO28: =IF(AND($E28<>0,#REF!=""),1,IF($E28<#REF!,1,0)) -> #REF!
B29: IMPLANTOLOGÍA BUCO MAXILOFACIAL | C29: CONSULTA NUEVA | E29: ='Hospital La Serena'!F29+'Hospital Coquimbo'!E29+'Hospital Ovalle'!E29+'Hospital Illapel'!E29 -> 187 | F29: =H29+J29 -> 234 | G29: =F29/E29 -> 1.2513369 | H29: ='Hospital La Serena'!I29+'Hospital Coquimbo'!H29+'Hospital Ovalle'!H29+'Hospital Illapel'!H29 -> 174 | I29: =H29/E29 -> 0.93048128 | J29: ='Hospital La Serena'!K29+'Hospital Coquimbo'!J29+'Hospital Ovalle'!J29+'Hospital Illapel'!J29 -> 60 | K29: =J29/E29 -> 0.32085561 | BB29: =IF(BI29=1,"* El número de pacientes de 60 años NO DEBE Ser mayor a lo registrado en el grupo Etario 20-64 años. ","") -> #REF! | BC29: =IF(BJ29=1,"* La consulta pertinente según Protocolo de Referencia NO DEBE ser mayor al Total registrado. ","") -> #REF! | BD29: =IF(BK29=1,"* La consulta pertinente según condición clínica NO DEBE ser mayor al Total registrado. ","") -> #REF! | BE29: =IF(AND(E29<>0,#REF!=""),"* Recuerde que las Embarazadas deben ser incluídas en el ingreso por rango Etario (Digite CEROS si no tiene). ",IF(#REF!<#REF!,"* Las Embarazadas NO DEBEN ser mayor al total de Mujeres. ","")) -> #REF! | BF29: =IF(AND($E29<>0,#REF!=""),"* No olvide digitar la columna Usuarios en Situación de Discapacidad (Digite CEROS si no tiene). ",IF($E29<#REF!,"* Los Usuarios en Situación de Discapacidad NO DEBEN ser mayor al total. ","")) -> #REF! | BG29: =IF(AND($E29<>0,#REF!=""),"* No olvide digitar la columna Niños, Niñas, Adolescentes y Jóvenes Población SENAME (Digite CEROS si no tiene). ",IF($E29<#REF!,"* Los Niños, Niñas, Adolescentes y Jóvenes Población SENAME NO DEBEN ser mayor al total. ","")) -> #REF! | BH29: =IF(AND($E29<>0,#REF!=""),"* No olvide digitar la columna Migrantes (Digite CEROS si no tiene). ",IF($E29<#REF!,"* Los Migrantes NO DEBEN ser mayor al total. ","")) -> #REF! | BI29: =IF((#REF!+#REF!)<#REF!,1,0) -> #REF! | BJ29: =IF(E29<#REF!,1,0) -> #REF! | BK29: =IF(#REF!<#REF!,1,0) -> #REF! | BL29: =IF(AND(E29<>0,#REF!=""),1,IF(#REF!<#REF!,1,0)) -> #REF! | BM29: =IF(AND($E29<>0,#REF!=""),1,IF($E29<#REF!,1,0)) -> #REF! | BN29: =IF(AND($E29<>0,#REF!=""),1,IF($E29<#REF!,1,0)) -> #REF! | BO29: =IF(AND($E29<>0,#REF!=""),1,IF($E29<#REF!,1,0)) -> #REF!
C30: CONTROL | E30: ='Hospital La Serena'!F30+'Hospital Coquimbo'!E30+'Hospital Ovalle'!E30+'Hospital Illapel'!E30 -> 647 | F30: =H30+J30 -> 0 | G30: =F30/E30 -> 0 | H30: ='Hospital La Serena'!I30+'Hospital Coquimbo'!H30+'Hospital Ovalle'!H30+'Hospital Illapel'!H30 -> 0 | I30: =H30/E30 -> 0 | J30: ='Hospital La Serena'!K30+'Hospital Coquimbo'!J30+'Hospital Ovalle'!J30+'Hospital Illapel'!J30 -> 0 | K30: =J30/E30 -> 0 | BB30: =IF(BI30=1,"* El número de pacientes de 60 años NO DEBE Ser mayor a lo registrado en el grupo Etario 20-64 años. ","") -> #REF! | BC30: =IF(BJ30=1,"* La consulta pertinente según Protocolo de Referencia NO DEBE ser mayor al Total registrado. ","") -> #REF! | BD30: =IF(BK30=1,"* La consulta pertinente según condición clínica NO DEBE ser mayor al Total registrado. ","") -> #REF! | BE30: =IF(AND(E30<>0,#REF!=""),"* Recuerde que las Embarazadas deben ser incluídas en el ingreso por rango Etario (Digite CEROS si no tiene). ",IF(#REF!<#REF!,"* Las Embarazadas NO DEBEN ser mayor al total de Mujeres. ","")) -> #REF! | BF30: =IF(AND($E30<>0,#REF!=""),"* No olvide digitar la columna Usuarios en Situación de Discapacidad (Digite CEROS si no tiene). ",IF($E30<#REF!,"* Los Usuarios en Situación de Discapacidad NO DEBEN ser mayor al total. ","")) -> #REF! | BG30: =IF(AND($E30<>0,#REF!=""),"* No olvide digitar la columna Niños, Niñas, Adolescentes y Jóvenes Población SENAME (Digite CEROS si no tiene). ",IF($E30<#REF!,"* Los Niños, Niñas, Adolescentes y Jóvenes Población SENAME NO DEBEN ser mayor al total. ","")) -> #REF! | BH30: =IF(AND($E30<>0,#REF!=""),"* No olvide digitar la columna Migrantes (Digite CEROS si no tiene). ",IF($E30<#REF!,"* Los Migrantes NO DEBEN ser mayor al total. ","")) -> #REF! | BI30: =IF((#REF!+#REF!)<#REF!,1,0) -> #REF! | BJ30: =IF(E30<#REF!,1,0) -> #REF! | BK30: =IF(#REF!<#REF!,1,0) -> #REF! | BL30: =IF(AND(E30<>0,#REF!=""),1,IF(#REF!<#REF!,1,0)) -> #REF! | BM30: =IF(AND($E30<>0,#REF!=""),1,IF($E30<#REF!,1,0)) -> #REF! | BN30: =IF(AND($E30<>0,#REF!=""),1,IF($E30<#REF!,1,0)) -> #REF! | BO30: =IF(AND($E30<>0,#REF!=""),1,IF($E30<#REF!,1,0)) -> #REF!
B31: PATOLOGÍA ORAL | C31: CONSULTA NUEVA | E31: ='Hospital La Serena'!F31+'Hospital Coquimbo'!E31+'Hospital Ovalle'!E31+'Hospital Illapel'!E31 -> 23 | F31: =H31+J31 -> 38 | G31: =F31/E31 -> 1.6521739 | H31: ='Hospital La Serena'!I31+'Hospital Coquimbo'!H31+'Hospital Ovalle'!H31+'Hospital Illapel'!H31 -> 19 | I31: =H31/E31 -> 0.82608696 | J31: ='Hospital La Serena'!K31+'Hospital Coquimbo'!J31+'Hospital Ovalle'!J31+'Hospital Illapel'!J31 -> 19 | K31: =J31/E31 -> 0.82608696 | BB31: =IF(BI31=1,"* El número de pacientes de 60 años NO DEBE Ser mayor a lo registrado en el grupo Etario 20-64 años. ","") -> #REF! | BC31: =IF(BJ31=1,"* La consulta pertinente según Protocolo de Referencia NO DEBE ser mayor al Total registrado. ","") -> #REF! | BD31: =IF(BK31=1,"* La consulta pertinente según condición clínica NO DEBE ser mayor al Total registrado. ","") -> #REF! | BE31: =IF(AND(E31<>0,#REF!=""),"* Recuerde que las Embarazadas deben ser incluídas en el ingreso por rango Etario (Digite CEROS si no tiene). ",IF(#REF!<#REF!,"* Las Embarazadas NO DEBEN ser mayor al total de Mujeres. ","")) -> #REF! | BF31: =IF(AND($E31<>0,#REF!=""),"* No olvide digitar la columna Usuarios en Situación de Discapacidad (Digite CEROS si no tiene). ",IF($E31<#REF!,"* Los Usuarios en Situación de Discapacidad NO DEBEN ser mayor al total. ","")) -> #REF! | BG31: =IF(AND($E31<>0,#REF!=""),"* No olvide digitar la columna Niños, Niñas, Adolescentes y Jóvenes Población SENAME (Digite CEROS si no tiene). ",IF($E31<#REF!,"* Los Niños, Niñas, Adolescentes y Jóvenes Población SENAME NO DEBEN ser mayor al total. ","")) -> #REF! | BH31: =IF(AND($E31<>0,#REF!=""),"* No olvide digitar la columna Migrantes (Digite CEROS si no tiene). ",IF($E31<#REF!,"* Los Migrantes NO DEBEN ser mayor al total. ","")) -> #REF! | BI31: =IF((#REF!+#REF!)<#REF!,1,0) -> #REF! | BJ31: =IF(E31<#REF!,1,0) -> #REF! | BK31: =IF(#REF!<#REF!,1,0) -> #REF! | BL31: =IF(AND(E31<>0,#REF!=""),1,IF(#REF!<#REF!,1,0)) -> #REF! | BM31: =IF(AND($E31<>0,#REF!=""),1,IF($E31<#REF!,1,0)) -> #REF! | BN31: =IF(AND($E31<>0,#REF!=""),1,IF($E31<#REF!,1,0)) -> #REF! | BO31: =IF(AND($E31<>0,#REF!=""),1,IF($E31<#REF!,1,0)) -> #REF!
C32: CONTROL | E32: ='Hospital La Serena'!F32+'Hospital Coquimbo'!E32+'Hospital Ovalle'!E32+'Hospital Illapel'!E32 -> 16 | F32: =H32+J32 -> 0 | G32: =F32/E32 -> 0 | H32: ='Hospital La Serena'!I32+'Hospital Coquimbo'!H32+'Hospital Ovalle'!H32+'Hospital Illapel'!H32 -> 0 | I32: =H32/E32 -> 0 | J32: ='Hospital La Serena'!K32+'Hospital Coquimbo'!J32+'Hospital Ovalle'!J32+'Hospital Illapel'!J32 -> 0 | K32: =J32/E32 -> 0 | BB32: =IF(BI32=1,"* El número de pacientes de 60 años NO DEBE Ser mayor a lo registrado en el grupo Etario 20-64 años. ","") -> #REF! | BC32: =IF(BJ32=1,"* La consulta pertinente según Protocolo de Referencia NO DEBE ser mayor al Total registrado. ","") -> #REF! | BD32: =IF(BK32=1,"* La consulta pertinente según condición clínica NO DEBE ser mayor al Total registrado. ","") -> #REF! | BE32: =IF(AND(E32<>0,#REF!=""),"* Recuerde que las Embarazadas deben ser incluídas en el ingreso por rango Etario (Digite CEROS si no tiene). ",IF(#REF!<#REF!,"* Las Embarazadas NO DEBEN ser mayor al total de Mujeres. ","")) -> #REF! | BF32: =IF(AND($E32<>0,#REF!=""),"* No olvide digitar la columna Usuarios en Situación de Discapacidad (Digite CEROS si no tiene). ",IF($E32<#REF!,"* Los Usuarios en Situación de Discapacidad NO DEBEN ser mayor al total. ","")) -> #REF! | BG32: =IF(AND($E32<>0,#REF!=""),"* No olvide digitar la columna Niños, Niñas, Adolescentes y Jóvenes Población SENAME (Digite CEROS si no tiene). ",IF($E32<#REF!,"* Los Niños, Niñas, Adolescentes y Jóvenes Población SENAME NO DEBEN ser mayor al total. ","")) -> #REF! | BH32: =IF(AND($E32<>0,#REF!=""),"* No olvide digitar la columna Migrantes (Digite CEROS si no tiene). ",IF($E32<#REF!,"* Los Migrantes NO DEBEN ser mayor al total. ","")) -> #REF! | BI32: =IF((#REF!+#REF!)<#REF!,1,0) -> #REF! | BJ32: =IF(E32<#REF!,1,0) -> #REF! | BK32: =IF(#REF!<#REF!,1,0) -> #REF! | BL32: =IF(AND(E32<>0,#REF!=""),1,IF(#REF!<#REF!,1,0)) -> #REF! | BM32: =IF(AND($E32<>0,#REF!=""),1,IF($E32<#REF!,1,0)) -> #REF! | BN32: =IF(AND($E32<>0,#REF!=""),1,IF($E32<#REF!,1,0)) -> #REF! | BO32: =IF(AND($E32<>0,#REF!=""),1,IF($E32<#REF!,1,0)) -> #REF!
B33: TRASTORNOS TEMPOROMANDIBULARES Y DOLOR OROFACIAL | C33: CONSULTA NUEVA | E33: ='Hospital La Serena'!F33+'Hospital Coquimbo'!E33+'Hospital Ovalle'!E33+'Hospital Illapel'!E33 -> 404 | F33: =H33+J33 -> 487 | G33: =F33/E33 -> 1.2054455 | H33: ='Hospital La Serena'!I33+'Hospital Coquimbo'!H33+'Hospital Ovalle'!H33+'Hospital Illapel'!H33 -> 390 | I33: =H33/E33 -> 0.96534653 | J33: ='Hospital La Serena'!K33+'Hospital Coquimbo'!J33+'Hospital Ovalle'!J33+'Hospital Illapel'!J33 -> 97 | K33: =J33/E33 -> 0.24009901 | BB33: =IF(BI33=1,"* El número de pacientes de 60 años NO DEBE Ser mayor a lo registrado en el grupo Etario 20-64 años. ","") -> #REF! | BC33: =IF(BJ33=1,"* La consulta pertinente según Protocolo de Referencia NO DEBE ser mayor al Total registrado. ","") -> #REF! | BD33: =IF(BK33=1,"* La consulta pertinente según condición clínica NO DEBE ser mayor al Total registrado. ","") -> #REF! | BE33: =IF(AND(E33<>0,#REF!=""),"* Recuerde que las Embarazadas deben ser incluídas en el ingreso por rango Etario (Digite CEROS si no tiene). ",IF(#REF!<#REF!,"* Las Embarazadas NO DEBEN ser mayor al total de Mujeres. ","")) -> #REF! | BF33: =IF(AND($E33<>0,#REF!=""),"* No olvide digitar la columna Usuarios en Situación de Discapacidad (Digite CEROS si no tiene). ",IF($E33<#REF!,"* Los Usuarios en Situación de Discapacidad NO DEBEN ser mayor al total. ","")) -> #REF! | BG33: =IF(AND($E33<>0,#REF!=""),"* No olvide digitar la columna Niños, Niñas, Adolescentes y Jóvenes Población SENAME (Digite CEROS si no tiene). ",IF($E33<#REF!,"* Los Niños, Niñas, Adolescentes y Jóvenes Población SENAME NO DEBEN ser mayor al total. ","")) -> #REF! | BH33: =IF(AND($E33<>0,#REF!=""),"* No olvide digitar la columna Migrantes (Digite CEROS si no tiene). ",IF($E33<#REF!,"* Los Migrantes NO DEBEN ser mayor al total. ","")) -> #REF! | BI33: =IF((#REF!+#REF!)<#REF!,1,0) -> #REF! | BJ33: =IF(E33<#REF!,1,0) -> #REF! | BK33: =IF(#REF!<#REF!,1,0) -> #REF! | BL33: =IF(AND(E33<>0,#REF!=""),1,IF(#REF!<#REF!,1,0)) -> #REF! | BM33: =IF(AND($E33<>0,#REF!=""),1,IF($E33<#REF!,1,0)) -> #REF! | BN33: =IF(AND($E33<>0,#REF!=""),1,IF($E33<#REF!,1,0)) -> #REF! | BO33: =IF(AND($E33<>0,#REF!=""),1,IF($E33<#REF!,1,0)) -> #REF!
C34: CONTROL | E34: ='Hospital La Serena'!F34+'Hospital Coquimbo'!E34+'Hospital Ovalle'!E34+'Hospital Illapel'!E34 -> 1814 | F34: =H34+J34 -> 0 | G34: =F34/E34 -> 0 | H34: ='Hospital La Serena'!I34+'Hospital Coquimbo'!H34+'Hospital Ovalle'!H34+'Hospital Illapel'!H34 -> 0 | I34: =H34/E34 -> 0 | J34: ='Hospital La Serena'!K34+'Hospital Coquimbo'!J34+'Hospital Ovalle'!J34+'Hospital Illapel'!J34 -> 0 | K34: =J34/E34 -> 0 | BB34: =IF(BI34=1,"* El número de pacientes de 60 años NO DEBE Ser mayor a lo registrado en el grupo Etario 20-64 años. ","") -> #REF! | BC34: =IF(BJ34=1,"* La consulta pertinente según Protocolo de Referencia NO DEBE ser mayor al Total registrado. ","") -> #REF! | BD34: =IF(BK34=1,"* La consulta pertinente según condición clínica NO DEBE ser mayor al Total registrado. ","") -> #REF! | BE34: =IF(AND(E34<>0,#REF!=""),"* Recuerde que las Embarazadas deben ser incluídas en el ingreso por rango Etario (Digite CEROS si no tiene). ",IF(#REF!<#REF!,"* Las Embarazadas NO DEBEN ser mayor al total de Mujeres. ","")) -> #REF! | BF34: =IF(AND($E34<>0,#REF!=""),"* No olvide digitar la columna Usuarios en Situación de Discapacidad (Digite CEROS si no tiene). ",IF($E34<#REF!,"* Los Usuarios en Situación de Discapacidad NO DEBEN ser mayor al total. ","")) -> #REF! | BG34: =IF(AND($E34<>0,#REF!=""),"* No olvide digitar la columna Niños, Niñas, Adolescentes y Jóvenes Población SENAME (Digite CEROS si no tiene). ",IF($E34<#REF!,"* Los Niños, Niñas, Adolescentes y Jóvenes Población SENAME NO DEBEN ser mayor al total. ","")) -> #REF! | BH34: =IF(AND($E34<>0,#REF!=""),"* No olvide digitar la columna Migrantes (Digite CEROS si no tiene). ",IF($E34<#REF!,"* Los Migrantes NO DEBEN ser mayor al total. ","")) -> #REF! | BI34: =IF((#REF!+#REF!)<#REF!,1,0) -> #REF! | BJ34: =IF(E34<#REF!,1,0) -> #REF! | BK34: =IF(#REF!<#REF!,1,0) -> #REF! | BL34: =IF(AND(E34<>0,#REF!=""),1,IF(#REF!<#REF!,1,0)) -> #REF! | BM34: =IF(AND($E34<>0,#REF!=""),1,IF($E34<#REF!,1,0)) -> #REF! | BN34: =IF(AND($E34<>0,#REF!=""),1,IF($E34<#REF!,1,0)) -> #REF! | BO34: =IF(AND($E34<>0,#REF!=""),1,IF($E34<#REF!,1,0)) -> #REF!
B35: TOTAL | C35: CONSULTA NUEVA | E35: =E7+E9+E11+E13+E15+E17+E19+E21+E23+E25+E27+E29+E31+E33 -> 14508 | F35: =F7+F9+F11+F13+F15+F17+F19+F21+F23+F25+F27+F29+F31+F33 -> 20549 | G35: =F35/E35 -> 1.416391 | H35: =H7+H9+H11+H13+H15+H17+H19+H21+H23+H25+H27+H29+H31+H33 -> 12830 | I35: =H35/E35 -> 0.88433967 | J35: =J7+J9+J11+J13+J15+J17+J19+J21+J23+J25+J27+J29+J31+J33 -> 7719 | K35: =J35/E35 -> 0.53205128 | BB35: =IF(BI35=1,"* El número de pacientes de 60 años NO DEBE Ser mayor a lo registrado en el grupo Etario 20-64 años. ","") -> #REF! | BC35: =IF(BJ35=1,"* La consulta pertinente según Protocolo de Referencia NO DEBE ser mayor al Total registrado. ","") -> #REF! | BD35: =IF(BK35=1,"* La consulta pertinente según condición clínica NO DEBE ser mayor al Total registrado. ","") -> #REF! | BE35: =IF(AND(E35<>0,#REF!=""),"* Recuerde que las Embarazadas deben ser incluídas en el ingreso por rango Etario (Digite CEROS si no tiene). ",IF(#REF!<#REF!,"* Las Embarazadas NO DEBEN ser mayor al total de Mujeres. ","")) -> #REF! | BF35: =IF(AND($E35<>0,#REF!=""),"* No olvide digitar la columna Usuarios en Situación de Discapacidad (Digite CEROS si no tiene). ",IF($E35<#REF!,"* Los Usuarios en Situación de Discapacidad NO DEBEN ser mayor al total. ","")) -> #REF! | BG35: =IF(AND($E35<>0,#REF!=""),"* No olvide digitar la columna Niños, Niñas, Adolescentes y Jóvenes Población SENAME (Digite CEROS si no tiene). ",IF($E35<#REF!,"* Los Niños, Niñas, Adolescentes y Jóvenes Población SENAME NO DEBEN ser mayor al total. ","")) -> #REF! | BH35: =IF(AND($E35<>0,#REF!=""),"* No olvide digitar la columna Migrantes (Digite CEROS si no tiene). ",IF($E35<#REF!,"* Los Migrantes NO DEBEN ser mayor al total. ","")) -> #REF! | BI35: =IF((#REF!+#REF!)<#REF!,1,0) -> #REF! | BJ35: =IF(E35<#REF!,1,0) -> #REF! | BK35: =IF(#REF!<#REF!,1,0) -> #REF! | BL35: =IF(AND(E35<>0,#REF!=""),1,IF(#REF!<#REF!,1,0)) -> #REF! | BM35: =IF(AND($E35<>0,#REF!=""),1,IF($E35<#REF!,1,0)) -> #REF! | BN35: =IF(AND($E35<>0,#REF!=""),1,IF($E35<#REF!,1,0)) -> #REF! | BO35: =IF(AND($E35<>0,#REF!=""),1,IF($E35<#REF!,1,0)) -> #REF!
C36: CONTROL | E36: =E8+E10+E12+E14+E16+E18+E20+E22+E24+E26+E28+E30+E32+E34 -> 51019 | F36: =F8+F10+F12+F14+F16+F18+F20+F22+F24+F26+F28+F30+F32+F34 -> 0 | G36: =F36/E36 -> 0 | H36: =H8+H10+H12+H14+H16+H18+H20+H22+H24+H26+H28+H30+H32+H34 -> 0 | I36: =H36/E36 -> 0 | J36: =J8+J10+J12+J14+J16+J18+J20+J22+J24+J26+J28+J30+J32+J34 -> 0 | K36: =J36/E36 -> 0 | BB36: =IF(BI36=1,"* El número de pacientes de 60 años NO DEBE Ser mayor a lo registrado en el grupo Etario 20-64 años. ","") -> #REF! | BC36: =IF(BJ36=1,"* La consulta pertinente según Protocolo de Referencia NO DEBE ser mayor al Total registrado. ","") -> #REF! | BD36: =IF(BK36=1,"* La consulta pertinente según condición clínica NO DEBE ser mayor al Total registrado. ","") -> #REF! | BE36: =IF(AND(E36<>0,#REF!=""),"* Recuerde que las Embarazadas deben ser incluídas en el ingreso por rango Etario (Digite CEROS si no tiene). ",IF(#REF!<#REF!,"* Las Embarazadas NO DEBEN ser mayor al total de Mujeres. ","")) -> #REF! | BF36: =IF(AND($E36<>0,#REF!=""),"* No olvide digitar la columna Usuarios en Situación de Discapacidad (Digite CEROS si no tiene). ",IF($E36<#REF!,"* Los Usuarios en Situación de Discapacidad NO DEBEN ser mayor al total. ","")) -> #REF! | BG36: =IF(AND($E36<>0,#REF!=""),"* No olvide digitar la columna Niños, Niñas, Adolescentes y Jóvenes Población SENAME (Digite CEROS si no tiene). ",IF($E36<#REF!,"* Los Niños, Niñas, Adolescentes y Jóvenes Población SENAME NO DEBEN ser mayor al total. ","")) -> #REF! | BH36: =IF(AND($E36<>0,#REF!=""),"* No olvide digitar la columna Migrantes (Digite CEROS si no tiene). ",IF($E36<#REF!,"* Los Migrantes NO DEBEN ser mayor al total. ","")) -> #REF! | BI36: =IF((#REF!+#REF!)<#REF!,1,0) -> #REF! | BJ36: =IF(E36<#REF!,1,0) -> #REF! | BK36: =IF(#REF!<#REF!,1,0) -> #REF! | BL36: =IF(AND(E36<>0,#REF!=""),1,IF(#REF!<#REF!,1,0)) -> #REF! | BM36: =IF(AND($E36<>0,#REF!=""),1,IF($E36<#REF!,1,0)) -> #REF! | BN36: =IF(AND($E36<>0,#REF!=""),1,IF($E36<#REF!,1,0)) -> #REF! | BO36: =IF(AND($E36<>0,#REF!=""),1,IF($E36<#REF!,1,0)) -> #REF!

Sheet Hospital La Serena
C2: CONSULTAS, INGRESOS Y EGRESOS EN ESPECIALIDADES ODONTOLÓGICAS REALIZADOS EN NIVEL PRIMARIO Y SECUNDARIO DE SALUD.
C4: ESPECIALIDAD Y TIPO DE INGRESO O EGRESO | F4: TOTAL | G4: CONSULTAS PERTINENTES | I4: CONSULTAS PERTINENTES
I5: Según Protocolo de Referencia | K5: Según Condición Clínica
G6: Cantidad | H6: Porcentaje | I6: Cantidad | J6: Porcentaje | K6: Cantidad | L6: Porcentaje
A7: 09600155 | C7: CIRUGÍA BUCAL | D7: CONSULTA NUEVA | F7: 392 | G7: =I7+K7 -> 763 | H7: =G7/F7 -> 1.9464286 | I7: 385 | J7: =I7/F7 -> 0.98214286 | K7: 378 | L7: =K7/F7 -> 0.96428571 | BC7: =IF(BJ7=1,"* El número de pacientes de 60 años NO DEBE Ser mayor a lo registrado en el grupo Etario 20-64 años. ","") -> #REF! | BD7: =IF(BK7=1,"* La consulta pertinente según Protocolo de Referencia NO DEBE ser mayor al Total registrado. ","") -> #REF! | BE7: =IF(BL7=1,"* La consulta pertinente según condición clínica NO DEBE ser mayor al Total registrado. ","") -> #REF! | BF7: =IF(AND(F7<>0,#REF!=""),"* Recuerde que las Embarazadas deben ser incluídas en el ingreso por rango Etario (Digite CEROS si no tiene). ",IF(#REF!<#REF!,"* Las Embarazadas NO DEBEN ser mayor al total de Mujeres. ","")) -> #REF! | BG7: =IF(AND($F7<>0,#REF!=""),"* No olvide digitar la columna Usuarios en Situación de Discapacidad (Digite CEROS si no tiene). ",IF($F7<#REF!,"* Los Usuarios en Situación de Discapacidad NO DEBEN ser mayor al total. ","")) -> #REF! | BH7: =IF(AND($F7<>0,#REF!=""),"* No olvide digitar la columna Niños, Niñas, Adolescentes y Jóvenes Población SENAME (Digite CEROS si no tiene). ",IF($F7<#REF!,"* Los Niños, Niñas, Adolescentes y Jóvenes Población SENAME NO DEBEN ser mayor al total. ","")) -> #REF! | BI7: =IF(AND($F7<>0,#REF!=""),"* No olvide digitar la columna Migrantes (Digite CEROS si no tiene). ",IF($F7<#REF!,"* Los Migrantes NO DEBEN ser mayor al total. ","")) -> #REF! | BJ7: =IF((#REF!+#REF!)<#REF!,1,0) -> #REF! | BK7: =IF(F7<#REF!,1,0) -> #REF! | BL7: =IF(#REF!<#REF!,1,0) -> #REF! | BM7: =IF(AND(F7<>0,#REF!=""),1,IF(#REF!<#REF!,1,0)) -> #REF! | BN7: =IF(AND($F7<>0,#REF!=""),1,IF($F7<#REF!,1,0)) -> #REF! | BO7: =IF(AND($F7<>0,#REF!=""),1,IF($F7<#REF!,1,0)) -> #REF! | BP7: =IF(AND($F7<>0,#REF!=""),1,IF($F7<#REF!,1,0)) -> #REF!
A8: 09600156 | D8: CONTROL | F8: 1026 | G8: =I8+K8 -> 0 | H8: =G8/F8 -> 0 | I8: 0 | J8: =I8/F8 -> 0 | K8: 0 | L8: =K8/F8 -> 0 | BC8: =IF(BJ8=1,"* El número de pacientes de 60 años NO DEBE Ser mayor a lo registrado en el grupo Etario 20-64 años. ","") -> #REF! | BD8: =IF(BK8=1,"* La consulta pertinente según Protocolo de Referencia NO DEBE ser mayor al Total registrado. ","") -> #REF! | BE8: =IF(BL8=1,"* La consulta pertinente según condición clínica NO DEBE ser mayor al Total registrado. ","") -> #REF! | BF8: =IF(AND(F8<>0,#REF!=""),"* Recuerde que las Embarazadas deben ser incluídas en el ingreso por rango Etario (Digite CEROS si no tiene). ",IF(#REF!<#REF!,"* Las Embarazadas NO DEBEN ser mayor al total de Mujeres. ","")) -> #REF! | BG8: =IF(AND($F8<>0,#REF!=""),"* No olvide digitar la columna Usuarios en Situación de Discapacidad (Digite CEROS si no tiene). ",IF($F8<#REF!,"* Los Usuarios en Situación de Discapacidad NO DEBEN ser mayor al total. ","")) -> #REF! | BH8: =IF(AND($F8<>0,#REF!=""),"* No olvide digitar la columna Niños, Niñas, Adolescentes y Jóvenes Población SENAME (Digite CEROS si no tiene). ",IF($F8<#REF!,"* Los Niños, Niñas, Adolescentes y Jóvenes Población SENAME NO DEBEN ser mayor al total. ","")) -> #REF! | BI8: =IF(AND($F8<>0,#REF!=""),"* No olvide digitar la columna Migrantes (Digite CEROS si no tiene). ",IF($F8<#REF!,"* Los Migrantes NO DEBEN ser mayor al total. ","")) -> #REF! | BJ8: =IF((#REF!+#REF!)<#REF!,1,0) -> #REF! | BK8: =IF(F8<#REF!,1,0) -> #REF! | BL8: =IF(#REF!<#REF!,1,0) -> #REF! | BM8: =IF(AND(F8<>0,#REF!=""),1,IF(#REF!<#REF!,1,0)) -> #REF! | BN8: =IF(AND($F8<>0,#REF!=""),1,IF($F8<#REF!,1,0)) -> #REF! | BO8: =IF(AND($F8<>0,#REF!=""),1,IF($F8<#REF!,1,0)) -> #REF! | BP8: =IF(AND($F8<>0,#REF!=""),1,IF($F8<#REF!,1,0)) -> #REF!
A9: 09600158 | C9: CIRUGÍA Y TRAUMATOLOGÍA MAXILOFACIAL | D9: CONSULTA NUEVA | F9: 743 | G9: =I9+K9 -> 1178 | H9: =G9/F9 -> 1.5854643 | I9: 576 | J9: =I9/F9 -> 0.77523553 | K9: 602 | L9: =K9/F9 -> 0.8102288 | BC9: =IF(BJ9=1,"* El número de pacientes de 60 años NO DEBE Ser mayor a lo registrado en el grupo Etario 20-64 años. ","") -> #REF! | BD9: =IF(BK9=1,"* La consulta pertinente según Protocolo de Referencia NO DEBE ser mayor al Total registrado. ","") -> #REF! | BE9: =IF(BL9=1,"* La consulta pertinente según condición clínica NO DEBE ser mayor al Total registrado. ","") -> #REF! | BF9: =IF(AND(F9<>0,#REF!=""),"* Recuerde que las Embarazadas deben ser incluídas en el ingreso por rango Etario (Digite CEROS si no tiene). ",IF(#REF!<#REF!,"* Las Embarazadas NO DEBEN ser mayor al total de Mujeres. ","")) -> #REF! | BG9: =IF(AND($F9<>0,#REF!=""),"* No olvide digitar la columna Usuarios en Situación de Discapacidad (Digite CEROS si no tiene). ",IF($F9<#REF!,"* Los Usuarios en Situación de Discapacidad NO DEBEN ser mayor al total. ","")) -> #REF! | BH9: =IF(AND($F9<>0,#REF!=""),"* No olvide digitar la columna Niños, Niñas, Adolescentes y Jóvenes Población SENAME (Digite CEROS si no tiene). ",IF($F9<#REF!,"* Los Niños, Niñas, Adolescentes y Jóvenes Población SENAME NO DEBEN ser mayor al total. ","")) -> #REF! | BI9: =IF(AND($F9<>0,#REF!=""),"* No olvide digitar la columna Migrantes (Digite CEROS si no tiene). ",IF($F9<#REF!,"* Los Migrantes NO DEBEN ser mayor al total. ","")) -> #REF! | BJ9: =IF((#REF!+#REF!)<#REF!,1,0) -> #REF! | BK9: =IF(F9<#REF!,1,0) -> #REF! | BL9: =IF(#REF!<#REF!,1,0) -> #REF! | BM9: =IF(AND(F9<>0,#REF!=""),1,IF(#REF!<#REF!,1,0)) -> #REF! | BN9: =IF(AND($F9<>0,#REF!=""),1,IF($F9<#REF!,1,0)) -> #REF! | BO9: =IF(AND($F9<>0,#REF!=""),1,IF($F9<#REF!,1,0)) -> #REF! | BP9: =IF(AND($F9<>0,#REF!=""),1,IF($F9<#REF!,1,0)) -> #REF!
A10: 09600159 | D10: CONTROL | F10: 2198 | G10: =I10+K10 -> 0 | H10: =G10/F10 -> 0 | I10: 0 | J10: =I10/F10 -> 0 | K10: 0 | L10: =K10/F10 -> 0 | BC10: =IF(BJ10=1,"* El número de pacientes de 60 años NO DEBE Ser mayor a lo registrado en el grupo Etario 20-64 años. ","") -> #REF! | BD10: =IF(BK10=1,"* La consulta pertinente según Protocolo de Referencia NO DEBE ser mayor al Total registrado. ","") -> #REF! | BE10: =IF(BL10=1,"* La consulta pertinente según condición clínica NO DEBE ser mayor al Total registrado. ","") -> #REF! | BF10: =IF(AND(F10<>0,#REF!=""),"* Recuerde que las Embarazadas deben ser incluídas en el ingreso por rango Etario (Digite CEROS si no tiene). ",IF(#REF!<#REF!,"* Las Embarazadas NO DEBEN ser mayor al total de Mujeres. ","")) -> #REF! | BG10: =IF(AND($F10<>0,#REF!=""),"* No olvide digitar la columna Usuarios en Situación de Discapacidad (Digite CEROS si no tiene). ",IF($F10<#REF!,"* Los Usuarios en Situación de Discapacidad NO DEBEN ser mayor al total. ","")) -> #REF! | BH10: =IF(AND($F10<>0,#REF!=""),"* No olvide digitar la columna Niños, Niñas, Adolescentes y Jóvenes Población SENAME (Digite CEROS si no tiene). ",IF($F10<#REF!,"* Los Niños, Niñas, Adolescentes y Jóvenes Población SENAME NO DEBEN ser mayor al total. ","")) -> #REF! | BI10: =IF(AND($F10<>0,#REF!=""),"* No olvide digitar la columna Migrantes (Digite CEROS si no tiene). ",IF($F10<#REF!,"* Los Migrantes NO DEBEN ser mayor al total. ","")) -> #REF! | BJ10: =IF((#REF!+#REF!)<#REF!,1,0) -> #REF! | BK10: =IF(F10<#REF!,1,0) -> #REF! | BL10: =IF(#REF!<#REF!,1,0) -> #REF! | BM10: =IF(AND(F10<>0,#REF!=""),1,IF(#REF!<#REF!,1,0)) -> #REF! | BN10: =IF(AND($F10<>0,#REF!=""),1,IF($F10<#REF!,1,0)) -> #REF! | BO10: =IF(AND($F10<>0,#REF!=""),1,IF($F10<#REF!,1,0)) -> #REF! | BP10: =IF(AND($F10<>0,#REF!=""),1,IF($F10<#REF!,1,0)) -> #REF!
A11: 09600161 | C11: ENDODONCIA | D11: CONSULTA NUEVA | F11: 1333 | G11: =I11+K11 -> 2268 | H11: =G11/F11 -> 1.7014254 | I11: 1155 | J11: =I11/F11 -> 0.86646662 | K11: 1113 | L11: =K11/F11 -> 0.83495874 | BC11: =IF(BJ11=1,"* El número de pacientes de 60 años NO DEBE Ser mayor a lo registrado en el grupo Etario 20-64 años. ","") -> #REF! | BD11: =IF(BK11=1,"* La consulta pertinente según Protocolo de Referencia NO DEBE ser mayor al Total registrado. ","") -> #REF! | BE11: =IF(BL11=1,"* La consulta pertinente según condición clínica NO DEBE ser mayor al Total registrado. ","") -> #REF! | BF11: =IF(AND(F11<>0,#REF!=""),"* Recuerde que las Embarazadas deben ser incluídas en el ingreso por rango Etario (Digite CEROS si no tiene). ",IF(#REF!<#REF!,"* Las Embarazadas NO DEBEN ser mayor al total de Mujeres. ","")) -> #REF! | BG11: =IF(AND($F11<>0,#REF!=""),"* No olvide digitar la columna Usuarios en Situación de Discapacidad (Digite CEROS si no tiene). ",IF($F11<#REF!,"* Los Usuarios en Situación de Discapacidad NO DEBEN ser mayor al total. ","")) -> #REF! | BH11: =IF(AND($F11<>0,#REF!=""),"* No olvide digitar la columna Niños, Niñas, Adolescentes y Jóvenes Población SENAME (Digite CEROS si no tiene). ",IF($F11<#REF!,"* Los Niños, Niñas, Adolescentes y Jóvenes Población SENAME NO DEBEN ser mayor al total. ","")) -> #REF! | BI11: =IF(AND($F11<>0,#REF!=""),"* No olvide digitar la columna Migrantes (Digite CEROS si no tiene). ",IF($F11<#REF!,"* Los Migrantes NO DEBEN ser mayor al total. ","")) -> #REF! | BJ11: =IF((#REF!+#REF!)<#REF!,1,0) -> #REF! | BK11: =IF(F11<#REF!,1,0) -> #REF! | BL11: =IF(#REF!<#REF!,1,0) -> #REF! | BM11: =IF(AND(F11<>0,#REF!=""),1,IF(#REF!<#REF!,1,0)) -> #REF! | BN11: =IF(AND($F11<>0,#REF!=""),1,IF($F11<#REF!,1,0)) -> #REF! | BO11: =IF(AND($F11<>0,#REF!=""),1,IF($F11<#REF!,1,0)) -> #REF! | BP11: =IF(AND($F11<>0,#REF!=""),1,IF($F11<#REF!,1,0)) -> #REF!
A12: 09600162 | D12: CONTROL | F12: 2431 | G12: =I12+K12 -> 0 | H12: =G12/F12 -> 0 | I12: 0 | J12: =I12/F12 -> 0 | K12: 0 | L12: =K12/F12 -> 0 | BC12: =IF(BJ12=1,"* El número de pacientes de 60 años NO DEBE Ser mayor a lo registrado en el grupo Etario 20-64 años. ","") -> #REF! | BD12: =IF(BK12=1,"* La consulta pertinente según Protocolo de Referencia NO DEBE ser mayor al Total registrado. ","") -> #REF! | BE12: =IF(BL12=1,"* La consulta pertinente según condición clínica NO DEBE ser mayor al Total registrado. ","") -> #REF! | BF12: =IF(AND(F12<>0,#REF!=""),"* Recuerde que las Embarazadas deben ser incluídas en el ingreso por rango Etario (Digite CEROS si no tiene). ",IF(#REF!<#REF!,"* Las Embarazadas NO DEBEN ser mayor al total de Mujeres. ","")) -> #REF! | BG12: =IF(AND($F12<>0,#REF!=""),"* No olvide digitar la columna Usuarios en Situación de Discapacidad (Digite CEROS si no tiene). ",IF($F12<#REF!,"* Los Usuarios en Situación de Discapacidad NO DEBEN ser mayor al total. ","")) -> #REF! | BH12: =IF(AND($F12<>0,#REF!=""),"* No olvide digitar la columna Niños, Niñas, Adolescentes y Jóvenes Población SENAME (Digite CEROS si no tiene). ",IF($F12<#REF!,"* Los Niños, Niñas, Adolescentes y Jóvenes Población SENAME NO DEBEN ser mayor al total. ","")) -> #REF! | BI12: =IF(AND($F12<>0,#REF!=""),"* No olvide digitar la columna Migrantes (Digite CEROS si no tiene). ",IF($F12<#REF!,"* Los Migrantes NO DEBEN ser mayor al total. ","")) -> #REF! | BJ12: =IF((#REF!+#REF!)<#REF!,1,0) -> #REF! | BK12: =IF(F12<#REF!,1,0) -> #REF! | BL12: =IF(#REF!<#REF!,1,0) -> #REF! | BM12: =IF(AND(F12<>0,#REF!=""),1,IF(#REF!<#REF!,1,0)) -> #REF! | BN12: =IF(AND($F12<>0,#REF!=""),1,IF($F12<#REF!,1,0)) -> #REF! | BO12: =IF(AND($F12<>0,#REF!=""),1,IF($F12<#REF!,1,0)) -> #REF! | BP12: =IF(AND($F12<>0,#REF!=""),1,IF($F12<#REF!,1,0)) -> #REF!
A13: 09600164 | C13: ODONTOPEDIATRÍA | D13: CONSULTA NUEVA | F13: 531 | G13: =I13+K13 -> 929 | H13: =G13/F13 -> 1.7495292 | I13: 411 | J13: =I13/F13 -> 0.7740113 | K13: 518 | L13: =K13/F13 -> 0.97551789 | BD13: =IF(BK13=1,"* La consulta pertinente según Protocolo de Referencia NO DEBE ser mayor al Total registrado. ","") -> #REF! | BE13: =IF(BL13=1,"* La consulta pertinente según condición clínica NO DEBE ser mayor al Total registrado. ","") -> #REF! | BF13: =IF(AND(F13<>0,#REF!=""),"* Recuerde que las Embarazadas deben ser incluídas en el ingreso por rango Etario (Digite CEROS si no tiene). ",IF(#REF!<#REF!,"* Las Embarazadas NO DEBEN ser mayor al total de Mujeres. ","")) -> #REF! | BG13: =IF(AND($F13<>0,#REF!=""),"* No olvide digitar la columna Usuarios en Situación de Discapacidad (Digite CEROS si no tiene). ",IF($F13<#REF!,"* Los Usuarios en Situación de Discapacidad NO DEBEN ser mayor al total. ","")) -> #REF! | BH13: =IF(AND($F13<>0,#REF!=""),"* No olvide digitar la columna Niños, Niñas, Adolescentes y Jóvenes Población SENAME (Digite CEROS si no tiene). ",IF($F13<#REF!,"* Los Niños, Niñas, Adolescentes y Jóvenes Población SENAME NO DEBEN ser mayor al total. ","")) -> #REF! | BI13: =IF(AND($F13<>0,#REF!=""),"* No olvide digitar la columna Migrantes (Digite CEROS si no tiene). ",IF($F13<#REF!,"* Los Migrantes NO DEBEN ser mayor al total. ","")) -> #REF! | BK13: =IF(F13<#REF!,1,0) -> #REF! | BL13: =IF(#REF!<#REF!,1,0) -> #REF! | BM13: =IF(AND(F13<>0,#REF!=""),1,IF(#REF!<#REF!,1,0)) -> #REF! | BN13: =IF(AND($F13<>0,#REF!=""),1,IF($F13<#REF!,1,0)) -> #REF! | BO13: =IF(AND($F13<>0,#REF!=""),1,IF($F13<#REF!,1,0)) -> #REF! | BP13: =IF(AND($F13<>0,#REF!=""),1,IF($F13<#REF!,1,0)) -> #REF!
A14: 09600165 | D14: CONTROL | F14: 2478 | G14: =I14+K14 -> 0 | H14: =G14/F14 -> 0 | I14: 0 | J14: =I14/F14 -> 0 | K14: 0 | L14: =K14/F14 -> 0 | BD14: =IF(BK14=1,"* La consulta pertinente según Protocolo de Referencia NO DEBE ser mayor al Total registrado. ","") -> #REF! | BE14: =IF(BL14=1,"* La consulta pertinente según condición clínica NO DEBE ser mayor al Total registrado. ","") -> #REF! | BF14: =IF(AND(F14<>0,#REF!=""),"* Recuerde que las Embarazadas deben ser incluídas en el ingreso por rango Etario (Digite CEROS si no tiene). ",IF(#REF!<#REF!,"* Las Embarazadas NO DEBEN ser mayor al total de Mujeres. ","")) -> #REF! | BG14: =IF(AND($F14<>0,#REF!=""),"* No olvide digitar la columna Usuarios en Situación de Discapacidad (Digite CEROS si no tiene). ",IF($F14<#REF!,"* Los Usuarios en Situación de Discapacidad NO DEBEN ser mayor al total. ","")) -> #REF! | BH14: =IF(AND($F14<>0,#REF!=""),"* No olvide digitar la columna Niños, Niñas, Adolescentes y Jóvenes Población SENAME (Digite CEROS si no tiene). ",IF($F14<#REF!,"* Los Niños, Niñas, Adolescentes y Jóvenes Población SENAME NO DEBEN ser mayor al total. ","")) -> #REF! | BI14: =IF(AND($F14<>0,#REF!=""),"* No olvide digitar la columna Migrantes (Digite CEROS si no tiene). ",IF($F14<#REF!,"* Los Migrantes NO DEBEN ser mayor al total. ","")) -> #REF! | BK14: =IF(F14<#REF!,1,0) -> #REF! | BL14: =IF(#REF!<#REF!,1,0) -> #REF! | BM14: =IF(AND(F14<>0,#REF!=""),1,IF(#REF!<#REF!,1,0)) -> #REF! | BN14: =IF(AND($F14<>0,#REF!=""),1,IF($F14<#REF!,1,0)) -> #REF! | BO14: =IF(AND($F14<>0,#REF!=""),1,IF($F14<#REF!,1,0)) -> #REF! | BP14: =IF(AND($F14<>0,#REF!=""),1,IF($F14<#REF!,1,0)) -> #REF!
A15: 09600167 | C15: OPERATORIA | D15: CONSULTA NUEVA | F15: 102 | G15: =I15+K15 -> 137 | H15: =G15/F15 -> 1.3431373 | I15: 36 | J15: =I15/F15 -> 0.35294118 | K15: 101 | L15: =K15/F15 -> 0.99019608 | BC15: =IF(BJ15=1,"* El número de pacientes de 60 años NO DEBE Ser mayor a lo registrado en el grupo Etario 20-64 años. ","") -> #REF! | BD15: =IF(BK15=1,"* La consulta pertinente según Protocolo de Referencia NO DEBE ser mayor al Total registrado. ","") -> #REF! | BE15: =IF(BL15=1,"* La consulta pertinente según condición clínica NO DEBE ser mayor al Total registrado. ","") -> #REF! | BF15: =IF(AND(F15<>0,#REF!=""),"* Recuerde que las Embarazadas deben ser incluídas en el ingreso por rango Etario (Digite CEROS si no tiene). ",IF(#REF!<#REF!,"* Las Embarazadas NO DEBEN ser mayor al total de Mujeres. ","")) -> #REF! | BG15: =IF(AND($F15<>0,#REF!=""),"* No olvide digitar la columna Usuarios en Situación de Discapacidad (Digite CEROS si no tiene). ",IF($F15<#REF!,"* Los Usuarios en Situación de Discapacidad NO DEBEN ser mayor al total. ","")) -> #REF! | BH15: =IF(AND($F15<>0,#REF!=""),"* No olvide digitar la columna Niños, Niñas, Adolescentes y Jóvenes Población SENAME (Digite CEROS si no tiene). ",IF($F15<#REF!,"* Los Niños, Niñas, Adolescentes y Jóvenes Población SENAME NO DEBEN ser mayor al total. ","")) -> #REF! | BI15: =IF(AND($F15<>0,#REF!=""),"* No olvide digitar la columna Migrantes (Digite CEROS si no tiene). ",IF($F15<#REF!,"* Los Migrantes NO DEBEN ser mayor al total. ","")) -> #REF! | BJ15: =IF((#REF!+#REF!)<#REF!,1,0) -> #REF! | BK15: =IF(F15<#REF!,1,0) -> #REF! | BL15: =IF(#REF!<#REF!,1,0) -> #REF! | BM15: =IF(AND(F15<>0,#REF!=""),1,IF(#REF!<#REF!,1,0)) -> #REF! | BN15: =IF(AND($F15<>0,#REF!=""),1,IF($F15<#REF!,1,0)) -> #REF! | BO15: =IF(AND($F15<>0,#REF!=""),1,IF($F15<#REF!,1,0)) -> #REF! | BP15: =IF(AND($F15<>0,#REF!=""),1,IF($F15<#REF!,1,0)) -> #REF!
A16: 09600168 | D16: CONTROL | F16: 373 | G16: =I16+K16 -> 0 | H16: =G16/F16 -> 0 | I16: 0 | J16: =I16/F16 -> 0 | K16: 0 | L16: =K16/F16 -> 0 | BC16: =IF(BJ16=1,"* El número de pacientes de 60 años NO DEBE Ser mayor a lo registrado en el grupo Etario 20-64 años. ","") -> #REF! | BD16: =IF(BK16=1,"* La consulta pertinente según Protocolo de Referencia NO DEBE ser mayor al Total registrado. ","") -> #REF! | BE16: =IF(BL16=1,"* La consulta pertinente según condición clínica NO DEBE ser mayor al Total registrado. ","") -> #REF! | BF16: =IF(AND(F16<>0,#REF!=""),"* Recuerde que las Embarazadas deben ser incluídas en el ingreso por rango Etario (Digite CEROS si no tiene). ",IF(#REF!<#REF!,"* Las Embarazadas NO DEBEN ser mayor al total de Mujeres. ","")) -> #REF! | BG16: =IF(AND($F16<>0,#REF!=""),"* No olvide digitar la columna Usuarios en Situación de Discapacidad (Digite CEROS si no tiene). ",IF($F16<#REF!,"* Los Usuarios en Situación de Discapacidad NO DEBEN ser mayor al total. ","")) -> #REF! | BH16: =IF(AND($F16<>0,#REF!=""),"* No olvide digitar la columna Niños, Niñas, Adolescentes y Jóvenes Población SENAME (Digite CEROS si no tiene). ",IF($F16<#REF!,"* Los Niños, Niñas, Adolescentes y Jóvenes Población SENAME NO DEBEN ser mayor al total. ","")) -> #REF! | BI16: =IF(AND($F16<>0,#REF!=""),"* No olvide digitar la columna Migrantes (Digite CEROS si no tiene). ",IF($F16<#REF!,"* Los Migrantes NO DEBEN ser mayor al total. ","")) -> #REF! | BJ16: =IF((#REF!+#REF!)<#REF!,1,0) -> #REF! | BK16: =IF(F16<#REF!,1,0) -> #REF! | BL16: =IF(#REF!<#REF!,1,0) -> #REF! | BM16: =IF(AND(F16<>0,#REF!=""),1,IF(#REF!<#REF!,1,0)) -> #REF! | BN16: =IF(AND($F16<>0,#REF!=""),1,IF($F16<#REF!,1,0)) -> #REF! | BO16: =IF(AND($F16<>0,#REF!=""),1,IF($F16<#REF!,1,0)) -> #REF! | BP16: =IF(AND($F16<>0,#REF!=""),1,IF($F16<#REF!,1,0)) -> #REF!
A17: 09600170 | C17: ORTODONCIA Y ORTOPEDIA DENTO MAXILOFACIAL: APARATOLOGÍA FIJA | D17: CONSULTA NUEVA | F17: 405 | G17: =I17+K17 -> 540 | H17: =G17/F17 -> 1.3333333 | I17: 323 | J17: =I17/F17 -> 0.79753086 | K17: 217 | L17: =K17/F17 -> 0.53580247 | BD17: =IF(BK17=1,"* La consulta pertinente según Protocolo de Referencia NO DEBE ser mayor al Total registrado. ","") -> #REF! | BE17: =IF(BL17=1,"* La consulta pertinente según condición clínica NO DEBE ser mayor al Total registrado. ","") -> #REF! | BG17: =IF(AND($F17<>0,#REF!=""),"* No olvide digitar la columna Usuarios en Situación de Discapacidad (Digite CEROS si no tiene). ",IF($F17<#REF!,"* Los Usuarios en Situación de Discapacidad NO DEBEN ser mayor al total. ","")) -> #REF! | BH17: =IF(AND($F17<>0,#REF!=""),"* No olvide digitar la columna Niños, Niñas, Adolescentes y Jóvenes Población SENAME (Digite CEROS si no tiene). ",IF($F17<#REF!,"* Los Niños, Niñas, Adolescentes y Jóvenes Población SENAME NO DEBEN ser mayor al total. ","")) -> #REF! | BI17: =IF(AND($F17<>0,#REF!=""),"* No olvide digitar la columna Migrantes (Digite CEROS si no tiene). ",IF($F17<#REF!,"* Los Migrantes NO DEBEN ser mayor al total. ","")) -> #REF! | BK17: =IF(F17<#REF!,1,0) -> #REF! | BL17: =IF(#REF!<#REF!,1,0) -> #REF! | BN17: =IF(AND($F17<>0,#REF!=""),1,IF($F17<#REF!,1,0)) -> #REF! | BO17: =IF(AND($F17<>0,#REF!=""),1,IF($F17<#REF!,1,0)) -> #REF! | BP17: =IF(AND($F17<>0,#REF!=""),1,IF($F17<#REF!,1,0)) -> #REF!
A18: 09600171 | D18: CONTROL | F18: 3140 | G18: =I18+K18 -> 0 | H18: =G18/F18 -> 0 | I18: 0 | J18: =I18/F18 -> 0 | K18: 0 | L18: =K18/F18 -> 0 | BD18: =IF(BK18=1,"* La consulta pertinente según Protocolo de Referencia NO DEBE ser mayor al Total registrado. ","") -> #REF! | BE18: =IF(BL18=1,"* La consulta pertinente según condición clínica NO DEBE ser mayor al Total registrado. ","") -> #REF! | BG18: =IF(AND($F18<>0,#REF!=""),"* No olvide digitar la columna Usuarios en Situación de Discapacidad (Digite CEROS si no tiene). ",IF($F18<#REF!,"* Los Usuarios en Situación de Discapacidad NO DEBEN ser mayor al total. ","")) -> #REF! | BH18: =IF(AND($F18<>0,#REF!=""),"* No olvide digitar la columna Niños, Niñas, Adolescentes y Jóvenes Población SENAME (Digite CEROS si no tiene). ",IF($F18<#REF!,"* Los Niños, Niñas, Adolescentes y Jóvenes Población SENAME NO DEBEN ser mayor al total. ","")) -> #REF! | BI18: =IF(AND($F18<>0,#REF!=""),"* No olvide digitar la columna Migrantes (Digite CEROS si no tiene). ",IF($F18<#REF!,"* Los Migrantes NO DEBEN ser mayor al total. ","")) -> #REF! | BK18: =IF(F18<#REF!,1,0) -> #REF! | BL18: =IF(#REF!<#REF!,1,0) -> #REF! | BN18: =IF(AND($F18<>0,#REF!=""),1,IF($F18<#REF!,1,0)) -> #REF! | BO18: =IF(AND($F18<>0,#REF!=""),1,IF($F18<#REF!,1,0)) -> #REF! | BP18: =IF(AND($F18<>0,#REF!=""),1,IF($F18<#REF!,1,0)) -> #REF!
A19: 09600173 | C19: ORTODONCIA Y ORTOPEDIA DENTO MAXILOFACIAL: APARATOLOGÍA REMOVIBLE | D19: CONSULTA NUEVA | F19: 83 | G19: =I19+K19 -> 147 | H19: =G19/F19 -> 1.7710843 | I19: 77 | J19: =I19/F19 -> 0.92771084 | K19: 70 | L19: =K19/F19 -> 0.84337349 | BD19: =IF(BK19=1,"* La consulta pertinente según Protocolo de Referencia NO DEBE ser mayor al Total registrado. ","") -> #REF! | BE19: =IF(BL19=1,"* La consulta pertinente según condición clínica NO DEBE ser mayor al Total registrado. ","") -> #REF! | BG19: =IF(AND($F19<>0,#REF!=""),"* No olvide digitar la columna Usuarios en Situación de Discapacidad (Digite CEROS si no tiene). ",IF($F19<#REF!,"* Los Usuarios en Situación de Discapacidad NO DEBEN ser mayor al total. ","")) -> #REF! | BH19: =IF(AND($F19<>0,#REF!=""),"* No olvide digitar la columna Niños, Niñas, Adolescentes y Jóvenes Población SENAME (Digite CEROS si no tiene). ",IF($F19<#REF!,"* Los Niños, Niñas, Adolescentes y Jóvenes Población SENAME NO DEBEN ser mayor al total. ","")) -> #REF! | BI19: =IF(AND($F19<>0,#REF!=""),"* No olvide digitar la columna Migrantes (Digite CEROS si no tiene). ",IF($F19<#REF!,"* Los Migrantes NO DEBEN ser mayor al total. ","")) -> #REF! | BK19: =IF(F19<#REF!,1,0) -> #REF! | BL19: =IF(#REF!<#REF!,1,0) -> #REF! | BN19: =IF(AND($F19<>0,#REF!=""),1,IF($F19<#REF!,1,0)) -> #REF! | BO19: =IF(AND($F19<>0,#REF!=""),1,IF($F19<#REF!,1,0)) -> #REF! | BP19: =IF(AND($F19<>0,#REF!=""),1,IF($F19<#REF!,1,0)) -> #REF!
A20: 09600174 | D20: CONTROL | F20: 1114 | G20: =I20+K20 -> 0 | H20: =G20/F20 -> 0 | I20: 0 | J20: =I20/F20 -> 0 | K20: 0 | L20: =K20/F20 -> 0 | BD20: =IF(BK20=1,"* La consulta pertinente según Protocolo de Referencia NO DEBE ser mayor al Total registrado. ","") -> #REF! | BE20: =IF(BL20=1,"* La consulta pertinente según condición clínica NO DEBE ser mayor al Total registrado. ","") -> #REF! | BG20: =IF(AND($F20<>0,#REF!=""),"* No olvide digitar la columna Usuarios en Situación de Discapacidad (Digite CEROS si no tiene). ",IF($F20<#REF!,"* Los Usuarios en Situación de Discapacidad NO DEBEN ser mayor al total. ","")) -> #REF! | BH20: =IF(AND($F20<>0,#REF!=""),"* No olvide digitar la columna Niños, Niñas, Adolescentes y Jóvenes Población SENAME (Digite CEROS si no tiene). ",IF($F20<#REF!,"* Los Niños, Niñas, Adolescentes y Jóvenes Población SENAME NO DEBEN ser mayor al total. ","")) -> #REF! | BI20: =IF(AND($F20<>0,#REF!=""),"* No olvide digitar la columna Migrantes (Digite CEROS si no tiene). ",IF($F20<#REF!,"* Los Migrantes NO DEBEN ser mayor al total. ","")) -> #REF! | BK20: =IF(F20<#REF!,1,0) -> #REF! | BL20: =IF(#REF!<#REF!,1,0) -> #REF! | BN20: =IF(AND($F20<>0,#REF!=""),1,IF($F20<#REF!,1,0)) -> #REF! | BO20: =IF(AND($F20<>0,#REF!=""),1,IF($F20<#REF!,1,0)) -> #REF! | BP20: =IF(AND($F20<>0,#REF!=""),1,IF($F20<#REF!,1,0)) -> #REF!
A21: 09600178 | C21: PERIODONCIA | D21: CONSULTA NUEVA | F21: 708 | G21: =I21+K21 -> 1298 | H21: =G21/F21 -> 1.8333333 | I21: 664 | J21: =I21/F21 -> 0.93785311 | K21: 634 | L21: =K21/F21 -> 0.89548023 | BC21: =IF(BJ21=1,"* El número de pacientes de 60 años NO DEBE Ser mayor a lo registrado en el grupo Etario 20-64 años. ","") -> #REF! | BD21: =IF(BK21=1,"* La consulta pertinente según Protocolo de Referencia NO DEBE ser mayor al Total registrado. ","") -> #REF! | BE21: =IF(BL21=1,"* La consulta pertinente según condición clínica NO DEBE ser mayor al Total registrado. ","") -> #REF! | BF21: =IF(AND(F21<>0,#REF!=""),"* Recuerde que las Embarazadas deben ser incluídas en el ingreso por rango Etario (Digite CEROS si no tiene). ",IF(#REF!<#REF!,"* Las Embarazadas NO DEBEN ser mayor al total de Mujeres. ","")) -> #REF! | BG21: =IF(AND($F21<>0,#REF!=""),"* No olvide digitar la columna Usuarios en Situación de Discapacidad (Digite CEROS si no tiene). ",IF($F21<#REF!,"* Los Usuarios en Situación de Discapacidad NO DEBEN ser mayor al total. ","")) -> #REF! | BH21: =IF(AND($F21<>0,#REF!=""),"* No olvide digitar la columna Niños, Niñas, Adolescentes y Jóvenes Población SENAME (Digite CEROS si no tiene). ",IF($F21<#REF!,"* Los Niños, Niñas, Adolescentes y Jóvenes Población SENAME NO DEBEN ser mayor al total. ","")) -> #REF! | BI21: =IF(AND($F21<>0,#REF!=""),"* No olvide digitar la columna Migrantes (Digite CEROS si no tiene). ",IF($F21<#REF!,"* Los Migrantes NO DEBEN ser mayor al total. ","")) -> #REF! | BJ21: =IF((#REF!+#REF!)<#REF!,1,0) -> #REF! | BK21: =IF(F21<#REF!,1,0) -> #REF! | BL21: =IF(#REF!<#REF!,1,0) -> #REF! | BM21: =IF(AND(F21<>0,#REF!=""),1,IF(#REF!<#REF!,1,0)) -> #REF! | BN21: =IF(AND($F21<>0,#REF!=""),1,IF($F21<#REF!,1,0)) -> #REF! | BO21: =IF(AND($F21<>0,#REF!=""),1,IF($F21<#REF!,1,0)) -> #REF! | BP21: =IF(AND($F21<>0,#REF!=""),1,IF($F21<#REF!,1,0)) -> #REF!
A22: 09600179 | D22: CONTROL | F22: 1825 | G22: =I22+K22 -> 0 | H22: =G22/F22 -> 0 | I22: 0 | J22: =I22/F22 -> 0 | K22: 0 | L22: =K22/F22 -> 0 | BC22: =IF(BJ22=1,"* El número de pacientes de 60 años NO DEBE Ser mayor a lo registrado en el grupo Etario 20-64 años. ","") -> #REF! | BD22: =IF(BK22=1,"* La consulta pertinente según Protocolo de Referencia NO DEBE ser mayor al Total registrado. ","") -> #REF! | BE22: =IF(BL22=1,"* La consulta pertinente según condición clínica NO DEBE ser mayor al Total registrado. ","") -> #REF! | BF22: =IF(AND(F22<>0,#REF!=""),"* Recuerde que las Embarazadas deben ser incluídas en el ingreso por rango Etario (Digite CEROS si no tiene). ",IF(#REF!<#REF!,"* Las Embarazadas NO DEBEN ser mayor al total de Mujeres. ","")) -> #REF! | BG22: =IF(AND($F22<>0,#REF!=""),"* No olvide digitar la columna Usuarios en Situación de Discapacidad (Digite CEROS si no tiene). ",IF($F22<#REF!,"* Los Usuarios en Situación de Discapacidad NO DEBEN ser mayor al total. ","")) -> #REF! | BH22: =IF(AND($F22<>0,#REF!=""),"* No olvide digitar la columna Niños, Niñas, Adolescentes y Jóvenes Población SENAME (Digite CEROS si no tiene). ",IF($F22<#REF!,"* Los Niños, Niñas, Adolescentes y Jóvenes Población SENAME NO DEBEN ser mayor al total. ","")) -> #REF! | BI22: =IF(AND($F22<>0,#REF!=""),"* No olvide digitar la columna Migrantes (Digite CEROS si no tiene). ",IF($F22<#REF!,"* Los Migrantes NO DEBEN ser mayor al total. ","")) -> #REF! | BJ22: =IF((#REF!+#REF!)<#REF!,1,0) -> #REF! | BK22: =IF(F22<#REF!,1,0) -> #REF! | BL22: =IF(#REF!<#REF!,1,0) -> #REF! | BM22: =IF(AND(F22<>0,#REF!=""),1,IF(#REF!<#REF!,1,0)) -> #REF! | BN22: =IF(AND($F22<>0,#REF!=""),1,IF($F22<#REF!,1,0)) -> #REF! | BO22: =IF(AND($F22<>0,#REF!=""),1,IF($F22<#REF!,1,0)) -> #REF! | BP22: =IF(AND($F22<>0,#REF!=""),1,IF($F22<#REF!,1,0)) -> #REF!
A23: 09600181 | C23: REHABILITACIÓN: PRÓTESIS FIJA | D23: CONSULTA NUEVA | F23: 38 | G23: =I23+K23 -> 66 | H23: =G23/F23 -> 1.7368421 | I23: 29 | J23: =I23/F23 -> 0.76315789 | K23: 37 | L23: =K23/F23 -> 0.97368421 | BC23: =IF(BJ23=1,"* El número de pacientes de 60 años NO DEBE Ser mayor a lo registrado en el grupo Etario 20-64 años. ","") -> #REF! | BD23: =IF(BK23=1,"* La consulta pertinente según Protocolo de Referencia NO DEBE ser mayor al Total registrado. ","") -> #REF! | BE23: =IF(BL23=1,"* La consulta pertinente según condición clínica NO DEBE ser mayor al Total registrado. ","") -> #REF! | BF23: =IF(AND(F23<>0,#REF!=""),"* Recuerde que las Embarazadas deben ser incluídas en el ingreso por rango Etario (Digite CEROS si no tiene). ",IF(#REF!<#REF!,"* Las Embarazadas NO DEBEN ser mayor al total de Mujeres. ","")) -> #REF! | BG23: =IF(AND($F23<>0,#REF!=""),"* No olvide digitar la columna Usuarios en Situación de Discapacidad (Digite CEROS si no tiene). ",IF($F23<#REF!,"* Los Usuarios en Situación de Discapacidad NO DEBEN ser mayor al total. ","")) -> #REF! | BH23: =IF(AND($F23<>0,#REF!=""),"* No olvide digitar la columna Niños, Niñas, Adolescentes y Jóvenes Población SENAME (Digite CEROS si no tiene). ",IF($F23<#REF!,"* Los Niños, Niñas, Adolescentes y Jóvenes Población SENAME NO DEBEN ser mayor al total. ","")) -> #REF! | BI23: =IF(AND($F23<>0,#REF!=""),"* No olvide digitar la columna Migrantes (Digite CEROS si no tiene). ",IF($F23<#REF!,"* Los Migrantes NO DEBEN ser mayor al total. ","")) -> #REF! | BJ23: =IF((#REF!+#REF!)<#REF!,1,0) -> #REF! | BK23: =IF(F23<#REF!,1,0) -> #REF! | BL23: =IF(#REF!<#REF!,1,0) -> #REF! | BM23: =IF(AND(F23<>0,#REF!=""),1,IF(#REF!<#REF!,1,0)) -> #REF! | BN23: =IF(AND($F23<>0,#REF!=""),1,IF($F23<#REF!,1,0)) -> #REF! | BO23: =IF(AND($F23<>0,#REF!=""),1,IF($F23<#REF!,1,0)) -> #REF! | BP23: =IF(AND($F23<>0,#REF!=""),1,IF($F23<#REF!,1,0)) -> #REF!
A24: 09600182 | D24: CONTROL | F24: 90 | G24: =I24+K24 -> 0 | H24: =G24/F24 -> 0 | I24: 0 | J24: =I24/F24 -> 0 | K24: 0 | L24: =K24/F24 -> 0 | BC24: =IF(BJ24=1,"* El número de pacientes de 60 años NO DEBE Ser mayor a lo registrado en el grupo Etario 20-64 años. ","") -> #REF! | BD24: =IF(BK24=1,"* La consulta pertinente según Protocolo de Referencia NO DEBE ser mayor al Total registrado. ","") -> #REF! | BE24: =IF(BL24=1,"* La consulta pertinente según condición clínica NO DEBE ser mayor al Total registrado. ","") -> #REF! | BF24: =IF(AND(F24<>0,#REF!=""),"* Recuerde que las Embarazadas deben ser incluídas en el ingreso por rango Etario (Digite CEROS si no tiene). ",IF(#REF!<#REF!,"* Las Embarazadas NO DEBEN ser mayor al total de Mujeres. ","")) -> #REF! | BG24: =IF(AND($F24<>0,#REF!=""),"* No olvide digitar la columna Usuarios en Situación de Discapacidad (Digite CEROS si no tiene). ",IF($F24<#REF!,"* Los Usuarios en Situación de Discapacidad NO DEBEN ser mayor al total. ","")) -> #REF! | BH24: =IF(AND($F24<>0,#REF!=""),"* No olvide digitar la columna Niños, Niñas, Adolescentes y Jóvenes Población SENAME (Digite CEROS si no tiene). ",IF($F24<#REF!,"* Los Niños, Niñas, Adolescentes y Jóvenes Población SENAME NO DEBEN ser mayor al total. ","")) -> #REF! | BI24: =IF(AND($F24<>0,#REF!=""),"* No olvide digitar la columna Migrantes (Digite CEROS si no tiene). ",IF($F24<#REF!,"* Los Migrantes NO DEBEN ser mayor al total. ","")) -> #REF! | BJ24: =IF((#REF!+#REF!)<#REF!,1,0) -> #REF! | BK24: =IF(F24<#REF!,1,0) -> #REF! | BL24: =IF(#REF!<#REF!,1,0) -> #REF! | BM24: =IF(AND(F24<>0,#REF!=""),1,IF(#REF!<#REF!,1,0)) -> #REF! | BN24: =IF(AND($F24<>0,#REF!=""),1,IF($F24<#REF!,1,0)) -> #REF! | BO24: =IF(AND($F24<>0,#REF!=""),1,IF($F24<#REF!,1,0)) -> #REF! | BP24: =IF(AND($F24<>0,#REF!=""),1,IF($F24<#REF!,1,0)) -> #REF!
A25: 09600184 | C25: REHABILITACIÓN: PRÓTESIS REMOVIBLE | D25: CONSULTA NUEVA | F25: 618 | G25: =I25+K25 -> 916 | H25: =G25/F25 -> 1.4822006 | I25: 376 | J25: =I25/F25 -> 0.60841424 | K25: 540 | L25: =K25/F25 -> 0.87378641 | BC25: =IF(BJ25=1,"* El número de pacientes de 60 años NO DEBE Ser mayor a lo registrado en el grupo Etario 20-64 años. ","") -> #REF! | BD25: =IF(BK25=1,"* La consulta pertinente según Protocolo de Referencia NO DEBE ser mayor al Total registrado. ","") -> #REF! | BE25: =IF(BL25=1,"* La consulta pertinente según condición clínica NO DEBE ser mayor al Total registrado. ","") -> #REF! | BF25: =IF(AND(F25<>0,#REF!=""),"* Recuerde que las Embarazadas deben ser incluídas en el ingreso por rango Etario (Digite CEROS si no tiene). ",IF(#REF!<#REF!,"* Las Embarazadas NO DEBEN ser mayor al total de Mujeres. ","")) -> #REF! | BG25: =IF(AND($F25<>0,#REF!=""),"* No olvide digitar la columna Usuarios en Situación de Discapacidad (Digite CEROS si no tiene). ",IF($F25<#REF!,"* Los Usuarios en Situación de Discapacidad NO DEBEN ser mayor al total. ","")) -> #REF! | BH25: =IF(AND($F25<>0,#REF!=""),"* No olvide digitar la columna Niños, Niñas, Adolescentes y Jóvenes Población SENAME (Digite CEROS si no tiene). ",IF($F25<#REF!,"* Los Niños, Niñas, Adolescentes y Jóvenes Población SENAME NO DEBEN ser mayor al total. ","")) -> #REF! | BI25: =IF(AND($F25<>0,#REF!=""),"* No olvide digitar la columna Migrantes (Digite CEROS si no tiene). ",IF($F25<#REF!,"* Los Migrantes NO DEBEN ser mayor al total. ","")) -> #REF! | BJ25: =IF((#REF!+#REF!)<#REF!,1,0) -> #REF! | BK25: =IF(F25<#REF!,1,0) -> #REF! | BL25: =IF(#REF!<#REF!,1,0) -> #REF! | BM25: =IF(AND(F25<>0,#REF!=""),1,IF(#REF!<#REF!,1,0)) -> #REF! | BN25: =IF(AND($F25<>0,#REF!=""),1,IF($F25<#REF!,1,0)) -> #REF! | BO25: =IF(AND($F25<>0,#REF!=""),1,IF($F25<#REF!,1,0)) -> #REF! | BP25: =IF(AND($F25<>0,#REF!=""),1,IF($F25<#REF!,1,0)) -> #REF!
A26: 09600185 | D26: CONTROL | F26: 3705 | G26: =I26+K26 -> 0 | H26: =G26/F26 -> 0 | I26: 0 | J26: =I26/F26 -> 0 | K26: 0 | L26: =K26/F26 -> 0 | BC26: =IF(BJ26=1,"* El número de pacientes de 60 años NO DEBE Ser mayor a lo registrado en el grupo Etario 20-64 años. ","") -> #REF! | BD26: =IF(BK26=1,"* La consulta pertinente según Protocolo de Referencia NO DEBE ser mayor al Total registrado. ","") -> #REF! | BE26: =IF(BL26=1,"* La consulta pertinente según condición clínica NO DEBE ser mayor al Total registrado. ","") -> #REF! | BF26: =IF(AND(F26<>0,#REF!=""),"* Recuerde que las Embarazadas deben ser incluídas en el ingreso por rango Etario (Digite CEROS si no tiene). ",IF(#REF!<#REF!,"* Las Embarazadas NO DEBEN ser mayor al total de Mujeres. ","")) -> #REF! | BG26: =IF(AND($F26<>0,#REF!=""),"* No olvide digitar la columna Usuarios en Situación de Discapacidad (Digite CEROS si no tiene). ",IF($F26<#REF!,"* Los Usuarios en Situación de Discapacidad NO DEBEN ser mayor al total. ","")) -> #REF! | BH26: =IF(AND($F26<>0,#REF!=""),"* No olvide digitar la columna Niños, Niñas, Adolescentes y Jóvenes Población SENAME (Digite CEROS si no tiene). ",IF($F26<#REF!,"* Los Niños, Niñas, Adolescentes y Jóvenes Población SENAME NO DEBEN ser mayor al total. ","")) -> #REF! | BI26: =IF(AND($F26<>0,#REF!=""),"* No olvide digitar la columna Migrantes (Digite CEROS si no tiene). ",IF($F26<#REF!,"* Los Migrantes NO DEBEN ser mayor al total. ","")) -> #REF! | BJ26: =IF((#REF!+#REF!)<#REF!,1,0) -> #REF! | BK26: =IF(F26<#REF!,1,0) -> #REF! | BL26: =IF(#REF!<#REF!,1,0) -> #REF! | BM26: =IF(AND(F26<>0,#REF!=""),1,IF(#REF!<#REF!,1,0)) -> #REF! | BN26: =IF(AND($F26<>0,#REF!=""),1,IF($F26<#REF!,1,0)) -> #REF! | BO26: =IF(AND($F26<>0,#REF!=""),1,IF($F26<#REF!,1,0)) -> #REF! | BP26: =IF(AND($F26<>0,#REF!=""),1,IF($F26<#REF!,1,0)) -> #REF!
A27: 09600187 | C27: REHABILITACIÓN: PRÓTESIS IMPLANTOASISTIDA | D27: CONSULTA NUEVA | F27: 20 | G27: =I27+K27 -> 39 | H27: =G27/F27 -> 1.95 | I27: 20 | J27: =I27/F27 -> 1 | K27: 19 | L27: =K27/F27 -> 0.95 | BC27: =IF(BJ27=1,"* El número de pacientes de 60 años NO DEBE Ser mayor a lo registrado en el grupo Etario 20-64 años. ","") -> #REF! | BD27: =IF(BK27=1,"* La consulta pertinente según Protocolo de Referencia NO DEBE ser mayor al Total registrado. ","") -> #REF! | BE27: =IF(BL27=1,"* La consulta pertinente según condición clínica NO DEBE ser mayor al Total registrado. ","") -> #REF! | BF27: =IF(AND(F27<>0,#REF!=""),"* Recuerde que las Embarazadas deben ser incluídas en el ingreso por rango Etario (Digite CEROS si no tiene). ",IF(#REF!<#REF!,"* Las Embarazadas NO DEBEN ser mayor al total de Mujeres. ","")) -> #REF! | BG27: =IF(AND($F27<>0,#REF!=""),"* No olvide digitar la columna Usuarios en Situación de Discapacidad (Digite CEROS si no tiene). ",IF($F27<#REF!,"* Los Usuarios en Situación de Discapacidad NO DEBEN ser mayor al total. ","")) -> #REF! | BH27: =IF(AND($F27<>0,#REF!=""),"* No olvide digitar la columna Niños, Niñas, Adolescentes y Jóvenes Población SENAME (Digite CEROS si no tiene). ",IF($F27<#REF!,"* Los Niños, Niñas, Adolescentes y Jóvenes Población SENAME NO DEBEN ser mayor al total. ","")) -> #REF! | BI27: =IF(AND($F27<>0,#REF!=""),"* No olvide digitar la columna Migrantes (Digite CEROS si no tiene). ",IF($F27<#REF!,"* Los Migrantes NO DEBEN ser mayor al total. ","")) -> #REF! | BJ27: =IF((#REF!+#REF!)<#REF!,1,0) -> #REF! | BK27: =IF(F27<#REF!,1,0) -> #REF! | BL27: =IF(#REF!<#REF!,1,0) -> #REF! | BM27: =IF(AND(F27<>0,#REF!=""),1,IF(#REF!<#REF!,1,0)) -> #REF! | BN27: =IF(AND($F27<>0,#REF!=""),1,IF($F27<#REF!,1,0)) -> #REF! | BO27: =IF(AND($F27<>0,#REF!=""),1,IF($F27<#REF!,1,0)) -> #REF! | BP27: =IF(AND($F27<>0,#REF!=""),1,IF($F27<#REF!,1,0)) -> #REF!
A28: 09600188 | D28: CONTROL | F28: 213 | G28: =I28+K28 -> 0 | H28: =G28/F28 -> 0 | I28: 0 | J28: =I28/F28 -> 0 | K28: 0 | L28: =K28/F28 -> 0 | BC28: =IF(BJ28=1,"* El número de pacientes de 60 años NO DEBE Ser mayor a lo registrado en el grupo Etario 20-64 años. ","") -> #REF! | BD28: =IF(BK28=1,"* La consulta pertinente según Protocolo de Referencia NO DEBE ser mayor al Total registrado. ","") -> #REF! | BE28: =IF(BL28=1,"* La consulta pertinente según condición clínica NO DEBE ser mayor al Total registrado. ","") -> #REF! | BF28: =IF(AND(F28<>0,#REF!=""),"* Recuerde que las Embarazadas deben ser incluídas en el ingreso por rango Etario (Digite CEROS si no tiene). ",IF(#REF!<#REF!,"* Las Embarazadas NO DEBEN ser mayor al total de Mujeres. ","")) -> #REF! | BG28: =IF(AND($F28<>0,#REF!=""),"* No olvide digitar la columna Usuarios en Situación de Discapacidad (Digite CEROS si no tiene). ",IF($F28<#REF!,"* Los Usuarios en Situación de Discapacidad NO DEBEN ser mayor al total. ","")) -> #REF! | BH28: =IF(AND($F28<>0,#REF!=""),"* No olvide digitar la columna Niños, Niñas, Adolescentes y Jóvenes Población SENAME (Digite CEROS si no tiene). ",IF($F28<#REF!,"* Los Niños, Niñas, Adolescentes y Jóvenes Población SENAME NO DEBEN ser mayor al total. ","")) -> #REF! | BI28: =IF(AND($F28<>0,#REF!=""),"* No olvide digitar la columna Migrantes (Digite CEROS si no tiene). ",IF($F28<#REF!,"* Los Migrantes NO DEBEN ser mayor al total. ","")) -> #REF! | BJ28: =IF((#REF!+#REF!)<#REF!,1,0) -> #REF! | BK28: =IF(F28<#REF!,1,0) -> #REF! | BL28: =IF(#REF!<#REF!,1,0) -> #REF! | BM28: =IF(AND(F28<>0,#REF!=""),1,IF(#REF!<#REF!,1,0)) -> #REF! | BN28: =IF(AND($F28<>0,#REF!=""),1,IF($F28<#REF!,1,0)) -> #REF! | BO28: =IF(AND($F28<>0,#REF!=""),1,IF($F28<#REF!,1,0)) -> #REF! | BP28: =IF(AND($F28<>0,#REF!=""),1,IF($F28<#REF!,1,0)) -> #REF!
A29: 09600192 | C29: IMPLANTOLOGÍA BUCO MAXILOFACIAL | D29: CONSULTA NUEVA | F29: 74 | G29: =I29+K29 -> 99 | H29: =G29/F29 -> 1.3378378 | I29: 62 | J29: =I29/F29 -> 0.83783784 | K29: 37 | L29: =K29/F29 -> 0.5 | BC29: =IF(BJ29=1,"* El número de pacientes de 60 años NO DEBE Ser mayor a lo registrado en el grupo Etario 20-64 años. ","") -> #REF! | BD29: =IF(BK29=1,"* La consulta pertinente según Protocolo de Referencia NO DEBE ser mayor al Total registrado. ","") -> #REF! | BE29: =IF(BL29=1,"* La consulta pertinente según condición clínica NO DEBE ser mayor al Total registrado. ","") -> #REF! | BF29: =IF(AND(F29<>0,#REF!=""),"* Recuerde que las Embarazadas deben ser incluídas en el ingreso por rango Etario (Digite CEROS si no tiene). ",IF(#REF!<#REF!,"* Las Embarazadas NO DEBEN ser mayor al total de Mujeres. ","")) -> #REF! | BG29: =IF(AND($F29<>0,#REF!=""),"* No olvide digitar la columna Usuarios en Situación de Discapacidad (Digite CEROS si no tiene). ",IF($F29<#REF!,"* Los Usuarios en Situación de Discapacidad NO DEBEN ser mayor al total. ","")) -> #REF! | BH29: =IF(AND($F29<>0,#REF!=""),"* No olvide digitar la columna Niños, Niñas, Adolescentes y Jóvenes Población SENAME (Digite CEROS si no tiene). ",IF($F29<#REF!,"* Los Niños, Niñas, Adolescentes y Jóvenes Población SENAME NO DEBEN ser mayor al total. ","")) -> #REF! | BI29: =IF(AND($F29<>0,#REF!=""),"* No olvide digitar la columna Migrantes (Digite CEROS si no tiene). ",IF($F29<#REF!,"* Los Migrantes NO DEBEN ser mayor al total. ","")) -> #REF! | BJ29: =IF((#REF!+#REF!)<#REF!,1,0) -> #REF! | BK29: =IF(F29<#REF!,1,0) -> #REF! | BL29: =IF(#REF!<#REF!,1,0) -> #REF! | BM29: =IF(AND(F29<>0,#REF!=""),1,IF(#REF!<#REF!,1,0)) -> #REF! | BN29: =IF(AND($F29<>0,#REF!=""),1,IF($F29<#REF!,1,0)) -> #REF! | BO29: =IF(AND($F29<>0,#REF!=""),1,IF($F29<#REF!,1,0)) -> #REF! | BP29: =IF(AND($F29<>0,#REF!=""),1,IF($F29<#REF!,1,0)) -> #REF!
A30: 09600193 | D30: CONTROL | F30: 217 | G30: =I30+K30 -> 0 | H30: =G30/F30 -> 0 | I30: 0 | J30: =I30/F30 -> 0 | K30: 0 | L30: =K30/F30 -> 0 | BC30: =IF(BJ30=1,"* El número de pacientes de 60 años NO DEBE Ser mayor a lo registrado en el grupo Etario 20-64 años. ","") -> #REF! | BD30: =IF(BK30=1,"* La consulta pertinente según Protocolo de Referencia NO DEBE ser mayor al Total registrado. ","") -> #REF! | BE30: =IF(BL30=1,"* La consulta pertinente según condición clínica NO DEBE ser mayor al Total registrado. ","") -> #REF! | BF30: =IF(AND(F30<>0,#REF!=""),"* Recuerde que las Embarazadas deben ser incluídas en el ingreso por rango Etario (Digite CEROS si no tiene). ",IF(#REF!<#REF!,"* Las Embarazadas NO DEBEN ser mayor al total de Mujeres. ","")) -> #REF! | BG30: =IF(AND($F30<>0,#REF!=""),"* No olvide digitar la columna Usuarios en Situación de Discapacidad (Digite CEROS si no tiene). ",IF($F30<#REF!,"* Los Usuarios en Situación de Discapacidad NO DEBEN ser mayor al total. ","")) -> #REF! | BH30: =IF(AND($F30<>0,#REF!=""),"* No olvide digitar la columna Niños, Niñas, Adolescentes y Jóvenes Población SENAME (Digite CEROS si no tiene). ",IF($F30<#REF!,"* Los Niños, Niñas, Adolescentes y Jóvenes Población SENAME NO DEBEN ser mayor al total. ","")) -> #REF! | BI30: =IF(AND($F30<>0,#REF!=""),"* No olvide digitar la columna Migrantes (Digite CEROS si no tiene). ",IF($F30<#REF!,"* Los Migrantes NO DEBEN ser mayor al total. ","")) -> #REF! | BJ30: =IF((#REF!+#REF!)<#REF!,1,0) -> #REF! | BK30: =IF(F30<#REF!,1,0) -> #REF! | BL30: =IF(#REF!<#REF!,1,0) -> #REF! | BM30: =IF(AND(F30<>0,#REF!=""),1,IF(#REF!<#REF!,1,0)) -> #REF! | BN30: =IF(AND($F30<>0,#REF!=""),1,IF($F30<#REF!,1,0)) -> #REF! | BO30: =IF(AND($F30<>0,#REF!=""),1,IF($F30<#REF!,1,0)) -> #REF! | BP30: =IF(AND($F30<>0,#REF!=""),1,IF($F30<#REF!,1,0)) -> #REF!
A31: 09600195 | C31: PATOLOGÍA ORAL | D31: CONSULTA NUEVA | F31: 23 | G31: =I31+K31 -> 38 | H31: =G31/F31 -> 1.6521739 | I31: 19 | J31: =I31/F31 -> 0.82608696 | K31: 19 | L31: =K31/F31 -> 0.82608696 | BC31: =IF(BJ31=1,"* El número de pacientes de 60 años NO DEBE Ser mayor a lo registrado en el grupo Etario 20-64 años. ","") -> #REF! | BD31: =IF(BK31=1,"* La consulta pertinente según Protocolo de Referencia NO DEBE ser mayor al Total registrado. ","") -> #REF! | BE31: =IF(BL31=1,"* La consulta pertinente según condición clínica NO DEBE ser mayor al Total registrado. ","") -> #REF! | BF31: =IF(AND(F31<>0,#REF!=""),"* Recuerde que las Embarazadas deben ser incluídas en el ingreso por rango Etario (Digite CEROS si no tiene). ",IF(#REF!<#REF!,"* Las Embarazadas NO DEBEN ser mayor al total de Mujeres. ","")) -> #REF! | BG31: =IF(AND($F31<>0,#REF!=""),"* No olvide digitar la columna Usuarios en Situación de Discapacidad (Digite CEROS si no tiene). ",IF($F31<#REF!,"* Los Usuarios en Situación de Discapacidad NO DEBEN ser mayor al total. ","")) -> #REF! | BH31: =IF(AND($F31<>0,#REF!=""),"* No olvide digitar la columna Niños, Niñas, Adolescentes y Jóvenes Población SENAME (Digite CEROS si no tiene). ",IF($F31<#REF!,"* Los Niños, Niñas, Adolescentes y Jóvenes Población SENAME NO DEBEN ser mayor al total. ","")) -> #REF! | BI31: =IF(AND($F31<>0,#REF!=""),"* No olvide digitar la columna Migrantes (Digite CEROS si no tiene). ",IF($F31<#REF!,"* Los Migrantes NO DEBEN ser mayor al total. ","")) -> #REF! | BJ31: =IF((#REF!+#REF!)<#REF!,1,0) -> #REF! | BK31: =IF(F31<#REF!,1,0) -> #REF! | BL31: =IF(#REF!<#REF!,1,0) -> #REF! | BM31: =IF(AND(F31<>0,#REF!=""),1,IF(#REF!<#REF!,1,0)) -> #REF! | BN31: =IF(AND($F31<>0,#REF!=""),1,IF($F31<#REF!,1,0)) -> #REF! | BO31: =IF(AND($F31<>0,#REF!=""),1,IF($F31<#REF!,1,0)) -> #REF! | BP31: =IF(AND($F31<>0,#REF!=""),1,IF($F31<#REF!,1,0)) -> #REF!
A32: 09600196 | D32: CONTROL | F32: 16 | G32: =I32+K32 -> 0 | H32: =G32/F32 -> 0 | I32: 0 | J32: =I32/F32 -> 0 | K32: 0 | L32: =K32/F32 -> 0 | BC32: =IF(BJ32=1,"* El número de pacientes de 60 años NO DEBE Ser mayor a lo registrado en el grupo Etario 20-64 años. ","") -> #REF! | BD32: =IF(BK32=1,"* La consulta pertinente según Protocolo de Referencia NO DEBE ser mayor al Total registrado. ","") -> #REF! | BE32: =IF(BL32=1,"* La consulta pertinente según condición clínica NO DEBE ser mayor al Total registrado. ","") -> #REF! | BF32: =IF(AND(F32<>0,#REF!=""),"* Recuerde que las Embarazadas deben ser incluídas en el ingreso por rango Etario (Digite CEROS si no tiene). ",IF(#REF!<#REF!,"* Las Embarazadas NO DEBEN ser mayor al total de Mujeres. ","")) -> #REF! | BG32: =IF(AND($F32<>0,#REF!=""),"* No olvide digitar la columna Usuarios en Situación de Discapacidad (Digite CEROS si no tiene). ",IF($F32<#REF!,"* Los Usuarios en Situación de Discapacidad NO DEBEN ser mayor al total. ","")) -> #REF! | BH32: =IF(AND($F32<>0,#REF!=""),"* No olvide digitar la columna Niños, Niñas, Adolescentes y Jóvenes Población SENAME (Digite CEROS si no tiene). ",IF($F32<#REF!,"* Los Niños, Niñas, Adolescentes y Jóvenes Población SENAME NO DEBEN ser mayor al total. ","")) -> #REF! | BI32: =IF(AND($F32<>0,#REF!=""),"* No olvide digitar la columna Migrantes (Digite CEROS si no tiene). ",IF($F32<#REF!,"* Los Migrantes NO DEBEN ser mayor al total. ","")) -> #REF! | BJ32: =IF((#REF!+#REF!)<#REF!,1,0) -> #REF! | BK32: =IF(F32<#REF!,1,0) -> #REF! | BL32: =IF(#REF!<#REF!,1,0) -> #REF! | BM32: =IF(AND(F32<>0,#REF!=""),1,IF(#REF!<#REF!,1,0)) -> #REF! | BN32: =IF(AND($F32<>0,#REF!=""),1,IF($F32<#REF!,1,0)) -> #REF! | BO32: =IF(AND($F32<>0,#REF!=""),1,IF($F32<#REF!,1,0)) -> #REF! | BP32: =IF(AND($F32<>0,#REF!=""),1,IF($F32<#REF!,1,0)) -> #REF!
A33: 09600198 | C33: TRASTORNOS TEMPOROMANDIBULARES Y DOLOR OROFACIAL | D33: CONSULTA NUEVA | F33: 108 | G33: =I33+K33 -> 204 | H33: =G33/F33 -> 1.8888889 | I33: 107 | J33: =I33/F33 -> 0.99074074 | K33: 97 | L33: =K33/F33 -> 0.89814815 | BC33: =IF(BJ33=1,"* El número de pacientes de 60 años NO DEBE Ser mayor a lo registrado en el grupo Etario 20-64 años. ","") -> #REF! | BD33: =IF(BK33=1,"* La consulta pertinente según Protocolo de Referencia NO DEBE ser mayor al Total registrado. ","") -> #REF! | BE33: =IF(BL33=1,"* La consulta pertinente según condición clínica NO DEBE ser mayor al Total registrado. ","") -> #REF! | BF33: =IF(AND(F33<>0,#REF!=""),"* Recuerde que las Embarazadas deben ser incluídas en el ingreso por rango Etario (Digite CEROS si no tiene). ",IF(#REF!<#REF!,"* Las Embarazadas NO DEBEN ser mayor al total de Mujeres. ","")) -> #REF! | BG33: =IF(AND($F33<>0,#REF!=""),"* No olvide digitar la columna Usuarios en Situación de Discapacidad (Digite CEROS si no tiene). ",IF($F33<#REF!,"* Los Usuarios en Situación de Discapacidad NO DEBEN ser mayor al total. ","")) -> #REF! | BH33: =IF(AND($F33<>0,#REF!=""),"* No olvide digitar la columna Niños, Niñas, Adolescentes y Jóvenes Población SENAME (Digite CEROS si no tiene). ",IF($F33<#REF!,"* Los Niños, Niñas, Adolescentes y Jóvenes Población SENAME NO DEBEN ser mayor al total. ","")) -> #REF! | BI33: =IF(AND($F33<>0,#REF!=""),"* No olvide digitar la columna Migrantes (Digite CEROS si no tiene). ",IF($F33<#REF!,"* Los Migrantes NO DEBEN ser mayor al total. ","")) -> #REF! | BJ33: =IF((#REF!+#REF!)<#REF!,1,0) -> #REF! | BK33: =IF(F33<#REF!,1,0) -> #REF! | BL33: =IF(#REF!<#REF!,1,0) -> #REF! | BM33: =IF(AND(F33<>0,#REF!=""),1,IF(#REF!<#REF!,1,0)) -> #REF! | BN33: =IF(AND($F33<>0,#REF!=""),1,IF($F33<#REF!,1,0)) -> #REF! | BO33: =IF(AND($F33<>0,#REF!=""),1,IF($F33<#REF!,1,0)) -> #REF! | BP33: =IF(AND($F33<>0,#REF!=""),1,IF($F33<#REF!,1,0)) -> #REF!
A34: 09600199 | D34: CONTROL | F34: 427 | G34: =I34+K34 -> 0 | H34: =G34/F34 -> 0 | I34: 0 | J34: =I34/F34 -> 0 | K34: 0 | L34: =K34/F34 -> 0 | BC34: =IF(BJ34=1,"* El número de pacientes de 60 años NO DEBE Ser mayor a lo registrado en el grupo Etario 20-64 años. ","") -> #REF! | BD34: =IF(BK34=1,"* La consulta pertinente según Protocolo de Referencia NO DEBE ser mayor al Total registrado. ","") -> #REF! | BE34: =IF(BL34=1,"* La consulta pertinente según condición clínica NO DEBE ser mayor al Total registrado. ","") -> #REF! | BF34: =IF(AND(F34<>0,#REF!=""),"* Recuerde que las Embarazadas deben ser incluídas en el ingreso por rango Etario (Digite CEROS si no tiene). ",IF(#REF!<#REF!,"* Las Embarazadas NO DEBEN ser mayor al total de Mujeres. ","")) -> #REF! | BG34: =IF(AND($F34<>0,#REF!=""),"* No olvide digitar la columna Usuarios en Situación de Discapacidad (Digite CEROS si no tiene). ",IF($F34<#REF!,"* Los Usuarios en Situación de Discapacidad NO DEBEN ser mayor al total. ","")) -> #REF! | BH34: =IF(AND($F34<>0,#REF!=""),"* No olvide digitar la columna Niños, Niñas, Adolescentes y Jóvenes Población SENAME (Digite CEROS si no tiene). ",IF($F34<#REF!,"* Los Niños, Niñas, Adolescentes y Jóvenes Población SENAME NO DEBEN ser mayor al total. ","")) -> #REF! | BI34: =IF(AND($F34<>0,#REF!=""),"* No olvide digitar la columna Migrantes (Digite CEROS si no tiene). ",IF($F34<#REF!,"* Los Migrantes NO DEBEN ser mayor al total. ","")) -> #REF! | BJ34: =IF((#REF!+#REF!)<#REF!,1,0) -> #REF! | BK34: =IF(F34<#REF!,1,0) -> #REF! | BL34: =IF(#REF!<#REF!,1,0) -> #REF! | BM34: =IF(AND(F34<>0,#REF!=""),1,IF(#REF!<#REF!,1,0)) -> #REF! | BN34: =IF(AND($F34<>0,#REF!=""),1,IF($F34<#REF!,1,0)) -> #REF! | BO34: =IF(AND($F34<>0,#REF!=""),1,IF($F34<#REF!,1,0)) -> #REF! | BP34: =IF(AND($F34<>0,#REF!=""),1,IF($F34<#REF!,1,0)) -> #REF!
C35: TOTAL | D35: CONSULTA NUEVA | F35: =F7+F9+F11+F13+F15+F17+F19+F21+F23+F25+F27+F29+F31+F33 -> 5178 | G35: =G7+G9+G11+G13+G15+G17+G19+G21+G23+G25+G27+G29+G31+G33 -> 8622 | H35: =G35/F35 -> 1.6651217 | I35: =I7+I9+I11+I13+I15+I17+I19+I21+I23+I25+I27+I29+I31+I33 -> 4240 | J35: =I35/F35 -> 0.81884898 | K35: =K7+K9+K11+K13+K15+K17+K19+K21+K23+K25+K27+K29+K31+K33 -> 4382 | L35: =K35/F35 -> 0.84627269 | BC35: =IF(BJ35=1,"* El número de pacientes de 60 años NO DEBE Ser mayor a lo registrado en el grupo Etario 20-64 años. ","") -> #REF! | BD35: =IF(BK35=1,"* La consulta pertinente según Protocolo de Referencia NO DEBE ser mayor al Total registrado. ","") -> #REF! | BE35: =IF(BL35=1,"* La consulta pertinente según condición clínica NO DEBE ser mayor al Total registrado. ","") -> #REF! | BF35: =IF(AND(F35<>0,#REF!=""),"* Recuerde que las Embarazadas deben ser incluídas en el ingreso por rango Etario (Digite CEROS si no tiene). ",IF(#REF!<#REF!,"* Las Embarazadas NO DEBEN ser mayor al total de Mujeres. ","")) -> #REF! | BG35: =IF(AND($F35<>0,#REF!=""),"* No olvide digitar la columna Usuarios en Situación de Discapacidad (Digite CEROS si no tiene). ",IF($F35<#REF!,"* Los Usuarios en Situación de Discapacidad NO DEBEN ser mayor al total. ","")) -> #REF! | BH35: =IF(AND($F35<>0,#REF!=""),"* No olvide digitar la columna Niños, Niñas, Adolescentes y Jóvenes Población SENAME (Digite CEROS si no tiene). ",IF($F35<#REF!,"* Los Niños, Niñas, Adolescentes y Jóvenes Población SENAME NO DEBEN ser mayor al total. ","")) -> #REF! | BI35: =IF(AND($F35<>0,#REF!=""),"* No olvide digitar la columna Migrantes (Digite CEROS si no tiene). ",IF($F35<#REF!,"* Los Migrantes NO DEBEN ser mayor al total. ","")) -> #REF! | BJ35: =IF((#REF!+#REF!)<#REF!,1,0) -> #REF! | BK35: =IF(F35<#REF!,1,0) -> #REF! | BL35: =IF(#REF!<#REF!,1,0) -> #REF! | BM35: =IF(AND(F35<>0,#REF!=""),1,IF(#REF!<#REF!,1,0)) -> #REF! | BN35: =IF(AND($F35<>0,#REF!=""),1,IF($F35<#REF!,1,0)) -> #REF! | BO35: =IF(AND($F35<>0,#REF!=""),1,IF($F35<#REF!,1,0)) -> #REF! | BP35: =IF(AND($F35<>0,#REF!=""),1,IF($F35<#REF!,1,0)) -> #REF!
D36: CONTROL | F36: =F8+F10+F12+F14+F16+F18+F20+F22+F24+F26+F28+F30+F32+F34 -> 19253 | G36: =G8+G10+G12+G14+G16+G18+G20+G22+G24+G26+G28+G30+G32+G34 -> 0 | H36: =G36/F36 -> 0 | I36: =I8+I10+I12+I14+I16+I18+I20+I22+I24+I26+I28+I30+I32+I34 -> 0 | J36: =I36/F36 -> 0 | K36: =K8+K10+K12+K14+K16+K18+K20+K22+K24+K26+K28+K30+K32+K34 -> 0 | L36: =K36/F36 -> 0 | BC36: =IF(BJ36=1,"* El número de pacientes de 60 años NO DEBE Ser mayor a lo registrado en el grupo Etario 20-64 años. ","") -> #REF! | BD36: =IF(BK36=1,"* La consulta pertinente según Protocolo de Referencia NO DEBE ser mayor al Total registrado. ","") -> #REF! | BE36: =IF(BL36=1,"* La consulta pertinente según condición clínica NO DEBE ser mayor al Total registrado. ","") -> #REF! | BF36: =IF(AND(F36<>0,#REF!=""),"* Recuerde que las Embarazadas deben ser incluídas en el ingreso por rango Etario (Digite CEROS si no tiene). ",IF(#REF!<#REF!,"* Las Embarazadas NO DEBEN ser mayor al total de Mujeres. ","")) -> #REF! | BG36: =IF(AND($F36<>0,#REF!=""),"* No olvide digitar la columna Usuarios en Situación de Discapacidad (Digite CEROS si no tiene). ",IF($F36<#REF!,"* Los Usuarios en Situación de Discapacidad NO DEBEN ser mayor al total. ","")) -> #REF! | BH36: =IF(AND($F36<>0,#REF!=""),"* No olvide digitar la columna Niños, Niñas, Adolescentes y Jóvenes Población SENAME (Digite CEROS si no tiene). ",IF($F36<#REF!,"* Los Niños, Niñas, Adolescentes y Jóvenes Población SENAME NO DEBEN ser mayor al total. ","")) -> #REF! | BI36: =IF(AND($F36<>0,#REF!=""),"* No olvide digitar la columna Migrantes (Digite CEROS si no tiene). ",IF($F36<#REF!,"* Los Migrantes NO DEBEN ser mayor al total. ","")) -> #REF! | BJ36: =IF((#REF!+#REF!)<#REF!,1,0) -> #REF! | BK36: =IF(F36<#REF!,1,0) -> #REF! | BL36: =IF(#REF!<#REF!,1,0) -> #REF! | BM36: =IF(AND(F36<>0,#REF!=""),1,IF(#REF!<#REF!,1,0)) -> #REF! | BN36: =IF(AND($F36<>0,#REF!=""),1,IF($F36<#REF!,1,0)) -> #REF! | BO36: =IF(AND($F36<>0,#REF!=""),1,IF($F36<#REF!,1,0)) -> #REF! | BP36: =IF(AND($F36<>0,#REF!=""),1,IF($F36<#REF!,1,0)) -> #REF!

Sheet Hospital Coquimbo
B2: CONSULTAS, INGRESOS Y EGRESOS EN ESPECIALIDADES ODONTOLÓGICAS REALIZADOS EN NIVEL PRIMARIO Y SECUNDARIO DE SALUD.
B4: ESPECIALIDAD Y TIPO DE INGRESO O EGRESO | E4: TOTAL | F4: CONSULTAS PERTINENTES | H4: CONSULTAS PERTINENTES
H5: Según Protocolo de Referencia | J5: Según Condición Clínica
F6: Cantidad | G6: Porcentaje | H6: Cantidad | I6: Porcentaje | J6: Cantidad | K6: Porcentaje
B7: CIRUGÍA BUCAL | C7: CONSULTA NUEVA | E7: 0 | F7: =H7+J7 -> 0 | G7: =F7/E7 -> #DIV/0! | H7: 0 | I7: =H7/E7 -> #DIV/0! | J7: 0 | K7: =J7/E7 -> #DIV/0! | BB7: =IF(BI7=1,"* El número de pacientes de 60 años NO DEBE Ser mayor a lo registrado en el grupo Etario 20-64 años. ","") -> #REF! | BC7: =IF(BJ7=1,"* La consulta pertinente según Protocolo de Referencia NO DEBE ser mayor al Total registrado. ","") -> #REF! | BD7: =IF(BK7=1,"* La consulta pertinente según condición clínica NO DEBE ser mayor al Total registrado. ","") -> #REF! | BE7: =IF(AND(E7<>0,#REF!=""),"* Recuerde que las Embarazadas deben ser incluídas en el ingreso por rango Etario (Digite CEROS si no tiene). ",IF(#REF!<#REF!,"* Las Embarazadas NO DEBEN ser mayor al total de Mujeres. ","")) -> #REF! | BF7: =IF(AND($E7<>0,#REF!=""),"* No olvide digitar la columna Usuarios en Situación de Discapacidad (Digite CEROS si no tiene). ",IF($E7<#REF!,"* Los Usuarios en Situación de Discapacidad NO DEBEN ser mayor al total. ","")) -> #REF! | BG7: =IF(AND($E7<>0,#REF!=""),"* No olvide digitar la columna Niños, Niñas, Adolescentes y Jóvenes Población SENAME (Digite CEROS si no tiene). ",IF($E7<#REF!,"* Los Niños, Niñas, Adolescentes y Jóvenes Población SENAME NO DEBEN ser mayor al total. ","")) -> #REF! | BH7: =IF(AND($E7<>0,#REF!=""),"* No olvide digitar la columna Migrantes (Digite CEROS si no tiene). ",IF($E7<#REF!,"* Los Migrantes NO DEBEN ser mayor al total. ","")) -> #REF! | BI7: =IF((#REF!+#REF!)<#REF!,1,0) -> #REF! | BJ7: =IF(E7<#REF!,1,0) -> #REF! | BK7: =IF(#REF!<#REF!,1,0) -> #REF! | BL7: =IF(AND(E7<>0,#REF!=""),1,IF(#REF!<#REF!,1,0)) -> #REF! | BM7: =IF(AND($E7<>0,#REF!=""),1,IF($E7<#REF!,1,0)) -> #REF! | BN7: =IF(AND($E7<>0,#REF!=""),1,IF($E7<#REF!,1,0)) -> #REF! | BO7: =IF(AND($E7<>0,#REF!=""),1,IF($E7<#REF!,1,0)) -> #REF!
C8: CONTROL | E8: 1 | F8: =H8+J8 -> 0 | G8: =F8/E8 -> 0 | H8: 0 | I8: =H8/E8 -> 0 | J8: 0 | K8: =J8/E8 -> 0 | BB8: =IF(BI8=1,"* El número de pacientes de 60 años NO DEBE Ser mayor a lo registrado en el grupo Etario 20-64 años. ","") -> #REF! | BC8: =IF(BJ8=1,"* La consulta pertinente según Protocolo de Referencia NO DEBE ser mayor al Total registrado. ","") -> #REF! | BD8: =IF(BK8=1,"* La consulta pertinente según condición clínica NO DEBE ser mayor al Total registrado. ","") -> #REF! | BE8: =IF(AND(E8<>0,#REF!=""),"* Recuerde que las Embarazadas deben ser incluídas en el ingreso por rango Etario (Digite CEROS si no tiene). ",IF(#REF!<#REF!,"* Las Embarazadas NO DEBEN ser mayor al total de Mujeres. ","")) -> #REF! | BF8: =IF(AND($E8<>0,#REF!=""),"* No olvide digitar la columna Usuarios en Situación de Discapacidad (Digite CEROS si no tiene). ",IF($E8<#REF!,"* Los Usuarios en Situación de Discapacidad NO DEBEN ser mayor al total. ","")) -> #REF! | BG8: =IF(AND($E8<>0,#REF!=""),"* No olvide digitar la columna Niños, Niñas, Adolescentes y Jóvenes Población SENAME (Digite CEROS si no tiene). ",IF($E8<#REF!,"* Los Niños, Niñas, Adolescentes y Jóvenes Población SENAME NO DEBEN ser mayor al total. ","")) -> #REF! | BH8: =IF(AND($E8<>0,#REF!=""),"* No olvide digitar la columna Migrantes (Digite CEROS si no tiene). ",IF($E8<#REF!,"* Los Migrantes NO DEBEN ser mayor al total. ","")) -> #REF! | BI8: =IF((#REF!+#REF!)<#REF!,1,0) -> #REF! | BJ8: =IF(E8<#REF!,1,0) -> #REF! | BK8: =IF(#REF!<#REF!,1,0) -> #REF! | BL8: =IF(AND(E8<>0,#REF!=""),1,IF(#REF!<#REF!,1,0)) -> #REF! | BM8: =IF(AND($E8<>0,#REF!=""),1,IF($E8<#REF!,1,0)) -> #REF! | BN8: =IF(AND($E8<>0,#REF!=""),1,IF($E8<#REF!,1,0)) -> #REF! | BO8: =IF(AND($E8<>0,#REF!=""),1,IF($E8<#REF!,1,0)) -> #REF!
B9: CIRUGÍA Y TRAUMATOLOGÍA MAXILOFACIAL | C9: CONSULTA NUEVA | E9: 1050 | F9: =H9+J9 -> 1050 | G9: =F9/E9 -> 1 | H9: 940 | I9: =H9/E9 -> 0.8952381 | J9: 110 | K9: =J9/E9 -> 0.1047619 | BB9: =IF(BI9=1,"* El número de pacientes de 60 años NO DEBE Ser mayor a lo registrado en el grupo Etario 20-64 años. ","") -> #REF! | BC9: =IF(BJ9=1,"* La consulta pertinente según Protocolo de Referencia NO DEBE ser mayor al Total registrado. ","") -> #REF! | BD9: =IF(BK9=1,"* La consulta pertinente según condición clínica NO DEBE ser mayor al Total registrado. ","") -> #REF! | BE9: =IF(AND(E9<>0,#REF!=""),"* Recuerde que las Embarazadas deben ser incluídas en el ingreso por rango Etario (Digite CEROS si no tiene). ",IF(#REF!<#REF!,"* Las Embarazadas NO DEBEN ser mayor al total de Mujeres. ","")) -> #REF! | BF9: =IF(AND($E9<>0,#REF!=""),"* No olvide digitar la columna Usuarios en Situación de Discapacidad (Digite CEROS si no tiene). ",IF($E9<#REF!,"* Los Usuarios en Situación de Discapacidad NO DEBEN ser mayor al total. ","")) -> #REF! | BG9: =IF(AND($E9<>0,#REF!=""),"* No olvide digitar la columna Niños, Niñas, Adolescentes y Jóvenes Población SENAME (Digite CEROS si no tiene). ",IF($E9<#REF!,"* Los Niños, Niñas, Adolescentes y Jóvenes Población SENAME NO DEBEN ser mayor al total. ","")) -> #REF! | BH9: =IF(AND($E9<>0,#REF!=""),"* No olvide digitar la columna Migrantes (Digite CEROS si no tiene). ",IF($E9<#REF!,"* Los Migrantes NO DEBEN ser mayor al total. ","")) -> #REF! | BI9: =IF((#REF!+#REF!)<#REF!,1,0) -> #REF! | BJ9: =IF(E9<#REF!,1,0) -> #REF! | BK9: =IF(#REF!<#REF!,1,0) -> #REF! | BL9: =IF(AND(E9<>0,#REF!=""),1,IF(#REF!<#REF!,1,0)) -> #REF! | BM9: =IF(AND($E9<>0,#REF!=""),1,IF($E9<#REF!,1,0)) -> #REF! | BN9: =IF(AND($E9<>0,#REF!=""),1,IF($E9<#REF!,1,0)) -> #REF! | BO9: =IF(AND($E9<>0,#REF!=""),1,IF($E9<#REF!,1,0)) -> #REF!
C10: CONTROL | E10: 1161 | F10: =H10+J10 -> 0 | G10: =F10/E10 -> 0 | H10: 0 | I10: =H10/E10 -> 0 | J10: 0 | K10: =J10/E10 -> 0 | BB10: =IF(BI10=1,"* El número de pacientes de 60 años NO DEBE Ser mayor a lo registrado en el grupo Etario 20-64 años. ","") -> #REF! | BC10: =IF(BJ10=1,"* La consulta pertinente según Protocolo de Referencia NO DEBE ser mayor al Total registrado. ","") -> #REF! | BD10: =IF(BK10=1,"* La consulta pertinente según condición clínica NO DEBE ser mayor al Total registrado. ","") -> #REF! | BE10: =IF(AND(E10<>0,#REF!=""),"* Recuerde que las Embarazadas deben ser incluídas en el ingreso por rango Etario (Digite CEROS si no tiene). ",IF(#REF!<#REF!,"* Las Embarazadas NO DEBEN ser mayor al total de Mujeres. ","")) -> #REF! | BF10: =IF(AND($E10<>0,#REF!=""),"* No olvide digitar la columna Usuarios en Situación de Discapacidad (Digite CEROS si no tiene). ",IF($E10<#REF!,"* Los Usuarios en Situación de Discapacidad NO DEBEN ser mayor al total. ","")) -> #REF! | BG10: =IF(AND($E10<>0,#REF!=""),"* No olvide digitar la columna Niños, Niñas, Adolescentes y Jóvenes Población SENAME (Digite CEROS si no tiene). ",IF($E10<#REF!,"* Los Niños, Niñas, Adolescentes y Jóvenes Población SENAME NO DEBEN ser mayor al total. ","")) -> #REF! | BH10: =IF(AND($E10<>0,#REF!=""),"* No olvide digitar la columna Migrantes (Digite CEROS si no tiene). ",IF($E10<#REF!,"* Los Migrantes NO DEBEN ser mayor al total. ","")) -> #REF! | BI10: =IF((#REF!+#REF!)<#REF!,1,0) -> #REF! | BJ10: =IF(E10<#REF!,1,0) -> #REF! | BK10: =IF(#REF!<#REF!,1,0) -> #REF! | BL10: =IF(AND(E10<>0,#REF!=""),1,IF(#REF!<#REF!,1,0)) -> #REF! | BM10: =IF(AND($E10<>0,#REF!=""),1,IF($E10<#REF!,1,0)) -> #REF! | BN10: =IF(AND($E10<>0,#REF!=""),1,IF($E10<#REF!,1,0)) -> #REF! | BO10: =IF(AND($E10<>0,#REF!=""),1,IF($E10<#REF!,1,0)) -> #REF!
B11: ENDODONCIA | C11: CONSULTA NUEVA | E11: 640 | F11: =H11+J11 -> 640 | G11: =F11/E11 -> 1 | H11: 631 | I11: =H11/E11 -> 0.9859375 | J11: 9 | K11: =J11/E11 -> 0.0140625 | BB11: =IF(BI11=1,"* El número de pacientes de 60 años NO DEBE Ser mayor a lo registrado en el grupo Etario 20-64 años. ","") -> #REF! | BC11: =IF(BJ11=1,"* La consulta pertinente según Protocolo de Referencia NO DEBE ser mayor al Total registrado. ","") -> #REF! | BD11: =IF(BK11=1,"* La consulta pertinente según condición clínica NO DEBE ser mayor al Total registrado. ","") -> #REF! | BE11: =IF(AND(E11<>0,#REF!=""),"* Recuerde que las Embarazadas deben ser incluídas en el ingreso por rango Etario (Digite CEROS si no tiene). ",IF(#REF!<#REF!,"* Las Embarazadas NO DEBEN ser mayor al total de Mujeres. ","")) -> #REF! | BF11: =IF(AND($E11<>0,#REF!=""),"* No olvide digitar la columna Usuarios en Situación de Discapacidad (Digite CEROS si no tiene). ",IF($E11<#REF!,"* Los Usuarios en Situación de Discapacidad NO DEBEN ser mayor al total. ","")) -> #REF! | BG11: =IF(AND($E11<>0,#REF!=""),"* No olvide digitar la columna Niños, Niñas, Adolescentes y Jóvenes Población SENAME (Digite CEROS si no tiene). ",IF($E11<#REF!,"* Los Niños, Niñas, Adolescentes y Jóvenes Población SENAME NO DEBEN ser mayor al total. ","")) -> #REF! | BH11: =IF(AND($E11<>0,#REF!=""),"* No olvide digitar la columna Migrantes (Digite CEROS si no tiene). ",IF($E11<#REF!,"* Los Migrantes NO DEBEN ser mayor al total. ","")) -> #REF! | BI11: =IF((#REF!+#REF!)<#REF!,1,0) -> #REF! | BJ11: =IF(E11<#REF!,1,0) -> #REF! | BK11: =IF(#REF!<#REF!,1,0) -> #REF! | BL11: =IF(AND(E11<>0,#REF!=""),1,IF(#REF!<#REF!,1,0)) -> #REF! | BM11: =IF(AND($E11<>0,#REF!=""),1,IF($E11<#REF!,1,0)) -> #REF! | BN11: =IF(AND($E11<>0,#REF!=""),1,IF($E11<#REF!,1,0)) -> #REF! | BO11: =IF(AND($E11<>0,#REF!=""),1,IF($E11<#REF!,1,0)) -> #REF!
C12: CONTROL | E12: 1494 | F12: =H12+J12 -> 0 | G12: =F12/E12 -> 0 | H12: 0 | I12: =H12/E12 -> 0 | J12: 0 | K12: =J12/E12 -> 0 | BB12: =IF(BI12=1,"* El número de pacientes de 60 años NO DEBE Ser mayor a lo registrado en el grupo Etario 20-64 años. ","") -> #REF! | BC12: =IF(BJ12=1,"* La consulta pertinente según Protocolo de Referencia NO DEBE ser mayor al Total registrado. ","") -> #REF! | BD12: =IF(BK12=1,"* La consulta pertinente según condición clínica NO DEBE ser mayor al Total registrado. ","") -> #REF! | BE12: =IF(AND(E12<>0,#REF!=""),"* Recuerde que las Embarazadas deben ser incluídas en el ingreso por rango Etario (Digite CEROS si no tiene). ",IF(#REF!<#REF!,"* Las Embarazadas NO DEBEN ser mayor al total de Mujeres. ","")) -> #REF! | BF12: =IF(AND($E12<>0,#REF!=""),"* No olvide digitar la columna Usuarios en Situación de Discapacidad (Digite CEROS si no tiene). ",IF($E12<#REF!,"* Los Usuarios en Situación de Discapacidad NO DEBEN ser mayor al total. ","")) -> #REF! | BG12: =IF(AND($E12<>0,#REF!=""),"* No olvide digitar la columna Niños, Niñas, Adolescentes y Jóvenes Población SENAME (Digite CEROS si no tiene). ",IF($E12<#REF!,"* Los Niños, Niñas, Adolescentes y Jóvenes Población SENAME NO DEBEN ser mayor al total. ","")) -> #REF! | BH12: =IF(AND($E12<>0,#REF!=""),"* No olvide digitar la columna Migrantes (Digite CEROS si no tiene). ",IF($E12<#REF!,"* Los Migrantes NO DEBEN ser mayor al total. ","")) -> #REF! | BI12: =IF((#REF!+#REF!)<#REF!,1,0) -> #REF! | BJ12: =IF(E12<#REF!,1,0) -> #REF! | BK12: =IF(#REF!<#REF!,1,0) -> #REF! | BL12: =IF(AND(E12<>0,#REF!=""),1,IF(#REF!<#REF!,1,0)) -> #REF! | BM12: =IF(AND($E12<>0,#REF!=""),1,IF($E12<#REF!,1,0)) -> #REF! | BN12: =IF(AND($E12<>0,#REF!=""),1,IF($E12<#REF!,1,0)) -> #REF! | BO12: =IF(AND($E12<>0,#REF!=""),1,IF($E12<#REF!,1,0)) -> #REF!
B13: ODONTOPEDIATRÍA | C13: CONSULTA NUEVA | E13: 285 | F13: =H13+J13 -> 285 | G13: =F13/E13 -> 1 | H13: 196 | I13: =H13/E13 -> 0.6877193 | J13: 89 | K13: =J13/E13 -> 0.3122807 | BC13: =IF(BJ13=1,"* La consulta pertinente según Protocolo de Referencia NO DEBE ser mayor al Total registrado. ","") -> #REF! | BD13: =IF(BK13=1,"* La consulta pertinente según condición clínica NO DEBE ser mayor al Total registrado. ","") -> #REF! | BE13: =IF(AND(E13<>0,#REF!=""),"* Recuerde que las Embarazadas deben ser incluídas en el ingreso por rango Etario (Digite CEROS si no tiene). ",IF(#REF!<#REF!,"* Las Embarazadas NO DEBEN ser mayor al total de Mujeres. ","")) -> #REF! | BF13: =IF(AND($E13<>0,#REF!=""),"* No olvide digitar la columna Usuarios en Situación de Discapacidad (Digite CEROS si no tiene). ",IF($E13<#REF!,"* Los Usuarios en Situación de Discapacidad NO DEBEN ser mayor al total. ","")) -> #REF! | BG13: =IF(AND($E13<>0,#REF!=""),"* No olvide digitar la columna Niños, Niñas, Adolescentes y Jóvenes Población SENAME (Digite CEROS si no tiene). ",IF($E13<#REF!,"* Los Niños, Niñas, Adolescentes y Jóvenes Población SENAME NO DEBEN ser mayor al total. ","")) -> #REF! | BH13: =IF(AND($E13<>0,#REF!=""),"* No olvide digitar la columna Migrantes (Digite CEROS si no tiene). ",IF($E13<#REF!,"* Los Migrantes NO DEBEN ser mayor al total. ","")) -> #REF! | BJ13: =IF(E13<#REF!,1,0) -> #REF! | BK13: =IF(#REF!<#REF!,1,0) -> #REF! | BL13: =IF(AND(E13<>0,#REF!=""),1,IF(#REF!<#REF!,1,0)) -> #REF! | BM13: =IF(AND($E13<>0,#REF!=""),1,IF($E13<#REF!,1,0)) -> #REF! | BN13: =IF(AND($E13<>0,#REF!=""),1,IF($E13<#REF!,1,0)) -> #REF! | BO13: =IF(AND($E13<>0,#REF!=""),1,IF($E13<#REF!,1,0)) -> #REF!
C14: CONTROL | E14: 1277 | F14: =H14+J14 -> 0 | G14: =F14/E14 -> 0 | H14: 0 | I14: =H14/E14 -> 0 | J14: 0 | K14: =J14/E14 -> 0 | BC14: =IF(BJ14=1,"* La consulta pertinente según Protocolo de Referencia NO DEBE ser mayor al Total registrado. ","") -> #REF! | BD14: =IF(BK14=1,"* La consulta pertinente según condición clínica NO DEBE ser mayor al Total registrado. ","") -> #REF! | BE14: =IF(AND(E14<>0,#REF!=""),"* Recuerde que las Embarazadas deben ser incluídas en el ingreso por rango Etario (Digite CEROS si no tiene). ",IF(#REF!<#REF!,"* Las Embarazadas NO DEBEN ser mayor al total de Mujeres. ","")) -> #REF! | BF14: =IF(AND($E14<>0,#REF!=""),"* No olvide digitar la columna Usuarios en Situación de Discapacidad (Digite CEROS si no tiene). ",IF($E14<#REF!,"* Los Usuarios en Situación de Discapacidad NO DEBEN ser mayor al total. ","")) -> #REF! | BG14: =IF(AND($E14<>0,#REF!=""),"* No olvide digitar la columna Niños, Niñas, Adolescentes y Jóvenes Población SENAME (Digite CEROS si no tiene). ",IF($E14<#REF!,"* Los Niños, Niñas, Adolescentes y Jóvenes Población SENAME NO DEBEN ser mayor al total. ","")) -> #REF! | BH14: =IF(AND($E14<>0,#REF!=""),"* No olvide digitar la columna Migrantes (Digite CEROS si no tiene). ",IF($E14<#REF!,"* Los Migrantes NO DEBEN ser mayor al total. ","")) -> #REF! | BJ14: =IF(E14<#REF!,1,0) -> #REF! | BK14: =IF(#REF!<#REF!,1,0) -> #REF! | BL14: =IF(AND(E14<>0,#REF!=""),1,IF(#REF!<#REF!,1,0)) -> #REF! | BM14: =IF(AND($E14<>0,#REF!=""),1,IF($E14<#REF!,1,0)) -> #REF! | BN14: =IF(AND($E14<>0,#REF!=""),1,IF($E14<#REF!,1,0)) -> #REF! | BO14: =IF(AND($E14<>0,#REF!=""),1,IF($E14<#REF!,1,0)) -> #REF!
B15: OPERATORIA | C15: CONSULTA NUEVA | E15: 7 | F15: =H15+J15 -> 8 | G15: =F15/E15 -> 1.1428571 | H15: 4 | I15: =H15/E15 -> 0.57142857 | J15: 4 | K15: =J15/E15 -> 0.57142857 | BB15: =IF(BI15=1,"* El número de pacientes de 60 años NO DEBE Ser mayor a lo registrado en el grupo Etario 20-64 años. ","") -> #REF! | BC15: =IF(BJ15=1,"* La consulta pertinente según Protocolo de Referencia NO DEBE ser mayor al Total registrado. ","") -> #REF! | BD15: =IF(BK15=1,"* La consulta pertinente según condición clínica NO DEBE ser mayor al Total registrado. ","") -> #REF! | BE15: =IF(AND(E15<>0,#REF!=""),"* Recuerde que las Embarazadas deben ser incluídas en el ingreso por rango Etario (Digite CEROS si no tiene). ",IF(#REF!<#REF!,"* Las Embarazadas NO DEBEN ser mayor al total de Mujeres. ","")) -> #REF! | BF15: =IF(AND($E15<>0,#REF!=""),"* No olvide digitar la columna Usuarios en Situación de Discapacidad (Digite CEROS si no tiene). ",IF($E15<#REF!,"* Los Usuarios en Situación de Discapacidad NO DEBEN ser mayor al total. ","")) -> #REF! | BG15: =IF(AND($E15<>0,#REF!=""),"* No olvide digitar la columna Niños, Niñas, Adolescentes y Jóvenes Población SENAME (Digite CEROS si no tiene). ",IF($E15<#REF!,"* Los Niños, Niñas, Adolescentes y Jóvenes Población SENAME NO DEBEN ser mayor al total. ","")) -> #REF! | BH15: =IF(AND($E15<>0,#REF!=""),"* No olvide digitar la columna Migrantes (Digite CEROS si no tiene). ",IF($E15<#REF!,"* Los Migrantes NO DEBEN ser mayor al total. ","")) -> #REF! | BI15: =IF((#REF!+#REF!)<#REF!,1,0) -> #REF! | BJ15: =IF(E15<#REF!,1,0) -> #REF! | BK15: =IF(#REF!<#REF!,1,0) -> #REF! | BL15: =IF(AND(E15<>0,#REF!=""),1,IF(#REF!<#REF!,1,0)) -> #REF! | BM15: =IF(AND($E15<>0,#REF!=""),1,IF($E15<#REF!,1,0)) -> #REF! | BN15: =IF(AND($E15<>0,#REF!=""),1,IF($E15<#REF!,1,0)) -> #REF! | BO15: =IF(AND($E15<>0,#REF!=""),1,IF($E15<#REF!,1,0)) -> #REF!
C16: CONTROL | E16: 52 | F16: =H16+J16 -> 0 | G16: =F16/E16 -> 0 | H16: 0 | I16: =H16/E16 -> 0 | J16: 0 | K16: =J16/E16 -> 0 | BB16: =IF(BI16=1,"* El número de pacientes de 60 años NO DEBE Ser mayor a lo registrado en el grupo Etario 20-64 años. ","") -> #REF! | BC16: =IF(BJ16=1,"* La consulta pertinente según Protocolo de Referencia NO DEBE ser mayor al Total registrado. ","") -> #REF! | BD16: =IF(BK16=1,"* La consulta pertinente según condición clínica NO DEBE ser mayor al Total registrado. ","") -> #REF! | BE16: =IF(AND(E16<>0,#REF!=""),"* Recuerde que las Embarazadas deben ser incluídas en el ingreso por rango Etario (Digite CEROS si no tiene). ",IF(#REF!<#REF!,"* Las Embarazadas NO DEBEN ser mayor al total de Mujeres. ","")) -> #REF! | BF16: =IF(AND($E16<>0,#REF!=""),"* No olvide digitar la columna Usuarios en Situación de Discapacidad (Digite CEROS si no tiene). ",IF($E16<#REF!,"* Los Usuarios en Situación de Discapacidad NO DEBEN ser mayor al total. ","")) -> #REF! | BG16: =IF(AND($E16<>0,#REF!=""),"* No olvide digitar la columna Niños, Niñas, Adolescentes y Jóvenes Población SENAME (Digite CEROS si no tiene). ",IF($E16<#REF!,"* Los Niños, Niñas, Adolescentes y Jóvenes Población SENAME NO DEBEN ser mayor al total. ","")) -> #REF! | BH16: =IF(AND($E16<>0,#REF!=""),"* No olvide digitar la columna Migrantes (Digite CEROS si no tiene). ",IF($E16<#REF!,"* Los Migrantes NO DEBEN ser mayor al total. ","")) -> #REF! | BI16: =IF((#REF!+#REF!)<#REF!,1,0) -> #REF! | BJ16: =IF(E16<#REF!,1,0) -> #REF! | BK16: =IF(#REF!<#REF!,1,0) -> #REF! | BL16: =IF(AND(E16<>0,#REF!=""),1,IF(#REF!<#REF!,1,0)) -> #REF! | BM16: =IF(AND($E16<>0,#REF!=""),1,IF($E16<#REF!,1,0)) -> #REF! | BN16: =IF(AND($E16<>0,#REF!=""),1,IF($E16<#REF!,1,0)) -> #REF! | BO16: =IF(AND($E16<>0,#REF!=""),1,IF($E16<#REF!,1,0)) -> #REF!
B17: ORTODONCIA Y ORTOPEDIA DENTO MAXILOFACIAL: APARATOLOGÍA FIJA | C17: CONSULTA NUEVA | E17: 305 | F17: =H17+J17 -> 305 | G17: =F17/E17 -> 1 | H17: 305 | I17: =H17/E17 -> 1 | J17: 0 | K17: =J17/E17 -> 0 | BC17: =IF(BJ17=1,"* La consulta pertinente según Protocolo de Referencia NO DEBE ser mayor al Total registrado. ","") -> #REF! | BD17: =IF(BK17=1,"* La consulta pertinente según condición clínica NO DEBE ser mayor al Total registrado. ","") -> #REF! | BF17: =IF(AND($E17<>0,#REF!=""),"* No olvide digitar la columna Usuarios en Situación de Discapacidad (Digite CEROS si no tiene). ",IF($E17<#REF!,"* Los Usuarios en Situación de Discapacidad NO DEBEN ser mayor al total. ","")) -> #REF! | BG17: =IF(AND($E17<>0,#REF!=""),"* No olvide digitar la columna Niños, Niñas, Adolescentes y Jóvenes Población SENAME (Digite CEROS si no tiene). ",IF($E17<#REF!,"* Los Niños, Niñas, Adolescentes y Jóvenes Población SENAME NO DEBEN ser mayor al total. ","")) -> #REF! | BH17: =IF(AND($E17<>0,#REF!=""),"* No olvide digitar la columna Migrantes (Digite CEROS si no tiene). ",IF($E17<#REF!,"* Los Migrantes NO DEBEN ser mayor al total. ","")) -> #REF! | BJ17: =IF(E17<#REF!,1,0) -> #REF! | BK17: =IF(#REF!<#REF!,1,0) -> #REF! | BM17: =IF(AND($E17<>0,#REF!=""),1,IF($E17<#REF!,1,0)) -> #REF! | BN17: =IF(AND($E17<>0,#REF!=""),1,IF($E17<#REF!,1,0)) -> #REF! | BO17: =IF(AND($E17<>0,#REF!=""),1,IF($E17<#REF!,1,0)) -> #REF!
C18: CONTROL | E18: 2917 | F18: =H18+J18 -> 0 | G18: =F18/E18 -> 0 | H18: 0 | I18: =H18/E18 -> 0 | J18: 0 | K18: =J18/E18 -> 0 | BC18: =IF(BJ18=1,"* La consulta pertinente según Protocolo de Referencia NO DEBE ser mayor al Total registrado. ","") -> #REF! | BD18: =IF(BK18=1,"* La consulta pertinente según condición clínica NO DEBE ser mayor al Total registrado. ","") -> #REF! | BF18: =IF(AND($E18<>0,#REF!=""),"* No olvide digitar la columna Usuarios en Situación de Discapacidad (Digite CEROS si no tiene). ",IF($E18<#REF!,"* Los Usuarios en Situación de Discapacidad NO DEBEN ser mayor al total. ","")) -> #REF! | BG18: =IF(AND($E18<>0,#REF!=""),"* No olvide digitar la columna Niños, Niñas, Adolescentes y Jóvenes Población SENAME (Digite CEROS si no tiene). ",IF($E18<#REF!,"* Los Niños, Niñas, Adolescentes y Jóvenes Población SENAME NO DEBEN ser mayor al total. ","")) -> #REF! | BH18: =IF(AND($E18<>0,#REF!=""),"* No olvide digitar la columna Migrantes (Digite CEROS si no tiene). ",IF($E18<#REF!,"* Los Migrantes NO DEBEN ser mayor al total. ","")) -> #REF! | BJ18: =IF(E18<#REF!,1,0) -> #REF! | BK18: =IF(#REF!<#REF!,1,0) -> #REF! | BM18: =IF(AND($E18<>0,#REF!=""),1,IF($E18<#REF!,1,0)) -> #REF! | BN18: =IF(AND($E18<>0,#REF!=""),1,IF($E18<#REF!,1,0)) -> #REF! | BO18: =IF(AND($E18<>0,#REF!=""),1,IF($E18<#REF!,1,0)) -> #REF!
B19: ORTODONCIA Y ORTOPEDIA DENTO MAXILOFACIAL: APARATOLOGÍA REMOVIBLE | C19: CONSULTA NUEVA | E19: 0 | F19: =H19+J19 -> 0 | G19: =F19/E19 -> #DIV/0! | H19: 0 | I19: =H19/E19 -> #DIV/0! | J19: 0 | K19: =J19/E19 -> #DIV/0! | BC19: =IF(BJ19=1,"* La consulta pertinente según Protocolo de Referencia NO DEBE ser mayor al Total registrado. ","") -> #REF! | BD19: =IF(BK19=1,"* La consulta pertinente según condición clínica NO DEBE ser mayor al Total registrado. ","") -> #REF! | BF19: =IF(AND($E19<>0,#REF!=""),"* No olvide digitar la columna Usuarios en Situación de Discapacidad (Digite CEROS si no tiene). ",IF($E19<#REF!,"* Los Usuarios en Situación de Discapacidad NO DEBEN ser mayor al total. ","")) -> #REF! | BG19: =IF(AND($E19<>0,#REF!=""),"* No olvide digitar la columna Niños, Niñas, Adolescentes y Jóvenes Población SENAME (Digite CEROS si no tiene). ",IF($E19<#REF!,"* Los Niños, Niñas, Adolescentes y Jóvenes Población SENAME NO DEBEN ser mayor al total. ","")) -> #REF! | BH19: =IF(AND($E19<>0,#REF!=""),"* No olvide digitar la columna Migrantes (Digite CEROS si no tiene). ",IF($E19<#REF!,"* Los Migrantes NO DEBEN ser mayor al total. ","")) -> #REF! | BJ19: =IF(E19<#REF!,1,0) -> #REF! | BK19: =IF(#REF!<#REF!,1,0) -> #REF! | BM19: =IF(AND($E19<>0,#REF!=""),1,IF($E19<#REF!,1,0)) -> #REF! | BN19: =IF(AND($E19<>0,#REF!=""),1,IF($E19<#REF!,1,0)) -> #REF! | BO19: =IF(AND($E19<>0,#REF!=""),1,IF($E19<#REF!,1,0)) -> #REF!
C20: CONTROL | E20: 0 | F20: =H20+J20 -> 0 | G20: =F20/E20 -> #DIV/0! | H20: 0 | I20: =H20/E20 -> #DIV/0! | J20: 0 | K20: =J20/E20 -> #DIV/0! | BC20: =IF(BJ20=1,"* La consulta pertinente según Protocolo de Referencia NO DEBE ser mayor al Total registrado. ","") -> #REF! | BD20: =IF(BK20=1,"* La consulta pertinente según condición clínica NO DEBE ser mayor al Total registrado. ","") -> #REF! | BF20: =IF(AND($E20<>0,#REF!=""),"* No olvide digitar la columna Usuarios en Situación de Discapacidad (Digite CEROS si no tiene). ",IF($E20<#REF!,"* Los Usuarios en Situación de Discapacidad NO DEBEN ser mayor al total. ","")) -> #REF! | BG20: =IF(AND($E20<>0,#REF!=""),"* No olvide digitar la columna Niños, Niñas, Adolescentes y Jóvenes Población SENAME (Digite CEROS si no tiene). ",IF($E20<#REF!,"* Los Niños, Niñas, Adolescentes y Jóvenes Población SENAME NO DEBEN ser mayor al total. ","")) -> #REF! | BH20: =IF(AND($E20<>0,#REF!=""),"* No olvide digitar la columna Migrantes (Digite CEROS si no tiene). ",IF($E20<#REF!,"* Los Migrantes NO DEBEN ser mayor al total. ","")) -> #REF! | BJ20: =IF(E20<#REF!,1,0) -> #REF! | BK20: =IF(#REF!<#REF!,1,0) -> #REF! | BM20: =IF(AND($E20<>0,#REF!=""),1,IF($E20<#REF!,1,0)) -> #REF! | BN20: =IF(AND($E20<>0,#REF!=""),1,IF($E20<#REF!,1,0)) -> #REF! | BO20: =IF(AND($E20<>0,#REF!=""),1,IF($E20<#REF!,1,0)) -> #REF!
B21: PERIODONCIA | C21: CONSULTA NUEVA | E21: 306 | F21: =H21+J21 -> 306 | G21: =F21/E21 -> 1 | H21: 289 | I21: =H21/E21 -> 0.94444444 | J21: 17 | K21: =J21/E21 -> 0.055555556 | BB21: =IF(BI21=1,"* El número de pacientes de 60 años NO DEBE Ser mayor a lo registrado en el grupo Etario 20-64 años. ","") -> #REF! | BC21: =IF(BJ21=1,"* La consulta pertinente según Protocolo de Referencia NO DEBE ser mayor al Total registrado. ","") -> #REF! | BD21: =IF(BK21=1,"* La consulta pertinente según condición clínica NO DEBE ser mayor al Total registrado. ","") -> #REF! | BE21: =IF(AND(E21<>0,#REF!=""),"* Recuerde que las Embarazadas deben ser incluídas en el ingreso por rango Etario (Digite CEROS si no tiene). ",IF(#REF!<#REF!,"* Las Embarazadas NO DEBEN ser mayor al total de Mujeres. ","")) -> #REF! | BF21: =IF(AND($E21<>0,#REF!=""),"* No olvide digitar la columna Usuarios en Situación de Discapacidad (Digite CEROS si no tiene). ",IF($E21<#REF!,"* Los Usuarios en Situación de Discapacidad NO DEBEN ser mayor al total. ","")) -> #REF! | BG21: =IF(AND($E21<>0,#REF!=""),"* No olvide digitar la columna Niños, Niñas, Adolescentes y Jóvenes Población SENAME (Digite CEROS si no tiene). ",IF($E21<#REF!,"* Los Niños, Niñas, Adolescentes y Jóvenes Población SENAME NO DEBEN ser mayor al total. ","")) -> #REF! | BH21: =IF(AND($E21<>0,#REF!=""),"* No olvide digitar la columna Migrantes (Digite CEROS si no tiene). ",IF($E21<#REF!,"* Los Migrantes NO DEBEN ser mayor al total. ","")) -> #REF! | BI21: =IF((#REF!+#REF!)<#REF!,1,0) -> #REF! | BJ21: =IF(E21<#REF!,1,0) -> #REF! | BK21: =IF(#REF!<#REF!,1,0) -> #REF! | BL21: =IF(AND(E21<>0,#REF!=""),1,IF(#REF!<#REF!,1,0)) -> #REF! | BM21: =IF(AND($E21<>0,#REF!=""),1,IF($E21<#REF!,1,0)) -> #REF! | BN21: =IF(AND($E21<>0,#REF!=""),1,IF($E21<#REF!,1,0)) -> #REF! | BO21: =IF(AND($E21<>0,#REF!=""),1,IF($E21<#REF!,1,0)) -> #REF!
C22: CONTROL | E22: 777 | F22: =H22+J22 -> 0 | G22: =F22/E22 -> 0 | H22: 0 | I22: =H22/E22 -> 0 | J22: 0 | K22: =J22/E22 -> 0 | BB22: =IF(BI22=1,"* El número de pacientes de 60 años NO DEBE Ser mayor a lo registrado en el grupo Etario 20-64 años. ","") -> #REF! | BC22: =IF(BJ22=1,"* La consulta pertinente según Protocolo de Referencia NO DEBE ser mayor al Total registrado. ","") -> #REF! | BD22: =IF(BK22=1,"* La consulta pertinente según condición clínica NO DEBE ser mayor al Total registrado. ","") -> #REF! | BE22: =IF(AND(E22<>0,#REF!=""),"* Recuerde que las Embarazadas deben ser incluídas en el ingreso por rango Etario (Digite CEROS si no tiene). ",IF(#REF!<#REF!,"* Las Embarazadas NO DEBEN ser mayor al total de Mujeres. ","")) -> #REF! | BF22: =IF(AND($E22<>0,#REF!=""),"* No olvide digitar la columna Usuarios en Situación de Discapacidad (Digite CEROS si no tiene). ",IF($E22<#REF!,"* Los Usuarios en Situación de Discapacidad NO DEBEN ser mayor al total. ","")) -> #REF! | BG22: =IF(AND($E22<>0,#REF!=""),"* No olvide digitar la columna Niños, Niñas, Adolescentes y Jóvenes Población SENAME (Digite CEROS si no tiene). ",IF($E22<#REF!,"* Los Niños, Niñas, Adolescentes y Jóvenes Población SENAME NO DEBEN ser mayor al total. ","")) -> #REF! | BH22: =IF(AND($E22<>0,#REF!=""),"* No olvide digitar la columna Migrantes (Digite CEROS si no tiene). ",IF($E22<#REF!,"* Los Migrantes NO DEBEN ser mayor al total. ","")) -> #REF! | BI22: =IF((#REF!+#REF!)<#REF!,1,0) -> #REF! | BJ22: =IF(E22<#REF!,1,0) -> #REF! | BK22: =IF(#REF!<#REF!,1,0) -> #REF! | BL22: =IF(AND(E22<>0,#REF!=""),1,IF(#REF!<#REF!,1,0)) -> #REF! | BM22: =IF(AND($E22<>0,#REF!=""),1,IF($E22<#REF!,1,0)) -> #REF! | BN22: =IF(AND($E22<>0,#REF!=""),1,IF($E22<#REF!,1,0)) -> #REF! | BO22: =IF(AND($E22<>0,#REF!=""),1,IF($E22<#REF!,1,0)) -> #REF!
B23: REHABILITACIÓN: PRÓTESIS FIJA | C23: CONSULTA NUEVA | E23: 0 | F23: =H23+J23 -> 0 | G23: =F23/E23 -> #DIV/0! | H23: 0 | I23: =H23/E23 -> #DIV/0! | J23: 0 | K23: =J23/E23 -> #DIV/0! | BB23: =IF(BI23=1,"* El número de pacientes de 60 años NO DEBE Ser mayor a lo registrado en el grupo Etario 20-64 años. ","") -> #REF! | BC23: =IF(BJ23=1,"* La consulta pertinente según Protocolo de Referencia NO DEBE ser mayor al Total registrado. ","") -> #REF! | BD23: =IF(BK23=1,"* La consulta pertinente según condición clínica NO DEBE ser mayor al Total registrado. ","") -> #REF! | BE23: =IF(AND(E23<>0,#REF!=""),"* Recuerde que las Embarazadas deben ser incluídas en el ingreso por rango Etario (Digite CEROS si no tiene). ",IF(#REF!<#REF!,"* Las Embarazadas NO DEBEN ser mayor al total de Mujeres. ","")) -> #REF! | BF23: =IF(AND($E23<>0,#REF!=""),"* No olvide digitar la columna Usuarios en Situación de Discapacidad (Digite CEROS si no tiene). ",IF($E23<#REF!,"* Los Usuarios en Situación de Discapacidad NO DEBEN ser mayor al total. ","")) -> #REF! | BG23: =IF(AND($E23<>0,#REF!=""),"* No olvide digitar la columna Niños, Niñas, Adolescentes y Jóvenes Población SENAME (Digite CEROS si no tiene). ",IF($E23<#REF!,"* Los Niños, Niñas, Adolescentes y Jóvenes Población SENAME NO DEBEN ser mayor al total. ","")) -> #REF! | BH23: =IF(AND($E23<>0,#REF!=""),"* No olvide digitar la columna Migrantes (Digite CEROS si no tiene). ",IF($E23<#REF!,"* Los Migrantes NO DEBEN ser mayor al total. ","")) -> #REF! | BI23: =IF((#REF!+#REF!)<#REF!,1,0) -> #REF! | BJ23: =IF(E23<#REF!,1,0) -> #REF! | BK23: =IF(#REF!<#REF!,1,0) -> #REF! | BL23: =IF(AND(E23<>0,#REF!=""),1,IF(#REF!<#REF!,1,0)) -> #REF! | BM23: =IF(AND($E23<>0,#REF!=""),1,IF($E23<#REF!,1,0)) -> #REF! | BN23: =IF(AND($E23<>0,#REF!=""),1,IF($E23<#REF!,1,0)) -> #REF! | BO23: =IF(AND($E23<>0,#REF!=""),1,IF($E23<#REF!,1,0)) -> #REF!
C24: CONTROL | E24: 0 | F24: =H24+J24 -> 0 | G24: =F24/E24 -> #DIV/0! | H24: 0 | I24: =H24/E24 -> #DIV/0! | J24: 0 | K24: =J24/E24 -> #DIV/0! | BB24: =IF(BI24=1,"* El número de pacientes de 60 años NO DEBE Ser mayor a lo registrado en el grupo Etario 20-64 años. ","") -> #REF! | BC24: =IF(BJ24=1,"* La consulta pertinente según Protocolo de Referencia NO DEBE ser mayor al Total registrado. ","") -> #REF! | BD24: =IF(BK24=1,"* La consulta pertinente según condición clínica NO DEBE ser mayor al Total registrado. ","") -> #REF! | BE24: =IF(AND(E24<>0,#REF!=""),"* Recuerde que las Embarazadas deben ser incluídas en el ingreso por rango Etario (Digite CEROS si no tiene). ",IF(#REF!<#REF!,"* Las Embarazadas NO DEBEN ser mayor al total de Mujeres. ","")) -> #REF! | BF24: =IF(AND($E24<>0,#REF!=""),"* No olvide digitar la columna Usuarios en Situación de Discapacidad (Digite CEROS si no tiene). ",IF($E24<#REF!,"* Los Usuarios en Situación de Discapacidad NO DEBEN ser mayor al total. ","")) -> #REF! | BG24: =IF(AND($E24<>0,#REF!=""),"* No olvide digitar la columna Niños, Niñas, Adolescentes y Jóvenes Población SENAME (Digite CEROS si no tiene). ",IF($E24<#REF!,"* Los Niños, Niñas, Adolescentes y Jóvenes Población SENAME NO DEBEN ser mayor al total. ","")) -> #REF! | BH24: =IF(AND($E24<>0,#REF!=""),"* No olvide digitar la columna Migrantes (Digite CEROS si no tiene). ",IF($E24<#REF!,"* Los Migrantes NO DEBEN ser mayor al total. ","")) -> #REF! | BI24: =IF((#REF!+#REF!)<#REF!,1,0) -> #REF! | BJ24: =IF(E24<#REF!,1,0) -> #REF! | BK24: =IF(#REF!<#REF!,1,0) -> #REF! | BL24: =IF(AND(E24<>0,#REF!=""),1,IF(#REF!<#REF!,1,0)) -> #REF! | BM24: =IF(AND($E24<>0,#REF!=""),1,IF($E24<#REF!,1,0)) -> #REF! | BN24: =IF(AND($E24<>0,#REF!=""),1,IF($E24<#REF!,1,0)) -> #REF! | BO24: =IF(AND($E24<>0,#REF!=""),1,IF($E24<#REF!,1,0)) -> #REF!
B25: REHABILITACIÓN: PRÓTESIS REMOVIBLE | C25: CONSULTA NUEVA | E25: 637 | F25: =H25+J25 -> 643 | G25: =F25/E25 -> 1.0094192 | H25: 582 | I25: =H25/E25 -> 0.91365777 | J25: 61 | K25: =J25/E25 -> 0.095761381 | BB25: =IF(BI25=1,"* El número de pacientes de 60 años NO DEBE Ser mayor a lo registrado en el grupo Etario 20-64 años. ","") -> #REF! | BC25: =IF(BJ25=1,"* La consulta pertinente según Protocolo de Referencia NO DEBE ser mayor al Total registrado. ","") -> #REF! | BD25: =IF(BK25=1,"* La consulta pertinente según condición clínica NO DEBE ser mayor al Total registrado. ","") -> #REF! | BE25: =IF(AND(E25<>0,#REF!=""),"* Recuerde que las Embarazadas deben ser incluídas en el ingreso por rango Etario (Digite CEROS si no tiene). ",IF(#REF!<#REF!,"* Las Embarazadas NO DEBEN ser mayor al total de Mujeres. ","")) -> #REF! | BF25: =IF(AND($E25<>0,#REF!=""),"* No olvide digitar la columna Usuarios en Situación de Discapacidad (Digite CEROS si no tiene). ",IF($E25<#REF!,"* Los Usuarios en Situación de Discapacidad NO DEBEN ser mayor al total. ","")) -> #REF! | BG25: =IF(AND($E25<>0,#REF!=""),"* No olvide digitar la columna Niños, Niñas, Adolescentes y Jóvenes Población SENAME (Digite CEROS si no tiene). ",IF($E25<#REF!,"* Los Niños, Niñas, Adolescentes y Jóvenes Población SENAME NO DEBEN ser mayor al total. ","")) -> #REF! | BH25: =IF(AND($E25<>0,#REF!=""),"* No olvide digitar la columna Migrantes (Digite CEROS si no tiene). ",IF($E25<#REF!,"* Los Migrantes NO DEBEN ser mayor al total. ","")) -> #REF! | BI25: =IF((#REF!+#REF!)<#REF!,1,0) -> #REF! | BJ25: =IF(E25<#REF!,1,0) -> #REF! | BK25: =IF(#REF!<#REF!,1,0) -> #REF! | BL25: =IF(AND(E25<>0,#REF!=""),1,IF(#REF!<#REF!,1,0)) -> #REF! | BM25: =IF(AND($E25<>0,#REF!=""),1,IF($E25<#REF!,1,0)) -> #REF! | BN25: =IF(AND($E25<>0,#REF!=""),1,IF($E25<#REF!,1,0)) -> #REF! | BO25: =IF(AND($E25<>0,#REF!=""),1,IF($E25<#REF!,1,0)) -> #REF!
C26: CONTROL | E26: 2631 | F26: =H26+J26 -> 0 | G26: =F26/E26 -> 0 | H26: 0 | I26: =H26/E26 -> 0 | J26: 0 | K26: =J26/E26 -> 0 | BB26: =IF(BI26=1,"* El número de pacientes de 60 años NO DEBE Ser mayor a lo registrado en el grupo Etario 20-64 años. ","") -> #REF! | BC26: =IF(BJ26=1,"* La consulta pertinente según Protocolo de Referencia NO DEBE ser mayor al Total registrado. ","") -> #REF! | BD26: =IF(BK26=1,"* La consulta pertinente según condición clínica NO DEBE ser mayor al Total registrado. ","") -> #REF! | BE26: =IF(AND(E26<>0,#REF!=""),"* Recuerde que las Embarazadas deben ser incluídas en el ingreso por rango Etario (Digite CEROS si no tiene). ",IF(#REF!<#REF!,"* Las Embarazadas NO DEBEN ser mayor al total de Mujeres. ","")) -> #REF! | BF26: =IF(AND($E26<>0,#REF!=""),"* No olvide digitar la columna Usuarios en Situación de Discapacidad (Digite CEROS si no tiene). ",IF($E26<#REF!,"* Los Usuarios en Situación de Discapacidad NO DEBEN ser mayor al total. ","")) -> #REF! | BG26: =IF(AND($E26<>0,#REF!=""),"* No olvide digitar la columna Niños, Niñas, Adolescentes y Jóvenes Población SENAME (Digite CEROS si no tiene). ",IF($E26<#REF!,"* Los Niños, Niñas, Adolescentes y Jóvenes Población SENAME NO DEBEN ser mayor al total. ","")) -> #REF! | BH26: =IF(AND($E26<>0,#REF!=""),"* No olvide digitar la columna Migrantes (Digite CEROS si no tiene). ",IF($E26<#REF!,"* Los Migrantes NO DEBEN ser mayor al total. ","")) -> #REF! | BI26: =IF((#REF!+#REF!)<#REF!,1,0) -> #REF! | BJ26: =IF(E26<#REF!,1,0) -> #REF! | BK26: =IF(#REF!<#REF!,1,0) -> #REF! | BL26: =IF(AND(E26<>0,#REF!=""),1,IF(#REF!<#REF!,1,0)) -> #REF! | BM26: =IF(AND($E26<>0,#REF!=""),1,IF($E26<#REF!,1,0)) -> #REF! | BN26: =IF(AND($E26<>0,#REF!=""),1,IF($E26<#REF!,1,0)) -> #REF! | BO26: =IF(AND($E26<>0,#REF!=""),1,IF($E26<#REF!,1,0)) -> #REF!
B27: REHABILITACIÓN: PRÓTESIS IMPLANTOASISTIDA | C27: CONSULTA NUEVA | E27: 179 | F27: =H27+J27 -> 179 | G27: =F27/E27 -> 1 | H27: 179 | I27: =H27/E27 -> 1 | J27: 0 | K27: =J27/E27 -> 0 | BB27: =IF(BI27=1,"* El número de pacientes de 60 años NO DEBE Ser mayor a lo registrado en el grupo Etario 20-64 años. ","") -> #REF! | BC27: =IF(BJ27=1,"* La consulta pertinente según Protocolo de Referencia NO DEBE ser mayor al Total registrado. ","") -> #REF! | BD27: =IF(BK27=1,"* La consulta pertinente según condición clínica NO DEBE ser mayor al Total registrado. ","") -> #REF! | BE27: =IF(AND(E27<>0,#REF!=""),"* Recuerde que las Embarazadas deben ser incluídas en el ingreso por rango Etario (Digite CEROS si no tiene). ",IF(#REF!<#REF!,"* Las Embarazadas NO DEBEN ser mayor al total de Mujeres. ","")) -> #REF! | BF27: =IF(AND($E27<>0,#REF!=""),"* No olvide digitar la columna Usuarios en Situación de Discapacidad (Digite CEROS si no tiene). ",IF($E27<#REF!,"* Los Usuarios en Situación de Discapacidad NO DEBEN ser mayor al total. ","")) -> #REF! | BG27: =IF(AND($E27<>0,#REF!=""),"* No olvide digitar la columna Niños, Niñas, Adolescentes y Jóvenes Población SENAME (Digite CEROS si no tiene). ",IF($E27<#REF!,"* Los Niños, Niñas, Adolescentes y Jóvenes Población SENAME NO DEBEN ser mayor al total. ","")) -> #REF! | BH27: =IF(AND($E27<>0,#REF!=""),"* No olvide digitar la columna Migrantes (Digite CEROS si no tiene). ",IF($E27<#REF!,"* Los Migrantes NO DEBEN ser mayor al total. ","")) -> #REF! | BI27: =IF((#REF!+#REF!)<#REF!,1,0) -> #REF! | BJ27: =IF(E27<#REF!,1,0) -> #REF! | BK27: =IF(#REF!<#REF!,1,0) -> #REF! | BL27: =IF(AND(E27<>0,#REF!=""),1,IF(#REF!<#REF!,1,0)) -> #REF! | BM27: =IF(AND($E27<>0,#REF!=""),1,IF($E27<#REF!,1,0)) -> #REF! | BN27: =IF(AND($E27<>0,#REF!=""),1,IF($E27<#REF!,1,0)) -> #REF! | BO27: =IF(AND($E27<>0,#REF!=""),1,IF($E27<#REF!,1,0)) -> #REF!
C28: CONTROL | E28: 440 | F28: =H28+J28 -> 0 | G28: =F28/E28 -> 0 | H28: 0 | I28: =H28/E28 -> 0 | J28: 0 | K28: =J28/E28 -> 0 | BB28: =IF(BI28=1,"* El número de pacientes de 60 años NO DEBE Ser mayor a lo registrado en el grupo Etario 20-64 años. ","") -> #REF! | BC28: =IF(BJ28=1,"* La consulta pertinente según Protocolo de Referencia NO DEBE ser mayor al Total registrado. ","") -> #REF! | BD28: =IF(BK28=1,"* La consulta pertinente según condición clínica NO DEBE ser mayor al Total registrado. ","") -> #REF! | BE28: =IF(AND(E28<>0,#REF!=""),"* Recuerde que las Embarazadas deben ser incluídas en el ingreso por rango Etario (Digite CEROS si no tiene). ",IF(#REF!<#REF!,"* Las Embarazadas NO DEBEN ser mayor al total de Mujeres. ","")) -> #REF! | BF28: =IF(AND($E28<>0,#REF!=""),"* No olvide digitar la columna Usuarios en Situación de Discapacidad (Digite CEROS si no tiene). ",IF($E28<#REF!,"* Los Usuarios en Situación de Discapacidad NO DEBEN ser mayor al total. ","")) -> #REF! | BG28: =IF(AND($E28<>0,#REF!=""),"* No olvide digitar la columna Niños, Niñas, Adolescentes y Jóvenes Población SENAME (Digite CEROS si no tiene). ",IF($E28<#REF!,"* Los Niños, Niñas, Adolescentes y Jóvenes Población SENAME NO DEBEN ser mayor al total. ","")) -> #REF! | BH28: =IF(AND($E28<>0,#REF!=""),"* No olvide digitar la columna Migrantes (Digite CEROS si no tiene). ",IF($E28<#REF!,"* Los Migrantes NO DEBEN ser mayor al total. ","")) -> #REF! | BI28: =IF((#REF!+#REF!)<#REF!,1,0) -> #REF! | BJ28: =IF(E28<#REF!,1,0) -> #REF! | BK28: =IF(#REF!<#REF!,1,0) -> #REF! | BL28: =IF(AND(E28<>0,#REF!=""),1,IF(#REF!<#REF!,1,0)) -> #REF! | BM28: =IF(AND($E28<>0,#REF!=""),1,IF($E28<#REF!,1,0)) -> #REF! | BN28: =IF(AND($E28<>0,#REF!=""),1,IF($E28<#REF!,1,0)) -> #REF! | BO28: =IF(AND($E28<>0,#REF!=""),1,IF($E28<#REF!,1,0)) -> #REF!
B29: IMPLANTOLOGÍA BUCO MAXILOFACIAL | C29: CONSULTA NUEVA | E29: 91 | F29: =H29+J29 -> 91 | G29: =F29/E29 -> 1 | H29: 90 | I29: =H29/E29 -> 0.98901099 | J29: 1 | K29: =J29/E29 -> 0.010989011 | BB29: =IF(BI29=1,"* El número de pacientes de 60 años NO DEBE Ser mayor a lo registrado en el grupo Etario 20-64 años. ","") -> #REF! | BC29: =IF(BJ29=1,"* La consulta pertinente según Protocolo de Referencia NO DEBE ser mayor al Total registrado. ","") -> #REF! | BD29: =IF(BK29=1,"* La consulta pertinente según condición clínica NO DEBE ser mayor al Total registrado. ","") -> #REF! | BE29: =IF(AND(E29<>0,#REF!=""),"* Recuerde que las Embarazadas deben ser incluídas en el ingreso por rango Etario (Digite CEROS si no tiene). ",IF(#REF!<#REF!,"* Las Embarazadas NO DEBEN ser mayor al total de Mujeres. ","")) -> #REF! | BF29: =IF(AND($E29<>0,#REF!=""),"* No olvide digitar la columna Usuarios en Situación de Discapacidad (Digite CEROS si no tiene). ",IF($E29<#REF!,"* Los Usuarios en Situación de Discapacidad NO DEBEN ser mayor al total. ","")) -> #REF! | BG29: =IF(AND($E29<>0,#REF!=""),"* No olvide digitar la columna Niños, Niñas, Adolescentes y Jóvenes Población SENAME (Digite CEROS si no tiene). ",IF($E29<#REF!,"* Los Niños, Niñas, Adolescentes y Jóvenes Población SENAME NO DEBEN ser mayor al total. ","")) -> #REF! | BH29: =IF(AND($E29<>0,#REF!=""),"* No olvide digitar la columna Migrantes (Digite CEROS si no tiene). ",IF($E29<#REF!,"* Los Migrantes NO DEBEN ser mayor al total. ","")) -> #REF! | BI29: =IF((#REF!+#REF!)<#REF!,1,0) -> #REF! | BJ29: =IF(E29<#REF!,1,0) -> #REF! | BK29: =IF(#REF!<#REF!,1,0) -> #REF! | BL29: =IF(AND(E29<>0,#REF!=""),1,IF(#REF!<#REF!,1,0)) -> #REF! | BM29: =IF(AND($E29<>0,#REF!=""),1,IF($E29<#REF!,1,0)) -> #REF! | BN29: =IF(AND($E29<>0,#REF!=""),1,IF($E29<#REF!,1,0)) -> #REF! | BO29: =IF(AND($E29<>0,#REF!=""),1,IF($E29<#REF!,1,0)) -> #REF!
C30: CONTROL | E30: 333 | F30: =H30+J30 -> 0 | G30: =F30/E30 -> 0 | H30: 0 | I30: =H30/E30 -> 0 | J30: 0 | K30: =J30/E30 -> 0 | BB30: =IF(BI30=1,"* El número de pacientes de 60 años NO DEBE Ser mayor a lo registrado en el grupo Etario 20-64 años. ","") -> #REF! | BC30: =IF(BJ30=1,"* La consulta pertinente según Protocolo de Referencia NO DEBE ser mayor al Total registrado. ","") -> #REF! | BD30: =IF(BK30=1,"* La consulta pertinente según condición clínica NO DEBE ser mayor al Total registrado. ","") -> #REF! | BE30: =IF(AND(E30<>0,#REF!=""),"* Recuerde que las Embarazadas deben ser incluídas en el ingreso por rango Etario (Digite CEROS si no tiene). ",IF(#REF!<#REF!,"* Las Embarazadas NO DEBEN ser mayor al total de Mujeres. ","")) -> #REF! | BF30: =IF(AND($E30<>0,#REF!=""),"* No olvide digitar la columna Usuarios en Situación de Discapacidad (Digite CEROS si no tiene). ",IF($E30<#REF!,"* Los Usuarios en Situación de Discapacidad NO DEBEN ser mayor al total. ","")) -> #REF! | BG30: =IF(AND($E30<>0,#REF!=""),"* No olvide digitar la columna Niños, Niñas, Adolescentes y Jóvenes Población SENAME (Digite CEROS si no tiene). ",IF($E30<#REF!,"* Los Niños, Niñas, Adolescentes y Jóvenes Población SENAME NO DEBEN ser mayor al total. ","")) -> #REF! | BH30: =IF(AND($E30<>0,#REF!=""),"* No olvide digitar la columna Migrantes (Digite CEROS si no tiene). ",IF($E30<#REF!,"* Los Migrantes NO DEBEN ser mayor al total. ","")) -> #REF! | BI30: =IF((#REF!+#REF!)<#REF!,1,0) -> #REF! | BJ30: =IF(E30<#REF!,1,0) -> #REF! | BK30: =IF(#REF!<#REF!,1,0) -> #REF! | BL30: =IF(AND(E30<>0,#REF!=""),1,IF(#REF!<#REF!,1,0)) -> #REF! | BM30: =IF(AND($E30<>0,#REF!=""),1,IF($E30<#REF!,1,0)) -> #REF! | BN30: =IF(AND($E30<>0,#REF!=""),1,IF($E30<#REF!,1,0)) -> #REF! | BO30: =IF(AND($E30<>0,#REF!=""),1,IF($E30<#REF!,1,0)) -> #REF!
B31: PATOLOGÍA ORAL | C31: CONSULTA NUEVA | E31: 0 | F31: =H31+J31 -> 0 | G31: =F31/E31 -> #DIV/0! | H31: 0 | I31: =H31/E31 -> #DIV/0! | J31: 0 | K31: =J31/E31 -> #DIV/0! | BB31: =IF(BI31=1,"* El número de pacientes de 60 años NO DEBE Ser mayor a lo registrado en el grupo Etario 20-64 años. ","") -> #REF! | BC31: =IF(BJ31=1,"* La consulta pertinente según Protocolo de Referencia NO DEBE ser mayor al Total registrado. ","") -> #REF! | BD31: =IF(BK31=1,"* La consulta pertinente según condición clínica NO DEBE ser mayor al Total registrado. ","") -> #REF! | BE31: =IF(AND(E31<>0,#REF!=""),"* Recuerde que las Embarazadas deben ser incluídas en el ingreso por rango Etario (Digite CEROS si no tiene). ",IF(#REF!<#REF!,"* Las Embarazadas NO DEBEN ser mayor al total de Mujeres. ","")) -> #REF! | BF31: =IF(AND($E31<>0,#REF!=""),"* No olvide digitar la columna Usuarios en Situación de Discapacidad (Digite CEROS si no tiene). ",IF($E31<#REF!,"* Los Usuarios en Situación de Discapacidad NO DEBEN ser mayor al total. ","")) -> #REF! | BG31: =IF(AND($E31<>0,#REF!=""),"* No olvide digitar la columna Niños, Niñas, Adolescentes y Jóvenes Población SENAME (Digite CEROS si no tiene). ",IF($E31<#REF!,"* Los Niños, Niñas, Adolescentes y Jóvenes Población SENAME NO DEBEN ser mayor al total. ","")) -> #REF! | BH31: =IF(AND($E31<>0,#REF!=""),"* No olvide digitar la columna Migrantes (Digite CEROS si no tiene). ",IF($E31<#REF!,"* Los Migrantes NO DEBEN ser mayor al total. ","")) -> #REF! | BI31: =IF((#REF!+#REF!)<#REF!,1,0) -> #REF! | BJ31: =IF(E31<#REF!,1,0) -> #REF! | BK31: =IF(#REF!<#REF!,1,0) -> #REF! | BL31: =IF(AND(E31<>0,#REF!=""),1,IF(#REF!<#REF!,1,0)) -> #REF! | BM31: =IF(AND($E31<>0,#REF!=""),1,IF($E31<#REF!,1,0)) -> #REF! | BN31: =IF(AND($E31<>0,#REF!=""),1,IF($E31<#REF!,1,0)) -> #REF! | BO31: =IF(AND($E31<>0,#REF!=""),1,IF($E31<#REF!,1,0)) -> #REF!
C32: CONTROL | E32: 0 | F32: =H32+J32 -> 0 | G32: =F32/E32 -> #DIV/0! | H32: 0 | I32: =H32/E32 -> #DIV/0! | J32: 0 | K32: =J32/E32 -> #DIV/0! | BB32: =IF(BI32=1,"* El número de pacientes de 60 años NO DEBE Ser mayor a lo registrado en el grupo Etario 20-64 años. ","") -> #REF! | BC32: =IF(BJ32=1,"* La consulta pertinente según Protocolo de Referencia NO DEBE ser mayor al Total registrado. ","") -> #REF! | BD32: =IF(BK32=1,"* La consulta pertinente según condición clínica NO DEBE ser mayor al Total registrado. ","") -> #REF! | BE32: =IF(AND(E32<>0,#REF!=""),"* Recuerde que las Embarazadas deben ser incluídas en el ingreso por rango Etario (Digite CEROS si no tiene). ",IF(#REF!<#REF!,"* Las Embarazadas NO DEBEN ser mayor al total de Mujeres. ","")) -> #REF! | BF32: =IF(AND($E32<>0,#REF!=""),"* No olvide digitar la columna Usuarios en Situación de Discapacidad (Digite CEROS si no tiene). ",IF($E32<#REF!,"* Los Usuarios en Situación de Discapacidad NO DEBEN ser mayor al total. ","")) -> #REF! | BG32: =IF(AND($E32<>0,#REF!=""),"* No olvide digitar la columna Niños, Niñas, Adolescentes y Jóvenes Población SENAME (Digite CEROS si no tiene). ",IF($E32<#REF!,"* Los Niños, Niñas, Adolescentes y Jóvenes Población SENAME NO DEBEN ser mayor al total. ","")) -> #REF! | BH32: =IF(AND($E32<>0,#REF!=""),"* No olvide digitar la columna Migrantes (Digite CEROS si no tiene). ",IF($E32<#REF!,"* Los Migrantes NO DEBEN ser mayor al total. ","")) -> #REF! | BI32: =IF((#REF!+#REF!)<#REF!,1,0) -> #REF! | BJ32: =IF(E32<#REF!,1,0) -> #REF! | BK32: =IF(#REF!<#REF!,1,0) -> #REF! | BL32: =IF(AND(E32<>0,#REF!=""),1,IF(#REF!<#REF!,1,0)) -> #REF! | BM32: =IF(AND($E32<>0,#REF!=""),1,IF($E32<#REF!,1,0)) -> #REF! | BN32: =IF(AND($E32<>0,#REF!=""),1,IF($E32<#REF!,1,0)) -> #REF! | BO32: =IF(AND($E32<>0,#REF!=""),1,IF($E32<#REF!,1,0)) -> #REF!
B33: TRASTORNOS TEMPOROMANDIBULARES Y DOLOR OROFACIAL | C33: CONSULTA NUEVA | E33: 296 | F33: =H33+J33 -> 283 | G33: =F33/E33 -> 0.95608108 | H33: 283 | I33: =H33/E33 -> 0.95608108 | J33: 0 | K33: =J33/E33 -> 0 | BB33: =IF(BI33=1,"* El número de pacientes de 60 años NO DEBE Ser mayor a lo registrado en el grupo Etario 20-64 años. ","") -> #REF! | BC33: =IF(BJ33=1,"* La consulta pertinente según Protocolo de Referencia NO DEBE ser mayor al Total registrado. ","") -> #REF! | BD33: =IF(BK33=1,"* La consulta pertinente según condición clínica NO DEBE ser mayor al Total registrado. ","") -> #REF! | BE33: =IF(AND(E33<>0,#REF!=""),"* Recuerde que las Embarazadas deben ser incluídas en el ingreso por rango Etario (Digite CEROS si no tiene). ",IF(#REF!<#REF!,"* Las Embarazadas NO DEBEN ser mayor al total de Mujeres. ","")) -> #REF! | BF33: =IF(AND($E33<>0,#REF!=""),"* No olvide digitar la columna Usuarios en Situación de Discapacidad (Digite CEROS si no tiene). ",IF($E33<#REF!,"* Los Usuarios en Situación de Discapacidad NO DEBEN ser mayor al total. ","")) -> #REF! | BG33: =IF(AND($E33<>0,#REF!=""),"* No olvide digitar la columna Niños, Niñas, Adolescentes y Jóvenes Población SENAME (Digite CEROS si no tiene). ",IF($E33<#REF!,"* Los Niños, Niñas, Adolescentes y Jóvenes Población SENAME NO DEBEN ser mayor al total. ","")) -> #REF! | BH33: =IF(AND($E33<>0,#REF!=""),"* No olvide digitar la columna Migrantes (Digite CEROS si no tiene). ",IF($E33<#REF!,"* Los Migrantes NO DEBEN ser mayor al total. ","")) -> #REF! | BI33: =IF((#REF!+#REF!)<#REF!,1,0) -> #REF! | BJ33: =IF(E33<#REF!,1,0) -> #REF! | BK33: =IF(#REF!<#REF!,1,0) -> #REF! | BL33: =IF(AND(E33<>0,#REF!=""),1,IF(#REF!<#REF!,1,0)) -> #REF! | BM33: =IF(AND($E33<>0,#REF!=""),1,IF($E33<#REF!,1,0)) -> #REF! | BN33: =IF(AND($E33<>0,#REF!=""),1,IF($E33<#REF!,1,0)) -> #REF! | BO33: =IF(AND($E33<>0,#REF!=""),1,IF($E33<#REF!,1,0)) -> #REF!
C34: CONTROL | E34: 1387 | F34: =H34+J34 -> 0 | G34: =F34/E34 -> 0 | H34: 0 | I34: =H34/E34 -> 0 | J34: 0 | K34: =J34/E34 -> 0 | BB34: =IF(BI34=1,"* El número de pacientes de 60 años NO DEBE Ser mayor a lo registrado en el grupo Etario 20-64 años. ","") -> #REF! | BC34: =IF(BJ34=1,"* La consulta pertinente según Protocolo de Referencia NO DEBE ser mayor al Total registrado. ","") -> #REF! | BD34: =IF(BK34=1,"* La consulta pertinente según condición clínica NO DEBE ser mayor al Total registrado. ","") -> #REF! | BE34: =IF(AND(E34<>0,#REF!=""),"* Recuerde que las Embarazadas deben ser incluídas en el ingreso por rango Etario (Digite CEROS si no tiene). ",IF(#REF!<#REF!,"* Las Embarazadas NO DEBEN ser mayor al total de Mujeres. ","")) -> #REF! | BF34: =IF(AND($E34<>0,#REF!=""),"* No olvide digitar la columna Usuarios en Situación de Discapacidad (Digite CEROS si no tiene). ",IF($E34<#REF!,"* Los Usuarios en Situación de Discapacidad NO DEBEN ser mayor al total. ","")) -> #REF! | BG34: =IF(AND($E34<>0,#REF!=""),"* No olvide digitar la columna Niños, Niñas, Adolescentes y Jóvenes Población SENAME (Digite CEROS si no tiene). ",IF($E34<#REF!,"* Los Niños, Niñas, Adolescentes y Jóvenes Población SENAME NO DEBEN ser mayor al total. ","")) -> #REF! | BH34: =IF(AND($E34<>0,#REF!=""),"* No olvide digitar la columna Migrantes (Digite CEROS si no tiene). ",IF($E34<#REF!,"* Los Migrantes NO DEBEN ser mayor al total. ","")) -> #REF! | BI34: =IF((#REF!+#REF!)<#REF!,1,0) -> #REF! | BJ34: =IF(E34<#REF!,1,0) -> #REF! | BK34: =IF(#REF!<#REF!,1,0) -> #REF! | BL34: =IF(AND(E34<>0,#REF!=""),1,IF(#REF!<#REF!,1,0)) -> #REF! | BM34: =IF(AND($E34<>0,#REF!=""),1,IF($E34<#REF!,1,0)) -> #REF! | BN34: =IF(AND($E34<>0,#REF!=""),1,IF($E34<#REF!,1,0)) -> #REF! | BO34: =IF(AND($E34<>0,#REF!=""),1,IF($E34<#REF!,1,0)) -> #REF!
B35: TOTAL | C35: CONSULTA NUEVA | E35: =E7+E9+E11+E13+E15+E17+E19+E21+E23+E25+E27+E29+E31+E33 -> 3796 | F35: =F7+F9+F11+F13+F15+F17+F19+F21+F23+F25+F27+F29+F31+F33 -> 3790 | G35: =F35/E35 -> 0.99841939 | H35: =H7+H9+H11+H13+H15+H17+H19+H21+H23+H25+H27+H29+H31+H33 -> 3499 | I35: =H35/E35 -> 0.92175975 | J35: =J7+J9+J11+J13+J15+J17+J19+J21+J23+J25+J27+J29+J31+J33 -> 291 | K35: =J35/E35 -> 0.076659642 | BB35: =IF(BI35=1,"* El número de pacientes de 60 años NO DEBE Ser mayor a lo registrado en el grupo Etario 20-64 años. ","") -> #REF! | BC35: =IF(BJ35=1,"* La consulta pertinente según Protocolo de Referencia NO DEBE ser mayor al Total registrado. ","") -> #REF! | BD35: =IF(BK35=1,"* La consulta pertinente según condición clínica NO DEBE ser mayor al Total registrado. ","") -> #REF! | BE35: =IF(AND(E35<>0,#REF!=""),"* Recuerde que las Embarazadas deben ser incluídas en el ingreso por rango Etario (Digite CEROS si no tiene). ",IF(#REF!<#REF!,"* Las Embarazadas NO DEBEN ser mayor al total de Mujeres. ","")) -> #REF! | BF35: =IF(AND($E35<>0,#REF!=""),"* No olvide digitar la columna Usuarios en Situación de Discapacidad (Digite CEROS si no tiene). ",IF($E35<#REF!,"* Los Usuarios en Situación de Discapacidad NO DEBEN ser mayor al total. ","")) -> #REF! | BG35: =IF(AND($E35<>0,#REF!=""),"* No olvide digitar la columna Niños, Niñas, Adolescentes y Jóvenes Población SENAME (Digite CEROS si no tiene). ",IF($E35<#REF!,"* Los Niños, Niñas, Adolescentes y Jóvenes Población SENAME NO DEBEN ser mayor al total. ","")) -> #REF! | BH35: =IF(AND($E35<>0,#REF!=""),"* No olvide digitar la columna Migrantes (Digite CEROS si no tiene). ",IF($E35<#REF!,"* Los Migrantes NO DEBEN ser mayor al total. ","")) -> #REF! | BI35: =IF((#REF!+#REF!)<#REF!,1,0) -> #REF! | BJ35: =IF(E35<#REF!,1,0) -> #REF! | BK35: =IF(#REF!<#REF!,1,0) -> #REF! | BL35: =IF(AND(E35<>0,#REF!=""),1,IF(#REF!<#REF!,1,0)) -> #REF! | BM35: =IF(AND($E35<>0,#REF!=""),1,IF($E35<#REF!,1,0)) -> #REF! | BN35: =IF(AND($E35<>0,#REF!=""),1,IF($E35<#REF!,1,0)) -> #REF! | BO35: =IF(AND($E35<>0,#REF!=""),1,IF($E35<#REF!,1,0)) -> #REF!
C36: CONTROL | E36: =E8+E10+E12+E14+E16+E18+E20+E22+E24+E26+E28+E30+E32+E34 -> 12470 | F36: =F8+F10+F12+F14+F16+F18+F20+F22+F24+F26+F28+F30+F32+F34 -> 0 | G36: =F36/E36 -> 0 | H36: =H8+H10+H12+H14+H16+H18+H20+H22+H24+H26+H28+H30+H32+H34 -> 0 | I36: =H36/E36 -> 0 | J36: =J8+J10+J12+J14+J16+J18+J20+J22+J24+J26+J28+J30+J32+J34 -> 0 | K36: =J36/E36 -> 0 | BB36: =IF(BI36=1,"* El número de pacientes de 60 años NO DEBE Ser mayor a lo registrado en el grupo Etario 20-64 años. ","") -> #REF! | BC36: =IF(BJ36=1,"* La consulta pertinente según Protocolo de Referencia NO DEBE ser mayor al Total registrado. ","") -> #REF! | BD36: =IF(BK36=1,"* La consulta pertinente según condición clínica NO DEBE ser mayor al Total registrado. ","") -> #REF! | BE36: =IF(AND(E36<>0,#REF!=""),"* Recuerde que las Embarazadas deben ser incluídas en el ingreso por rango Etario (Digite CEROS si no tiene). ",IF(#REF!<#REF!,"* Las Embarazadas NO DEBEN ser mayor al total de Mujeres. ","")) -> #REF! | BF36: =IF(AND($E36<>0,#REF!=""),"* No olvide digitar la columna Usuarios en Situación de Discapacidad (Digite CEROS si no tiene). ",IF($E36<#REF!,"* Los Usuarios en Situación de Discapacidad NO DEBEN ser mayor al total. ","")) -> #REF! | BG36: =IF(AND($E36<>0,#REF!=""),"* No olvide digitar la columna Niños, Niñas, Adolescentes y Jóvenes Población SENAME (Digite CEROS si no tiene). ",IF($E36<#REF!,"* Los Niños, Niñas, Adolescentes y Jóvenes Población SENAME NO DEBEN ser mayor al total. ","")) -> #REF! | BH36: =IF(AND($E36<>0,#REF!=""),"* No olvide digitar la columna Migrantes (Digite CEROS si no tiene). ",IF($E36<#REF!,"* Los Migrantes NO DEBEN ser mayor al total. ","")) -> #REF! | BI36: =IF((#REF!+#REF!)<#REF!,1,0) -> #REF! | BJ36: =IF(E36<#REF!,1,0) -> #REF! | BK36: =IF(#REF!<#REF!,1,0) -> #REF! | BL36: =IF(AND(E36<>0,#REF!=""),1,IF(#REF!<#REF!,1,0)) -> #REF! | BM36: =IF(AND($E36<>0,#REF!=""),1,IF($E36<#REF!,1,0)) -> #REF! | BN36: =IF(AND($E36<>0,#REF!=""),1,IF($E36<#REF!,1,0)) -> #REF! | BO36: =IF(AND($E36<>0,#REF!=""),1,IF($E36<#REF!,1,0)) -> #REF!

Sheet Hospital Ovalle
B2: CONSULTAS, INGRESOS Y EGRESOS EN ESPECIALIDADES ODONTOLÓGICAS REALIZADOS EN NIVEL PRIMARIO Y SECUNDARIO DE SALUD.
B4: ESPECIALIDAD Y TIPO DE INGRESO O EGRESO | E4: TOTAL | F4: CONSULTAS PERTINENTES | H4: CONSULTAS PERTINENTES
H5: Según Protocolo de Referencia | J5: Según Condición Clínica
F6: Cantidad | G6: Porcentaje | H6: Cantidad | I6: Porcentaje | J6: Cantidad | K6: Porcentaje
B7: CIRUGÍA BUCAL | C7: CONSULTA NUEVA | E7: 199 | F7: =H7+J7 -> 394 | G7: =F7/E7 -> 1.9798995 | H7: 197 | I7: =H7/E7 -> 0.98994975 | J7: 197 | K7: =J7/E7 -> 0.98994975 | BB7: =IF(BI7=1,"* El número de pacientes de 60 años NO DEBE Ser mayor a lo registrado en el grupo Etario 20-64 años. ","") -> #REF! | BC7: =IF(BJ7=1,"* La consulta pertinente según Protocolo de Referencia NO DEBE ser mayor al Total registrado. ","") -> #REF! | BD7: =IF(BK7=1,"* La consulta pertinente según condición clínica NO DEBE ser mayor al Total registrado. ","") -> #REF! | BE7: =IF(AND(E7<>0,#REF!=""),"* Recuerde que las Embarazadas deben ser incluídas en el ingreso por rango Etario (Digite CEROS si no tiene). ",IF(#REF!<#REF!,"* Las Embarazadas NO DEBEN ser mayor al total de Mujeres. ","")) -> #REF! | BF7: =IF(AND($E7<>0,#REF!=""),"* No olvide digitar la columna Usuarios en Situación de Discapacidad (Digite CEROS si no tiene). ",IF($E7<#REF!,"* Los Usuarios en Situación de Discapacidad NO DEBEN ser mayor al total. ","")) -> #REF! | BG7: =IF(AND($E7<>0,#REF!=""),"* No olvide digitar la columna Niños, Niñas, Adolescentes y Jóvenes Población SENAME (Digite CEROS si no tiene). ",IF($E7<#REF!,"* Los Niños, Niñas, Adolescentes y Jóvenes Población SENAME NO DEBEN ser mayor al total. ","")) -> #REF! | BH7: =IF(AND($E7<>0,#REF!=""),"* No olvide digitar la columna Migrantes (Digite CEROS si no tiene). ",IF($E7<#REF!,"* Los Migrantes NO DEBEN ser mayor al total. ","")) -> #REF! | BI7: =IF((#REF!+#REF!)<#REF!,1,0) -> #REF! | BJ7: =IF(E7<#REF!,1,0) -> #REF! | BK7: =IF(#REF!<#REF!,1,0) -> #REF! | BL7: =IF(AND(E7<>0,#REF!=""),1,IF(#REF!<#REF!,1,0)) -> #REF! | BM7: =IF(AND($E7<>0,#REF!=""),1,IF($E7<#REF!,1,0)) -> #REF! | BN7: =IF(AND($E7<>0,#REF!=""),1,IF($E7<#REF!,1,0)) -> #REF! | BO7: =IF(AND($E7<>0,#REF!=""),1,IF($E7<#REF!,1,0)) -> #REF!
C8: CONTROL | E8: 513 | F8: =H8+J8 -> 0 | G8: =F8/E8 -> 0 | H8: 0 | I8: =H8/E8 -> 0 | J8: 0 | K8: =J8/E8 -> 0 | BB8: =IF(BI8=1,"* El número de pacientes de 60 años NO DEBE Ser mayor a lo registrado en el grupo Etario 20-64 años. ","") -> #REF! | BC8: =IF(BJ8=1,"* La consulta pertinente según Protocolo de Referencia NO DEBE ser mayor al Total registrado. ","") -> #REF! | BD8: =IF(BK8=1,"* La consulta pertinente según condición clínica NO DEBE ser mayor al Total registrado. ","") -> #REF! | BE8: =IF(AND(E8<>0,#REF!=""),"* Recuerde que las Embarazadas deben ser incluídas en el ingreso por rango Etario (Digite CEROS si no tiene). ",IF(#REF!<#REF!,"* Las Embarazadas NO DEBEN ser mayor al total de Mujeres. ","")) -> #REF! | BF8: =IF(AND($E8<>0,#REF!=""),"* No olvide digitar la columna Usuarios en Situación de Discapacidad (Digite CEROS si no tiene). ",IF($E8<#REF!,"* Los Usuarios en Situación de Discapacidad NO DEBEN ser mayor al total. ","")) -> #REF! | BG8: =IF(AND($E8<>0,#REF!=""),"* No olvide digitar la columna Niños, Niñas, Adolescentes y Jóvenes Población SENAME (Digite CEROS si no tiene). ",IF($E8<#REF!,"* Los Niños, Niñas, Adolescentes y Jóvenes Población SENAME NO DEBEN ser mayor al total. ","")) -> #REF! | BH8: =IF(AND($E8<>0,#REF!=""),"* No olvide digitar la columna Migrantes (Digite CEROS si no tiene). ",IF($E8<#REF!,"* Los Migrantes NO DEBEN ser mayor al total. ","")) -> #REF! | BI8: =IF((#REF!+#REF!)<#REF!,1,0) -> #REF! | BJ8: =IF(E8<#REF!,1,0) -> #REF! | BK8: =IF(#REF!<#REF!,1,0) -> #REF! | BL8: =IF(AND(E8<>0,#REF!=""),1,IF(#REF!<#REF!,1,0)) -> #REF! | BM8: =IF(AND($E8<>0,#REF!=""),1,IF($E8<#REF!,1,0)) -> #REF! | BN8: =IF(AND($E8<>0,#REF!=""),1,IF($E8<#REF!,1,0)) -> #REF! | BO8: =IF(AND($E8<>0,#REF!=""),1,IF($E8<#REF!,1,0)) -> #REF!
B9: CIRUGÍA Y TRAUMATOLOGÍA MAXILOFACIAL | C9: CONSULTA NUEVA | E9: 464 | F9: =H9+J9 -> 921 | G9: =F9/E9 -> 1.9849138 | H9: 461 | I9: =H9/E9 -> 0.99353448 | J9: 460 | K9: =J9/E9 -> 0.99137931 | BB9: =IF(BI9=1,"* El número de pacientes de 60 años NO DEBE Ser mayor a lo registrado en el grupo Etario 20-64 años. ","") -> #REF! | BC9: =IF(BJ9=1,"* La consulta pertinente según Protocolo de Referencia NO DEBE ser mayor al Total registrado. ","") -> #REF! | BD9: =IF(BK9=1,"* La consulta pertinente según condición clínica NO DEBE ser mayor al Total registrado. ","") -> #REF! | BE9: =IF(AND(E9<>0,#REF!=""),"* Recuerde que las Embarazadas deben ser incluídas en el ingreso por rango Etario (Digite CEROS si no tiene). ",IF(#REF!<#REF!,"* Las Embarazadas NO DEBEN ser mayor al total de Mujeres. ","")) -> #REF! | BF9: =IF(AND($E9<>0,#REF!=""),"* No olvide digitar la columna Usuarios en Situación de Discapacidad (Digite CEROS si no tiene). ",IF($E9<#REF!,"* Los Usuarios en Situación de Discapacidad NO DEBEN ser mayor al total. ","")) -> #REF! | BG9: =IF(AND($E9<>0,#REF!=""),"* No olvide digitar la columna Niños, Niñas, Adolescentes y Jóvenes Población SENAME (Digite CEROS si no tiene). ",IF($E9<#REF!,"* Los Niños, Niñas, Adolescentes y Jóvenes Población SENAME NO DEBEN ser mayor al total. ","")) -> #REF! | BH9: =IF(AND($E9<>0,#REF!=""),"* No olvide digitar la columna Migrantes (Digite CEROS si no tiene). ",IF($E9<#REF!,"* Los Migrantes NO DEBEN ser mayor al total. ","")) -> #REF! | BI9: =IF((#REF!+#REF!)<#REF!,1,0) -> #REF! | BJ9: =IF(E9<#REF!,1,0) -> #REF! | BK9: =IF(#REF!<#REF!,1,0) -> #REF! | BL9: =IF(AND(E9<>0,#REF!=""),1,IF(#REF!<#REF!,1,0)) -> #REF! | BM9: =IF(AND($E9<>0,#REF!=""),1,IF($E9<#REF!,1,0)) -> #REF! | BN9: =IF(AND($E9<>0,#REF!=""),1,IF($E9<#REF!,1,0)) -> #REF! | BO9: =IF(AND($E9<>0,#REF!=""),1,IF($E9<#REF!,1,0)) -> #REF!
C10: CONTROL | E10: 1327 | F10: =H10+J10 -> 0 | G10: =F10/E10 -> 0 | H10: 0 | I10: =H10/E10 -> 0 | J10: 0 | K10: =J10/E10 -> 0 | BB10: =IF(BI10=1,"* El número de pacientes de 60 años NO DEBE Ser mayor a lo registrado en el grupo Etario 20-64 años. ","") -> #REF! | BC10: =IF(BJ10=1,"* La consulta pertinente según Protocolo de Referencia NO DEBE ser mayor al Total registrado. ","") -> #REF! | BD10: =IF(BK10=1,"* La consulta pertinente según condición clínica NO DEBE ser mayor al Total registrado. ","") -> #REF! | BE10: =IF(AND(E10<>0,#REF!=""),"* Recuerde que las Embarazadas deben ser incluídas en el ingreso por rango Etario (Digite CEROS si no tiene). ",IF(#REF!<#REF!,"* Las Embarazadas NO DEBEN ser mayor al total de Mujeres. ","")) -> #REF! | BF10: =IF(AND($E10<>0,#REF!=""),"* No olvide digitar la columna Usuarios en Situación de Discapacidad (Digite CEROS si no tiene). ",IF($E10<#REF!,"* Los Usuarios en Situación de Discapacidad NO DEBEN ser mayor al total. ","")) -> #REF! | BG10: =IF(AND($E10<>0,#REF!=""),"* No olvide digitar la columna Niños, Niñas, Adolescentes y Jóvenes Población SENAME (Digite CEROS si no tiene). ",IF($E10<#REF!,"* Los Niños, Niñas, Adolescentes y Jóvenes Población SENAME NO DEBEN ser mayor al total. ","")) -> #REF! | BH10: =IF(AND($E10<>0,#REF!=""),"* No olvide digitar la columna Migrantes (Digite CEROS si no tiene). ",IF($E10<#REF!,"* Los Migrantes NO DEBEN ser mayor al total. ","")) -> #REF! | BI10: =IF((#REF!+#REF!)<#REF!,1,0) -> #REF! | BJ10: =IF(E10<#REF!,1,0) -> #REF! | BK10: =IF(#REF!<#REF!,1,0) -> #REF! | BL10: =IF(AND(E10<>0,#REF!=""),1,IF(#REF!<#REF!,1,0)) -> #REF! | BM10: =IF(AND($E10<>0,#REF!=""),1,IF($E10<#REF!,1,0)) -> #REF! | BN10: =IF(AND($E10<>0,#REF!=""),1,IF($E10<#REF!,1,0)) -> #REF! | BO10: =IF(AND($E10<>0,#REF!=""),1,IF($E10<#REF!,1,0)) -> #REF!
B11: ENDODONCIA | C11: CONSULTA NUEVA | E11: 1114 | F11: =H11+J11 -> 2055 | G11: =F11/E11 -> 1.8447038 | H11: 1042 | I11: =H11/E11 -> 0.93536804 | J11: 1013 | K11: =J11/E11 -> 0.90933573 | BB11: =IF(BI11=1,"* El número de pacientes de 60 años NO DEBE Ser mayor a lo registrado en el grupo Etario 20-64 años. ","") -> #REF! | BC11: =IF(BJ11=1,"* La consulta pertinente según Protocolo de Referencia NO DEBE ser mayor al Total registrado. ","") -> #REF! | BD11: =IF(BK11=1,"* La consulta pertinente según condición clínica NO DEBE ser mayor al Total registrado. ","") -> #REF! | BE11: =IF(AND(E11<>0,#REF!=""),"* Recuerde que las Embarazadas deben ser incluídas en el ingreso por rango Etario (Digite CEROS si no tiene). ",IF(#REF!<#REF!,"* Las Embarazadas NO DEBEN ser mayor al total de Mujeres. ","")) -> #REF! | BF11: =IF(AND($E11<>0,#REF!=""),"* No olvide digitar la columna Usuarios en Situación de Discapacidad (Digite CEROS si no tiene). ",IF($E11<#REF!,"* Los Usuarios en Situación de Discapacidad NO DEBEN ser mayor al total. ","")) -> #REF! | BG11: =IF(AND($E11<>0,#REF!=""),"* No olvide digitar la columna Niños, Niñas, Adolescentes y Jóvenes Población SENAME (Digite CEROS si no tiene). ",IF($E11<#REF!,"* Los Niños, Niñas, Adolescentes y Jóvenes Población SENAME NO DEBEN ser mayor al total. ","")) -> #REF! | BH11: =IF(AND($E11<>0,#REF!=""),"* No olvide digitar la columna Migrantes (Digite CEROS si no tiene). ",IF($E11<#REF!,"* Los Migrantes NO DEBEN ser mayor al total. ","")) -> #REF! | BI11: =IF((#REF!+#REF!)<#REF!,1,0) -> #REF! | BJ11: =IF(E11<#REF!,1,0) -> #REF! | BK11: =IF(#REF!<#REF!,1,0) -> #REF! | BL11: =IF(AND(E11<>0,#REF!=""),1,IF(#REF!<#REF!,1,0)) -> #REF! | BM11: =IF(AND($E11<>0,#REF!=""),1,IF($E11<#REF!,1,0)) -> #REF! | BN11: =IF(AND($E11<>0,#REF!=""),1,IF($E11<#REF!,1,0)) -> #REF! | BO11: =IF(AND($E11<>0,#REF!=""),1,IF($E11<#REF!,1,0)) -> #REF!
C12: CONTROL | E12: 2007 | F12: =H12+J12 -> 0 | G12: =F12/E12 -> 0 | H12: 0 | I12: =H12/E12 -> 0 | J12: 0 | K12: =J12/E12 -> 0 | BB12: =IF(BI12=1,"* El número de pacientes de 60 años NO DEBE Ser mayor a lo registrado en el grupo Etario 20-64 años. ","") -> #REF! | BC12: =IF(BJ12=1,"* La consulta pertinente según Protocolo de Referencia NO DEBE ser mayor al Total registrado. ","") -> #REF! | BD12: =IF(BK12=1,"* La consulta pertinente según condición clínica NO DEBE ser mayor al Total registrado. ","") -> #REF! | BE12: =IF(AND(E12<>0,#REF!=""),"* Recuerde que las Embarazadas deben ser incluídas en el ingreso por rango Etario (Digite CEROS si no tiene). ",IF(#REF!<#REF!,"* Las Embarazadas NO DEBEN ser mayor al total de Mujeres. ","")) -> #REF! | BF12: =IF(AND($E12<>0,#REF!=""),"* No olvide digitar la columna Usuarios en Situación de Discapacidad (Digite CEROS si no tiene). ",IF($E12<#REF!,"* Los Usuarios en Situación de Discapacidad NO DEBEN ser mayor al total. ","")) -> #REF! | BG12: =IF(AND($E12<>0,#REF!=""),"* No olvide digitar la columna Niños, Niñas, Adolescentes y Jóvenes Población SENAME (Digite CEROS si no tiene). ",IF($E12<#REF!,"* Los Niños, Niñas, Adolescentes y Jóvenes Población SENAME NO DEBEN ser mayor al total. ","")) -> #REF! | BH12: =IF(AND($E12<>0,#REF!=""),"* No olvide digitar la columna Migrantes (Digite CEROS si no tiene). ",IF($E12<#REF!,"* Los Migrantes NO DEBEN ser mayor al total. ","")) -> #REF! | BI12: =IF((#REF!+#REF!)<#REF!,1,0) -> #REF! | BJ12: =IF(E12<#REF!,1,0) -> #REF! | BK12: =IF(#REF!<#REF!,1,0) -> #REF! | BL12: =IF(AND(E12<>0,#REF!=""),1,IF(#REF!<#REF!,1,0)) -> #REF! | BM12: =IF(AND($E12<>0,#REF!=""),1,IF($E12<#REF!,1,0)) -> #REF! | BN12: =IF(AND($E12<>0,#REF!=""),1,IF($E12<#REF!,1,0)) -> #REF! | BO12: =IF(AND($E12<>0,#REF!=""),1,IF($E12<#REF!,1,0)) -> #REF!
B13: ODONTOPEDIATRÍA | C13: CONSULTA NUEVA | E13: 243 | F13: =H13+J13 -> 482 | G13: =F13/E13 -> 1.9835391 | H13: 243 | I13: =H13/E13 -> 1 | J13: 239 | K13: =J13/E13 -> 0.98353909 | BC13: =IF(BJ13=1,"* La consulta pertinente según Protocolo de Referencia NO DEBE ser mayor al Total registrado. ","") -> #REF! | BD13: =IF(BK13=1,"* La consulta pertinente según condición clínica NO DEBE ser mayor al Total registrado. ","") -> #REF! | BE13: =IF(AND(E13<>0,#REF!=""),"* Recuerde que las Embarazadas deben ser incluídas en el ingreso por rango Etario (Digite CEROS si no tiene). ",IF(#REF!<#REF!,"* Las Embarazadas NO DEBEN ser mayor al total de Mujeres. ","")) -> #REF! | BF13: =IF(AND($E13<>0,#REF!=""),"* No olvide digitar la columna Usuarios en Situación de Discapacidad (Digite CEROS si no tiene). ",IF($E13<#REF!,"* Los Usuarios en Situación de Discapacidad NO DEBEN ser mayor al total. ","")) -> #REF! | BG13: =IF(AND($E13<>0,#REF!=""),"* No olvide digitar la columna Niños, Niñas, Adolescentes y Jóvenes Población SENAME (Digite CEROS si no tiene). ",IF($E13<#REF!,"* Los Niños, Niñas, Adolescentes y Jóvenes Población SENAME NO DEBEN ser mayor al total. ","")) -> #REF! | BH13: =IF(AND($E13<>0,#REF!=""),"* No olvide digitar la columna Migrantes (Digite CEROS si no tiene). ",IF($E13<#REF!,"* Los Migrantes NO DEBEN ser mayor al total. ","")) -> #REF! | BJ13: =IF(E13<#REF!,1,0) -> #REF! | BK13: =IF(#REF!<#REF!,1,0) -> #REF! | BL13: =IF(AND(E13<>0,#REF!=""),1,IF(#REF!<#REF!,1,0)) -> #REF! | BM13: =IF(AND($E13<>0,#REF!=""),1,IF($E13<#REF!,1,0)) -> #REF! | BN13: =IF(AND($E13<>0,#REF!=""),1,IF($E13<#REF!,1,0)) -> #REF! | BO13: =IF(AND($E13<>0,#REF!=""),1,IF($E13<#REF!,1,0)) -> #REF!
C14: CONTROL | E14: 1255 | F14: =H14+J14 -> 0 | G14: =F14/E14 -> 0 | H14: 0 | I14: =H14/E14 -> 0 | J14: 0 | K14: =J14/E14 -> 0 | BC14: =IF(BJ14=1,"* La consulta pertinente según Protocolo de Referencia NO DEBE ser mayor al Total registrado. ","") -> #REF! | BD14: =IF(BK14=1,"* La consulta pertinente según condición clínica NO DEBE ser mayor al Total registrado. ","") -> #REF! | BE14: =IF(AND(E14<>0,#REF!=""),"* Recuerde que las Embarazadas deben ser incluídas en el ingreso por rango Etario (Digite CEROS si no tiene). ",IF(#REF!<#REF!,"* Las Embarazadas NO DEBEN ser mayor al total de Mujeres. ","")) -> #REF! | BF14: =IF(AND($E14<>0,#REF!=""),"* No olvide digitar la columna Usuarios en Situación de Discapacidad (Digite CEROS si no tiene). ",IF($E14<#REF!,"* Los Usuarios en Situación de Discapacidad NO DEBEN ser mayor al total. ","")) -> #REF! | BG14: =IF(AND($E14<>0,#REF!=""),"* No olvide digitar la columna Niños, Niñas, Adolescentes y Jóvenes Población SENAME (Digite CEROS si no tiene). ",IF($E14<#REF!,"* Los Niños, Niñas, Adolescentes y Jóvenes Población SENAME NO DEBEN ser mayor al total. ","")) -> #REF! | BH14: =IF(AND($E14<>0,#REF!=""),"* No olvide digitar la columna Migrantes (Digite CEROS si no tiene). ",IF($E14<#REF!,"* Los Migrantes NO DEBEN ser mayor al total. ","")) -> #REF! | BJ14: =IF(E14<#REF!,1,0) -> #REF! | BK14: =IF(#REF!<#REF!,1,0) -> #REF! | BL14: =IF(AND(E14<>0,#REF!=""),1,IF(#REF!<#REF!,1,0)) -> #REF! | BM14: =IF(AND($E14<>0,#REF!=""),1,IF($E14<#REF!,1,0)) -> #REF! | BN14: =IF(AND($E14<>0,#REF!=""),1,IF($E14<#REF!,1,0)) -> #REF! | BO14: =IF(AND($E14<>0,#REF!=""),1,IF($E14<#REF!,1,0)) -> #REF!
B15: OPERATORIA | C15: CONSULTA NUEVA | E15: 99 | F15: =H15+J15 -> 190 | G15: =F15/E15 -> 1.9191919 | H15: 93 | I15: =H15/E15 -> 0.93939394 | J15: 97 | K15: =J15/E15 -> 0.97979798 | BB15: =IF(BI15=1,"* El número de pacientes de 60 años NO DEBE Ser mayor a lo registrado en el grupo Etario 20-64 años. ","") -> #REF! | BC15: =IF(BJ15=1,"* La consulta pertinente según Protocolo de Referencia NO DEBE ser mayor al Total registrado. ","") -> #REF! | BD15: =IF(BK15=1,"* La consulta pertinente según condición clínica NO DEBE ser mayor al Total registrado. ","") -> #REF! | BE15: =IF(AND(E15<>0,#REF!=""),"* Recuerde que las Embarazadas deben ser incluídas en el ingreso por rango Etario (Digite CEROS si no tiene). ",IF(#REF!<#REF!,"* Las Embarazadas NO DEBEN ser mayor al total de Mujeres. ","")) -> #REF! | BF15: =IF(AND($E15<>0,#REF!=""),"* No olvide digitar la columna Usuarios en Situación de Discapacidad (Digite CEROS si no tiene). ",IF($E15<#REF!,"* Los Usuarios en Situación de Discapacidad NO DEBEN ser mayor al total. ","")) -> #REF! | BG15: =IF(AND($E15<>0,#REF!=""),"* No olvide digitar la columna Niños, Niñas, Adolescentes y Jóvenes Población SENAME (Digite CEROS si no tiene). ",IF($E15<#REF!,"* Los Niños, Niñas, Adolescentes y Jóvenes Población SENAME NO DEBEN ser mayor al total. ","")) -> #REF! | BH15: =IF(AND($E15<>0,#REF!=""),"* No olvide digitar la columna Migrantes (Digite CEROS si no tiene). ",IF($E15<#REF!,"* Los Migrantes NO DEBEN ser mayor al total. ","")) -> #REF! | BI15: =IF((#REF!+#REF!)<#REF!,1,0) -> #REF! | BJ15: =IF(E15<#REF!,1,0) -> #REF! | BK15: =IF(#REF!<#REF!,1,0) -> #REF! | BL15: =IF(AND(E15<>0,#REF!=""),1,IF(#REF!<#REF!,1,0)) -> #REF! | BM15: =IF(AND($E15<>0,#REF!=""),1,IF($E15<#REF!,1,0)) -> #REF! | BN15: =IF(AND($E15<>0,#REF!=""),1,IF($E15<#REF!,1,0)) -> #REF! | BO15: =IF(AND($E15<>0,#REF!=""),1,IF($E15<#REF!,1,0)) -> #REF!
C16: CONTROL | E16: 657 | F16: =H16+J16 -> 0 | G16: =F16/E16 -> 0 | H16: 0 | I16: =H16/E16 -> 0 | J16: 0 | K16: =J16/E16 -> 0 | BB16: =IF(BI16=1,"* El número de pacientes de 60 años NO DEBE Ser mayor a lo registrado en el grupo Etario 20-64 años. ","") -> #REF! | BC16: =IF(BJ16=1,"* La consulta pertinente según Protocolo de Referencia NO DEBE ser mayor al Total registrado. ","") -> #REF! | BD16: =IF(BK16=1,"* La consulta pertinente según condición clínica NO DEBE ser mayor al Total registrado. ","") -> #REF! | BE16: =IF(AND(E16<>0,#REF!=""),"* Recuerde que las Embarazadas deben ser incluídas en el ingreso por rango Etario (Digite CEROS si no tiene). ",IF(#REF!<#REF!,"* Las Embarazadas NO DEBEN ser mayor al total de Mujeres. ","")) -> #REF! | BF16: =IF(AND($E16<>0,#REF!=""),"* No olvide digitar la columna Usuarios en Situación de Discapacidad (Digite CEROS si no tiene). ",IF($E16<#REF!,"* Los Usuarios en Situación de Discapacidad NO DEBEN ser mayor al total. ","")) -> #REF! | BG16: =IF(AND($E16<>0,#REF!=""),"* No olvide digitar la columna Niños, Niñas, Adolescentes y Jóvenes Población SENAME (Digite CEROS si no tiene). ",IF($E16<#REF!,"* Los Niños, Niñas, Adolescentes y Jóvenes Población SENAME NO DEBEN ser mayor al total. ","")) -> #REF! | BH16: =IF(AND($E16<>0,#REF!=""),"* No olvide digitar la columna Migrantes (Digite CEROS si no tiene). ",IF($E16<#REF!,"* Los Migrantes NO DEBEN ser mayor al total. ","")) -> #REF! | BI16: =IF((#REF!+#REF!)<#REF!,1,0) -> #REF! | BJ16: =IF(E16<#REF!,1,0) -> #REF! | BK16: =IF(#REF!<#REF!,1,0) -> #REF! | BL16: =IF(AND(E16<>0,#REF!=""),1,IF(#REF!<#REF!,1,0)) -> #REF! | BM16: =IF(AND($E16<>0,#REF!=""),1,IF($E16<#REF!,1,0)) -> #REF! | BN16: =IF(AND($E16<>0,#REF!=""),1,IF($E16<#REF!,1,0)) -> #REF! | BO16: =IF(AND($E16<>0,#REF!=""),1,IF($E16<#REF!,1,0)) -> #REF!
B17: ORTODONCIA Y ORTOPEDIA DENTO MAXILOFACIAL: APARATOLOGÍA FIJA | C17: CONSULTA NUEVA | E17: 164 | F17: =H17+J17 -> 286 | G17: =F17/E17 -> 1.7439024 | H17: 148 | I17: =H17/E17 -> 0.90243902 | J17: 138 | K17: =J17/E17 -> 0.84146341 | BC17: =IF(BJ17=1,"* La consulta pertinente según Protocolo de Referencia NO DEBE ser mayor al Total registrado. ","") -> #REF! | BD17: =IF(BK17=1,"* La consulta pertinente según condición clínica NO DEBE ser mayor al Total registrado. ","") -> #REF! | BF17: =IF(AND($E17<>0,#REF!=""),"* No olvide digitar la columna Usuarios en Situación de Discapacidad (Digite CEROS si no tiene). ",IF($E17<#REF!,"* Los Usuarios en Situación de Discapacidad NO DEBEN ser mayor al total. ","")) -> #REF! | BG17: =IF(AND($E17<>0,#REF!=""),"* No olvide digitar la columna Niños, Niñas, Adolescentes y Jóvenes Población SENAME (Digite CEROS si no tiene). ",IF($E17<#REF!,"* Los Niños, Niñas, Adolescentes y Jóvenes Población SENAME NO DEBEN ser mayor al total. ","")) -> #REF! | BH17: =IF(AND($E17<>0,#REF!=""),"* No olvide digitar la columna Migrantes (Digite CEROS si no tiene). ",IF($E17<#REF!,"* Los Migrantes NO DEBEN ser mayor al total. ","")) -> #REF! | BJ17: =IF(E17<#REF!,1,0) -> #REF! | BK17: =IF(#REF!<#REF!,1,0) -> #REF! | BM17: =IF(AND($E17<>0,#REF!=""),1,IF($E17<#REF!,1,0)) -> #REF! | BN17: =IF(AND($E17<>0,#REF!=""),1,IF($E17<#REF!,1,0)) -> #REF! | BO17: =IF(AND($E17<>0,#REF!=""),1,IF($E17<#REF!,1,0)) -> #REF!
C18: CONTROL | E18: 1912 | F18: =H18+J18 -> 0 | G18: =F18/E18 -> 0 | H18: 0 | I18: =H18/E18 -> 0 | J18: 0 | K18: =J18/E18 -> 0 | BC18: =IF(BJ18=1,"* La consulta pertinente según Protocolo de Referencia NO DEBE ser mayor al Total registrado. ","") -> #REF! | BD18: =IF(BK18=1,"* La consulta pertinente según condición clínica NO DEBE ser mayor al Total registrado. ","") -> #REF! | BF18: =IF(AND($E18<>0,#REF!=""),"* No olvide digitar la columna Usuarios en Situación de Discapacidad (Digite CEROS si no tiene). ",IF($E18<#REF!,"* Los Usuarios en Situación de Discapacidad NO DEBEN ser mayor al total. ","")) -> #REF! | BG18: =IF(AND($E18<>0,#REF!=""),"* No olvide digitar la columna Niños, Niñas, Adolescentes y Jóvenes Población SENAME (Digite CEROS si no tiene). ",IF($E18<#REF!,"* Los Niños, Niñas, Adolescentes y Jóvenes Población SENAME NO DEBEN ser mayor al total. ","")) -> #REF! | BH18: =IF(AND($E18<>0,#REF!=""),"* No olvide digitar la columna Migrantes (Digite CEROS si no tiene). ",IF($E18<#REF!,"* Los Migrantes NO DEBEN ser mayor al total. ","")) -> #REF! | BJ18: =IF(E18<#REF!,1,0) -> #REF! | BK18: =IF(#REF!<#REF!,1,0) -> #REF! | BM18: =IF(AND($E18<>0,#REF!=""),1,IF($E18<#REF!,1,0)) -> #REF! | BN18: =IF(AND($E18<>0,#REF!=""),1,IF($E18<#REF!,1,0)) -> #REF! | BO18: =IF(AND($E18<>0,#REF!=""),1,IF($E18<#REF!,1,0)) -> #REF!
B19: ORTODONCIA Y ORTOPEDIA DENTO MAXILOFACIAL: APARATOLOGÍA REMOVIBLE | C19: CONSULTA NUEVA | E19: 9 | F19: =H19+J19 -> 18 | G19: =F19/E19 -> 2 | H19: 9 | I19: =H19/E19 -> 1 | J19: 9 | K19: =J19/E19 -> 1 | BC19: =IF(BJ19=1,"* La consulta pertinente según Protocolo de Referencia NO DEBE ser mayor al Total registrado. ","") -> #REF! | BD19: =IF(BK19=1,"* La consulta pertinente según condición clínica NO DEBE ser mayor al Total registrado. ","") -> #REF! | BF19: =IF(AND($E19<>0,#REF!=""),"* No olvide digitar la columna Usuarios en Situación de Discapacidad (Digite CEROS si no tiene). ",IF($E19<#REF!,"* Los Usuarios en Situación de Discapacidad NO DEBEN ser mayor al total. ","")) -> #REF! | BG19: =IF(AND($E19<>0,#REF!=""),"* No olvide digitar la columna Niños, Niñas, Adolescentes y Jóvenes Población SENAME (Digite CEROS si no tiene). ",IF($E19<#REF!,"* Los Niños, Niñas, Adolescentes y Jóvenes Población SENAME NO DEBEN ser mayor al total. ","")) -> #REF! | BH19: =IF(AND($E19<>0,#REF!=""),"* No olvide digitar la columna Migrantes (Digite CEROS si no tiene). ",IF($E19<#REF!,"* Los Migrantes NO DEBEN ser mayor al total. ","")) -> #REF! | BJ19: =IF(E19<#REF!,1,0) -> #REF! | BK19: =IF(#REF!<#REF!,1,0) -> #REF! | BM19: =IF(AND($E19<>0,#REF!=""),1,IF($E19<#REF!,1,0)) -> #REF! | BN19: =IF(AND($E19<>0,#REF!=""),1,IF($E19<#REF!,1,0)) -> #REF! | BO19: =IF(AND($E19<>0,#REF!=""),1,IF($E19<#REF!,1,0)) -> #REF!
C20: CONTROL | E20: 94 | F20: =H20+J20 -> 0 | G20: =F20/E20 -> 0 | H20: 0 | I20: =H20/E20 -> 0 | J20: 0 | K20: =J20/E20 -> 0 | BC20: =IF(BJ20=1,"* La consulta pertinente según Protocolo de Referencia NO DEBE ser mayor al Total registrado. ","") -> #REF! | BD20: =IF(BK20=1,"* La consulta pertinente según condición clínica NO DEBE ser mayor al Total registrado. ","") -> #REF! | BF20: =IF(AND($E20<>0,#REF!=""),"* No olvide digitar la columna Usuarios en Situación de Discapacidad (Digite CEROS si no tiene). ",IF($E20<#REF!,"* Los Usuarios en Situación de Discapacidad NO DEBEN ser mayor al total. ","")) -> #REF! | BG20: =IF(AND($E20<>0,#REF!=""),"* No olvide digitar la columna Niños, Niñas, Adolescentes y Jóvenes Población SENAME (Digite CEROS si no tiene). ",IF($E20<#REF!,"* Los Niños, Niñas, Adolescentes y Jóvenes Población SENAME NO DEBEN ser mayor al total. ","")) -> #REF! | BH20: =IF(AND($E20<>0,#REF!=""),"* No olvide digitar la columna Migrantes (Digite CEROS si no tiene). ",IF($E20<#REF!,"* Los Migrantes NO DEBEN ser mayor al total. ","")) -> #REF! | BJ20: =IF(E20<#REF!,1,0) -> #REF! | BK20: =IF(#REF!<#REF!,1,0) -> #REF! | BM20: =IF(AND($E20<>0,#REF!=""),1,IF($E20<#REF!,1,0)) -> #REF! | BN20: =IF(AND($E20<>0,#REF!=""),1,IF($E20<#REF!,1,0)) -> #REF! | BO20: =IF(AND($E20<>0,#REF!=""),1,IF($E20<#REF!,1,0)) -> #REF!
B21: PERIODONCIA | C21: CONSULTA NUEVA | E21: 313 | F21: =H21+J21 -> 625 | G21: =F21/E21 -> 1.9968051 | H21: 313 | I21: =H21/E21 -> 1 | J21: 312 | K21: =J21/E21 -> 0.99680511 | BB21: =IF(BI21=1,"* El número de pacientes de 60 años NO DEBE Ser mayor a lo registrado en el grupo Etario 20-64 años. ","") -> #REF! | BC21: =IF(BJ21=1,"* La consulta pertinente según Protocolo de Referencia NO DEBE ser mayor al Total registrado. ","") -> #REF! | BD21: =IF(BK21=1,"* La consulta pertinente según condición clínica NO DEBE ser mayor al Total registrado. ","") -> #REF! | BE21: =IF(AND(E21<>0,#REF!=""),"* Recuerde que las Embarazadas deben ser incluídas en el ingreso por rango Etario (Digite CEROS si no tiene). ",IF(#REF!<#REF!,"* Las Embarazadas NO DEBEN ser mayor al total de Mujeres. ","")) -> #REF! | BF21: =IF(AND($E21<>0,#REF!=""),"* No olvide digitar la columna Usuarios en Situación de Discapacidad (Digite CEROS si no tiene). ",IF($E21<#REF!,"* Los Usuarios en Situación de Discapacidad NO DEBEN ser mayor al total. ","")) -> #REF! | BG21: =IF(AND($E21<>0,#REF!=""),"* No olvide digitar la columna Niños, Niñas, Adolescentes y Jóvenes Población SENAME (Digite CEROS si no tiene). ",IF($E21<#REF!,"* Los Niños, Niñas, Adolescentes y Jóvenes Población SENAME NO DEBEN ser mayor al total. ","")) -> #REF! | BH21: =IF(AND($E21<>0,#REF!=""),"* No olvide digitar la columna Migrantes (Digite CEROS si no tiene). ",IF($E21<#REF!,"* Los Migrantes NO DEBEN ser mayor al total. ","")) -> #REF! | BI21: =IF((#REF!+#REF!)<#REF!,1,0) -> #REF! | BJ21: =IF(E21<#REF!,1,0) -> #REF! | BK21: =IF(#REF!<#REF!,1,0) -> #REF! | BL21: =IF(AND(E21<>0,#REF!=""),1,IF(#REF!<#REF!,1,0)) -> #REF! | BM21: =IF(AND($E21<>0,#REF!=""),1,IF($E21<#REF!,1,0)) -> #REF! | BN21: =IF(AND($E21<>0,#REF!=""),1,IF($E21<#REF!,1,0)) -> #REF! | BO21: =IF(AND($E21<>0,#REF!=""),1,IF($E21<#REF!,1,0)) -> #REF!
C22: CONTROL | E22: 885 | F22: =H22+J22 -> 0 | G22: =F22/E22 -> 0 | H22: 0 | I22: =H22/E22 -> 0 | J22: 0 | K22: =J22/E22 -> 0 | BB22: =IF(BI22=1,"* El número de pacientes de 60 años NO DEBE Ser mayor a lo registrado en el grupo Etario 20-64 años. ","") -> #REF! | BC22: =IF(BJ22=1,"* La consulta pertinente según Protocolo de Referencia NO DEBE ser mayor al Total registrado. ","") -> #REF! | BD22: =IF(BK22=1,"* La consulta pertinente según condición clínica NO DEBE ser mayor al Total registrado. ","") -> #REF! | BE22: =IF(AND(E22<>0,#REF!=""),"* Recuerde que las Embarazadas deben ser incluídas en el ingreso por rango Etario (Digite CEROS si no tiene). ",IF(#REF!<#REF!,"* Las Embarazadas NO DEBEN ser mayor al total de Mujeres. ","")) -> #REF! | BF22: =IF(AND($E22<>0,#REF!=""),"* No olvide digitar la columna Usuarios en Situación de Discapacidad (Digite CEROS si no tiene). ",IF($E22<#REF!,"* Los Usuarios en Situación de Discapacidad NO DEBEN ser mayor al total. ","")) -> #REF! | BG22: =IF(AND($E22<>0,#REF!=""),"* No olvide digitar la columna Niños, Niñas, Adolescentes y Jóvenes Población SENAME (Digite CEROS si no tiene). ",IF($E22<#REF!,"* Los Niños, Niñas, Adolescentes y Jóvenes Población SENAME NO DEBEN ser mayor al total. ","")) -> #REF! | BH22: =IF(AND($E22<>0,#REF!=""),"* No olvide digitar la columna Migrantes (Digite CEROS si no tiene). ",IF($E22<#REF!,"* Los Migrantes NO DEBEN ser mayor al total. ","")) -> #REF! | BI22: =IF((#REF!+#REF!)<#REF!,1,0) -> #REF! | BJ22: =IF(E22<#REF!,1,0) -> #REF! | BK22: =IF(#REF!<#REF!,1,0) -> #REF! | BL22: =IF(AND(E22<>0,#REF!=""),1,IF(#REF!<#REF!,1,0)) -> #REF! | BM22: =IF(AND($E22<>0,#REF!=""),1,IF($E22<#REF!,1,0)) -> #REF! | BN22: =IF(AND($E22<>0,#REF!=""),1,IF($E22<#REF!,1,0)) -> #REF! | BO22: =IF(AND($E22<>0,#REF!=""),1,IF($E22<#REF!,1,0)) -> #REF!
