Workbook
Name FAMILIA_CON_NIÑO_NANEAS: #REF!
Name SegmentaciónDeDatos_Consultas_Pertinentes: #N/A
Name SegmentaciónDeDatos_Hospital: #N/A

Sheet Resumen
A1: MINISTERIO DE SALUD
A2: SERVICIO DE SALUD COQUIMBO
A3: DEPARTAMENTO DE GESTIÓN, PLANIFICACIÓN Y CONTROL
A4: SUBDEPTO. DE ESTADÍSTICAS Y GESTIÓN DE LA INFORMACIÓN
A5: AÑO 2022

Sheet Servicio de Salud
B2: CONSULTAS, INGRESOS Y EGRESOS EN ESPECIALIDADES ODONTOLÓGICAS REALIZADOS EN NIVEL PRIMARIO Y SECUNDARIO DE SALUD.
B4: ESPECIALIDAD Y TIPO DE INGRESO O EGRESO | E4: TOTAL | F4: CONSULTAS PERTINENTES | H4: CONSULTAS PERTINENTES
H5: Según Protocolo de Referencia | J5: Según Condición Clínica
F6: Cantidad | G6: Porcentaje | H6: Cantidad | I6: Porcentaje | J6: Cantidad | K6: Porcentaje
B7: CIRUGÍA BUCAL | C7: CONSULTA NUEVA | E7: ='Hospital La Serena'!F7+'Hospital Coquimbo'!E7+'Hospital Ovalle'!E7+'Hospital Illapel'!E7 -> 591 | F7: =H7+J7 -> 1157 | G7: =F7/E7 -> 1.9576988 | H7: ='Hospital La Serena'!I7+'Hospital Coquimbo'!H7+'Hospital Ovalle'!H7+'Hospital Illapel'!H7 -> 582 | I7: =H7/E7 -> 0.98477157 | J7: ='Hospital La Serena'!K7+'Hospital Coquimbo'!J7+'Hospital Ovalle'!J7+'Hospital Illapel'!J7 -> 575 | K7: =J7/E7 -> 0.97292724 | BB7: =IF(BI7=1,"* El número de pacientes de 60 años NO DEBE Ser mayor a lo registrado en el grupo Etario 20-64 años. ","") -> #REF! | BC7: =IF(BJ7=1,"* La consulta pertinente según Protocolo de Referencia NO DEBE ser mayor al Total registrado. ","") -> #REF! | BD7: =IF(BK7=1,"* La consulta pertinente según condición clínica NO DEBE ser mayor al Total registrado. ","") -> #REF! | BE7: =IF(AND(E7<>0,#REF!=""),"* Recuerde que las Embarazadas deben ser incluídas en el ingreso por rango Etario (Digite CEROS si no tiene). ",IF(#REF!<#REF!,"* Las Embarazadas NO DEBEN ser mayor al total de Mujeres. ","")) -> #REF! | BF7: =IF(AND($E7<>0,#REF!=""),"* No olvide digitar la columna Usuarios en Situación de Discapacidad (Digite CEROS si no tiene). ",IF($E7<#REF!,"* Los Usuarios en Situación de Discapacidad NO DEBEN ser mayor al total. ","")) -> #REF! | BG7: =IF(AND($E7<>0,#REF!=""),"* No olvide digitar la columna Niños, Niñas, Adolescentes y Jóvenes Población SENAME (Digite CEROS si no tiene). ",IF($E7<#REF!,"* Los Niños, Niñas, Adolescentes y Jóvenes Población SENAME NO DEBEN ser mayor al total. ","")) -> #REF! | BH7: =IF(AND($E7<>0,#REF!=""),"* No olvide digitar la columna Migrantes (Digite CEROS si no tiene). ",IF($E7<#REF!,"* Los Migrantes NO DEBEN ser mayor al total. ","")) -> #REF! | BI7: =IF((#REF!+#REF!)<#REF!,1,0) -> #REF! | BJ7: =IF(E7<#REF!,1,0) -> #REF! | BK7: =IF(#REF!<#REF!,1,0) -> #REF! | BL7: =IF(AND(E7<>0,#REF!=""),1,IF(#REF!<#REF!,1,0)) -> #REF! | BM7: =IF(AND($E7<>0,#REF!=""),1,IF($E7<#REF!,1,0)) -> #REF! | BN7: =IF(AND($E7<>0,#REF!=""),1,IF($E7<#REF!,1,0)) -> #REF! | BO7: =IF(AND($E7<>0,#REF!=""),1,IF($E7<#REF!,1,0)) -> #REF!
C8: CONTROL | E8: ='Hospital La Serena'!F8+'Hospital Coquimbo'!E8+'Hospital Ovalle'!E8+'Hospital Illapel'!E8 -> 1540 | F8: =H8+J8 -> 0 | G8: =F8/E8 -> 0 | H8: ='Hospital La Serena'!I8+'Hospital Coquimbo'!H8+'Hospital Ovalle'!H8+'Hospital Illapel'!H8 -> 0 | I8: =H8/E8 -> 0 | J8: ='Hospital La Serena'!K8+'Hospital Coquimbo'!J8+'Hospital Ovalle'!J8+'Hospital Illapel'!J8 -> 0 | K8: =J8/E8 -> 0 | BB8: =IF(BI8=1,"* El número de pacientes de 60 años NO DEBE Ser mayor a lo registrado en el grupo Etario 20-64 años. ","") -> #REF! | BC8: =IF(BJ8=1,"* La consulta pertinente según Protocolo de Referencia NO DEBE ser mayor al Total registrado. ","") -> #REF! | BD8: =IF(BK8=1,"* La consulta pertinente según condición clínica NO DEBE ser mayor al Total registrado. ","") -> #REF! | BE8: =IF(AND(E8<>0,#REF!=""),"* Recuerde que las Embarazadas deben ser incluídas en el ingreso por rango Etario (Digite CEROS si no tiene). ",IF(#REF!<#REF!,"* Las Embarazadas NO DEBEN ser mayor al total de Mujeres. ","")) -> #REF! | BF8: =IF(AND($E8<>0,#REF!=""),"* No olvide digitar la columna Usuarios en Situación de Discapacidad (Digite CEROS si no tiene). ",IF($E8<#REF!,"* Los Usuarios en Situación de Discapacidad NO DEBEN ser mayor al total. ","")) -> #REF! | BG8: =IF(AND($E8<>0,#REF!=""),"* No olvide digitar la columna Niños, Niñas, Adolescentes y Jóvenes Población SENAME (Digite CEROS si no tiene). ",IF($E8<#REF!,"* Los Niños, Niñas, Adolescentes y Jóvenes Población SENAME NO DEBEN ser mayor al total. ","")) -> #REF! | BH8: =IF(AND($E8<>0,#REF!=""),"* No olvide digitar la columna Migrantes (Digite CEROS si no tiene). ",IF($E8<#REF!,"* Los Migrantes NO DEBEN ser mayor al total. ","")) -> #REF! | BI8: =IF((#REF!+#REF!)<#REF!,1,0) -> #REF! | BJ8: =IF(E8<#REF!,1,0) -> #REF! | BK8: =IF(#REF!<#REF!,1,0) -> #REF! | BL8: =IF(AND(E8<>0,#REF!=""),1,IF(#REF!<#REF!,1,0)) -> #REF! | BM8: =IF(AND($E8<>0,#REF!=""),1,IF($E8<#REF!,1,0)) -> #REF! | BN8: =IF(AND($E8<>0,#REF!=""),1,IF($E8<#REF!,1,0)) -> #REF! | BO8: =IF(AND($E8<>0,#REF!=""),1,IF($E8<#REF!,1,0)) -> #REF!
B9: CIRUGÍA Y TRAUMATOLOGÍA MAXILOFACIAL | C9: CONSULTA NUEVA | E9: ='Hospital La Serena'!F9+'Hospital Coquimbo'!E9+'Hospital Ovalle'!E9+'Hospital Illapel'!E9 -> 2651 | F9: =H9+J9 -> 3535 | G9: =F9/E9 -> 1.3334591 | H9: ='Hospital La Serena'!I9+'Hospital Coquimbo'!H9+'Hospital Ovalle'!H9+'Hospital Illapel'!H9 -> 2221 | I9: =H9/E9 -> 0.83779706 | J9: ='Hospital La Serena'!K9+'Hospital Coquimbo'!J9+'Hospital Ovalle'!J9+'Hospital Illapel'!J9 -> 1314 | K9: =J9/E9 -> 0.49566201 | BB9: =IF(BI9=1,"* El número de pacientes de 60 años NO DEBE Ser mayor a lo registrado en el grupo Etario 20-64 años. ","") -> #REF! | BC9: =IF(BJ9=1,"* La consulta pertinente según Protocolo de Referencia NO DEBE ser mayor al Total registrado. ","") -> #REF! | BD9: =IF(BK9=1,"* La consulta pertinente según condición clínica NO DEBE ser mayor al Total registrado. ","") -> #REF! | BE9: =IF(AND(E9<>0,#REF!=""),"* Recuerde que las Embarazadas deben ser incluídas en el ingreso por rango Etario (Digite CEROS si no tiene). ",IF(#REF!<#REF!,"* Las Embarazadas NO DEBEN ser mayor al total de Mujeres. ","")) -> #REF! | BF9: =IF(AND($E9<>0,#REF!=""),"* No olvide digitar la columna Usuarios en Situación de Discapacidad (Digite CEROS si no tiene). ",IF($E9<#REF!,"* Los Usuarios en Situación de Discapacidad NO DEBEN ser mayor al total. ","")) -> #REF! | BG9: =IF(AND($E9<>0,#REF!=""),"* No olvide digitar la columna Niños, Niñas, Adolescentes y Jóvenes Población SENAME (Digite CEROS si no tiene). ",IF($E9<#REF!,"* Los Niños, Niñas, Adolescentes y Jóvenes Población SENAME NO DEBEN ser mayor al total. ","")) -> #REF! | BH9: =IF(AND($E9<>0,#REF!=""),"* No olvide digitar la columna Migrantes (Digite CEROS si no tiene). ",IF($E9<#REF!,"* Los Migrantes NO DEBEN ser mayor al total. ","")) -> #REF! | BI9: =IF((#REF!+#REF!)<#REF!,1,0) -> #REF! | BJ9: =IF(E9<#REF!,1,0) -> #REF! | BK9: =IF(#REF!<#REF!,1,0) -> #REF! | BL9: =IF(AND(E9<>0,#REF!=""),1,IF(#REF!<#REF!,1,0)) -> #REF! | BM9: =IF(AND($E9<>0,#REF!=""),1,IF($E9<#REF!,1,0)) -> #REF! | BN9: =IF(AND($E9<>0,#REF!=""),1,IF($E9<#REF!,1,0)) -> #REF! | BO9: =IF(AND($E9<>0,#REF!=""),1,IF($E9<#REF!,1,0)) -> #REF!
C10: CONTROL | E10: ='Hospital La Serena'!F10+'Hospital Coquimbo'!E10+'Hospital Ovalle'!E10+'Hospital Illapel'!E10 -> 6029 | F10: =H10+J10 -> 0 | G10: =F10/E10 -> 0 | H10: ='Hospital La Serena'!I10+'Hospital Coquimbo'!H10+'Hospital Ovalle'!H10+'Hospital Illapel'!H10 -> 0 | I10: =H10/E10 -> 0 | J10: ='Hospital La Serena'!K10+'Hospital Coquimbo'!J10+'Hospital Ovalle'!J10+'Hospital Illapel'!J10 -> 0 | K10: =J10/E10 -> 0 | BB10: =IF(BI10=1,"* El número de pacientes de 60 años NO DEBE Ser mayor a lo registrado en el grupo Etario 20-64 años. ","") -> #REF! | BC10: =IF(BJ10=1,"* La consulta pertinente según Protocolo de Referencia NO DEBE ser mayor al Total registrado. ","") -> #REF! | BD10: =IF(BK10=1,"* La consulta pertinente según condición clínica NO DEBE ser mayor al Total registrado. ","") -> #REF! | BE10: =IF(AND(E10<>0,#REF!=""),"* Recuerde que las Embarazadas deben ser incluídas en el ingreso por rango Etario (Digite CEROS si no tiene). ",IF(#REF!<#REF!,"* Las Embarazadas NO DEBEN ser mayor al total de Mujeres. ","")) -> #REF! | BF10: =IF(AND($E10<>0,#REF!=""),"* No olvide digitar la columna Usuarios en Situación de Discapacidad (Digite CEROS si no tiene). ",IF($E10<#REF!,"* Los Usuarios en Situación de Discapacidad NO DEBEN ser mayor al total. ","")) -> #REF! | BG10: =IF(AND($E10<>0,#REF!=""),"* No olvide digitar la columna Niños, Niñas, Adolescentes y Jóvenes Población SENAME (Digite CEROS si no tiene). ",IF($E10<#REF!,"* Los Niños, Niñas, Adolescentes y Jóvenes Población SENAME NO DEBEN ser mayor al total. ","")) -> #REF! | BH10: =IF(AND($E10<>0,#REF!=""),"* No olvide digitar la columna Migrantes (Digite CEROS si no tiene). ",IF($E10<#REF!,"* Los Migrantes NO DEBEN ser mayor al total. ","")) -> #REF! | BI10: =IF((#REF!+#REF!)<#REF!,1,0) -> #REF! | BJ10: =IF(E10<#REF!,1,0) -> #REF! | BK10: =IF(#REF!<#REF!,1,0) -> #REF! | BL10: =IF(AND(E10<>0,#REF!=""),1,IF(#REF!<#REF!,1,0)) -> #REF! | BM10: =IF(AND($E10<>0,#REF!=""),1,IF($E10<#REF!,1,0)) -> #REF! | BN10: =IF(AND($E10<>0,#REF!=""),1,IF($E10<#REF!,1,0)) -> #REF! | BO10: =IF(AND($E10<>0,#REF!=""),1,IF($E10<#REF!,1,0)) -> #REF!
B11: ENDODONCIA | C11: CONSULTA NUEVA | E11: ='Hospital La Serena'!F11+'Hospital Coquimbo'!E11+'Hospital Ovalle'!E11+'Hospital Illapel'!E11 -> 3810 | F11: =H11+J11 -> 5617 | G11: =F11/E11 -> 1.4742782 | H11: ='Hospital La Serena'!I11+'Hospital Coquimbo'!H11+'Hospital Ovalle'!H11+'Hospital Illapel'!H11 -> 3459 | I11: =H11/E11 -> 0.90787402 | J11: ='Hospital La Serena'!K11+'Hospital Coquimbo'!J11+'Hospital Ovalle'!J11+'Hospital Illapel'!J11 -> 2158 | K11: =J11/E11 -> 0.5664042 | BB11: =IF(BI11=1,"* El número de pacientes de 60 años NO DEBE Ser mayor a lo registrado en el grupo Etario 20-64 años. ","") -> #REF! | BC11: =IF(BJ11=1,"* La consulta pertinente según Protocolo de Referencia NO DEBE ser mayor al Total registrado. ","") -> #REF! | BD11: =IF(BK11=1,"* La consulta pertinente según condición clínica NO DEBE ser mayor al Total registrado. ","") -> #REF! | BE11: =IF(AND(E11<>0,#REF!=""),"* Recuerde que las Embarazadas deben ser incluídas en el ingreso por rango Etario (Digite CEROS si no tiene). ",IF(#REF!<#REF!,"* Las Embarazadas NO DEBEN ser mayor al total de Mujeres. ","")) -> #REF! | BF11: =IF(AND($E11<>0,#REF!=""),"* No olvide digitar la columna Usuarios en Situación de Discapacidad (Digite CEROS si no tiene). ",IF($E11<#REF!,"* Los Usuarios en Situación de Discapacidad NO DEBEN ser mayor al total. ","")) -> #REF! | BG11: =IF(AND($E11<>0,#REF!=""),"* No olvide digitar la columna Niños, Niñas, Adolescentes y Jóvenes Población SENAME (Digite CEROS si no tiene). ",IF($E11<#REF!,"* Los Niños, Niñas, Adolescentes y Jóvenes Población SENAME NO DEBEN ser mayor al total. ","")) -> #REF! | BH11: =IF(AND($E11<>0,#REF!=""),"* No olvide digitar la columna Migrantes (Digite CEROS si no tiene). ",IF($E11<#REF!,"* Los Migrantes NO DEBEN ser mayor al total. ","")) -> #REF! | BI11: =IF((#REF!+#REF!)<#REF!,1,0) -> #REF! | BJ11: =IF(E11<#REF!,1,0) -> #REF! | BK11: =IF(#REF!<#REF!,1,0) -> #REF! | BL11: =IF(AND(E11<>0,#REF!=""),1,IF(#REF!<#REF!,1,0)) -> #REF! | BM11: =IF(AND($E11<>0,#REF!=""),1,IF($E11<#REF!,1,0)) -> #REF! | BN11: =IF(AND($E11<>0,#REF!=""),1,IF($E11<#REF!,1,0)) -> #REF! | BO11: =IF(AND($E11<>0,#REF!=""),1,IF($E11<#REF!,1,0)) -> #REF!
C12: CONTROL | E12: ='Hospital La Serena'!F12+'Hospital Coquimbo'!E12+'Hospital Ovalle'!E12+'Hospital Illapel'!E12 -> 7244 | F12: =H12+J12 -> 0 | G12: =F12/E12 -> 0 | H12: ='Hospital La Serena'!I12+'Hospital Coquimbo'!H12+'Hospital Ovalle'!H12+'Hospital Illapel'!H12 -> 0 | I12: =H12/E12 -> 0 | J12: ='Hospital La Serena'!K12+'Hospital Coquimbo'!J12+'Hospital Ovalle'!J12+'Hospital Illapel'!J12 -> 0 | K12: =J12/E12 -> 0 | BB12: =IF(BI12=1,"* El número de pacientes de 60 años NO DEBE Ser mayor a lo registrado en el grupo Etario 20-64 años. ","") -> #REF! | BC12: =IF(BJ12=1,"* La consulta pertinente según Protocolo de Referencia NO DEBE ser mayor al Total registrado. ","") -> #REF! | BD12: =IF(BK12=1,"* La consulta pertinente según condición clínica NO DEBE ser mayor al Total registrado. ","") -> #REF! | BE12: =IF(AND(E12<>0,#REF!=""),"* Recuerde que las Embarazadas deben ser incluídas en el ingreso por rango Etario (Digite CEROS si no tiene). ",IF(#REF!<#REF!,"* Las Embarazadas NO DEBEN ser mayor al total de Mujeres. ","")) -> #REF! | BF12: =IF(AND($E12<>0,#REF!=""),"* No olvide digitar la columna Usuarios en Situación de Discapacidad (Digite CEROS si no tiene). ",IF($E12<#REF!,"* Los Usuarios en Situación de Discapacidad NO DEBEN ser mayor al total. ","")) -> #REF! | BG12: =IF(AND($E12<>0,#REF!=""),"* No olvide digitar la columna Niños, Niñas, Adolescentes y Jóvenes Población SENAME (Digite CEROS si no tiene). ",IF($E12<#REF!,"* Los Niños, Niñas, Adolescentes y Jóvenes Población SENAME NO DEBEN ser mayor al total. ","")) -> #REF! | BH12: =IF(AND($E12<>0,#REF!=""),"* No olvide digitar la columna Migrantes (Digite CEROS si no tiene). ",IF($E12<#REF!,"* Los Migrantes NO DEBEN ser mayor al total. ","")) -> #REF! | BI12: =IF((#REF!+#REF!)<#REF!,1,0) -> #REF! | BJ12: =IF(E12<#REF!,1,0) -> #REF! | BK12: =IF(#REF!<#REF!,1,0) -> #REF! | BL12: =IF(AND(E12<>0,#REF!=""),1,IF(#REF!<#REF!,1,0)) -> #REF! | BM12: =IF(AND($E12<>0,#REF!=""),1,IF($E12<#REF!,1,0)) -> #REF! | BN12: =IF(AND($E12<>0,#REF!=""),1,IF($E12<#REF!,1,0)) -> #REF! | BO12: =IF(AND($E12<>0,#REF!=""),1,IF($E12<#REF!,1,0)) -> #REF!
B13: ODONTOPEDIATRÍA | C13: CONSULTA NUEVA | E13: ='Hospital La Serena'!F13+'Hospital Coquimbo'!E13+'Hospital Ovalle'!E13+'Hospital Illapel'!E13 -> 1312 | F13: =H13+J13 -> 1949 | G13: =F13/E13 -> 1.4855183 | H13: ='Hospital La Serena'!I13+'Hospital Coquimbo'!H13+'Hospital Ovalle'!H13+'Hospital Illapel'!H13 -> 1103 | I13: =H13/E13 -> 0.84070122 | J13: ='Hospital La Serena'!K13+'Hospital Coquimbo'!J13+'Hospital Ovalle'!J13+'Hospital Illapel'!J13 -> 846 | K13: =J13/E13 -> 0.64481707 | BC13: =IF(BJ13=1,"* La consulta pertinente según Protocolo de Referencia NO DEBE ser mayor al Total registrado. ","") -> #REF! | BD13: =IF(BK13=1,"* La consulta pertinente según condición clínica NO DEBE ser mayor al Total registrado. ","") -> #REF! | BE13: =IF(AND(E13<>0,#REF!=""),"* Recuerde que las Embarazadas deben ser incluídas en el ingreso por rango Etario (Digite CEROS si no tiene). ",IF(#REF!<#REF!,"* Las Embarazadas NO DEBEN ser mayor al total de Mujeres. ","")) -> #REF! | BF13: =IF(AND($E13<>0,#REF!=""),"* No olvide digitar la columna Usuarios en Situación de Discapacidad (Digite CEROS si no tiene). ",IF($E13<#REF!,"* Los Usuarios en Situación de Discapacidad NO DEBEN ser mayor al total. ","")) -> #REF! | BG13: =IF(AND($E13<>0,#REF!=""),"* No olvide digitar la columna Niños, Niñas, Adolescentes y Jóvenes Población SENAME (Digite CEROS si no tiene). ",IF($E13<#REF!,"* Los Niños, Niñas, Adolescentes y Jóvenes Población SENAME NO DEBEN ser mayor al total. ","")) -> #REF! | BH13: =IF(AND($E13<>0,#REF!=""),"* No olvide digitar la columna Migrantes (Digite CEROS si no tiene). ",IF($E13<#REF!,"* Los Migrantes NO DEBEN ser mayor al total. ","")) -> #REF! | BJ13: =IF(E13<#REF!,1,0) -> #REF! | BK13: =IF(#REF!<#REF!,1,0) -> #REF! | BL13: =IF(AND(E13<>0,#REF!=""),1,IF(#REF!<#REF!,1,0)) -> #REF! | BM13: =IF(AND($E13<>0,#REF!=""),1,IF($E13<#REF!,1,0)) -> #REF! | BN13: =IF(AND($E13<>0,#REF!=""),1,IF($E13<#REF!,1,0)) -> #REF! | BO13: =IF(AND($E13<>0,#REF!=""),1,IF($E13<#REF!,1,0)) -> #REF!
C14: CONTROL | E14: ='Hospital La Serena'!F14+'Hospital Coquimbo'!E14+'Hospital Ovalle'!E14+'Hospital Illapel'!E14 -> 6702 | F14: =H14+J14 -> 0 | G14: =F14/E14 -> 0 | H14: ='Hospital La Serena'!I14+'Hospital Coquimbo'!H14+'Hospital Ovalle'!H14+'Hospital Illapel'!H14 -> 0 | I14: =H14/E14 -> 0 | J14: ='Hospital La Serena'!K14+'Hospital Coquimbo'!J14+'Hospital Ovalle'!J14+'Hospital Illapel'!J14 -> 0 | K14: =J14/E14 -> 0 | BC14: =IF(BJ14=1,"* La consulta pertinente según Protocolo de Referencia NO DEBE ser mayor al Total registrado. ","") -> #REF! | BD14: =IF(BK14=1,"* La consulta pertinente según condición clínica NO DEBE ser mayor al Total registrado. ","") -> #REF! | BE14: =IF(AND(E14<>0,#REF!=""),"* Recuerde que las Embarazadas deben ser incluídas en el ingreso por rango Etario (Digite CEROS si no tiene). ",IF(#REF!<#REF!,"* Las Embarazadas NO DEBEN ser mayor al total de Mujeres. ","")) -> #REF! | BF14: =IF(AND($E14<>0,#REF!=""),"* No olvide digitar la columna Usuarios en Situación de Discapacidad (Digite CEROS si no tiene). ",IF($E14<#REF!,"* Los Usuarios en Situación de Discapacidad NO DEBEN ser mayor al total. ","")) -> #REF! | BG14: =IF(AND($E14<>0,#REF!=""),"* No olvide digitar la columna Niños, Niñas, Adolescentes y Jóvenes Población SENAME (Digite CEROS si no tiene). ",IF($E14<#REF!,"* Los Niños, Niñas, Adolescentes y Jóvenes Población SENAME NO DEBEN ser mayor al total. ","")) -> #REF! | BH14: =IF(AND($E14<>0,#REF!=""),"* No olvide digitar la columna Migrantes (Digite CEROS si no tiene). ",IF($E14<#REF!,"* Los Migrantes NO DEBEN ser mayor al total. ","")) -> #REF! | BJ14: =IF(E14<#REF!,1,0) -> #REF! | BK14: =IF(#REF!<#REF!,1,0) -> #REF! | BL14: =IF(AND(E14<>0,#REF!=""),1,IF(#REF!<#REF!,1,0)) -> #REF! | BM14: =IF(AND($E14<>0,#REF!=""),1,IF($E14<#REF!,1,0)) -> #REF! | BN14: =IF(AND($E14<>0,#REF!=""),1,IF($E14<#REF!,1,0)) -> #REF! | BO14: =IF(AND($E14<>0,#REF!=""),1,IF($E14<#REF!,1,0)) -> #REF!
B15: OPERATORIA | C15: CONSULTA NUEVA | E15: ='Hospital La Serena'!F15+'Hospital Coquimbo'!E15+'Hospital Ovalle'!E15+'Hospital Illapel'!E15 -> 208 | F15: =H15+J15 -> 335 | G15: =F15/E15 -> 1.6105769 | H15: ='Hospital La Serena'!I15+'Hospital Coquimbo'!H15+'Hospital Ovalle'!H15+'Hospital Illapel'!H15 -> 133 | I15: =H15/E15 -> 0.63942308 | J15: ='Hospital La Serena'!K15+'Hospital Coquimbo'!J15+'Hospital Ovalle'!J15+'Hospital Illapel'!J15 -> 202 | K15: =J15/E15 -> 0.97115385 | BB15: =IF(BI15=1,"* El número de pacientes de 60 años NO DEBE Ser mayor a lo registrado en el grupo Etario 20-64 años. ","") -> #REF! | BC15: =IF(BJ15=1,"* La consulta pertinente según Protocolo de Referencia NO DEBE ser mayor al Total registrado. ","") -> #REF! | BD15: =IF(BK15=1,"* La consulta pertinente según condición clínica NO DEBE ser mayor al Total registrado. ","") -> #REF! | BE15: =IF(AND(E15<>0,#REF!=""),"* Recuerde que las Embarazadas deben ser incluídas en el ingreso por rango Etario (Digite CEROS si no tiene). ",IF(#REF!<#REF!,"* Las Embarazadas NO DEBEN ser mayor al total de Mujeres. ","")) -> #REF! | BF15: =IF(AND($E15<>0,#REF!=""),"* No olvide digitar la columna Usuarios en Situación de Discapacidad (Digite CEROS si no tiene). ",IF($E15<#REF!,"* Los Usuarios en Situación de Discapacidad NO DEBEN ser mayor al total. ","")) -> #REF! | BG15: =IF(AND($E15<>0,#REF!=""),"* No olvide digitar la columna Niños, Niñas, Adolescentes y Jóvenes Población SENAME (Digite CEROS si no tiene). ",IF($E15<#REF!,"* Los Niños, Niñas, Adolescentes y Jóvenes Población SENAME NO DEBEN ser mayor al total. ","")) -> #REF! | BH15: =IF(AND($E15<>0,#REF!=""),"* No olvide digitar la columna Migrantes (Digite CEROS si no tiene). ",IF($E15<#REF!,"* Los Migrantes NO DEBEN ser mayor al total. ","")) -> #REF! | BI15: =IF((#REF!+#REF!)<#REF!,1,0) -> #REF! | BJ15: =IF(E15<#REF!,1,0) -> #REF! | BK15: =IF(#REF!<#REF!,1,0) -> #REF! | BL15: =IF(AND(E15<>0,#REF!=""),1,IF(#REF!<#REF!,1,0)) -> #REF! | BM15: =IF(AND($E15<>0,#REF!=""),1,IF($E15<#REF!,1,0)) -> #REF! | BN15: =IF(AND($E15<>0,#REF!=""),1,IF($E15<#REF!,1,0)) -> #REF! | BO15: =IF(AND($E15<>0,#REF!=""),1,IF($E15<#REF!,1,0)) -> #REF!
C16: CONTROL | E16: ='Hospital La Serena'!F16+'Hospital Coquimbo'!E16+'Hospital Ovalle'!E16+'Hospital Illapel'!E16 -> 1082 | F16: =H16+J16 -> 0 | G16: =F16/E16 -> 0 | H16: ='Hospital La Serena'!I16+'Hospital Coquimbo'!H16+'Hospital Ovalle'!H16+'Hospital Illapel'!H16 -> 0 | I16: =H16/E16 -> 0 | J16: ='Hospital La Serena'!K16+'Hospital Coquimbo'!J16+'Hospital Ovalle'!J16+'Hospital Illapel'!J16 -> 0 | K16: =J16/E16 -> 0 | BB16: =IF(BI16=1,"* El número de pacientes de 60 años NO DEBE Ser mayor a lo registrado en el grupo Etario 20-64 años. ","") -> #REF! | BC16: =IF(BJ16=1,"* La consulta pertinente según Protocolo de Referencia NO DEBE ser mayor al Total registrado. ","") -> #REF! | BD16: =IF(BK16=1,"* La consulta pertinente según condición clínica NO DEBE ser mayor al Total registrado. ","") -> #REF! | BE16: =IF(AND(E16<>0,#REF!=""),"* Recuerde que las Embarazadas deben ser incluídas en el ingreso por rango Etario (Digite CEROS si no tiene). ",IF(#REF!<#REF!,"* Las Embarazadas NO DEBEN ser mayor al total de Mujeres. ","")) -> #REF! | BF16: =IF(AND($E16<>0,#REF!=""),"* No olvide digitar la columna Usuarios en Situación de Discapacidad (Digite CEROS si no tiene). ",IF($E16<#REF!,"* Los Usuarios en Situación de Discapacidad NO DEBEN ser mayor al total. ","")) -> #REF! | BG16: =IF(AND($E16<>0,#REF!=""),"* No olvide digitar la columna Niños, Niñas, Adolescentes y Jóvenes Población SENAME (Digite CEROS si no tiene). ",IF($E16<#REF!,"* Los Niños, Niñas, Adolescentes y Jóvenes Población SENAME NO DEBEN ser mayor al total. ","")) -> #REF! | BH16: =IF(AND($E16<>0,#REF!=""),"* No olvide digitar la columna Migrantes (Digite CEROS si no tiene). ",IF($E16<#REF!,"* Los Migrantes NO DEBEN ser mayor al total. ","")) -> #REF! | BI16: =IF((#REF!+#REF!)<#REF!,1,0) -> #REF! | BJ16: =IF(E16<#REF!,1,0) -> #REF! | BK16: =IF(#REF!<#REF!,1,0) -> #REF! | BL16: =IF(AND(E16<>0,#REF!=""),1,IF(#REF!<#REF!,1,0)) -> #REF! | BM16: =IF(AND($E16<>0,#REF!=""),1,IF($E16<#REF!,1,0)) -> #REF! | BN16: =IF(AND($E16<>0,#REF!=""),1,IF($E16<#REF!,1,0)) -> #REF! | BO16: =IF(AND($E16<>0,#REF!=""),1,IF($E16<#REF!,1,0)) -> #REF!
B17: ORTODONCIA Y ORTOPEDIA DENTO MAXILOFACIAL: APARATOLOGÍA FIJA | C17: CONSULTA NUEVA | E17: ='Hospital La Serena'!F17+'Hospital Coquimbo'!E17+'Hospital Ovalle'!E17+'Hospital Illapel'!E17 -> 1136 | F17: =H17+J17 -> 1371 | G17: =F17/E17 -> 1.2068662 | H17: ='Hospital La Serena'!I17+'Hospital Coquimbo'!H17+'Hospital Ovalle'!H17+'Hospital Illapel'!H17 -> 1016 | I17: =H17/E17 -> 0.8943662 | J17: ='Hospital La Serena'!K17+'Hospital Coquimbo'!J17+'Hospital Ovalle'!J17+'Hospital Illapel'!J17 -> 355 | K17: =J17/E17 -> 0.3125 | BC17: =IF(BJ17=1,"* La consulta pertinente según Protocolo de Referencia NO DEBE ser mayor al Total registrado. ","") -> #REF! | BD17: =IF(BK17=1,"* La consulta pertinente según condición clínica NO DEBE ser mayor al Total registrado. ","") -> #REF! | BF17: =IF(AND($E17<>0,#REF!=""),"* No olvide digitar la columna Usuarios en Situación de Discapacidad (Digite CEROS si no tiene). ",IF($E17<#REF!,"* Los Usuarios en Situación de Discapacidad NO DEBEN ser mayor al total. ","")) -> #REF! | BG17: =IF(AND($E17<>0,#REF!=""),"* No olvide digitar la columna Niños, Niñas, Adolescentes y Jóvenes Población SENAME (Digite CEROS si no tiene). ",IF($E17<#REF!,"* Los Niños, Niñas, Adolescentes y Jóvenes Población SENAME NO DEBEN ser mayor al total. ","")) -> #REF! | BH17: =IF(AND($E17<>0,#REF!=""),"* No olvide digitar la columna Migrantes (Digite CEROS si no tiene). ",IF($E17<#REF!,"* Los Migrantes NO DEBEN ser mayor al total. ","")) -> #REF! | BJ17: =IF(E17<#REF!,1,0) -> #REF! | BK17: =IF(#REF!<#REF!,1,0) -> #REF! | BM17: =IF(AND($E17<>0,#REF!=""),1,IF($E17<#REF!,1,0)) -> #REF! | BN17: =IF(AND($E17<>0,#REF!=""),1,IF($E17<#REF!,1,0)) -> #REF! | BO17: =IF(AND($E17<>0,#REF!=""),1,IF($E17<#REF!,1,0)) -> #REF!
C18: CONTROL | E18: ='Hospital La Serena'!F18+'Hospital Coquimbo'!E18+'Hospital Ovalle'!E18+'Hospital Illapel'!E18 -> 10217 | F18: =H18+J18 -> 0 | G18: =F18/E18 -> 0 | H18: ='Hospital La Serena'!I18+'Hospital Coquimbo'!H18+'Hospital Ovalle'!H18+'Hospital Illapel'!H18 -> 0 | I18: =H18/E18 -> 0 | J18: ='Hospital La Serena'!K18+'Hospital Coquimbo'!J18+'Hospital Ovalle'!J18+'Hospital Illapel'!J18 -> 0 | K18: =J18/E18 -> 0 | BC18: =IF(BJ18=1,"* La consulta pertinente según Protocolo de Referencia NO DEBE ser mayor al Total registrado. ","") -> #REF! | BD18: =IF(BK18=1,"* La consulta pertinente según condición clínica NO DEBE ser mayor al Total registrado. ","") -> #REF! | BF18: =IF(AND($E18<>0,#REF!=""),"* No olvide digitar la columna Usuarios en Situación de Discapacidad (Digite CEROS si no tiene). ",IF($E18<#REF!,"* Los Usuarios en Situación de Discapacidad NO DEBEN ser mayor al total. ","")) -> #REF! | BG18: =IF(AND($E18<>0,#REF!=""),"* No olvide digitar la columna Niños, Niñas, Adolescentes y Jóvenes Población SENAME (Digite CEROS si no tiene). ",IF($E18<#REF!,"* Los Niños, Niñas, Adolescentes y Jóvenes Población SENAME NO DEBEN ser mayor al total. ","")) -> #REF! | BH18: =IF(AND($E18<>0,#REF!=""),"* No olvide digitar la columna Migrantes (Digite CEROS si no tiene). ",IF($E18<#REF!,"* Los Migrantes NO DEBEN ser mayor al total. ","")) -> #REF! | BJ18: =IF(E18<#REF!,1,0) -> #REF! | BK18: =IF(#REF!<#REF!,1,0) -> #REF! | BM18: =IF(AND($E18<>0,#REF!=""),1,IF($E18<#REF!,1,0)) -> #REF! | BN18: =IF(AND($E18<>0,#REF!=""),1,IF($E18<#REF!,1,0)) -> #REF! | BO18: =IF(AND($E18<>0,#REF!=""),1,IF($E18<#REF!,1,0)) -> #REF!
B19: ORTODONCIA Y ORTOPEDIA DENTO MAXILOFACIAL: APARATOLOGÍA REMOVIBLE | C19: CONSULTA NUEVA | E19: ='Hospital La Serena'!F19+'Hospital Coquimbo'!E19+'Hospital Ovalle'!E19+'Hospital Illapel'!E19 -> 148 | F19: =H19+J19 -> 219 | G19: =F19/E19 -> 1.4797297 | H19: ='Hospital La Serena'!I19+'Hospital Coquimbo'!H19+'Hospital Ovalle'!H19+'Hospital Illapel'!H19 -> 136 | I19: =H19/E19 -> 0.91891892 | J19: ='Hospital La Serena'!K19+'Hospital Coquimbo'!J19+'Hospital Ovalle'!J19+'Hospital Illapel'!J19 -> 83 | K19: =J19/E19 -> 0.56081081 | BC19: =IF(BJ19=1,"* La consulta pertinente según Protocolo de Referencia NO DEBE ser mayor al Total registrado. ","") -> #REF! | BD19: =IF(BK19=1,"* La consulta pertinente según condición clínica NO DEBE ser mayor al Total registrado. ","") -> #REF! | BF19: =IF(AND($E19<>0,#REF!=""),"* No olvide digitar la columna Usuarios en Situación de Discapacidad (Digite CEROS si no tiene). ",IF($E19<#REF!,"* Los Usuarios en Situación de Discapacidad NO DEBEN ser mayor al total. ","")) -> #REF! | BG19: =IF(AND($E19<>0,#REF!=""),"* No olvide digitar la columna Niños, Niñas, Adolescentes y Jóvenes Población SENAME (Digite CEROS si no tiene). ",IF($E19<#REF!,"* Los Niños, Niñas, Adolescentes y Jóvenes Población SENAME NO DEBEN ser mayor al total. ","")) -> #REF! | BH19: =IF(AND($E19<>0,#REF!=""),"* No olvide digitar la columna Migrantes (Digite CEROS si no tiene). ",IF($E19<#REF!,"* Los Migrantes NO DEBEN ser mayor al total. ","")) -> #REF! | BJ19: =IF(E19<#REF!,1,0) -> #REF! | BK19: =IF(#REF!<#REF!,1,0) -> #REF! | BM19: =IF(AND($E19<>0,#REF!=""),1,IF($E19<#REF!,1,0)) -> #REF! | BN19: =IF(AND($E19<>0,#REF!=""),1,IF($E19<#REF!,1,0)) -> #REF! | BO19: =IF(AND($E19<>0,#REF!=""),1,IF($E19<#REF!,1,0)) -> #REF!
C20: CONTROL | E20: ='Hospital La Serena'!F20+'Hospital Coquimbo'!E20+'Hospital Ovalle'!E20+'Hospital Illapel'!E20 -> 1269 | F20: =H20+J20 -> 0 | G20: =F20/E20 -> 0 | H20: ='Hospital La Serena'!I20+'Hospital Coquimbo'!H20+'Hospital Ovalle'!H20+'Hospital Illapel'!H20 -> 0 | I20: =H20/E20 -> 0 | J20: ='Hospital La Serena'!K20+'Hospital Coquimbo'!J20+'Hospital Ovalle'!J20+'Hospital Illapel'!J20 -> 0 | K20: =J20/E20 -> 0 | BC20: =IF(BJ20=1,"* La consulta pertinente según Protocolo de Referencia NO DEBE ser mayor al Total registrado. ","") -> #REF! | BD20: =IF(BK20=1,"* La consulta pertinente según condición clínica NO DEBE ser mayor al Total registrado. ","") -> #REF! | BF20: =IF(AND($E20<>0,#REF!=""),"* No olvide digitar la columna Usuarios en Situación de Discapacidad (Digite CEROS si no tiene). ",IF($E20<#REF!,"* Los Usuarios en Situación de Discapacidad NO DEBEN ser mayor al total. ","")) -> #REF! | BG20: =IF(AND($E20<>0,#REF!=""),"* No olvide digitar la columna Niños, Niñas, Adolescentes y Jóvenes Población SENAME (Digite CEROS si no tiene). ",IF($E20<#REF!,"* Los Niños, Niñas, Adolescentes y Jóvenes Población SENAME NO DEBEN ser mayor al total. ","")) -> #REF! | BH20: =IF(AND($E20<>0,#REF!=""),"* No olvide digitar la columna Migrantes (Digite CEROS si no tiene). ",IF($E20<#REF!,"* Los Migrantes NO DEBEN ser mayor al total. ","")) -> #REF! | BJ20: =IF(E20<#REF!,1,0) -> #REF! | BK20: =IF(#REF!<#REF!,1,0) -> #REF! | BM20: =IF(AND($E20<>0,#REF!=""),1,IF($E20<#REF!,1,0)) -> #REF! | BN20: =IF(AND($E20<>0,#REF!=""),1,IF($E20<#REF!,1,0)) -> #REF! | BO20: =IF(AND($E20<>0,#REF!=""),1,IF($E20<#REF!,1,0)) -> #REF!
B21: PERIODONCIA | C21: CONSULTA NUEVA | E21: ='Hospital La Serena'!F21+'Hospital Coquimbo'!E21+'Hospital Ovalle'!E21+'Hospital Illapel'!E21 -> 1698 | F21: =H21+J21 -> 2600 | G21: =F21/E21 -> 1.5312132 | H21: ='Hospital La Serena'!I21+'Hospital Coquimbo'!H21+'Hospital Ovalle'!H21+'Hospital Illapel'!H21 -> 1637 | I21: =H21/E21 -> 0.96407538 | J21: ='Hospital La Serena'!K21+'Hospital Coquimbo'!J21+'Hospital Ovalle'!J21+'Hospital Illapel'!J21 -> 963 | K21: =J21/E21 -> 0.56713781 | BB21: =IF(BI21=1,"* El número de pacientes de 60 años NO DEBE Ser mayor a lo registrado en el grupo Etario 20-64 años. ","") -> #REF! | BC21: =IF(BJ21=1,"* La consulta pertinente según Protocolo de Referencia NO DEBE ser mayor al Total registrado. ","") -> #REF! | BD21: =IF(BK21=1,"* La consulta pertinente según condición clínica NO DEBE ser mayor al Total registrado. ","") -> #REF! | BE21: =IF(AND(E21<>0,#REF!=""),"* Recuerde que las Embarazadas deben ser incluídas en el ingreso por rango Etario (Digite CEROS si no tiene). ",IF(#REF!<#REF!,"* Las Embarazadas NO DEBEN ser mayor al total de Mujeres. ","")) -> #REF! | BF21: =IF(AND($E21<>0,#REF!=""),"* No olvide digitar la columna Usuarios en Situación de Discapacidad (Digite CEROS si no tiene). ",IF($E21<#REF!,"* Los Usuarios en Situación de Discapacidad NO DEBEN ser mayor al total. ","")) -> #REF! | BG21: =IF(AND($E21<>0,#REF!=""),"* No olvide digitar la columna Niños, Niñas, Adolescentes y Jóvenes Población SENAME (Digite CEROS si no tiene). ",IF($E21<#REF!,"* Los Niños, Niñas, Adolescentes y Jóvenes Población SENAME NO DEBEN ser mayor al total. ","")) -> #REF! | BH21: =IF(AND($E21<>0,#REF!=""),"* No olvide digitar la columna Migrantes (Digite CEROS si no tiene). ",IF($E21<#REF!,"* Los Migrantes NO DEBEN ser mayor al total. ","")) -> #REF! | BI21: =IF((#REF!+#REF!)<#REF!,1,0) -> #REF! | BJ21: =IF(E21<#REF!,1,0) -> #REF! | BK21: =IF(#REF!<#REF!,1,0) -> #REF! | BL21: =IF(AND(E21<>0,#REF!=""),1,IF(#REF!<#REF!,1,0)) -> #REF! | BM21: =IF(AND($E21<>0,#REF!=""),1,IF($E21<#REF!,1,0)) -> #REF! | BN21: =IF(AND($E21<>0,#REF!=""),1,IF($E21<#REF!,1,0)) -> #REF! | BO21: =IF(AND($E21<>0,#REF!=""),1,IF($E21<#REF!,1,0)) -> #REF!
C22: CONTROL | E22: ='Hospital La Serena'!F22+'Hospital Coquimbo'!E22+'Hospital Ovalle'!E22+'Hospital Illapel'!E22 -> 4703 | F22: =H22+J22 -> 0 | G22: =F22/E22 -> 0 | H22: ='Hospital La Serena'!I22+'Hospital Coquimbo'!H22+'Hospital Ovalle'!H22+'Hospital Illapel'!H22 -> 0 | I22: =H22/E22 -> 0 | J22: ='Hospital La Serena'!K22+'Hospital Coquimbo'!J22+'Hospital Ovalle'!J22+'Hospital Illapel'!J22 -> 0 | K22: =J22/E22 -> 0 | BB22: =IF(BI22=1,"* El número de pacientes de 60 años NO DEBE Ser mayor a lo registrado en el grupo Etario 20-64 años. ","") -> #REF! | BC22: =IF(BJ22=1,"* La consulta pertinente según Protocolo de Referencia NO DEBE ser mayor al Total registrado. ","") -> #REF! | BD22: =IF(BK22=1,"* La consulta pertinente según condición clínica NO DEBE ser mayor al Total registrado. ","") -> #REF! | BE22: =IF(AND(E22<>0,#REF!=""),"* Recuerde que las Embarazadas deben ser incluídas en el ingreso por rango Etario (Digite CEROS si no tiene). ",IF(#REF!<#REF!,"* Las Embarazadas NO DEBEN ser mayor al total de Mujeres. ","")) -> #REF! | BF22: =IF(AND($E22<>0,#REF!=""),"* No olvide digitar la columna Usuarios en Situación de Discapacidad (Digite CEROS si no tiene). ",IF($E22<#REF!,"* Los Usuarios en Situación de Discapacidad NO DEBEN ser mayor al total. ","")) -> #REF! | BG22: =IF(AND($E22<>0,#REF!=""),"* No olvide digitar la columna Niños, Niñas, Adolescentes y Jóvenes Población SENAME (Digite CEROS si no tiene). ",IF($E22<#REF!,"* Los Niños, Niñas, Adolescentes y Jóvenes Población SENAME NO DEBEN ser mayor al total. ","")) -> #REF! | BH22: =IF(AND($E22<>0,#REF!=""),"* No olvide digitar la columna Migrantes (Digite CEROS si no tiene). ",IF($E22<#REF!,"* Los Migrantes NO DEBEN ser mayor al total. ","")) -> #REF! | BI22: =IF((#REF!+#REF!)<#REF!,1,0) -> #REF! | BJ22: =IF(E22<#REF!,1,0) -> #REF! | BK22: =IF(#REF!<#REF!,1,0) -> #REF! | BL22: =IF(AND(E22<>0,#REF!=""),1,IF(#REF!<#REF!,1,0)) -> #REF! | BM22: =IF(AND($E22<>0,#REF!=""),1,IF($E22<#REF!,1,0)) -> #REF! | BN22: =IF(AND($E22<>0,#REF!=""),1,IF($E22<#REF!,1,0)) -> #REF! | BO22: =IF(AND($E22<>0,#REF!=""),1,IF($E22<#REF!,1,0)) -> #REF!
B23: REHABILITACIÓN: PRÓTESIS FIJA | C23: CONSULTA NUEVA | E23: ='Hospital La Serena'!F23+'Hospital Coquimbo'!E23+'Hospital Ovalle'!E23+'Hospital Illapel'!E23 -> 50 | F23: =H23+J23 -> 90 | G23: =F23/E23 -> 1.8 | H23: ='Hospital La Serena'!I23+'Hospital Coquimbo'!H23+'Hospital Ovalle'!H23+'Hospital Illapel'!H23 -> 41 | I23: =H23/E23 -> 0.82 | J23: ='Hospital La Serena'!K23+'Hospital Coquimbo'!J23+'Hospital Ovalle'!J23+'Hospital Illapel'!J23 -> 49 | K23: =J23/E23 -> 0.98 | BB23: =IF(BI23=1,"* El número de pacientes de 60 años NO DEBE Ser mayor a lo registrado en el grupo Etario 20-64 años. ","") -> #REF! | BC23: =IF(BJ23=1,"* La consulta pertinente según Protocolo de Referencia NO DEBE ser mayor al Total registrado. ","") -> #REF! | BD23: =IF(BK23=1,"* La consulta pertinente según condición clínica NO DEBE ser mayor al Total registrado. ","") -> #REF! | BE23: =IF(AND(E23<>0,#REF!=""),"* Recuerde que las Embarazadas deben ser incluídas en el ingreso por rango Etario (Digite CEROS si no tiene). ",IF(#REF!<#REF!,"* Las Embarazadas NO DEBEN ser mayor al total de Mujeres. ","")) -> #REF! | BF23: =IF(AND($E23<>0,#REF!=""),"* No olvide digitar la columna Usuarios en Situación de Discapacidad (Digite CEROS si no tiene). ",IF($E23<#REF!,"* Los Usuarios en Situación de Discapacidad NO DEBEN ser mayor al total. ","")) -> #REF! | BG23: =IF(AND($E23<>0,#REF!=""),"* No olvide digitar la columna Niños, Niñas, Adolescentes y Jóvenes Población SENAME (Digite CEROS si no tiene). ",IF($E23<#REF!,"* Los Niños, Niñas, Adolescentes y Jóvenes Población SENAME NO DEBEN ser mayor al total. ","")) -> #REF! | BH23: =IF(AND($E23<>0,#REF!=""),"* No olvide digitar la columna Migrantes (Digite CEROS si no tiene). ",IF($E23<#REF!,"* Los Migrantes NO DEBEN ser mayor al total. ","")) -> #REF! | BI23: =IF((#REF!+#REF!)<#REF!,1,0) -> #REF! | BJ23: =IF(E23<#REF!,1,0) -> #REF! | BK23: =IF(#REF!<#REF!,1,0) -> #REF! | BL23: =IF(AND(E23<>0,#REF!=""),1,IF(#REF!<#REF!,1,0)) -> #REF! | BM23: =IF(AND($E23<>0,#REF!=""),1,IF($E23<#REF!,1,0)) -> #REF! | BN23: =IF(AND($E23<>0,#REF!=""),1,IF($E23<#REF!,1,0)) -> #REF! | BO23: =IF(AND($E23<>0,#REF!=""),1,IF($E23<#REF!,1,0)) -> #REF!
C24: CONTROL | E24: ='Hospital La Serena'!F24+'Hospital Coquimbo'!E24+'Hospital Ovalle'!E24+'Hospital Illapel'!E24 -> 196 | F24: =H24+J24 -> 0 | G24: =F24/E24 -> 0 | H24: ='Hospital La Serena'!I24+'Hospital Coquimbo'!H24+'Hospital Ovalle'!H24+'Hospital Illapel'!H24 -> 0 | I24: =H24/E24 -> 0 | J24: ='Hospital La Serena'!K24+'Hospital Coquimbo'!J24+'Hospital Ovalle'!J24+'Hospital Illapel'!J24 -> 0 | K24: =J24/E24 -> 0 | BB24: =IF(BI24=1,"* El número de pacientes de 60 años NO DEBE Ser mayor a lo registrado en el grupo Etario 20-64 años. ","") -> #REF! | BC24: =IF(BJ24=1,"* La consulta pertinente según Protocolo de Referencia NO DEBE ser mayor al Total registrado. ","") -> #REF! | BD24: =IF(BK24=1,"* La consulta pertinente según condición clínica NO DEBE ser mayor al Total registrado. ","") -> #REF! | BE24: =IF(AND(E24<>0,#REF!=""),"* Recuerde que las Embarazadas deben ser incluídas en el ingreso por rango Etario (Digite CEROS si no tiene). ",IF(#REF!<#REF!,"* Las Embarazadas NO DEBEN ser mayor al total de Mujeres. ","")) -> #REF! | BF24: =IF(AND($E24<>0,#REF!=""),"* No olvide digitar la columna Usuarios en Situación de Discapacidad (Digite CEROS si no tiene). ",IF($E24<#REF!,"* Los Usuarios en Situación de Discapacidad NO DEBEN ser mayor al total. ","")) -> #REF! | BG24: =IF(AND($E24<>0,#REF!=""),"* No olvide digitar la columna Niños, Niñas, Adolescentes y Jóvenes Población SENAME (Digite CEROS si no tiene). ",IF($E24<#REF!,"* Los Niños, Niñas, Adolescentes y Jóvenes Población SENAME NO DEBEN ser mayor al total. ","")) -> #REF! | BH24: =IF(AND($E24<>0,#REF!=""),"* No olvide digitar la columna Migrantes (Digite CEROS si no tiene). ",IF($E24<#REF!,"* Los Migrantes NO DEBEN ser mayor al total. ","")) -> #REF! | BI24: =IF((#REF!+#REF!)<#REF!,1,0) -> #REF! | BJ24: =IF(E24<#REF!,1,0) -> #REF! | BK24: =IF(#REF!<#REF!,1,0) -> #REF! | BL24: =IF(AND(E24<>0,#REF!=""),1,IF(#REF!<#REF!,1,0)) -> #REF! | BM24: =IF(AND($E24<>0,#REF!=""),1,IF($E24<#REF!,1,0)) -> #REF! | BN24: =IF(AND($E24<>0,#REF!=""),1,IF($E24<#REF!,1,0)) -> #REF! | BO24: =IF(AND($E24<>0,#REF!=""),1,IF($E24<#REF!,1,0)) -> #REF!
B25: REHABILITACIÓN: PRÓTESIS REMOVIBLE | C25: CONSULTA NUEVA | E25: ='Hospital La Serena'!F25+'Hospital Coquimbo'!E25+'Hospital Ovalle'!E25+'Hospital Illapel'!E25 -> 2059 | F25: =H25+J25 -> 2636 | G25: =F25/E25 -> 1.2802331 | H25: ='Hospital La Serena'!I25+'Hospital Coquimbo'!H25+'Hospital Ovalle'!H25+'Hospital Illapel'!H25 -> 1688 | I25: =H25/E25 -> 0.81981544 | J25: ='Hospital La Serena'!K25+'Hospital Coquimbo'!J25+'Hospital Ovalle'!J25+'Hospital Illapel'!J25 -> 948 | K25: =J25/E25 -> 0.46041768 | BB25: =IF(BI25=1,"* El número de pacientes de 60 años NO DEBE Ser mayor a lo registrado en el grupo Etario 20-64 años. ","") -> #REF! | BC25: =IF(BJ25=1,"* La consulta pertinente según Protocolo de Referencia NO DEBE ser mayor al Total registrado. ","") -> #REF! | BD25: =IF(BK25=1,"* La consulta pertinente según condición clínica NO DEBE ser mayor al Total registrado. ","") -> #REF! | BE25: =IF(AND(E25<>0,#REF!=""),"* Recuerde que las Embarazadas deben ser incluídas en el ingreso por rango Etario (Digite CEROS si no tiene). ",IF(#REF!<#REF!,"* Las Embarazadas NO DEBEN ser mayor al total de Mujeres. ","")) -> #REF! | BF25: =IF(AND($E25<>0,#REF!=""),"* No olvide digitar la columna Usuarios en Situación de Discapacidad (Digite CEROS si no tiene). ",IF($E25<#REF!,"* Los Usuarios en Situación de Discapacidad NO DEBEN ser mayor al total. ","")) -> #REF! | BG25: =IF(AND($E25<>0,#REF!=""),"* No olvide digitar la columna Niños, Niñas, Adolescentes y Jóvenes Población SENAME (Digite CEROS si no tiene). ",IF($E25<#REF!,"* Los Niños, Niñas, Adolescentes y Jóvenes Población SENAME NO DEBEN ser mayor al total. ","")) -> #REF! | BH25: =IF(AND($E25<>0,#REF!=""),"* No olvide digitar la columna Migrantes (Digite CEROS si no tiene). ",IF($E25<#REF!,"* Los Migrantes NO DEBEN ser mayor al total. ","")) -> #REF! | BI25: =IF((#REF!+#REF!)<#REF!,1,0) -> #REF! | BJ25: =IF(E25<#REF!,1,0) -> #REF! | BK25: =IF(#REF!<#REF!,1,0) -> #REF! | BL25: =IF(AND(E25<>0,#REF!=""),1,IF(#REF!<#REF!,1,0)) -> #REF! | BM25: =IF(AND($E25<>0,#REF!=""),1,IF($E25<#REF!,1,0)) -> #REF! | BN25: =IF(AND($E25<>0,#REF!=""),1,IF($E25<#REF!,1,0)) -> #REF! | BO25: =IF(AND($E25<>0,#REF!=""),1,IF($E25<#REF!,1,0)) -> #REF!
C26: CONTROL | E26: ='Hospital La Serena'!F26+'Hospital Coquimbo'!E26+'Hospital Ovalle'!E26+'Hospital Illapel'!E26 -> 8694 | F26: =H26+J26 -> 0 | G26: =F26/E26 -> 0 | H26: ='Hospital La Serena'!I26+'Hospital Coquimbo'!H26+'Hospital Ovalle'!H26+'Hospital Illapel'!H26 -> 0 | I26: =H26/E26 -> 0 | J26: ='Hospital La Serena'!K26+'Hospital Coquimbo'!J26+'Hospital Ovalle'!J26+'Hospital Illapel'!J26 -> 0 | K26: =J26/E26 -> 0 | BB26: =IF(BI26=1,"* El número de pacientes de 60 años NO DEBE Ser mayor a lo registrado en el grupo Etario 20-64 años. ","") -> #REF! | BC26: =IF(BJ26=1,"* La consulta pertinente según Protocolo de Referencia NO DEBE ser mayor al Total registrado. ","") -> #REF! | BD26: =IF(BK26=1,"* La consulta pertinente según condición clínica NO DEBE ser mayor al Total registrado. ","") -> #REF! | BE26: =IF(AND(E26<>0,#REF!=""),"* Recuerde que las Embarazadas deben ser incluídas en el ingreso por rango Etario (Digite CEROS si no tiene). ",IF(#REF!<#REF!,"* Las Embarazadas NO DEBEN ser mayor al total de Mujeres. ","")) -> #REF! | BF26: =IF(AND($E26<>0,#REF!=""),"* No olvide digitar la columna Usuarios en Situación de Discapacidad (Digite CEROS si no tiene). ",IF($E26<#REF!,"* Los Usuarios en Situación de Discapacidad NO DEBEN ser mayor al total. ","")) -> #REF! | BG26: =IF(AND($E26<>0,#REF!=""),"* No olvide digitar la columna Niños, Niñas, Adolescentes y Jóvenes Población SENAME (Digite CEROS si no tiene). ",IF($E26<#REF!,"* Los Niños, Niñas, Adolescentes y Jóvenes Población SENAME NO DEBEN ser mayor al total. ","")) -> #REF! | BH26: =IF(AND($E26<>0,#REF!=""),"* No olvide digitar la columna Migrantes (Digite CEROS si no tiene). ",IF($E26<#REF!,"* Los Migrantes NO DEBEN ser mayor al total. ","")) -> #REF! | BI26: =IF((#REF!+#REF!)<#REF!,1,0) -> #REF! | BJ26: =IF(E26<#REF!,1,0) -> #REF! | BK26: =IF(#REF!<#REF!,1,0) -> #REF! | BL26: =IF(AND(E26<>0,#REF!=""),1,IF(#REF!<#REF!,1,0)) -> #REF! | BM26: =IF(AND($E26<>0,#REF!=""),1,IF($E26<#REF!,1,0)) -> #REF! | BN26: =IF(AND($E26<>0,#REF!=""),1,IF($E26<#REF!,1,0)) -> #REF! | BO26: =IF(AND($E26<>0,#REF!=""),1,IF($E26<#REF!,1,0)) -> #REF!
B27: REHABILITACIÓN: PRÓTESIS IMPLANTOASISTIDA | C27: CONSULTA NUEVA | E27: ='Hospital La Serena'!F27+'Hospital Coquimbo'!E27+'Hospital Ovalle'!E27+'Hospital Illapel'!E27 -> 231 | F27: =H27+J27 -> 281 | G27: =F27/E27 -> 1.2164502 | H27: ='Hospital La Serena'!I27+'Hospital Coquimbo'!H27+'Hospital Ovalle'!H27+'Hospital Illapel'!H27 -> 231 | I27: =H27/E27 -> 1 | J27: ='Hospital La Serena'!K27+'Hospital Coquimbo'!J27+'Hospital Ovalle'!J27+'Hospital Illapel'!J27 -> 50 | K27: =J27/E27 -> 0.21645022 | BB27: =IF(BI27=1,"* El número de pacientes de 60 años NO DEBE Ser mayor a lo registrado en el grupo Etario 20-64 años. ","") -> #REF! | BC27: =IF(BJ27=1,"* La consulta pertinente según Protocolo de Referencia NO DEBE ser mayor al Total registrado. ","") -> #REF! | BD27: =IF(BK27=1,"* La consulta pertinente según condición clínica NO DEBE ser mayor al Total registrado. ","") -> #REF! | BE27: =IF(AND(E27<>0,#REF!=""),"* Recuerde que las Embarazadas deben ser incluídas en el ingreso por rango Etario (Digite CEROS si no tiene). ",IF(#REF!<#REF!,"* Las Embarazadas NO DEBEN ser mayor al total de Mujeres. ","")) -> #REF! | BF27: =IF(AND($E27<>0,#REF!=""),"* No olvide digitar la columna Usuarios en Situación de Discapacidad (Digite CEROS si no tiene). ",IF($E27<#REF!,"* Los Usuarios en Situación de Discapacidad NO DEBEN ser mayor al total. ","")) -> #REF! | BG27: =IF(AND($E27<>0,#REF!=""),"* No olvide digitar la columna Niños, Niñas, Adolescentes y Jóvenes Población SENAME (Digite CEROS si no tiene). ",IF($E27<#REF!,"* Los Niños, Niñas, Adolescentes y Jóvenes Población SENAME NO DEBEN ser mayor al total. ","")) -> #REF! | BH27: =IF(AND($E27<>0,#REF!=""),"* No olvide digitar la columna Migrantes (Digite CEROS si no tiene). ",IF($E27<#REF!,"* Los Migrantes NO DEBEN ser mayor al total. ","")) -> #REF! | BI27: =IF((#REF!+#REF!)<#REF!,1,0) -> #REF! | BJ27: =IF(E27<#REF!,1,0) -> #REF! | BK27: =IF(#REF!<#REF!,1,0) -> #REF! | BL27: =IF(AND(E27<>0,#REF!=""),1,IF(#REF!<#REF!,1,0)) -> #REF! | BM27: =IF(AND($E27<>0,#REF!=""),1,IF($E27<#REF!,1,0)) -> #REF! | BN27: =IF(AND($E27<>0,#REF!=""),1,IF($E27<#REF!,1,0)) -> #REF! | BO27: =IF(AND($E27<>0,#REF!=""),1,IF($E27<#REF!,1,0)) -> #REF!
C28: CONTROL | E28: ='Hospital La Serena'!F28+'Hospital Coquimbo'!E28+'Hospital Ovalle'!E28+'Hospital Illapel'!E28 -> 866 | F28: =H28+J28 -> 0 | G28: =F28/E28 -> 0 | H28: ='Hospital La Serena'!I28+'Hospital Coquimbo'!H28+'Hospital Ovalle'!H28+'Hospital Illapel'!H28 -> 0 | I28: =H28/E28 -> 0 | J28: ='Hospital La Serena'!K28+'Hospital Coquimbo'!J28+'Hospital Ovalle'!J28+'Hospital Illapel'!J28 -> 0 | K28: =J28/E28 -> 0 | BB28: =IF(BI28=1,"* El número de pacientes de 60 años NO DEBE Ser mayor a lo registrado en el grupo Etario 20-64 años. ","") -> #REF! | BC28: =IF(BJ28=1,"* La consulta pertinente según Protocolo de Referencia NO DEBE ser mayor al Total registrado. ","") -> #REF! | BD28: =IF(BK28=1,"* La consulta pertinente según condición clínica NO DEBE ser mayor al Total registrado. ","") -> #REF! | BE28: =IF(AND(E28<>0,#REF!=""),"* Recuerde que las Embarazadas deben ser incluídas en el ingreso por rango Etario (Digite CEROS si no tiene). ",IF(#REF!<#REF!,"* Las Embarazadas NO DEBEN ser mayor al total de Mujeres. ","")) -> #REF! | BF28: =IF(AND($E28<>0,#REF!=""),"* No olvide digitar la columna Usuarios en Situación de Discapacidad (Digite CEROS si no tiene). ",IF($E28<#REF!,"* Los Usuarios en Situación de Discapacidad NO DEBEN ser mayor al total. ","")) -> #REF! | BG28: =IF(AND($E28<>0,#REF!=""),"* No olvide digitar la columna Niños, Niñas, Adolescentes y Jóvenes Población SENAME (Digite CEROS si no tiene). ",IF($E28<#REF!,"* Los Niños, Niñas, Adolescentes y Jóvenes Población SENAME NO DEBEN ser mayor al total. ","")) -> #REF! | BH28: =IF(AND($E28<>0,#REF!=""),"* No olvide digitar la columna Migrantes (Digite CEROS si no tiene). ",IF($E28<#REF!,"* Los Migrantes NO DEBEN ser mayor al total. ","")) -> #REF! | BI28: =IF((#REF!+#REF!)<#REF!,1,0) -> #REF! | BJ28: =IF(E28<#REF!,1,0) -> #REF! | BK28: =IF(#REF!<#REF!,1,0) -> #REF! | BL28: =IF(AND(E28<>0,#REF!=""),1,IF(#REF!<#REF!,1,0)) -> #REF! | BM28: =IF(AND($E28<>0,#REF!=""),1,IF($E28<#REF!,1,0)) -> #REF! | BN28: =IF(AND($E28<>0,#REF!=""),1,IF($E28<#REF!,1,0)) -> #REF! | BO28: =IF(AND($E28<>0,#REF!=""),1,IF($E28<#REF!,1,0)) -> #REF!
B29: IMPLANTOLOGÍA BUCO MAXILOFACIAL | C29: CONSULTA NUEVA | E29: ='Hospital La Serena'!F29+'Hospital Coquimbo'!E29+'Hospital Ovalle'!E29+'Hospital Illapel'!E29 -> 187 | F29: =H29+J29 -> 234 | G29: =F29/E29 -> 1.2513369 | H29: ='Hospital La Serena'!I29+'Hospital Coquimbo'!H29+'Hospital Ovalle'!H29+'Hospital Illapel'!H29 -> 174 | I29: =H29/E29 -> 0.93048128 | J29: ='Hospital La Serena'!K29+'Hospital Coquimbo'!J29+'Hospital Ovalle'!J29+'Hospital Illapel'!J29 -> 60 | K29: =J29/E29 -> 0.32085561 | BB29: =IF(BI29=1,"* El número de pacientes de 60 años NO DEBE Ser mayor a lo registrado en el grupo Etario 20-64 años. ","") -> #REF! | BC29: =IF(BJ29=1,"* La consulta pertinente según Protocolo de Referencia NO DEBE ser mayor al Total registrado. ","") -> #REF! | BD29: =IF(BK29=1,"* La consulta pertinente según condición clínica NO DEBE ser mayor al Total registrado. ","") -> #REF! | BE29: =IF(AND(E29<>0,#REF!=""),"* Recuerde que las Embarazadas deben ser incluídas en el ingreso por rango Etario (Digite CEROS si no tiene). ",IF(#REF!<#REF!,"* Las Embarazadas NO DEBEN ser mayor al total de Mujeres. ","")) -> #REF! | BF29: =IF(AND($E29<>0,#REF!=""),"* No olvide digitar la columna Usuarios en Situación de Discapacidad (Digite CEROS si no tiene). ",IF($E29<#REF!,"* Los Usuarios en Situación de Discapacidad NO DEBEN ser mayor al total. ","")) -> #REF! | BG29: =IF(AND($E29<>0,#REF!=""),"* No olvide digitar la columna Niños, Niñas, Adolescentes y Jóvenes Población SENAME (Digite CEROS si no tiene). ",IF($E29<#REF!,"* Los Niños, Niñas, Adolescentes y Jóvenes Población SENAME NO DEBEN ser mayor al total. ","")) -> #REF! | BH29: =IF(AND($E29<>0,#REF!=""),"* No olvide digitar la columna Migrantes (Digite CEROS si no tiene). ",IF($E29<#REF!,"* Los Migrantes NO DEBEN ser mayor al total. ","")) -> #REF! | BI29: =IF((#REF!+#REF!)<#REF!,1,0) -> #REF! | BJ29: =IF(E29<#REF!,1,0) -> #REF! | BK29: =IF(#REF!<#REF!,1,0) -> #REF! | BL29: =IF(AND(E29<>0,#REF!=""),1,IF(#REF!<#REF!,1,0)) -> #REF! | BM29: =IF(AND($E29<>0,#REF!=""),1,IF($E29<#REF!,1,0)) -> #REF! | BN29: =IF(AND($E29<>0,#REF!=""),1,IF($E29<#REF!,1,0)) -> #REF! | BO29: =IF(AND($E29<>0,#REF!=""),1,IF($E29<#REF!,1,0)) -> #REF!
C30: CONTROL | E30: ='Hospital La Serena'!F30+'Hospital Coquimbo'!E30+'Hospital Ovalle'!E30+'Hospital Illapel'!E30 -> 647 | F30: =H30+J30 -> 0 | G30: =F30/E30 -> 0 | H30: ='Hospital La Serena'!I30+'Hospital Coquimbo'!H30+'Hospital Ovalle'!H30+'Hospital Illapel'!H30 -> 0 | I30: =H30/E30 -> 0 | J30: ='Hospital La Serena'!K30+'Hospital Coquimbo'!J30+'Hospital Ovalle'!J30+'Hospital Illapel'!J30 -> 0 | K30: =J30/E30 -> 0 | BB30: =IF(BI30=1,"* El número de pacientes de 60 años NO DEBE Ser mayor a lo registrado en el grupo Etario 20-64 años. ","") -> #REF! | BC30: =IF(BJ30=1,"* La consulta pertinente según Protocolo de Referencia NO DEBE ser mayor al Total registrado. ","") -> #REF! | BD30: =IF(BK30=1,"* La consulta pertinente según condición clínica NO DEBE ser mayor al Total registrado. ","") -> #REF! | BE30: =IF(AND(E30<>0,#REF!=""),"* Recuerde que las Embarazadas deben ser incluídas en el ingreso por rango Etario (Digite CEROS si no tiene). ",IF(#REF!<#REF!,"* Las Embarazadas NO DEBEN ser mayor al total de Mujeres. ","")) -> #REF! | BF30: =IF(AND($E30<>0,#REF!=""),"* No olvide digitar la columna Usuarios en Situación de Discapacidad (Digite CEROS si no tiene). ",IF($E30<#REF!,"* Los Usuarios en Situación de Discapacidad NO DEBEN ser mayor al total. ","")) -> #REF! | BG30: =IF(AND($E30<>0,#REF!=""),"* No olvide digitar la columna Niños, Niñas, Adolescentes y Jóvenes Población SENAME (Digite CEROS si no tiene). ",IF($E30<#REF!,"* Los Niños, Niñas, Adolescentes y Jóvenes Población SENAME NO DEBEN ser mayor al total. ","")) -> #REF! | BH30: =IF(AND($E30<>0,#REF!=""),"* No olvide digitar la columna Migrantes (Digite CEROS si no tiene). ",IF($E30<#REF!,"* Los Migrantes NO DEBEN ser mayor al total. ","")) -> #REF! | BI30: =IF((#REF!+#REF!)<#REF!,1,0) -> #REF! | BJ30: =IF(E30<#REF!,1,0) -> #REF! | BK30: =IF(#REF!<#REF!,1,0) -> #REF! | BL30: =IF(AND(E30<>0,#REF!=""),1,IF(#REF!<#REF!,1,0)) -> #REF! | BM30: =IF(AND($E30<>0,#REF!=""),1,IF($E30<#REF!,1,0)) -> #REF! | BN30: =IF(AND($E30<>0,#REF!=""),1,IF($E30<#REF!,1,0)) -> #REF! | BO30: =IF(AND($E30<>0,#REF!=""),1,IF($E30<#REF!,1,0)) -> #REF!
B31: PATOLOGÍA ORAL | C31: CONSULTA NUEVA | E31: ='Hospital La Serena'!F31+'Hospital Coquimbo'!E31+'Hospital Ovalle'!E31+'Hospital Illapel'!E31 -> 23 | F31: =H31+J31 -> 38 | G31: =F31/E31 -> 1.6521739 | H31: ='Hospital La Serena'!I31+'Hospital Coquimbo'!H31+'Hospital Ovalle'!H31+'Hospital Illapel'!H31 -> 19 | I31: =H31/E31 -> 0.82608696 | J31: ='Hospital La Serena'!K31+'Hospital Coquimbo'!J31+'Hospital Ovalle'!J31+'Hospital Illapel'!J31 -> 19 | K31: =J31/E31 -> 0.82608696 | BB31: =IF(BI31=1,"* El número de pacientes de 60 años NO DEBE Ser mayor a lo registrado en el grupo Etario 20-64 años. ","") -> #REF! | BC31: =IF(BJ31=1,"* La consulta pertinente según Protocolo de Referencia NO DEBE ser mayor al Total registrado. ","") -> #REF! | BD31: =IF(BK31=1,"* La consulta pertinente según condición clínica NO DEBE ser mayor al Total registrado. ","") -> #REF! | BE31: =IF(AND(E31<>0,#REF!=""),"* Recuerde que las Embarazadas deben ser incluídas en el ingreso por rango Etario (Digite CEROS si no tiene). ",IF(#REF!<#REF!,"* Las Embarazadas NO DEBEN ser mayor al total de Mujeres. ","")) -> #REF! | BF31: =IF(AND($E31<>0,#REF!=""),"* No olvide digitar la columna Usuarios en Situación de Discapacidad (Digite CEROS si no tiene). ",IF($E31<#REF!,"* Los Usuarios en Situación de Discapacidad NO DEBEN ser mayor al total. ","")) -> #REF! | BG31: =IF(AND($E31<>0,#REF!=""),"* No olvide digitar la columna Niños, Niñas, Adolescentes y Jóvenes Población SENAME (Digite CEROS si no tiene). ",IF($E31<#REF!,"* Los Niños, Niñas, Adolescentes y Jóvenes Población SENAME NO DEBEN ser mayor al total. ","")) -> #REF! | BH31: =IF(AND($E31<>0,#REF!=""),"* No olvide digitar la columna Migrantes (Digite CEROS si no tiene). ",IF($E31<#REF!,"* Los Migrantes NO DEBEN ser mayor al total. ","")) -> #REF! | BI31: =IF((#REF!+#REF!)<#REF!,1,0) -> #REF! | BJ31: =IF(E31<#REF!,1,0) -> #REF! | BK31: =IF(#REF!<#REF!,1,0) -> #REF! | BL31: =IF(AND(E31<>0,#REF!=""),1,IF(#REF!<#REF!,1,0)) -> #REF! | BM31: =IF(AND($E31<>0,#REF!=""),1,IF($E31<#REF!,1,0)) -> #REF! | BN31: =IF(AND($E31<>0,#REF!=""),1,IF($E31<#REF!,1,0)) -> #REF! | BO31: =IF(AND($E31<>0,#REF!=""),1,IF($E31<#REF!,1,0)) -> #REF!
C32: CONTROL | E32: ='Hospital La Serena'!F32+'Hospital Coquimbo'!E32+'Hospital Ovalle'!E32+'Hospital Illapel'!E32 -> 16 | F32: =H32+J32 -> 0 | G32: =F32/E32 -> 0 | H32: ='Hospital La Serena'!I32+'Hospital Coquimbo'!H32+'Hospital Ovalle'!H32+'Hospital Illapel'!H32 -> 0 | I32: =H32/E32 -> 0 | J32: ='Hospital La Serena'!K32+'Hospital Coquimbo'!J32+'Hospital Ovalle'!J32+'Hospital Illapel'!J32 -> 0 | K32: =J32/E32 -> 0 | BB32: =IF(BI32=1,"* El número de pacientes de 60 años NO DEBE Ser mayor a lo registrado en el grupo Etario 20-64 años. ","") -> #REF! | BC32: =IF(BJ32=1,"* La consulta pertinente según Protocolo de Referencia NO DEBE ser mayor al Total registrado. ","") -> #REF! | BD32: =IF(BK32=1,"* La consulta pertinente según condición clínica NO DEBE ser mayor al Total registrado. ","") -> #REF! | BE32: =IF(AND(E32<>0,#REF!=""),"* Recuerde que las Embarazadas deben ser incluídas en el ingreso por rango Etario (Digite CEROS si no tiene). ",IF(#REF!<#REF!,"* Las Embarazadas NO DEBEN ser mayor al total de Mujeres. ","")) -> #REF! | BF32: =IF(AND($E32<>0,#REF!=""),"* No olvide digitar la columna Usuarios en Situación de Discapacidad (Digite CEROS si no tiene). ",IF($E32<#REF!,"* Los Usuarios en Situación de Discapacidad NO DEBEN ser mayor al total. ","")) -> #REF! | BG32: =IF(AND($E32<>0,#REF!=""),"* No olvide digitar la columna Niños, Niñas, Adolescentes y Jóvenes Población SENAME (Digite CEROS si no tiene). ",IF($E32<#REF!,"* Los Niños, Niñas, Adolescentes y Jóvenes Población SENAME NO DEBEN ser mayor al total. ","")) -> #REF! | BH32: =IF(AND($E32<>0,#REF!=""),"* No olvide digitar la columna Migrantes (Digite CEROS si no tiene). ",IF($E32<#REF!,"* Los Migrantes NO DEBEN ser mayor al total. ","")) -> #REF! | BI32: =IF((#REF!+#REF!)<#REF!,1,0) -> #REF! | BJ32: =IF(E32<#REF!,1,0) -> #REF! | BK32: =IF(#REF!<#REF!,1,0) -> #REF! | BL32: =IF(AND(E32<>0,#REF!=""),1,IF(#REF!<#REF!,1,0)) -> #REF! | BM32: =IF(AND($E32<>0,#REF!=""),1,IF($E32<#REF!,1,0)) -> #REF! | BN32: =IF(AND($E32<>0,#REF!=""),1,IF($E32<#REF!,1,0)) -> #REF! | BO32: =IF(AND($E32<>0,#REF!=""),1,IF($E32<#REF!,1,0)) -> #REF!
B33: TRASTORNOS TEMPOROMANDIBULARES Y DOLOR OROFACIAL | C33: CONSULTA NUEVA | E33: ='Hospital La Serena'!F33+'Hospital Coquimbo'!E33+'Hospital Ovalle'!E33+'Hospital Illapel'!E33 -> 404 | F33: =H33+J33 -> 487 | G33: =F33/E33 -> 1.2054455 | H33: ='Hospital La Serena'!I33+'Hospital Coquimbo'!H33+'Hospital Ovalle'!H33+'Hospital Illapel'!H33 -> 390 | I33: =H33/E33 -> 0.96534653 | J33: ='Hospital La Serena'!K33+'Hospital Coquimbo'!J33+'Hospital Ovalle'!J33+'Hospital Illapel'!J33 -> 97 | K33: =J33/E33 -> 0.24009901 | BB33: =IF(BI33=1,"* El número de pacientes de 60 años NO DEBE Ser mayor a lo registrado en el grupo Etario 20-64 años. ","") -> #REF! | BC33: =IF(BJ33=1,"* La consulta pertinente según Protocolo de Referencia NO DEBE ser mayor al Total registrado. ","") -> #REF! | BD33: =IF(BK33=1,"* La consulta pertinente según condición clínica NO DEBE ser mayor al Total registrado. ","") -> #REF! | BE33: =IF(AND(E33<>0,#REF!=""),"* Recuerde que las Embarazadas deben ser incluídas en el ingreso por rango Etario (Digite CEROS si no tiene). ",IF(#REF!<#REF!,"* Las Embarazadas NO DEBEN ser mayor al total de Mujeres. ","")) -> #REF! | BF33: =IF(AND($E33<>0,#REF!=""),"* No olvide digitar la columna Usuarios en Situación de Discapacidad (Digite CEROS si no tiene). ",IF($E33<#REF!,"* Los Usuarios en Situación de Discapacidad NO DEBEN ser mayor al total. ","")) -> #REF! | BG33: =IF(AND($E33<>0,#REF!=""),"* No olvide digitar la columna Niños, Niñas, Adolescentes y Jóvenes Población SENAME (Digite CEROS si no tiene). ",IF($E33<#REF!,"* Los Niños, Niñas, Adolescentes y Jóvenes Población SENAME NO DEBEN ser mayor al total. ","")) -> #REF! | BH33: =IF(AND($E33<>0,#REF!=""),"* No olvide digitar la columna Migrantes (Digite CEROS si no tiene). ",IF($E33<#REF!,"* Los Migrantes NO DEBEN ser mayor al total. ","")) -> #REF! | BI33: =IF((#REF!+#REF!)<#REF!,1,0) -> #REF! | BJ33: =IF(E33<#REF!,1,0) -> #REF! | BK33: =IF(#REF!<#REF!,1,0) -> #REF! | BL33: =IF(AND(E33<>0,#REF!=""),1,IF(#REF!<#REF!,1,0)) -> #REF! | BM33: =IF(AND($E33<>0,#REF!=""),1,IF($E33<#REF!,1,0)) -> #REF! | BN33: =IF(AND($E33<>0,#REF!=""),1,IF($E33<#REF!,1,0)) -> #REF! | BO33: =IF(AND($E33<>0,#REF!=""),1,IF($E33<#REF!,1,0)) -> #REF!
C34: CONTROL | E34: ='Hospital La Serena'!F34+'Hospital Coquimbo'!E34+'Hospital Ovalle'!E34+'Hospital Illapel'!E34 -> 1814 | F34: =H34+J34 -> 0 | G34: =F34/E34 -> 0 | H34: ='Hospital La Serena'!I34+'Hospital Coquimbo'!H34+'Hospital Ovalle'!H34+'Hospital Illapel'!H34 -> 0 | I34: =H34/E34 -> 0 | J34: ='Hospital La Serena'!K34+'Hospital Coquimbo'!J34+'Hospital Ovalle'!J34+'Hospital Illapel'!J34 -> 0 | K34: =J34/E34 -> 0 | BB34: =IF(BI34=1,"* El número de pacientes de 60 años NO DEBE Ser mayor a lo registrado en el grupo Etario 20-64 años. ","") -> #REF! | BC34: =IF(BJ34=1,"* La consulta pertinente según Protocolo de Referencia NO DEBE ser mayor al Total registrado. ","") -> #REF! | BD34: =IF(BK34=1,"* La consulta pertinente según condición clínica NO DEBE ser mayor al Total registrado. ","") -> #REF! | BE34: =IF(AND(E34<>0,#REF!=""),"* Recuerde que las Embarazadas deben ser incluídas en el ingreso por rango Etario (Digite CEROS si no tiene). ",IF(#REF!<#REF!,"* Las Embarazadas NO DEBEN ser mayor al total de Mujeres. ","")) -> #REF! | BF34: =IF(AND($E34<>0,#REF!=""),"* No olvide digitar la columna Usuarios en Situación de Discapacidad (Digite CEROS si no tiene). ",IF($E34<#REF!,"* Los Usuarios en Situación de Discapacidad NO DEBEN ser mayor al total. ","")) -> #REF! | BG34: =IF(AND($E34<>0,#REF!=""),"* No olvide digitar la columna Niños, Niñas, Adolescentes y Jóvenes Población SENAME (Digite CEROS si no tiene). ",IF($E34<#REF!,"* Los Niños, Niñas, Adolescentes y Jóvenes Población SENAME NO DEBEN ser mayor al total. ","")) -> #REF! | BH34: =IF(AND($E34<>0,#REF!=""),"* No olvide digitar la columna Migrantes (Digite CEROS si no tiene). ",IF($E34<#REF!,"* Los Migrantes NO DEBEN ser mayor al total. ","")) -> #REF! | BI34: =IF((#REF!+#REF!)<#REF!,1,0) -> #REF! | BJ34: =IF(E34<#REF!,1,0) -> #REF! | BK34: =IF(#REF!<#REF!,1,0) -> #REF! | BL34: =IF(AND(E34<>0,#REF!=""),1,IF(#REF!<#REF!,1,0)) -> #REF! | BM34: =IF(AND($E34<>0,#REF!=""),1,IF($E34<#REF!,1,0)) -> #REF! | BN34: =IF(AND($E34<>0,#REF!=""),1,IF($E34<#REF!,1,0)) -> #REF! | BO34: =IF(AND($E34<>0,#REF!=""),1,IF($E34<#REF!,1,0)) -> #REF!
