Workbook

Sheet NOMBRE
A1: DATOS DEL ESTABLECIMIENTO | C1: CÓDIGOS
A2: NOMBRE DE COMUNA | B2: Consolidado | I2: =IF(OR(#REF!="",#REF!="",#REF!="",#REF!="",#REF!="",#REF!=""),"Falta Cód. Com.","") -> #REF! | AG2: =IF(I2>"",1,0) -> #REF!
A3: NOMBRE ESTABLECIMIENTO/ESTRATEGIA | I3: =IF(OR(#REF!="",#REF!="",#REF!="",#REF!="",#REF!="",#REF!=""),"Falta Cód. Estab.","") -> #REF! | AG3: =IF(I3>"",1,0) -> #REF!
A6: MES: | B6: JUNIO | C6: 0 | D6: 6 | I6: =IF(OR(#REF!="",#REF!=""),"Falta el Mes","") -> #REF! | AG6: =IF(I6>"",1,0) -> #REF!
A7: AÑO: | B7: 2026-2027 | AG7: =SUM(AG2:AG6) -> #REF!
A9: Versión 1.0: Febrero 2026
A11: Director/a Servicio de Salud o Director/a Establecimiento | AA11: ENERO | AB11: Establecimiento de Mayor Complejidad (EMAYC) | AC11: SERVICIO DE SALUD
A12: Jefe/a de Estadisticas | AA12: FEBRERO | AB12: Establecimiento de Mediana Complejidad (EMEDC) | AC12: MUNICIPAL
AA13: MARZO | AB13: Establecimiento de Menor Complejidad (EMENC) | AC13: OTRA INSTITUCION (Delegado)
AA14: ABRIL | AB14: Centros de Diagnóstico Terapeutico (CDT)
A15: MINSAL - DEIS | AA15: MAYO | AB15: Centro de Referencia de Salud (CRS)
AA16: JUNIO | AB16: Centro de Salud Familiar
B17: SERIE D | AA17: JULIO | AB17: Consultorio General Urbano (CGU)
AA18: AGOSTO | AB18: Consultorio General Urbano (CGU) - CESFAM
AA19: SEPTIEMBRE | AB19: Consultorio General Urbano(CGU) con SAPU/SUR/SAR
AA20: OCTUBRE | AB20: Consultorio General Urbano (CGU) - CESFAM con SAPU/SAR
AA21: NOVIEMBRE | AB21: Consultorio General Rural (CGR)
AA22: DICIEMBRE | AB22: Consultorio General Rural (CGR) - CESFAM
AB23: Consultorio General Rural (CGR) con SAPU/SAR/SUR
AB24: Consultorio General Rural (CGR) - CESFAM con SAPU/SAR/SUR
AB25: Posta de Salud Rural (PSR)
AB26: Centro Comunitario de Salud Familiar (CECOF)
AB27: Consultorio de Salud Mental (COSAM)
AB28: Programa de Reparación y Atención Integral de Salud (PRAIS)
AB29: Centro de Atención Funcionarios (CAF)
AB30: Unidad de Salud de Funcionarios (USF)
AB31: ClÍnica Dental Móvil (CDM)
AB32: Dirección Servicio de Salud (DSS)
AB33: Servicio de Atención Primaria de Urgencia (SAPU)
AB34: Servicio de Urgencia Rural (SUR)
... AB42: Servicio de Atención Primaria de Urgencia Dental (SAPUDENT)

Sheet D15
B1: SERVICIO DE SALUD
B2: COMUNA: ( )
B3: ESTABLECIMIENTO/ESTRATEGIA: ( )
B4: MES: ( )
B5: AÑO: 2026-2027
B7: REM-D.15 - Programa Nacional de Alimentación Complementaria (PNAC)
B8: Sección A: PNAC - Cantidad distribuida (kg) a personas intrasistema
B9: Subprogramas | C9: Productos | D9: Total | E9: Menores a 6 años | L9: Gestantes | N9: Persona que amamanta a hijo/a menor a 12 meses
E10: 0 - 2 meses | F10: 3 - 5 meses | G10: 6 - 11 meses | H10: 12 - 17 meses | I10: 18 - 23 meses | J10: 24 - 47 meses | K10: 48 - 71 meses | L10: Normal, sobrepeso y obesas | M10: Bajo peso | N10: 0 a 5 meses con Lactancia Materna exclusiva | O10: 0 a 5 meses Lactancia Materna + Fórmula Láctea | P10: 6 a 11 meses Lactancia Materna
A13: 15080014 | B13: Básico | C13: Purita +Pro 1 (PP1) | D13: {=IFERROR(VLOOKUP($A13,Filtro09!A5:Q53,2,FALSE),0)} -> 61708 | E13: =IFERROR(VLOOKUP($A13,Filtro09!A5:Q53,3,FALSE),0) -> 0 | F13: =IFERROR(VLOOKUP($A13,Filtro09!B5:S49,4,FALSE),0) -> 0 | G13: =IFERROR(VLOOKUP($A13,Filtro09!C5:S8,5,FALSE),0) -> 0 | H13: {=IFERROR(VLOOKUP($A13,Filtro09!A5:Q53,6,FALSE),0)} -> 30758 | I13: =IFERROR(VLOOKUP($A13,Filtro09!A5:S51,7,FALSE),0) -> 30950 | J13: =IFERROR(VLOOKUP($A13,Filtro09!A5:S51,8,FALSE),0) -> 0 | K13: =IFERROR(VLOOKUP($A13,Filtro09!A5:S51,9,FALSE),0) -> 0 | L13: {=IFERROR(VLOOKUP($A13,Filtro09!A5:Q53,10,FALSE),0)} -> 0 | M13: {=IFERROR(VLOOKUP($A13,Filtro09!A5:Q53,11,FALSE),0)} -> 0 | N13: {=IFERROR(VLOOKUP($A13,Filtro09!A5:Q53,12,FALSE),0)} -> 0 | O13: {=IFERROR(VLOOKUP($A13,Filtro09!A5:Q53,13,FALSE),0)} -> 0 | P13: {=IFERROR(VLOOKUP($A13,Filtro09!A5:Q53,14,FALSE),0)} -> 0 | AB13: =IF(AND(OR(D13<>0),N37=""),"* No olvide digitar la Sección B, Número de personas intrasistema que retiran, en el grupo de Gestantes:Normal, Sobrepeso y Obesas.","") | AI13: =IF(AND(OR($D13<>0),$N$37=""),1,0) -> 0
A14: 15080015 | C14: Purita +Pro 2 (PP2) | D14: {=IFERROR(VLOOKUP($A14,Filtro09!A6:Q54,2,FALSE),0)} -> 120528 | E14: =IFERROR(VLOOKUP($A14,Filtro09!A6:Q54,3,FALSE),0) -> 0 | F14: =IFERROR(VLOOKUP($A14,Filtro09!B6:S50,4,FALSE),0) -> 0 | G14: =IFERROR(VLOOKUP($A14,Filtro09!C6:S9,5,FALSE),0) -> 0 | H14: {=IFERROR(VLOOKUP($A14,Filtro09!A6:Q54,6,FALSE),0)} -> 0 | I14: =IFERROR(VLOOKUP($A14,Filtro09!A6:S52,7,FALSE),0) -> 0 | J14: {=IFERROR(VLOOKUP($A14,Filtro09!A5:Q53,8,FALSE),0)} -> 68451 | K14: {=IFERROR(VLOOKUP($A14,Filtro09!A5:Q53,9,FALSE),0)} -> 51360 | L14: {=IFERROR(VLOOKUP($A14,Filtro09!A6:Q54,10,FALSE),0)} -> 481 | M14: {=IFERROR(VLOOKUP($A14,Filtro09!A6:Q54,11,FALSE),0)} -> 0 | N14: {=IFERROR(VLOOKUP($A14,Filtro09!A6:Q54,12,FALSE),0)} -> 159 | O14: {=IFERROR(VLOOKUP($A14,Filtro09!A6:Q54,13,FALSE),0)} -> 35 | P14: {=IFERROR(VLOOKUP($A14,Filtro09!A6:Q54,14,FALSE),0)} -> 42 | Q14: =$AB14&$AC14&$AD14&$AE14 | AB14: =IF(AND(OR(D14<>0),N37=""),"* No olvide digitar la Sección B, Número de personas intrasistema que retiran, en el grupo de Gestantes:Normal, Sobrepeso y Obesas.","") | AI14: =IF(AND(OR($D14<>0),$N$37=""),1,0) -> 0
A15: 15080008 | C15: Purita Mamá (PM) | D15: {=IFERROR(VLOOKUP($A15,Filtro09!A7:Q55,2,FALSE),0)} -> 29583 | E15: =IFERROR(VLOOKUP($A15,Filtro09!A7:Q55,3,FALSE),0) -> 0 | F15: =IFERROR(VLOOKUP($A15,Filtro09!B7:S51,4,FALSE),0) -> 0 | G15: =IFERROR(VLOOKUP($A15,Filtro09!C7:S10,5,FALSE),0) -> 0 | H15: {=IFERROR(VLOOKUP($A15,Filtro09!A7:Q55,6,FALSE),0)} -> 0 | I15: =IFERROR(VLOOKUP($A15,Filtro09!A7:S53,7,FALSE),0) -> 0 | J15: =IFERROR(VLOOKUP($A15,Filtro09!A7:S53,8,FALSE),0) -> 0 | K15: {=IFERROR(VLOOKUP($A15,Filtro09!A6:Q54,9,FALSE),0)} -> 0 | L15: {=IFERROR(VLOOKUP($A15,Filtro09!A7:Q55,10,FALSE),0)} -> 16181 | M15: {=IFERROR(VLOOKUP($A15,Filtro09!A7:Q55,11,FALSE),0)} -> 0 | N15: {=IFERROR(VLOOKUP($A15,Filtro09!A7:Q55,12,FALSE),0)} -> 7594 | O15: {=IFERROR(VLOOKUP($A15,Filtro09!A7:Q55,13,FALSE),0)} -> 1967 | P15: {=IFERROR(VLOOKUP($A15,Filtro09!A7:Q55,14,FALSE),0)} -> 3841 | Q15: =$AB15&$AC15&$AD15&$AE15 | AB15: =IF(AND(OR(D15<>0),N37=""),"* No olvide digitar la Sección B, Número de personas intrasistema que retiran, en el grupo de Gestantes:Normal, Sobrepeso y Obesas.","") | AI15: =IF(AND(OR($D15<>0),$N$37=""),1,0) -> 0
A16: 15900010 | C16: Fórmula de Inicio (FI) | D16: {=IFERROR(VLOOKUP($A16,Filtro09!A8:Q56,2,FALSE),0)} -> 39924.28 | E16: =IFERROR(VLOOKUP($A16,Filtro09!A5:Q53,3,FALSE),0) -> 3668.28 | F16: {=IFERROR(VLOOKUP($A16,Filtro09!A5:Q53,4,FALSE),0)} -> 9665.2 | G16: {=IFERROR(VLOOKUP($A16,Filtro09!A5:Q53,5,FALSE),0)} -> 26590.8 | H16: {=IFERROR(VLOOKUP($A16,Filtro09!A8:Q56,6,FALSE),0)} -> 0 | I16: =IFERROR(VLOOKUP($A16,Filtro09!A8:S54,7,FALSE),0) -> 0 | J16: =IFERROR(VLOOKUP($A16,Filtro09!A8:S54,8,FALSE),0) -> 0 | K16: {=IFERROR(VLOOKUP($A16,Filtro09!A7:Q55,9,FALSE),0)} -> 0 | L16: {=IFERROR(VLOOKUP($A16,Filtro09!A8:Q56,10,FALSE),0)} -> 0 | M16: {=IFERROR(VLOOKUP($A16,Filtro09!A8:Q56,11,FALSE),0)} -> 0 | N16: {=IFERROR(VLOOKUP($A16,Filtro09!A8:Q56,12,FALSE),0)} -> 0 | O16: {=IFERROR(VLOOKUP($A16,Filtro09!A8:Q56,13,FALSE),0)} -> 0 | P16: {=IFERROR(VLOOKUP($A16,Filtro09!A8:Q56,14,FALSE),0)} -> 0 | AB16: =IF(AND(OR(D16<>0),N37=""),"* No olvide digitar la Sección B, Número de personas intrasistema que retiran, en el grupo de Gestantes:Normal, Sobrepeso y Obesas.","") | AI16: =IF(AND(OR($D16<>0),$N$37=""),1,0) -> 0
C17: Subtotal | D17: =SUM(E17:P17) -> 251743.28 | E17: =SUM(E16) -> 3668.28 | F17: =SUM(F16) -> 9665.2 | G17: =SUM(G16) -> 26590.8 | H17: =SUM(H13) -> 30758 | I17: =SUM(I13) -> 30950 | J17: =SUM(J14) -> 68451 | K17: =SUM(K14) -> 51360 | L17: =SUM(L14:L15) -> 16662 | N17: =SUM(N14:N15) -> 7753 | O17: =SUM(O14:O15) -> 2002 | P17: =SUM(P14:P15) -> 3883
A18: 15080016 | B18: Refuerzo | C18: Purita +Pro 1 (PP1) | D18: {=IFERROR(VLOOKUP($A18,Filtro09!A5:Q53,2,FALSE),0)} -> 4546 | E18: =IFERROR(VLOOKUP($A18,Filtro09!A10:Q58,3,FALSE),0) -> 0 | F18: =IFERROR(VLOOKUP($A18,Filtro09!B10:S54,4,FALSE),0) -> 0 | G18: {=IFERROR(VLOOKUP($A18,Filtro09!A5:Q53,5,FALSE),0)} -> 0 | H18: {=IFERROR(VLOOKUP($A18,Filtro09!A5:Q53,6,FALSE),0)} -> 550 | I18: {=IFERROR(VLOOKUP($A18,Filtro09!A5:Q53,7,FALSE),0)} -> 575 | J18: =IFERROR(VLOOKUP($A18,Filtro09!A10:S56,8,FALSE),0) -> 2031 | K18: {=IFERROR(VLOOKUP($A18,Filtro09!A9:Q57,9,FALSE),0)} -> 1390 | L18: {=IFERROR(VLOOKUP($A18,Filtro09!A5:Q53,10,FALSE),0)} -> 0 | M18: {=IFERROR(VLOOKUP($A18,Filtro09!#REF!,11,FALSE),0)} -> 0 | N18: {=IFERROR(VLOOKUP($A18,Filtro09!A10:Q58,12,FALSE),0)} -> 0 | O18: {=IFERROR(VLOOKUP($A18,Filtro09!A10:Q58,13,FALSE),0)} -> 0 | P18: {=IFERROR(VLOOKUP($A18,Filtro09!A10:Q58,14,FALSE),0)} -> 0
A19: 15080017 | C19: Purita +Pro 2 (PP2) | D19: {=IFERROR(VLOOKUP($A19,Filtro09!A6:Q54,2,FALSE),0)} -> 12 | E19: =IFERROR(VLOOKUP($A19,Filtro09!A11:Q59,3,FALSE),0) -> 0 | F19: =IFERROR(VLOOKUP($A19,Filtro09!B11:S55,4,FALSE),0) -> 0 | G19: {=IFERROR(VLOOKUP($A19,Filtro09!A6:Q54,5,FALSE),0)} -> 0 | H19: {=IFERROR(VLOOKUP($A19,Filtro09!A6:Q54,6,FALSE),0)} -> 0 | I19: {=IFERROR(VLOOKUP($A19,Filtro09!A6:Q54,7,FALSE),0)} -> 0 | J19: =IFERROR(VLOOKUP($A19,Filtro09!A11:S57,8,FALSE),0) -> 0 | K19: {=IFERROR(VLOOKUP($A19,Filtro09!A10:Q58,9,FALSE),0)} -> 0 | L19: {=IFERROR(VLOOKUP($A19,Filtro09!A6:Q54,10,FALSE),0)} -> 0 | M19: {=IFERROR(VLOOKUP($A19,Filtro09!A5:Q53,11,FALSE),0)} -> 6 | N19: {=IFERROR(VLOOKUP($A19,Filtro09!A11:Q59,12,FALSE),0)} -> 6 | O19: {=IFERROR(VLOOKUP($A19,Filtro09!A11:Q59,13,FALSE),0)} -> 0 | P19: {=IFERROR(VLOOKUP($A19,Filtro09!A11:Q59,14,FALSE),0)} -> 0
A20: 15010500 | C20: Mi Sopita (MS) | D20: {=IFERROR(VLOOKUP($A20,Filtro09!A5:Q53,2,FALSE),0)} -> 5313 | E20: =IFERROR(VLOOKUP($A20,Filtro09!A12:Q60,3,FALSE),0) -> 0 | F20: =IFERROR(VLOOKUP($A20,Filtro09!B12:S56,4,FALSE),0) -> 0 | G20: {=IFERROR(VLOOKUP($A20,Filtro09!A5:Q53,5,FALSE),0)} -> 786 | H20: {=IFERROR(VLOOKUP($A20,Filtro09!A5:Q53,6,FALSE),0)} -> 547 | I20: {=IFERROR(VLOOKUP($A20,Filtro09!A7:Q55,7,FALSE),0)} -> 0 | J20: {=IFERROR(VLOOKUP($A20,Filtro09!A5:Q53,8,FALSE),0)} -> 2044 | K20: {=IFERROR(VLOOKUP($A20,Filtro09!A5:Q53,9,FALSE),0)} -> 1417 | L20: {=IFERROR(VLOOKUP($A20,Filtro09!A7:Q55,10,FALSE),0)} -> 0 | M20: {=IFERROR(VLOOKUP($A20,Filtro09!A6:Q54,11,FALSE),0)} -> 0 | N20: {=IFERROR(VLOOKUP($A20,Filtro09!A12:Q60,12,FALSE),0)} -> 0 | O20: {=IFERROR(VLOOKUP($A20,Filtro09!A12:Q60,13,FALSE),0)} -> 0 | P20: {=IFERROR(VLOOKUP($A20,Filtro09!A12:Q60,14,FALSE),0)} -> 0
A21: 15080009 | C21: Purita Mamá (PM) | D21: {=IFERROR(VLOOKUP($A21,Filtro09!A8:Q56,2,FALSE),0)} -> 550 | E21: =IFERROR(VLOOKUP($A21,Filtro09!A13:Q61,3,FALSE),0) -> 0 | F21: =IFERROR(VLOOKUP($A21,Filtro09!B13:S57,4,FALSE),0) -> 0 | G21: {=IFERROR(VLOOKUP($A21,Filtro09!A8:Q56,5,FALSE),0)} -> 0 | H21: {=IFERROR(VLOOKUP($A21,Filtro09!A6:Q54,6,FALSE),0)} -> 0 | I21: {=IFERROR(VLOOKUP($A21,Filtro09!A8:Q56,7,FALSE),0)} -> 0 | J21: {=IFERROR(VLOOKUP($A21,Filtro09!A6:Q54,8,FALSE),0)} -> 0 | K21: {=IFERROR(VLOOKUP($A21,Filtro09!A12:Q60,9,FALSE),0)} -> 0 | L21: {=IFERROR(VLOOKUP($A21,Filtro09!A8:Q56,10,FALSE),0)} -> 0 | M21: {=IFERROR(VLOOKUP($A21,Filtro09!A7:Q55,11,FALSE),0)} -> 446 | N21: {=IFERROR(VLOOKUP($A21,Filtro09!A13:Q61,12,FALSE),0)} -> 65 | O21: {=IFERROR(VLOOKUP($A21,Filtro09!A13:Q61,13,FALSE),0)} -> 16 | P21: {=IFERROR(VLOOKUP($A21,Filtro09!A13:Q61,14,FALSE),0)} -> 23
A22: 15900020 | C22: Fórmula de Inicio (FI) | D22: {=IFERROR(VLOOKUP($A22,Filtro09!A9:Q57,2,FALSE),0)} -> 1936.2 | E22: =IFERROR(VLOOKUP($A22,Filtro09!A14:Q62,3,FALSE),0) -> 270.2 | F22: =IFERROR(VLOOKUP($A22,Filtro09!B14:S58,4,FALSE),0) -> 0 | G22: {=IFERROR(VLOOKUP($A22,Filtro09!A9:Q57,5,FALSE),0)} -> 1296.3 | H22: {=IFERROR(VLOOKUP($A22,Filtro09!A7:Q55,6,FALSE),0)} -> 0 | I22: {=IFERROR(VLOOKUP($A22,Filtro09!A9:Q57,7,FALSE),0)} -> 0 | J22: {=IFERROR(VLOOKUP($A22,Filtro09!A7:Q55,8,FALSE),0)} -> 0 | K22: {=IFERROR(VLOOKUP($A22,Filtro09!A13:Q61,9,FALSE),0)} -> 0 | L22: {=IFERROR(VLOOKUP($A22,Filtro09!A9:Q57,10,FALSE),0)} -> 0 | M22: {=IFERROR(VLOOKUP($A22,Filtro09!A8:Q56,11,FALSE),0)} -> 0 | N22: {=IFERROR(VLOOKUP($A22,Filtro09!A14:Q62,12,FALSE),0)} -> 0 | O22: {=IFERROR(VLOOKUP($A22,Filtro09!A14:Q62,13,FALSE),0)} -> 0 | P22: {=IFERROR(VLOOKUP($A22,Filtro09!A14:Q62,14,FALSE),0)} -> 0
C23: Subtotal | D23: =SUM(E23:P23) -> 11468.5 | E23: =SUM(E22) -> 270.2 | F23: =SUM(F20+F22) -> 0 | G23: =SUM(G20+G22) -> 2082.3 | H23: =SUM(H18+H20) -> 1097 | I23: =SUM(I18+I20) -> 575 | J23: =SUM(J18+J20) -> 4075 | K23: =SUM(K18+K20) -> 2807 | M23: =SUM(M19+M21) -> 452 | N23: =SUM(N19+N21) -> 71 | O23: =SUM(O19+O21) -> 16 | P23: =SUM(P19+P21) -> 23
A24: 15030100 | B24: Prematuros | C24: Fórmula de Prematuros (FP) | D24: {=IFERROR(VLOOKUP($A24,Filtro09!A5:Q53,2,FALSE),0)} -> 1357.76 | E24: {=IFERROR(VLOOKUP($A24,Filtro09!A5:Q53,3,FALSE),0)} -> 471.04 | F24: {=IFERROR(VLOOKUP($A24,Filtro09!A5:Q53,4,FALSE),0)} -> 452.42 | G24: {=IFERROR(VLOOKUP($A24,Filtro09!A5:Q53,5,FALSE),0)} -> 434.3 | H24: {=IFERROR(VLOOKUP($A24,Filtro09!A5:Q53,6,FALSE),0)} -> 0 | I24: {=IFERROR(VLOOKUP($A24,Filtro09!A5:Q53,7,FALSE),0)} -> 0 | J24: {=IFERROR(VLOOKUP($A24,Filtro09!A5:Q53,8,FALSE),0)} -> 0 | K24: {=IFERROR(VLOOKUP($A24,Filtro09!A5:Q53,9,FALSE),0)} -> 0 | L24: {=IFERROR(VLOOKUP($A24,Filtro09!A5:Q53,10,FALSE),0)} -> 0 | M24: {=IFERROR(VLOOKUP($A24,Filtro09!A5:Q53,11,FALSE),0)} -> 0 | N24: {=IFERROR(VLOOKUP($A24,Filtro09!A5:Q53,12,FALSE),0)} -> 0 | O24: {=IFERROR(VLOOKUP($A24,Filtro09!A5:Q53,13,FALSE),0)} -> 0 | P24: {=IFERROR(VLOOKUP($A24,Filtro09!A5:Q53,14,FALSE),0)} -> 0
A25: 15901500 | C25: Fórmula de Incio (FI) | D25: {=IFERROR(VLOOKUP($A25,Filtro09!A6:Q54,2,FALSE),0)} -> 1131.3 | E25: {=IFERROR(VLOOKUP($A25,Filtro09!A6:Q54,3,FALSE),0)} -> 36.5 | F25: {=IFERROR(VLOOKUP($A25,Filtro09!A6:Q54,4,FALSE),0)} -> 230.1 | G25: {=IFERROR(VLOOKUP($A25,Filtro09!A6:Q54,5,FALSE),0)} -> 864.7 | H25: {=IFERROR(VLOOKUP($A25,Filtro09!A6:Q54,6,FALSE),0)} -> 0 | I25: {=IFERROR(VLOOKUP($A25,Filtro09!A6:Q54,7,FALSE),0)} -> 0 | J25: {=IFERROR(VLOOKUP($A25,Filtro09!A6:Q54,8,FALSE),0)} -> 0 | K25: {=IFERROR(VLOOKUP($A25,Filtro09!A6:Q54,9,FALSE),0)} -> 0 | L25: {=IFERROR(VLOOKUP($A25,Filtro09!A6:Q54,10,FALSE),0)} -> 0 | M25: {=IFERROR(VLOOKUP($A25,Filtro09!A6:Q54,11,FALSE),0)} -> 0 | N25: {=IFERROR(VLOOKUP($A25,Filtro09!A6:Q54,12,FALSE),0)} -> 0 | O25: {=IFERROR(VLOOKUP($A25,Filtro09!A6:Q54,13,FALSE),0)} -> 0 | P25: {=IFERROR(VLOOKUP($A25,Filtro09!A6:Q54,14,FALSE),0)} -> 0
A26: 15080012 | C26: Mi Sopita (MS) | D26: {=IFERROR(VLOOKUP($A26,Filtro09!A7:Q55,2,FALSE),0)} -> 7 | E26: {=IFERROR(VLOOKUP($A26,Filtro09!A7:Q55,3,FALSE),0)} -> 0 | F26: {=IFERROR(VLOOKUP($A26,Filtro09!A7:Q55,4,FALSE),0)} -> 1 | G26: {=IFERROR(VLOOKUP($A26,Filtro09!A7:Q55,5,FALSE),0)} -> 6 | H26: {=IFERROR(VLOOKUP($A26,Filtro09!A7:Q55,6,FALSE),0)} -> 0 | I26: {=IFERROR(VLOOKUP($A26,Filtro09!A7:Q55,7,FALSE),0)} -> 0 | J26: {=IFERROR(VLOOKUP($A26,Filtro09!A7:Q55,8,FALSE),0)} -> 0 | K26: {=IFERROR(VLOOKUP($A26,Filtro09!A7:Q55,9,FALSE),0)} -> 0 | L26: {=IFERROR(VLOOKUP($A26,Filtro09!A7:Q55,10,FALSE),0)} -> 0 | M26: {=IFERROR(VLOOKUP($A26,Filtro09!A7:Q55,11,FALSE),0)} -> 0 | N26: {=IFERROR(VLOOKUP($A26,Filtro09!A7:Q55,12,FALSE),0)} -> 0 | O26: {=IFERROR(VLOOKUP($A26,Filtro09!A7:Q55,13,FALSE),0)} -> 0 | P26: {=IFERROR(VLOOKUP($A26,Filtro09!A7:Q55,14,FALSE),0)} -> 0
C27: Subtotal | D27: =SUM(E27:P27) -> 2496.06 | E27: =SUM(E24:E25) -> 507.54 | F27: =SUM(F24:F26) -> 683.52 | G27: =SUM(G24:G26) -> 1305
A28: 15900030 | B28: Alergia a la proteína de la leche de vaca | C28: Fórmula Extensamente Hidrolizada (FEH) | D28: {=IFERROR(VLOOKUP($A28,Filtro09!A9:Q57,2,FALSE),0)} -> 4524.8 | E28: {=IFERROR(VLOOKUP($A28,Filtro09!A5:Q53,3,FALSE),0)} -> 189.6 | F28: {=IFERROR(VLOOKUP($A28,Filtro09!A5:Q53,4,FALSE),0)} -> 618.4 | G28: {=IFERROR(VLOOKUP($A28,Filtro09!A5:Q53,5,FALSE),0)} -> 1746 | H28: {=IFERROR(VLOOKUP($A28,Filtro09!A5:Q53,6,FALSE),0)} -> 1081.2 | I28: {=IFERROR(VLOOKUP($A28,Filtro09!A9:Q57,7,FALSE),0)} -> 681.2 | J28: {=IFERROR(VLOOKUP($A28,Filtro09!A5:Q53,8,FALSE),0)} -> 190.4 | K28: {=IFERROR(VLOOKUP($A28,Filtro09!A9:Q57,9,FALSE),0)} -> 18 | L28: {=IFERROR(VLOOKUP($A28,Filtro09!A9:Q57,10,FALSE),0)} -> 0 | M28: {=IFERROR(VLOOKUP($A28,Filtro09!A9:Q57,11,FALSE),0)} -> 0 | N28: {=IFERROR(VLOOKUP($A28,Filtro09!A9:Q57,12,FALSE),0)} -> 0 | O28: {=IFERROR(VLOOKUP($A28,Filtro09!A9:Q57,13,FALSE),0)} -> 0 | P28: {=IFERROR(VLOOKUP($A28,Filtro09!A9:Q57,14,FALSE),0)} -> 0
A29: 15900040 | C29: Fórmula Aminoacídica (FAA) | D29: {=IFERROR(VLOOKUP($A29,Filtro09!A10:Q58,2,FALSE),0)} -> 2103.2 | E29: {=IFERROR(VLOOKUP($A29,Filtro09!A6:Q54,3,FALSE),0)} -> 109.6 | F29: {=IFERROR(VLOOKUP($A29,Filtro09!A6:Q54,4,FALSE),0)} -> 352.4 | G29: {=IFERROR(VLOOKUP($A29,Filtro09!A6:Q54,5,FALSE),0)} -> 934 | H29: {=IFERROR(VLOOKUP($A29,Filtro09!A6:Q54,6,FALSE),0)} -> 413.2 | I29: {=IFERROR(VLOOKUP($A29,Filtro09!A10:Q58,7,FALSE),0)} -> 244.4 | J29: {=IFERROR(VLOOKUP($A29,Filtro09!A6:Q54,8,FALSE),0)} -> 43.6 | K29: {=IFERROR(VLOOKUP($A29,Filtro09!A10:Q58,9,FALSE),0)} -> 6 | L29: {=IFERROR(VLOOKUP($A29,Filtro09!A10:Q58,10,FALSE),0)} -> 0 | M29: {=IFERROR(VLOOKUP($A29,Filtro09!A10:Q58,11,FALSE),0)} -> 0 | N29: {=IFERROR(VLOOKUP($A29,Filtro09!A10:Q58,12,FALSE),0)} -> 0 | O29: {=IFERROR(VLOOKUP($A29,Filtro09!A10:Q58,13,FALSE),0)} -> 0 | P29: {=IFERROR(VLOOKUP($A29,Filtro09!A10:Q58,14,FALSE),0)} -> 0
C30: Subtotal | D30: =SUM(E30:P30) -> 6628 | E30: =SUM(E28:E29) -> 299.2 | F30: =SUM(F28:F29) -> 970.8 | G30: =SUM(G28:G29) -> 2680 | H30: =SUM(H28:H29) -> 1494.4 | I30: =SUM(I28:I29) -> 925.6 | J30: =SUM(J28:J29) -> 234 | K30: =SUM(K28:K29) -> 24 | L30: {=IFERROR(VLOOKUP($A30,Filtro09!A11:Q59,10,FALSE),0)} -> 0 | M30: {=IFERROR(VLOOKUP($A30,Filtro09!A11:Q59,11,FALSE),0)} -> 0 | N30: {=IFERROR(VLOOKUP($A30,Filtro09!A11:Q59,12,FALSE),0)} -> 0 | O30: {=IFERROR(VLOOKUP($A30,Filtro09!A11:Q59,13,FALSE),0)} -> 0 | P30: {=IFERROR(VLOOKUP($A30,Filtro09!A11:Q59,14,FALSE),0)} -> 0
B31: Total | D31: =SUM(E31:P31) -> 272335.84 | E31: =+E17+E23+E27+E30 -> 4745.22 | F31: =+F17+F23+F27+F30 -> 11319.52 | G31: =+G17+G23+G27+G30 -> 32658.1 | H31: =+H17+H23+H30 -> 33349.4 | I31: =+I17+I23+I30 -> 32450.6 | J31: =+J17+J23+J30 -> 72760 | K31: =+K17+K23+K30 -> 54191 | L31: =L17 -> 16662 | M31: =M23 -> 452 | N31: =+N17+N23 -> 7824 | O31: =+O17+O23 -> 2018 | P31: =+P17+P23 -> 3906
B32: Sección B: PNAC - Número de personas intrasistema que retiran
B33: Subprogramas | D33: Total | E33: Hombres | F33: Mujeres | G33: Menores a 6 años | N33: Gestantes | P33: Persona que amamanta a hijo/a menor a 12 meses
G34: 0 - 2 meses | H34: 3 - 5 meses | I34: 6 - 11 meses | J34: 12 - 17 meses | K34: 18 - 23 meses | L34: 24 - 47 meses | M34: 48 - 71 meses | N34: Normal, sobrepeso y obesas | O34: Bajo peso | P34: 0 a 5 meses con Lactancia Materna exclusiva | Q34: 0 a 5 meses Lactancia Materna + Fórmula Láctea | R34: 6 a 11 meses Lactancia Materna
A37: 15050100 | B37: Básico | D37: {=IFERROR(VLOOKUP($A37,Filtro09!A5:Q53,2,FALSE),0)} -> 132341 | E37: {=IFERROR(VLOOKUP($A37,Filtro09!A5:Q53,3,FALSE),0)} -> 54618 | F37: {=IFERROR(VLOOKUP($A37,Filtro09!5:53,4,FALSE),0)} -> 77721 | G37: {=IFERROR(VLOOKUP($A37,Filtro09!A5:Q53,5,FALSE),0)} -> 1704 | H37: {=IFERROR(VLOOKUP($A37,Filtro09!A5:Q53,6,FALSE),0)} -> 3526 | I37: {=IFERROR(VLOOKUP($A37,Filtro09!A5:Q53,7,FALSE),0)} -> 10268 | J37: {=IFERROR(VLOOKUP($A37,Filtro09!A5:Q53,8,FALSE),0)} -> 15348 | K37: {=IFERROR(VLOOKUP($A37,Filtro09!A5:Q53,9,FALSE),0)} -> 15508 | L37: {=IFERROR(VLOOKUP($A37,Filtro09!A5:Q53,10,FALSE),0)} -> 34139 | M37: {=IFERROR(VLOOKUP($A37,Filtro09!A5:Q53,11,FALSE),0)} -> 26056 | N37: {=IFERROR(VLOOKUP($A37,Filtro09!A5:Q53,12,FALSE),0)} -> 15928 | O37: {=IFERROR(VLOOKUP($A37,Filtro09!A5:Q53,13,FALSE),0)} -> 0 | P37: {=IFERROR(VLOOKUP($A37,Filtro09!A5:Q53,14,FALSE),0)} -> 4016 | Q37: {=IFERROR(VLOOKUP($A37,Filtro09!A5:Q53,15,FALSE),0)} -> 1977 | R37: {=IFERROR(VLOOKUP($A37,Filtro09!A5:Q53,16,FALSE),0)} -> 3871 | S37: =AB37 -> *La suma Total de: Menores a 6 años + Gestantes + Persona que amamanta a hijo/a menor a 12 meses debe ser igual a la suma de Hombres + Mujeres. | AB37: =IF(AND($D37<>0,$E37="",$F37=""),"* No olvide ingresar la variable hombres y/o mujeres. Digite CERO si no tiene.",IF(SUM($E37+$F37)<>$D37, "*La suma Total de: "&$G$33&""&" + "&$N$33&""&" + "&$P$33&""&" debe ser igual a la suma de Hombres + Mujeres. ","")) -> *La suma Total de: Menores a 6 años + Gestantes + Persona que amamanta a hijo/a menor a 12 meses debe ser igual a la suma de Hombres + Mujeres. | AI37: =IF(AND($D37<>0,$E37="",$F37=""),1,IF(SUM($E37+$F37)<>$D37,1,0)) -> 1
A38: 15050200 | B38: Refuerzo | D38: {=IFERROR(VLOOKUP($A38,Filtro09!A6:Q54,2,FALSE),0)} -> 3192 | E38: {=IFERROR(VLOOKUP($A38,Filtro09!A6:Q54,3,FALSE),0)} -> 1730 | F38: {=IFERROR(VLOOKUP($A38,Filtro09!6:54,4,FALSE),0)} -> 1462 | G38: {=IFERROR(VLOOKUP($A38,Filtro09!A6:Q54,5,FALSE),0)} -> 90 | H38: {=IFERROR(VLOOKUP($A38,Filtro09!A6:Q54,6,FALSE),0)} -> 97 | I38: {=IFERROR(VLOOKUP($A38,Filtro09!A6:Q54,7,FALSE),0)} -> 418 | J38: {=IFERROR(VLOOKUP($A38,Filtro09!A6:Q54,8,FALSE),0)} -> 291 | K38: {=IFERROR(VLOOKUP($A38,Filtro09!A6:Q54,9,FALSE),0)} -> 302 | L38: {=IFERROR(VLOOKUP($A38,Filtro09!A6:Q54,10,FALSE),0)} -> 1087 | M38: {=IFERROR(VLOOKUP($A38,Filtro09!A6:Q54,11,FALSE),0)} -> 743 | N38: {=IFERROR(VLOOKUP($A38,Filtro09!A6:Q54,12,FALSE),0)} -> 0 | O38: {=IFERROR(VLOOKUP($A38,Filtro09!A6:Q54,13,FALSE),0)} -> 141 | P38: {=IFERROR(VLOOKUP($A38,Filtro09!A6:Q54,14,FALSE),0)} -> 9 | Q38: {=IFERROR(VLOOKUP($A38,Filtro09!A6:Q54,15,FALSE),0)} -> 5 | R38: {=IFERROR(VLOOKUP($A38,Filtro09!A6:Q54,16,FALSE),0)} -> 9 | S38: =AB38 | AB38: =IF(AND($D38<>0,$E38="",$F38=""),"* No olvide ingresar la variable hombres y/o mujeres. Digite CERO si no tiene.",IF(SUM($E38+$F38)<>$D38, "*La suma Total de: "&$G$33&""&" + "&$N$33&""&" + "&$P$33&""&" debe ser igual a la suma de Hombres + Mujeres. ","")) | AI38: =IF(AND($D38<>0,$E38="",$F38=""),1,IF(SUM($E38+$F38)<>$D38,1,0)) -> 0
A39: 15050500 | B39: Prematuros | D39: {=IFERROR(VLOOKUP($A39,Filtro09!A7:Q55,2,FALSE),0)} -> 542 | E39: {=IFERROR(VLOOKUP($A39,Filtro09!A7:Q55,3,FALSE),0)} -> 209 | F39: {=IFERROR(VLOOKUP($A39,Filtro09!7:55,4,FALSE),0)} -> 341 | G39: {=IFERROR(VLOOKUP($A39,Filtro09!A7:Q55,5,FALSE),0)} -> 120 | H39: {=IFERROR(VLOOKUP($A39,Filtro09!A7:Q55,6,FALSE),0)} -> 150 | I39: {=IFERROR(VLOOKUP($A39,Filtro09!A7:Q55,7,FALSE),0)} -> 272 | J39: {=IFERROR(VLOOKUP($A39,Filtro09!A7:Q55,8,FALSE),0)} -> 0 | K39: {=IFERROR(VLOOKUP($A39,Filtro09!A7:Q55,9,FALSE),0)} -> 0 | L39: {=IFERROR(VLOOKUP($A39,Filtro09!A7:Q55,10,FALSE),0)} -> 0 | M39: {=IFERROR(VLOOKUP($A39,Filtro09!A7:Q55,11,FALSE),0)} -> 0 | N39: {=IFERROR(VLOOKUP($A39,Filtro09!A7:Q55,12,FALSE),0)} -> 0 | O39: {=IFERROR(VLOOKUP($A39,Filtro09!A7:Q55,13,FALSE),0)} -> 0 | P39: {=IFERROR(VLOOKUP($A39,Filtro09!A7:Q55,14,FALSE),0)} -> 0 | Q39: {=IFERROR(VLOOKUP($A39,Filtro09!A7:Q55,15,FALSE),0)} -> 0 | R39: {=IFERROR(VLOOKUP($A39,Filtro09!A7:Q55,16,FALSE),0)} -> 0 | S39: =AB39 -> *La suma Total de: Menores a 6 años + Gestantes + Persona que amamanta a hijo/a menor a 12 meses debe ser igual a la suma de Hombres + Mujeres. | AB39: =IF(AND($D39<>0,$E39="",$F39=""),"* No olvide ingresar la variable hombres y/o mujeres. Digite CERO si no tiene.",IF(SUM($E39+$F39)<>$D39, "*La suma Total de: "&$G$33&""&" + "&$N$33&""&" + "&$P$33&""&" debe ser igual a la suma de Hombres + Mujeres. ","")) -> *La suma Total de: Menores a 6 años + Gestantes + Persona que amamanta a hijo/a menor a 12 meses debe ser igual a la suma de Hombres + Mujeres. | AI39: =IF(AND($D39<>0,$E39="",$F39=""),1,IF(SUM($E39+$F39)<>$D39,1,0)) -> 1
A40: 15900050 | B40: Alergia a la Proteína de la leche de vaca | D40: {=IFERROR(VLOOKUP($A40,Filtro09!A8:Q56,2,FALSE),0)} -> 1892 | E40: {=IFERROR(VLOOKUP($A40,Filtro09!A8:Q56,3,FALSE),0)} -> 952 | F40: {=IFERROR(VLOOKUP($A40,Filtro09!8:56,4,FALSE),0)} -> 918 | G40: {=IFERROR(VLOOKUP($A40,Filtro09!A8:Q56,5,FALSE),0)} -> 89 | H40: {=IFERROR(VLOOKUP($A40,Filtro09!A8:Q56,6,FALSE),0)} -> 267 | I40: {=IFERROR(VLOOKUP($A40,Filtro09!A8:Q56,7,FALSE),0)} -> 739 | J40: {=IFERROR(VLOOKUP($A40,Filtro09!A8:Q56,8,FALSE),0)} -> 445 | K40: {=IFERROR(VLOOKUP($A40,Filtro09!A8:Q56,9,FALSE),0)} -> 261 | L40: {=IFERROR(VLOOKUP($A40,Filtro09!A8:Q56,10,FALSE),0)} -> 79 | M40: {=IFERROR(VLOOKUP($A40,Filtro09!A8:Q56,11,FALSE),0)} -> 12 | N40: {=IFERROR(VLOOKUP($A40,Filtro09!A8:Q56,12,FALSE),0)} -> 0 | O40: {=IFERROR(VLOOKUP($A40,Filtro09!A8:Q56,13,FALSE),0)} -> 0 | P40: {=IFERROR(VLOOKUP($A40,Filtro09!A8:Q56,14,FALSE),0)} -> 0 | Q40: {=IFERROR(VLOOKUP($A40,Filtro09!A8:Q56,15,FALSE),0)} -> 0 | R40: {=IFERROR(VLOOKUP($A40,Filtro09!A8:Q56,16,FALSE),0)} -> 0 | S40: =AB40 -> *La suma Total de: Menores a 6 años + Gestantes + Persona que amamanta a hijo/a menor a 12 meses debe ser igual a la suma de Hombres + Mujeres. | AB40: =IF(AND($D40<>0,$E40="",$F40=""),"* No olvide ingresar la variable hombres y/o mujeres. Digite CERO si no tiene.",IF(SUM($E40+$F40)<>$D40, "*La suma Total de: "&$G$33&""&" + "&$N$33&""&" + "&$P$33&""&" debe ser igual a la suma de Hombres + Mujeres. ","")) -> *La suma Total de: Menores a 6 años + Gestantes + Persona que amamanta a hijo/a menor a 12 meses debe ser igual a la suma de Hombres + Mujeres. | AI40: =IF(AND($D40<>0,$E40="",$F40=""),1,IF(SUM($E40+$F40)<>$D40,1,0)) -> 1
B41: TOTAL | D41: =SUM(E41:F41) -> 137951 | E41: =SUM(E37:E40) -> 57509 | F41: =SUM(F37:F40) -> 80442 | G41: =SUM(G37:G40) -> 2003 | H41: =SUM(H37:H40) -> 4040 | I41: =SUM(I37:I40) -> 11697 | J41: =SUM(J37:J38)+J40 -> 16084 | K41: =SUM(K37:K38)+K40 -> 16071 | L41: =SUM(L37:L38)+L40 -> 35305 | M41: =SUM(M37:M38)+M40 -> 26811 | N41: =SUM(N37) -> 15928 | O41: =SUM(O38) -> 141 | P41: =SUM(P37:P38) -> 4025 | Q41: =SUM(Q37:Q38) -> 1982 | R41: =SUM(R37:R38) -> 3880
A42: 15900060 | B42: Programas Sociales (*) | D42: {=IFERROR(VLOOKUP($A42,Filtro09!A5:Q53,2,FALSE),0)} -> 0 | E42: {=IFERROR(VLOOKUP($A42,Filtro09!A10:Q58,3,FALSE),0)} -> 0 | F42: {=IFERROR(VLOOKUP($A42,Filtro09!10:58,4,FALSE),0)} -> 0 | G42: {=IFERROR(VLOOKUP($A42,Filtro09!A10:Q58,5,FALSE),0)} -> 0 | H42: {=IFERROR(VLOOKUP($A42,Filtro09!A10:Q58,6,FALSE),0)} -> 0 | I42: {=IFERROR(VLOOKUP($A42,Filtro09!A10:Q58,7,FALSE),0)} -> 0 | J42: {=IFERROR(VLOOKUP($A42,Filtro09!A10:Q58,8,FALSE),0)} -> 0 | K42: {=IFERROR(VLOOKUP($A42,Filtro09!A10:Q58,9,FALSE),0)} -> 0 | L42: {=IFERROR(VLOOKUP($A42,Filtro09!A10:Q58,10,FALSE),0)} -> 0 | M42: {=IFERROR(VLOOKUP($A42,Filtro09!A10:Q58,11,FALSE),0)} -> 0 | N42: {=IFERROR(VLOOKUP($A42,Filtro09!A10:Q58,12,FALSE),0)} -> 0 | O42: {=IFERROR(VLOOKUP($A42,Filtro09!A10:Q58,13,FALSE),0)} -> 0 | P42: {=IFERROR(VLOOKUP($A42,Filtro09!A10:Q58,14,FALSE),0)} -> 0 | Q42: {=IFERROR(VLOOKUP($A42,Filtro09!A10:Q58,15,FALSE),0)} -> 0 | R42: {=IFERROR(VLOOKUP($A42,Filtro09!A10:Q58,16,FALSE),0)} -> 0 | S42: =AB42 | AB42: =IF(AND($D42<>0,$E42="",$F42=""),"* No olvide ingresar la variable hombres y/o mujeres. Digite CERO si no tiene.",IF(SUM($E42+$F42)<>$D42, "*La suma Total de: "&$G$33&""&" + "&$N$33&""&" + "&$P$33&""&" debe ser igual a la suma de Hombres + Mujeres. ","")) | AI42: =IF(AND($D42<>0,$E42="",$F42=""),1,IF(SUM($E42+$F42)<>$D42,1,0)) -> 0
B43: Nota: (*) Información referencial, ya incluida en los subprogramas.
B45: Sección C: PNAC: Cantidad distribuida (kg) a personas extrasistema (incluye modalidad libre elección)
B46: Subprogramas | C46: Productos | D46: Total | E46: Menores a 6 años | L46: Gestantes | N46: Persona que amamanta a hijo/a menor a 12 meses
E47: 0 - 2 meses | F47: 3 - 5 meses | G47: 6 - 11 meses | H47: 12 - 17 meses | I47: 18 - 23 meses | J47: 24 - 47 meses | K47: 48 - 71 meses | L47: Normal, sobrepeso y obesas | M47: Bajo peso | N47: 0 a 5 meses con Lactancia Materna exclusiva | O47: 0 a 5 meses Lactancia Materna + Fórmula Láctea | P47: 6 a 11 meses Lactancia Materna
A50: 15080018 | B50: Básico | C50: Purita +Pro 1 (PP1) | D50: {=IFERROR(VLOOKUP($A50,Filtro09!A5:Q53,2,FALSE),0)} -> 1177 | E50: {=IFERROR(VLOOKUP($A50,Filtro09!A5:Q53,3,FALSE),0)} -> 30 | F50: {=IFERROR(VLOOKUP($A50,Filtro09!A5:Q53,4,FALSE),0)} -> 37 | G50: {=IFERROR(VLOOKUP($A50,Filtro09!A5:Q53,5,FALSE),0)} -> 194 | H50: {=IFERROR(VLOOKUP($A50,Filtro09!A5:Q53,6,FALSE),0)} -> 436 | I50: {=IFERROR(VLOOKUP($A50,Filtro09!A5:Q53,7,FALSE),0)} -> 480 | J50: {=IFERROR(VLOOKUP($A50,Filtro09!A5:Q53,8,FALSE),0)} -> 0 | K50: {=IFERROR(VLOOKUP($A50,Filtro09!A5:Q53,9,FALSE),0)} -> 0 | L50: {=IFERROR(VLOOKUP($A50,Filtro09!A5:Q53,10,FALSE),0)} -> 0 | M50: {=IFERROR(VLOOKUP($A50,Filtro09!A5:Q53,11,FALSE),0)} -> 0 | N50: {=IFERROR(VLOOKUP($A50,Filtro09!A5:Q53,12,FALSE),0)} -> 0 | O50: {=IFERROR(VLOOKUP($A50,Filtro09!A5:Q53,13,FALSE),0)} -> 0 | P50: {=IFERROR(VLOOKUP($A50,Filtro09!A5:Q53,14,FALSE),0)} -> 0
A51: 15080019 | C51: Purita +Pro 2 (PP2) | D51: {=IFERROR(VLOOKUP($A51,Filtro09!A6:Q54,2,FALSE),0)} -> 1506 | E51: {=IFERROR(VLOOKUP($A51,Filtro09!A6:Q54,3,FALSE),0)} -> 0 | F51: {=IFERROR(VLOOKUP($A51,Filtro09!A6:Q54,4,FALSE),0)} -> 0 | G51: {=IFERROR(VLOOKUP($A51,Filtro09!A6:Q54,5,FALSE),0)} -> 0 | H51: {=IFERROR(VLOOKUP($A51,Filtro09!A6:Q54,6,FALSE),0)} -> 0 | I51: {=IFERROR(VLOOKUP($A51,Filtro09!A6:Q54,7,FALSE),0)} -> 0 | J51: {=IFERROR(VLOOKUP($A51,Filtro09!A6:Q54,8,FALSE),0)} -> 926 | K51: {=IFERROR(VLOOKUP($A51,Filtro09!A6:Q54,9,FALSE),0)} -> 579 | L51: {=IFERROR(VLOOKUP($A51,Filtro09!A5:Q53,10,FALSE),0)} -> 1 | M51: {=IFERROR(VLOOKUP($A51,Filtro09!A6:Q54,11,FALSE),0)} -> 0 | N51: {=IFERROR(VLOOKUP($A51,Filtro09!A6:Q54,12,FALSE),0)} -> 0 | O51: {=IFERROR(VLOOKUP($A51,Filtro09!A6:Q54,13,FALSE),0)} -> 0 | P51: {=IFERROR(VLOOKUP($A51,Filtro09!A6:Q54,14,FALSE),0)} -> 0
A52: 15080010 | C52: Purita Mamá (PM) | D52: {=IFERROR(VLOOKUP($A52,Filtro09!A7:Q55,2,FALSE),0)} -> 40 | E52: {=IFERROR(VLOOKUP($A52,Filtro09!A7:Q55,3,FALSE),0)} -> 0 | F52: {=IFERROR(VLOOKUP($A52,Filtro09!A7:Q55,4,FALSE),0)} -> 0 | G52: {=IFERROR(VLOOKUP($A52,Filtro09!A7:Q55,5,FALSE),0)} -> 0 | H52: {=IFERROR(VLOOKUP($A52,Filtro09!A7:Q55,6,FALSE),0)} -> 0 | I52: {=IFERROR(VLOOKUP($A52,Filtro09!A7:Q55,7,FALSE),0)} -> 0 | J52: {=IFERROR(VLOOKUP($A52,Filtro09!A7:Q55,8,FALSE),0)} -> 0 | K52: {=IFERROR(VLOOKUP($A52,Filtro09!A7:Q55,9,FALSE),0)} -> 0 | L52: {=IFERROR(VLOOKUP($A52,Filtro09!A6:Q54,10,FALSE),0)} -> 12 | M52: {=IFERROR(VLOOKUP($A52,Filtro09!A7:Q55,11,FALSE),0)} -> 0 | N52: {=IFERROR(VLOOKUP($A52,Filtro09!A7:Q55,12,FALSE),0)} -> 12 | O52: {=IFERROR(VLOOKUP($A52,Filtro09!A7:Q55,13,FALSE),0)} -> 5 | P52: {=IFERROR(VLOOKUP($A52,Filtro09!A7:Q55,14,FALSE),0)} -> 11 | Q52: =$AB52&$AC52&$AD52&$AE52 | AB52: =IF(AND(SUM(L51,L52)<>0,N75=""),"* No olvide digitar la Sección D, Nº de personas intrasistema que retiran, en el grupo de Gestantes/Normal, Sobrepeso y Obesas..","") | AC52: =IF(AND(SUM(N51,N52)<>0,P75=""),"* No olvide digitar la Sección D, Nº de personas intrasistema que retiran, en el grupo Persona que amamanta a hijo/a menor a 12 meses: 0 a 5 meses con Lactancia Materna Exclusiva.","") | AD52: =IF(AND(SUM(O51,O52)<>0,Q75=""),"* No olvide digitar la Sección D, Nº de personas intrasistema que retiran, en el grupo Persona que amamanta a hijo/a menor a 12 meses: 0 a 5 meses con Lactancia Materna + Formula Lactea.","") | AE52: =IF(AND(SUM(P51,P52)<>0,R75=""),"* No olvide digitar la Sección D, Nº de personas intrasistema que retiran, en el grupo Persona que amamanta a hijo/a menor a 12 meses: 6 a 11 meses Lactancia Materna.","") | AI52: =IF(AND(OR(L51<>0,L52<>0),N75=""),1,0) -> 0 | AJ52: =IF(AND(SUM(N51,N52)<>0,P75=""),1,0) -> 0 | AK52: =IF(AND(SUM(O51,O52)<>0,Q75=""),1,0) -> 0 | AL52: =IF(AND(SUM(P51,P52)<>0,R75=""),1,0) -> 0
A53: 15900070 | C53: Fórmula de Inicio (FI) | D53: {=IFERROR(VLOOKUP($A53,Filtro09!A8:Q56,2,FALSE),0)} -> 2.4 | E53: {=IFERROR(VLOOKUP($A53,Filtro09!A8:Q56,3,FALSE),0)} -> 0 | F53: {=IFERROR(VLOOKUP($A53,Filtro09!A8:Q56,4,FALSE),0)} -> 2.4 | G53: {=IFERROR(VLOOKUP($A53,Filtro09!A8:Q56,5,FALSE),0)} -> 0 | H53: {=IFERROR(VLOOKUP($A53,Filtro09!A8:Q56,6,FALSE),0)} -> 0 | I53: {=IFERROR(VLOOKUP($A53,Filtro09!A8:Q56,7,FALSE),0)} -> 0 | J53: {=IFERROR(VLOOKUP($A53,Filtro09!A8:Q56,8,FALSE),0)} -> 0 | K53: {=IFERROR(VLOOKUP($A53,Filtro09!A8:Q56,9,FALSE),0)} -> 0 | L53: {=IFERROR(VLOOKUP($A53,Filtro09!A7:Q55,10,FALSE),0)} -> 0 | M53: {=IFERROR(VLOOKUP($A53,Filtro09!A8:Q56,11,FALSE),0)} -> 0 | N53: {=IFERROR(VLOOKUP($A53,Filtro09!A8:Q56,12,FALSE),0)} -> 0 | O53: {=IFERROR(VLOOKUP($A53,Filtro09!A8:Q56,13,FALSE),0)} -> 0 | P53: {=IFERROR(VLOOKUP($A53,Filtro09!A8:Q56,14,FALSE),0)} -> 0
C54: Subtotal | D54: =SUM(E54:P54) -> 2725.4 | E54: =SUM(E50+E53) -> 30 | F54: =SUM(F50+F53) -> 39.4 | G54: =SUM(G50+G53) -> 194 | H54: =SUM(H50) -> 436 | I54: =SUM(I50) -> 480 | J54: =SUM(J51) -> 926 | K54: =SUM(K51) -> 579 | L54: =SUM(L51:L52) -> 13 | N54: =SUM(N51:N52) -> 12 | O54: =SUM(O51:O52) -> 5 | P54: =SUM(P51:P52) -> 11
A55: 15080020 | B55: Refuerzo | C55: Purita +Pro 1 (PP1) | D55: {=IFERROR(VLOOKUP($A55,Filtro09!A5:Q53,2,FALSE),0)} -> 18 | E55: {=IFERROR(VLOOKUP($A55,Filtro09!A5:Q53,3,FALSE),0)} -> 0 | F55: {=IFERROR(VLOOKUP($A55,Filtro09!A5:Q53,4,FALSE),0)} -> 0 | G55: {=IFERROR(VLOOKUP($A55,Filtro09!A5:Q53,5,FALSE),0)} -> 2 | H55: {=IFERROR(VLOOKUP($A55,Filtro09!A5:Q53,6,FALSE),0)} -> 2 | I55: {=IFERROR(VLOOKUP($A55,Filtro09!A5:Q53,7,FALSE),0)} -> 6 | J55: {=IFERROR(VLOOKUP($A55,Filtro09!A5:Q53,8,FALSE),0)} -> 4 | K55: {=IFERROR(VLOOKUP($A55,Filtro09!A10:Q58,9,FALSE),0)} -> 4 | L55: {=IFERROR(VLOOKUP($A55,Filtro09!A5:Q53,10,FALSE),0)} -> 0 | M55: {=IFERROR(VLOOKUP($A55,Filtro09!A5:Q53,11,FALSE),0)} -> 0 | N55: {=IFERROR(VLOOKUP($A55,Filtro09!A5:Q53,12,FALSE),0)} -> 0 | O55: {=IFERROR(VLOOKUP($A55,Filtro09!A5:Q53,13,FALSE),0)} -> 0 | P55: {=IFERROR(VLOOKUP($A55,Filtro09!A5:Q53,14,FALSE),0)} -> 0
A56: 15080021 | C56: Purita +Pro 2 (PP2) | D56: {=IFERROR(VLOOKUP($A56,Filtro09!A6:Q54,2,FALSE),0)} -> 0 | E56: {=IFERROR(VLOOKUP($A56,Filtro09!A6:Q54,3,FALSE),0)} -> 0 | F56: {=IFERROR(VLOOKUP($A56,Filtro09!A6:Q54,4,FALSE),0)} -> 0 | G56: {=IFERROR(VLOOKUP($A56,Filtro09!A6:Q54,5,FALSE),0)} -> 0 | H56: {=IFERROR(VLOOKUP($A56,Filtro09!A6:Q54,6,FALSE),0)} -> 0 | I56: {=IFERROR(VLOOKUP($A56,Filtro09!A6:Q54,7,FALSE),0)} -> 0 | J56: {=IFERROR(VLOOKUP($A56,Filtro09!A6:Q54,8,FALSE),0)} -> 0 | K56: {=IFERROR(VLOOKUP($A56,Filtro09!A11:Q59,9,FALSE),0)} -> 0 | L56: {=IFERROR(VLOOKUP($A56,Filtro09!A6:Q54,10,FALSE),0)} -> 0 | M56: {=IFERROR(VLOOKUP($A56,Filtro09!A6:Q54,11,FALSE),0)} -> 0 | N56: {=IFERROR(VLOOKUP($A56,Filtro09!A6:Q54,12,FALSE),0)} -> 0 | O56: {=IFERROR(VLOOKUP($A56,Filtro09!A6:Q54,13,FALSE),0)} -> 0 | P56: {=IFERROR(VLOOKUP($A56,Filtro09!A6:Q54,14,FALSE),0)} -> 0
A57: 15020500 | C57: Mi Sopita (MS) | D57: {=IFERROR(VLOOKUP($A57,Filtro09!A7:Q55,2,FALSE),0)} -> 20 | E57: {=IFERROR(VLOOKUP($A57,Filtro09!A7:Q55,3,FALSE),0)} -> 0 | F57: {=IFERROR(VLOOKUP($A57,Filtro09!A7:Q55,4,FALSE),0)} -> 0 | G57: {=IFERROR(VLOOKUP($A57,Filtro09!A7:Q55,5,FALSE),0)} -> 4 | H57: {=IFERROR(VLOOKUP($A57,Filtro09!A7:Q55,6,FALSE),0)} -> 2 | I57: {=IFERROR(VLOOKUP($A57,Filtro09!A7:Q55,7,FALSE),0)} -> 4 | J57: {=IFERROR(VLOOKUP($A57,Filtro09!A7:Q55,8,FALSE),0)} -> 6 | K57: {=IFERROR(VLOOKUP($A57,Filtro09!A5:Q53,9,FALSE),0)} -> 4 | L57: {=IFERROR(VLOOKUP($A57,Filtro09!A7:Q55,10,FALSE),0)} -> 0 | M57: {=IFERROR(VLOOKUP($A57,Filtro09!A7:Q55,11,FALSE),0)} -> 0 | N57: {=IFERROR(VLOOKUP($A57,Filtro09!A7:Q55,12,FALSE),0)} -> 0 | O57: {=IFERROR(VLOOKUP($A57,Filtro09!A7:Q55,13,FALSE),0)} -> 0 | P57: {=IFERROR(VLOOKUP($A57,Filtro09!A7:Q55,14,FALSE),0)} -> 0 | Q57: =AB57&" "&AC57&" "&AD57&" "&AE57&" "&AB58&" "&AC58
A58: 15080011 | C58: Purita Mamá (PM) | D58: {=IFERROR(VLOOKUP($A58,Filtro09!A8:Q56,2,FALSE),0)} -> 3 | E58: {=IFERROR(VLOOKUP($A58,Filtro09!A8:Q56,3,FALSE),0)} -> 0 | F58: {=IFERROR(VLOOKUP($A58,Filtro09!A8:Q56,4,FALSE),0)} -> 0 | G58: {=IFERROR(VLOOKUP($A58,Filtro09!A8:Q56,5,FALSE),0)} -> 0 | H58: {=IFERROR(VLOOKUP($A58,Filtro09!A8:Q56,6,FALSE),0)} -> 0 | I58: {=IFERROR(VLOOKUP($A58,Filtro09!A8:Q56,7,FALSE),0)} -> 0 | J58: {=IFERROR(VLOOKUP($A58,Filtro09!A8:Q56,8,FALSE),0)} -> 0 | K58: {=IFERROR(VLOOKUP($A58,Filtro09!A13:Q61,9,FALSE),0)} -> 0 | L58: {=IFERROR(VLOOKUP($A58,Filtro09!A8:Q56,10,FALSE),0)} -> 0 | M58: {=IFERROR(VLOOKUP($A58,Filtro09!A8:Q56,11,FALSE),0)} -> 3 | N58: {=IFERROR(VLOOKUP($A58,Filtro09!A8:Q56,12,FALSE),0)} -> 0 | O58: {=IFERROR(VLOOKUP($A58,Filtro09!A8:Q56,13,FALSE),0)} -> 0 | P58: {=IFERROR(VLOOKUP($A58,Filtro09!A8:Q56,14,FALSE),0)} -> 0
A59: 15900080 | C59: Fórmula de Inicio (FI) | D59: {=IFERROR(VLOOKUP($A59,Filtro09!A9:Q57,2,FALSE),0)} -> 4.8 | E59: {=IFERROR(VLOOKUP($A59,Filtro09!A9:Q57,3,FALSE),0)} -> 0 | F59: {=IFERROR(VLOOKUP($A59,Filtro09!A9:Q57,4,FALSE),0)} -> 0 | G59: {=IFERROR(VLOOKUP($A59,Filtro09!A9:Q57,5,FALSE),0)} -> 4.8 | H59: {=IFERROR(VLOOKUP($A59,Filtro09!A9:Q57,6,FALSE),0)} -> 0 | I59: {=IFERROR(VLOOKUP($A59,Filtro09!A9:Q57,7,FALSE),0)} -> 0 | J59: {=IFERROR(VLOOKUP($A59,Filtro09!A9:Q57,8,FALSE),0)} -> 0 | K59: {=IFERROR(VLOOKUP($A59,Filtro09!A14:Q62,9,FALSE),0)} -> 0 | L59: {=IFERROR(VLOOKUP($A59,Filtro09!A9:Q57,10,FALSE),0)} -> 0 | M59: {=IFERROR(VLOOKUP($A59,Filtro09!A9:Q57,11,FALSE),0)} -> 0 | N59: {=IFERROR(VLOOKUP($A59,Filtro09!A9:Q57,12,FALSE),0)} -> 0 | O59: {=IFERROR(VLOOKUP($A59,Filtro09!A9:Q57,13,FALSE),0)} -> 0 | P59: {=IFERROR(VLOOKUP($A59,Filtro09!A9:Q57,14,FALSE),0)} -> 0 | Q59: =AD58&" "&AE58
C60: Subtotal | D60: =SUM(E60:P60) -> 45.8 | E60: {=IFERROR(VLOOKUP($A60,[1]Filtro05!A28:Q72,3,FALSE),0)} -> 0 | F60: =SUM(F55+F57+F59) -> 0 | G60: =SUM(G55+G57+G59) -> 10.8 | H60: =SUM(H55+H57) -> 4 | I60: =SUM(I55+I57) -> 10 | J60: =SUM(J55+J57) -> 10 | K60: =SUM(K55+K57) -> 8 | M60: =SUM(M56+M58) -> 3 | N60: =SUM(N56+N58) -> 0 | O60: =SUM(O56+O58) -> 0 | P60: =SUM(P56+P58) -> 0
A61: 15040100 | B61: Prematuros | C61: Fórmula de Prematuros (FP) | D61: {=IFERROR(VLOOKUP($A61,Filtro09!A5:Q53,2,FALSE),0)} -> 21.55 | E61: {=IFERROR(VLOOKUP($A61,Filtro09!A5:Q53,3,FALSE),0)} -> 5.27 | F61: {=IFERROR(VLOOKUP($A61,Filtro09!A5:Q53,4,FALSE),0)} -> 16.28 | G61: {=IFERROR(VLOOKUP($A61,Filtro09!A5:Q53,5,FALSE),0)} -> 0 | H61: {=IFERROR(VLOOKUP($A61,Filtro09!A11:Q59,6,FALSE),0)} -> 0 | I61: {=IFERROR(VLOOKUP($A61,Filtro09!A5:Q53,7,FALSE),0)} -> 0 | J61: {=IFERROR(VLOOKUP($A61,Filtro09!A5:Q53,8,FALSE),0)} -> 0 | K61: {=IFERROR(VLOOKUP($A61,Filtro09!A5:Q53,9,FALSE),0)} -> 0 | L61: {=IFERROR(VLOOKUP($A61,Filtro09!A5:Q53,10,FALSE),0)} -> 0 | M61: {=IFERROR(VLOOKUP($A61,Filtro09!A11:Q59,11,FALSE),0)} -> 0 | N61: {=IFERROR(VLOOKUP($A61,Filtro09!A11:Q59,12,FALSE),0)} -> 0 | O61: {=IFERROR(VLOOKUP($A61,Filtro09!A11:Q59,13,FALSE),0)} -> 0 | P61: {=IFERROR(VLOOKUP($A61,Filtro09!A11:Q59,14,FALSE),0)} -> 0
A62: 15901600 | C62: Fórmula de Incio (FI) | D62: {=IFERROR(VLOOKUP($A62,Filtro09!A6:Q54,2,FALSE),0)} -> 14.4 | E62: {=IFERROR(VLOOKUP($A62,Filtro09!A6:Q54,3,FALSE),0)} -> 0 | F62: {=IFERROR(VLOOKUP($A62,Filtro09!A6:Q54,4,FALSE),0)} -> 9.6 | G62: {=IFERROR(VLOOKUP($A62,Filtro09!A12:Q60,5,FALSE),0)} -> 4.8 | H62: {=IFERROR(VLOOKUP($A62,Filtro09!A12:Q60,6,FALSE),0)} -> 0 | I62: {=IFERROR(VLOOKUP($A62,Filtro09!A6:Q54,7,FALSE),0)} -> 0 | J62: {=IFERROR(VLOOKUP($A62,Filtro09!A6:Q54,8,FALSE),0)} -> 0 | K62: {=IFERROR(VLOOKUP($A62,Filtro09!A6:Q54,9,FALSE),0)} -> 0 | L62: {=IFERROR(VLOOKUP($A62,Filtro09!A6:Q54,10,FALSE),0)} -> 0 | M62: {=IFERROR(VLOOKUP($A62,Filtro09!A12:Q60,11,FALSE),0)} -> 0 | N62: {=IFERROR(VLOOKUP($A62,Filtro09!A12:Q60,12,FALSE),0)} -> 0 | O62: {=IFERROR(VLOOKUP($A62,Filtro09!A12:Q60,13,FALSE),0)} -> 0 | P62: {=IFERROR(VLOOKUP($A62,Filtro09!A12:Q60,14,FALSE),0)} -> 0
A63: 15080013 | C63: Mi Sopita (MS) | D63: {=IFERROR(VLOOKUP($A63,Filtro09!A7:Q55,2,FALSE),0)} -> 0 | E63: {=IFERROR(VLOOKUP($A63,Filtro09!A7:Q55,3,FALSE),0)} -> 0 | F63: {=IFERROR(VLOOKUP($A63,Filtro09!A7:Q55,4,FALSE),0)} -> 0 | G63: {=IFERROR(VLOOKUP($A63,Filtro09!A13:Q61,5,FALSE),0)} -> 0 | H63: {=IFERROR(VLOOKUP($A63,Filtro09!A13:Q61,6,FALSE),0)} -> 0 | I63: {=IFERROR(VLOOKUP($A63,Filtro09!A7:Q55,7,FALSE),0)} -> 0 | J63: {=IFERROR(VLOOKUP($A63,Filtro09!A7:Q55,8,FALSE),0)} -> 0 | K63: {=IFERROR(VLOOKUP($A63,Filtro09!A7:Q55,9,FALSE),0)} -> 0 | L63: {=IFERROR(VLOOKUP($A63,Filtro09!A7:Q55,10,FALSE),0)} -> 0 | M63: {=IFERROR(VLOOKUP($A63,Filtro09!A13:Q61,11,FALSE),0)} -> 0 | N63: {=IFERROR(VLOOKUP($A63,Filtro09!A13:Q61,12,FALSE),0)} -> 0 | O63: {=IFERROR(VLOOKUP($A63,Filtro09!A13:Q61,13,FALSE),0)} -> 0 | P63: {=IFERROR(VLOOKUP($A63,Filtro09!A13:Q61,14,FALSE),0)} -> 0
C64: Subtotal | D64: =SUM(E64:P64) -> 35.95 | E64: =SUM(E61:E62) -> 5.27 | F64: =SUM(F61:F63) -> 25.88 | G64: =SUM(G61:G63) -> 4.8
A65: 15901200 | B65: Alergia a la proteína de la leche de vaca | C65: Fórmula Extensamente Hidrolizada (FEH) | D65: {=IFERROR(VLOOKUP($A65,Filtro09!A9:Q57,2,FALSE),0)} -> 3624.8 | E65: {=IFERROR(VLOOKUP($A65,Filtro09!A9:Q57,3,FALSE),0)} -> 251.2 | F65: {=IFERROR(VLOOKUP($A65,Filtro09!A9:Q57,4,FALSE),0)} -> 566.4 | G65: {=IFERROR(VLOOKUP($A65,Filtro09!A15:Q63,5,FALSE),0)} -> 1365.6 | H65: {=IFERROR(VLOOKUP($A65,Filtro09!A15:Q63,6,FALSE),0)} -> 836.8 | I65: {=IFERROR(VLOOKUP($A65,Filtro09!A9:Q57,7,FALSE),0)} -> 513.6 | J65: {=IFERROR(VLOOKUP($A65,Filtro09!A9:Q57,8,FALSE),0)} -> 91.2 | K65: {=IFERROR(VLOOKUP($A65,Filtro09!A9:Q57,9,FALSE),0)} -> 0 | L65: {=IFERROR(VLOOKUP($A65,Filtro09!A9:Q57,10,FALSE),0)} -> 0 | M65: {=IFERROR(VLOOKUP($A65,Filtro09!A15:Q63,11,FALSE),0)} -> 0 | N65: {=IFERROR(VLOOKUP($A65,Filtro09!A15:Q63,12,FALSE),0)} -> 0 | O65: {=IFERROR(VLOOKUP($A65,Filtro09!A15:Q63,13,FALSE),0)} -> 0 | P65: {=IFERROR(VLOOKUP($A65,Filtro09!A15:Q63,14,FALSE),0)} -> 0
A66: 15901300 | C66: Fórmula Aminoacídica (FAA) | D66: {=IFERROR(VLOOKUP($A66,Filtro09!A10:Q58,2,FALSE),0)} -> 1460.4 | E66: {=IFERROR(VLOOKUP($A66,Filtro09!A10:Q58,3,FALSE),0)} -> 82 | F66: {=IFERROR(VLOOKUP($A66,Filtro09!A10:Q58,4,FALSE),0)} -> 339.6 | G66: {=IFERROR(VLOOKUP($A66,Filtro09!A16:Q64,5,FALSE),0)} -> 634.8 | H66: {=IFERROR(VLOOKUP($A66,Filtro09!A16:Q64,6,FALSE),0)} -> 294 | I66: {=IFERROR(VLOOKUP($A66,Filtro09!A10:Q58,7,FALSE),0)} -> 96.8 | J66: {=IFERROR(VLOOKUP($A66,Filtro09!A10:Q58,8,FALSE),0)} -> 13.2 | K66: {=IFERROR(VLOOKUP($A66,Filtro09!A10:Q58,9,FALSE),0)} -> 0 | L66: {=IFERROR(VLOOKUP($A66,Filtro09!A10:Q58,10,FALSE),0)} -> 0 | M66: {=IFERROR(VLOOKUP($A66,Filtro09!A16:Q64,11,FALSE),0)} -> 0 | N66: {=IFERROR(VLOOKUP($A66,Filtro09!A16:Q64,12,FALSE),0)} -> 0 | O66: {=IFERROR(VLOOKUP($A66,Filtro09!A16:Q64,13,FALSE),0)} -> 0 | P66: {=IFERROR(VLOOKUP($A66,Filtro09!A16:Q64,14,FALSE),0)} -> 0
C67: Subtotal | D67: =SUM(E67:P67) -> 5085.2 | E67: =SUM(E65:E66) -> 333.2 | F67: =SUM(F65:F66) -> 906 | G67: =SUM(G65:G66) -> 2000.4 | H67: =SUM(H65:H66) -> 1130.8 | I67: =SUM(I65:I66) -> 610.4 | J67: =SUM(J65:J66) -> 104.4 | K67: =SUM(K65:K66) -> 0
B68: TOTAL | D68: =SUM(E68:P68) -> 7892.35 | E68: =+E54+E60+E64+E67 -> 368.47 | F68: =+F54+F60+F64+F67 -> 971.28 | G68: =+G54+G60+G64+G67 -> 2210 | H68: =+H54+H60+H64+H67 -> 1570.8 | I68: =+I54+I60+I64+I67 -> 1100.4 | J68: =+J54+J60+J64+J67 -> 1040.4 | K68: =+K54+K60+K64+K67 -> 587 | L68: =+L54 -> 13 | M68: =M60 -> 3 | N68: =+N54+N60+N64+N67 -> 12 | O68: =+O54+O60+O64+O67 -> 5 | P68: =+P54+P60+P64+P67 -> 11
B70: Sección D: PNAC - Número de personas extrasistema que retiran
B71: Subprogramas | D71: Total | E71: Hombres | F71: Mujeres | G71: Menores a 6 años | N71: Gestantes | P71: Persona que amamanta a hijo/a menor a 12 meses
G72: 0 - 2 meses | H72: 3 - 5 meses | I72: 6 - 11 meses | J72: 12 - 17 meses | K72: 18 - 23 meses | L72: 24 - 47 meses | M72: 48 - 71 meses | N72: Normal, sobrepeso y obesas | O72: Bajo peso | P72: 0 a 5 meses con Lactancia Materna exclusiva | Q72: 0 a 5 meses Lactancia Materna + Fórmula Láctea | R72: 6 a 11 meses Lactancia Materna
A75: 15060100 | B75: Básico | D75: {=IFERROR(VLOOKUP($A75,Filtro09!A5:Q53,2,FALSE),0)} -> 1386 | E75: {=IFERROR(VLOOKUP($A75,Filtro09!A5:Q53,3,FALSE),0)} -> 652 | F75: {=IFERROR(VLOOKUP($A75,Filtro09!A5:Q53,4,FALSE),0)} -> 734 | G75: {=IFERROR(VLOOKUP($A75,Filtro09!A5:Q53,5,FALSE),0)} -> 17 | H75: {=IFERROR(VLOOKUP($A75,Filtro09!A5:Q53,6,FALSE),0)} -> 20 | I75: {=IFERROR(VLOOKUP($A75,Filtro09!A5:Q53,7,FALSE),0)} -> 102 | J75: {=IFERROR(VLOOKUP($A75,Filtro09!A5:Q53,8,FALSE),0)} -> 217 | K75: {=IFERROR(VLOOKUP($A75,Filtro09!A5:Q53,9,FALSE),0)} -> 246 | L75: {=IFERROR(VLOOKUP($A75,Filtro09!A5:Q53,10,FALSE),0)} -> 464 | M75: {=IFERROR(VLOOKUP($A75,Filtro09!A5:Q53,11,FALSE),0)} -> 288 | N75: {=IFERROR(VLOOKUP($A75,Filtro09!A5:Q53,12,FALSE),0)} -> 12 | O75: {=IFERROR(VLOOKUP($A75,Filtro09!A5:Q53,13,FALSE),0)} -> 0 | P75: {=IFERROR(VLOOKUP($A75,Filtro09!A5:Q53,14,FALSE),0)} -> 6 | Q75: {=IFERROR(VLOOKUP($A75,Filtro09!A5:Q53,15,FALSE),0)} -> 4 | R75: {=IFERROR(VLOOKUP($A75,Filtro09!A5:Q53,16,FALSE),0)} -> 10 | S75: =AB75&AC75&AD75&AE75&AF75&AG75 | AB75: =IF(AND($D75<>0,$E75="",$F75=""),"* No olvide ingresar la variable Hombres y/o Mujeres. Digite CERO si no tiene.",IF(SUM($E75+$F75)<>$D75, "*La suma Total de: "&$G$33&""&" + "&$N$33&""&" + "&$P$33&""&" debe ser igual a la suma de Hombres + Mujeres. ","")) | AI75: =IF(AND($D75<>0,$E75="",$F75=""),1,IF(SUM($E75+$F75)<>$D75,1,0)) -> 0
A76: 15060200 | B76: Refuerzo | D76: {=IFERROR(VLOOKUP($A76,Filtro09!A6:Q54,2,FALSE),0)} -> 15 | E76: {=IFERROR(VLOOKUP($A76,Filtro09!A6:Q54,3,FALSE),0)} -> 8 | F76: {=IFERROR(VLOOKUP($A76,Filtro09!A6:Q54,4,FALSE),0)} -> 7 | G76: {=IFERROR(VLOOKUP($A76,Filtro09!A6:Q54,5,FALSE),0)} -> 0 | H76: {=IFERROR(VLOOKUP($A76,Filtro09!A6:Q54,6,FALSE),0)} -> 0 | I76: {=IFERROR(VLOOKUP($A76,Filtro09!A6:Q54,7,FALSE),0)} -> 2 | J76: {=IFERROR(VLOOKUP($A76,Filtro09!A6:Q54,8,FALSE),0)} -> 1 | K76: {=IFERROR(VLOOKUP($A76,Filtro09!A6:Q54,9,FALSE),0)} -> 2 | L76: {=IFERROR(VLOOKUP($A76,Filtro09!A6:Q54,10,FALSE),0)} -> 5 | M76: {=IFERROR(VLOOKUP($A76,Filtro09!A6:Q54,11,FALSE),0)} -> 2 | N76: {=IFERROR(VLOOKUP($A76,Filtro09!A6:Q54,12,FALSE),0)} -> 0 | O76: {=IFERROR(VLOOKUP($A76,Filtro09!A6:Q54,13,FALSE),0)} -> 2 | P76: {=IFERROR(VLOOKUP($A76,Filtro09!A6:Q54,14,FALSE),0)} -> 0 | Q76: {=IFERROR(VLOOKUP($A76,Filtro09!A6:Q54,15,FALSE),0)} -> 0 | R76: {=IFERROR(VLOOKUP($A76,Filtro09!A6:Q54,16,FALSE),0)} -> 1 | S76: =AB76&AC76&AD76&AE76&AF76&AG76 | AB76: =IF(AND($D76<>0,$E76="",$F76=""),"* No olvide ingresar la variable Hombres y/o Mujeres. Digite CERO si no tiene.",IF(SUM($E76+$F76)<>$D76, "*La suma Total de: "&$G$33&""&" + "&$N$33&""&" + "&$P$33&""&" debe ser igual a la suma de Hombres + Mujeres. ","")) | AI76: =IF(AND($D76<>0,$E76="",$F76=""),1,IF(SUM($E76+$F76)<>$D76,1,0)) -> 0
A77: 15060600 | B77: Prematuros | D77: {=IFERROR(VLOOKUP($A77,Filtro09!A7:Q55,2,FALSE),0)} -> 9 | E77: {=IFERROR(VLOOKUP($A77,Filtro09!A7:Q55,3,FALSE),0)} -> 5 | F77: {=IFERROR(VLOOKUP($A77,Filtro09!A7:Q55,4,FALSE),0)} -> 4 | G77: {=IFERROR(VLOOKUP($A77,Filtro09!A7:Q55,5,FALSE),0)} -> 1 | H77: {=IFERROR(VLOOKUP($A77,Filtro09!A7:Q55,6,FALSE),0)} -> 4 | I77: {=IFERROR(VLOOKUP($A77,Filtro09!A7:Q55,7,FALSE),0)} -> 4 | J77: {=IFERROR(VLOOKUP($A77,Filtro09!A7:Q55,8,FALSE),0)} -> 0 | K77: {=IFERROR(VLOOKUP($A77,Filtro09!A7:Q55,9,FALSE),0)} -> 0 | L77: {=IFERROR(VLOOKUP($A77,Filtro09!A7:Q55,10,FALSE),0)} -> 0 | M77: {=IFERROR(VLOOKUP($A77,Filtro09!A7:Q55,11,FALSE),0)} -> 0 | N77: {=IFERROR(VLOOKUP($A77,Filtro09!A7:Q55,12,FALSE),0)} -> 0 | O77: {=IFERROR(VLOOKUP($A77,Filtro09!A7:Q55,13,FALSE),0)} -> 0 | P77: {=IFERROR(VLOOKUP($A77,Filtro09!A7:Q55,14,FALSE),0)} -> 0 | Q77: {=IFERROR(VLOOKUP($A77,Filtro09!A7:Q55,15,FALSE),0)} -> 0 | R77: {=IFERROR(VLOOKUP($A77,Filtro09!A7:Q55,16,FALSE),0)} -> 0 | S77: =AB77&AC77&AD77&AE77&AF77&AG77 | AB77: =IF(AND($D77<>0,$E77="",$F77=""),"* No olvide ingresar la variable Hombres y/o Mujeres. Digite CERO si no tiene.",IF(SUM($E77+$F77)<>$D77, "*La suma Total de: "&$G$33&""&" + "&$N$33&""&" + "&$P$33&""&" debe ser igual a la suma de Hombres + Mujeres. ","")) | AI77: =IF(AND($D77<>0,$E77="",$F77=""),1,IF(SUM($E77+$F77)<>$D77,1,0)) -> 0
A78: 15901400 | B78: Alergia a la Proteína de la leche de vaca | D78: {=IFERROR(VLOOKUP($A78,Filtro09!A8:Q56,2,FALSE),0)} -> 1358 | E78: {=IFERROR(VLOOKUP($A78,Filtro09!A8:Q56,3,FALSE),0)} -> 746 | F78: {=IFERROR(VLOOKUP($A78,Filtro09!A8:Q56,4,FALSE),0)} -> 612 | G78: {=IFERROR(VLOOKUP($A78,Filtro09!A8:Q56,5,FALSE),0)} -> 94 | H78: {=IFERROR(VLOOKUP($A78,Filtro09!A8:Q56,6,FALSE),0)} -> 239 | I78: {=IFERROR(VLOOKUP($A78,Filtro09!A8:Q56,7,FALSE),0)} -> 536 | J78: {=IFERROR(VLOOKUP($A78,Filtro09!A8:Q56,8,FALSE),0)} -> 297 | K78: {=IFERROR(VLOOKUP($A78,Filtro09!A8:Q56,9,FALSE),0)} -> 166 | L78: {=IFERROR(VLOOKUP($A78,Filtro09!A8:Q56,10,FALSE),0)} -> 26 | M78: {=IFERROR(VLOOKUP($A78,Filtro09!A8:Q56,11,FALSE),0)} -> 0 | N78: {=IFERROR(VLOOKUP($A78,Filtro09!A8:Q56,12,FALSE),0)} -> 0 | O78: {=IFERROR(VLOOKUP($A78,Filtro09!A8:Q56,13,FALSE),0)} -> 0 | P78: {=IFERROR(VLOOKUP($A78,Filtro09!A8:Q56,14,FALSE),0)} -> 0 | Q78: {=IFERROR(VLOOKUP($A78,Filtro09!A8:Q56,15,FALSE),0)} -> 0 | R78: {=IFERROR(VLOOKUP($A78,Filtro09!A8:Q56,16,FALSE),0)} -> 0 | S78: =AB78&AC78&AD78&AE78&AF78&AG78 | AB78: =IF(AND($D78<>0,$E78="",$F78=""),"* No olvide ingresar la variable Hombres y/o Mujeres. Digite CERO si no tiene.",IF(SUM($E78+$F78)<>$D78, "*La suma Total de: "&$G$33&""&" + "&$N$33&""&" + "&$P$33&""&" debe ser igual a la suma de Hombres + Mujeres. ","")) | AI78: =IF(AND($D78<>0,$E78="",$F78=""),1,IF(SUM($E78+$F78)<>$D78,1,0)) -> 0
B79: TOTAL | D79: =SUM(E79:F79) -> 2768 | E79: =SUM(E75:E78) -> 1411 | F79: =SUM(F75:F78) -> 1357 | G79: =SUM(G75:G78) -> 112 | H79: =SUM(H75:H78) -> 263 | I79: =SUM(I75:I78) -> 644 | J79: =SUM(J75:J76)+J78 -> 515 | K79: =SUM(K75:K76)+K78 -> 414 | L79: =SUM(L75:L76)+L78 -> 495 | M79: =SUM(M75:M76)+M78 -> 290 | N79: =SUM(N75) -> 12 | O79: =SUM(O76) -> 2 | P79: =SUM(P75:P76) -> 6 | Q79: =SUM(Q75:Q76) -> 4 | R79: =SUM(R75:R76) -> 11
A80: 15900090 | B80: Programas Sociales (*) | D80: {=IFERROR(VLOOKUP($A80,Filtro09!A10:Q58,2,FALSE),0)} -> 0 | E80: {=IFERROR(VLOOKUP($A80,Filtro09!A10:Q58,3,FALSE),0)} -> 0 | F80: {=IFERROR(VLOOKUP($A80,Filtro09!A10:Q58,4,FALSE),0)} -> 0 | G80: {=IFERROR(VLOOKUP($A80,Filtro09!A10:Q58,5,FALSE),0)} -> 0 | H80: {=IFERROR(VLOOKUP($A80,Filtro09!A10:Q58,6,FALSE),0)} -> 0 | I80: {=IFERROR(VLOOKUP($A80,Filtro09!A10:Q58,7,FALSE),0)} -> 0 | J80: {=IFERROR(VLOOKUP($A80,Filtro09!A10:Q58,8,FALSE),0)} -> 0 | K80: {=IFERROR(VLOOKUP($A80,Filtro09!A10:Q58,9,FALSE),0)} -> 0 | L80: {=IFERROR(VLOOKUP($A80,Filtro09!A10:Q58,10,FALSE),0)} -> 0 | M80: {=IFERROR(VLOOKUP($A80,Filtro09!A10:Q58,11,FALSE),0)} -> 0 | N80: {=IFERROR(VLOOKUP($A80,Filtro09!A10:Q58,12,FALSE),0)} -> 0 | O80: {=IFERROR(VLOOKUP($A80,Filtro09!A10:Q58,13,FALSE),0)} -> 0 | P80: {=IFERROR(VLOOKUP($A80,Filtro09!A10:Q58,14,FALSE),0)} -> 0 | Q80: {=IFERROR(VLOOKUP($A80,Filtro09!A10:Q58,15,FALSE),0)} -> 0 | R80: {=IFERROR(VLOOKUP($A80,Filtro09!A10:Q58,16,FALSE),0)} -> 0 | S80: =AB80&AC80&AD80&AE80&AF80&AG80 | AB80: =IF(AND($D80<>0,$E80="",$F80=""),"* No olvide ingresar la variable Hombres y/o Mujeres. Digite CERO si no tiene.",IF(SUM($E80+$F80)<>$D80, "*La suma Total de: "&$G$33&""&" + "&$N$33&""&" + "&$P$33&""&" debe ser igual a la suma de Hombres + Mujeres. ","")) | AI80: =IF(AND($D80<>0,$E80="",$F80=""),1,IF(SUM($E80+$F80)<>$D80,1,0)) -> 0
B81: Nota: (*) Información referencial, ya incluida en los subprogramas.
B83: Sección E: Existencia y movimiento total de productos (Intrasistema y Extrasistema)
B84: Productos | D84: Saldo Mes Anterior | E84: Ingresos | G84: Total Disponible | H84: Egresos | O84: Saldo mes siguiente
E85: Proveedor/Operador Logístico | F85: Por traspaso | H85: Distribuido a Población Beneficiaria | K85: Mermas (Incluye faltantes) | L85: Otros (demostraciones, donaciones, etc.) | M85: Traspaso | N85: Total Egresos
H86: Intrasistema | I86: Extrasistema | J86: Total
B87: Purita +Pro 1 (PP1) | G87: =SUM(D87:F87) -> 0 | H87: =D13+D18 -> 66254 | I87: =+D50+D55 -> 1195 | J87: =+H87+I87 -> 67449 | N87: =SUM(J87:M87) -> 67449 | O87: =G87-N87 -> -67449
B88: Purita +Pro 2 (PP2) | G88: =SUM(D88:F88) -> 0 | H88: =D14+D19 -> 120540 | I88: =+D51+D56 -> 1506 | J88: =+H88+I88 -> 122046 | N88: =SUM(J88:M88) -> 122046 | O88: =G88-N88 -> -122046
B89: Mi Sopita (MS) | G89: =SUM(D89:F89) -> 0 | H89: =D20+D26 -> 5320 | I89: =+D57+D63 -> 20 | J89: =+H89+I89 -> 5340 | N89: =SUM(J89:M89) -> 5340 | O89: =G89-N89 -> -5340
B90: Purita Mamá (PM) | G90: =SUM(D90:F90) -> 0 | H90: =+D15+D21 -> 30133 | I90: =+D52+D58 -> 43 | J90: =+H90+I90 -> 30176 | N90: =SUM(J90:M90) -> 30176 | O90: =G90-N90 -> -30176
B91: Fórmula de Inicio (FI) | G91: =SUM(D91:F91) -> 0 | H91: =D16+D22+D25 -> 42991.78 | I91: =+D53+D59+D62 -> 21.6 | J91: =+H91+I91 -> 43013.38 | N91: =SUM(J91:M91) -> 43013.38 | O91: =G91-N91 -> -43013.38
B92: Fórmula Prematuros | G92: =SUM(D92:F92) -> 0 | H92: =D24 -> 1357.76 | I92: =D61 -> 21.55 | J92: =+H92+I92 -> 1379.31 | N92: =SUM(J92:M92) -> 1379.31 | O92: =G92-N92 -> -1379.31
B93: Fórmula Extensamente Hidrolizada (FEH) | G93: =SUM(D93:F93) -> 0 | H93: =D28 -> 4524.8 | I93: =D65 -> 3624.8 | J93: =+H93+I93 -> 8149.6 | N93: =SUM(J93:M93) -> 8149.6 | O93: =G93-N93 -> -8149.6
B94: Fórmula aminoacídica (FAA) | G94: =SUM(D94:F94) -> 0 | H94: =D29 -> 2103.2 | I94: =D66 -> 1460.4 | J94: =+H94+I94 -> 3563.6 | N94: =SUM(J94:M94) -> 3563.6 | O94: =G94-N94 -> -3563.6
B95: TOTAL (Kg) | D95: =SUM(D87,D88:D94) -> 0 | E95: =SUM(E87,E88:E94) -> 0 | F95: =SUM(F87,F88:F94) -> 0 | G95: =SUM(G87,G88:G94) -> 0 | H95: =SUM(H87,H88:H94) -> 273224.54 | I95: =SUM(I87,I88:I94) -> 7892.35 | J95: =SUM(J87,J88:J94) -> 281116.89 | K95: =SUM(K87,K88:K94) -> 0 | ... O95: =SUM(O87,O88:O94) -> -281116.89
B110: =SUM(D13:D16,D18:D22,D24:D26,D28:D29,D37:D40,D42,D50:D53,D55:D59,D61:D63,D65:D66,D75:D78,D80,D87:D94) -> 421851.89 | C110: =SUM(AI13:AL80) -> 3
B148: =SUM(C8:R95) -> 3651087.4 | AG148: =SUM(AF1:AJ147) -> 3

Sheet D16
B1: SERVICIO DE SALUD
B2: COMUNA: ( )
B3: ESTABLECIMIENTO/ESTRATEGIA: ( )
B4: MES: ( )
B5: AÑO: 2026-2027
B7: REM-D.16. Programa de Alimentación Complementaria del Adulto Mayor (PACAM)
B9: Sección A: PACAM - Cantidad distribuida (kg)
B10: Grupo Programático | C10: Sopa/Crema | D10: Bebida Láctea
A11: 16090300 | B11: 70 años y más (independiente del motivo de ingreso) | C11: {=IFERROR(VLOOKUP($A11,Filtro09!A5:Q53,2,FALSE),0)} -> 243908 | D11: {=IFERROR(VLOOKUP($A11,Filtro09!A5:Q53,3,FALSE),0)} -> 243982 | E11: =$AB11 -> La cantidad distribuída de Sopa/Crema es distinta a la cantidad distribuída de Bebida Láctea.- | AB11: =IF(C11<>D11,"La cantidad distribuída de Sopa/Crema es distinta a la cantidad distribuída de Bebida Láctea.- ","") -> La cantidad distribuída de Sopa/Crema es distinta a la cantidad distribuída de Bebida Láctea.- | AD11: =IF($C11<>$D11,1,0) -> 1
A12: 16200210 | B12: 65 - 69 años con alteración de la funcionalidad | C12: {=IFERROR(VLOOKUP($A12,Filtro09!A6:Q54,2,FALSE),0)} -> 19940 | D12: {=IFERROR(VLOOKUP($A12,Filtro09!A6:Q54,3,FALSE),0)} -> 19962 | E12: =$AB12 -> La cantidad distribuída de Sopa/Crema es distinta a la cantidad distribuída de Bebida Láctea.- | AB12: =IF(C12<>D12,"La cantidad distribuída de Sopa/Crema es distinta a la cantidad distribuída de Bebida Láctea.- ","") -> La cantidad distribuída de Sopa/Crema es distinta a la cantidad distribuída de Bebida Láctea.- | AD12: =IF($C12<>$D12,1,0) -> 1
A13: 16090500 | B13: 65 - 69 años en programa social (Vínculos, Familia, Calle u otro) | C13: {=IFERROR(VLOOKUP($A13,Filtro09!A7:Q55,2,FALSE),0)} -> 295 | D13: {=IFERROR(VLOOKUP($A13,Filtro09!A7:Q55,3,FALSE),0)} -> 295 | E13: =$AB13 | AB13: =IF(C13<>D13,"La cantidad distribuída de Sopa/Crema es distinta a la cantidad distribuída de Bebida Láctea.- ","") | AD13: =IF($C13<>$D13,1,0) -> 0
A14: 16090600 | B14: 60 - 69 años con tuberculosis | C14: {=IFERROR(VLOOKUP($A14,Filtro09!A8:Q56,2,FALSE),0)} -> 69 | D14: {=IFERROR(VLOOKUP($A14,Filtro09!A8:Q56,3,FALSE),0)} -> 69 | E14: =$AB14 | AB14: =IF(C14<>D14,"La cantidad distribuída de Sopa/Crema es distinta a la cantidad distribuída de Bebida Láctea.- ","") | AD14: =IF($C14<>$D14,1,0) -> 0
A15: 16090100 | B15: 60 - 69 años en ELEAM autorizado o similar | C15: {=IFERROR(VLOOKUP($A15,Filtro09!A9:Q57,2,FALSE),0)} -> 2301 | D15: {=IFERROR(VLOOKUP($A15,Filtro09!A9:Q57,3,FALSE),0)} -> 2301 | E15: =$AB15 | AB15: =IF(C15<>D15,"La cantidad distribuída de Sopa/Crema es distinta a la cantidad distribuída de Bebida Láctea.- ","") | AD15: =IF($C15<>$D15,1,0) -> 0
B16: TOTAL | C16: =SUM(C11:C15) -> 266513 | D16: =SUM(D11:D15) -> 266609
B18: Sección B: PACAM - Número de personas que retiran
B19: Grupo Programático | C19: Sopa/Crema - Bebida Láctea
C20: Total | D20: Total Hombres | E20: Total Mujeres
A21: 16100300 | B21: 70 años y más (independiente del motivo de ingreso | C21: {=IFERROR(VLOOKUP($A21,Filtro09!A5:Q53,2,FALSE),0)} -> 244173 | D21: {=IFERROR(VLOOKUP($A21,Filtro09!A5:Q53,3,FALSE),0)} -> 101699 | E21: {=IFERROR(VLOOKUP($A21,Filtro09!A5:Q53,4,FALSE),0)} -> 142565 | F21: =$AB21 -> No olvide que el Nº de personas que retiran debe ser igual al promedio de Kilos que retiran en Seccion A. | AB21: =IF(((C11+D11)/2)<>((D21+E21))," No olvide que el Nº de personas que retiran debe ser igual al promedio de Kilos que retiran en Seccion A.","") -> No olvide que el Nº de personas que retiran debe ser igual al promedio de Kilos que retiran en Seccion A. | AD21: =IF(((C11+D11)/2)<>((D21+E21)),1,0) -> 1
A22: 16200220 | B22: 65 - 69 años con alteración de la funcionalidad | C22: {=IFERROR(VLOOKUP($A22,Filtro09!A6:Q54,2,FALSE),0)} -> 19930 | D22: {=IFERROR(VLOOKUP($A22,Filtro09!A6:Q54,3,FALSE),0)} -> 7223 | E22: {=IFERROR(VLOOKUP($A22,Filtro09!A6:Q54,4,FALSE),0)} -> 12707 | F22: =$AB22 -> No olvide que el Nº de personas que retiran debe ser igual al promedio de Kilos que retiran en Seccion A. | AB22: =IF(((C12+D12)/2)<>((D22+E22))," No olvide que el Nº de personas que retiran debe ser igual al promedio de Kilos que retiran en Seccion A.","") -> No olvide que el Nº de personas que retiran debe ser igual al promedio de Kilos que retiran en Seccion A. | AD22: =IF(((C12+D12)/2)<>((D22+E22)),1,0) -> 1
A23: 16100600 | B23: 65 - 69 años en programa social (Vínculos, Familia, Calle u otro) | C23: {=IFERROR(VLOOKUP($A23,Filtro09!A7:Q55,2,FALSE),0)} -> 295 | D23: {=IFERROR(VLOOKUP($A23,Filtro09!A7:Q55,3,FALSE),0)} -> 114 | E23: {=IFERROR(VLOOKUP($A23,Filtro09!A7:Q55,4,FALSE),0)} -> 181 | F23: =$AB23 | AB23: =IF(((C13+D13)/2)<>((D23+E23))," No olvide que el Nº de personas que retiran debe ser igual al promedio de Kilos que retiran en Seccion A.","") | AD23: =IF(((C13+D13)/2)<>((D23+E23)),1,0) -> 0
A24: 16100700 | B24: 60 - 69 años con tuberculosis | C24: {=IFERROR(VLOOKUP($A24,Filtro09!A8:Q56,2,FALSE),0)} -> 55 | D24: {=IFERROR(VLOOKUP($A24,Filtro09!A8:Q56,3,FALSE),0)} -> 37 | E24: {=IFERROR(VLOOKUP($A24,Filtro09!A8:Q56,4,FALSE),0)} -> 18 | F24: =$AB24 -> No olvide que el Nº de personas que retiran debe ser igual al promedio de Kilos que retiran en Seccion A. | AB24: =IF(((C14+D14)/2)<>((D24+E24))," No olvide que el Nº de personas que retiran debe ser igual al promedio de Kilos que retiran en Seccion A.","") -> No olvide que el Nº de personas que retiran debe ser igual al promedio de Kilos que retiran en Seccion A. | AD24: =IF(((C14+D14)/2)<>((D24+E24)),1,0) -> 1
A25: 16100100 | B25: 60 - 69 años en ELEAM autorizado o similar | C25: {=IFERROR(VLOOKUP($A25,Filtro09!A9:Q57,2,FALSE),0)} -> 2315 | D25: {=IFERROR(VLOOKUP($A25,Filtro09!A9:Q57,3,FALSE),0)} -> 1082 | E25: {=IFERROR(VLOOKUP($A25,Filtro09!A9:Q57,4,FALSE),0)} -> 1233 | F25: =$AB25 -> No olvide que el Nº de personas que retiran debe ser igual al promedio de Kilos que retiran en Seccion A. | AB25: =IF(((C15+D15)/2)<>((D25+E25))," No olvide que el Nº de personas que retiran debe ser igual al promedio de Kilos que retiran en Seccion A.","") -> No olvide que el Nº de personas que retiran debe ser igual al promedio de Kilos que retiran en Seccion A. | AD25: =IF(((C15+D15)/2)<>((D25+E25)),1,0) -> 1
B26: TOTAL | C26: =SUM(C21:C25) -> 266768 | D26: =SUM(D21:D25) -> 110155 | E26: =SUM(E21:E25) -> 156704
B28: Sección C: Existencia y movimiento de productos
B29: Productos | C29: Saldo mes anterior | D29: Ingresos | F29: Total disponible | G29: Egresos | L29: Saldo mes siguiente
D30: Proveedor/Operador Logístico | E30: Por traspaso | G30: Distribuido a población beneficiaria | H30: Mermas (Incluye faltantes) | I30: Otros: (demostraciones, donaciones, etc.) | J30: Traspaso | K30: Total egresos
B32: Sopa/Crema | F32: =SUM(C32:E32) -> 0 | G32: =C16 -> 266513 | K32: =SUM(G32:J32) -> 266513 | L32: =F32-K32 -> -266513
B33: Bebida Láctea | F33: =SUM(C33:E33) -> 0 | G33: =D16 -> 266609 | K33: =SUM(G33:J33) -> 266609 | L33: =F33-K33 -> -266609
B35: Sección D: PACAM - Número de personas que retiran, pertenecientes al PRAIS (incluidos en Sección B)
B36: Grupo Programático | C36: Sopa/Crema - Bebida Láctea
C37: Total | D37: Total Hombres | E37: Total Mujeres
A38: 16200100 | B38: 70 años y más (independiente del motivo de ingreso | C38: {=IFERROR(VLOOKUP($A38,Filtro09!A5:Q53,2,FALSE),0)} -> 5709 | D38: {=IFERROR(VLOOKUP($A38,Filtro09!A5:Q53,3,FALSE),0)} -> 2620 | E38: {=IFERROR(VLOOKUP($A38,Filtro09!A5:Q53,4,FALSE),0)} -> 3089
A39: 16200230 | B39: 65 - 69 años con alteración de la funcionalidad | C39: {=IFERROR(VLOOKUP($A39,Filtro09!A6:Q54,2,FALSE),0)} -> 228 | D39: {=IFERROR(VLOOKUP($A39,Filtro09!A6:Q54,3,FALSE),0)} -> 68 | E39: {=IFERROR(VLOOKUP($A39,Filtro09!A6:Q54,4,FALSE),0)} -> 160
A40: 16200240 | B40: 65 - 69 años en programa social (Vínculos, Familia, Calle u otro) | C40: {=IFERROR(VLOOKUP($A40,Filtro09!A7:Q55,2,FALSE),0)} -> 0 | D40: {=IFERROR(VLOOKUP($A40,Filtro09!A7:Q55,3,FALSE),0)} -> 0 | E40: {=IFERROR(VLOOKUP($A40,Filtro09!A7:Q55,4,FALSE),0)} -> 0
A41: 16200200 | B41: 60 - 69 años con tuberculosis | C41: {=IFERROR(VLOOKUP($A41,Filtro09!A8:Q56,2,FALSE),0)} -> 0 | D41: {=IFERROR(VLOOKUP($A41,Filtro09!A8:Q56,3,FALSE),0)} -> 0 | E41: {=IFERROR(VLOOKUP($A41,Filtro09!A8:Q56,4,FALSE),0)} -> 0
A42: 16200250 | B42: 60 - 69 años en ELEAM autorizado o similar | C42: {=IFERROR(VLOOKUP($A42,Filtro09!A9:Q57,2,FALSE),0)} -> 0 | D42: {=IFERROR(VLOOKUP($A42,Filtro09!A9:Q57,3,FALSE),0)} -> 0 | E42: {=IFERROR(VLOOKUP($A42,Filtro09!A9:Q57,4,FALSE),0)} -> 0
B43: TOTAL | C43: =SUM(C38:C42) -> 5937 | D43: =SUM(D38:D42) -> 2688 | E43: =SUM(E38:E42) -> 3249
B70: =SUM(C11:D15,D21:E25,C32:E33,H32:J33,D38:E42) -> 805918
B71: =SUM(AD11:AD25) -> 6

Sheet Filtro09
A1: Mes | B1: (Todas)
A2: comuna | B2: (Todas)
A3: establecimiento | B3: (Todas)
A5: Etiquetas de fila | B5: Suma de Col01 | C5: Suma de Col02 | D5: Suma de Col03 | E5: Suma de Col04 | F5: Suma de Col05 | G5: Suma de Col06 | H5: Suma de Col07 | I5: Suma de Col08 | J5: Suma de Col09 | K5: Suma de Col10 | L5: Suma de Col11 | M5: Suma de Col12 | N5: Suma de Col13 | O5: Suma de Col14 | P5: Suma de Col15 | Q5: Suma de Col16
A6: 15010500 | B6: 5313 | D6: 20 | E6: 786 | F6: 547 | G6: 499 | H6: 2044 | I6: 1417
A7: 15020500 | B7: 20 | D7: 0 | E7: 4 | F7: 2 | G7: 4 | H7: 6 | I7: 4
A8: 15030100 | B8: 1357.76 | C8: 471.04 | D8: 452.42 | E8: 434.3
A9: 15040100 | B9: 21.55 | C9: 5.27 | D9: 16.28
A10: 15050100 | B10: 132341 | C10: 54618 | D10: 77721 | E10: 1704 | F10: 3526 | G10: 10268 | H10: 15348 | I10: 15508 | J10: 34139 | K10: 26056 | L10: 15928 | N10: 4016 | O10: 1977 | P10: 3871
A11: 15050200 | B11: 3192 | C11: 1730 | D11: 1462 | E11: 90 | F11: 97 | G11: 418 | H11: 291 | I11: 302 | J11: 1087 | K11: 743 | M11: 141 | N11: 9 | O11: 5 | P11: 9
A12: 15050500 | B12: 542 | C12: 209 | D12: 341 | E12: 120 | F12: 150 | G12: 272
A13: 15060100 | B13: 1386 | C13: 652 | D13: 734 | E13: 17 | F13: 20 | G13: 102 | H13: 217 | I13: 246 | J13: 464 | K13: 288 | L13: 12 | N13: 6 | O13: 4 | P13: 10
A14: 15060200 | B14: 15 | C14: 8 | D14: 7 | E14: 0 | F14: 0 | G14: 2 | H14: 1 | I14: 2 | J14: 5 | K14: 2 | M14: 2 | N14: 0 | O14: 0 | P14: 1
A15: 15060600 | B15: 9 | C15: 5 | D15: 4 | E15: 1 | F15: 4 | G15: 4
A16: 15080008 | B16: 29583 | J16: 16181 | L16: 7594 | M16: 1967 | N16: 3841
A17: 15080009 | B17: 550 | K17: 446 | L17: 65 | M17: 16 | N17: 23
A18: 15080010 | B18: 40 | J18: 12 | L18: 12 | M18: 5 | N18: 11
A19: 15080011 | B19: 3 | K19: 3
A20: 15080012 | B20: 7 | D20: 1 | E20: 6
A21: 15080014 | B21: 61708 | F21: 30758 | G21: 30950
A22: 15080015 | B22: 120528 | H22: 68451 | I22: 51360 | J22: 481 | L22: 159 | M22: 35 | N22: 42
A23: 15080016 | B23: 4546 | F23: 550 | G23: 575 | H23: 2031 | I23: 1390
A24: 15080017 | B24: 12 | K24: 6 | L24: 6
A25: 15080018 | B25: 1177 | C25: 30 | D25: 37 | E25: 194 | F25: 436 | G25: 480
A26: 15080019 | B26: 1506 | H26: 926 | I26: 579 | J26: 1 | L26: 0 | M26: 0 | N26: 0
A27: 15080020 | B27: 18 | C27: 0 | D27: 0 | E27: 2 | F27: 2 | G27: 6 | H27: 4 | I27: 4
A28: 15900010 | B28: 39924.28 | C28: 3668.28 | D28: 9665.2 | E28: 26590.8
A29: 15900020 | B29: 1936.2 | C29: 270.2 | D29: 369.7 | E29: 1296.3
A30: 15900030 | B30: 4524.8 | C30: 189.6 | D30: 618.4 | E30: 1746 | F30: 1081.2 | G30: 681.2 | H30: 190.4 | I30: 18
A31: 15900040 | B31: 2103.2 | C31: 109.6 | D31: 352.4 | E31: 934 | F31: 413.2 | G31: 244.4 | H31: 43.6 | I31: 6
A32: 15900050 | B32: 1892 | C32: 952 | D32: 918 | E32: 89 | F32: 267 | G32: 739 | H32: 445 | I32: 261 | J32: 79 | K32: 12
A33: 15900070 | B33: 2.4 | D33: 2.4
A34: 15900080 | B34: 4.8 | E34: 4.8
A35: 15901200 | B35: 3624.8 | C35: 251.2 | D35: 566.4 | E35: 1365.6 | F35: 836.8 | G35: 513.6 | H35: 91.2 | I35: 0
A36: 15901300 | B36: 1460.4 | C36: 82 | D36: 339.6 | E36: 634.8 | F36: 294 | G36: 96.8 | H36: 13.2 | I36: 0
A37: 15901400 | B37: 1358 | C37: 746 | D37: 612 | E37: 94 | F37: 239 | G37: 536 | H37: 297 | I37: 166 | J37: 26 | K37: 0
A38: 15901500 | B38: 1131.3 | C38: 36.5 | D38: 230.1 | E38: 864.7
A39: 15901600 | B39: 14.4 | D39: 9.6 | E39: 4.8
A40: 16090100 | B40: 2301 | C40: 2301
A41: 16090300 | B41: 243908 | C41: 243982
A42: 16090500 | B42: 295 | C42: 295
A43: 16090600 | B43: 69 | C43: 69
A44: 16100100 | B44: 2315 | C44: 1082 | D44: 1233
A45: 16100300 | B45: 244173 | C45: 101699 | D45: 142565
A46: 16100600 | B46: 295 | C46: 114 | D46: 181
A47: 16100700 | B47: 55 | C47: 37 | D47: 18
A48: 16200100 | B48: 5709 | C48: 2620 | D48: 3089
A49: 16200210 | B49: 19940 | C49: 19962
A50: 16200220 | B50: 19930 | C50: 7223 | D50: 12707
A51: 16200230 | B51: 228 | C51: 68 | D51: 160
A52: (en blanco)
A53: Total general | B53: 961069.89 | C53: 443485.69 | D53: 254432.5 | E53: 36983.1 | F53: 39223.2 | G53: 46391 | H53: 90399.4 | I53: 71263 | J53: 52475 | K53: 27556 | L53: 23776 | M53: 2166 | N53: 7948 | O53: 1986 | P53: 3891

Sheet Filtro08
A1: Mes | B1: (Todas)
A2: establecimiento | B2: (Todas)
A3: comuna | B3: (Todas)
A5: Etiquetas de fila | B5: Suma de Col01 | C5: Suma de Col02 | D5: Suma de Col03 | E5: Suma de Col04 | F5: Suma de Col05 | G5: Suma de Col06 | H5: Suma de Col07 | I5: Suma de Col08 | J5: Suma de Col09 | K5: Suma de Col10 | L5: Suma de Col11 | M5: Suma de Col12 | N5: Suma de Col13 | O5: Suma de Col14 | P5: Suma de Col15 | Q5: Suma de Col16 | R5: Cuenta de Col17 | S5: Cuenta de Col18
A6: 15010500 | B6: 4767 | D6: 20 | E6: 708 | F6: 495 | G6: 445 | H6: 1844 | I6: 1255
A7: 15020500 | B7: 18 | D7: 0 | E7: 4 | F7: 2 | G7: 4 | H7: 6 | I7: 2
A8: 15030100 | B8: 1238.64 | C8: 425.61 | D8: 423.56 | E8: 389.47
A9: 15040100 | B9: 21.55 | C9: 5.27 | D9: 16.28
A10: 15050100 | B10: 118114 | C10: 48674 | D10: 69438 | E10: 1516 | F10: 3156 | G10: 9160 | H10: 13660 | I10: 13904 | J10: 30465 | K10: 23153 | L10: 14270 | N10: 3605 | O10: 1762 | P10: 3463
A11: 15050200 | B11: 2816 | C11: 1517 | D11: 1299 | E11: 73 | F11: 85 | G11: 372 | H11: 260 | I11: 258 | J11: 969 | K11: 651 | M11: 128 | N11: 7 | O11: 5 | P11: 8
A12: 15050500 | B12: 495 | C12: 191 | D12: 312 | E12: 109 | F12: 139 | G12: 247
A13: 15060100 | B13: 1238 | C13: 578 | D13: 660 | E13: 16 | F13: 18 | G13: 96 | H13: 189 | I13: 224 | J13: 411 | K13: 257 | L13: 10 | N13: 6 | O13: 3 | P13: 8
A14: 15060200 | B14: 13 | C14: 8 | D14: 5 | E14: 0 | F14: 0 | G14: 2 | H14: 1 | I14: 2 | J14: 5 | K14: 1 | M14: 1 | N14: 0 | O14: 0 | P14: 1
A15: 15060600 | B15: 9 | C15: 5 | D15: 4 | E15: 1 | F15: 4 | G15: 4
A16: 15080008 | B16: 26474 | J16: 14475 | L16: 6815 | M16: 1753 | N16: 3431
A17: 15080009 | B17: 465 | K17: 368 | L17: 59 | M17: 16 | N17: 22
A18: 15080010 | B18: 35 | J18: 10 | L18: 12 | M18: 4 | N18: 9
A19: 15080012 | B19: 6 | D19: 0 | E19: 6
A20: 15080014 | B20: 55132 | F20: 27378 | G20: 27754
A21: 15080015 | B21: 107437 | H21: 61116 | I21: 45657 | J21: 445 | L21: 144 | M21: 33 | N21: 42
A22: 15080016 | B22: 4056 | F22: 482 | G22: 495 | H22: 1837 | I22: 1242
A23: 15080017 | B23: 12 | K23: 6 | L23: 6
A24: 15080018 | B24: 1069 | C24: 28 | D24: 35 | E24: 182 | F24: 382 | G24: 442
A25: 15080019 | B25: 1328 | H25: 824 | I25: 503 | J25: 1 | L25: 0 | M25: 0 | N25: 0
A26: 15080020 | B26: 16 | C26: 0 | D26: 0 | E26: 2 | F26: 2 | G26: 6 | H26: 4 | I26: 2
A27: 15900010 | B27: 35309.68 | C27: 3212.08 | D27: 8556.8 | E27: 23540.8
A28: 15900020 | B28: 1752 | C28: 239.2 | D28: 331.2 | E28: 1181.6
A29: 15900030 | B29: 3986.8 | C29: 148.8 | D29: 534 | E29: 1550.4 | F29: 982 | G29: 593.6 | H29: 162.8 | I29: 15.2
A30: 15900040 | B30: 1807.2 | C30: 87.6 | D30: 310 | E30: 812.8 | F30: 342.8 | G30: 212.4 | H30: 36.8 | I30: 4.8
A31: 15900050 | B31: 1660 | C31: 826 | D31: 812 | E31: 71 | F31: 229 | G31: 656 | H31: 399 | I31: 226 | J31: 69 | K31: 10
A32: 15900080 | B32: 4.8 | E32: 4.8
A33: 15901200 | B33: 3150.4 | C33: 211.2 | D33: 494 | E33: 1196.8 | F33: 715.2 | G33: 454.4 | H33: 78.8 | I33: 0
A34: 15901300 | B34: 1287.2 | C34: 70.8 | D34: 297.2 | E34: 575.2 | F34: 244.8 | G34: 86 | H34: 13.2 | I34: 0
A35: 15901400 | B35: 1192 | C35: 650 | D35: 542 | E35: 82 | F35: 209 | G35: 482 | H35: 253 | I35: 144 | J35: 22 | K35: 0
A36: 15901500 | B36: 1030.4 | C36: 32 | D36: 208.8 | E36: 789.6
A37: 15901600 | B37: 14.4 | D37: 9.6 | E37: 4.8
A38: 16090100 | B38: 2018 | C38: 2018
A39: 16090300 | B39: 217058 | C39: 217132
A40: 16090500 | B40: 273 | C40: 273
A41: 16090600 | B41: 65 | C41: 65
A42: 16100100 | B42: 2032 | C42: 948 | D42: 1084
A43: 16100300 | B43: 217259 | C43: 90396 | D43: 126954
A44: 16100600 | B44: 273 | C44: 104 | D44: 169
A45: 16100700 | B45: 51 | C45: 34 | D45: 17
A46: 16200100 | B46: 4950 | C46: 2285 | D46: 2665
A47: 16200210 | B47: 17692 | C47: 17714
A48: 16200220 | B48: 17678 | C48: 6399 | D48: 11279
A49: 16200230 | B49: 200 | C49: 60 | D49: 140
A50: (en blanco)
A51: Total general | B51: 855504.07 | C51: 394337.56 | D51: 226616.44 | E51: 32816.27 | F51: 34865.8 | G51: 41511.4 | H51: 80684.6 | I51: 63439 | J51: 46872 | K51: 24446 | L51: 21316 | M51: 1935 | N51: 7122 | O51: 1770 | P51: 3480
