Workbook

Sheet FILTRO
A1: Mes | B1: (Todas)
A2: Comuna/Hospital | B2: (Todas)
A4: Etiquetas de fila | B4: Suma de Col01 | C4: Suma de Col02 | D4: Suma de Col03 | E4: Suma de Col04 | F4: Suma de Col05 | G4: Suma de Col06 | H4: Suma de Col07 | I4: Suma de Col08 | J4: Suma de Col09 | K4: Suma de Col10 | L4: Suma de Col11 | M4: Suma de Col12 | N4: Suma de Col13 | O4: Cuenta de Col14 | P4: Cuenta de Col15 | Q4: Cuenta de Col16 | R4: Cuenta de Col17 | S4: Cuenta de Col18 | T4: Cuenta de Col19 | U4: Cuenta de Col20 | V4: Cuenta de Col21 | W4: Cuenta de Col22
A5: 15010100 | B5: 119431 | C5: 707 | D5: 3160 | E5: 57800 | F5: 57656 | G5: 8 | H5: 20 | I5: 20 | J5: 29 | K5: 3 | L5: 24 | M5: 4 | N5: 0
A6: 15010200 | B6: 259977 | G6: 53101 | H6: 109341 | I6: 97535
A7: 15010300 | B7: 5096 | C7: 40 | D7: 333 | E7: 3351 | F7: 1361 | G7: 0 | H7: 2 | I7: 0 | J7: 0 | K7: 9 | L7: 0 | M7: 0 | N7: 0
A8: 15010400 | B8: 6861 | G8: 1010 | H8: 3495 | I8: 2356
A9: 15010500 | B9: 10513 | D9: 38 | E9: 2233 | F9: 1354 | G9: 1024 | H9: 3496 | I9: 2368
A10: 15020100 | B10: 7311 | C10: 109 | D10: 445 | E10: 3022 | F10: 3735 | G10: 0 | H10: 0 | I10: 0 | J10: 0 | K10: 0 | L10: 0 | M10: 0 | N10: 0
A11: 15020200 | B11: 13146 | G11: 3300 | H11: 5854 | I11: 3992
A12: 15020300 | B12: 57 | C12: 2 | D12: 2 | E12: 26 | F12: 27
A13: 15020400 | B13: 146 | G13: 10 | H13: 78 | I13: 58
A14: 15020500 | B14: 180 | E14: 20 | F14: 18 | G14: 8 | H14: 72 | I14: 62
A15: 15030100 | B15: 121974.73 | C15: 46859.09 | D15: 43087.66 | E15: 32027.98
A16: 15030200 | B16: 35300.3 | E16: 35300.3
A17: 15040100 | B17: 9681.66 | C17: 5926.66 | D17: 3738.48 | E17: 16.52
A18: 15040200 | B18: 23.4 | E18: 23.4
A19: 15050100 | B19: 234889 | C19: 458 | D19: 1778 | E19: 28858 | F19: 28868 | G19: 26505 | H19: 54673 | I19: 49548 | J19: 27291 | L19: 16188 | M19: 713 | N19: 9
A20: 15050200 | B20: 6945 | C20: 28 | D20: 126 | E20: 1139 | F20: 672 | G20: 517 | H20: 1755 | I20: 1190 | K20: 1305 | L20: 161 | M20: 45 | N20: 7
A21: 15050500 | B21: 1435 | C21: 241 | D21: 264 | E21: 506 | F21: 196 | G21: 228
A22: 15060100 | B22: 10672 | C22: 63 | D22: 246 | E22: 1512 | F22: 1857 | G22: 1661 | H22: 2958 | I22: 2048 | J22: 64 | L22: 197 | M22: 65 | N22: 1
A23: 15060200 | B23: 99 | C23: 2 | D23: 1 | E23: 8 | F23: 9 | G23: 4 | H23: 38 | I23: 33 | K23: 2 | L23: 0 | M23: 2 | N23: 0
A24: 15060600 | B24: 39 | C24: 4 | D24: 10 | E24: 11 | F24: 11 | G24: 3
A25: 15080002 | C25: 3
A26: 15080004 | B26: 1 | C26: 35
A27: 15080006 | B27: 906 | F27: 410 | G27: 496
A28: 15080007 | B28: 24 | F28: 18 | G28: 6
A29: 15080008 | B29: 60349 | J29: 27263 | L29: 32368 | M29: 709 | N29: 9
A30: 15080009 | B30: 4360 | K30: 3794 | L30: 465 | M30: 89 | N30: 12
A31: 15080010 | B31: 524 | J31: 64 | L31: 394 | M31: 65 | N31: 1
A32: 15080011 | B32: 8 | K32: 6 | M32: 2
A33: 15080012 | B33: 119 | D33: 1 | E33: 36 | F33: 42 | G33: 40
A34: 15900010 | B34: 2.4 | D34: 2.4
A35: 15900020 | B35: 19.2 | C35: 3.2 | D35: 12.8 | E35: 3.2
A36: 15900030 | B36: 55811.49 | C36: 109.59 | D36: 25880.9 | E36: 11738.2 | F36: 13530.6 | G36: 4552.2
A37: 15900040 | B37: 3964.1 | C37: 69.2 | D37: 189.6 | E37: 3207.2 | F37: 346 | G37: 152.1
A38: 15900050 | B38: 1154 | C38: 52 | D38: 136 | E38: 423 | F38: 333 | G38: 210
A39: 15901200 | B39: 21203.7 | C39: 29.65 | D39: 4490.3 | E39: 12857.3 | F39: 3760.7 | G39: 65.75
A40: 15901300 | B40: 10331.2 | C40: 6.4 | D40: 55.6 | E40: 2958.8 | F40: 2854 | G40: 4456.4
A41: 15901400 | B41: 274 | C41: 12 | D41: 45 | E41: 118 | F41: 65 | G41: 34
...

Sheet D15
B7: REM-D.15 - Programa Nacional de Alimentación Complementaria (PNAC)
B8: Sección A: PNAC - Cantidad distribuida (kg) a personas intrasistema
B9: Subprogramas | C9: Productos | D9: Total | E9: Menores a 6 años | L9: Gestantes | N9: Madre con hijo/a menor a 6 meses
E10: 0 - 2 meses | F10: 3 - 5 meses | G10: 6 - 11 meses | H10: 12 - 17 meses | I10: 18 - 23 meses | J10: 24 - 47 meses | K10: 48 - 71 meses | L10: Normal, sobrepeso y obesas | M10: Bajo peso | N10: Lactancia materna exclusiva | O10: Lactancia materna predominante | P10: Fórmula predominante o exclusiva
A13: 15010100 | B13: Básico | C13: Leche Purita Fortificada (LPF) | D13: =IFERROR(VLOOKUP($A13,FILTRO!$A$4:$W$56,2,FALSE),0) -> 119431 | E13: =IFERROR(VLOOKUP($A13,FILTRO!$A$4:$W$56,3,FALSE),0) -> 707 | F13: =IFERROR(VLOOKUP($A13,FILTRO!$A$4:$W$56,4,FALSE),0) -> 3160 | G13: =IFERROR(VLOOKUP($A13,FILTRO!$A$4:$W$56,5,FALSE),0) -> 57800 | H13: =IFERROR(VLOOKUP($A13,FILTRO!$A$4:$W$56,6,FALSE),0) -> 57656 | I13: =IFERROR(VLOOKUP($A13,FILTRO!$A$4:$W$56,7,FALSE),0) -> 8 | J13: =IFERROR(VLOOKUP($A13,FILTRO!$A$4:$W$56,8,FALSE),0) -> 20 | K13: =IFERROR(VLOOKUP($A13,FILTRO!$A$4:$W$56,9,FALSE),0) -> 20 | L13: =IFERROR(VLOOKUP($A13,FILTRO!$A$4:$W$56,10,FALSE),0) -> 29 | M13: =IFERROR(VLOOKUP($A13,FILTRO!$A$4:$W$56,11,FALSE),0) -> 3 | N13: =IFERROR(VLOOKUP($A13,FILTRO!$A$4:$W$56,12,FALSE),0) -> 24 | O13: =IFERROR(VLOOKUP($A13,FILTRO!$A$4:$W$56,13,FALSE),0) -> 4 | P13: =IFERROR(VLOOKUP($A13,FILTRO!$A$4:$W$56,14,FALSE),0) -> 0
A14: 15010200 | C14: Purita Cereal (PC) | D14: =IFERROR(VLOOKUP($A14,FILTRO!$A$4:$W$56,2,FALSE),0) -> 259977 | E14: =IFERROR(VLOOKUP($A14,FILTRO!$A$4:$W$56,3,FALSE),0) -> 0 | F14: =IFERROR(VLOOKUP($A14,FILTRO!$A$4:$W$56,4,FALSE),0) -> 0 | G14: =IFERROR(VLOOKUP($A14,FILTRO!$A$4:$W$56,5,FALSE),0) -> 0 | H14: =IFERROR(VLOOKUP($A14,FILTRO!$A$4:$W$56,6,FALSE),0) -> 0 | I14: =IFERROR(VLOOKUP($A14,FILTRO!$A$4:$W$56,7,FALSE),0) -> 53101 | J14: =IFERROR(VLOOKUP($A14,FILTRO!$A$4:$W$56,8,FALSE),0) -> 109341 | K14: =IFERROR(VLOOKUP($A14,FILTRO!$A$4:$W$56,9,FALSE),0) -> 97535 | L14: =IFERROR(VLOOKUP($A14,FILTRO!$A$4:$W$56,10,FALSE),0) -> 0 | M14: =IFERROR(VLOOKUP($A14,FILTRO!$A$4:$W$56,11,FALSE),0) -> 0 | N14: =IFERROR(VLOOKUP($A14,FILTRO!$A$4:$W$56,12,FALSE),0) -> 0 | O14: =IFERROR(VLOOKUP($A14,FILTRO!$A$4:$W$56,13,FALSE),0) -> 0 | P14: =IFERROR(VLOOKUP($A14,FILTRO!$A$4:$W$56,14,FALSE),0) -> 0
A15: 15080008 | C15: Purita Mamá (PM) | D15: =IFERROR(VLOOKUP($A15,FILTRO!$A$4:$W$56,2,FALSE),0) -> 60349 | E15: =IFERROR(VLOOKUP($A15,FILTRO!$A$4:$W$56,3,FALSE),0) -> 0 | F15: =IFERROR(VLOOKUP($A15,FILTRO!$A$4:$W$56,4,FALSE),0) -> 0 | G15: =IFERROR(VLOOKUP($A15,FILTRO!$A$4:$W$56,5,FALSE),0) -> 0 | H15: =IFERROR(VLOOKUP($A15,FILTRO!$A$4:$W$56,6,FALSE),0) -> 0 | I15: =IFERROR(VLOOKUP($A15,FILTRO!$A$4:$W$56,7,FALSE),0) -> 0 | J15: =IFERROR(VLOOKUP($A15,FILTRO!$A$4:$W$56,8,FALSE),0) -> 0 | K15: =IFERROR(VLOOKUP($A15,FILTRO!$A$4:$W$56,9,FALSE),0) -> 0 | L15: =IFERROR(VLOOKUP($A15,FILTRO!$A$4:$W$56,10,FALSE),0) -> 27263 | M15: =IFERROR(VLOOKUP($A15,FILTRO!$A$4:$W$56,11,FALSE),0) -> 0 | N15: =IFERROR(VLOOKUP($A15,FILTRO!$A$4:$W$56,12,FALSE),0) -> 32368 | O15: =IFERROR(VLOOKUP($A15,FILTRO!$A$4:$W$56,13,FALSE),0) -> 709 | P15: =IFERROR(VLOOKUP($A15,FILTRO!$A$4:$W$56,14,FALSE),0) -> 9 | AB15: =IF(L13+L15=L38,""," No olvide escribir el Nº Correcto según kg por persona que retira alimento de la sección B en el grupo de Gestantes Normal, Sobrepeso y Obesas") -> No olvide escribir el Nº Correcto según kg por persona que retira alimento de la sección B en el grupo de Gestantes Normal, Sobrepeso y Obesas | AC15: =IF(N13+N15=(N38*2),"","No olvide escribir el Nº Correcto según kg por persona que retira alimento de la sección B en el grupo de Madre con hijo/a menor a 6 meses con Lactancia materna exclusiva") -> No olvide escribir el Nº Correcto según kg por persona que retira alimento de la sección B en el grupo de Madre con hijo/a menor a 6 meses con Lactancia materna exclusiva | AD15: =IF(O13+O15=O38,"","No olvide escribir el Nº Correcto según kg por persona que retira alimento de la sección B en el grupo de Madre con hijo/a menor a 6 meses con Lactancia materna predominante") | AE15: =IF(P13+P15=P38,"","No olvide escribir el Nº Correcto según kg por persona que retira alimento de la sección B en el grupo de Madre con hijo/a menor a 6 meses con Formula predominantes o exclusiva") | AG15: =IF(L15=L38,0,1) -> 1 | AH15: =IF(N15=(N38*2),0,1) -> 1 | AI15: =IF(O15=O38,0,1) -> 1 | AJ15: =IF(P15=P38,0,1) -> 0
A16: 15900010 | C16: Fórmula de Inicio (FI) | D16: =IFERROR(VLOOKUP($A16,FILTRO!$A$4:$W$56,2,FALSE),0) -> 2.4 | E16: =IFERROR(VLOOKUP($A16,FILTRO!$A$4:$W$56,3,FALSE),0) -> 0 | F16: =IFERROR(VLOOKUP($A16,FILTRO!$A$4:$W$56,4,FALSE),0) -> 2.4 | G16: =IFERROR(VLOOKUP($A16,FILTRO!$A$4:$W$56,5,FALSE),0) -> 0 | H16: =IFERROR(VLOOKUP($A16,FILTRO!$A$4:$W$56,6,FALSE),0) -> 0 | I16: =IFERROR(VLOOKUP($A16,FILTRO!$A$4:$W$56,7,FALSE),0) -> 0 | J16: =IFERROR(VLOOKUP($A16,FILTRO!$A$4:$W$56,8,FALSE),0) -> 0 | K16: =IFERROR(VLOOKUP($A16,FILTRO!$A$4:$W$56,9,FALSE),0) -> 0 | L16: =IFERROR(VLOOKUP($A16,FILTRO!$A$4:$W$56,10,FALSE),0) -> 0 | M16: =IFERROR(VLOOKUP($A16,FILTRO!$A$4:$W$56,11,FALSE),0) -> 0 | N16: =IFERROR(VLOOKUP($A16,FILTRO!$A$4:$W$56,12,FALSE),0) -> 0 | O16: =IFERROR(VLOOKUP($A16,FILTRO!$A$4:$W$56,13,FALSE),0) -> 0 | P16: =IFERROR(VLOOKUP($A16,FILTRO!$A$4:$W$56,14,FALSE),0) -> 0
C17: Subtotal | D17: =SUM(E17:P17) -> 439759.4 | E17: =SUM(E13:E16) -> 707 | F17: =SUM(F13:F16) -> 3162.4 | G17: =SUM(G13:G16) -> 57800 | H17: =SUM(H13:H16) -> 57656 | I17: =SUM(I13:I16) -> 53109 | J17: =SUM(J13:J16) -> 109361 | K17: =SUM(K13:K16) -> 97555 | L17: =SUM(L13:L16) -> 27292 | ... P17: =SUM(P13:P16) -> 9
A18: 15010300 | B18: Refuerzo | C18: Leche Purita Fortificada (LPF) | D18: =IFERROR(VLOOKUP($A18,FILTRO!$A$4:$W$56,2,FALSE),0) -> 5096 | E18: =IFERROR(VLOOKUP($A18,FILTRO!$A$4:$W$56,3,FALSE),0) -> 40 | F18: =IFERROR(VLOOKUP($A18,FILTRO!$A$4:$W$56,4,FALSE),0) -> 333 | G18: =IFERROR(VLOOKUP($A18,FILTRO!$A$4:$W$56,5,FALSE),0) -> 3351 | H18: =IFERROR(VLOOKUP($A18,FILTRO!$A$4:$W$56,6,FALSE),0) -> 1361 | I18: =IFERROR(VLOOKUP($A18,FILTRO!$A$4:$W$56,7,FALSE),0) -> 0 | J18: =IFERROR(VLOOKUP($A18,FILTRO!$A$4:$W$56,8,FALSE),0) -> 2 | K18: =IFERROR(VLOOKUP($A18,FILTRO!$A$4:$W$56,9,FALSE),0) -> 0 | L18: =IFERROR(VLOOKUP($A18,FILTRO!$A$4:$W$56,10,FALSE),0) -> 0 | M18: =IFERROR(VLOOKUP($A18,FILTRO!$A$4:$W$56,11,FALSE),0) -> 9 | N18: =IFERROR(VLOOKUP($A18,FILTRO!$A$4:$W$56,12,FALSE),0) -> 0 | O18: =IFERROR(VLOOKUP($A18,FILTRO!$A$4:$W$56,13,FALSE),0) -> 0 | P18: =IFERROR(VLOOKUP($A18,FILTRO!$A$4:$W$56,14,FALSE),0) -> 0 | AB18: =IF(L18 = L23, "","el valor de la Leche Purita Fortificada (LPF) deben ser igual al subotal Normal, sobrepeso y obesas del gestante")
A19: 15010400 | C19: Purita Cereal (PC) | D19: =IFERROR(VLOOKUP($A19,FILTRO!$A$4:$W$56,2,FALSE),0) -> 6861 | E19: =IFERROR(VLOOKUP($A19,FILTRO!$A$4:$W$56,3,FALSE),0) -> 0 | F19: =IFERROR(VLOOKUP($A19,FILTRO!$A$4:$W$56,4,FALSE),0) -> 0 | G19: =IFERROR(VLOOKUP($A19,FILTRO!$A$4:$W$56,5,FALSE),0) -> 0 | H19: =IFERROR(VLOOKUP($A19,FILTRO!$A$4:$W$56,6,FALSE),0) -> 0 | I19: =IFERROR(VLOOKUP($A19,FILTRO!$A$4:$W$56,7,FALSE),0) -> 1010 | J19: =IFERROR(VLOOKUP($A19,FILTRO!$A$4:$W$56,8,FALSE),0) -> 3495 | K19: =IFERROR(VLOOKUP($A19,FILTRO!$A$4:$W$56,9,FALSE),0) -> 2356 | L19: =IFERROR(VLOOKUP($A19,FILTRO!$A$4:$W$56,10,FALSE),0) -> 0 | M19: =IFERROR(VLOOKUP($A19,FILTRO!$A$4:$W$56,11,FALSE),0) -> 0 | N19: =IFERROR(VLOOKUP($A19,FILTRO!$A$4:$W$56,12,FALSE),0) -> 0 | O19: =IFERROR(VLOOKUP($A19,FILTRO!$A$4:$W$56,13,FALSE),0) -> 0 | P19: =IFERROR(VLOOKUP($A19,FILTRO!$A$4:$W$56,14,FALSE),0) -> 0
A20: 15010500 | C20: Mi Sopita (MS) | D20: =IFERROR(VLOOKUP($A20,FILTRO!$A$4:$W$56,2,FALSE),0) -> 10513 | E20: =IFERROR(VLOOKUP($A20,FILTRO!$A$4:$W$56,3,FALSE),0) -> 0 | F20: =IFERROR(VLOOKUP($A20,FILTRO!$A$4:$W$56,4,FALSE),0) -> 38 | G20: =IFERROR(VLOOKUP($A20,FILTRO!$A$4:$W$56,5,FALSE),0) -> 2233 | H20: =IFERROR(VLOOKUP($A20,FILTRO!$A$4:$W$56,6,FALSE),0) -> 1354 | I20: =IFERROR(VLOOKUP($A20,FILTRO!$A$4:$W$56,7,FALSE),0) -> 1024 | J20: =IFERROR(VLOOKUP($A20,FILTRO!$A$4:$W$56,8,FALSE),0) -> 3496 | K20: =IFERROR(VLOOKUP($A20,FILTRO!$A$4:$W$56,9,FALSE),0) -> 2368 | L20: =IFERROR(VLOOKUP($A20,FILTRO!$A$4:$W$56,10,FALSE),0) -> 0 | M20: =IFERROR(VLOOKUP($A20,FILTRO!$A$4:$W$56,11,FALSE),0) -> 0 | N20: =IFERROR(VLOOKUP($A20,FILTRO!$A$4:$W$56,12,FALSE),0) -> 0 | O20: =IFERROR(VLOOKUP($A20,FILTRO!$A$4:$W$56,13,FALSE),0) -> 0 | P20: =IFERROR(VLOOKUP($A20,FILTRO!$A$4:$W$56,14,FALSE),0) -> 0
A21: 15080009 | C21: Purita Mamá (PM) | D21: =IFERROR(VLOOKUP($A21,FILTRO!$A$4:$W$56,2,FALSE),0) -> 4360 | E21: =IFERROR(VLOOKUP($A21,FILTRO!$A$4:$W$56,3,FALSE),0) -> 0 | F21: =IFERROR(VLOOKUP($A21,FILTRO!$A$4:$W$56,4,FALSE),0) -> 0 | G21: =IFERROR(VLOOKUP($A21,FILTRO!$A$4:$W$56,5,FALSE),0) -> 0 | H21: =IFERROR(VLOOKUP($A21,FILTRO!$A$4:$W$56,6,FALSE),0) -> 0 | I21: =IFERROR(VLOOKUP($A21,FILTRO!$A$4:$W$56,7,FALSE),0) -> 0 | J21: =IFERROR(VLOOKUP($A21,FILTRO!$A$4:$W$56,8,FALSE),0) -> 0 | K21: =IFERROR(VLOOKUP($A21,FILTRO!$A$4:$W$56,9,FALSE),0) -> 0 | L21: =IFERROR(VLOOKUP($A21,FILTRO!$A$4:$W$56,10,FALSE),0) -> 0 | M21: =IFERROR(VLOOKUP($A21,FILTRO!$A$4:$W$56,11,FALSE),0) -> 3794 | N21: =IFERROR(VLOOKUP($A21,FILTRO!$A$4:$W$56,12,FALSE),0) -> 465 | O21: =IFERROR(VLOOKUP($A21,FILTRO!$A$4:$W$56,13,FALSE),0) -> 89 | P21: =IFERROR(VLOOKUP($A21,FILTRO!$A$4:$W$56,14,FALSE),0) -> 12
A22: 15900020 | C22: Fórmula de Inicio (FI) | D22: =IFERROR(VLOOKUP($A22,FILTRO!$A$4:$W$56,2,FALSE),0) -> 19.2 | E22: =IFERROR(VLOOKUP($A22,FILTRO!$A$4:$W$56,3,FALSE),0) -> 3.2 | F22: =IFERROR(VLOOKUP($A22,FILTRO!$A$4:$W$56,4,FALSE),0) -> 12.8 | G22: =IFERROR(VLOOKUP($A22,FILTRO!$A$4:$W$56,5,FALSE),0) -> 3.2 | H22: =IFERROR(VLOOKUP($A22,FILTRO!$A$4:$W$56,6,FALSE),0) -> 0 | I22: =IFERROR(VLOOKUP($A22,FILTRO!$A$4:$W$56,7,FALSE),0) -> 0 | J22: =IFERROR(VLOOKUP($A22,FILTRO!$A$4:$W$56,8,FALSE),0) -> 0 | K22: =IFERROR(VLOOKUP($A22,FILTRO!$A$4:$W$56,9,FALSE),0) -> 0 | L22: =IFERROR(VLOOKUP($A22,FILTRO!$A$4:$W$56,10,FALSE),0) -> 0 | M22: =IFERROR(VLOOKUP($A22,FILTRO!$A$4:$W$56,11,FALSE),0) -> 0 | N22: =IFERROR(VLOOKUP($A22,FILTRO!$A$4:$W$56,12,FALSE),0) -> 0 | O22: =IFERROR(VLOOKUP($A22,FILTRO!$A$4:$W$56,13,FALSE),0) -> 0 | P22: =IFERROR(VLOOKUP($A22,FILTRO!$A$4:$W$56,14,FALSE),0) -> 0
C23: Subtotal | D23: =SUM(E23:P23) -> 26849.2 | E23: =SUM(E18:E22) -> 43.2 | F23: =SUM(F18:F22) -> 383.8 | G23: =SUM(G18:G22) -> 5587.2 | H23: =SUM(H18:H22) -> 2715 | I23: =SUM(I18:I22) -> 2034 | J23: =SUM(J18:J22) -> 6993 | K23: =SUM(K18:K22) -> 4724 | L23: =SUM(L18:L22) -> 0 | ... P23: =SUM(P18:P22) -> 12
A24: 15030100 | B24: Prematuros Extremos | C24: Fórmula de Prematuros (FP) | D24: =IFERROR(VLOOKUP($A24,FILTRO!$A$4:$W$56,2,FALSE),0) -> 121974.73 | E24: =IFERROR(VLOOKUP($A24,FILTRO!$A$4:$W$56,3,FALSE),0) -> 46859.09 | F24: =IFERROR(VLOOKUP($A24,FILTRO!$A$4:$W$56,4,FALSE),0) -> 43087.66 | G24: =IFERROR(VLOOKUP($A24,FILTRO!$A$4:$W$56,5,FALSE),0) -> 32027.98 | H24: =IFERROR(VLOOKUP($A24,FILTRO!$A$4:$W$56,6,FALSE),0) -> 0 | I24: =IFERROR(VLOOKUP($A24,FILTRO!$A$4:$W$56,7,FALSE),0) -> 0 | J24: =IFERROR(VLOOKUP($A24,FILTRO!$A$4:$W$56,8,FALSE),0) -> 0 | K24: =IFERROR(VLOOKUP($A24,FILTRO!$A$4:$W$56,9,FALSE),0) -> 0 | L24: =IFERROR(VLOOKUP($A24,FILTRO!$A$4:$W$56,10,FALSE),0) -> 0 | M24: =IFERROR(VLOOKUP($A24,FILTRO!$A$4:$W$56,11,FALSE),0) -> 0 | N24: =IFERROR(VLOOKUP($A24,FILTRO!$A$4:$W$56,12,FALSE),0) -> 0 | O24: =IFERROR(VLOOKUP($A24,FILTRO!$A$4:$W$56,13,FALSE),0) -> 0 | P24: =IFERROR(VLOOKUP($A24,FILTRO!$A$4:$W$56,14,FALSE),0) -> 0
A25: 15030200 | C25: Fórmula de Continuación (FC) | D25: =IFERROR(VLOOKUP($A25,FILTRO!$A$4:$W$56,2,FALSE),0) -> 35300.3 | E25: =IFERROR(VLOOKUP($A25,FILTRO!$A$4:$W$56,3,FALSE),0) -> 0 | F25: =IFERROR(VLOOKUP($A25,FILTRO!$A$4:$W$56,4,FALSE),0) -> 0 | G25: =IFERROR(VLOOKUP($A25,FILTRO!$A$4:$W$56,5,FALSE),0) -> 35300.3 | H25: =IFERROR(VLOOKUP($A25,FILTRO!$A$4:$W$56,6,FALSE),0) -> 0 | I25: =IFERROR(VLOOKUP($A25,FILTRO!$A$4:$W$56,7,FALSE),0) -> 0 | J25: =IFERROR(VLOOKUP($A25,FILTRO!$A$4:$W$56,8,FALSE),0) -> 0 | K25: =IFERROR(VLOOKUP($A25,FILTRO!$A$4:$W$56,9,FALSE),0) -> 0 | L25: =IFERROR(VLOOKUP($A25,FILTRO!$A$4:$W$56,10,FALSE),0) -> 0 | M25: =IFERROR(VLOOKUP($A25,FILTRO!$A$4:$W$56,11,FALSE),0) -> 0 | N25: =IFERROR(VLOOKUP($A25,FILTRO!$A$4:$W$56,12,FALSE),0) -> 0 | O25: =IFERROR(VLOOKUP($A25,FILTRO!$A$4:$W$56,13,FALSE),0) -> 0 | P25: =IFERROR(VLOOKUP($A25,FILTRO!$A$4:$W$56,14,FALSE),0) -> 0
A26: 15080006 | C26: Leche Purita Fortificada (LPF) | D26: =IFERROR(VLOOKUP($A26,FILTRO!$A$4:$W$56,2,FALSE),0) -> 906 | E26: =IFERROR(VLOOKUP($A26,FILTRO!$A$4:$W$56,3,FALSE),0) -> 0 | F26: =IFERROR(VLOOKUP($A26,FILTRO!$A$4:$W$56,4,FALSE),0) -> 0 | G26: =IFERROR(VLOOKUP($A26,FILTRO!$A$4:$W$56,5,FALSE),0) -> 0 | H26: =IFERROR(VLOOKUP($A26,FILTRO!$A$4:$W$56,6,FALSE),0) -> 410 | I26: =IFERROR(VLOOKUP($A26,FILTRO!$A$4:$W$56,7,FALSE),0) -> 496 | J26: =IFERROR(VLOOKUP($A26,FILTRO!$A$4:$W$56,8,FALSE),0) -> 0 | K26: =IFERROR(VLOOKUP($A26,FILTRO!$A$4:$W$56,9,FALSE),0) -> 0 | L26: =IFERROR(VLOOKUP($A26,FILTRO!$A$4:$W$56,10,FALSE),0) -> 0 | M26: =IFERROR(VLOOKUP($A26,FILTRO!$A$4:$W$56,11,FALSE),0) -> 0 | N26: =IFERROR(VLOOKUP($A26,FILTRO!$A$4:$W$56,12,FALSE),0) -> 0 | O26: =IFERROR(VLOOKUP($A26,FILTRO!$A$4:$W$56,13,FALSE),0) -> 0 | P26: =IFERROR(VLOOKUP($A26,FILTRO!$A$4:$W$56,14,FALSE),0) -> 0
A27: 15080012 | C27: Mi Sopita (MS) | D27: =IFERROR(VLOOKUP($A27,FILTRO!$A$4:$W$56,2,FALSE),0) -> 119 | E27: =IFERROR(VLOOKUP($A27,FILTRO!$A$4:$W$56,3,FALSE),0) -> 0 | F27: =IFERROR(VLOOKUP($A27,FILTRO!$A$4:$W$56,4,FALSE),0) -> 1 | G27: =IFERROR(VLOOKUP($A27,FILTRO!$A$4:$W$56,5,FALSE),0) -> 36 | H27: =IFERROR(VLOOKUP($A27,FILTRO!$A$4:$W$56,6,FALSE),0) -> 42 | I27: =IFERROR(VLOOKUP($A27,FILTRO!$A$4:$W$56,7,FALSE),0) -> 40 | J27: =IFERROR(VLOOKUP($A27,FILTRO!$A$4:$W$56,8,FALSE),0) -> 0 | K27: =IFERROR(VLOOKUP($A27,FILTRO!$A$4:$W$56,9,FALSE),0) -> 0 | L27: =IFERROR(VLOOKUP($A27,FILTRO!$A$4:$W$56,10,FALSE),0) -> 0 | M27: =IFERROR(VLOOKUP($A27,FILTRO!$A$4:$W$56,11,FALSE),0) -> 0 | N27: =IFERROR(VLOOKUP($A27,FILTRO!$A$4:$W$56,12,FALSE),0) -> 0 | O27: =IFERROR(VLOOKUP($A27,FILTRO!$A$4:$W$56,13,FALSE),0) -> 0 | P27: =IFERROR(VLOOKUP($A27,FILTRO!$A$4:$W$56,14,FALSE),0) -> 0
C28: Subtotal | D28: =SUM(E28:P28) -> 158300.03 | E28: =E24 -> 46859.09 | F28: =SUM(F24,F27) -> 43088.66 | G28: =SUM(G24,G25,G27) -> 67364.28 | H28: =SUM(H26:H27) -> 452 | I28: =SUM(I26:I27) -> 536 | J28: 0 | K28: 0 | L28: 0 | M28: 0 | N28: 0 | O28: 0 | P28: 0
A29: 15900030 | B29: Alergia a la proteína de la leche de vaca | C29: Fórmula Extensamente Hidrolizada (FEH) | D29: =IFERROR(VLOOKUP($A29,FILTRO!$A$4:$W$56,2,FALSE),0) -> 55811.49 | E29: =IFERROR(VLOOKUP($A29,FILTRO!$A$4:$W$56,3,FALSE),0) -> 109.59 | F29: =IFERROR(VLOOKUP($A29,FILTRO!$A$4:$W$56,4,FALSE),0) -> 25880.9 | G29: =IFERROR(VLOOKUP($A29,FILTRO!$A$4:$W$56,5,FALSE),0) -> 11738.2 | H29: =IFERROR(VLOOKUP($A29,FILTRO!$A$4:$W$56,6,FALSE),0) -> 13530.6 | I29: =IFERROR(VLOOKUP($A29,FILTRO!$A$4:$W$56,7,FALSE),0) -> 4552.2 | J29: =IFERROR(VLOOKUP($A29,FILTRO!$A$4:$W$56,8,FALSE),0) -> 0 | K29: =IFERROR(VLOOKUP($A29,FILTRO!$A$4:$W$56,9,FALSE),0) -> 0 | L29: =IFERROR(VLOOKUP($A29,FILTRO!$A$4:$W$56,10,FALSE),0) -> 0 | M29: =IFERROR(VLOOKUP($A29,FILTRO!$A$4:$W$56,11,FALSE),0) -> 0 | N29: =IFERROR(VLOOKUP($A29,FILTRO!$A$4:$W$56,12,FALSE),0) -> 0 | O29: =IFERROR(VLOOKUP($A29,FILTRO!$A$4:$W$56,13,FALSE),0) -> 0 | P29: =IFERROR(VLOOKUP($A29,FILTRO!$A$4:$W$56,14,FALSE),0) -> 0
A30: 15900040 | C30: Fórmula Aminoacídica (FAA) | D30: =IFERROR(VLOOKUP($A30,FILTRO!$A$4:$W$56,2,FALSE),0) -> 3964.1 | E30: =IFERROR(VLOOKUP($A30,FILTRO!$A$4:$W$56,3,FALSE),0) -> 69.2 | F30: =IFERROR(VLOOKUP($A30,FILTRO!$A$4:$W$56,4,FALSE),0) -> 189.6 | G30: =IFERROR(VLOOKUP($A30,FILTRO!$A$4:$W$56,5,FALSE),0) -> 3207.2 | H30: =IFERROR(VLOOKUP($A30,FILTRO!$A$4:$W$56,6,FALSE),0) -> 346 | I30: =IFERROR(VLOOKUP($A30,FILTRO!$A$4:$W$56,7,FALSE),0) -> 152.1 | J30: =IFERROR(VLOOKUP($A30,FILTRO!$A$4:$W$56,8,FALSE),0) -> 0 | K30: =IFERROR(VLOOKUP($A30,FILTRO!$A$4:$W$56,9,FALSE),0) -> 0 | L30: =IFERROR(VLOOKUP($A30,FILTRO!$A$4:$W$56,10,FALSE),0) -> 0 | M30: =IFERROR(VLOOKUP($A30,FILTRO!$A$4:$W$56,11,FALSE),0) -> 0 | N30: =IFERROR(VLOOKUP($A30,FILTRO!$A$4:$W$56,12,FALSE),0) -> 0 | O30: =IFERROR(VLOOKUP($A30,FILTRO!$A$4:$W$56,13,FALSE),0) -> 0 | P30: =IFERROR(VLOOKUP($A30,FILTRO!$A$4:$W$56,14,FALSE),0) -> 0
C31: Subtotal | D31: =SUM(E31:P31) -> 59775.59 | E31: =SUM(E29:E30) -> 178.79 | F31: =SUM(F29:F30) -> 26070.5 | G31: =SUM(G29:G30) -> 14945.4 | H31: =SUM(H29:H30) -> 13876.6 | I31: =SUM(I29:I30) -> 4704.3 | J31: 0 | K31: 0 | L31: 0 | M31: 0 | N31: 0 | O31: 0 | P31: 0
B32: Total | D32: =SUM(E32:P32) -> 684684.22 | E32: =+E17+E23+E28+E31 -> 47788.08 | F32: =+F17+F23+F31+F28 -> 72705.36 | G32: =+G17+G23+G31+G28 -> 145696.88 | H32: =+H17+H23+H31+H28 -> 74699.6 | I32: =+I17+I23+I31+I28 -> 60383.3 | J32: =+J17+J23+J31+J28 -> 116354 | K32: =+K17+K23+K31+K28 -> 102279 | L32: =+L17+L23+L31+L28 -> 27292 | M32: =+M17+M23+M31+M28 -> 3806 | ... P32: =+P17+P23+P31+P28 -> 21
B33: Sección B: PNAC - Número de personas intrasistema que retiran
B34: Subprogramas | D34: Total | E34: Menores a 6 años | L34: Gestantes | N34: Madre con hijo/a menor a 6 meses
E35: 0 - 2 meses | F35: 3 - 5 meses | G35: 6 - 11 meses | H35: 12 - 17 meses | I35: 18 - 23 meses | J35: 24 - 47 meses | K35: 48 - 71 meses | L35: Normal, sobrepeso y obesas | M35: Bajo peso | N35: Lactancia materna exclusiva | O35: Lactancia materna predominante | P35: Fórmula predominante o exclusiva
A38: 15050100 | B38: Básico | D38: =IFERROR(VLOOKUP($A38,FILTRO!$A$4:$W$56,2,FALSE),0) -> 234889 | E38: =IFERROR(VLOOKUP($A38,FILTRO!$A$4:$W$56,3,FALSE),0) -> 458 | F38: =IFERROR(VLOOKUP($A38,FILTRO!$A$4:$W$56,4,FALSE),0) -> 1778 | G38: =IFERROR(VLOOKUP($A38,FILTRO!$A$4:$W$56,5,FALSE),0) -> 28858 | H38: =IFERROR(VLOOKUP($A38,FILTRO!$A$4:$W$56,6,FALSE),0) -> 28868 | I38: =IFERROR(VLOOKUP($A38,FILTRO!$A$4:$W$56,7,FALSE),0) -> 26505 | J38: =IFERROR(VLOOKUP($A38,FILTRO!$A$4:$W$56,8,FALSE),0) -> 54673 | K38: =IFERROR(VLOOKUP($A38,FILTRO!$A$4:$W$56,9,FALSE),0) -> 49548 | L38: =IFERROR(VLOOKUP($A38,FILTRO!$A$4:$W$56,10,FALSE),0) -> 27291 | M38: =IFERROR(VLOOKUP($A38,FILTRO!$A$4:$W$56,11,FALSE),0) -> 0 | N38: =IFERROR(VLOOKUP($A38,FILTRO!$A$4:$W$56,12,FALSE),0) -> 16188 | O38: =IFERROR(VLOOKUP($A38,FILTRO!$A$4:$W$56,13,FALSE),0) -> 713 | P38: =IFERROR(VLOOKUP($A38,FILTRO!$A$4:$W$56,14,FALSE),0) -> 9 | Q38: =$AB38&" "&$AC38&" "&$AD38&" "&$AE38&" "&$AB39&" "&$AC39&" "&$AD39&" "&$AE39
A39: 15050200 | B39: Refuerzo | D39: =IFERROR(VLOOKUP($A39,FILTRO!$A$4:$W$56,2,FALSE),0) -> 6945 | E39: =IFERROR(VLOOKUP($A39,FILTRO!$A$4:$W$56,3,FALSE),0) -> 28 | F39: =IFERROR(VLOOKUP($A39,FILTRO!$A$4:$W$56,4,FALSE),0) -> 126 | G39: =IFERROR(VLOOKUP($A39,FILTRO!$A$4:$W$56,5,FALSE),0) -> 1139 | H39: =IFERROR(VLOOKUP($A39,FILTRO!$A$4:$W$56,6,FALSE),0) -> 672 | I39: =IFERROR(VLOOKUP($A39,FILTRO!$A$4:$W$56,7,FALSE),0) -> 517 | J39: =IFERROR(VLOOKUP($A39,FILTRO!$A$4:$W$56,8,FALSE),0) -> 1755 | K39: =IFERROR(VLOOKUP($A39,FILTRO!$A$4:$W$56,9,FALSE),0) -> 1190 | L39: =IFERROR(VLOOKUP($A39,FILTRO!$A$4:$W$56,10,FALSE),0) -> 0 | M39: =IFERROR(VLOOKUP($A39,FILTRO!$A$4:$W$56,11,FALSE),0) -> 1305 | N39: =IFERROR(VLOOKUP($A39,FILTRO!$A$4:$W$56,12,FALSE),0) -> 161 | O39: =IFERROR(VLOOKUP($A39,FILTRO!$A$4:$W$56,13,FALSE),0) -> 45 | P39: =IFERROR(VLOOKUP($A39,FILTRO!$A$4:$W$56,14,FALSE),0) -> 7 | Q39: =$AB42&" "&$AC42&""&$AD42&""&$AE42&""&$AB40&" "&$AC40&""&$AD40&""&$AE40&""&$AB43&" "&$AC43&" "&$AD43
A40: 15050500 | B40: Prematuros Extremos | D40: =IFERROR(VLOOKUP($A40,FILTRO!$A$4:$W$56,2,FALSE),0) -> 1435 | E40: =IFERROR(VLOOKUP($A40,FILTRO!$A$4:$W$56,3,FALSE),0) -> 241 | F40: =IFERROR(VLOOKUP($A40,FILTRO!$A$4:$W$56,4,FALSE),0) -> 264 | G40: =IFERROR(VLOOKUP($A40,FILTRO!$A$4:$W$56,5,FALSE),0) -> 506 | H40: =IFERROR(VLOOKUP($A40,FILTRO!$A$4:$W$56,6,FALSE),0) -> 196 | I40: =IFERROR(VLOOKUP($A40,FILTRO!$A$4:$W$56,7,FALSE),0) -> 228 | J40: =IFERROR(VLOOKUP($A40,FILTRO!$A$4:$W$56,8,FALSE),0) -> 0 | K40: =IFERROR(VLOOKUP($A40,FILTRO!$A$4:$W$56,9,FALSE),0) -> 0 | L40: =IFERROR(VLOOKUP($A40,FILTRO!$A$4:$W$56,10,FALSE),0) -> 0 | M40: =IFERROR(VLOOKUP($A40,FILTRO!$A$4:$W$56,11,FALSE),0) -> 0 | N40: =IFERROR(VLOOKUP($A40,FILTRO!$A$4:$W$56,12,FALSE),0) -> 0 | O40: =IFERROR(VLOOKUP($A40,FILTRO!$A$4:$W$56,13,FALSE),0) -> 0 | P40: =IFERROR(VLOOKUP($A40,FILTRO!$A$4:$W$56,14,FALSE),0) -> 0
A41: 15900050 | B41: Alergia a la Proteína de la leche de vaca | D41: =IFERROR(VLOOKUP($A41,FILTRO!$A$4:$W$56,2,FALSE),0) -> 1154 | E41: =IFERROR(VLOOKUP($A41,FILTRO!$A$4:$W$56,3,FALSE),0) -> 52 | F41: =IFERROR(VLOOKUP($A41,FILTRO!$A$4:$W$56,4,FALSE),0) -> 136 | G41: =IFERROR(VLOOKUP($A41,FILTRO!$A$4:$W$56,5,FALSE),0) -> 423 | H41: =IFERROR(VLOOKUP($A41,FILTRO!$A$4:$W$56,6,FALSE),0) -> 333 | I41: =IFERROR(VLOOKUP($A41,FILTRO!$A$4:$W$56,7,FALSE),0) -> 210 | J41: =IFERROR(VLOOKUP($A41,FILTRO!$A$4:$W$56,8,FALSE),0) -> 0 | K41: =IFERROR(VLOOKUP($A41,FILTRO!$A$4:$W$56,9,FALSE),0) -> 0 | L41: =IFERROR(VLOOKUP($A41,FILTRO!$A$4:$W$56,10,FALSE),0) -> 0 | M41: =IFERROR(VLOOKUP($A41,FILTRO!$A$4:$W$56,11,FALSE),0) -> 0 | N41: =IFERROR(VLOOKUP($A41,FILTRO!$A$4:$W$56,12,FALSE),0) -> 0 | O41: =IFERROR(VLOOKUP($A41,FILTRO!$A$4:$W$56,13,FALSE),0) -> 0 | P41: =IFERROR(VLOOKUP($A41,FILTRO!$A$4:$W$56,14,FALSE),0) -> 0
B42: TOTAL | D42: =SUM(E42:P42) -> 244423 | E42: =SUM(E38:E41) -> 779 | F42: =SUM(F38:F41) -> 2304 | G42: =SUM(G38:G41) -> 30926 | H42: =SUM(H38:H41) -> 30069 | I42: =SUM(I38:I41) -> 27460 | J42: =SUM(J38:J39) -> 56428 | K42: =SUM(K38:K39) -> 50738 | L42: =SUM(L38:L39) -> 27291 | M42: =SUM(M38:M39) -> 1305 | N42: =SUM(N38:N39) -> 16349 | O42: =SUM(O38:O39) -> 758 | P42: =SUM(P38:P39) -> 16
A43: 15900060 | B43: Programas Sociales (*) | D43: =IFERROR(VLOOKUP($A43,FILTRO!$A$4:$W$56,2,FALSE),0) -> 0 | E43: =IFERROR(VLOOKUP($A43,FILTRO!$A$4:$W$56,3,FALSE),0) -> 0 | F43: =IFERROR(VLOOKUP($A43,FILTRO!$A$4:$W$56,4,FALSE),0) -> 0 | G43: =IFERROR(VLOOKUP($A43,FILTRO!$A$4:$W$56,5,FALSE),0) -> 0 | H43: =IFERROR(VLOOKUP($A43,FILTRO!$A$4:$W$56,6,FALSE),0) -> 0 | I43: =IFERROR(VLOOKUP($A43,FILTRO!$A$4:$W$56,7,FALSE),0) -> 0 | J43: =IFERROR(VLOOKUP($A43,FILTRO!$A$4:$W$56,8,FALSE),0) -> 0 | K43: =IFERROR(VLOOKUP($A43,FILTRO!$A$4:$W$56,9,FALSE),0) -> 0 | L43: =IFERROR(VLOOKUP($A43,FILTRO!$A$4:$W$56,10,FALSE),0) -> 0 | M43: =IFERROR(VLOOKUP($A43,FILTRO!$A$4:$W$56,11,FALSE),0) -> 0 | N43: =IFERROR(VLOOKUP($A43,FILTRO!$A$4:$W$56,12,FALSE),0) -> 0 | O43: =IFERROR(VLOOKUP($A43,FILTRO!$A$4:$W$56,13,FALSE),0) -> 0 | P43: =IFERROR(VLOOKUP($A43,FILTRO!$A$4:$W$56,14,FALSE),0) -> 0
B44: Nota: (*) Información referencial, ya incluida en los subprogramas.
B45: Sección C: PNAC: Cantidad distribuida (kg) a personas extrasistema (incluye modalidad libre elección)
B46: Subprogramas | C46: Productos | D46: Total | E46: Menores a 6 años | L46: Gestantes | N46: Madre con hijo/a menor a 6 meses
E47: 0 - 2 meses | F47: 3 - 5 meses | G47: 6 - 11 meses | H47: 12 - 17 meses | I47: 18 - 23 meses | J47: 24 - 47 meses | K47: 48 - 71 meses | L47: Normal, sobrepeso y obesas | M47: Bajo peso | N47: Lactancia materna exclusiva | O47: Lactancia materna predominante | P47: Fórmula predominante o exclusiva
A50: 15020100 | B50: Básico | C50: Leche Purita Fortificada (LPF) | D50: =IFERROR(VLOOKUP($A50,FILTRO!$A$4:$W$56,2,FALSE),0) -> 7311 | E50: =IFERROR(VLOOKUP($A50,FILTRO!$A$4:$W$56,3,FALSE),0) -> 109 | F50: =IFERROR(VLOOKUP($A50,FILTRO!$A$4:$W$56,4,FALSE),0) -> 445 | G50: =IFERROR(VLOOKUP($A50,FILTRO!$A$4:$W$56,5,FALSE),0) -> 3022 | H50: =IFERROR(VLOOKUP($A50,FILTRO!$A$4:$W$56,6,FALSE),0) -> 3735 | I50: =IFERROR(VLOOKUP($A50,FILTRO!$A$4:$W$56,7,FALSE),0) -> 0 | J50: =IFERROR(VLOOKUP($A50,FILTRO!$A$4:$W$56,8,FALSE),0) -> 0 | K50: =IFERROR(VLOOKUP($A50,FILTRO!$A$4:$W$56,9,FALSE),0) -> 0 | L50: =IFERROR(VLOOKUP($A50,FILTRO!$A$4:$W$56,10,FALSE),0) -> 0 | M50: =IFERROR(VLOOKUP($A50,FILTRO!$A$4:$W$56,11,FALSE),0) -> 0 | N50: =IFERROR(VLOOKUP($A50,FILTRO!$A$4:$W$56,12,FALSE),0) -> 0 | O50: =IFERROR(VLOOKUP($A50,FILTRO!$A$4:$W$56,13,FALSE),0) -> 0 | P50: =IFERROR(VLOOKUP($A50,FILTRO!$A$4:$W$56,14,FALSE),0) -> 0 | Q50: =AB50&" "&AC50
A51: 15020200 | C51: Purita Cereal (PC) | D51: =IFERROR(VLOOKUP($A51,FILTRO!$A$4:$W$56,2,FALSE),0) -> 13146 | E51: =IFERROR(VLOOKUP($A51,FILTRO!$A$4:$W$56,3,FALSE),0) -> 0 | F51: =IFERROR(VLOOKUP($A51,FILTRO!$A$4:$W$56,4,FALSE),0) -> 0 | G51: =IFERROR(VLOOKUP($A51,FILTRO!$A$4:$W$56,5,FALSE),0) -> 0 | H51: =IFERROR(VLOOKUP($A51,FILTRO!$A$4:$W$56,6,FALSE),0) -> 0 | I51: =IFERROR(VLOOKUP($A51,FILTRO!$A$4:$W$56,7,FALSE),0) -> 3300 | J51: =IFERROR(VLOOKUP($A51,FILTRO!$A$4:$W$56,8,FALSE),0) -> 5854 | K51: =IFERROR(VLOOKUP($A51,FILTRO!$A$4:$W$56,9,FALSE),0) -> 3992 | L51: =IFERROR(VLOOKUP($A51,FILTRO!$A$4:$W$56,10,FALSE),0) -> 0 | M51: =IFERROR(VLOOKUP($A51,FILTRO!$A$4:$W$56,11,FALSE),0) -> 0 | N51: =IFERROR(VLOOKUP($A51,FILTRO!$A$4:$W$56,12,FALSE),0) -> 0 | O51: =IFERROR(VLOOKUP($A51,FILTRO!$A$4:$W$56,13,FALSE),0) -> 0 | P51: =IFERROR(VLOOKUP($A51,FILTRO!$A$4:$W$56,14,FALSE),0) -> 0
A52: 15080010 | C52: Purita Mamá (PM) | D52: =IFERROR(VLOOKUP($A52,FILTRO!$A$4:$W$56,2,FALSE),0) -> 524 | E52: =IFERROR(VLOOKUP($A52,FILTRO!$A$4:$W$56,3,FALSE),0) -> 0 | F52: =IFERROR(VLOOKUP($A52,FILTRO!$A$4:$W$56,4,FALSE),0) -> 0 | G52: =IFERROR(VLOOKUP($A52,FILTRO!$A$4:$W$56,5,FALSE),0) -> 0 | H52: =IFERROR(VLOOKUP($A52,FILTRO!$A$4:$W$56,6,FALSE),0) -> 0 | I52: =IFERROR(VLOOKUP($A52,FILTRO!$A$4:$W$56,7,FALSE),0) -> 0 | J52: =IFERROR(VLOOKUP($A52,FILTRO!$A$4:$W$56,8,FALSE),0) -> 0 | K52: =IFERROR(VLOOKUP($A52,FILTRO!$A$4:$W$56,9,FALSE),0) -> 0 | L52: =IFERROR(VLOOKUP($A52,FILTRO!$A$4:$W$56,10,FALSE),0) -> 64 | M52: =IFERROR(VLOOKUP($A52,FILTRO!$A$4:$W$56,11,FALSE),0) -> 0 | N52: =IFERROR(VLOOKUP($A52,FILTRO!$A$4:$W$56,12,FALSE),0) -> 394 | O52: =IFERROR(VLOOKUP($A52,FILTRO!$A$4:$W$56,13,FALSE),0) -> 65 | P52: =IFERROR(VLOOKUP($A52,FILTRO!$A$4:$W$56,14,FALSE),0) -> 1 | Q52: =AB52&" "&AC52&" "&AD52&" "&AE52 | AB52: =IF(L50+L52=L75,""," No olvide escribir el Nº Correcto según kg por persona que retira alimento de la sección D en el grupo de Gestantes Normal, Sobrepeso y Obesas.") | AC52: =IF(N50+N52=N75*2,"","No olvide escribir el Nº Correcto según kg por persona que retira alimento de la sección D en el grupo de Madre con hijo/a menor a 6 meses con Lactancia materna exclusiva") | AD52: =IF(O50+O52=O75,"","No olvide escribir el Nº Correcto según kg por persona que retira alimento de la sección D en el grupo de Madre con hijo/a menor a 6 meses con Lactancia materna predominante") | AE52: =IF(P50+P52=P75,"","No olvide escribir el Nº Correcto según kg por persona que retira alimento de la sección D en el grupo de Madre con hijo/a menor a 6 meses con Fórmula predominantes o exclusiva") | AG52: =IF(L52=L75,0,1) -> 0 | AH52: =IF(N52=(N75*2),0,1) -> 0 | AI52: =IF(O52=O75,0,1) -> 0 | AJ52: =IF(P52=P75,0,1) -> 0
...

Sheet D16
B7: REM-D.16. Programa de Alimentación Complementaria del Adulto Mayor (PACAM)
B8: Sección A: PACAM - Cantidad distribuida (kg)
B9: Grupo Programático | C9: Crema Años Dorados (CAD) | D9: Bebida Láctea Años Dorados (BLAD)
A10: 16090300 | B10: 70 años y más (independiente del motivo de ingreso) | C10: =IFERROR(VLOOKUP($A10,FILTRO!$A$4:$W$56,2,FALSE),0) -> 283149 | D10: =IFERROR(VLOOKUP($A10,FILTRO!$A$4:$W$56,3,FALSE),0) -> 283147 | E10: =$AB10&" "&$AC10 | AC10: =IF(D10<>F19," No olvide que el Nº de personas que retira Bebida Láctea Años Dorados (BLAD) en la sección B debe ser igual a los Kilos que retiran en Seccion A.-","")
A11: 16200210 | B11: 65 - 69 años con alteración de la funcionalidad | C11: =IFERROR(VLOOKUP($A11,FILTRO!$A$4:$W$56,2,FALSE),0) -> 26124 | D11: =IFERROR(VLOOKUP($A11,FILTRO!$A$4:$W$56,3,FALSE),0) -> 26126 | E11: =$AB11&" "&$AC11 | AC11: =IF(D11<>F20," No olvide que el Nº de personas que retira Bebida Láctea Años Dorados (BLAD) en la sección B debe ser igual a los Kilos que retiran en Seccion A.-","")
A12: 16090500 | B12: 65 - 69 años en programa social (Vínculos, Familia, Calle u otro) | C12: =IFERROR(VLOOKUP($A12,FILTRO!$A$4:$W$56,2,FALSE),0) -> 1447 | D12: =IFERROR(VLOOKUP($A12,FILTRO!$A$4:$W$56,3,FALSE),0) -> 1447 | E12: =$AB12&" "&$AC12 | AC12: =IF(D12<>F21," No olvide que el Nº de personas que retira Bebida Láctea Años Dorados (BLAD) en la sección B debe ser igual a los Kilos que retiran en Seccion A.-","")
A13: 16090600 | B13: 60 - 69 años con tuberculosis | C13: =IFERROR(VLOOKUP($A13,FILTRO!$A$4:$W$56,2,FALSE),0) -> 85 | D13: =IFERROR(VLOOKUP($A13,FILTRO!$A$4:$W$56,3,FALSE),0) -> 85 | E13: =$AB13&" "&$AC13 | AC13: =IF(D13<>F22," No olvide que el Nº de personas que retira Bebida Láctea Años Dorados (BLAD) en la sección B debe ser igual a los Kilos que retiran en Seccion A.-","")
A14: 16090100 | B14: 60 - 69 años en ELEAM autorizado o similar | C14: =IFERROR(VLOOKUP($A14,FILTRO!$A$4:$W$56,2,FALSE),0) -> 1190 | D14: =IFERROR(VLOOKUP($A14,FILTRO!$A$4:$W$56,3,FALSE),0) -> 1190 | E14: =$AB14&" "&$AC14 | AC14: =IF(D14<>F23," No olvide que el Nº de personas que retira Bebida Láctea Años Dorados (BLAD) en la sección B debe ser igual a los Kilos que retiran en Seccion A.-","")
B15: TOTAL | C15: =SUM(C10:C14) -> 311995 | D15: =SUM(D10:D14) -> 311995
B16: Sección B: PACAM - Número de personas que retiran
B17: Grupo Programático | C17: Crema Años Dorados (CAD) | F17: Bebida Láctea Años Dorados (BLAD)
C18: Personas (que retiran en el mes) | D18: Ingresos del mes | E18: Inasistentes del mes | F18: Personas (que retiran en el mes) | G18: Ingresos del mes | H18: Inasistentes del mes
A19: 16100300 | B19: 70 años y más (independiente del motivo de ingreso | C19: =IFERROR(VLOOKUP($A19,FILTRO!$A$4:$W$56,2,FALSE),0) -> 283153 | D19: =IFERROR(VLOOKUP($A19,FILTRO!$A$4:$W$56,3,FALSE),0) -> 4563 | E19: =IFERROR(VLOOKUP($A19,FILTRO!$A$4:$W$56,4,FALSE),0) -> 69273 | F19: =IFERROR(VLOOKUP($A19,FILTRO!$A$4:$W$56,5,FALSE),0) -> 283147 | G19: =IFERROR(VLOOKUP($A19,FILTRO!$A$4:$W$56,6,FALSE),0) -> 4797 | H19: =IFERROR(VLOOKUP($A19,FILTRO!$A$4:$W$56,7,FALSE),0) -> 69023 | I19: =$AB19&" "&$AC19 | AC19: =IF(D10<>F19," No olvide que el Nº de personas que retira Bebida Láctea Años Dorados (BLAD) debe ser igual a los Kilos que retiran en Seccion A.-","") | AE19: =IF($C19=0,"",IF($C10="",IF($C19="",0,1),"")) | AF19: =IF($F19=0,"",IF($D10="",IF($F19="",0,1),""))
A20: 16200220 | B20: 65 - 69 años con alteración de la funcionalidad | C20: =IFERROR(VLOOKUP($A20,FILTRO!$A$4:$W$56,2,FALSE),0) -> 26124 | D20: =IFERROR(VLOOKUP($A20,FILTRO!$A$4:$W$56,3,FALSE),0) -> 1068 | E20: =IFERROR(VLOOKUP($A20,FILTRO!$A$4:$W$56,4,FALSE),0) -> 7399 | F20: =IFERROR(VLOOKUP($A20,FILTRO!$A$4:$W$56,5,FALSE),0) -> 26126 | G20: =IFERROR(VLOOKUP($A20,FILTRO!$A$4:$W$56,6,FALSE),0) -> 1095 | H20: =IFERROR(VLOOKUP($A20,FILTRO!$A$4:$W$56,7,FALSE),0) -> 7365 | I20: =$AB20&" "&$AC20 | AC20: =IF(D11<>F20," No olvide que el Nº de personas que retira Bebida Láctea Años Dorados (BLAD) debe ser igual a los Kilos que retiran en Seccion A.-","") | AE20: =IF($C20=0,"",IF($C11="",IF($C20="",0,1),"")) | AF20: =IF($F20=0,"",IF($D11="",IF($F20="",0,1),""))
A21: 16100600 | B21: 65 - 69 años en programa social (Vínculos, Familia, Calle u otro) | C21: =IFERROR(VLOOKUP($A21,FILTRO!$A$4:$W$56,2,FALSE),0) -> 1447 | D21: =IFERROR(VLOOKUP($A21,FILTRO!$A$4:$W$56,3,FALSE),0) -> 15 | E21: =IFERROR(VLOOKUP($A21,FILTRO!$A$4:$W$56,4,FALSE),0) -> 220 | F21: =IFERROR(VLOOKUP($A21,FILTRO!$A$4:$W$56,5,FALSE),0) -> 1447 | G21: =IFERROR(VLOOKUP($A21,FILTRO!$A$4:$W$56,6,FALSE),0) -> 13 | H21: =IFERROR(VLOOKUP($A21,FILTRO!$A$4:$W$56,7,FALSE),0) -> 220 | I21: =$AB21&" "&$AC21 | AC21: =IF(D12<>F21," No olvide que el Nº de personas que retira Bebida Láctea Años Dorados (BLAD) debe ser igual a los Kilos que retiran en Seccion A.-","") | AE21: =IF($C21=0,"",IF($C12="",IF($C21="",0,1),"")) | AF21: =IF($F21=0,"",IF($D12="",IF($F21="",0,1),""))
A22: 16100700 | B22: 60 - 69 años con tuberculosis | C22: =IFERROR(VLOOKUP($A22,FILTRO!$A$4:$W$56,2,FALSE),0) -> 85 | D22: =IFERROR(VLOOKUP($A22,FILTRO!$A$4:$W$56,3,FALSE),0) -> 3 | E22: =IFERROR(VLOOKUP($A22,FILTRO!$A$4:$W$56,4,FALSE),0) -> 31 | F22: =IFERROR(VLOOKUP($A22,FILTRO!$A$4:$W$56,5,FALSE),0) -> 85 | G22: =IFERROR(VLOOKUP($A22,FILTRO!$A$4:$W$56,6,FALSE),0) -> 3 | H22: =IFERROR(VLOOKUP($A22,FILTRO!$A$4:$W$56,7,FALSE),0) -> 31 | I22: =$AB22&" "&$AC22 | AC22: =IF(D13<>F22," No olvide que el Nº de personas que retira Bebida Láctea Años Dorados (BLAD) debe ser igual a los Kilos que retiran en Seccion A.-","") | AE22: =IF($C22=0,"",IF($C13="",IF($C22="",0,1),"")) | AF22: =IF($F22=0,"",IF($D13="",IF($F22="",0,1),""))
A23: 16100100 | B23: 60 - 69 años en ELEAM autorizado o similar | C23: =IFERROR(VLOOKUP($A23,FILTRO!$A$4:$W$56,2,FALSE),0) -> 1190 | D23: =IFERROR(VLOOKUP($A23,FILTRO!$A$4:$W$56,3,FALSE),0) -> 2 | E23: =IFERROR(VLOOKUP($A23,FILTRO!$A$4:$W$56,4,FALSE),0) -> 204 | F23: =IFERROR(VLOOKUP($A23,FILTRO!$A$4:$W$56,5,FALSE),0) -> 1190 | G23: =IFERROR(VLOOKUP($A23,FILTRO!$A$4:$W$56,6,FALSE),0) -> 2 | H23: =IFERROR(VLOOKUP($A23,FILTRO!$A$4:$W$56,7,FALSE),0) -> 215 | I23: =$AB23&" "&$AC23 | AC23: =IF(D14<>F23," No olvide que el Nº de personas que retira Bebida Láctea Años Dorados (BLAD) debe ser igual a los Kilos que retiran en Seccion A.-","") | AE23: =IF($C23=0,"",IF($C14="",IF($C23="",0,1),"")) | AF23: =IF($F23=0,"",IF($D14="",IF($F23="",0,1),""))
B24: TOTAL | C24: =SUM(C19:C23) -> 311999 | D24: =SUM(D19:D23) -> 5651 | E24: =SUM(E19:E23) -> 77127 | F24: =SUM(F19:F23) -> 311995 | G24: =SUM(G19:G23) -> 5910 | H24: =SUM(H19:H23) -> 76854
B25: Sección C: Existencia y movimiento de productos
B26: Alimentos | C26: Saldo mes anterior | D26: Ingresos | F26: Total disponible | G26: Egresos | L26: Saldo mes siguiente | M26: Necesidades
D27: Planta | E27: Por traspaso | G27: Distribuido a beneficiarios | H27: Mermas (Incluye faltantes) | I27: Otros: (demostraciones, donaciones, etc.) | J27: Traspaso | K27: Total egresos | M27: Bodega del estableci- miento | N27: Bodegas Centrales
B29: Crema Años Dorados (CAD) | F29: =SUM(C29:E29) -> 0 | G29: =C15 -> 311995 | K29: =SUM(G29:J29) -> 311995 | L29: =F29-K29 -> -311995 | AC29: =IF((G29+#REF!)=C15,0,1) -> #REF!
B30: Bebida Láctea Años Dorados (BLAD) | F30: =SUM(C30:E30) -> 0 | G30: =D15 -> 311995 | K30: =SUM(G30:J30) -> 311995 | L30: =F30-K30 -> -311995 | AC30: =IF((G30+#REF!)=D15,0,1) -> #REF!
B31: Sección D: PACAM - Número de personas que retiran, pertenecientes al PRAIS (incluidos en Sección B)
B32: Grupo Programático | C32: Crema Años Dorados (CAD) | F32: Bebida Láctea Años Dorados (BLAD)
C33: Personas (que retiran en el mes) | D33: Ingresos del mes | E33: Inasistentes del mes | F33: Personas (que retiran en el mes) | G33: Ingresos del mes | H33: Inasistentes del mes
A34: 16200100 | B34: 70 años y más (independiente del motivo de ingreso) | C34: =IFERROR(VLOOKUP($A34,FILTRO!$A$4:$W$56,2,FALSE),0) -> 6592 | D34: =IFERROR(VLOOKUP($A34,FILTRO!$A$4:$W$56,3,FALSE),0) -> 33 | E34: =IFERROR(VLOOKUP($A34,FILTRO!$A$4:$W$56,4,FALSE),0) -> 1902 | F34: =IFERROR(VLOOKUP($A34,FILTRO!$A$4:$W$56,5,FALSE),0) -> 6547 | G34: =IFERROR(VLOOKUP($A34,FILTRO!$A$4:$W$56,6,FALSE),0) -> 51 | H34: =IFERROR(VLOOKUP($A34,FILTRO!$A$4:$W$56,7,FALSE),0) -> 1905 | I34: =$AB34&" "&$AC34
A35: 16200230 | B35: 65 - 69 años con alteración de la funcionalidad | C35: =IFERROR(VLOOKUP($A35,FILTRO!$A$4:$W$56,2,FALSE),0) -> 694 | D35: =IFERROR(VLOOKUP($A35,FILTRO!$A$4:$W$56,3,FALSE),0) -> 8 | E35: =IFERROR(VLOOKUP($A35,FILTRO!$A$4:$W$56,4,FALSE),0) -> 285 | F35: =IFERROR(VLOOKUP($A35,FILTRO!$A$4:$W$56,5,FALSE),0) -> 694 | G35: =IFERROR(VLOOKUP($A35,FILTRO!$A$4:$W$56,6,FALSE),0) -> 8 | H35: =IFERROR(VLOOKUP($A35,FILTRO!$A$4:$W$56,7,FALSE),0) -> 285 | I35: =$AB35&" "&$AC35
A36: 16200240 | B36: 65 - 69 años en programa social (Vínculos, Familia, Calle u otro) | C36: =IFERROR(VLOOKUP($A36,FILTRO!$A$4:$W$56,2,FALSE),0) -> 24 | D36: =IFERROR(VLOOKUP($A36,FILTRO!$A$4:$W$56,3,FALSE),0) -> 0 | E36: =IFERROR(VLOOKUP($A36,FILTRO!$A$4:$W$56,4,FALSE),0) -> 2 | F36: =IFERROR(VLOOKUP($A36,FILTRO!$A$4:$W$56,5,FALSE),0) -> 24 | G36: =IFERROR(VLOOKUP($A36,FILTRO!$A$4:$W$56,6,FALSE),0) -> 0 | H36: =IFERROR(VLOOKUP($A36,FILTRO!$A$4:$W$56,7,FALSE),0) -> 2 | I36: =$AB36&" "&$AC36
A37: 16200200 | B37: 60 - 69 años con tuberculosis | C37: =IFERROR(VLOOKUP($A37,FILTRO!$A$4:$W$56,2,FALSE),0) -> 0 | D37: =IFERROR(VLOOKUP($A37,FILTRO!$A$4:$W$56,3,FALSE),0) -> 0 | E37: =IFERROR(VLOOKUP($A37,FILTRO!$A$4:$W$56,4,FALSE),0) -> 0 | F37: =IFERROR(VLOOKUP($A37,FILTRO!$A$4:$W$56,5,FALSE),0) -> 0 | G37: =IFERROR(VLOOKUP($A37,FILTRO!$A$4:$W$56,6,FALSE),0) -> 0 | H37: =IFERROR(VLOOKUP($A37,FILTRO!$A$4:$W$56,7,FALSE),0) -> 0 | I37: =$AB37&" "&$AC37
A38: 16200250 | B38: 60 - 69 años en ELEAM autorizado o similar | C38: =IFERROR(VLOOKUP($A38,FILTRO!$A$4:$W$56,2,FALSE),0) -> 4 | D38: =IFERROR(VLOOKUP($A38,FILTRO!$A$4:$W$56,3,FALSE),0) -> 0 | E38: =IFERROR(VLOOKUP($A38,FILTRO!$A$4:$W$56,4,FALSE),0) -> 0 | F38: =IFERROR(VLOOKUP($A38,FILTRO!$A$4:$W$56,5,FALSE),0) -> 3 | G38: =IFERROR(VLOOKUP($A38,FILTRO!$A$4:$W$56,6,FALSE),0) -> 0 | H38: =IFERROR(VLOOKUP($A38,FILTRO!$A$4:$W$56,7,FALSE),0) -> 0 | I38: =$AB38&" "&$AC38
B39: TOTAL | C39: =SUM(C34:C38) -> 7314 | D39: =SUM(D34:D38) -> 41 | E39: =SUM(E34:E38) -> 2189 | F39: =SUM(F34:F38) -> 7268 | G39: =SUM(G34:G38) -> 59 | H39: =SUM(H34:H38) -> 2192
B205: =SUM(B8:O39) -> 3489168 | AE205: =SUM(AE1:AF204) -> 0
