Workbook

Sheet ELQUI
A1: MINISTERIO DE SALUD
A2: SERVICIO DE SALUD COQUIMBO
A3: SUBDIRECCION DE GESTION ASISTENCIAL
A4: SUBDEPTO DE ESTADÍSTICA Y GESTIÓN DE LA INFORMACIÓN
A6: POBLACION INSCRITA PERCAPITA VALIDADA 2018 IV REGION - AMBOS SEXOS
A7: PROVINCIA - ELQUI
A9: 2018 | B9: 0 - 4 | C9: 5 - 9 | D9: 10 - 14 | E9: 15 - 19 | F9: 20 - 24 | G9: 25 - 29 | H9: 30 - 34 | I9: 35 - 39 | J9: 40-44 | K9: 45-49 | L9: 50 - 54 | M9: 55 - 59 | N9: 60 - 64 | O9: 65 - 69 | P9: 70 - 74 | Q9: 75 - 79 | R9: 80 Y + | S9: TOTAL
A10: TOTAL IV REGION | B10: =B11+LIMARI!B11+CHOAPA!B11 -> 33881 | C10: =C11+LIMARI!C11+CHOAPA!C11 -> 45243 | D10: =D11+LIMARI!D11+CHOAPA!D11 -> 40727 | E10: =E11+LIMARI!E11+CHOAPA!E11 -> 43904 | F10: =F11+LIMARI!F11+CHOAPA!F11 -> 48002 | G10: =G11+LIMARI!G11+CHOAPA!G11 -> 48669 | H10: =H11+LIMARI!H11+CHOAPA!H11 -> 41156 | I10: =I11+LIMARI!I11+CHOAPA!I11 -> 38300 | ... S10: =S11+LIMARI!S11+CHOAPA!S11 -> 595050
A11: PROVINCIA DE ELQUI | B11: =B12+B27+B37+B50+B53 -> 22290 | C11: =C12+C27+C37+C50+C53 -> 30396 | D11: =D12+D27+D37+D50+D53 -> 26781 | E11: =E12+E27+E37+E50+E53 -> 28790 | F11: =F12+F27+F37+F50+F53 -> 32259 | G11: =G12+G27+G37+G50+G53 -> 33201 | H11: =H12+H27+H37+H50+H53 -> 27669 | I11: =I12+I27+I37+I50+I53 -> 25492 | ... S11: =S12+S27+S37+S50+S53 -> 392393
A12: C. LA SERENA | B12: =SUM(B13:B25) -> 10090 | C12: =SUM(C13:C25) -> 14348 | D12: =SUM(D13:D25) -> 12698 | E12: =SUM(E13:E25) -> 13831 | F12: =SUM(F13:F25) -> 16209 | G12: =SUM(G13:G25) -> 16542 | H12: =SUM(H13:H25) -> 13514 | I12: =SUM(I13:I25) -> 12536 | ... S12: =SUM(S13:S25) -> 191158
A13: CGU CARDENAL CARO | B13: =B64+B115 -> 1969 | C13: =C64+C115 -> 2572 | D13: =D64+D115 -> 2353 | E13: =E64+E115 -> 2540 | F13: =F64+F115 -> 3192 | G13: =G64+G115 -> 3518 | H13: =H64+H115 -> 3061 | I13: =I64+I115 -> 2806 | ... R13: =R64+R115 -> 1704 | S13: =S64+S115+75 -> 40986
A14: CECOF VILLA EL INDIO | B14: =B65+B116 -> 25 | C14: =C65+C116 -> 13 | D14: =D65+D116 -> 8 | E14: =E65+E116 -> 6 | F14: =F65+F116 -> 11 | G14: =G65+G116 -> 16 | H14: =H65+H116 -> 8 | I14: =I65+I116 -> 12 | ... S14: =S65+S116 -> 157
A15: CGU LAS COMPAÑIAS | B15: =B66+B117 -> 1205 | C15: =C66+C117 -> 2058 | D15: =D66+D117 -> 1940 | E15: =E66+E117 -> 1908 | F15: =F66+F117 -> 2319 | G15: =G66+G117 -> 2242 | H15: =H66+H117 -> 1954 | I15: =I66+I117 -> 1838 | ... R15: =R66+R117 -> 790 | S15: =S66+S117+49 -> 27876
A16: CECOF VILLA ALEMANIA | B16: =B67+B118 -> 14 | C16: =C67+C118 -> 15 | D16: =D67+D118 -> 12 | E16: =E67+E118 -> 10 | F16: =F67+F118 -> 11 | G16: =G67+G118 -> 14 | H16: =H67+H118 -> 6 | I16: =I67+I118 -> 4 | ... S16: =S67+S118 -> 130
A17: CGU P. AGUIRRE CERDA | B17: =B68+B119 -> 1615 | C17: =C68+C119 -> 2231 | D17: =D68+D119 -> 1827 | E17: =E68+E119 -> 2101 | F17: =F68+F119 -> 2333 | G17: =G68+G119 -> 2421 | H17: =H68+H119 -> 1962 | I17: =I68+I119 -> 1767 | ... R17: =R68+R119 -> 967 | S17: =S68+S119+23 -> 28440
A18: CGU E. SCHAFFAUSER | B18: =B69+B120 -> 1700 | C18: =C69+C120 -> 2470 | D18: =D69+D120 -> 2268 | E18: =E69+E120 -> 2760 | F18: =F69+F120 -> 3370 | G18: =G69+G120 -> 3595 | H18: =H69+H120 -> 2831 | I18: =I69+I120 -> 2713 | ... R18: =R69+R120 -> 1653 | S18: =S69+S120+47 -> 40414
A19: C.S. R. SILVA HENRIQUEZ | B19: =B70+B121 -> 1685 | C19: =C70+C121 -> 2586 | D19: =D70+D121 -> 2244 | E19: =E70+E121 -> 2432 | F19: =F70+F121 -> 2798 | G19: =G70+G121 -> 2746 | H19: =H70+H121 -> 2099 | I19: =I70+I121 -> 1879 | ... R19: =R70+R121 -> 602 | S19: =S70+S121+30 -> 29860
A20: CECOF VILLA LAMBERT | B20: =B71+B122 -> 4 | C20: =C71+C122 -> 0 | D20: =D71+D122 -> 0 | E20: =E71+E122 -> 1 | F20: =F71+F122 -> 3 | G20: =G71+G122 -> 7 | H20: =H71+H122 -> 0 | I20: =I71+I122 -> 2 | ... S20: =S71+S122 -> 30
A21: C.JUAN PABLO II | B21: =B72+B123 -> 1827 | C21: =C72+C123 -> 2367 | D21: =D72+D123 -> 2016 | E21: =E72+E123 -> 2049 | F21: =F72+F123 -> 2151 | G21: =G72+G123 -> 1967 | H21: =H72+H123 -> 1561 | I21: =I72+I123 -> 1489 | ... R21: =R72+R123 -> 248 | S21: =S72+S123+3 -> 22888
A22: POSTA ALGARROBITO | B22: =B73+B124 -> 28 | C22: =C73+C124 -> 15 | D22: =D73+D124 -> 12 | E22: =E73+E124 -> 10 | F22: =F73+F124 -> 15 | G22: =G73+G124 -> 11 | H22: =H73+H124 -> 18 | I22: =I73+I124 -> 13 | ... S22: =S73+S124 -> 197
A23: POSTA EL ROMERO | B23: =B74+B125 -> 9 | C23: =C74+C125 -> 10 | D23: =D74+D125 -> 11 | E23: =E74+E125 -> 6 | F23: =F74+F125 -> 4 | G23: =G74+G125 -> 2 | H23: =H74+H125 -> 6 | I23: =I74+I125 -> 6 | ... S23: =S74+S125 -> 78
A24: POSTA LAMBERT | B24: =B75+B126 -> 4 | C24: =C75+C126 -> 5 | D24: =D75+D126 -> 4 | E24: =E75+E126 -> 0 | F24: =F75+F126 -> 1 | G24: =G75+G126 -> 0 | H24: =H75+H126 -> 4 | I24: =I75+I126 -> 3 | ... S24: =S75+S126 -> 33
A25: POSTA LAS ROJAS | B25: =B76+B127 -> 5 | C25: =C76+C127 -> 6 | D25: =D76+D127 -> 3 | E25: =E76+E127 -> 8 | F25: =F76+F127 -> 1 | G25: =G76+G127 -> 3 | H25: =H76+H127 -> 4 | I25: =I76+I127 -> 4 | ... S25: =S76+S127 -> 69
A27: C. COQUIMBO | B27: =SUM(B28:B35) -> 11595 | C27: =SUM(C28:C35) -> 15109 | D27: =SUM(D28:D35) -> 13111 | E27: =SUM(E28:E35) -> 13748 | F27: =SUM(F28:F35) -> 14777 | G27: =SUM(G28:G35) -> 15501 | H27: =SUM(H28:H35) -> 13093 | I27: =SUM(I28:I35) -> 11930 | ... S27: =SUM(S28:S35) -> 186462
A28: CGU SAN JUAN | B28: =B79+B130 -> 1917 | C28: =C79+C130 -> 2618 | D28: =D79+D130 -> 2331 | E28: =E79+E130 -> 2545 | F28: =F79+F130 -> 2804 | G28: =G79+G130 -> 2814 | H28: =H79+H130 -> 2396 | I28: =I79+I130 -> 2203 | ... R28: =R79+R130 -> 976 | S28: =S79+S130+37 -> 33876
A29: CGU SANTA CECILIA | B29: =B80+B131 -> 1881 | C29: =C80+C131 -> 2423 | D29: =D80+D131 -> 2080 | E29: =E80+E131 -> 2264 | F29: =F80+F131 -> 2769 | G29: =G80+G131 -> 2783 | H29: =H80+H131 -> 2294 | I29: =I80+I131 -> 1969 | ... R29: =R80+R131 -> 827 | S29: =S80+S131+22 -> 31426
A30: CGU TIERRAS BLANCAS | B30: =B81+B132 -> 3641 | C30: =C81+C132+1 -> 4285 | D30: =D81+D132 -> 3798 | E30: =E81+E132 -> 3989 | F30: =F81+F132 -> 4025 | G30: =G81+G132 -> 4341 | H30: =H81+H132 -> 3716 | I30: =I81+I132 -> 3440 | J30: =J81+J132 -> 3465 | K30: =K81+K132 -> 3319 | ... R30: =R81+R132 -> 1182 | S30: =S81+S132+41 -> 51369
A31: CECOF EL ALBA | B31: =B82+B133 -> 0 | C31: =C82+C133 -> 0 | D31: =D82+D133 -> 0 | E31: =E82+E133 -> 0 | F31: =F82+F133 -> 0 | G31: =G82+G133 -> 0 | H31: =H82+H133 -> 0 | I31: =I82+I133 -> 0 | ... S31: =S82+S133 -> 2
A32: CGU SERGIO AGUILAR | B32: =B83+B134 -> 3180 | C32: =C83+C134 -> 4375 | D32: =D83+D134 -> 3637 | E32: =E83+E134 -> 3630 | F32: =F83+F134+1 -> 3786 | G32: =G83+G134 -> 4094 | H32: =H83+H134 -> 3476 | I32: =I83+I134 -> 3100 | J32: =J83+J134 -> 2995 | K32: =K83+K134 -> 3045 | L32: =L83+L134 -> 3169 | M32: =M83+M134 -> 3064 | N32: =N83+N134 -> 2755 | ... R32: =R83+R134 -> 1995 | S32: =S83+S134+33+1 -> 51828
A33: CGR TONGOY | B33: =B84+B135 -> 474 | C33: =C84+C135 -> 649 | D33: =D84+D135 -> 581 | E33: =E84+E135 -> 660 | F33: =F84+F135 -> 710 | G33: =G84+G135 -> 740 | H33: =H84+H135 -> 576 | I33: =I84+I135 -> 587 | ... R33: =R84+R135 -> 250 | S33: =S84+S135+17 -> 8756
A34: POSTA PAN DE AZUCAR | B34: =B85+B136 -> 493 | C34: =C85+C136 -> 751 | D34: =D85+D136 -> 683 | E34: =E85+E136 -> 658 | F34: =F85+F136 -> 681 | G34: =G85+G136 -> 720 | H34: =H85+H136 -> 629 | I34: =I85+I136 -> 626 | ... R34: =R85+R136 -> 248 | S34: =S85+S136+22 -> 9150
A35: POSTA GUANAQUEROS | B35: =B86+B137 -> 9 | C35: =C86+C137 -> 8 | D35: =D86+D137 -> 1 | E35: =E86+E137 -> 2 | F35: =F86+F137 -> 2 | G35: =G86+G137 -> 9 | H35: =H86+H137 -> 6 | I35: =I86+I137 -> 5 | ... S35: =S86+S137 -> 55
A37: C. VICUÑA | B37: =SUM(B38:B48) -> 603 | C37: =SUM(C38:C48) -> 938 | D37: =SUM(D38:D48) -> 972 | E37: =SUM(E38:E48) -> 1211 | F37: =SUM(F38:F48) -> 1272 | G37: =SUM(G38:G48) -> 1157 | H37: =SUM(H38:H48) -> 1061 | I37: =SUM(I38:I48) -> 1025 | ... S37: =SUM(S38:S48) -> 14757
A38: HOSPITAL VICUÑA
A39: POSTA DIAGUITAS | B39: =B90+B141 -> 68 | C39: =C90+C141 -> 106 | D39: =D90+D141 -> 131 | E39: =E90+E141 -> 141 | F39: =F90+F141 -> 180 | G39: =G90+G141 -> 126 | H39: =H90+H141 -> 106 | I39: =I90+I141 -> 133 | ... R39: =R90+R141 -> 54 | S39: =SUM(B39:R39) -> 1800
A40: POSTA EL MOLLE | B40: =B91+B142 -> 27 | C40: =C91+C142 -> 75 | D40: =D91+D142 -> 45 | E40: =E91+E142 -> 88 | F40: =F91+F142 -> 98 | G40: =G91+G142 -> 86 | H40: =H91+H142 -> 78 | I40: =I91+I142 -> 79 | ... R40: =R91+R142 -> 33 | S40: =SUM(B40:R40) -> 1075
A41: POSTA EL TAMBO | B41: =B92+B143 -> 82 | C41: =C92+C143 -> 114 | D41: =D92+D143 -> 128 | E41: =E92+E143 -> 148 | F41: =F92+F143 -> 155 | G41: =G92+G143 -> 169 | H41: =H92+H143 -> 129 | I41: =I92+I143 -> 124 | ... R41: =R92+R143 -> 56 | S41: =SUM(B41:R41)+1 -> 1938
A42: POSTA HUANTA | B42: =B93+B144 -> 2 | C42: =C93+C144 -> 6 | D42: =D93+D144 -> 3 | E42: =E93+E144 -> 6 | F42: =F93+F144 -> 2 | G42: =G93+G144 -> 3 | H42: =H93+H144 -> 6 | I42: =I93+I144 -> 4 | ... R42: =R93+R144 -> 10 | S42: =SUM(B42:R42) -> 108
A43: POSTA PERALILLO | B43: =B94+B145 -> 90 | C43: =C94+C145 -> 127 | D43: =D94+D145 -> 158 | E43: =E94+E145 -> 215 | F43: =F94+F145 -> 193 | G43: =G94+G145 -> 184 | H43: =H94+H145 -> 195 | I43: =I94+I145 -> 187 | ... R43: =R94+R145 -> 89 | S43: =SUM(B43:R43)+2 -> 2393
A44: POSTA RIVADAVIA | B44: =B95+B146 -> 40 | C44: =C95+C146 -> 69 | D44: =D95+D146 -> 89 | E44: =E95+E146 -> 121 | F44: =F95+F146 -> 141 | G44: =G95+G146 -> 90 | H44: =H95+H146 -> 84 | I44: =I95+I146 -> 78 | ... R44: =R95+R146 -> 46 | S44: =SUM(B44:R44)+1 -> 1336
...

Sheet LIMARI
A1: MINISTERIO DE SALUD
A2: SERVICIO DE SALUD COQUIMBO
A3: SUBDIRECCION DE GESTION ASISTENCIAL
A4: SUBDEPTO DE ESTADÍSTICA Y GESTIÓN DE LA INFORMACIÓN
A6: POBLACION INSCRITA PERCAPITA VALIDADA 2018 IV REGION - AMBOS SEXOS
A7: PROVINCIA - LIMARI
A9: 2018 | B9: 0 - 4 | C9: 5 - 9 | D9: 10 - 14 | E9: 15 - 19 | F9: 20 - 24 | G9: 25 - 29 | H9: 30 - 34 | I9: 35 - 39 | J9: 40 - 44 | K9: 45-49 | L9: 50 - 54 | M9: 55 - 59 | N9: 60 - 64 | O9: 65 - 69 | P9: 70 - 74 | Q9: 75 - 79 | R9: 80 Y + | S9: TOTAL
A10: TOTAL IV REGION | B10: =ELQUI!B11+LIMARI!B11+CHOAPA!B11 -> 33881 | C10: =ELQUI!C11+LIMARI!C11+CHOAPA!C11 -> 45243 | D10: =ELQUI!D11+LIMARI!D11+CHOAPA!D11 -> 40727 | E10: =ELQUI!E11+LIMARI!E11+CHOAPA!E11 -> 43904 | F10: =ELQUI!F11+LIMARI!F11+CHOAPA!F11 -> 48002 | G10: =ELQUI!G11+LIMARI!G11+CHOAPA!G11 -> 48669 | H10: =ELQUI!H11+LIMARI!H11+CHOAPA!H11 -> 41156 | I10: =ELQUI!I11+LIMARI!I11+CHOAPA!I11 -> 38300 | ... S10: =ELQUI!S11+LIMARI!S11+CHOAPA!S11 -> 595050
A11: PROVINCIA EL LIMARI | B11: =B12+B29+B38+B53+B56 -> 9099 | C11: =C12+C29+C38+C53+C56 -> 11502 | D11: =D12+D29+D38+D53+D56 -> 10706 | E11: =E12+E29+E38+E53+E56 -> 11521 | F11: =F12+F29+F38+F53+F56 -> 12207 | G11: =G12+G29+G38+G53+G56 -> 12096 | H11: =H12+H29+H38+H53+H56 -> 10451 | I11: =I12+I29+I38+I53+I56 -> 9903 | ... S11: =S12+S29+S38+S53+S56 -> 154434
A12: C. OVALLE | B12: =SUM(B13:B27) -> 6286 | C12: =SUM(C13:C27) -> 7657 | D12: =SUM(D13:D27) -> 6967 | E12: =SUM(E13:E27) -> 7471 | F12: =SUM(F13:F27) -> 7973 | G12: =SUM(G13:G27) -> 7863 | H12: =SUM(H13:H27) -> 6673 | I12: =SUM(I13:I27) -> 6098 | ... S12: =SUM(S13:S27) -> 98417
A13: C.G.R. CERRILLOS DE TAMAYA | B13: =B69+B125 -> 414 | C13: =C69+C125 -> 591 | D13: =D69+D125 -> 570 | E13: =E69+E125 -> 534 | F13: =F69+F125 -> 623 | G13: =G69+G125 -> 621 | H13: =H69+H125 -> 601 | I13: =I69+I125 -> 542 | ... S13: =S69+S125 -> 7897
A14: C.G.U JORGE JORDAN | B14: =B70+B126 -> 1920 | C14: =C70+C126 -> 2201 | D14: =D70+D126 -> 1920 | E14: =E70+E126 -> 2174 | F14: =F70+F126 -> 2394 | G14: =G70+G126 -> 2483 | H14: =H70+H126 -> 2016 | I14: =I70+I126 -> 1731 | ... R14: =R70+R126 -> 828 | S14: =S70+S126+13 -> 28624
A15: CECOF SAN JOSE DE LA DEHESA | B15: =B71+B127 -> 132 | C15: =C71+C127 -> 131 | D15: =D71+D127 -> 109 | E15: =E71+E127 -> 107 | F15: =F71+F127 -> 140 | G15: =G71+G127 -> 134 | H15: =H71+H127 -> 74 | I15: =I71+I127 -> 59 | ... S15: =S71+S127 -> 1466
A16: C.G.U MARCOS MACUADA | B16: =B72+B128 -> 3100 | C16: =C72+C128 -> 3716 | D16: =D72+D128 -> 3377 | E16: =E72+E128 -> 3585 | F16: =F72+F128 -> 3679 | G16: =G72+G128 -> 3438 | H16: =H72+H128 -> 2978 | I16: =I72+I128 -> 2838 | ... R16: =R72+R128 -> 1611 | S16: =S72+S128+3 -> 45226
A17: CECOF LIMARI | B17: =B73+B129 -> 31 | C17: =C73+C129 -> 43 | D17: =D73+D129 -> 33 | E17: =E73+E129 -> 30 | F17: =F73+F129 -> 24 | G17: =G73+G129 -> 28 | H17: =H73+H129 -> 20 | I17: =I73+I129 -> 27 | ... S17: =S73+S129 -> 390
A18: C.G.R. SOTAQUI | B18: =B74+B130 -> 340 | C18: =C74+C130 -> 391 | D18: =D74+D130 -> 374 | E18: =E74+E130 -> 405 | F18: =F74+F130 -> 468 | G18: =G74+G130 -> 439 | H18: =H74+H130 -> 366 | I18: =I74+I130 -> 347 | ... R18: =R74+R130 -> 197 | S18: =S74+S130+3 -> 5527
A19: POSTA LIMARI | B19: =B75+B131 -> 280 | C19: =C75+C131 -> 537 | D19: =D75+D131 -> 532 | E19: =E75+E131 -> 591 | F19: =F75+F131 -> 612 | G19: =G75+G131 -> 670 | H19: =H75+H131 -> 571 | I19: =I75+I131 -> 512 | ... R19: =R75+R131 -> 410 | S19: =S75+S131+5 -> 8688
A20: POSTA ALCONES BAJOS | B20: =B76+B132 -> 3 | C20: =C76+C132 -> 2 | D20: =D76+D132 -> 4 | E20: =E76+E132 -> 0 | F20: =F76+F132 -> 0 | G20: =G76+G132 -> 0 | H20: =H76+H132 -> 0 | I20: =I76+I132 -> 1 | ... S20: =S76+S132 -> 13
A21: POSTA CAMARICO | B21: =B77+B133 -> 15 | C21: =C77+C133 -> 12 | D21: =D77+D133 -> 11 | E21: =E77+E133 -> 14 | F21: =F77+F133 -> 8 | G21: =G77+G133 -> 13 | H21: =H77+H133 -> 13 | I21: =I77+I133 -> 11 | ... S21: =S77+S133 -> 155
A22: POSTA CERRO BLANCO | B22: =B78+B134 -> 1 | C22: =C78+C134 -> 0 | D22: =D78+D134 -> 0 | E22: =E78+E134 -> 0 | F22: =F78+F134 -> 0 | G22: =G78+G134 -> 1 | H22: =H78+H134 -> 3 | I22: =I78+I134 -> 2 | ... S22: =S78+S134 -> 15
A23: POSTA CHALINGA | B23: =B79+B135 -> 3 | C23: =C79+C135 -> 3 | D23: =D79+D135 -> 3 | E23: =E79+E135 -> 0 | F23: =F79+F135 -> 2 | G23: =G79+G135 -> 5 | H23: =H79+H135 -> 1 | I23: =I79+I135 -> 1 | ... S23: =S79+S135 -> 23
A24: POSTA HORNILLOS | B24: =B80+B136 -> 2 | C24: =C80+C136 -> 0 | D24: =D80+D136 -> 0 | E24: =E80+E136 -> 0 | F24: =F80+F136 -> 0 | G24: =G80+G136 -> 0 | H24: =H80+H136 -> 1 | I24: =I80+I136 -> 0 | ... S24: =S80+S136 -> 3
A25: POSTA HUAMALATA | B25: =B81+B137 -> 22 | C25: =C81+C137 -> 18 | D25: =D81+D137 -> 14 | E25: =E81+E137 -> 18 | F25: =F81+F137 -> 14 | G25: =G81+G137 -> 16 | H25: =H81+H137 -> 15 | I25: =I81+I137 -> 13 | ... S25: =S81+S137 -> 195
A26: POSTA LA SOSSAS | B26: =B82+B138 -> 0 | C26: =C82+C138 -> 0 | D26: =D82+D138 -> 0 | E26: =E82+E138 -> 0 | F26: =F82+F138 -> 0 | G26: =G82+G138 -> 0 | H26: =H82+H138 -> 0 | I26: =I82+I138 -> 0 | ... S26: =S82+S138 -> 1
A27: POSTA RECOLETA | B27: =B83+B139 -> 23 | C27: =C83+C139 -> 12 | D27: =D83+D139 -> 20 | E27: =E83+E139 -> 13 | F27: =F83+F139 -> 9 | G27: =G83+G139 -> 15 | H27: =H83+H139 -> 14 | I27: =I83+I139 -> 14 | ... S27: =S83+S139 -> 194
A29: C. RIO HURTADO | B29: =SUM(B30:B36) -> 185 | C29: =SUM(C30:C36) -> 266 | D29: =SUM(D30:D36) -> 286 | E29: =SUM(E30:E36) -> 280 | F29: =SUM(F30:F36) -> 333 | G29: =SUM(G30:G36) -> 296 | H29: =SUM(H30:H36) -> 299 | I29: =SUM(I30:I36) -> 269 | ... S29: =SUM(S30:S36) -> 4468
A30: C.G.R PICHASCA | B30: =B86+B142 -> 80 | C30: =C86+C142 -> 101 | D30: =D86+D142 -> 118 | E30: =E86+E142 -> 95 | F30: =F86+F142 -> 115 | G30: =G86+G142 -> 105 | H30: =H86+H142 -> 116 | I30: =I86+I142 -> 89 | ... R30: =R86+R142 -> 65 | S30: =SUM(B30:R30)+2 -> 1581
A31: POSTA EL CHAÑAR | B31: =B87+B143 -> 13 | C31: =C87+C143 -> 13 | D31: =D87+D143 -> 17 | E31: =E87+E143 -> 11 | F31: =F87+F143 -> 16 | G31: =G87+G143 -> 18 | H31: =H87+H143 -> 9 | I31: =I87+I143 -> 13 | ... R31: =R87+R143 -> 11 | S31: =SUM(B31:R31) -> 233
A32: POSTA HURTADO | B32: =B88+B144 -> 15 | C32: =C88+C144 -> 18 | D32: =D88+D144 -> 24 | E32: =E88+E144 -> 38 | F32: =F88+F144 -> 35 | G32: =G88+G144 -> 33 | H32: =H88+H144 -> 29 | I32: =I88+I144 -> 34 | ... R32: =R88+R144 -> 24 | S32: =SUM(B32:R32) -> 477
A33: POSTA LAS BREAS | B33: =B89+B145 -> 11 | C33: =C89+C145 -> 17 | D33: =D89+D145 -> 23 | E33: =E89+E145 -> 29 | F33: =F89+F145 -> 17 | G33: =G89+G145 -> 15 | H33: =H89+H145 -> 23 | I33: =I89+I145 -> 23 | ... R33: =R89+R145 -> 16 | S33: =SUM(B33:R33)+1 -> 317
A34: POSTA SAMO ALTO | B34: =B90+B146 -> 20 | C34: =C90+C146 -> 45 | D34: =D90+D146 -> 36 | E34: =E90+E146 -> 36 | F34: =F90+F146 -> 46 | G34: =G90+G146 -> 52 | H34: =H90+H146 -> 51 | I34: =I90+I146 -> 35 | ... R34: =R90+R146 -> 40 | S34: =SUM(B34:R34) -> 729
A35: POSTA SERON | B35: =B91+B147 -> 32 | C35: =C91+C147 -> 42 | D35: =D91+D147 -> 47 | E35: =E91+E147 -> 48 | F35: =F91+F147 -> 70 | G35: =G91+G147 -> 51 | H35: =H91+H147 -> 50 | I35: =I91+I147 -> 50 | ... R35: =R91+R147 -> 39 | S35: =SUM(B35:R35)+1 -> 767
A36: POSTA TABAQUEROS | B36: =B92+B148 -> 14 | C36: =C92+C148 -> 30 | D36: =D92+D148 -> 21 | E36: =E92+E148 -> 23 | F36: =F92+F148 -> 34 | G36: =G92+G148 -> 22 | H36: =H92+H148 -> 21 | I36: =I92+I148 -> 25 | ... R36: =R92+R148 -> 22 | S36: =SUM(B36:R36) -> 364
A38: C. MONTE PATRIA | B38: =SUM(B39:B51) -> 1940 | C38: =SUM(C39:C51) -> 2365 | D38: =SUM(D39:D51) -> 2230 | E38: =SUM(E39:E51) -> 2440 | F38: =SUM(F39:F51) -> 2601 | G38: =SUM(G39:G51) -> 2682 | H38: =SUM(H39:H51) -> 2260 | I38: =SUM(I39:I51) -> 2326 | ... S38: =SUM(S39:S51) -> 33301
A39: C.G.R. MONTE PATRIA | B39: =B95+B151 -> 754 | C39: =C95+C151 -> 921 | D39: =D95+D151 -> 947 | E39: =E95+E151 -> 978 | F39: =F95+F151 -> 1085 | G39: =G95+G151 -> 1118 | H39: =H95+H151 -> 952 | I39: =I95+I151 -> 917 | ... R39: =R95+R151 -> 428 | S39: =S95+S151+2 -> 13391
A40: C.G.R CHAÑARAL ALTO | B40: =B96+B152 -> 287 | C40: =C96+C152 -> 378 | D40: =D96+D152 -> 332 | E40: =E96+E152 -> 393 | F40: =F96+F152 -> 402 | G40: =G96+G152 -> 395 | H40: =H96+H152 -> 335 | I40: =I96+I152 -> 375 | ... R40: =R96+R152 -> 181 | S40: =S96+S152+7 -> 5346
A41: C.G.R CAREN | B41: =B97+B153 -> 262 | C41: =C97+C153 -> 351 | D41: =D97+D153 -> 363 | E41: =E97+E153 -> 433 | F41: =F97+F153 -> 426 | G41: =G97+G153 -> 441 | H41: =H97+H153 -> 372 | I41: =I97+I153 -> 401 | ... R41: =R97+R153 -> 310 | S41: =S97+S153+3 -> 5857
A42: C.G.R EL PALQUI | B42: =B98+B154 -> 626 | C42: =C98+C154 -> 703 | D42: =D98+D154 -> 577 | E42: =E98+E154 -> 627 | F42: =F98+F154 -> 667 | G42: =G98+G154 -> 713 | H42: =H98+H154 -> 589 | I42: =I98+I154 -> 623 | ... R42: =R98+R154 -> 182 | S42: =S98+S154+1 -> 8518
A43: POSTA CHILECITO | B43: =B99+B155 -> 0 | C43: =C99+C155 -> 0 | D43: =D99+D155 -> 1 | E43: =E99+E155 -> 0 | F43: =F99+F155 -> 1 | G43: =G99+G155 -> 0 | H43: =H99+H155 -> 1 | I43: =I99+I155 -> 2 | ... S43: =S99+S155 -> 16
A44: POSTA EL MAITEN | B44: =B100+B156 -> 0 | C44: =C100+C156 -> 0 | D44: =D100+D156 -> 0 | E44: =E100+E156 -> 0 | F44: =F100+F156 -> 0 | G44: =G100+G156 -> 0 | H44: =H100+H156 -> 0 | I44: =I100+I156 -> 0 | ... S44: =S100+S156 -> 3
...

Sheet CHOAPA
A1: MINISTERIO DE SALUD
A2: SERVICIO DE SALUD COQUIMBO
A3: SUBDIRECCION DE GESTION ASISTENCIAL
A4: SUBDEPTO DE ESTADÍSTICA Y GESTIÓN DE LA INFORMACIÓN
A6: POBLACION INSCRITA PERCAPITA VALIDADA 2018 IV REGION - AMBOS SEXOS
A7: PROVINCIA - CHOAPA
A9: 2018 | B9: 0 - 4 | C9: 5 - 9 | D9: 10 - 14 | E9: 15 - 19 | F9: 20 - 24 | G9: 25 - 29 | H9: 30 - 34 | I9: 35 - 39 | J9: 40 - 44 | K9: 45-49 | L9: 50 - 54 | M9: 55 - 59 | N9: 60 - 64 | O9: 65 - 69 | P9: 70 - 74 | Q9: 75 - 79 | R9: 80 Y = | S9: TOTAL
A10: TOTAL IV REGION | B10: =ELQUI!B11+LIMARI!B11+CHOAPA!B11 -> 33881 | C10: =ELQUI!C11+LIMARI!C11+CHOAPA!C11 -> 45243 | D10: =ELQUI!D11+LIMARI!D11+CHOAPA!D11 -> 40727 | E10: =ELQUI!E11+LIMARI!E11+CHOAPA!E11 -> 43904 | F10: =ELQUI!F11+LIMARI!F11+CHOAPA!F11 -> 48002 | G10: =ELQUI!G11+LIMARI!G11+CHOAPA!G11 -> 48669 | H10: =ELQUI!H11+LIMARI!H11+CHOAPA!H11 -> 41156 | I10: =ELQUI!I11+LIMARI!I11+CHOAPA!I11 -> 38300 | ... S10: =ELQUI!S11+LIMARI!S11+CHOAPA!S11 -> 595050
A11: PROVINCIA CHOAPA | B11: =B12+B29+B42+B50 -> 2492 | C11: =C12+C29+C42+C50 -> 3345 | D11: =D12+D29+D42+D50 -> 3240 | E11: =E12+E29+E42+E50 -> 3593 | F11: =F12+F29+F42+F50 -> 3536 | G11: =G12+G29+G42+G50 -> 3372 | H11: =H12+H29+H42+H50 -> 3036 | I11: =I12+I29+I42+I50 -> 2905 | ... S11: =S12+S29+S42+S50 -> 48223
A12: C. ILLAPEL | B12: =SUM(B13:B27) -> 1486 | C12: =SUM(C13:C27) -> 1552 | D12: =SUM(D13:D27) -> 1414 | E12: =SUM(E13:E27) -> 1535 | F12: =SUM(F13:F27) -> 1383 | G12: =SUM(G13:G27) -> 1331 | H12: =SUM(H13:H27) -> 1179 | I12: =SUM(I13:I27) -> 1080 | ... S12: =SUM(S13:S27) -> 19925
A13: HOSPITAL ILLAPEL
A14: CESFAM VILLA SAN RAFAEL DE ROZAS | B14: =B62+B110 -> 115 | C14: =C62+C110 -> 59 | D14: =D62+D110 -> 36 | E14: =E62+E110 -> 44 | F14: =F62+F110 -> 45 | G14: =G62+G110 -> 50 | H14: =H62+H110 -> 46 | I14: =I62+I110 -> 36 | ... S14: =S62+S110 -> 630
A15: CESFAM URBANO | B15: =B63+B111 -> 955 | C15: =C63+C111 -> 611 | D15: =D63+D111 -> 458 | E15: =E63+E111 -> 468 | F15: =F63+F111 -> 367 | G15: =G63+G111 -> 342 | H15: =H63+H111 -> 303 | I15: =I63+I111 -> 280 | ... R15: =R63+R111 -> 360 | S15: =S63+S111+8 -> 7161
A16: POSTA CARCAMO | B16: =B64+B112 -> 10 | C16: =C64+C112 -> 31 | D16: =D64+D112 -> 32 | E16: =E64+E112 -> 49 | F16: =F64+F112 -> 41 | G16: =G64+G112 -> 52 | H16: =H64+H112 -> 42 | I16: =I64+I112 -> 36 | ... S16: =S64+S112 -> 687
A17: POSTA HUINTIL | B17: =B65+B113 -> 8 | C17: =C65+C113 -> 33 | D17: =D65+D113 -> 30 | E17: =E65+E113 -> 24 | F17: =F65+F113 -> 28 | G17: =G65+G113 -> 23 | H17: =H65+H113 -> 24 | I17: =I65+I113 -> 22 | ... S17: =S65+S113 -> 431
A18: POSTA LIMAHUIDA | B18: =B66+B114 -> 11 | C18: =C66+C114 -> 21 | D18: =D66+D114 -> 20 | E18: =E66+E114 -> 35 | F18: =F66+F114 -> 30 | G18: =G66+G114 -> 31 | H18: =H66+H114 -> 22 | I18: =I66+I114 -> 17 | ... R18: =R66+R114 -> 17 | S18: =S66+S114+1 -> 396
A19: POSTA MATANCILLA | B19: =B67+B115 -> 15 | C19: =C67+C115 -> 21 | D19: =D67+D115 -> 14 | E19: =E67+E115 -> 25 | F19: =F67+F115 -> 29 | G19: =G67+G115 -> 22 | H19: =H67+H115 -> 18 | I19: =I67+I115 -> 18 | ... S19: =S67+S115 -> 369
A20: POSTA PERALILLO | B20: =B68+B116 -> 18 | C20: =C68+C116 -> 30 | D20: =D68+D116 -> 46 | E20: =E68+E116 -> 49 | F20: =F68+F116 -> 41 | G20: =G68+G116 -> 39 | H20: =H68+H116 -> 35 | I20: =I68+I116 -> 38 | ... S20: =S68+S116 -> 541
A21: POSTA STA. VIRGINIA | B21: =B69+B117 -> 7 | C21: =C69+C117 -> 24 | D21: =D69+D117 -> 36 | E21: =E69+E117 -> 51 | F21: =F69+F117 -> 37 | G21: =G69+G117 -> 39 | H21: =H69+H117 -> 25 | I21: =I69+I117 -> 29 | ... S21: =S69+S117 -> 472
A22: POSTA TUNGA-NORTE | B22: =B70+B118 -> 4 | C22: =C70+C118 -> 35 | D22: =D70+D118 -> 50 | E22: =E70+E118 -> 52 | F22: =F70+F118 -> 44 | G22: =G70+G118 -> 47 | H22: =H70+H118 -> 42 | I22: =I70+I118 -> 41 | ... S22: =S70+S118 -> 702
A23: POSTA PLAN DE HORNOS | B23: =B71+B119 -> 7 | C23: =C71+C119 -> 11 | D23: =D71+D119 -> 11 | E23: =E71+E119 -> 15 | F23: =F71+F119 -> 17 | G23: =G71+G119 -> 33 | H23: =H71+H119 -> 27 | I23: =I71+I119 -> 23 | ... R23: =R71+R119 -> 8 | S23: =S71+S119+1 -> 295
A24: POSTA TUNGA-SUR | B24: =B72+B120 -> 2 | C24: =C72+C120 -> 10 | D24: =D72+D120 -> 7 | E24: =E72+E120 -> 12 | F24: =F72+F120 -> 13 | G24: =G72+G120 -> 13 | H24: =H72+H120 -> 15 | I24: =I72+I120 -> 10 | ... R24: =R72+R120 -> 20 | S24: =S72+S120+1 -> 254
A25: POSTA PINTACURA | B25: =B73+B121 -> 267 | C25: =C73+C121 -> 553 | D25: =D73+D121 -> 556 | E25: =E73+E121 -> 592 | F25: =F73+F121 -> 579 | G25: =G73+G121 -> 529 | H25: =H73+H121 -> 482 | I25: =I73+I121 -> 426 | ... R25: =R73+R121 -> 103 | S25: =S73+S121+3 -> 6531
A26: P. CAÑAS UNO DEL CHOAPA | B26: =B74+B122 -> 67 | C26: =C74+C122 -> 113 | D26: =D74+D122 -> 118 | E26: =E74+E122 -> 119 | F26: =F74+F122 -> 112 | G26: =G74+G122 -> 111 | H26: =H74+H122 -> 98 | I26: =I74+I122 -> 104 | ... S26: =S74+S122 -> 1455
A27: POSTA SOCAVON | B27: =B75+B123 -> 0 | C27: =C75+C123 -> 0 | D27: =D75+D123 -> 0 | E27: =E75+E123 -> 0 | F27: =F75+F123 -> 0 | G27: =G75+G123 -> 0 | H27: =H75+H123 -> 0 | I27: =I75+I123 -> 0 | ... S27: =S75+S123 -> 1
A29: C. SALAMANCA | B29: =SUM(B30:B40) -> 469 | C29: =SUM(C30:C40) -> 815 | D29: =SUM(D30:D40) -> 821 | E29: =SUM(E30:E40) -> 953 | F29: =SUM(F30:F40) -> 977 | G29: =SUM(G30:G40) -> 992 | H29: =SUM(H30:H40) -> 893 | I29: =SUM(I30:I40) -> 800 | ... S29: =SUM(S30:S40) -> 12919
A30: HOSPITAL SALAMANCA
A31: POSTA CUNCUMEN | B31: =B79+B127 -> 273 | C31: =C79+C127 -> 699 | D31: =D79+D127 -> 725 | E31: =E79+E127 -> 858 | F31: =F79+F127 -> 849 | G31: =G79+G127 -> 856 | H31: =H79+H127 -> 773 | I31: =I79+I127 -> 687 | ... R31: =R79+R127 -> 427 | S31: =S79+S127+1 -> 11265
A32: POSTA ARBOLEDA GRANDE | B32: =B80+B128 -> 20 | C32: =C80+C128 -> 16 | D32: =D80+D128 -> 8 | E32: =E80+E128 -> 8 | F32: =F80+F128 -> 11 | G32: =G80+G128 -> 13 | H32: =H80+H128 -> 11 | I32: =I80+I128 -> 11 | ... S32: =S80+S128 -> 176
A33: POSTA CAMISA | B33: =B81+B129 -> 5 | C33: =C81+C129 -> 4 | D33: =D81+D129 -> 2 | E33: =E81+E129 -> 2 | F33: =F81+F129 -> 6 | G33: =G81+G129 -> 0 | H33: =H81+H129 -> 3 | I33: =I81+I129 -> 2 | ... S33: =S81+S129 -> 33
A34: POSTA CHILLEPIN | B34: =B82+B130 -> 40 | C34: =C82+C130 -> 11 | D34: =D82+D130 -> 11 | E34: =E82+E130 -> 22 | F34: =F82+F130 -> 21 | G34: =G82+G130 -> 30 | H34: =H82+H130 -> 27 | I34: =I82+I130 -> 20 | ... S34: =S82+S130 -> 285
A35: POSTA CUNLAGUA | B35: =B83+B131 -> 7 | C35: =C83+C131 -> 1 | D35: =D83+D131 -> 3 | E35: =E83+E131 -> 3 | F35: =F83+F131 -> 3 | G35: =G83+G131 -> 2 | H35: =H83+H131 -> 3 | I35: =I83+I131 -> 5 | ... S35: =S83+S131 -> 37
A36: POSTA LLIMPO | B36: =B84+B132 -> 6 | C36: =C84+C132 -> 3 | D36: =D84+D132 -> 1 | E36: =E84+E132 -> 1 | F36: =F84+F132 -> 4 | G36: =G84+G132 -> 8 | H36: =H84+H132 -> 4 | I36: =I84+I132 -> 3 | ... S36: =S84+S132 -> 35
A37: POSTA QUELEN BAJO | B37: =B85+B133 -> 32 | C37: =C85+C133 -> 6 | D37: =D85+D133 -> 6 | E37: =E85+E133 -> 3 | F37: =F85+F133 -> 11 | G37: =G85+G133 -> 15 | H37: =H85+H133 -> 7 | I37: =I85+I133 -> 12 | ... S37: =S85+S133 -> 125
A38: POSTA SAN AGUSTIN | B38: =B86+B134 -> 0 | C38: =C86+C134 -> 0 | D38: =D86+D134 -> 0 | E38: =E86+E134 -> 0 | F38: =F86+F134 -> 0 | G38: =G86+G134 -> 0 | H38: =H86+H134 -> 1 | I38: =I86+I134 -> 1 | ... S38: =S86+S134 -> 3
A39: PASTA TAHUINCO | B39: =B87+B135 -> 57 | C39: =C87+C135 -> 63 | D39: =D87+D135 -> 62 | E39: =E87+E135 -> 52 | F39: =F87+F135 -> 52 | G39: =G87+G135 -> 55 | H39: =H87+H135 -> 47 | I39: =I87+I135 -> 49 | ... S39: =S87+S135 -> 817
A40: POSTA TRANQUILLA | B40: =B88+B136 -> 29 | C40: =C88+C136 -> 12 | D40: =D88+D136 -> 3 | E40: =E88+E136 -> 4 | F40: =F88+F136 -> 20 | G40: =G88+G136 -> 13 | H40: =H88+H136 -> 17 | I40: =I88+I136 -> 10 | ... S40: =S88+S136 -> 143
A42: C. LOS VILOS | B42: =SUM(B44:B48) -> 212 | C42: =SUM(C44:C48) -> 422 | D42: =SUM(D44:D48) -> 428 | E42: =SUM(E44:E48) -> 443 | F42: =SUM(F44:F48) -> 480 | G42: =SUM(G44:G48) -> 416 | H42: =SUM(H44:H48) -> 400 | I42: =SUM(I44:I48) -> 414 | ... R42: =SUM(R44:R48) -> 261 | S42: =SUM(S44:S48)+1 -> 6069
A43: HOSPITAL LOS VILOS
A44: POSTA CAIMANES | B44: =B92+B140 -> 156 | C44: =C92+C140 -> 400 | D44: =D92+D140 -> 410 | E44: =E92+E140 -> 424 | F44: =F92+F140 -> 443 | G44: =G92+G140 -> 385 | H44: =H92+H140 -> 370 | I44: =I92+I140 -> 378 | ... S44: =S92+S140 -> 5637
...
