Workbook

Sheet ELQUI
A1: MINISTERIO DE SALUD
A2: SERVICIO DE SALUD COQUIMBO
A3: SUBDIRECCION DE GESTION ASISTENCIAL
A4: SUBDEPTO DE ESTADÍSTICA Y GESTIÓN DE LA INFORMACIÓN
A6: POBLACION INSCRITA PERCAPITA VALIDADA 2018 IV REGION - AMBOS SEXOS
A7: PROVINCIA - ELQUI
A9: 2018 | B9: 0 - 4 | C9: 5 - 9 | D9: 10 - 14 | E9: 15 - 19 | F9: 20 - 24 | G9: 25 - 29 | H9: 30 - 34 | I9: 35 - 39 | J9: 40-44 | K9: 45-49 | L9: 50 - 54 | M9: 55 - 59 | N9: 60 - 64 | O9: 65 - 69 | P9: 70 - 74 | Q9: 75 - 79 | R9: 80 Y + | S9: TOTAL
A10: TOTAL IV REGION | B10: =B11+LIMARI!B11+CHOAPA!B11 -> 33881 | C10: =C11+LIMARI!C11+CHOAPA!C11 -> 45243 | D10: =D11+LIMARI!D11+CHOAPA!D11 -> 40727 | E10: =E11+LIMARI!E11+CHOAPA!E11 -> 43904 | F10: =F11+LIMARI!F11+CHOAPA!F11 -> 48002 | G10: =G11+LIMARI!G11+CHOAPA!G11 -> 48669 | H10: =H11+LIMARI!H11+CHOAPA!H11 -> 41156 | I10: =I11+LIMARI!I11+CHOAPA!I11 -> 38300 | ... S10: =S11+LIMARI!S11+CHOAPA!S11 -> 595050
A11: PROVINCIA DE ELQUI | B11: =B12+B27+B37+B50+B53 -> 22290 | C11: =C12+C27+C37+C50+C53 -> 30396 | D11: =D12+D27+D37+D50+D53 -> 26781 | E11: =E12+E27+E37+E50+E53 -> 28790 | F11: =F12+F27+F37+F50+F53 -> 32259 | G11: =G12+G27+G37+G50+G53 -> 33201 | H11: =H12+H27+H37+H50+H53 -> 27669 | I11: =I12+I27+I37+I50+I53 -> 25492 | ... S11: =S12+S27+S37+S50+S53 -> 392393
A12: C. LA SERENA | B12: =SUM(B13:B25) -> 10090 | C12: =SUM(C13:C25) -> 14348 | D12: =SUM(D13:D25) -> 12698 | E12: =SUM(E13:E25) -> 13831 | F12: =SUM(F13:F25) -> 16209 | G12: =SUM(G13:G25) -> 16542 | H12: =SUM(H13:H25) -> 13514 | I12: =SUM(I13:I25) -> 12536 | ... S12: =SUM(S13:S25) -> 191158
A13: CGU CARDENAL CARO | B13: =B64+B115 -> 1969 | C13: =C64+C115 -> 2572 | D13: =D64+D115 -> 2353 | E13: =E64+E115 -> 2540 | F13: =F64+F115 -> 3192 | G13: =G64+G115 -> 3518 | H13: =H64+H115 -> 3061 | I13: =I64+I115 -> 2806 | ... R13: =R64+R115 -> 1704 | S13: =S64+S115+75 -> 40986
A14: CECOF VILLA EL INDIO | B14: =B65+B116 -> 25 | C14: =C65+C116 -> 13 | D14: =D65+D116 -> 8 | E14: =E65+E116 -> 6 | F14: =F65+F116 -> 11 | G14: =G65+G116 -> 16 | H14: =H65+H116 -> 8 | I14: =I65+I116 -> 12 | ... S14: =S65+S116 -> 157
A15: CGU LAS COMPAÑIAS | B15: =B66+B117 -> 1205 | C15: =C66+C117 -> 2058 | D15: =D66+D117 -> 1940 | E15: =E66+E117 -> 1908 | F15: =F66+F117 -> 2319 | G15: =G66+G117 -> 2242 | H15: =H66+H117 -> 1954 | I15: =I66+I117 -> 1838 | ... R15: =R66+R117 -> 790 | S15: =S66+S117+49 -> 27876
A16: CECOF VILLA ALEMANIA | B16: =B67+B118 -> 14 | C16: =C67+C118 -> 15 | D16: =D67+D118 -> 12 | E16: =E67+E118 -> 10 | F16: =F67+F118 -> 11 | G16: =G67+G118 -> 14 | H16: =H67+H118 -> 6 | I16: =I67+I118 -> 4 | ... S16: =S67+S118 -> 130
A17: CGU P. AGUIRRE CERDA | B17: =B68+B119 -> 1615 | C17: =C68+C119 -> 2231 | D17: =D68+D119 -> 1827 | E17: =E68+E119 -> 2101 | F17: =F68+F119 -> 2333 | G17: =G68+G119 -> 2421 | H17: =H68+H119 -> 1962 | I17: =I68+I119 -> 1767 | ... R17: =R68+R119 -> 967 | S17: =S68+S119+23 -> 28440
A18: CGU E. SCHAFFAUSER | B18: =B69+B120 -> 1700 | C18: =C69+C120 -> 2470 | D18: =D69+D120 -> 2268 | E18: =E69+E120 -> 2760 | F18: =F69+F120 -> 3370 | G18: =G69+G120 -> 3595 | H18: =H69+H120 -> 2831 | I18: =I69+I120 -> 2713 | ... R18: =R69+R120 -> 1653 | S18: =S69+S120+47 -> 40414
A19: C.S. R. SILVA HENRIQUEZ | B19: =B70+B121 -> 1685 | C19: =C70+C121 -> 2586 | D19: =D70+D121 -> 2244 | E19: =E70+E121 -> 2432 | F19: =F70+F121 -> 2798 | G19: =G70+G121 -> 2746 | H19: =H70+H121 -> 2099 | I19: =I70+I121 -> 1879 | ... R19: =R70+R121 -> 602 | S19: =S70+S121+30 -> 29860
A20: CECOF VILLA LAMBERT | B20: =B71+B122 -> 4 | C20: =C71+C122 -> 0 | D20: =D71+D122 -> 0 | E20: =E71+E122 -> 1 | F20: =F71+F122 -> 3 | G20: =G71+G122 -> 7 | H20: =H71+H122 -> 0 | I20: =I71+I122 -> 2 | ... S20: =S71+S122 -> 30
A21: C.JUAN PABLO II | B21: =B72+B123 -> 1827 | C21: =C72+C123 -> 2367 | D21: =D72+D123 -> 2016 | E21: =E72+E123 -> 2049 | F21: =F72+F123 -> 2151 | G21: =G72+G123 -> 1967 | H21: =H72+H123 -> 1561 | I21: =I72+I123 -> 1489 | ... R21: =R72+R123 -> 248 | S21: =S72+S123+3 -> 22888
A22: POSTA ALGARROBITO | B22: =B73+B124 -> 28 | C22: =C73+C124 -> 15 | D22: =D73+D124 -> 12 | E22: =E73+E124 -> 10 | F22: =F73+F124 -> 15 | G22: =G73+G124 -> 11 | H22: =H73+H124 -> 18 | I22: =I73+I124 -> 13 | ... S22: =S73+S124 -> 197
A23: POSTA EL ROMERO | B23: =B74+B125 -> 9 | C23: =C74+C125 -> 10 | D23: =D74+D125 -> 11 | E23: =E74+E125 -> 6 | F23: =F74+F125 -> 4 | G23: =G74+G125 -> 2 | H23: =H74+H125 -> 6 | I23: =I74+I125 -> 6 | ... S23: =S74+S125 -> 78
A24: POSTA LAMBERT | B24: =B75+B126 -> 4 | C24: =C75+C126 -> 5 | D24: =D75+D126 -> 4 | E24: =E75+E126 -> 0 | F24: =F75+F126 -> 1 | G24: =G75+G126 -> 0 | H24: =H75+H126 -> 4 | I24: =I75+I126 -> 3 | ... S24: =S75+S126 -> 33
A25: POSTA LAS ROJAS | B25: =B76+B127 -> 5 | C25: =C76+C127 -> 6 | D25: =D76+D127 -> 3 | E25: =E76+E127 -> 8 | F25: =F76+F127 -> 1 | G25: =G76+G127 -> 3 | H25: =H76+H127 -> 4 | I25: =I76+I127 -> 4 | ... S25: =S76+S127 -> 69
A27: C. COQUIMBO | B27: =SUM(B28:B35) -> 11595 | C27: =SUM(C28:C35) -> 15109 | D27: =SUM(D28:D35) -> 13111 | E27: =SUM(E28:E35) -> 13748 | F27: =SUM(F28:F35) -> 14777 | G27: =SUM(G28:G35) -> 15501 | H27: =SUM(H28:H35) -> 13093 | I27: =SUM(I28:I35) -> 11930 | ... S27: =SUM(S28:S35) -> 186462
A28: CGU SAN JUAN | B28: =B79+B130 -> 1917 | C28: =C79+C130 -> 2618 | D28: =D79+D130 -> 2331 | E28: =E79+E130 -> 2545 | F28: =F79+F130 -> 2804 | G28: =G79+G130 -> 2814 | H28: =H79+H130 -> 2396 | I28: =I79+I130 -> 2203 | ... R28: =R79+R130 -> 976 | S28: =S79+S130+37 -> 33876
A29: CGU SANTA CECILIA | B29: =B80+B131 -> 1881 | C29: =C80+C131 -> 2423 | D29: =D80+D131 -> 2080 | E29: =E80+E131 -> 2264 | F29: =F80+F131 -> 2769 | G29: =G80+G131 -> 2783 | H29: =H80+H131 -> 2294 | I29: =I80+I131 -> 1969 | ... R29: =R80+R131 -> 827 | S29: =S80+S131+22 -> 31426
A30: CGU TIERRAS BLANCAS | B30: =B81+B132 -> 3641 | C30: =C81+C132+1 -> 4285 | D30: =D81+D132 -> 3798 | E30: =E81+E132 -> 3989 | F30: =F81+F132 -> 4025 | G30: =G81+G132 -> 4341 | H30: =H81+H132 -> 3716 | I30: =I81+I132 -> 3440 | J30: =J81+J132 -> 3465 | K30: =K81+K132 -> 3319 | ... R30: =R81+R132 -> 1182 | S30: =S81+S132+41 -> 51369
A31: CECOF EL ALBA | B31: =B82+B133 -> 0 | C31: =C82+C133 -> 0 | D31: =D82+D133 -> 0 | E31: =E82+E133 -> 0 | F31: =F82+F133 -> 0 | G31: =G82+G133 -> 0 | H31: =H82+H133 -> 0 | I31: =I82+I133 -> 0 | ... S31: =S82+S133 -> 2
A32: CGU SERGIO AGUILAR | B32: =B83+B134 -> 3180 | C32: =C83+C134 -> 4375 | D32: =D83+D134 -> 3637 | E32: =E83+E134 -> 3630 | F32: =F83+F134+1 -> 3786 | G32: =G83+G134 -> 4094 | H32: =H83+H134 -> 3476 | I32: =I83+I134 -> 3100 | J32: =J83+J134 -> 2995 | K32: =K83+K134 -> 3045 | L32: =L83+L134 -> 3169 | M32: =M83+M134 -> 3064 | N32: =N83+N134 -> 2755 | ... R32: =R83+R134 -> 1995 | S32: =S83+S134+33+1 -> 51828
A33: CGR TONGOY | B33: =B84+B135 -> 474 | C33: =C84+C135 -> 649 | D33: =D84+D135 -> 581 | E33: =E84+E135 -> 660 | F33: =F84+F135 -> 710 | G33: =G84+G135 -> 740 | H33: =H84+H135 -> 576 | I33: =I84+I135 -> 587 | ... R33: =R84+R135 -> 250 | S33: =S84+S135+17 -> 8756
A34: POSTA PAN DE AZUCAR | B34: =B85+B136 -> 493 | C34: =C85+C136 -> 751 | D34: =D85+D136 -> 683 | E34: =E85+E136 -> 658 | F34: =F85+F136 -> 681 | G34: =G85+G136 -> 720 | H34: =H85+H136 -> 629 | I34: =I85+I136 -> 626 | ... R34: =R85+R136 -> 248 | S34: =S85+S136+22 -> 9150
A35: POSTA GUANAQUEROS | B35: =B86+B137 -> 9 | C35: =C86+C137 -> 8 | D35: =D86+D137 -> 1 | E35: =E86+E137 -> 2 | F35: =F86+F137 -> 2 | G35: =G86+G137 -> 9 | H35: =H86+H137 -> 6 | I35: =I86+I137 -> 5 | ... S35: =S86+S137 -> 55
A37: C. VICUÑA | B37: =SUM(B38:B48) -> 603 | C37: =SUM(C38:C48) -> 938 | D37: =SUM(D38:D48) -> 972 | E37: =SUM(E38:E48) -> 1211 | F37: =SUM(F38:F48) -> 1272 | G37: =SUM(G38:G48) -> 1157 | H37: =SUM(H38:H48) -> 1061 | I37: =SUM(I38:I48) -> 1025 | ... S37: =SUM(S38:S48) -> 14757
A38: HOSPITAL VICUÑA
A39: POSTA DIAGUITAS | B39: =B90+B141 -> 68 | C39: =C90+C141 -> 106 | D39: =D90+D141 -> 131 | E39: =E90+E141 -> 141 | F39: =F90+F141 -> 180 | G39: =G90+G141 -> 126 | H39: =H90+H141 -> 106 | I39: =I90+I141 -> 133 | ... R39: =R90+R141 -> 54 | S39: =SUM(B39:R39) -> 1800
A40: POSTA EL MOLLE | B40: =B91+B142 -> 27 | C40: =C91+C142 -> 75 | D40: =D91+D142 -> 45 | E40: =E91+E142 -> 88 | F40: =F91+F142 -> 98 | G40: =G91+G142 -> 86 | H40: =H91+H142 -> 78 | I40: =I91+I142 -> 79 | ... R40: =R91+R142 -> 33 | S40: =SUM(B40:R40) -> 1075
A41: POSTA EL TAMBO | B41: =B92+B143 -> 82 | C41: =C92+C143 -> 114 | D41: =D92+D143 -> 128 | E41: =E92+E143 -> 148 | F41: =F92+F143 -> 155 | G41: =G92+G143 -> 169 | H41: =H92+H143 -> 129 | I41: =I92+I143 -> 124 | ... R41: =R92+R143 -> 56 | S41: =SUM(B41:R41)+1 -> 1938
A42: POSTA HUANTA | B42: =B93+B144 -> 2 | C42: =C93+C144 -> 6 | D42: =D93+D144 -> 3 | E42: =E93+E144 -> 6 | F42: =F93+F144 -> 2 | G42: =G93+G144 -> 3 | H42: =H93+H144 -> 6 | I42: =I93+I144 -> 4 | ... R42: =R93+R144 -> 10 | S42: =SUM(B42:R42) -> 108
A43: POSTA PERALILLO | B43: =B94+B145 -> 90 | C43: =C94+C145 -> 127 | D43: =D94+D145 -> 158 | E43: =E94+E145 -> 215 | F43: =F94+F145 -> 193 | G43: =G94+G145 -> 184 | H43: =H94+H145 -> 195 | I43: =I94+I145 -> 187 | ... R43: =R94+R145 -> 89 | S43: =SUM(B43:R43)+2 -> 2393
A44: POSTA RIVADAVIA | B44: =B95+B146 -> 40 | C44: =C95+C146 -> 69 | D44: =D95+D146 -> 89 | E44: =E95+E146 -> 121 | F44: =F95+F146 -> 141 | G44: =G95+G146 -> 90 | H44: =H95+H146 -> 84 | I44: =I95+I146 -> 78 | ... R44: =R95+R146 -> 46 | S44: =SUM(B44:R44)+1 -> 1336
A45: POSTA CHAPILCA | B45: =B96+B147 -> 12 | C45: =C96+C147 -> 25 | D45: =D96+D147 -> 18 | E45: =E96+E147 -> 30 | F45: =F96+F147 -> 31 | G45: =G96+G147 -> 32 | H45: =H96+H147 -> 33 | I45: =I96+I147 -> 27 | ... R45: =R96+R147 -> 19 | S45: =SUM(B45:R45) -> 416
A46: POSTA CALINGASTA | B46: =B97+B148 -> 207 | C46: =C97+C148 -> 280 | D46: =D97+D148 -> 290 | E46: =E97+E148 -> 347 | F46: =F97+F148 -> 342 | G46: =G97+G148 -> 333 | H46: =H97+H148 -> 312 | I46: =I97+I148 -> 284 | ... R46: =R97+R148 -> 93 | S46: =SUM(B46:R46) -> 4057
A47: POSTA TALCUNA | B47: =B98+B149 -> 59 | C47: =C98+C149 -> 98 | D47: =D98+D149 -> 89 | E47: =E98+E149 -> 92 | F47: =F98+F149 -> 92 | G47: =G98+G149 -> 107 | H47: =H98+H149 -> 94 | I47: =I98+I149 -> 84 | ... R47: =R98+R149 -> 30 | S47: =SUM(B47:R47)+1 -> 1251
A48: POSTA GUALLIGUAICA | B48: =B99+B150 -> 16 | C48: =C99+C150 -> 38 | D48: =D99+D150 -> 21 | E48: =E99+E150 -> 23 | F48: =F99+F150 -> 38 | G48: =G99+G150 -> 27 | H48: =H99+H150 -> 24 | I48: =I99+I150 -> 25 | ... R48: =R99+R150 -> 16 | S48: =SUM(B48:R48) -> 383
A50: C. PAIGUANO | B50: =+B51 -> 1 | C50: =+C51 -> 1 | D50: =+D51 -> 0 | E50: =+E51 -> 0 | F50: =+F51 -> 0 | G50: =+G51 -> 0 | H50: =+H51 -> 0 | I50: =+I51 -> 0 | ... R50: =+R51 -> 0 | S50: =S51 -> 6
A51: CONSULTORIO PAIGUANO | B51: =B102+B153 -> 1 | C51: =C102+C153 -> 1 | D51: =D102+D153 -> 0 | E51: =E102+E153 -> 0 | F51: =F102+F153 -> 0 | G51: =G102+G153 -> 0 | H51: =H102+H153 -> 0 | I51: =I102+I153 -> 0 | ... R51: =R102+R153 -> 0 | S51: =SUM(B51:R51) -> 6
A53: C. LA HIGERA | B53: =+B54+B55 -> 1 | C53: =+C54+C55 -> 0 | D53: =+D54+D55 -> 0 | E53: =+E54+E55 -> 0 | F53: =+F54+F55 -> 1 | G53: =+G54+G55 -> 1 | H53: =+H54+H55 -> 1 | I53: =+I54+I55 -> 1 | ... S53: =+S54+S55 -> 10
A54: CONSULTORIO LA HIGUERA | B54: =B105+B156 -> 1 | C54: =C105+C156 -> 0 | D54: =D105+D156 -> 0 | E54: =E105+E156 -> 0 | F54: =F105+F156 -> 1 | G54: =G105+G156 -> 1 | H54: =H105+H156 -> 1 | I54: =I105+I156 -> 1 | ... R54: =R105+R156 -> 0 | S54: =SUM(B54:R54) -> 7
A55: POSTA CALETA HORNOS | B55: =B106+B157 -> 0 | C55: =C106+C157 -> 0 | D55: =D106+D157 -> 0 | E55: =E106+E157 -> 0 | F55: =F106+F157 -> 0 | G55: =G106+G157 -> 0 | H55: =H106+H157 -> 0 | I55: =I106+I157 -> 0 | ... R55: =R106+R157 -> 0 | S55: =SUM(B55:R55) -> 3
J57: POBLACION INSCRITA PERCAPITA VALIDADA 2018 IV REGION - MUJERES
J58: PROVINCIA - ELQUI
A60: 2018 | B60: 0 - 4 | C60: 5 - 9 | D60: 10 - 14 | E60: 15 - 19 | F60: 20 - 24 | G60: 25 - 29 | H60: 30 - 34 | I60: 35 - 39 | J60: 40-44 | K60: 45-49 | L60: 50 - 54 | M60: 55 - 59 | N60: 60 - 64 | O60: 65 - 69 | P60: 70 - 74 | Q60: 75 - 79 | R60: 80 Y + | S60: TOTAL
A61: TOTAL IV REGION | B61: =LIMARI!B67+CHOAPA!B59+ELQUI!B62 -> 16476 | C61: =LIMARI!C67+CHOAPA!C59+ELQUI!C62 -> 22283 | D61: =LIMARI!D67+CHOAPA!D59+ELQUI!D62 -> 19687 | E61: =LIMARI!E67+CHOAPA!E59+ELQUI!E62 -> 21742 | F61: =LIMARI!F67+CHOAPA!F59+ELQUI!F62 -> 24407 | G61: =LIMARI!G67+CHOAPA!G59+ELQUI!G62 -> 25517 | H61: =LIMARI!H67+CHOAPA!H59+ELQUI!H62 -> 22059 | I61: =LIMARI!I67+CHOAPA!I59+ELQUI!I62 -> 20873 | ... S61: =LIMARI!S67+CHOAPA!S59+ELQUI!S62 -> 310824
A62: PROVINCIA DE ELQUI | B62: =B63+B78+B88+B101+B104 -> 10835 | C62: =+C63+C78+C88+C101+C104 -> 14970 | D62: =+D63+D78+D88+D101+D104 -> 12973 | E62: =+E63+E78+E88+E101+E104 -> 14242 | F62: =+F63+F78+F88+F101+F104 -> 16370 | G62: =+G63+G78+G88+G101+G104 -> 17444 | H62: =+H63+H78+H88+H101+H104 -> 14885 | I62: =+I63+I78+I88+I101+I104 -> 13876 | J62: =+J63+J78+J88+J101+J104 -> 13770 | ... S62: =+S63+S78+S88+S101+S104 -> 206126
A63: C. LA SERENA | B63: =SUM(B64:B76) -> 4936 | C63: =SUM(C64:C76) -> 7080 | D63: =SUM(D64:D76) -> 6152 | E63: =SUM(E64:E76) -> 6814 | F63: =SUM(F64:F76) -> 8293 | G63: =SUM(G64:G76) -> 8735 | H63: =SUM(H64:H76) -> 7352 | I63: =SUM(I64:I76) -> 6860 | ... S63: =SUM(S64:S76) -> 101433
A64: CGU CARDENAL CARO | B64: 970 | C64: 1258 | D64: 1149 | E64: 1218 | F64: 1627 | G64: 1817 | H64: 1576 | I64: 1555 | J64: 1605 | K64: 1446 | L64: 1349 | M64: 1299 | N64: 1214 | O64: 1122 | P64: 987 | Q64: 765 | R64: 1133 | S64: =SUM(B64:R64) -> 22090
A65: CECOF VILLA EL INDIO | B65: 13 | C65: 9 | D65: 4 | E65: 6 | F65: 8 | G65: 13 | H65: 6 | I65: 6 | J65: 6 | K65: 3 | L65: 5 | M65: 5 | N65: 6 | O65: 4 | P65: 3 | Q65: 3 | S65: =SUM(B65:R65) -> 100
A66: CGU LAS COMPAÑIAS | B66: 624 | C66: 1030 | D66: 926 | E66: 892 | F66: 1067 | G66: 1105 | H66: 993 | I66: 910 | J66: 1006 | K66: 944 | L66: 912 | M66: 902 | N66: 805 | O66: 624 | P66: 488 | Q66: 386 | R66: 456 | S66: =SUM(B66:R66)+3 -> 14073
A67: CECOF VILLA ALEMANIA | B67: 8 | C67: 5 | D67: 7 | E67: 4 | F67: 9 | G67: 10 | H67: 6 | I67: 2 | J67: 6 | K67: 4 | L67: 8 | M67: 4 | N67: 7 | O67: 0 | P67: 2 | Q67: 0 | R67: 1 | S67: =SUM(B67:R67) -> 83
A68: CGU P. AGUIRRE CERDA | B68: 789 | C68: 1062 | D68: 872 | E68: 1074 | F68: 1171 | G68: 1325 | H68: 1111 | I68: 1002 | J68: 963 | K68: 993 | L68: 1015 | M68: 906 | N68: 741 | O68: 586 | P68: 513 | Q68: 388 | R68: 629 | S68: =SUM(B68:R68) -> 15140
A69: CGU E. SCHAFFAUSER | B69: 798 | C69: 1205 | D69: 1102 | E69: 1381 | F69: 1745 | G69: 1899 | H69: 1594 | I69: 1530 | J69: 1465 | K69: 1494 | L69: 1523 | M69: 1402 | N69: 1204 | O69: 966 | P69: 825 | Q69: 621 | R69: 1071 | S69: =SUM(B69:R69) -> 21825
A70: C.S. R. SILVA HENRIQUEZ | B70: 822 | C70: 1303 | D70: 1091 | E70: 1209 | F70: 1401 | G70: 1371 | H70: 1121 | I70: 988 | J70: 985 | K70: 995 | L70: 1001 | M70: 832 | N70: 700 | O70: 488 | P70: 390 | Q70: 277 | R70: 360 | S70: =SUM(B70:R70) -> 15334
A71: CECOF VILLA LAMBERT | B71: 2 | C71: 0 | D71: 0 | E71: 0 | F71: 3 | G71: 5 | H71: 0 | I71: 1 | J71: 0 | K71: 4 | L71: 1 | M71: 0 | N71: 2 | O71: 1 | P71: 0 | Q71: 0 | S71: =SUM(B71:R71) -> 19
A72: C.JUAN PABLO II | B72: 883 | C72: 1190 | D72: 988 | E72: 1015 | F72: 1245 | G72: 1180 | H72: 922 | I72: 853 | J72: 901 | K72: 829 | L72: 780 | M72: 565 | N72: 454 | O72: 284 | P72: 189 | Q72: 131 | R72: 147 | S72: =SUM(B72:R72) -> 12556
A73: POSTA ALGARROBITO | B73: 18 | C73: 8 | D73: 3 | E73: 7 | F73: 12 | G73: 7 | H73: 12 | I73: 6 | J73: 4 | K73: 12 | L73: 1 | M73: 4 | N73: 5 | O73: 4 | P73: 2 | Q73: 3 | R73: 2 | S73: =SUM(B73:R73) -> 110
A74: POSTA EL ROMERO | B74: 4 | C74: 4 | D74: 6 | E74: 3 | F74: 3 | G74: 2 | H74: 4 | I74: 5 | J74: 2 | K74: 2 | L74: 2 | M74: 3 | N74: 2 | O74: 1 | P74: 0 | Q74: 1 | R74: 1 | S74: =SUM(B74:R74) -> 45
A75: POSTA LAMBERT | B75: 1 | C75: 2 | D75: 2 | E75: 0 | F75: 1 | G75: 0 | H75: 3 | I75: 0 | J75: 0 | K75: 1 | L75: 1 | M75: 0 | N75: 0 | O75: 0 | P75: 3 | Q75: 0 | R75: 3 | S75: =SUM(B75:R75) -> 17
A76: POSTA LAS ROJAS | B76: 4 | C76: 4 | D76: 2 | E76: 5 | F76: 1 | G76: 1 | H76: 4 | I76: 2 | J76: 3 | K76: 3 | L76: 2 | M76: 4 | N76: 2 | O76: 0 | P76: 1 | Q76: 0 | R76: 3 | S76: =SUM(B76:R76) -> 41
A78: C. COQUIMBO | B78: =SUM(B79:B86) -> 5607 | C78: =SUM(C79:C86) -> 7416 | D78: =SUM(D79:D86) -> 6343 | E78: =SUM(E79:E86) -> 6814 | F78: =SUM(F79:F86) -> 7436 | G78: =SUM(G79:G86) -> 8115 | H78: =SUM(H79:H86) -> 7000 | I78: =SUM(I79:I86) -> 6475 | ... S78: =SUM(S79:S86) -> 97305
A79: CGU SAN JUAN | B79: 924 | C79: 1276 | D79: 1103 | E79: 1274 | F79: 1354 | G79: 1431 | H79: 1263 | I79: 1184 | J79: 1115 | K79: 1167 | L79: 1247 | M79: 1074 | N79: 888 | O79: 652 | P79: 516 | Q79: 432 | R79: 614 | S79: =SUM(B79:R79)+1 -> 17515
A80: CGU SANTA CECILIA | B80: 921 | C80: 1211 | D80: 1022 | E80: 1108 | F80: 1355 | G80: 1325 | H80: 1122 | I80: 985 | J80: 1010 | K80: 976 | L80: 1033 | M80: 933 | N80: 748 | O80: 572 | P80: 479 | Q80: 320 | R80: 495 | S80: =SUM(B80:R80)+1 -> 15616
A81: CGU TIERRAS BLANCAS | B81: 1758 | C81: 2099 | D81: 1911 | E81: 2010 | F81: 2092 | G81: 2366 | H81: 2002 | I81: 1814 | J81: 1804 | K81: 1750 | L81: 1616 | M81: 1393 | N81: 1256 | O81: 981 | P81: 758 | Q81: 524 | R81: 722 | S81: =SUM(B81:R81) -> 26856
A82: CECOF EL ALBA | B82: 0 | C82: 0 | D82: 0 | E82: 0 | F82: 0 | G82: 0 | H82: 0 | I82: 0 | J82: 1 | K82: 0 | L82: 0 | M82: 0 | N82: 0 | O82: 0 | P82: 0 | Q82: 0 | R82: 0 | S82: =SUM(B82:R82) -> 1
A83: CGU SERGIO AGUILAR | B83: 1532 | C83: 2164 | D83: 1692 | E83: 1796 | F83: 1933 | G83: 2242 | H83: 2027 | I83: 1867 | J83: 1722 | K83: 1751 | L83: 1833 | M83: 1787 | N83: 1613 | O83: 1281 | P83: 1092 | Q83: 849 | R83: 1316 | S83: =SUM(B83:R83) -> 28497
A84: CGR TONGOY | B84: 224 | C84: 309 | D84: 279 | E84: 318 | F84: 345 | G84: 355 | H84: 280 | I84: 301 | J84: 274 | K84: 278 | L84: 319 | M84: 269 | N84: 184 | O84: 159 | P84: 117 | Q84: 108 | R84: 121 | S84: =SUM(B84:R84) -> 4240
A85: POSTA PAN DE AZUCAR | B85: 245 | C85: 354 | D85: 336 | E85: 306 | F85: 355 | G85: 388 | H85: 301 | I85: 323 | J85: 340 | K85: 357 | L85: 278 | M85: 264 | N85: 180 | O85: 164 | P85: 129 | Q85: 104 | R85: 125 | S85: =SUM(B85:R85) -> 4549
A86: POSTA GUANAQUEROS | B86: 3 | C86: 3 | D86: 0 | E86: 2 | F86: 2 | G86: 8 | H86: 5 | I86: 1 | J86: 0 | K86: 2 | L86: 2 | M86: 0 | N86: 2 | O86: 0 | P86: 0 | Q86: 0 | R86: 1 | S86: =SUM(B86:R86) -> 31
A88: C. VICUÑA | B88: =SUM(B89:B99) -> 291 | C88: =SUM(C89:C99) -> 473 | D88: =SUM(D89:D99) -> 478 | E88: =SUM(E89:E99) -> 614 | F88: =SUM(F89:F99) -> 641 | G88: =SUM(G89:G99) -> 593 | H88: =SUM(H89:H99) -> 532 | I88: =SUM(I89:I99) -> 541 | ... S88: =SUM(S89:S99) -> 7379
A89: HOSPITAL VICUÑA
A90: POSTA DIAGUITAS | B90: 32 | C90: 52 | D90: 62 | E90: 71 | F90: 91 | G90: 67 | H90: 61 | I90: 71 | J90: 69 | K90: 67 | L90: 67 | M90: 52 | N90: 48 | O90: 28 | P90: 25 | Q90: 25 | R90: 27 | S90: =SUM(B90:R90) -> 915
A91: POSTA EL MOLLE | B91: 11 | C91: 35 | D91: 29 | E91: 52 | F91: 41 | G91: 39 | H91: 41 | I91: 43 | J91: 46 | K91: 35 | L91: 39 | M91: 33 | N91: 18 | O91: 25 | P91: 13 | Q91: 9 | R91: 20 | S91: =SUM(B91:R91) -> 529
A92: POSTA EL TAMBO | B92: 50 | C92: 60 | D92: 69 | E92: 76 | F92: 73 | G92: 87 | H92: 60 | I92: 64 | J92: 73 | K92: 96 | L92: 66 | M92: 57 | N92: 47 | O92: 28 | P92: 30 | Q92: 25 | R92: 31 | S92: =SUM(B92:R92) -> 992
A93: POSTA HUANTA | B93: 2 | C93: 4 | D93: 1 | E93: 2 | F93: 1 | G93: 3 | H93: 2 | I93: 1 | J93: 5 | K93: 2 | L93: 4 | M93: 3 | N93: 2 | O93: 3 | P93: 2 | Q93: 4 | R93: 5 | S93: =SUM(B93:R93) -> 46
A94: POSTA PERALILLO | B94: 38 | C94: 64 | D94: 62 | E94: 106 | F94: 95 | G94: 90 | H94: 96 | I94: 99 | J94: 75 | K94: 77 | L94: 100 | M94: 76 | N94: 49 | O94: 35 | P94: 35 | Q94: 34 | R94: 42 | S94: =SUM(B94:R94) -> 1173
A95: POSTA RIVADAVIA | B95: 19 | C95: 31 | D95: 45 | E95: 63 | F95: 83 | G95: 37 | H95: 40 | I95: 38 | J95: 61 | K95: 50 | L95: 57 | M95: 42 | N95: 22 | O95: 23 | P95: 17 | Q95: 17 | R95: 25 | S95: =SUM(B95:R95) -> 670
A96: POSTA CHAPILCA | B96: 9 | C96: 14 | D96: 9 | E96: 15 | F96: 15 | G96: 18 | H96: 16 | I96: 14 | J96: 20 | K96: 18 | L96: 16 | M96: 10 | N96: 6 | O96: 3 | P96: 8 | Q96: 8 | R96: 10 | S96: =SUM(B96:R96) -> 209
A97: POSTA CALINGASTA | B97: 95 | C97: 137 | D97: 148 | E97: 176 | F97: 176 | G97: 175 | H97: 157 | I97: 155 | J97: 145 | K97: 142 | L97: 125 | M97: 109 | N97: 92 | O97: 67 | P97: 54 | Q97: 39 | R97: 44 | S97: =SUM(B97:R97) -> 2036
A98: POSTA TALCUNA | B98: 28 | C98: 57 | D98: 41 | E98: 43 | F98: 44 | G98: 64 | H98: 49 | I98: 40 | J98: 49 | K98: 46 | L98: 38 | M98: 40 | N98: 18 | O98: 20 | P98: 12 | Q98: 10 | R98: 16 | S98: =SUM(B98:R98) -> 615
A99: POSTA GUALLIGUAICA | B99: 7 | C99: 19 | D99: 12 | E99: 10 | F99: 22 | G99: 13 | H99: 10 | I99: 16 | J99: 15 | K99: 4 | L99: 16 | M99: 13 | N99: 7 | O99: 7 | P99: 5 | Q99: 5 | R99: 13 | S99: =SUM(B99:R99) -> 194
A101: C. PAIGUANO | B101: =+B102 -> 1 | C101: =+C102 -> 1 | D101: =+D102 -> 0 | E101: =+E102 -> 0 | F101: =+F102 -> 0 | G101: =+G102 -> 0 | H101: =+H102 -> 0 | I101: =+I102 -> 0 | ... R101: =+R102 -> 0 | S101: =S102 -> 4
A102: CONSULTORIO PAIGUANO | B102: 1 | C102: 1 | D102: 0 | E102: 0 | F102: 0 | G102: 0 | H102: 0 | I102: 0 | J102: 0 | K102: 1 | L102: 1 | M102: 0 | N102: 0 | O102: 0 | P102: 0 | Q102: 0 | S102: =SUM(B102:R102) -> 4
A104: C. LA HIGERA | B104: =+B105+B106 -> 0 | C104: =+C105+C106 -> 0 | D104: =+D105+D106 -> 0 | E104: =+E105+E106 -> 0 | F104: =+F105+F106 -> 0 | G104: =+G105+G106 -> 1 | H104: =+H105+H106 -> 1 | I104: =+I105+I106 -> 0 | ... S104: =+S105+S106 -> 5
A105: CONSULTORIO LA HIGUERA | B105: 0 | C105: 0 | D105: 0 | E105: 0 | F105: 0 | G105: 1 | H105: 1 | I105: 0 | J105: 0 | K105: 0 | L105: 0 | M105: 0 | N105: 0 | O105: 1 | P105: 0 | Q105: 0 | R105: 0 | S105: =SUM(B105:R105) -> 3
A106: POSTA CALETA HORNOS | N106: 1 | Q106: 1 | R106: 0 | S106: =SUM(B106:R106) -> 2
J108: POBLACION INSCRITA PERCAPITA VALIDADA 2018 IV REGION - HOMBRES
J109: PROVINCIA - ELQUI
A111: 2018 | B111: 0 - 4 | C111: 5 - 9 | D111: 10 - 14 | E111: 15 - 19 | F111: 20 - 24 | G111: 25 - 29 | H111: 30 - 34 | I111: 35 - 39 | J111: 40 - 44 | K111: 45-49 | L111: 50 - 54 | M111: 55 - 59 | N111: 60 - 64 | O111: 65 - 69 | P111: 70 - 74 | Q111: 75 - 79 | R111: 80 Y + | S111: TOTAL
A112: TOTAL IV REGION | B112: =B113+LIMARI!B123+CHOAPA!B107 -> 17405 | C112: =C113+LIMARI!C123+CHOAPA!C107 -> 22959 | D112: =D113+LIMARI!D123+CHOAPA!D107 -> 21040 | E112: =E113+LIMARI!E123+CHOAPA!E107 -> 22162 | F112: =F113+LIMARI!F123+CHOAPA!F107 -> 23594 | G112: =G113+LIMARI!G123+CHOAPA!G107 -> 23152 | H112: =H113+LIMARI!H123+CHOAPA!H107 -> 19097 | I112: =I113+LIMARI!I123+CHOAPA!I107 -> 17427 | ... S112: =S113+LIMARI!S123+CHOAPA!S107 -> 283741
A113: PROVINCIA DE ELQUI | B113: =B114+B129+B139+B152+B155 -> 11455 | C113: =C114+C129+C139+C152+C155 -> 15425 | D113: =D114+D129+D139+D152+D155 -> 13808 | E113: =E114+E129+E139+E152+E155 -> 14548 | F113: =F114+F129+F139+F152+F155 -> 15888 | G113: =G114+G129+G139+G152+G155 -> 15757 | H113: =H114+H129+H139+H152+H155 -> 12784 | I113: =I114+I129+I139+I152+I155 -> 11616 | ... S113: =S114+S129+S139+S152+S155 -> 185862
A114: C. LA SERENA | B114: =SUM(B115:B127) -> 5154 | C114: =SUM(C115:C127) -> 7268 | D114: =SUM(D115:D127) -> 6546 | E114: =SUM(E115:E127) -> 7017 | F114: =SUM(F115:F127) -> 7916 | G114: =SUM(G115:G127) -> 7807 | H114: =SUM(H115:H127) -> 6162 | I114: =SUM(I115:I127) -> 5676 | ... S114: =SUM(S115:S127) -> 89498
...

Sheet LIMARI
A1: MINISTERIO DE SALUD
A2: SERVICIO DE SALUD COQUIMBO
A3: SUBDIRECCION DE GESTION ASISTENCIAL
A4: SUBDEPTO DE ESTADÍSTICA Y GESTIÓN DE LA INFORMACIÓN
A6: POBLACION INSCRITA PERCAPITA VALIDADA 2018 IV REGION - AMBOS SEXOS
A7: PROVINCIA - LIMARI
A9: 2018 | B9: 0 - 4 | C9: 5 - 9 | D9: 10 - 14 | E9: 15 - 19 | F9: 20 - 24 | G9: 25 - 29 | H9: 30 - 34 | I9: 35 - 39 | J9: 40 - 44 | K9: 45-49 | L9: 50 - 54 | M9: 55 - 59 | N9: 60 - 64 | O9: 65 - 69 | P9: 70 - 74 | Q9: 75 - 79 | R9: 80 Y + | S9: TOTAL
A10: TOTAL IV REGION | B10: =ELQUI!B11+LIMARI!B11+CHOAPA!B11 -> 33881 | C10: =ELQUI!C11+LIMARI!C11+CHOAPA!C11 -> 45243 | D10: =ELQUI!D11+LIMARI!D11+CHOAPA!D11 -> 40727 | E10: =ELQUI!E11+LIMARI!E11+CHOAPA!E11 -> 43904 | F10: =ELQUI!F11+LIMARI!F11+CHOAPA!F11 -> 48002 | G10: =ELQUI!G11+LIMARI!G11+CHOAPA!G11 -> 48669 | H10: =ELQUI!H11+LIMARI!H11+CHOAPA!H11 -> 41156 | I10: =ELQUI!I11+LIMARI!I11+CHOAPA!I11 -> 38300 | ... S10: =ELQUI!S11+LIMARI!S11+CHOAPA!S11 -> 595050
A11: PROVINCIA EL LIMARI | B11: =B12+B29+B38+B53+B56 -> 9099 | C11: =C12+C29+C38+C53+C56 -> 11502 | D11: =D12+D29+D38+D53+D56 -> 10706 | E11: =E12+E29+E38+E53+E56 -> 11521 | F11: =F12+F29+F38+F53+F56 -> 12207 | G11: =G12+G29+G38+G53+G56 -> 12096 | H11: =H12+H29+H38+H53+H56 -> 10451 | I11: =I12+I29+I38+I53+I56 -> 9903 | ... S11: =S12+S29+S38+S53+S56 -> 154434
A12: C. OVALLE | B12: =SUM(B13:B27) -> 6286 | C12: =SUM(C13:C27) -> 7657 | D12: =SUM(D13:D27) -> 6967 | E12: =SUM(E13:E27) -> 7471 | F12: =SUM(F13:F27) -> 7973 | G12: =SUM(G13:G27) -> 7863 | H12: =SUM(H13:H27) -> 6673 | I12: =SUM(I13:I27) -> 6098 | ... S12: =SUM(S13:S27) -> 98417
A13: C.G.R. CERRILLOS DE TAMAYA | B13: =B69+B125 -> 414 | C13: =C69+C125 -> 591 | D13: =D69+D125 -> 570 | E13: =E69+E125 -> 534 | F13: =F69+F125 -> 623 | G13: =G69+G125 -> 621 | H13: =H69+H125 -> 601 | I13: =I69+I125 -> 542 | ... S13: =S69+S125 -> 7897
A14: C.G.U JORGE JORDAN | B14: =B70+B126 -> 1920 | C14: =C70+C126 -> 2201 | D14: =D70+D126 -> 1920 | E14: =E70+E126 -> 2174 | F14: =F70+F126 -> 2394 | G14: =G70+G126 -> 2483 | H14: =H70+H126 -> 2016 | I14: =I70+I126 -> 1731 | ... R14: =R70+R126 -> 828 | S14: =S70+S126+13 -> 28624
A15: CECOF SAN JOSE DE LA DEHESA | B15: =B71+B127 -> 132 | C15: =C71+C127 -> 131 | D15: =D71+D127 -> 109 | E15: =E71+E127 -> 107 | F15: =F71+F127 -> 140 | G15: =G71+G127 -> 134 | H15: =H71+H127 -> 74 | I15: =I71+I127 -> 59 | ... S15: =S71+S127 -> 1466
A16: C.G.U MARCOS MACUADA | B16: =B72+B128 -> 3100 | C16: =C72+C128 -> 3716 | D16: =D72+D128 -> 3377 | E16: =E72+E128 -> 3585 | F16: =F72+F128 -> 3679 | G16: =G72+G128 -> 3438 | H16: =H72+H128 -> 2978 | I16: =I72+I128 -> 2838 | ... R16: =R72+R128 -> 1611 | S16: =S72+S128+3 -> 45226
A17: CECOF LIMARI | B17: =B73+B129 -> 31 | C17: =C73+C129 -> 43 | D17: =D73+D129 -> 33 | E17: =E73+E129 -> 30 | F17: =F73+F129 -> 24 | G17: =G73+G129 -> 28 | H17: =H73+H129 -> 20 | I17: =I73+I129 -> 27 | ... S17: =S73+S129 -> 390
A18: C.G.R. SOTAQUI | B18: =B74+B130 -> 340 | C18: =C74+C130 -> 391 | D18: =D74+D130 -> 374 | E18: =E74+E130 -> 405 | F18: =F74+F130 -> 468 | G18: =G74+G130 -> 439 | H18: =H74+H130 -> 366 | I18: =I74+I130 -> 347 | ... R18: =R74+R130 -> 197 | S18: =S74+S130+3 -> 5527
A19: POSTA LIMARI | B19: =B75+B131 -> 280 | C19: =C75+C131 -> 537 | D19: =D75+D131 -> 532 | E19: =E75+E131 -> 591 | F19: =F75+F131 -> 612 | G19: =G75+G131 -> 670 | H19: =H75+H131 -> 571 | I19: =I75+I131 -> 512 | ... R19: =R75+R131 -> 410 | S19: =S75+S131+5 -> 8688
A20: POSTA ALCONES BAJOS | B20: =B76+B132 -> 3 | C20: =C76+C132 -> 2 | D20: =D76+D132 -> 4 | E20: =E76+E132 -> 0 | F20: =F76+F132 -> 0 | G20: =G76+G132 -> 0 | H20: =H76+H132 -> 0 | I20: =I76+I132 -> 1 | ... S20: =S76+S132 -> 13
A21: POSTA CAMARICO | B21: =B77+B133 -> 15 | C21: =C77+C133 -> 12 | D21: =D77+D133 -> 11 | E21: =E77+E133 -> 14 | F21: =F77+F133 -> 8 | G21: =G77+G133 -> 13 | H21: =H77+H133 -> 13 | I21: =I77+I133 -> 11 | ... S21: =S77+S133 -> 155
A22: POSTA CERRO BLANCO | B22: =B78+B134 -> 1 | C22: =C78+C134 -> 0 | D22: =D78+D134 -> 0 | E22: =E78+E134 -> 0 | F22: =F78+F134 -> 0 | G22: =G78+G134 -> 1 | H22: =H78+H134 -> 3 | I22: =I78+I134 -> 2 | ... S22: =S78+S134 -> 15
A23: POSTA CHALINGA | B23: =B79+B135 -> 3 | C23: =C79+C135 -> 3 | D23: =D79+D135 -> 3 | E23: =E79+E135 -> 0 | F23: =F79+F135 -> 2 | G23: =G79+G135 -> 5 | H23: =H79+H135 -> 1 | I23: =I79+I135 -> 1 | ... S23: =S79+S135 -> 23
A24: POSTA HORNILLOS | B24: =B80+B136 -> 2 | C24: =C80+C136 -> 0 | D24: =D80+D136 -> 0 | E24: =E80+E136 -> 0 | F24: =F80+F136 -> 0 | G24: =G80+G136 -> 0 | H24: =H80+H136 -> 1 | I24: =I80+I136 -> 0 | ... S24: =S80+S136 -> 3
A25: POSTA HUAMALATA | B25: =B81+B137 -> 22 | C25: =C81+C137 -> 18 | D25: =D81+D137 -> 14 | E25: =E81+E137 -> 18 | F25: =F81+F137 -> 14 | G25: =G81+G137 -> 16 | H25: =H81+H137 -> 15 | I25: =I81+I137 -> 13 | ... S25: =S81+S137 -> 195
A26: POSTA LA SOSSAS | B26: =B82+B138 -> 0 | C26: =C82+C138 -> 0 | D26: =D82+D138 -> 0 | E26: =E82+E138 -> 0 | F26: =F82+F138 -> 0 | G26: =G82+G138 -> 0 | H26: =H82+H138 -> 0 | I26: =I82+I138 -> 0 | ... S26: =S82+S138 -> 1
A27: POSTA RECOLETA | B27: =B83+B139 -> 23 | C27: =C83+C139 -> 12 | D27: =D83+D139 -> 20 | E27: =E83+E139 -> 13 | F27: =F83+F139 -> 9 | G27: =G83+G139 -> 15 | H27: =H83+H139 -> 14 | I27: =I83+I139 -> 14 | ... S27: =S83+S139 -> 194
A29: C. RIO HURTADO | B29: =SUM(B30:B36) -> 185 | C29: =SUM(C30:C36) -> 266 | D29: =SUM(D30:D36) -> 286 | E29: =SUM(E30:E36) -> 280 | F29: =SUM(F30:F36) -> 333 | G29: =SUM(G30:G36) -> 296 | H29: =SUM(H30:H36) -> 299 | I29: =SUM(I30:I36) -> 269 | ... S29: =SUM(S30:S36) -> 4468
A30: C.G.R PICHASCA | B30: =B86+B142 -> 80 | C30: =C86+C142 -> 101 | D30: =D86+D142 -> 118 | E30: =E86+E142 -> 95 | F30: =F86+F142 -> 115 | G30: =G86+G142 -> 105 | H30: =H86+H142 -> 116 | I30: =I86+I142 -> 89 | ... R30: =R86+R142 -> 65 | S30: =SUM(B30:R30)+2 -> 1581
A31: POSTA EL CHAÑAR | B31: =B87+B143 -> 13 | C31: =C87+C143 -> 13 | D31: =D87+D143 -> 17 | E31: =E87+E143 -> 11 | F31: =F87+F143 -> 16 | G31: =G87+G143 -> 18 | H31: =H87+H143 -> 9 | I31: =I87+I143 -> 13 | ... R31: =R87+R143 -> 11 | S31: =SUM(B31:R31) -> 233
A32: POSTA HURTADO | B32: =B88+B144 -> 15 | C32: =C88+C144 -> 18 | D32: =D88+D144 -> 24 | E32: =E88+E144 -> 38 | F32: =F88+F144 -> 35 | G32: =G88+G144 -> 33 | H32: =H88+H144 -> 29 | I32: =I88+I144 -> 34 | ... R32: =R88+R144 -> 24 | S32: =SUM(B32:R32) -> 477
A33: POSTA LAS BREAS | B33: =B89+B145 -> 11 | C33: =C89+C145 -> 17 | D33: =D89+D145 -> 23 | E33: =E89+E145 -> 29 | F33: =F89+F145 -> 17 | G33: =G89+G145 -> 15 | H33: =H89+H145 -> 23 | I33: =I89+I145 -> 23 | ... R33: =R89+R145 -> 16 | S33: =SUM(B33:R33)+1 -> 317
A34: POSTA SAMO ALTO | B34: =B90+B146 -> 20 | C34: =C90+C146 -> 45 | D34: =D90+D146 -> 36 | E34: =E90+E146 -> 36 | F34: =F90+F146 -> 46 | G34: =G90+G146 -> 52 | H34: =H90+H146 -> 51 | I34: =I90+I146 -> 35 | ... R34: =R90+R146 -> 40 | S34: =SUM(B34:R34) -> 729
A35: POSTA SERON | B35: =B91+B147 -> 32 | C35: =C91+C147 -> 42 | D35: =D91+D147 -> 47 | E35: =E91+E147 -> 48 | F35: =F91+F147 -> 70 | G35: =G91+G147 -> 51 | H35: =H91+H147 -> 50 | I35: =I91+I147 -> 50 | ... R35: =R91+R147 -> 39 | S35: =SUM(B35:R35)+1 -> 767
A36: POSTA TABAQUEROS | B36: =B92+B148 -> 14 | C36: =C92+C148 -> 30 | D36: =D92+D148 -> 21 | E36: =E92+E148 -> 23 | F36: =F92+F148 -> 34 | G36: =G92+G148 -> 22 | H36: =H92+H148 -> 21 | I36: =I92+I148 -> 25 | ... R36: =R92+R148 -> 22 | S36: =SUM(B36:R36) -> 364
A38: C. MONTE PATRIA | B38: =SUM(B39:B51) -> 1940 | C38: =SUM(C39:C51) -> 2365 | D38: =SUM(D39:D51) -> 2230 | E38: =SUM(E39:E51) -> 2440 | F38: =SUM(F39:F51) -> 2601 | G38: =SUM(G39:G51) -> 2682 | H38: =SUM(H39:H51) -> 2260 | I38: =SUM(I39:I51) -> 2326 | ... S38: =SUM(S39:S51) -> 33301
A39: C.G.R. MONTE PATRIA | B39: =B95+B151 -> 754 | C39: =C95+C151 -> 921 | D39: =D95+D151 -> 947 | E39: =E95+E151 -> 978 | F39: =F95+F151 -> 1085 | G39: =G95+G151 -> 1118 | H39: =H95+H151 -> 952 | I39: =I95+I151 -> 917 | ... R39: =R95+R151 -> 428 | S39: =S95+S151+2 -> 13391
A40: C.G.R CHAÑARAL ALTO | B40: =B96+B152 -> 287 | C40: =C96+C152 -> 378 | D40: =D96+D152 -> 332 | E40: =E96+E152 -> 393 | F40: =F96+F152 -> 402 | G40: =G96+G152 -> 395 | H40: =H96+H152 -> 335 | I40: =I96+I152 -> 375 | ... R40: =R96+R152 -> 181 | S40: =S96+S152+7 -> 5346
A41: C.G.R CAREN | B41: =B97+B153 -> 262 | C41: =C97+C153 -> 351 | D41: =D97+D153 -> 363 | E41: =E97+E153 -> 433 | F41: =F97+F153 -> 426 | G41: =G97+G153 -> 441 | H41: =H97+H153 -> 372 | I41: =I97+I153 -> 401 | ... R41: =R97+R153 -> 310 | S41: =S97+S153+3 -> 5857
A42: C.G.R EL PALQUI | B42: =B98+B154 -> 626 | C42: =C98+C154 -> 703 | D42: =D98+D154 -> 577 | E42: =E98+E154 -> 627 | F42: =F98+F154 -> 667 | G42: =G98+G154 -> 713 | H42: =H98+H154 -> 589 | I42: =I98+I154 -> 623 | ... R42: =R98+R154 -> 182 | S42: =S98+S154+1 -> 8518
A43: POSTA CHILECITO | B43: =B99+B155 -> 0 | C43: =C99+C155 -> 0 | D43: =D99+D155 -> 1 | E43: =E99+E155 -> 0 | F43: =F99+F155 -> 1 | G43: =G99+G155 -> 0 | H43: =H99+H155 -> 1 | I43: =I99+I155 -> 2 | ... S43: =S99+S155 -> 16
A44: POSTA EL MAITEN | B44: =B100+B156 -> 0 | C44: =C100+C156 -> 0 | D44: =D100+D156 -> 0 | E44: =E100+E156 -> 0 | F44: =F100+F156 -> 0 | G44: =G100+G156 -> 0 | H44: =H100+H156 -> 0 | I44: =I100+I156 -> 0 | ... S44: =S100+S156 -> 3
A45: POSTA HACIENDA VALDIVIA | B45: =B101+B157 -> 1 | C45: =C101+C157 -> 1 | D45: =D101+D157 -> 2 | E45: =E101+E157 -> 0 | F45: =F101+F157 -> 3 | G45: =G101+G157 -> 3 | H45: =H101+H157 -> 1 | I45: =I101+I157 -> 2 | ... S45: =S101+S157 -> 24
A46: POSTA HUATULAME | B46: =B102+B158 -> 0 | C46: =C102+C158 -> 2 | D46: =D102+D158 -> 0 | E46: =E102+E158 -> 1 | F46: =F102+F158 -> 3 | G46: =G102+G158 -> 1 | H46: =H102+H158 -> 0 | I46: =I102+I158 -> 0 | ... S46: =S102+S158 -> 15
A47: POSTA MIALQUI | B47: =B103+B159 -> 0 | C47: =C103+C159 -> 0 | D47: =D103+D159 -> 0 | E47: =E103+E159 -> 0 | F47: =F103+F159 -> 0 | G47: =G103+G159 -> 0 | H47: =H103+H159 -> 0 | I47: =I103+I159 -> 1 | ... S47: =S103+S159 -> 4
A48: POSTA PEDREGAL | B48: =B104+B160 -> 3 | C48: =C104+C160 -> 1 | D48: =D104+D160 -> 0 | E48: =E104+E160 -> 1 | F48: =F104+F160 -> 6 | G48: =G104+G160 -> 4 | H48: =H104+H160 -> 1 | I48: =I104+I160 -> 2 | ... S48: =S104+S160 -> 28
A49: POSTA RAMADAS DE TULAHUEN | B49: =B105+B161 -> 1 | C49: =C105+C161 -> 0 | D49: =D105+D161 -> 0 | E49: =E105+E161 -> 0 | F49: =F105+F161 -> 1 | G49: =G105+G161 -> 0 | H49: =H105+H161 -> 0 | I49: =I105+I161 -> 0 | ... S49: =S105+S161 -> 10
A50: POSTA RAPEL | B50: =B106+B162 -> 3 | C50: =C106+C162 -> 6 | D50: =D106+D162 -> 8 | E50: =E106+E162 -> 7 | F50: =F106+F162 -> 6 | G50: =G106+G162 -> 6 | H50: =H106+H162 -> 7 | I50: =I106+I162 -> 2 | ... S50: =S106+S162 -> 70
A51: POSTA TULAHUEN | B51: =B107+B163 -> 3 | C51: =C107+C163 -> 2 | D51: =D107+D163 -> 0 | E51: =E107+E163 -> 0 | F51: =F107+F163 -> 1 | G51: =G107+G163 -> 1 | H51: =H107+H163 -> 2 | I51: =I107+I163 -> 1 | ... S51: =S107+S163 -> 19
A53: C. PUNITAQUI | B53: =+B54 -> 534 | C53: =+C54 -> 906 | D53: =+D54 -> 890 | E53: =+E54 -> 923 | F53: =+F54 -> 837 | G53: =+G54 -> 859 | H53: =+H54 -> 815 | I53: =+I54 -> 735 | ... R53: =+R54 -> 421 | S53: =S54 -> 11596
A54: C.G.R. PUNITAQUI | B54: =B110+B166 -> 534 | C54: =C110+C166 -> 906 | D54: =D110+D166 -> 890 | E54: =E110+E166 -> 923 | F54: =F110+F166 -> 837 | G54: =G110+G166 -> 859 | H54: =H110+H166 -> 815 | I54: =I110+I166 -> 735 | ... R54: =R110+R166 -> 421 | S54: =SUM(B54:R54)+11 -> 11596
A56: C. COMBARBALÁ | B56: =SUM(B57:B59) -> 154 | C56: =SUM(C57:C59) -> 308 | D56: =SUM(D57:D59) -> 333 | E56: =SUM(E57:E59) -> 407 | F56: =SUM(F57:F59) -> 463 | G56: =SUM(G57:G59) -> 396 | H56: =SUM(H57:H59) -> 404 | I56: =SUM(I57:I59) -> 475 | ... S56: =SUM(S57:S59) -> 6652
A57: POSTA SAN LORENZO | B57: =B113+B169 -> 152 | C57: =C113+C169 -> 308 | D57: =D113+D169 -> 333 | E57: =E113+E169 -> 407 | F57: =F113+F169 -> 463 | G57: =G113+G169 -> 396 | H57: =H113+H169 -> 402 | I57: =I113+I169 -> 475 | ... R57: =R113+R169 -> 381 | S57: =SUM(B57:R57)+10 -> 6644
A58: POSTA LAS BARRANCA | B58: =B114+B170 -> 1 | C58: =C114+C170 -> 0 | D58: =D114+D170 -> 0 | E58: =E114+E170 -> 0 | F58: =F114+F170 -> 0 | G58: =G114+G170 -> 0 | H58: =H114+H170 -> 1 | I58: =I114+I170 -> 0 | ... R58: =R114+R170 -> 1 | S58: =SUM(B58:R58) -> 5
A59: POSTA SAN MARCOS | B59: =B115+B171 -> 1 | C59: =C115+C171 -> 0 | D59: =D115+D171 -> 0 | E59: =E115+E171 -> 0 | F59: =F115+F171 -> 0 | G59: =G115+G171 -> 0 | H59: =H115+H171 -> 1 | I59: =I115+I171 -> 0 | ... R59: =R115+R171 -> 0 | S59: =SUM(B59:R59) -> 3
J62: POBLACION INSCRITA PERCAPITA VALIDADA 2018 IV REGION - MUJERES
J63: PROVINCIA - LIMARI
A64: mujeres
A65: 2018 | B65: 0 - 4 | C65: 5 - 9 | D65: 10 - 14 | E65: 15 - 19 | F65: 20 - 24 | G65: 25 - 29 | H65: 30 - 34 | I65: 35 - 39 | J65: 40 - 44 | K65: 45-49 | L65: 50 - 54 | M65: 55 - 59 | N65: 60 - 64 | O65: 65 - 69 | P65: 70 - 74 | Q65: 75 - 79 | R65: 80 Y + | S65: TOTAL
A66: TOTAL IV REGION | B66: =B67+ELQUI!B62+CHOAPA!B59 -> 16476 | C66: =C67+ELQUI!C62+CHOAPA!C59 -> 22283 | D66: =D67+ELQUI!D62+CHOAPA!D59 -> 19687 | E66: =E67+ELQUI!E62+CHOAPA!E59 -> 21742 | F66: =F67+ELQUI!F62+CHOAPA!F59 -> 24407 | G66: =G67+ELQUI!G62+CHOAPA!G59 -> 25517 | H66: =H67+ELQUI!H62+CHOAPA!H59 -> 22059 | I66: =I67+ELQUI!I62+CHOAPA!I59 -> 20873 | ... R66: =R67+ELQUI!R62+CHOAPA!R59 -> 11766 | S66: =SUM(B66:R66) -> 310818
A67: PROVINCIA EL LIMARI | B67: =+B68+B85+B94+B109+B112 -> 4445 | C67: =+C68+C85+C94+C109+C112 -> 5668 | D67: =+D68+D85+D94+D109+D112 -> 5144 | E67: =+E68+E85+E94+E109+E112 -> 5706 | F67: =+F68+F85+F94+F109+F112 -> 6286 | G67: =+G68+G85+G94+G109+G112 -> 6282 | H67: =+H68+H85+H94+H109+H112 -> 5575 | I67: =+I68+I85+I94+I109+I112 -> 5408 | ... R67: =+R68+R85+R94+R109+R112 -> 3236 | S67: =S68+S85+S94+S109+S112 -> 80008
A68: C. OVALLE | B68: =SUM(B69:B83) -> 3087 | C68: =SUM(C69:C83) -> 3774 | D68: =SUM(D69:D83) -> 3312 | E68: =SUM(E69:E83) -> 3717 | F68: =SUM(F69:F83) -> 4153 | G68: =SUM(G69:G83) -> 4170 | H68: =SUM(H69:H83) -> 3627 | I68: =SUM(I69:I83) -> 3465 | ... S68: =SUM(S69:S83) -> 51982 | W68: ok
A69: C.G.R. CERRILLOS DE TAMAYA | B69: 205 | C69: 296 | D69: 274 | E69: 266 | F69: 314 | G69: 308 | H69: 290 | I69: 275 | J69: 278 | K69: 244 | L69: 230 | M69: 210 | N69: 163 | O69: 158 | P69: 136 | Q69: 103 | R69: 120 | S69: =SUM(B69:R69) -> 3870
A70: C.G.U JORGE JORDAN | B70: 931 | C70: 1063 | D70: 903 | E70: 1111 | F70: 1273 | G70: 1329 | H70: 1104 | I70: 963 | J70: 919 | K70: 926 | L70: 1163 | M70: 995 | N70: 796 | O70: 519 | P70: 414 | Q70: 358 | R70: 518 | S70: =SUM(B70:R70)+1 -> 15286 | W70: ok
A71: CECOF SAN JOSE DE LA DEHESA | B71: 67 | C71: 63 | D71: 48 | E71: 60 | F71: 88 | G71: 75 | H71: 51 | I71: 32 | J71: 50 | K71: 58 | L71: 73 | M71: 45 | N71: 44 | O71: 30 | P71: 22 | Q71: 12 | R71: 25 | S71: =SUM(B71:R71) -> 843
A72: C.G.U MARCOS MACUADA | B72: 1522 | C72: 1840 | D72: 1609 | E72: 1782 | F72: 1961 | G72: 1892 | H72: 1715 | I72: 1711 | J72: 1714 | K72: 1572 | L72: 1527 | M72: 1202 | N72: 1168 | O72: 922 | P72: 784 | Q72: 642 | R72: 1010 | S72: =SUM(B72:R72) -> 24573
A73: CECOF LIMARI | B73: 13 | C73: 24 | D73: 14 | E73: 21 | F73: 18 | G73: 21 | H73: 14 | I73: 23 | J73: 20 | K73: 21 | L73: 19 | M73: 9 | N73: 12 | O73: 8 | P73: 7 | Q73: 2 | R73: 9 | S73: =SUM(B73:R73) -> 255
A74: C.G.R. SOTAQUI | B74: 173 | C74: 198 | D74: 169 | E74: 201 | F74: 237 | G74: 231 | H74: 176 | I74: 176 | J74: 173 | K74: 196 | L74: 215 | M74: 162 | N74: 107 | O74: 127 | P74: 72 | Q74: 74 | R74: 122 | S74: =SUM(B74:R74) -> 2809
A75: POSTA LIMARI | B75: 133 | C75: 263 | D75: 265 | E75: 254 | F75: 242 | G75: 281 | H75: 245 | I75: 256 | J75: 248 | K75: 299 | L75: 334 | M75: 270 | N75: 248 | O75: 183 | P75: 147 | Q75: 123 | R75: 211 | S75: =SUM(B75:R75) -> 4002
A76: POSTA ALCONES BAJOS | B76: 3 | C76: 1 | D76: 1 | E76: 0 | F76: 0 | G76: 0 | H76: 0 | I76: 1 | J76: 1 | K76: 0 | L76: 0 | M76: 0 | N76: 0 | O76: 0 | P76: 0 | Q76: 0 | S76: =SUM(B76:R76) -> 7
A77: POSTA CAMARICO | B77: 8 | C77: 6 | D77: 7 | E77: 7 | F77: 4 | G77: 9 | H77: 9 | I77: 6 | J77: 4 | K77: 5 | L77: 5 | M77: 5 | N77: 3 | O77: 3 | P77: 1 | Q77: 1 | R77: 2 | S77: =SUM(B77:R77) -> 85
A78: POSTA CERRO BLANCO | B78: 0 | C78: 0 | D78: 0 | E78: 0 | F78: 0 | G78: 0 | H78: 2 | I78: 2 | J78: 0 | K78: 0 | L78: 0 | M78: 0 | N78: 1 | O78: 0 | P78: 0 | Q78: 0 | S78: =SUM(B78:R78) -> 5
A79: POSTA CHALINGA | B79: 2 | C79: 1 | D79: 2 | E79: 0 | F79: 2 | G79: 3 | H79: 0 | I79: 1 | J79: 0 | K79: 0 | L79: 0 | M79: 1 | N79: 0 | O79: 1 | P79: 0 | Q79: 0 | S79: =SUM(B79:R79) -> 13
A80: POSTA HORNILLOS | B80: 1 | C80: 0 | D80: 0 | E80: 0 | F80: 0 | G80: 0 | H80: 0 | I80: 0 | J80: 0 | K80: 0 | L80: 0 | M80: 0 | N80: 0 | O80: 0 | P80: 0 | Q80: 0 | S80: =SUM(B80:R80) -> 1
A81: POSTA HUAMALATA | B81: 13 | C81: 11 | D81: 7 | E81: 8 | F81: 8 | G81: 12 | H81: 11 | I81: 8 | J81: 6 | K81: 5 | L81: 8 | M81: 3 | N81: 3 | O81: 5 | P81: 4 | Q81: 2 | R81: 1 | S81: =SUM(B81:R81) -> 115
A82: POSTA LA SOSSAS | B82: 0 | C82: 0 | D82: 0 | E82: 0 | F82: 0 | G82: 0 | H82: 0 | I82: 0 | J82: 0 | K82: 0 | L82: 0 | M82: 1 | N82: 0 | O82: 0 | P82: 0 | Q82: 0 | S82: =SUM(B82:R82) -> 1
A83: POSTA RECOLETA | B83: 16 | C83: 8 | D83: 13 | E83: 7 | F83: 6 | G83: 9 | H83: 10 | I83: 11 | J83: 4 | K83: 6 | L83: 7 | M83: 4 | N83: 4 | O83: 2 | P83: 4 | Q83: 1 | R83: 5 | S83: =SUM(B83:R83) -> 117
A85: C. RIO HURTADO | B85: =SUM(B86:B92) -> 110 | C85: =SUM(C86:C92) -> 143 | D85: =SUM(D86:D92) -> 130 | E85: =SUM(E86:E92) -> 132 | F85: =SUM(F86:F92) -> 172 | G85: =SUM(G86:G92) -> 143 | H85: =SUM(H86:H92) -> 150 | I85: =SUM(I86:I92) -> 139 | ... S85: =SUM(S86:S92) -> 2271
A86: C.G.R PICHASCA | B86: 42 | C86: 56 | D86: 57 | E86: 49 | F86: 60 | G86: 53 | H86: 65 | I86: 54 | J86: 57 | K86: 40 | L86: 64 | M86: 51 | N86: 42 | O86: 47 | P86: 43 | Q86: 26 | R86: 40 | S86: =SUM(B86:R86) -> 846
A87: POSTA EL CHAÑAR | B87: 8 | C87: 5 | D87: 9 | E87: 4 | F87: 10 | G87: 7 | H87: 3 | I87: 8 | J87: 5 | K87: 8 | L87: 4 | M87: 6 | N87: 9 | O87: 4 | P87: 6 | Q87: 7 | R87: 7 | S87: =SUM(B87:R87) -> 110
A88: POSTA HURTADO | B88: 10 | C88: 9 | D88: 7 | E88: 16 | F88: 11 | G88: 20 | H88: 12 | I88: 14 | J88: 10 | K88: 17 | L88: 18 | M88: 16 | N88: 14 | O88: 11 | P88: 14 | Q88: 9 | R88: 8 | S88: =SUM(B88:R88) -> 216
A89: POSTA LAS BREAS | B89: 8 | C89: 7 | D89: 7 | E89: 14 | F89: 10 | G89: 9 | H89: 12 | I89: 13 | J89: 10 | K89: 7 | L89: 14 | M89: 12 | N89: 5 | O89: 4 | P89: 9 | Q89: 6 | R89: 11 | S89: =SUM(B89:R89) -> 158
A90: POSTA SAMO ALTO | B90: 13 | C90: 19 | D90: 14 | E90: 18 | F90: 24 | G90: 25 | H90: 26 | I90: 15 | J90: 24 | K90: 28 | L90: 29 | M90: 24 | N90: 26 | O90: 21 | P90: 23 | Q90: 21 | R90: 24 | S90: =SUM(B90:R90) -> 374
A91: POSTA SERON | B91: 21 | C91: 28 | D91: 23 | E91: 20 | F91: 39 | G91: 21 | H91: 21 | I91: 21 | J91: 21 | K91: 22 | L91: 33 | M91: 22 | N91: 23 | O91: 18 | P91: 18 | Q91: 14 | R91: 19 | S91: =SUM(B91:R91) -> 384
A92: POSTA TABAQUEROS | B92: 8 | C92: 19 | D92: 13 | E92: 11 | F92: 18 | G92: 8 | H92: 11 | I92: 14 | J92: 13 | K92: 9 | L92: 7 | M92: 12 | N92: 12 | O92: 11 | P92: 4 | Q92: 4 | R92: 9 | S92: =SUM(B92:R92) -> 183
A94: C. MONTE PATRIA | B94: =SUM(B95:B107) -> 912 | C94: =SUM(C95:C107) -> 1179 | D94: =SUM(D95:D107) -> 1093 | E94: =SUM(E95:E107) -> 1172 | F94: =SUM(F95:F107) -> 1331 | G94: =SUM(G95:G107) -> 1347 | H94: =SUM(H95:H107) -> 1173 | I94: =SUM(I95:I107) -> 1166 | ... S94: =SUM(S95:S107) -> 16540
A95: C.G.R. MONTE PATRIA | B95: 342 | C95: 475 | D95: 454 | E95: 467 | F95: 545 | G95: 541 | H95: 503 | I95: 467 | J95: 475 | K95: 488 | L95: 444 | M95: 358 | N95: 284 | O95: 210 | P95: 174 | Q95: 166 | R95: 251 | S95: =SUM(B95:R95) -> 6644
A96: C.G.R CHAÑARAL ALTO | B96: 143 | C96: 178 | D96: 159 | E96: 199 | F96: 208 | G96: 195 | H96: 172 | I96: 185 | J96: 199 | K96: 193 | L96: 181 | M96: 156 | N96: 113 | O96: 75 | P96: 81 | Q96: 60 | R96: 100 | S96: =SUM(B96:R96) -> 2597
A97: C.G.R CAREN | B97: 129 | C97: 169 | D97: 169 | E97: 202 | F97: 207 | G97: 238 | H97: 180 | I97: 198 | J97: 202 | K97: 178 | L97: 188 | M97: 166 | N97: 144 | O97: 111 | P97: 118 | Q97: 90 | R97: 177 | S97: =SUM(B97:R97) -> 2866
A98: C.G.R EL PALQUI | B98: 295 | C98: 352 | D98: 302 | E98: 298 | F98: 360 | G98: 364 | H98: 311 | I98: 311 | J98: 278 | K98: 297 | L98: 306 | M98: 244 | N98: 155 | O98: 133 | P98: 116 | Q98: 86 | R98: 110 | S98: =SUM(B98:R98) -> 4318
A99: POSTA CHILECITO | B99: 0 | C99: 0 | D99: 1 | E99: 0 | F99: 1 | G99: 0 | H99: 0 | I99: 1 | J99: 0 | K99: 0 | L99: 0 | M99: 1 | N99: 2 | O99: 1 | P99: 1 | Q99: 2 | R99: 1 | S99: =SUM(B99:R99) -> 11
A100: POSTA EL MAITEN | B100: 0 | C100: 0 | D100: 0 | E100: 0 | F100: 0 | G100: 0 | H100: 0 | I100: 0 | J100: 0 | K100: 0 | L100: 0 | M100: 0 | N100: 0 | O100: 0 | P100: 0 | Q100: 1 | R100: 0 | S100: =SUM(B100:R100) -> 1
A101: POSTA HACIENDA VALDIVIA | B101: 1 | C101: 0 | D101: 2 | E101: 0 | F101: 1 | G101: 2 | H101: 1 | I101: 0 | J101: 0 | K101: 2 | L101: 0 | M101: 0 | N101: 0 | O101: 1 | P101: 0 | Q101: 1 | R101: 1 | S101: =SUM(B101:R101) -> 12
A102: POSTA HUATULAME | B102: 0 | C102: 1 | D102: 0 | E102: 0 | F102: 0 | G102: 1 | H102: 0 | I102: 0 | J102: 0 | K102: 0 | L102: 1 | M102: 1 | N102: 0 | O102: 0 | P102: 1 | Q102: 2 | R102: 0 | S102: =SUM(B102:R102) -> 7
A103: POSTA MIALQUI | B103: 0 | C103: 0 | D103: 0 | E103: 0 | F103: 0 | G103: 0 | H103: 0 | I103: 1 | J103: 0 | K103: 0 | L103: 0 | M103: 0 | N103: 0 | O103: 0 | P103: 2 | Q103: 0 | R103: 0 | S103: =SUM(B103:R103) -> 3
A104: POSTA PEDREGAL | B104: 0 | C104: 0 | D104: 0 | E104: 1 | F104: 5 | G104: 2 | H104: 1 | I104: 1 | J104: 1 | K104: 2 | L104: 2 | M104: 0 | N104: 0 | O104: 1 | P104: 0 | Q104: 1 | R104: 1 | S104: =SUM(B104:R104) -> 18
A105: POSTA RAMADAS DE TULAHUEN | B105: 0 | C105: 0 | D105: 0 | E105: 0 | F105: 1 | G105: 0 | H105: 0 | I105: 0 | J105: 0 | K105: 1 | L105: 2 | M105: 0 | N105: 0 | O105: 0 | P105: 0 | Q105: 1 | R105: 2 | S105: =SUM(B105:R105) -> 7
A106: POSTA RAPEL | B106: 1 | C106: 3 | D106: 6 | E106: 5 | F106: 2 | G106: 3 | H106: 4 | I106: 2 | J106: 3 | K106: 3 | L106: 3 | M106: 2 | N106: 1 | O106: 2 | P106: 1 | Q106: 1 | R106: 2 | S106: =SUM(B106:R106) -> 44
A107: POSTA TULAHUEN | B107: 1 | C107: 1 | D107: 0 | E107: 0 | F107: 1 | G107: 1 | H107: 1 | I107: 0 | J107: 0 | K107: 1 | L107: 1 | M107: 1 | N107: 0 | O107: 1 | P107: 1 | Q107: 0 | R107: 2 | S107: =SUM(B107:R107) -> 12
A109: C. PUNITAQUI | B109: =+B110 -> 254 | C109: =+C110 -> 425 | D109: =+D110 -> 447 | E109: =+E110 -> 479 | F109: =+F110 -> 404 | G109: =+G110 -> 447 | H109: =+H110 -> 425 | I109: =+I110 -> 400 | ... R109: =+R110 -> 227 | S109: =S110 -> 5868
A110: C.G.R. PUNITAQUI | B110: 254 | C110: 425 | D110: 447 | E110: 479 | F110: 404 | G110: 447 | H110: 425 | I110: 400 | J110: 373 | K110: 372 | L110: 369 | M110: 336 | N110: 308 | O110: 266 | P110: 189 | Q110: 147 | R110: 227 | S110: =SUM(B110:R110) -> 5868
A112: C. COMBARBALÁ | B112: =SUM(B113:B115) -> 82 | C112: =SUM(C113:C115) -> 147 | D112: =SUM(D113:D115) -> 162 | E112: =SUM(E113:E115) -> 206 | F112: =SUM(F113:F115) -> 226 | G112: =SUM(G113:G115) -> 175 | H112: =SUM(H113:H115) -> 200 | I112: =SUM(I113:I115) -> 238 | ... S112: =SUM(S113:S115) -> 3347
...

Sheet CHOAPA
A1: MINISTERIO DE SALUD
A2: SERVICIO DE SALUD COQUIMBO
A3: SUBDIRECCION DE GESTION ASISTENCIAL
A4: SUBDEPTO DE ESTADÍSTICA Y GESTIÓN DE LA INFORMACIÓN
A6: POBLACION INSCRITA PERCAPITA VALIDADA 2018 IV REGION - AMBOS SEXOS
A7: PROVINCIA - CHOAPA
A9: 2018 | B9: 0 - 4 | C9: 5 - 9 | D9: 10 - 14 | E9: 15 - 19 | F9: 20 - 24 | G9: 25 - 29 | H9: 30 - 34 | I9: 35 - 39 | J9: 40 - 44 | K9: 45-49 | L9: 50 - 54 | M9: 55 - 59 | N9: 60 - 64 | O9: 65 - 69 | P9: 70 - 74 | Q9: 75 - 79 | R9: 80 Y = | S9: TOTAL
A10: TOTAL IV REGION | B10: =ELQUI!B11+LIMARI!B11+CHOAPA!B11 -> 33881 | C10: =ELQUI!C11+LIMARI!C11+CHOAPA!C11 -> 45243 | D10: =ELQUI!D11+LIMARI!D11+CHOAPA!D11 -> 40727 | E10: =ELQUI!E11+LIMARI!E11+CHOAPA!E11 -> 43904 | F10: =ELQUI!F11+LIMARI!F11+CHOAPA!F11 -> 48002 | G10: =ELQUI!G11+LIMARI!G11+CHOAPA!G11 -> 48669 | H10: =ELQUI!H11+LIMARI!H11+CHOAPA!H11 -> 41156 | I10: =ELQUI!I11+LIMARI!I11+CHOAPA!I11 -> 38300 | ... S10: =ELQUI!S11+LIMARI!S11+CHOAPA!S11 -> 595050
A11: PROVINCIA CHOAPA | B11: =B12+B29+B42+B50 -> 2492 | C11: =C12+C29+C42+C50 -> 3345 | D11: =D12+D29+D42+D50 -> 3240 | E11: =E12+E29+E42+E50 -> 3593 | F11: =F12+F29+F42+F50 -> 3536 | G11: =G12+G29+G42+G50 -> 3372 | H11: =H12+H29+H42+H50 -> 3036 | I11: =I12+I29+I42+I50 -> 2905 | ... S11: =S12+S29+S42+S50 -> 48223
A12: C. ILLAPEL | B12: =SUM(B13:B27) -> 1486 | C12: =SUM(C13:C27) -> 1552 | D12: =SUM(D13:D27) -> 1414 | E12: =SUM(E13:E27) -> 1535 | F12: =SUM(F13:F27) -> 1383 | G12: =SUM(G13:G27) -> 1331 | H12: =SUM(H13:H27) -> 1179 | I12: =SUM(I13:I27) -> 1080 | ... S12: =SUM(S13:S27) -> 19925
A13: HOSPITAL ILLAPEL
A14: CESFAM VILLA SAN RAFAEL DE ROZAS | B14: =B62+B110 -> 115 | C14: =C62+C110 -> 59 | D14: =D62+D110 -> 36 | E14: =E62+E110 -> 44 | F14: =F62+F110 -> 45 | G14: =G62+G110 -> 50 | H14: =H62+H110 -> 46 | I14: =I62+I110 -> 36 | ... S14: =S62+S110 -> 630
A15: CESFAM URBANO | B15: =B63+B111 -> 955 | C15: =C63+C111 -> 611 | D15: =D63+D111 -> 458 | E15: =E63+E111 -> 468 | F15: =F63+F111 -> 367 | G15: =G63+G111 -> 342 | H15: =H63+H111 -> 303 | I15: =I63+I111 -> 280 | ... R15: =R63+R111 -> 360 | S15: =S63+S111+8 -> 7161
A16: POSTA CARCAMO | B16: =B64+B112 -> 10 | C16: =C64+C112 -> 31 | D16: =D64+D112 -> 32 | E16: =E64+E112 -> 49 | F16: =F64+F112 -> 41 | G16: =G64+G112 -> 52 | H16: =H64+H112 -> 42 | I16: =I64+I112 -> 36 | ... S16: =S64+S112 -> 687
A17: POSTA HUINTIL | B17: =B65+B113 -> 8 | C17: =C65+C113 -> 33 | D17: =D65+D113 -> 30 | E17: =E65+E113 -> 24 | F17: =F65+F113 -> 28 | G17: =G65+G113 -> 23 | H17: =H65+H113 -> 24 | I17: =I65+I113 -> 22 | ... S17: =S65+S113 -> 431
A18: POSTA LIMAHUIDA | B18: =B66+B114 -> 11 | C18: =C66+C114 -> 21 | D18: =D66+D114 -> 20 | E18: =E66+E114 -> 35 | F18: =F66+F114 -> 30 | G18: =G66+G114 -> 31 | H18: =H66+H114 -> 22 | I18: =I66+I114 -> 17 | ... R18: =R66+R114 -> 17 | S18: =S66+S114+1 -> 396
A19: POSTA MATANCILLA | B19: =B67+B115 -> 15 | C19: =C67+C115 -> 21 | D19: =D67+D115 -> 14 | E19: =E67+E115 -> 25 | F19: =F67+F115 -> 29 | G19: =G67+G115 -> 22 | H19: =H67+H115 -> 18 | I19: =I67+I115 -> 18 | ... S19: =S67+S115 -> 369
A20: POSTA PERALILLO | B20: =B68+B116 -> 18 | C20: =C68+C116 -> 30 | D20: =D68+D116 -> 46 | E20: =E68+E116 -> 49 | F20: =F68+F116 -> 41 | G20: =G68+G116 -> 39 | H20: =H68+H116 -> 35 | I20: =I68+I116 -> 38 | ... S20: =S68+S116 -> 541
A21: POSTA STA. VIRGINIA | B21: =B69+B117 -> 7 | C21: =C69+C117 -> 24 | D21: =D69+D117 -> 36 | E21: =E69+E117 -> 51 | F21: =F69+F117 -> 37 | G21: =G69+G117 -> 39 | H21: =H69+H117 -> 25 | I21: =I69+I117 -> 29 | ... S21: =S69+S117 -> 472
A22: POSTA TUNGA-NORTE | B22: =B70+B118 -> 4 | C22: =C70+C118 -> 35 | D22: =D70+D118 -> 50 | E22: =E70+E118 -> 52 | F22: =F70+F118 -> 44 | G22: =G70+G118 -> 47 | H22: =H70+H118 -> 42 | I22: =I70+I118 -> 41 | ... S22: =S70+S118 -> 702
A23: POSTA PLAN DE HORNOS | B23: =B71+B119 -> 7 | C23: =C71+C119 -> 11 | D23: =D71+D119 -> 11 | E23: =E71+E119 -> 15 | F23: =F71+F119 -> 17 | G23: =G71+G119 -> 33 | H23: =H71+H119 -> 27 | I23: =I71+I119 -> 23 | ... R23: =R71+R119 -> 8 | S23: =S71+S119+1 -> 295
A24: POSTA TUNGA-SUR | B24: =B72+B120 -> 2 | C24: =C72+C120 -> 10 | D24: =D72+D120 -> 7 | E24: =E72+E120 -> 12 | F24: =F72+F120 -> 13 | G24: =G72+G120 -> 13 | H24: =H72+H120 -> 15 | I24: =I72+I120 -> 10 | ... R24: =R72+R120 -> 20 | S24: =S72+S120+1 -> 254
A25: POSTA PINTACURA | B25: =B73+B121 -> 267 | C25: =C73+C121 -> 553 | D25: =D73+D121 -> 556 | E25: =E73+E121 -> 592 | F25: =F73+F121 -> 579 | G25: =G73+G121 -> 529 | H25: =H73+H121 -> 482 | I25: =I73+I121 -> 426 | ... R25: =R73+R121 -> 103 | S25: =S73+S121+3 -> 6531
A26: P. CAÑAS UNO DEL CHOAPA | B26: =B74+B122 -> 67 | C26: =C74+C122 -> 113 | D26: =D74+D122 -> 118 | E26: =E74+E122 -> 119 | F26: =F74+F122 -> 112 | G26: =G74+G122 -> 111 | H26: =H74+H122 -> 98 | I26: =I74+I122 -> 104 | ... S26: =S74+S122 -> 1455
A27: POSTA SOCAVON | B27: =B75+B123 -> 0 | C27: =C75+C123 -> 0 | D27: =D75+D123 -> 0 | E27: =E75+E123 -> 0 | F27: =F75+F123 -> 0 | G27: =G75+G123 -> 0 | H27: =H75+H123 -> 0 | I27: =I75+I123 -> 0 | ... S27: =S75+S123 -> 1
A29: C. SALAMANCA | B29: =SUM(B30:B40) -> 469 | C29: =SUM(C30:C40) -> 815 | D29: =SUM(D30:D40) -> 821 | E29: =SUM(E30:E40) -> 953 | F29: =SUM(F30:F40) -> 977 | G29: =SUM(G30:G40) -> 992 | H29: =SUM(H30:H40) -> 893 | I29: =SUM(I30:I40) -> 800 | ... S29: =SUM(S30:S40) -> 12919
A30: HOSPITAL SALAMANCA
A31: POSTA CUNCUMEN | B31: =B79+B127 -> 273 | C31: =C79+C127 -> 699 | D31: =D79+D127 -> 725 | E31: =E79+E127 -> 858 | F31: =F79+F127 -> 849 | G31: =G79+G127 -> 856 | H31: =H79+H127 -> 773 | I31: =I79+I127 -> 687 | ... R31: =R79+R127 -> 427 | S31: =S79+S127+1 -> 11265
A32: POSTA ARBOLEDA GRANDE | B32: =B80+B128 -> 20 | C32: =C80+C128 -> 16 | D32: =D80+D128 -> 8 | E32: =E80+E128 -> 8 | F32: =F80+F128 -> 11 | G32: =G80+G128 -> 13 | H32: =H80+H128 -> 11 | I32: =I80+I128 -> 11 | ... S32: =S80+S128 -> 176
A33: POSTA CAMISA | B33: =B81+B129 -> 5 | C33: =C81+C129 -> 4 | D33: =D81+D129 -> 2 | E33: =E81+E129 -> 2 | F33: =F81+F129 -> 6 | G33: =G81+G129 -> 0 | H33: =H81+H129 -> 3 | I33: =I81+I129 -> 2 | ... S33: =S81+S129 -> 33
A34: POSTA CHILLEPIN | B34: =B82+B130 -> 40 | C34: =C82+C130 -> 11 | D34: =D82+D130 -> 11 | E34: =E82+E130 -> 22 | F34: =F82+F130 -> 21 | G34: =G82+G130 -> 30 | H34: =H82+H130 -> 27 | I34: =I82+I130 -> 20 | ... S34: =S82+S130 -> 285
A35: POSTA CUNLAGUA | B35: =B83+B131 -> 7 | C35: =C83+C131 -> 1 | D35: =D83+D131 -> 3 | E35: =E83+E131 -> 3 | F35: =F83+F131 -> 3 | G35: =G83+G131 -> 2 | H35: =H83+H131 -> 3 | I35: =I83+I131 -> 5 | ... S35: =S83+S131 -> 37
A36: POSTA LLIMPO | B36: =B84+B132 -> 6 | C36: =C84+C132 -> 3 | D36: =D84+D132 -> 1 | E36: =E84+E132 -> 1 | F36: =F84+F132 -> 4 | G36: =G84+G132 -> 8 | H36: =H84+H132 -> 4 | I36: =I84+I132 -> 3 | ... S36: =S84+S132 -> 35
A37: POSTA QUELEN BAJO | B37: =B85+B133 -> 32 | C37: =C85+C133 -> 6 | D37: =D85+D133 -> 6 | E37: =E85+E133 -> 3 | F37: =F85+F133 -> 11 | G37: =G85+G133 -> 15 | H37: =H85+H133 -> 7 | I37: =I85+I133 -> 12 | ... S37: =S85+S133 -> 125
A38: POSTA SAN AGUSTIN | B38: =B86+B134 -> 0 | C38: =C86+C134 -> 0 | D38: =D86+D134 -> 0 | E38: =E86+E134 -> 0 | F38: =F86+F134 -> 0 | G38: =G86+G134 -> 0 | H38: =H86+H134 -> 1 | I38: =I86+I134 -> 1 | ... S38: =S86+S134 -> 3
A39: PASTA TAHUINCO | B39: =B87+B135 -> 57 | C39: =C87+C135 -> 63 | D39: =D87+D135 -> 62 | E39: =E87+E135 -> 52 | F39: =F87+F135 -> 52 | G39: =G87+G135 -> 55 | H39: =H87+H135 -> 47 | I39: =I87+I135 -> 49 | ... S39: =S87+S135 -> 817
A40: POSTA TRANQUILLA | B40: =B88+B136 -> 29 | C40: =C88+C136 -> 12 | D40: =D88+D136 -> 3 | E40: =E88+E136 -> 4 | F40: =F88+F136 -> 20 | G40: =G88+G136 -> 13 | H40: =H88+H136 -> 17 | I40: =I88+I136 -> 10 | ... S40: =S88+S136 -> 143
A42: C. LOS VILOS | B42: =SUM(B44:B48) -> 212 | C42: =SUM(C44:C48) -> 422 | D42: =SUM(D44:D48) -> 428 | E42: =SUM(E44:E48) -> 443 | F42: =SUM(F44:F48) -> 480 | G42: =SUM(G44:G48) -> 416 | H42: =SUM(H44:H48) -> 400 | I42: =SUM(I44:I48) -> 414 | ... R42: =SUM(R44:R48) -> 261 | S42: =SUM(S44:S48)+1 -> 6069
A43: HOSPITAL LOS VILOS
A44: POSTA CAIMANES | B44: =B92+B140 -> 156 | C44: =C92+C140 -> 400 | D44: =D92+D140 -> 410 | E44: =E92+E140 -> 424 | F44: =F92+F140 -> 443 | G44: =G92+G140 -> 385 | H44: =H92+H140 -> 370 | I44: =I92+I140 -> 378 | ... S44: =S92+S140 -> 5637
A45: POSTA GUANGUALI | B45: =B93+B141 -> 4 | C45: =C93+C141 -> 2 | D45: =D93+D141 -> 1 | E45: =E93+E141 -> 1 | F45: =F93+F141 -> 6 | G45: =G93+G141 -> 2 | H45: =H93+H141 -> 5 | I45: =I93+I141 -> 7 | ... S45: =S93+S141 -> 51
A46: POSTA QUILIMARI | B46: =B94+B142 -> 41 | C46: =C94+C142 -> 18 | D46: =D94+D142 -> 14 | E46: =E94+E142 -> 15 | F46: =F94+F142 -> 24 | G46: =G94+G142 -> 27 | H46: =H94+H142 -> 21 | I46: =I94+I142 -> 25 | ... S46: =S94+S142 -> 312
A47: POSTA TILAMA | B47: =B95+B143 -> 3 | C47: =C95+C143 -> 0 | D47: =D95+D143 -> 0 | E47: =E95+E143 -> 0 | F47: =F95+F143 -> 4 | G47: =G95+G143 -> 1 | H47: =H95+H143 -> 1 | I47: =I95+I143 -> 0 | ... S47: =S95+S143 -> 21
A48: POSTA LOS CONDORES | B48: =B96+B144 -> 8 | C48: =C96+C144 -> 2 | D48: =D96+D144 -> 3 | E48: =E96+E144 -> 3 | F48: =F96+F144 -> 3 | G48: =G96+G144 -> 1 | H48: =H96+H144 -> 3 | I48: =I96+I144 -> 4 | ... S48: =S96+S144 -> 47
A50: C. CANELA | B50: =+B98+B146 -> 325 | C50: =+C98+C146 -> 556 | D50: =+D98+D146 -> 577 | E50: =+E98+E146 -> 662 | F50: =+F98+F146 -> 696 | G50: =+G98+G146 -> 633 | H50: =+H98+H146 -> 564 | I50: =+I98+I146 -> 611 | ... R50: =+R98+R146 -> 495 | S50: =+S98+S146+2 -> 9310
A51: CGR CANELA | B51: =B99+B147 -> 325 | C51: =C99+C147 -> 556 | D51: =D99+D147 -> 577 | E51: =E99+E147 -> 662 | F51: =F99+F147 -> 696 | G51: =G99+G147 -> 633 | H51: =H99+H147 -> 564 | I51: =I99+I147 -> 611 | ... S51: =S99+S147 -> 9308
J54: POBLACION INSCRITA PERCAPITA VALIDADA 2018 IV REGION - MUJERES
J55: PROVINCIA - CHOAPA
A56: mujeres
A57: 2018 | B57: 0 - 4 | C57: 5 - 9 | D57: 10 - 14 | E57: 15 - 19 | F57: 20 - 24 | G57: 25 - 29 | H57: 30 - 34 | I57: 35 - 39 | J57: 40 - 44 | K57: 45-49 | L57: 50 - 54 | M57: 55 - 59 | N57: 60 - 64 | O57: 65 - 69 | P57: 70 - 74 | Q57: 75 - 79 | R57: 80 Y + | S57: TOTAL
A58: TOTAL IV REGION | B58: =+B59+LIMARI!B67+ELQUI!B62 -> 16476 | C58: =+C59+LIMARI!C67+ELQUI!C62 -> 22283 | D58: =+D59+LIMARI!D67+ELQUI!D62 -> 19687 | E58: =+E59+LIMARI!E67+ELQUI!E62 -> 21742 | F58: =+F59+LIMARI!F67+ELQUI!F62 -> 24407 | G58: =+G59+LIMARI!G67+ELQUI!G62 -> 25517 | H58: =+H59+LIMARI!H67+ELQUI!H62 -> 22059 | I58: =+I59+LIMARI!I67+ELQUI!I62 -> 20873 | ... S58: =+S59+LIMARI!S67+ELQUI!S62 -> 310824
A59: PROVINCIA CHOAPA | B59: =+B60+B77+B90+B98 -> 1196 | C59: =+C60+C77+C90+C98 -> 1645 | D59: =+D60+D77+D90+D98 -> 1570 | E59: =+E60+E77+E90+E98 -> 1794 | F59: =+F60+F77+F90+F98 -> 1751 | G59: =+G60+G77+G90+G98 -> 1791 | H59: =+H60+H77+H90+H98 -> 1599 | I59: =+I60+I77+I90+I98 -> 1589 | ... S59: =+S60+S77+S90+S98 -> 24690
A60: C. ILLAPEL | B60: =SUM(B61:B75) -> 738 | C60: =SUM(C61:C75) -> 785 | D60: =SUM(D61:D75) -> 717 | E60: =SUM(E61:E75) -> 806 | F60: =SUM(F61:F75) -> 741 | G60: =SUM(G61:G75) -> 731 | H60: =SUM(H61:H75) -> 651 | I60: =SUM(I61:I75) -> 615 | ... R60: =SUM(R61:R75) -> 421 | S60: =SUM(S62:S75) -> 10772
A61: HOSPITAL ILLAPEL
A62: CESFAM VILLA SAN RAFAEL DE ROZAS | B62: 63 | C62: 32 | D62: 18 | E62: 32 | F62: 31 | G62: 37 | H62: 26 | I62: 25 | J62: 15 | K62: 14 | L62: 17 | M62: 16 | N62: 10 | O62: 9 | P62: 5 | Q62: 10 | R62: 11 | S62: =SUM(B62:R62) -> 371
A63: CESFAM URBANO | B63: 463 | C63: 314 | D63: 244 | E63: 267 | F63: 228 | G63: 212 | H63: 198 | I63: 166 | J63: 162 | K63: 251 | L63: 274 | M63: 263 | N63: 288 | O63: 257 | P63: 204 | Q63: 173 | R63: 224 | S63: =SUM(B63:R63) -> 4188
A64: POSTA CARCAMO | B64: 5 | C64: 12 | D64: 16 | E64: 26 | F64: 21 | G64: 27 | H64: 25 | I64: 18 | J64: 18 | K64: 33 | L64: 24 | M64: 30 | N64: 13 | O64: 17 | P64: 18 | Q64: 18 | R64: 25 | S64: =SUM(B64:R64) -> 346
A65: POSTA HUINTIL | B65: 5 | C65: 15 | D65: 15 | E65: 12 | F65: 14 | G65: 18 | H65: 12 | I65: 11 | J65: 16 | K65: 13 | L65: 18 | M65: 16 | N65: 17 | O65: 14 | P65: 5 | Q65: 5 | R65: 8 | S65: =SUM(B65:R65) -> 214
A66: POSTA LIMAHUIDA | B66: 5 | C66: 9 | D66: 10 | E66: 16 | F66: 10 | G66: 16 | H66: 13 | I66: 6 | J66: 9 | K66: 17 | L66: 15 | M66: 17 | N66: 9 | O66: 7 | P66: 8 | Q66: 5 | R66: 8 | S66: =SUM(B66:R66) -> 180
A67: POSTA MATANCILLA | B67: 9 | C67: 13 | D67: 4 | E67: 13 | F67: 13 | G67: 10 | H67: 5 | I67: 12 | J67: 13 | K67: 17 | L67: 13 | M67: 15 | N67: 10 | O67: 11 | P67: 7 | Q67: 12 | R67: 6 | S67: =SUM(B67:R67) -> 183
A68: POSTA PERALILLO | B68: 8 | C68: 12 | D68: 16 | E68: 22 | F68: 26 | G68: 24 | H68: 18 | I68: 20 | J68: 17 | K68: 19 | L68: 19 | M68: 17 | N68: 14 | O68: 10 | P68: 13 | Q68: 12 | R68: 10 | S68: =SUM(B68:R68) -> 277
A69: POSTA STA. VIRGINIA | B69: 5 | C69: 10 | D69: 10 | E69: 23 | F69: 15 | G69: 15 | H69: 12 | I69: 12 | J69: 12 | K69: 23 | L69: 18 | M69: 13 | N69: 9 | O69: 10 | P69: 6 | Q69: 4 | R69: 6 | S69: =SUM(B69:R69) -> 203
A70: POSTA TUNGA-NORTE | B70: 3 | C70: 15 | D70: 26 | E70: 25 | F70: 19 | G70: 23 | H70: 18 | I70: 28 | J70: 22 | K70: 28 | L70: 23 | M70: 24 | N70: 15 | O70: 12 | P70: 21 | Q70: 21 | R70: 18 | S70: =SUM(B70:R70) -> 341
A71: POSTA PLAN DE HORNOS | B71: 5 | C71: 5 | D71: 6 | E71: 7 | F71: 8 | G71: 16 | H71: 15 | I71: 9 | J71: 13 | K71: 15 | L71: 16 | M71: 4 | N71: 10 | O71: 7 | P71: 5 | Q71: 3 | R71: 3 | S71: =SUM(B71:R71) -> 147
A72: POSTA TUNGA-SUR | B72: 1 | C72: 6 | D72: 5 | E72: 6 | F72: 4 | G72: 4 | H72: 5 | I72: 7 | J72: 8 | K72: 4 | L72: 12 | M72: 9 | N72: 9 | O72: 19 | P72: 8 | Q72: 7 | R72: 9 | S72: =SUM(B72:R72) -> 123
A73: POSTA PINTACURA | B73: 130 | C73: 293 | D73: 290 | E73: 291 | F73: 293 | G73: 276 | H73: 256 | I73: 252 | J73: 236 | K73: 267 | L73: 255 | M73: 215 | N73: 136 | O73: 104 | P73: 59 | Q73: 46 | R73: 67 | S73: =SUM(B73:R73) -> 3466
A74: P. CAÑAS UNO DEL CHOAPA | B74: 36 | C74: 49 | D74: 57 | E74: 66 | F74: 59 | G74: 53 | H74: 48 | I74: 49 | J74: 46 | K74: 47 | L74: 49 | M74: 34 | N74: 38 | O74: 38 | P74: 22 | Q74: 15 | R74: 26 | S74: =SUM(B74:R74) -> 732
A75: POSTA SOCAVON | B75: 0 | C75: 0 | D75: 0 | E75: 0 | F75: 0 | G75: 0 | H75: 0 | I75: 0 | J75: 0 | K75: 0 | L75: 0 | M75: 0 | N75: 0 | O75: 1 | P75: 0 | Q75: 0 | S75: =SUM(B75:R75) -> 1
A77: C. SALAMANCA | B77: =SUM(B78:B88) -> 212 | C77: =SUM(C78:C88) -> 397 | D77: =SUM(D78:D88) -> 371 | E77: =SUM(E78:E88) -> 447 | F77: =SUM(F78:F88) -> 463 | G77: =SUM(G78:G88) -> 518 | H77: =SUM(H78:H88) -> 450 | I77: =SUM(I78:I88) -> 426 | ... R77: =SUM(R78:R88) -> 269 | S77: =SUM(S79:S88) -> 6299
A78: HOSPITAL SALAMANCA
A79: POSTA CUNCUMEN | B79: 125 | C79: 335 | D79: 326 | E79: 398 | F79: 378 | G79: 431 | H79: 370 | I79: 357 | J79: 401 | K79: 428 | L79: 399 | M79: 344 | N79: 301 | O79: 238 | P79: 193 | Q79: 154 | R79: 236 | S79: =SUM(B79:R79) -> 5414
A80: POSTA ARBOLEDA GRANDE | B80: 11 | C80: 6 | D80: 4 | E80: 1 | F80: 10 | G80: 9 | H80: 8 | I80: 7 | J80: 9 | K80: 7 | L80: 7 | M80: 1 | N80: 1 | O80: 6 | P80: 5 | Q80: 1 | R80: 4 | S80: =SUM(B80:R80) -> 97
A81: POSTA CAMISA | B81: 4 | C81: 2 | D81: 1 | E81: 0 | F81: 4 | G81: 0 | H81: 1 | I81: 2 | J81: 2 | K81: 0 | L81: 0 | M81: 0 | N81: 0 | O81: 0 | P81: 0 | Q81: 0 | R81: 1 | S81: =SUM(B81:R81) -> 17
A82: POSTA CHILLEPIN | B82: 23 | C82: 7 | D82: 6 | E82: 15 | F82: 16 | G82: 19 | H82: 17 | I82: 13 | J82: 12 | K82: 6 | L82: 12 | M82: 9 | N82: 2 | O82: 2 | P82: 7 | Q82: 2 | R82: 3 | S82: =SUM(B82:R82) -> 171
A83: POSTA CUNLAGUA | B83: 3 | C83: 1 | D83: 2 | E83: 1 | F83: 1 | G83: 1 | H83: 2 | I83: 2 | J83: 0 | K83: 0 | L83: 2 | M83: 0 | N83: 0 | O83: 1 | P83: 0 | Q83: 1 | R83: 2 | S83: =SUM(B83:R83) -> 19
A84: POSTA LLIMPO | B84: 2 | C84: 3 | D84: 0 | E84: 0 | F84: 3 | G84: 7 | H84: 2 | I84: 1 | J84: 3 | K84: 0 | L84: 0 | M84: 0 | N84: 0 | O84: 0 | P84: 0 | Q84: 1 | S84: =SUM(B84:R84) -> 22
A85: POSTA QUELEN BAJO | B85: 15 | C85: 2 | D85: 4 | E85: 1 | F85: 10 | G85: 11 | H85: 4 | I85: 8 | J85: 4 | K85: 5 | L85: 1 | M85: 0 | N85: 3 | O85: 1 | P85: 1 | Q85: 0 | R85: 1 | S85: =SUM(B85:R85) -> 71
A86: POSTA SAN AGUSTIN | B86: 0 | C86: 0 | D86: 0 | E86: 0 | F86: 0 | G86: 0 | H86: 1 | I86: 1 | J86: 0 | K86: 0 | L86: 1 | M86: 0 | N86: 0 | O86: 0 | P86: 0 | Q86: 0 | S86: =SUM(B86:R86) -> 3
A87: PASTA TAHUINCO | B87: 19 | C87: 32 | D87: 27 | E87: 27 | F87: 27 | G87: 29 | H87: 31 | I87: 28 | J87: 35 | K87: 22 | L87: 22 | M87: 26 | N87: 19 | O87: 15 | P87: 16 | Q87: 6 | R87: 21 | S87: =SUM(B87:R87) -> 402
A88: POSTA TRANQUILLA | B88: 10 | C88: 9 | D88: 1 | E88: 4 | F88: 14 | G88: 11 | H88: 14 | I88: 7 | J88: 6 | K88: 1 | L88: 2 | M88: 2 | N88: 0 | O88: 1 | P88: 0 | Q88: 0 | R88: 1 | S88: =SUM(B88:R88) -> 83
A90: C. LOS VILOS | B90: =SUM(B91:B96) -> 98 | C90: =SUM(C91:C96) -> 218 | D90: =SUM(D91:D96) -> 191 | E90: =SUM(E91:E96) -> 215 | F90: =SUM(F91:F96) -> 228 | G90: =SUM(G91:G96) -> 220 | H90: =SUM(H91:H96) -> 198 | I90: =SUM(I91:I96) -> 217 | ... S90: =SUM(S91:S96) -> 3000
A91: HOSPITAL LOS VILOS
A92: POSTA CAIMANES | B92: 67 | C92: 206 | D92: 182 | E92: 204 | F92: 204 | G92: 196 | H92: 178 | I92: 193 | J92: 202 | K92: 165 | L92: 195 | M92: 208 | N92: 137 | O92: 96 | P92: 96 | Q92: 76 | R92: 132 | S92: =SUM(B92:R92) -> 2737
A93: POSTA GUANGUALI | B93: 3 | C93: 2 | D93: 1 | E93: 1 | F93: 5 | G93: 2 | H93: 3 | I93: 6 | J93: 0 | K93: 3 | L93: 1 | M93: 1 | N93: 2 | O93: 0 | P93: 1 | Q93: 3 | R93: 2 | S93: =SUM(B93:R93) -> 36
A94: POSTA QUILIMARI | B94: 20 | C94: 9 | D94: 5 | E94: 8 | F94: 17 | G94: 20 | H94: 14 | I94: 14 | J94: 7 | K94: 13 | L94: 11 | M94: 9 | N94: 13 | O94: 7 | P94: 6 | Q94: 1 | R94: 8 | S94: =SUM(B94:R94) -> 182
A95: POSTA TILAMA | B95: 2 | C95: 0 | D95: 0 | E95: 0 | F95: 0 | G95: 1 | H95: 1 | I95: 0 | J95: 0 | K95: 1 | L95: 1 | M95: 0 | N95: 3 | O95: 0 | P95: 2 | Q95: 1 | R95: 0 | S95: =SUM(B95:R95) -> 12
A96: POSTA LOS CONDORES | B96: 6 | C96: 1 | D96: 3 | E96: 2 | F96: 2 | G96: 1 | H96: 2 | I96: 4 | J96: 2 | K96: 2 | L96: 1 | M96: 3 | N96: 1 | O96: 0 | P96: 0 | Q96: 1 | R96: 2 | S96: =SUM(B96:R96) -> 33
A98: C. CANELA | B98: =+B99 -> 148 | C98: =+C99 -> 245 | D98: =+D99 -> 291 | E98: =+E99 -> 326 | F98: =+F99 -> 319 | G98: =+G99 -> 322 | H98: =+H99 -> 300 | I98: =+I99 -> 331 | ... R98: =+R99 -> 263 | S98: =S99 -> 4619
A99: CGR CANELA | B99: 148 | C99: 245 | D99: 291 | E99: 326 | F99: 319 | G99: 322 | H99: 300 | I99: 331 | J99: 297 | K99: 305 | L99: 348 | M99: 305 | N99: 248 | O99: 230 | P99: 166 | Q99: 175 | R99: 263 | S99: =SUM(B99:R99) -> 4619
J102: POBLACION INSCRITA PERCAPITA VALIDADA 2018 IV REGION - HOMBRES
J103: PROVINCIA - CHOAPA
A105: 2018 | B105: 0 - 4 | C105: 5 - 9 | D105: 10 - 14 | E105: 15 - 19 | F105: 20 - 24 | G105: 25 - 29 | H105: 30 - 34 | I105: 35 - 39 | J105: 40 - 44 | K105: 45-49 | L105: 50 - 54 | M105: 55 - 59 | N105: 60 - 64 | O105: 65 - 69 | P105: 70 - 74 | Q105: 75 - 79 | R105: 80 Y + | S105: TOTAL
A106: TOTAL IV REGION | B106: =+B107+LIMARI!B123+ELQUI!B113 -> 17405 | C106: =+C107+LIMARI!C123+ELQUI!C113 -> 22959 | D106: =+D107+LIMARI!D123+ELQUI!D113 -> 21040 | E106: =+E107+LIMARI!E123+ELQUI!E113 -> 22162 | F106: =+F107+LIMARI!F123+ELQUI!F113 -> 23594 | G106: =+G107+LIMARI!G123+ELQUI!G113 -> 23152 | H106: =+H107+LIMARI!H123+ELQUI!H113 -> 19097 | I106: =+I107+LIMARI!I123+ELQUI!I113 -> 17427 | ... S106: =+S107+LIMARI!S123+ELQUI!S113 -> 283741
A107: PROVINCIA CHOAPA | B107: =+B108+B125+B138+B146 -> 1296 | C107: =+C108+C125+C138+C146 -> 1700 | D107: =+D108+D125+D138+D146 -> 1670 | E107: =+E108+E125+E138+E146 -> 1799 | F107: =+F108+F125+F138+F146 -> 1785 | G107: =+G108+G125+G138+G146 -> 1581 | H107: =+H108+H125+H138+H146 -> 1437 | I107: =+I108+I125+I138+I146 -> 1316 | ... S107: =+S108+S125+S138+S146 -> 23515
A108: C. ILLAPEL | B108: =SUM(B109:B123) -> 748 | C108: =SUM(C109:C123) -> 767 | D108: =SUM(D109:D123) -> 697 | E108: =SUM(E109:E123) -> 729 | F108: =SUM(F109:F123) -> 642 | G108: =SUM(G109:G123) -> 600 | H108: =SUM(H109:H123) -> 528 | I108: =SUM(I109:I123) -> 465 | ... R108: =SUM(R109:R123) -> 295 | S108: =SUM(S110:S122) -> 9139
A109: HOSPITAL ILLAPEL
A110: CESFAM VILLA SAN RAFAEL DE ROZAS | B110: 52 | C110: 27 | D110: 18 | E110: 12 | F110: 14 | G110: 13 | H110: 20 | I110: 11 | J110: 13 | K110: 13 | L110: 13 | M110: 10 | N110: 12 | O110: 8 | P110: 8 | Q110: 6 | R110: 9 | S110: =SUM(B110:R110) -> 259
A111: CESFAM URBANO | B111: 492 | C111: 297 | D111: 214 | E111: 201 | F111: 139 | G111: 130 | H111: 105 | I111: 114 | J111: 98 | K111: 131 | L111: 141 | M111: 172 | N111: 167 | O111: 163 | P111: 146 | Q111: 119 | R111: 136 | S111: =SUM(B111:R111) -> 2965
A112: POSTA CARCAMO | B112: 5 | C112: 19 | D112: 16 | E112: 23 | F112: 20 | G112: 25 | H112: 17 | I112: 18 | J112: 19 | K112: 28 | L112: 23 | M112: 30 | N112: 18 | O112: 25 | P112: 22 | Q112: 12 | R112: 21 | S112: =SUM(B112:R112) -> 341
A113: POSTA HUINTIL | B113: 3 | C113: 18 | D113: 15 | E113: 12 | F113: 14 | G113: 5 | H113: 12 | I113: 11 | J113: 18 | K113: 14 | L113: 19 | M113: 21 | N113: 14 | O113: 13 | P113: 11 | Q113: 4 | R113: 13 | S113: =SUM(B113:R113) -> 217
...
