Workbook

Sheet Infanto Adolescente
A1: COMUNA | B1: ESTABLECIMIENTO | C1: CONSULTORÍAS Y TELECONSULTORÍAS DE SALUD MENTAL INFANTO ADOLESCENTE
C2: ENERO | D2: FEBRERO | E2: MARZO | F2: ABRIL | G2: MAYO | H2: JUNIO | I2: JULIO | J2: AGOSTO | K2: SEPBRE | L2: OCTUBRE | M2: NOVBRE | N2: DICBRE | O2: TOTAL
A3: 04101-LA SERENA | B3: 105300-CES. CARDENAL CARO | C3: =IFERROR(VLOOKUP($B3,'Datos Infanto'!$G$3:$T$82,2,FALSE),0) -> 1 | D3: =IFERROR(VLOOKUP($B3,'Datos Infanto'!$G$3:$T$82,3,FALSE),0) -> 0 | E3: =IFERROR(VLOOKUP($B3,'Datos Infanto'!$G$3:$T$82,4,FALSE),0) -> 0 | F3: =IFERROR(VLOOKUP($B3,'Datos Infanto'!$G$3:$T$82,5,FALSE),0) -> 0 | G3: =IFERROR(VLOOKUP($B3,'Datos Infanto'!$G$3:$T$82,6,FALSE),0) -> 2 | H3: =IFERROR(VLOOKUP($B3,'Datos Infanto'!$G$3:$T$82,7,FALSE),0) -> 0 | I3: =IFERROR(VLOOKUP($B3,'Datos Infanto'!$G$3:$T$82,8,FALSE),0) -> 1 | J3: =IFERROR(VLOOKUP($B3,'Datos Infanto'!$G$3:$T$82,9,FALSE),0) -> 1 | K3: =IFERROR(VLOOKUP($B3,'Datos Infanto'!$G$3:$T$82,10,FALSE),0) -> 0 | L3: =IFERROR(VLOOKUP($B3,'Datos Infanto'!$G$3:$T$82,11,FALSE),0) -> 1 | M3: =IFERROR(VLOOKUP($B3,'Datos Infanto'!$G$3:$T$82,12,FALSE),0) -> 1 | N3: =IFERROR(VLOOKUP($B3,'Datos Infanto'!$G$3:$T$82,13,FALSE),0) -> 1 | O3: =SUM(C3:N3) -> 8
A4: 04101-LA SERENA | B4: 105301-CES. LAS COMPAÑIAS | C4: =IFERROR(VLOOKUP($B4,'Datos Infanto'!$G$3:$T$82,2,FALSE),0) -> 1 | D4: =IFERROR(VLOOKUP($B4,'Datos Infanto'!$G$3:$T$82,3,FALSE),0) -> 0 | E4: =IFERROR(VLOOKUP($B4,'Datos Infanto'!$G$3:$T$82,4,FALSE),0) -> 1 | F4: =IFERROR(VLOOKUP($B4,'Datos Infanto'!$G$3:$T$82,5,FALSE),0) -> 1 | G4: =IFERROR(VLOOKUP($B4,'Datos Infanto'!$G$3:$T$82,6,FALSE),0) -> 1 | H4: =IFERROR(VLOOKUP($B4,'Datos Infanto'!$G$3:$T$82,7,FALSE),0) -> 0 | I4: =IFERROR(VLOOKUP($B4,'Datos Infanto'!$G$3:$T$82,8,FALSE),0) -> 1 | J4: =IFERROR(VLOOKUP($B4,'Datos Infanto'!$G$3:$T$82,9,FALSE),0) -> 1 | K4: =IFERROR(VLOOKUP($B4,'Datos Infanto'!$G$3:$T$82,10,FALSE),0) -> 1 | L4: =IFERROR(VLOOKUP($B4,'Datos Infanto'!$G$3:$T$82,11,FALSE),0) -> 1 | M4: =IFERROR(VLOOKUP($B4,'Datos Infanto'!$G$3:$T$82,12,FALSE),0) -> 0 | N4: =IFERROR(VLOOKUP($B4,'Datos Infanto'!$G$3:$T$82,13,FALSE),0) -> 1 | O4: =SUM(C4:N4) -> 9
A5: 04101-LA SERENA | B5: 105302-CES. PEDRO AGUIRRE C. | C5: =IFERROR(VLOOKUP($B5,'Datos Infanto'!$G$3:$T$82,2,FALSE),0) -> 1 | D5: =IFERROR(VLOOKUP($B5,'Datos Infanto'!$G$3:$T$82,3,FALSE),0) -> 1 | E5: =IFERROR(VLOOKUP($B5,'Datos Infanto'!$G$3:$T$82,4,FALSE),0) -> 1 | F5: =IFERROR(VLOOKUP($B5,'Datos Infanto'!$G$3:$T$82,5,FALSE),0) -> 1 | G5: =IFERROR(VLOOKUP($B5,'Datos Infanto'!$G$3:$T$82,6,FALSE),0) -> 1 | H5: =IFERROR(VLOOKUP($B5,'Datos Infanto'!$G$3:$T$82,7,FALSE),0) -> 1 | I5: =IFERROR(VLOOKUP($B5,'Datos Infanto'!$G$3:$T$82,8,FALSE),0) -> 1 | J5: =IFERROR(VLOOKUP($B5,'Datos Infanto'!$G$3:$T$82,9,FALSE),0) -> 1 | K5: =IFERROR(VLOOKUP($B5,'Datos Infanto'!$G$3:$T$82,10,FALSE),0) -> 1 | L5: =IFERROR(VLOOKUP($B5,'Datos Infanto'!$G$3:$T$82,11,FALSE),0) -> 1 | M5: =IFERROR(VLOOKUP($B5,'Datos Infanto'!$G$3:$T$82,12,FALSE),0) -> 1 | N5: =IFERROR(VLOOKUP($B5,'Datos Infanto'!$G$3:$T$82,13,FALSE),0) -> 1 | O5: =SUM(C5:N5) -> 12
A6: 04101-LA SERENA | B6: 105313-CES. SCHAFFHAUSER | C6: =IFERROR(VLOOKUP($B6,'Datos Infanto'!$G$3:$T$82,2,FALSE),0) -> 1 | D6: =IFERROR(VLOOKUP($B6,'Datos Infanto'!$G$3:$T$82,3,FALSE),0) -> 1 | E6: =IFERROR(VLOOKUP($B6,'Datos Infanto'!$G$3:$T$82,4,FALSE),0) -> 0 | F6: =IFERROR(VLOOKUP($B6,'Datos Infanto'!$G$3:$T$82,5,FALSE),0) -> 1 | G6: =IFERROR(VLOOKUP($B6,'Datos Infanto'!$G$3:$T$82,6,FALSE),0) -> 2 | H6: =IFERROR(VLOOKUP($B6,'Datos Infanto'!$G$3:$T$82,7,FALSE),0) -> 1 | I6: =IFERROR(VLOOKUP($B6,'Datos Infanto'!$G$3:$T$82,8,FALSE),0) -> 1 | J6: =IFERROR(VLOOKUP($B6,'Datos Infanto'!$G$3:$T$82,9,FALSE),0) -> 1 | K6: =IFERROR(VLOOKUP($B6,'Datos Infanto'!$G$3:$T$82,10,FALSE),0) -> 1 | L6: =IFERROR(VLOOKUP($B6,'Datos Infanto'!$G$3:$T$82,11,FALSE),0) -> 1 | M6: =IFERROR(VLOOKUP($B6,'Datos Infanto'!$G$3:$T$82,12,FALSE),0) -> 1 | N6: =IFERROR(VLOOKUP($B6,'Datos Infanto'!$G$3:$T$82,13,FALSE),0) -> 1 | O6: =SUM(C6:N6) -> 12
A7: 04101-LA SERENA | B7: 105319-CES. CARDENAL R.S.H. | C7: =IFERROR(VLOOKUP($B7,'Datos Infanto'!$G$3:$T$82,2,FALSE),0) -> 1 | D7: =IFERROR(VLOOKUP($B7,'Datos Infanto'!$G$3:$T$82,3,FALSE),0) -> 1 | E7: =IFERROR(VLOOKUP($B7,'Datos Infanto'!$G$3:$T$82,4,FALSE),0) -> 1 | F7: =IFERROR(VLOOKUP($B7,'Datos Infanto'!$G$3:$T$82,5,FALSE),0) -> 1 | G7: =IFERROR(VLOOKUP($B7,'Datos Infanto'!$G$3:$T$82,6,FALSE),0) -> 1 | H7: =IFERROR(VLOOKUP($B7,'Datos Infanto'!$G$3:$T$82,7,FALSE),0) -> 1 | I7: =IFERROR(VLOOKUP($B7,'Datos Infanto'!$G$3:$T$82,8,FALSE),0) -> 1 | J7: =IFERROR(VLOOKUP($B7,'Datos Infanto'!$G$3:$T$82,9,FALSE),0) -> 1 | K7: =IFERROR(VLOOKUP($B7,'Datos Infanto'!$G$3:$T$82,10,FALSE),0) -> 1 | L7: =IFERROR(VLOOKUP($B7,'Datos Infanto'!$G$3:$T$82,11,FALSE),0) -> 0 | M7: =IFERROR(VLOOKUP($B7,'Datos Infanto'!$G$3:$T$82,12,FALSE),0) -> 0 | N7: =IFERROR(VLOOKUP($B7,'Datos Infanto'!$G$3:$T$82,13,FALSE),0) -> 1 | O7: =SUM(C7:N7) -> 10
A8: 04101-LA SERENA | B8: 105325-CESFAM JUAN PABLO II | C8: =IFERROR(VLOOKUP($B8,'Datos Infanto'!$G$3:$T$82,2,FALSE),0) -> 0 | D8: =IFERROR(VLOOKUP($B8,'Datos Infanto'!$G$3:$T$82,3,FALSE),0) -> 0 | E8: =IFERROR(VLOOKUP($B8,'Datos Infanto'!$G$3:$T$82,4,FALSE),0) -> 1 | F8: =IFERROR(VLOOKUP($B8,'Datos Infanto'!$G$3:$T$82,5,FALSE),0) -> 0 | G8: =IFERROR(VLOOKUP($B8,'Datos Infanto'!$G$3:$T$82,6,FALSE),0) -> 1 | H8: =IFERROR(VLOOKUP($B8,'Datos Infanto'!$G$3:$T$82,7,FALSE),0) -> 1 | I8: =IFERROR(VLOOKUP($B8,'Datos Infanto'!$G$3:$T$82,8,FALSE),0) -> 0 | J8: =IFERROR(VLOOKUP($B8,'Datos Infanto'!$G$3:$T$82,9,FALSE),0) -> 1 | K8: =IFERROR(VLOOKUP($B8,'Datos Infanto'!$G$3:$T$82,10,FALSE),0) -> 1 | L8: =IFERROR(VLOOKUP($B8,'Datos Infanto'!$G$3:$T$82,11,FALSE),0) -> 1 | M8: =IFERROR(VLOOKUP($B8,'Datos Infanto'!$G$3:$T$82,12,FALSE),0) -> 1 | N8: =IFERROR(VLOOKUP($B8,'Datos Infanto'!$G$3:$T$82,13,FALSE),0) -> 1 | O8: =SUM(C8:N8) -> 8
A9: 04101-LA SERENA | B9: 105400-P.S.R. ALGARROBITO | C9: =IFERROR(VLOOKUP($B9,'Datos Infanto'!$G$3:$T$82,2,FALSE),0) -> 1 | D9: =IFERROR(VLOOKUP($B9,'Datos Infanto'!$G$3:$T$82,3,FALSE),0) -> 1 | E9: =IFERROR(VLOOKUP($B9,'Datos Infanto'!$G$3:$T$82,4,FALSE),0) -> 1 | F9: =IFERROR(VLOOKUP($B9,'Datos Infanto'!$G$3:$T$82,5,FALSE),0) -> 0 | G9: =IFERROR(VLOOKUP($B9,'Datos Infanto'!$G$3:$T$82,6,FALSE),0) -> 1 | H9: =IFERROR(VLOOKUP($B9,'Datos Infanto'!$G$3:$T$82,7,FALSE),0) -> 0 | I9: =IFERROR(VLOOKUP($B9,'Datos Infanto'!$G$3:$T$82,8,FALSE),0) -> 1 | J9: =IFERROR(VLOOKUP($B9,'Datos Infanto'!$G$3:$T$82,9,FALSE),0) -> 0 | K9: =IFERROR(VLOOKUP($B9,'Datos Infanto'!$G$3:$T$82,10,FALSE),0) -> 1 | L9: =IFERROR(VLOOKUP($B9,'Datos Infanto'!$G$3:$T$82,11,FALSE),0) -> 0 | M9: =IFERROR(VLOOKUP($B9,'Datos Infanto'!$G$3:$T$82,12,FALSE),0) -> 1 | N9: =IFERROR(VLOOKUP($B9,'Datos Infanto'!$G$3:$T$82,13,FALSE),0) -> 0 | O9: =SUM(C9:N9) -> 7
A10: 04101-LA SERENA | B10: 105401-P.S.R. LAS ROJAS | C10: =IFERROR(VLOOKUP($B10,'Datos Infanto'!$G$3:$T$82,2,FALSE),0) -> 0 | D10: =IFERROR(VLOOKUP($B10,'Datos Infanto'!$G$3:$T$82,3,FALSE),0) -> 0 | E10: =IFERROR(VLOOKUP($B10,'Datos Infanto'!$G$3:$T$82,4,FALSE),0) -> 0 | F10: =IFERROR(VLOOKUP($B10,'Datos Infanto'!$G$3:$T$82,5,FALSE),0) -> 0 | G10: =IFERROR(VLOOKUP($B10,'Datos Infanto'!$G$3:$T$82,6,FALSE),0) -> 0 | H10: =IFERROR(VLOOKUP($B10,'Datos Infanto'!$G$3:$T$82,7,FALSE),0) -> 0 | I10: =IFERROR(VLOOKUP($B10,'Datos Infanto'!$G$3:$T$82,8,FALSE),0) -> 0 | J10: =IFERROR(VLOOKUP($B10,'Datos Infanto'!$G$3:$T$82,9,FALSE),0) -> 0 | K10: =IFERROR(VLOOKUP($B10,'Datos Infanto'!$G$3:$T$82,10,FALSE),0) -> 0 | L10: =IFERROR(VLOOKUP($B10,'Datos Infanto'!$G$3:$T$82,11,FALSE),0) -> 0 | M10: =IFERROR(VLOOKUP($B10,'Datos Infanto'!$G$3:$T$82,12,FALSE),0) -> 0 | N10: =IFERROR(VLOOKUP($B10,'Datos Infanto'!$G$3:$T$82,13,FALSE),0) -> 0 | O10: =SUM(C10:N10) -> 0
A11: 04101-LA SERENA | B11: 105402-P.S.R. EL ROMERO | C11: =IFERROR(VLOOKUP($B11,'Datos Infanto'!$G$3:$T$82,2,FALSE),0) -> 0 | D11: =IFERROR(VLOOKUP($B11,'Datos Infanto'!$G$3:$T$82,3,FALSE),0) -> 0 | E11: =IFERROR(VLOOKUP($B11,'Datos Infanto'!$G$3:$T$82,4,FALSE),0) -> 0 | F11: =IFERROR(VLOOKUP($B11,'Datos Infanto'!$G$3:$T$82,5,FALSE),0) -> 0 | G11: =IFERROR(VLOOKUP($B11,'Datos Infanto'!$G$3:$T$82,6,FALSE),0) -> 0 | H11: =IFERROR(VLOOKUP($B11,'Datos Infanto'!$G$3:$T$82,7,FALSE),0) -> 0 | I11: =IFERROR(VLOOKUP($B11,'Datos Infanto'!$G$3:$T$82,8,FALSE),0) -> 0 | J11: =IFERROR(VLOOKUP($B11,'Datos Infanto'!$G$3:$T$82,9,FALSE),0) -> 0 | K11: =IFERROR(VLOOKUP($B11,'Datos Infanto'!$G$3:$T$82,10,FALSE),0) -> 0 | L11: =IFERROR(VLOOKUP($B11,'Datos Infanto'!$G$3:$T$82,11,FALSE),0) -> 0 | M11: =IFERROR(VLOOKUP($B11,'Datos Infanto'!$G$3:$T$82,12,FALSE),0) -> 0 | N11: =IFERROR(VLOOKUP($B11,'Datos Infanto'!$G$3:$T$82,13,FALSE),0) -> 0 | O11: =SUM(C11:N11) -> 0
A12: 04101-LA SERENA | B12: 105499-P.S.R. LAMBERT | C12: =IFERROR(VLOOKUP($B12,'Datos Infanto'!$G$3:$T$82,2,FALSE),0) -> 0 | D12: =IFERROR(VLOOKUP($B12,'Datos Infanto'!$G$3:$T$82,3,FALSE),0) -> 0 | E12: =IFERROR(VLOOKUP($B12,'Datos Infanto'!$G$3:$T$82,4,FALSE),0) -> 0 | F12: =IFERROR(VLOOKUP($B12,'Datos Infanto'!$G$3:$T$82,5,FALSE),0) -> 0 | G12: =IFERROR(VLOOKUP($B12,'Datos Infanto'!$G$3:$T$82,6,FALSE),0) -> 0 | H12: =IFERROR(VLOOKUP($B12,'Datos Infanto'!$G$3:$T$82,7,FALSE),0) -> 0 | I12: =IFERROR(VLOOKUP($B12,'Datos Infanto'!$G$3:$T$82,8,FALSE),0) -> 0 | J12: =IFERROR(VLOOKUP($B12,'Datos Infanto'!$G$3:$T$82,9,FALSE),0) -> 0 | K12: =IFERROR(VLOOKUP($B12,'Datos Infanto'!$G$3:$T$82,10,FALSE),0) -> 0 | L12: =IFERROR(VLOOKUP($B12,'Datos Infanto'!$G$3:$T$82,11,FALSE),0) -> 0 | M12: =IFERROR(VLOOKUP($B12,'Datos Infanto'!$G$3:$T$82,12,FALSE),0) -> 0 | N12: =IFERROR(VLOOKUP($B12,'Datos Infanto'!$G$3:$T$82,13,FALSE),0) -> 1 | O12: =SUM(C12:N12) -> 1
A13: 04101-LA SERENA | B13: 105700-CECOF VILLA EL INDIO | C13: =IFERROR(VLOOKUP($B13,'Datos Infanto'!$G$3:$T$82,2,FALSE),0) -> 0 | D13: =IFERROR(VLOOKUP($B13,'Datos Infanto'!$G$3:$T$82,3,FALSE),0) -> 0 | E13: =IFERROR(VLOOKUP($B13,'Datos Infanto'!$G$3:$T$82,4,FALSE),0) -> 0 | F13: =IFERROR(VLOOKUP($B13,'Datos Infanto'!$G$3:$T$82,5,FALSE),0) -> 0 | G13: =IFERROR(VLOOKUP($B13,'Datos Infanto'!$G$3:$T$82,6,FALSE),0) -> 0 | H13: =IFERROR(VLOOKUP($B13,'Datos Infanto'!$G$3:$T$82,7,FALSE),0) -> 0 | I13: =IFERROR(VLOOKUP($B13,'Datos Infanto'!$G$3:$T$82,8,FALSE),0) -> 0 | J13: =IFERROR(VLOOKUP($B13,'Datos Infanto'!$G$3:$T$82,9,FALSE),0) -> 0 | K13: =IFERROR(VLOOKUP($B13,'Datos Infanto'!$G$3:$T$82,10,FALSE),0) -> 0 | L13: =IFERROR(VLOOKUP($B13,'Datos Infanto'!$G$3:$T$82,11,FALSE),0) -> 0 | M13: =IFERROR(VLOOKUP($B13,'Datos Infanto'!$G$3:$T$82,12,FALSE),0) -> 0 | N13: =IFERROR(VLOOKUP($B13,'Datos Infanto'!$G$3:$T$82,13,FALSE),0) -> 0 | O13: =SUM(C13:N13) -> 0
A14: 04101-LA SERENA | B14: 105701-CECOF VILLA ALEMANIA | C14: =IFERROR(VLOOKUP($B14,'Datos Infanto'!$G$3:$T$82,2,FALSE),0) -> 0 | D14: =IFERROR(VLOOKUP($B14,'Datos Infanto'!$G$3:$T$82,3,FALSE),0) -> 0 | E14: =IFERROR(VLOOKUP($B14,'Datos Infanto'!$G$3:$T$82,4,FALSE),0) -> 0 | F14: =IFERROR(VLOOKUP($B14,'Datos Infanto'!$G$3:$T$82,5,FALSE),0) -> 0 | G14: =IFERROR(VLOOKUP($B14,'Datos Infanto'!$G$3:$T$82,6,FALSE),0) -> 0 | H14: =IFERROR(VLOOKUP($B14,'Datos Infanto'!$G$3:$T$82,7,FALSE),0) -> 0 | I14: =IFERROR(VLOOKUP($B14,'Datos Infanto'!$G$3:$T$82,8,FALSE),0) -> 0 | J14: =IFERROR(VLOOKUP($B14,'Datos Infanto'!$G$3:$T$82,9,FALSE),0) -> 0 | K14: =IFERROR(VLOOKUP($B14,'Datos Infanto'!$G$3:$T$82,10,FALSE),0) -> 0 | L14: =IFERROR(VLOOKUP($B14,'Datos Infanto'!$G$3:$T$82,11,FALSE),0) -> 0 | M14: =IFERROR(VLOOKUP($B14,'Datos Infanto'!$G$3:$T$82,12,FALSE),0) -> 0 | N14: =IFERROR(VLOOKUP($B14,'Datos Infanto'!$G$3:$T$82,13,FALSE),0) -> 0 | O14: =SUM(C14:N14) -> 0
... A16: 04101-LA SERENA | B16: 200402-CECOF ARCOS DE PINAMAR | C16: =IFERROR(VLOOKUP($B16,'Datos Infanto'!$G$3:$T$82,2,FALSE),0) -> 0 | D16: =IFERROR(VLOOKUP($B16,'Datos Infanto'!$G$3:$T$82,3,FALSE),0) -> 0 | E16: =IFERROR(VLOOKUP($B16,'Datos Infanto'!$G$3:$T$82,4,FALSE),0) -> 0 | F16: =IFERROR(VLOOKUP($B16,'Datos Infanto'!$G$3:$T$82,5,FALSE),0) -> 0 | G16: =IFERROR(VLOOKUP($B16,'Datos Infanto'!$G$3:$T$82,6,FALSE),0) -> 0 | H16: =IFERROR(VLOOKUP($B16,'Datos Infanto'!$G$3:$T$82,7,FALSE),0) -> 0 | I16: =IFERROR(VLOOKUP($B16,'Datos Infanto'!$G$3:$T$82,8,FALSE),0) -> 0 | J16: =IFERROR(VLOOKUP($B16,'Datos Infanto'!$G$3:$T$82,9,FALSE),0) -> 0 | K16: =IFERROR(VLOOKUP($B16,'Datos Infanto'!$G$3:$T$82,10,FALSE),0) -> 0 | L16: =IFERROR(VLOOKUP($B16,'Datos Infanto'!$G$3:$T$82,11,FALSE),0) -> 0 | M16: =IFERROR(VLOOKUP($B16,'Datos Infanto'!$G$3:$T$82,12,FALSE),0) -> 0 | N16: =IFERROR(VLOOKUP($B16,'Datos Infanto'!$G$3:$T$82,13,FALSE),0) -> 0 | O16: =SUM(C16:N16) -> 0
A17: TOTAL LA SERENA | C17: =SUM(C3:C16) -> 6 | D17: =SUM(D3:D16) -> 4 | E17: =SUM(E3:E16) -> 5 | F17: =SUM(F3:F16) -> 4 | G17: =SUM(G3:G16) -> 9 | H17: =SUM(H3:H16) -> 4 | I17: =SUM(I3:I16) -> 6 | J17: =SUM(J3:J16) -> 6 | ... O17: =SUM(O3:O16) -> 67
A18: 04102-COQUIMBO | B18: 105303-CES. SAN JUAN | C18: =IFERROR(VLOOKUP($B18,'Datos Infanto'!$G$3:$T$82,2,FALSE),0) -> 1 | D18: =IFERROR(VLOOKUP($B18,'Datos Infanto'!$G$3:$T$82,3,FALSE),0) -> 1 | E18: =IFERROR(VLOOKUP($B18,'Datos Infanto'!$G$3:$T$82,4,FALSE),0) -> 0 | F18: =IFERROR(VLOOKUP($B18,'Datos Infanto'!$G$3:$T$82,5,FALSE),0) -> 1 | G18: =IFERROR(VLOOKUP($B18,'Datos Infanto'!$G$3:$T$82,6,FALSE),0) -> 1 | H18: =IFERROR(VLOOKUP($B18,'Datos Infanto'!$G$3:$T$82,7,FALSE),0) -> 1 | I18: =IFERROR(VLOOKUP($B18,'Datos Infanto'!$G$3:$T$82,8,FALSE),0) -> 1 | J18: =IFERROR(VLOOKUP($B18,'Datos Infanto'!$G$3:$T$82,9,FALSE),0) -> 1 | K18: =IFERROR(VLOOKUP($B18,'Datos Infanto'!$G$3:$T$82,10,FALSE),0) -> 1 | L18: =IFERROR(VLOOKUP($B18,'Datos Infanto'!$G$3:$T$82,11,FALSE),0) -> 1 | M18: =IFERROR(VLOOKUP($B18,'Datos Infanto'!$G$3:$T$82,12,FALSE),0) -> 1 | N18: =IFERROR(VLOOKUP($B18,'Datos Infanto'!$G$3:$T$82,13,FALSE),0) -> 1 | O18: =SUM(C18:N18) -> 11
A19: 04102-COQUIMBO | B19: 105304-CES. SANTA CECILIA | C19: =IFERROR(VLOOKUP($B19,'Datos Infanto'!$G$3:$T$82,2,FALSE),0) -> 1 | D19: =IFERROR(VLOOKUP($B19,'Datos Infanto'!$G$3:$T$82,3,FALSE),0) -> 0 | E19: =IFERROR(VLOOKUP($B19,'Datos Infanto'!$G$3:$T$82,4,FALSE),0) -> 1 | F19: =IFERROR(VLOOKUP($B19,'Datos Infanto'!$G$3:$T$82,5,FALSE),0) -> 0 | G19: =IFERROR(VLOOKUP($B19,'Datos Infanto'!$G$3:$T$82,6,FALSE),0) -> 1 | H19: =IFERROR(VLOOKUP($B19,'Datos Infanto'!$G$3:$T$82,7,FALSE),0) -> 1 | I19: =IFERROR(VLOOKUP($B19,'Datos Infanto'!$G$3:$T$82,8,FALSE),0) -> 0 | J19: =IFERROR(VLOOKUP($B19,'Datos Infanto'!$G$3:$T$82,9,FALSE),0) -> 1 | K19: =IFERROR(VLOOKUP($B19,'Datos Infanto'!$G$3:$T$82,10,FALSE),0) -> 1 | L19: =IFERROR(VLOOKUP($B19,'Datos Infanto'!$G$3:$T$82,11,FALSE),0) -> 1 | M19: =IFERROR(VLOOKUP($B19,'Datos Infanto'!$G$3:$T$82,12,FALSE),0) -> 2 | N19: =IFERROR(VLOOKUP($B19,'Datos Infanto'!$G$3:$T$82,13,FALSE),0) -> 0 | O19: =SUM(C19:N19) -> 9
A20: 04102-COQUIMBO | B20: 105305-CES. TIERRAS BLANCAS | C20: =IFERROR(VLOOKUP($B20,'Datos Infanto'!$G$3:$T$82,2,FALSE),0) -> 1 | D20: =IFERROR(VLOOKUP($B20,'Datos Infanto'!$G$3:$T$82,3,FALSE),0) -> 0 | E20: =IFERROR(VLOOKUP($B20,'Datos Infanto'!$G$3:$T$82,4,FALSE),0) -> 1 | F20: =IFERROR(VLOOKUP($B20,'Datos Infanto'!$G$3:$T$82,5,FALSE),0) -> 1 | G20: =IFERROR(VLOOKUP($B20,'Datos Infanto'!$G$3:$T$82,6,FALSE),0) -> 1 | H20: =IFERROR(VLOOKUP($B20,'Datos Infanto'!$G$3:$T$82,7,FALSE),0) -> 0 | I20: =IFERROR(VLOOKUP($B20,'Datos Infanto'!$G$3:$T$82,8,FALSE),0) -> 1 | J20: =IFERROR(VLOOKUP($B20,'Datos Infanto'!$G$3:$T$82,9,FALSE),0) -> 1 | K20: =IFERROR(VLOOKUP($B20,'Datos Infanto'!$G$3:$T$82,10,FALSE),0) -> 1 | L20: =IFERROR(VLOOKUP($B20,'Datos Infanto'!$G$3:$T$82,11,FALSE),0) -> 1 | M20: =IFERROR(VLOOKUP($B20,'Datos Infanto'!$G$3:$T$82,12,FALSE),0) -> 1 | N20: =IFERROR(VLOOKUP($B20,'Datos Infanto'!$G$3:$T$82,13,FALSE),0) -> 1 | O20: =SUM(C20:N20) -> 10
A21: 04102-COQUIMBO | B21: 105321-CES. RURAL TONGOY | C21: =IFERROR(VLOOKUP($B21,'Datos Infanto'!$G$3:$T$82,2,FALSE),0) -> 0 | D21: =IFERROR(VLOOKUP($B21,'Datos Infanto'!$G$3:$T$82,3,FALSE),0) -> 0 | E21: =IFERROR(VLOOKUP($B21,'Datos Infanto'!$G$3:$T$82,4,FALSE),0) -> 0 | F21: =IFERROR(VLOOKUP($B21,'Datos Infanto'!$G$3:$T$82,5,FALSE),0) -> 1 | G21: =IFERROR(VLOOKUP($B21,'Datos Infanto'!$G$3:$T$82,6,FALSE),0) -> 1 | H21: =IFERROR(VLOOKUP($B21,'Datos Infanto'!$G$3:$T$82,7,FALSE),0) -> 1 | I21: =IFERROR(VLOOKUP($B21,'Datos Infanto'!$G$3:$T$82,8,FALSE),0) -> 0 | J21: =IFERROR(VLOOKUP($B21,'Datos Infanto'!$G$3:$T$82,9,FALSE),0) -> 0 | K21: =IFERROR(VLOOKUP($B21,'Datos Infanto'!$G$3:$T$82,10,FALSE),0) -> 1 | L21: =IFERROR(VLOOKUP($B21,'Datos Infanto'!$G$3:$T$82,11,FALSE),0) -> 1 | M21: =IFERROR(VLOOKUP($B21,'Datos Infanto'!$G$3:$T$82,12,FALSE),0) -> 0 | N21: =IFERROR(VLOOKUP($B21,'Datos Infanto'!$G$3:$T$82,13,FALSE),0) -> 1 | O21: =SUM(C21:N21) -> 6
A22: 04102-COQUIMBO | B22: 105323-CES. DR. SERGIO AGUILAR | C22: =IFERROR(VLOOKUP($B22,'Datos Infanto'!$G$3:$T$82,2,FALSE),0) -> 0 | D22: =IFERROR(VLOOKUP($B22,'Datos Infanto'!$G$3:$T$82,3,FALSE),0) -> 0 | E22: =IFERROR(VLOOKUP($B22,'Datos Infanto'!$G$3:$T$82,4,FALSE),0) -> 0 | F22: =IFERROR(VLOOKUP($B22,'Datos Infanto'!$G$3:$T$82,5,FALSE),0) -> 1 | G22: =IFERROR(VLOOKUP($B22,'Datos Infanto'!$G$3:$T$82,6,FALSE),0) -> 1 | H22: =IFERROR(VLOOKUP($B22,'Datos Infanto'!$G$3:$T$82,7,FALSE),0) -> 1 | I22: =IFERROR(VLOOKUP($B22,'Datos Infanto'!$G$3:$T$82,8,FALSE),0) -> 0 | J22: =IFERROR(VLOOKUP($B22,'Datos Infanto'!$G$3:$T$82,9,FALSE),0) -> 1 | K22: =IFERROR(VLOOKUP($B22,'Datos Infanto'!$G$3:$T$82,10,FALSE),0) -> 1 | L22: =IFERROR(VLOOKUP($B22,'Datos Infanto'!$G$3:$T$82,11,FALSE),0) -> 1 | M22: =IFERROR(VLOOKUP($B22,'Datos Infanto'!$G$3:$T$82,12,FALSE),0) -> 0 | N22: =IFERROR(VLOOKUP($B22,'Datos Infanto'!$G$3:$T$82,13,FALSE),0) -> 1 | O22: =SUM(C22:N22) -> 7
A23: 04102-COQUIMBO | B23: 105404-P.S.R. EL TANGUE | C23: =IFERROR(VLOOKUP($B23,'Datos Infanto'!$G$3:$T$82,2,FALSE),0) -> 0 | D23: =IFERROR(VLOOKUP($B23,'Datos Infanto'!$G$3:$T$82,3,FALSE),0) -> 0 | E23: =IFERROR(VLOOKUP($B23,'Datos Infanto'!$G$3:$T$82,4,FALSE),0) -> 0 | F23: =IFERROR(VLOOKUP($B23,'Datos Infanto'!$G$3:$T$82,5,FALSE),0) -> 0 | G23: =IFERROR(VLOOKUP($B23,'Datos Infanto'!$G$3:$T$82,6,FALSE),0) -> 0 | H23: =IFERROR(VLOOKUP($B23,'Datos Infanto'!$G$3:$T$82,7,FALSE),0) -> 0 | I23: =IFERROR(VLOOKUP($B23,'Datos Infanto'!$G$3:$T$82,8,FALSE),0) -> 0 | J23: =IFERROR(VLOOKUP($B23,'Datos Infanto'!$G$3:$T$82,9,FALSE),0) -> 0 | K23: =IFERROR(VLOOKUP($B23,'Datos Infanto'!$G$3:$T$82,10,FALSE),0) -> 0 | L23: =IFERROR(VLOOKUP($B23,'Datos Infanto'!$G$3:$T$82,11,FALSE),0) -> 0 | M23: =IFERROR(VLOOKUP($B23,'Datos Infanto'!$G$3:$T$82,12,FALSE),0) -> 0 | N23: =IFERROR(VLOOKUP($B23,'Datos Infanto'!$G$3:$T$82,13,FALSE),0) -> 0 | O23: =SUM(C23:N23) -> 0
A24: 04102-COQUIMBO | B24: 105405-P.S.R. GUANAQUEROS | C24: =IFERROR(VLOOKUP($B24,'Datos Infanto'!$G$3:$T$82,2,FALSE),0) -> 0 | D24: =IFERROR(VLOOKUP($B24,'Datos Infanto'!$G$3:$T$82,3,FALSE),0) -> 0 | E24: =IFERROR(VLOOKUP($B24,'Datos Infanto'!$G$3:$T$82,4,FALSE),0) -> 0 | F24: =IFERROR(VLOOKUP($B24,'Datos Infanto'!$G$3:$T$82,5,FALSE),0) -> 0 | G24: =IFERROR(VLOOKUP($B24,'Datos Infanto'!$G$3:$T$82,6,FALSE),0) -> 0 | H24: =IFERROR(VLOOKUP($B24,'Datos Infanto'!$G$3:$T$82,7,FALSE),0) -> 0 | I24: =IFERROR(VLOOKUP($B24,'Datos Infanto'!$G$3:$T$82,8,FALSE),0) -> 0 | J24: =IFERROR(VLOOKUP($B24,'Datos Infanto'!$G$3:$T$82,9,FALSE),0) -> 0 | K24: =IFERROR(VLOOKUP($B24,'Datos Infanto'!$G$3:$T$82,10,FALSE),0) -> 0 | L24: =IFERROR(VLOOKUP($B24,'Datos Infanto'!$G$3:$T$82,11,FALSE),0) -> 0 | M24: =IFERROR(VLOOKUP($B24,'Datos Infanto'!$G$3:$T$82,12,FALSE),0) -> 0 | N24: =IFERROR(VLOOKUP($B24,'Datos Infanto'!$G$3:$T$82,13,FALSE),0) -> 0 | O24: =SUM(C24:N24) -> 0
A25: 04102-COQUIMBO | B25: 105407-P.S.R. TAMBILLOS | C25: =IFERROR(VLOOKUP($B25,'Datos Infanto'!$G$3:$T$82,2,FALSE),0) -> 0 | D25: =IFERROR(VLOOKUP($B25,'Datos Infanto'!$G$3:$T$82,3,FALSE),0) -> 0 | E25: =IFERROR(VLOOKUP($B25,'Datos Infanto'!$G$3:$T$82,4,FALSE),0) -> 0 | F25: =IFERROR(VLOOKUP($B25,'Datos Infanto'!$G$3:$T$82,5,FALSE),0) -> 0 | G25: =IFERROR(VLOOKUP($B25,'Datos Infanto'!$G$3:$T$82,6,FALSE),0) -> 0 | H25: =IFERROR(VLOOKUP($B25,'Datos Infanto'!$G$3:$T$82,7,FALSE),0) -> 0 | I25: =IFERROR(VLOOKUP($B25,'Datos Infanto'!$G$3:$T$82,8,FALSE),0) -> 0 | J25: =IFERROR(VLOOKUP($B25,'Datos Infanto'!$G$3:$T$82,9,FALSE),0) -> 0 | K25: =IFERROR(VLOOKUP($B25,'Datos Infanto'!$G$3:$T$82,10,FALSE),0) -> 0 | L25: =IFERROR(VLOOKUP($B25,'Datos Infanto'!$G$3:$T$82,11,FALSE),0) -> 0 | M25: =IFERROR(VLOOKUP($B25,'Datos Infanto'!$G$3:$T$82,12,FALSE),0) -> 0 | N25: =IFERROR(VLOOKUP($B25,'Datos Infanto'!$G$3:$T$82,13,FALSE),0) -> 0 | O25: =SUM(C25:N25) -> 0
A26: 04102-COQUIMBO | B26: 200273-CECOF PUNTA MIRA | C26: =IFERROR(VLOOKUP($B26,'Datos Infanto'!$G$3:$T$82,2,FALSE),0) -> 0 | D26: =IFERROR(VLOOKUP($B26,'Datos Infanto'!$G$3:$T$82,3,FALSE),0) -> 0 | E26: =IFERROR(VLOOKUP($B26,'Datos Infanto'!$G$3:$T$82,4,FALSE),0) -> 0 | F26: =IFERROR(VLOOKUP($B26,'Datos Infanto'!$G$3:$T$82,5,FALSE),0) -> 0 | G26: =IFERROR(VLOOKUP($B26,'Datos Infanto'!$G$3:$T$82,6,FALSE),0) -> 0 | H26: =IFERROR(VLOOKUP($B26,'Datos Infanto'!$G$3:$T$82,7,FALSE),0) -> 0 | I26: =IFERROR(VLOOKUP($B26,'Datos Infanto'!$G$3:$T$82,8,FALSE),0) -> 0 | J26: =IFERROR(VLOOKUP($B26,'Datos Infanto'!$G$3:$T$82,9,FALSE),0) -> 0 | K26: =IFERROR(VLOOKUP($B26,'Datos Infanto'!$G$3:$T$82,10,FALSE),0) -> 0 | L26: =IFERROR(VLOOKUP($B26,'Datos Infanto'!$G$3:$T$82,11,FALSE),0) -> 0 | M26: =IFERROR(VLOOKUP($B26,'Datos Infanto'!$G$3:$T$82,12,FALSE),0) -> 0 | N26: =IFERROR(VLOOKUP($B26,'Datos Infanto'!$G$3:$T$82,13,FALSE),0) -> 0 | O26: =SUM(C26:N26) -> 0
A27: 04102-COQUIMBO | B27: 200494-CESFAM EL SAUCE | C27: =IFERROR(VLOOKUP($B27,'Datos Infanto'!$G$3:$T$82,2,FALSE),0) -> 0 | D27: =IFERROR(VLOOKUP($B27,'Datos Infanto'!$G$3:$T$82,3,FALSE),0) -> 1 | E27: =IFERROR(VLOOKUP($B27,'Datos Infanto'!$G$3:$T$82,4,FALSE),0) -> 1 | F27: =IFERROR(VLOOKUP($B27,'Datos Infanto'!$G$3:$T$82,5,FALSE),0) -> 1 | G27: =IFERROR(VLOOKUP($B27,'Datos Infanto'!$G$3:$T$82,6,FALSE),0) -> 1 | H27: =IFERROR(VLOOKUP($B27,'Datos Infanto'!$G$3:$T$82,7,FALSE),0) -> 0 | I27: =IFERROR(VLOOKUP($B27,'Datos Infanto'!$G$3:$T$82,8,FALSE),0) -> 1 | J27: =IFERROR(VLOOKUP($B27,'Datos Infanto'!$G$3:$T$82,9,FALSE),0) -> 0 | K27: =IFERROR(VLOOKUP($B27,'Datos Infanto'!$G$3:$T$82,10,FALSE),0) -> 1 | L27: =IFERROR(VLOOKUP($B27,'Datos Infanto'!$G$3:$T$82,11,FALSE),0) -> 1 | M27: =IFERROR(VLOOKUP($B27,'Datos Infanto'!$G$3:$T$82,12,FALSE),0) -> 1 | N27: =IFERROR(VLOOKUP($B27,'Datos Infanto'!$G$3:$T$82,13,FALSE),0) -> 1 | O27: =SUM(C27:N27) -> 9
A28: 04102-COQUIMBO | B28: 200607-CESFAM LILA CORTES | C28: =IFERROR(VLOOKUP($B28,'Datos Infanto'!$G$3:$T$82,2,FALSE),0) -> 1 | D28: =IFERROR(VLOOKUP($B28,'Datos Infanto'!$G$3:$T$82,3,FALSE),0) -> 0 | E28: =IFERROR(VLOOKUP($B28,'Datos Infanto'!$G$3:$T$82,4,FALSE),0) -> 0 | F28: =IFERROR(VLOOKUP($B28,'Datos Infanto'!$G$3:$T$82,5,FALSE),0) -> 1 | G28: =IFERROR(VLOOKUP($B28,'Datos Infanto'!$G$3:$T$82,6,FALSE),0) -> 1 | H28: =IFERROR(VLOOKUP($B28,'Datos Infanto'!$G$3:$T$82,7,FALSE),0) -> 0 | I28: =IFERROR(VLOOKUP($B28,'Datos Infanto'!$G$3:$T$82,8,FALSE),0) -> 1 | J28: =IFERROR(VLOOKUP($B28,'Datos Infanto'!$G$3:$T$82,9,FALSE),0) -> 0 | K28: =IFERROR(VLOOKUP($B28,'Datos Infanto'!$G$3:$T$82,10,FALSE),0) -> 0 | L28: =IFERROR(VLOOKUP($B28,'Datos Infanto'!$G$3:$T$82,11,FALSE),0) -> 1 | M28: =IFERROR(VLOOKUP($B28,'Datos Infanto'!$G$3:$T$82,12,FALSE),0) -> 2 | N28: =IFERROR(VLOOKUP($B28,'Datos Infanto'!$G$3:$T$82,13,FALSE),0) -> 1
A29: 04102-COQUIMBO | B29: 200499-CESFAM PAN DE AZÚCAR | C29: =IFERROR(VLOOKUP($B29,'Datos Infanto'!$G$3:$T$82,2,FALSE),0) -> 1 | D29: =IFERROR(VLOOKUP($B29,'Datos Infanto'!$G$3:$T$82,3,FALSE),0) -> 1 | E29: =IFERROR(VLOOKUP($B29,'Datos Infanto'!$G$3:$T$82,4,FALSE),0) -> 1 | F29: =IFERROR(VLOOKUP($B29,'Datos Infanto'!$G$3:$T$82,5,FALSE),0) -> 1 | G29: =IFERROR(VLOOKUP($B29,'Datos Infanto'!$G$3:$T$82,6,FALSE),0) -> 1 | H29: =IFERROR(VLOOKUP($B29,'Datos Infanto'!$G$3:$T$82,7,FALSE),0) -> 1 | I29: =IFERROR(VLOOKUP($B29,'Datos Infanto'!$G$3:$T$82,8,FALSE),0) -> 1 | J29: =IFERROR(VLOOKUP($B29,'Datos Infanto'!$G$3:$T$82,9,FALSE),0) -> 1 | K29: =IFERROR(VLOOKUP($B29,'Datos Infanto'!$G$3:$T$82,10,FALSE),0) -> 1 | L29: =IFERROR(VLOOKUP($B29,'Datos Infanto'!$G$3:$T$82,11,FALSE),0) -> 1 | M29: =IFERROR(VLOOKUP($B29,'Datos Infanto'!$G$3:$T$82,12,FALSE),0) -> 1 | N29: =IFERROR(VLOOKUP($B29,'Datos Infanto'!$G$3:$T$82,13,FALSE),0) -> 1 | O29: =SUM(C29:N29) -> 12
A30: TOTAL COQUIMBO | C30: =SUM(C18:C29) -> 5 | D30: =SUM(D18:D29) -> 3 | E30: =SUM(E18:E29) -> 4 | F30: =SUM(F18:F29) -> 7 | G30: =SUM(G18:G29) -> 8 | H30: =SUM(H18:H29) -> 5 | I30: =SUM(I18:I29) -> 5 | J30: =SUM(J18:J29) -> 5 | ... O30: =SUM(O18:O29) -> 64
A31: 04104-LA HIGUERA | B31: 105314-CES. LA HIGUERA | C31: =IFERROR(VLOOKUP($B31,'Datos Infanto'!$G$3:$T$82,2,FALSE),0) -> 1 | D31: =IFERROR(VLOOKUP($B31,'Datos Infanto'!$G$3:$T$82,3,FALSE),0) -> 0 | E31: =IFERROR(VLOOKUP($B31,'Datos Infanto'!$G$3:$T$82,4,FALSE),0) -> 1 | F31: =IFERROR(VLOOKUP($B31,'Datos Infanto'!$G$3:$T$82,5,FALSE),0) -> 1 | G31: =IFERROR(VLOOKUP($B31,'Datos Infanto'!$G$3:$T$82,6,FALSE),0) -> 1 | H31: =IFERROR(VLOOKUP($B31,'Datos Infanto'!$G$3:$T$82,7,FALSE),0) -> 1 | I31: =IFERROR(VLOOKUP($B31,'Datos Infanto'!$G$3:$T$82,8,FALSE),0) -> 0 | J31: =IFERROR(VLOOKUP($B31,'Datos Infanto'!$G$3:$T$82,9,FALSE),0) -> 1 | K31: =IFERROR(VLOOKUP($B31,'Datos Infanto'!$G$3:$T$82,10,FALSE),0) -> 0 | L31: =IFERROR(VLOOKUP($B31,'Datos Infanto'!$G$3:$T$82,11,FALSE),0) -> 1 | M31: =IFERROR(VLOOKUP($B31,'Datos Infanto'!$G$3:$T$82,12,FALSE),0) -> 0 | N31: =IFERROR(VLOOKUP($B31,'Datos Infanto'!$G$3:$T$82,13,FALSE),0) -> 0 | O31: =SUM(C31:N31) -> 7
A32: 04104-LA HIGUERA | B32: 105500-P.S.R. CALETA HORNOS | C32: =IFERROR(VLOOKUP($B32,'Datos Infanto'!$G$3:$T$82,2,FALSE),0) -> 0 | D32: =IFERROR(VLOOKUP($B32,'Datos Infanto'!$G$3:$T$82,3,FALSE),0) -> 0 | E32: =IFERROR(VLOOKUP($B32,'Datos Infanto'!$G$3:$T$82,4,FALSE),0) -> 0 | F32: =IFERROR(VLOOKUP($B32,'Datos Infanto'!$G$3:$T$82,5,FALSE),0) -> 0 | G32: =IFERROR(VLOOKUP($B32,'Datos Infanto'!$G$3:$T$82,6,FALSE),0) -> 0 | H32: =IFERROR(VLOOKUP($B32,'Datos Infanto'!$G$3:$T$82,7,FALSE),0) -> 0 | I32: =IFERROR(VLOOKUP($B32,'Datos Infanto'!$G$3:$T$82,8,FALSE),0) -> 0 | J32: =IFERROR(VLOOKUP($B32,'Datos Infanto'!$G$3:$T$82,9,FALSE),0) -> 0 | K32: =IFERROR(VLOOKUP($B32,'Datos Infanto'!$G$3:$T$82,10,FALSE),0) -> 0 | L32: =IFERROR(VLOOKUP($B32,'Datos Infanto'!$G$3:$T$82,11,FALSE),0) -> 1 | M32: =IFERROR(VLOOKUP($B32,'Datos Infanto'!$G$3:$T$82,12,FALSE),0) -> 0 | N32: =IFERROR(VLOOKUP($B32,'Datos Infanto'!$G$3:$T$82,13,FALSE),0) -> 0 | O32: =SUM(C32:N32) -> 1
A33: 04104-LA HIGUERA | B33: 105505-P.S.R. LOS CHOROS | C33: =IFERROR(VLOOKUP($B33,'Datos Infanto'!$G$3:$T$82,2,FALSE),0) -> 0 | D33: =IFERROR(VLOOKUP($B33,'Datos Infanto'!$G$3:$T$82,3,FALSE),0) -> 1 | E33: =IFERROR(VLOOKUP($B33,'Datos Infanto'!$G$3:$T$82,4,FALSE),0) -> 0 | F33: =IFERROR(VLOOKUP($B33,'Datos Infanto'!$G$3:$T$82,5,FALSE),0) -> 0 | G33: =IFERROR(VLOOKUP($B33,'Datos Infanto'!$G$3:$T$82,6,FALSE),0) -> 0 | H33: =IFERROR(VLOOKUP($B33,'Datos Infanto'!$G$3:$T$82,7,FALSE),0) -> 0 | I33: =IFERROR(VLOOKUP($B33,'Datos Infanto'!$G$3:$T$82,8,FALSE),0) -> 0 | J33: =IFERROR(VLOOKUP($B33,'Datos Infanto'!$G$3:$T$82,9,FALSE),0) -> 0 | K33: =IFERROR(VLOOKUP($B33,'Datos Infanto'!$G$3:$T$82,10,FALSE),0) -> 0 | L33: =IFERROR(VLOOKUP($B33,'Datos Infanto'!$G$3:$T$82,11,FALSE),0) -> 0 | M33: =IFERROR(VLOOKUP($B33,'Datos Infanto'!$G$3:$T$82,12,FALSE),0) -> 0 | N33: =IFERROR(VLOOKUP($B33,'Datos Infanto'!$G$3:$T$82,13,FALSE),0) -> 0 | O33: =SUM(C33:N33) -> 1
A34: 04104-LA HIGUERA | B34: 105506-P.S.R. EL TRAPICHE | C34: =IFERROR(VLOOKUP($B34,'Datos Infanto'!$G$3:$T$82,2,FALSE),0) -> 0 | D34: =IFERROR(VLOOKUP($B34,'Datos Infanto'!$G$3:$T$82,3,FALSE),0) -> 1 | E34: =IFERROR(VLOOKUP($B34,'Datos Infanto'!$G$3:$T$82,4,FALSE),0) -> 0 | F34: =IFERROR(VLOOKUP($B34,'Datos Infanto'!$G$3:$T$82,5,FALSE),0) -> 0 | G34: =IFERROR(VLOOKUP($B34,'Datos Infanto'!$G$3:$T$82,6,FALSE),0) -> 0 | H34: =IFERROR(VLOOKUP($B34,'Datos Infanto'!$G$3:$T$82,7,FALSE),0) -> 0 | I34: =IFERROR(VLOOKUP($B34,'Datos Infanto'!$G$3:$T$82,8,FALSE),0) -> 0 | J34: =IFERROR(VLOOKUP($B34,'Datos Infanto'!$G$3:$T$82,9,FALSE),0) -> 0 | K34: =IFERROR(VLOOKUP($B34,'Datos Infanto'!$G$3:$T$82,10,FALSE),0) -> 0 | L34: =IFERROR(VLOOKUP($B34,'Datos Infanto'!$G$3:$T$82,11,FALSE),0) -> 0 | M34: =IFERROR(VLOOKUP($B34,'Datos Infanto'!$G$3:$T$82,12,FALSE),0) -> 0 | N34: =IFERROR(VLOOKUP($B34,'Datos Infanto'!$G$3:$T$82,13,FALSE),0) -> 0 | O34: =SUM(C34:N34) -> 1
A35: TOTAL LA HIGUERA | C35: =SUM(C31:C34) -> 1 | D35: =SUM(D31:D34) -> 2 | E35: =SUM(E31:E34) -> 1 | F35: =SUM(F31:F34) -> 1 | G35: =SUM(G31:G34) -> 1 | H35: =SUM(H31:H34) -> 1 | I35: =SUM(I31:I34) -> 0 | J35: =SUM(J31:J34) -> 1 | ... O35: =SUM(O31:O34) -> 10
A36: 04105-PAIHUANO | B36: 105306-CES. PAIHUANO | C36: =IFERROR(VLOOKUP($B36,'Datos Infanto'!$G$3:$T$82,2,FALSE),0) -> 0 | D36: =IFERROR(VLOOKUP($B36,'Datos Infanto'!$G$3:$T$82,3,FALSE),0) -> 0 | E36: =IFERROR(VLOOKUP($B36,'Datos Infanto'!$G$3:$T$82,4,FALSE),0) -> 1 | F36: =IFERROR(VLOOKUP($B36,'Datos Infanto'!$G$3:$T$82,5,FALSE),0) -> 1 | G36: =IFERROR(VLOOKUP($B36,'Datos Infanto'!$G$3:$T$82,6,FALSE),0) -> 1 | H36: =IFERROR(VLOOKUP($B36,'Datos Infanto'!$G$3:$T$82,7,FALSE),0) -> 1 | I36: =IFERROR(VLOOKUP($B36,'Datos Infanto'!$G$3:$T$82,8,FALSE),0) -> 0 | J36: =IFERROR(VLOOKUP($B36,'Datos Infanto'!$G$3:$T$82,9,FALSE),0) -> 0 | K36: =IFERROR(VLOOKUP($B36,'Datos Infanto'!$G$3:$T$82,10,FALSE),0) -> 3 | L36: =IFERROR(VLOOKUP($B36,'Datos Infanto'!$G$3:$T$82,11,FALSE),0) -> 2 | M36: =IFERROR(VLOOKUP($B36,'Datos Infanto'!$G$3:$T$82,12,FALSE),0) -> 1 | N36: =IFERROR(VLOOKUP($B36,'Datos Infanto'!$G$3:$T$82,13,FALSE),0) -> 1 | O36: =SUM(C36:N36) -> 11
A37: 04105-PAIHUANO | B37: 105475-P.S.R. HORCON | C37: =IFERROR(VLOOKUP($B37,'Datos Infanto'!$G$3:$T$82,2,FALSE),0) -> 0 | D37: =IFERROR(VLOOKUP($B37,'Datos Infanto'!$G$3:$T$82,3,FALSE),0) -> 0 | E37: =IFERROR(VLOOKUP($B37,'Datos Infanto'!$G$3:$T$82,4,FALSE),0) -> 0 | F37: =IFERROR(VLOOKUP($B37,'Datos Infanto'!$G$3:$T$82,5,FALSE),0) -> 0 | G37: =IFERROR(VLOOKUP($B37,'Datos Infanto'!$G$3:$T$82,6,FALSE),0) -> 0 | H37: =IFERROR(VLOOKUP($B37,'Datos Infanto'!$G$3:$T$82,7,FALSE),0) -> 0 | I37: =IFERROR(VLOOKUP($B37,'Datos Infanto'!$G$3:$T$82,8,FALSE),0) -> 0 | J37: =IFERROR(VLOOKUP($B37,'Datos Infanto'!$G$3:$T$82,9,FALSE),0) -> 0 | K37: =IFERROR(VLOOKUP($B37,'Datos Infanto'!$G$3:$T$82,10,FALSE),0) -> 0 | L37: =IFERROR(VLOOKUP($B37,'Datos Infanto'!$G$3:$T$82,11,FALSE),0) -> 0 | M37: =IFERROR(VLOOKUP($B37,'Datos Infanto'!$G$3:$T$82,12,FALSE),0) -> 0 | N37: =IFERROR(VLOOKUP($B37,'Datos Infanto'!$G$3:$T$82,13,FALSE),0) -> 0 | O37: =SUM(C37:N37) -> 0
A38: 04105-PAIHUANO | B38: 105476-P.S.R. MONTE GRANDE | C38: =IFERROR(VLOOKUP($B38,'Datos Infanto'!$G$3:$T$82,2,FALSE),0) -> 0 | D38: =IFERROR(VLOOKUP($B38,'Datos Infanto'!$G$3:$T$82,3,FALSE),0) -> 0 | E38: =IFERROR(VLOOKUP($B38,'Datos Infanto'!$G$3:$T$82,4,FALSE),0) -> 0 | F38: =IFERROR(VLOOKUP($B38,'Datos Infanto'!$G$3:$T$82,5,FALSE),0) -> 0 | G38: =IFERROR(VLOOKUP($B38,'Datos Infanto'!$G$3:$T$82,6,FALSE),0) -> 0 | H38: =IFERROR(VLOOKUP($B38,'Datos Infanto'!$G$3:$T$82,7,FALSE),0) -> 0 | I38: =IFERROR(VLOOKUP($B38,'Datos Infanto'!$G$3:$T$82,8,FALSE),0) -> 0 | J38: =IFERROR(VLOOKUP($B38,'Datos Infanto'!$G$3:$T$82,9,FALSE),0) -> 0 | K38: =IFERROR(VLOOKUP($B38,'Datos Infanto'!$G$3:$T$82,10,FALSE),0) -> 0 | L38: =IFERROR(VLOOKUP($B38,'Datos Infanto'!$G$3:$T$82,11,FALSE),0) -> 0 | M38: =IFERROR(VLOOKUP($B38,'Datos Infanto'!$G$3:$T$82,12,FALSE),0) -> 0 | N38: =IFERROR(VLOOKUP($B38,'Datos Infanto'!$G$3:$T$82,13,FALSE),0) -> 0 | O38: =SUM(C38:N38) -> 0
A39: 04105-PAIHUANO | B39: 105477-P.S.R. PISCO ELQUI | C39: =IFERROR(VLOOKUP($B39,'Datos Infanto'!$G$3:$T$82,2,FALSE),0) -> 0 | D39: =IFERROR(VLOOKUP($B39,'Datos Infanto'!$G$3:$T$82,3,FALSE),0) -> 0 | E39: =IFERROR(VLOOKUP($B39,'Datos Infanto'!$G$3:$T$82,4,FALSE),0) -> 0 | F39: =IFERROR(VLOOKUP($B39,'Datos Infanto'!$G$3:$T$82,5,FALSE),0) -> 0 | G39: =IFERROR(VLOOKUP($B39,'Datos Infanto'!$G$3:$T$82,6,FALSE),0) -> 0 | H39: =IFERROR(VLOOKUP($B39,'Datos Infanto'!$G$3:$T$82,7,FALSE),0) -> 0 | I39: =IFERROR(VLOOKUP($B39,'Datos Infanto'!$G$3:$T$82,8,FALSE),0) -> 0 | J39: =IFERROR(VLOOKUP($B39,'Datos Infanto'!$G$3:$T$82,9,FALSE),0) -> 0 | K39: =IFERROR(VLOOKUP($B39,'Datos Infanto'!$G$3:$T$82,10,FALSE),0) -> 0 | L39: =IFERROR(VLOOKUP($B39,'Datos Infanto'!$G$3:$T$82,11,FALSE),0) -> 0 | M39: =IFERROR(VLOOKUP($B39,'Datos Infanto'!$G$3:$T$82,12,FALSE),0) -> 0 | N39: =IFERROR(VLOOKUP($B39,'Datos Infanto'!$G$3:$T$82,13,FALSE),0) -> 0 | O39: =SUM(C39:N39) -> 0
A40: TOTAL PAIHUANO | C40: =IFERROR(VLOOKUP($B40,#REF!,2,FALSE),0) -> 0 | D40: =IFERROR(VLOOKUP($B40,#REF!,3,FALSE),0) -> 0 | E40: =SUM(E36:E39) -> 1 | F40: =SUM(F36:F39) -> 1 | G40: =SUM(G36:G39) -> 1 | H40: =SUM(H36:H39) -> 1 | I40: =SUM(I36:I39) -> 0 | J40: =SUM(J36:J39) -> 0 | K40: =SUM(K36:K39) -> 3 | L40: =SUM(L36:L39) -> 2 | ... O40: =SUM(O36:O39) -> 11
A41: 04106-VICUÑA | B41: 105467-P.S.R. DIAGUITAS | C41: =IFERROR(VLOOKUP($B41,'Datos Infanto'!$G$3:$T$82,2,FALSE),0) -> 1 | D41: =IFERROR(VLOOKUP($B41,'Datos Infanto'!$G$3:$T$82,3,FALSE),0) -> 0 | E41: =IFERROR(VLOOKUP($B41,'Datos Infanto'!$G$3:$T$82,4,FALSE),0) -> 0 | F41: =IFERROR(VLOOKUP($B41,'Datos Infanto'!$G$3:$T$82,5,FALSE),0) -> 0 | G41: =IFERROR(VLOOKUP($B41,'Datos Infanto'!$G$3:$T$82,6,FALSE),0) -> 0 | H41: =IFERROR(VLOOKUP($B41,'Datos Infanto'!$G$3:$T$82,7,FALSE),0) -> 0 | I41: =IFERROR(VLOOKUP($B41,'Datos Infanto'!$G$3:$T$82,8,FALSE),0) -> 1 | J41: =IFERROR(VLOOKUP($B41,'Datos Infanto'!$G$3:$T$82,9,FALSE),0) -> 0 | K41: =IFERROR(VLOOKUP($B41,'Datos Infanto'!$G$3:$T$82,10,FALSE),0) -> 2 | L41: =IFERROR(VLOOKUP($B41,'Datos Infanto'!$G$3:$T$82,11,FALSE),0) -> 1 | M41: =IFERROR(VLOOKUP($B41,'Datos Infanto'!$G$3:$T$82,12,FALSE),0) -> 1 | N41: =IFERROR(VLOOKUP($B41,'Datos Infanto'!$G$3:$T$82,13,FALSE),0) -> 1 | O41: =SUM(C41:N41) -> 7
A42: 04106-VICUÑA | B42: 105468-P.S.R. EL MOLLE | C42: =IFERROR(VLOOKUP($B42,'Datos Infanto'!$G$3:$T$82,2,FALSE),0) -> 0 | D42: =IFERROR(VLOOKUP($B42,'Datos Infanto'!$G$3:$T$82,3,FALSE),0) -> 0 | E42: =IFERROR(VLOOKUP($B42,'Datos Infanto'!$G$3:$T$82,4,FALSE),0) -> 0 | F42: =IFERROR(VLOOKUP($B42,'Datos Infanto'!$G$3:$T$82,5,FALSE),0) -> 0 | G42: =IFERROR(VLOOKUP($B42,'Datos Infanto'!$G$3:$T$82,6,FALSE),0) -> 0 | H42: =IFERROR(VLOOKUP($B42,'Datos Infanto'!$G$3:$T$82,7,FALSE),0) -> 0 | I42: =IFERROR(VLOOKUP($B42,'Datos Infanto'!$G$3:$T$82,8,FALSE),0) -> 0 | J42: =IFERROR(VLOOKUP($B42,'Datos Infanto'!$G$3:$T$82,9,FALSE),0) -> 0 | K42: =IFERROR(VLOOKUP($B42,'Datos Infanto'!$G$3:$T$82,10,FALSE),0) -> 0 | L42: =IFERROR(VLOOKUP($B42,'Datos Infanto'!$G$3:$T$82,11,FALSE),0) -> 0 | M42: =IFERROR(VLOOKUP($B42,'Datos Infanto'!$G$3:$T$82,12,FALSE),0) -> 0 | N42: =IFERROR(VLOOKUP($B42,'Datos Infanto'!$G$3:$T$82,13,FALSE),0) -> 0 | O42: =SUM(C42:N42) -> 0
A43: 04106-VICUÑA | B43: 105469-P.S.R. EL TAMBO | C43: =IFERROR(VLOOKUP($B43,'Datos Infanto'!$G$3:$T$82,2,FALSE),0) -> 0 | D43: =IFERROR(VLOOKUP($B43,'Datos Infanto'!$G$3:$T$82,3,FALSE),0) -> 0 | E43: =IFERROR(VLOOKUP($B43,'Datos Infanto'!$G$3:$T$82,4,FALSE),0) -> 0 | F43: =IFERROR(VLOOKUP($B43,'Datos Infanto'!$G$3:$T$82,5,FALSE),0) -> 0 | G43: =IFERROR(VLOOKUP($B43,'Datos Infanto'!$G$3:$T$82,6,FALSE),0) -> 0 | H43: =IFERROR(VLOOKUP($B43,'Datos Infanto'!$G$3:$T$82,7,FALSE),0) -> 0 | I43: =IFERROR(VLOOKUP($B43,'Datos Infanto'!$G$3:$T$82,8,FALSE),0) -> 0 | J43: =IFERROR(VLOOKUP($B43,'Datos Infanto'!$G$3:$T$82,9,FALSE),0) -> 0 | K43: =IFERROR(VLOOKUP($B43,'Datos Infanto'!$G$3:$T$82,10,FALSE),0) -> 0 | L43: =IFERROR(VLOOKUP($B43,'Datos Infanto'!$G$3:$T$82,11,FALSE),0) -> 0 | M43: =IFERROR(VLOOKUP($B43,'Datos Infanto'!$G$3:$T$82,12,FALSE),0) -> 0 | N43: =IFERROR(VLOOKUP($B43,'Datos Infanto'!$G$3:$T$82,13,FALSE),0) -> 0 | O43: =SUM(C43:N43) -> 0
A44: 04106-VICUÑA | B44: 105470-P.S.R. HUANTA | C44: =IFERROR(VLOOKUP($B44,'Datos Infanto'!$G$3:$T$82,2,FALSE),0) -> 0 | D44: =IFERROR(VLOOKUP($B44,'Datos Infanto'!$G$3:$T$82,3,FALSE),0) -> 0 | E44: =IFERROR(VLOOKUP($B44,'Datos Infanto'!$G$3:$T$82,4,FALSE),0) -> 0 | F44: =IFERROR(VLOOKUP($B44,'Datos Infanto'!$G$3:$T$82,5,FALSE),0) -> 0 | G44: =IFERROR(VLOOKUP($B44,'Datos Infanto'!$G$3:$T$82,6,FALSE),0) -> 0 | H44: =IFERROR(VLOOKUP($B44,'Datos Infanto'!$G$3:$T$82,7,FALSE),0) -> 0 | I44: =IFERROR(VLOOKUP($B44,'Datos Infanto'!$G$3:$T$82,8,FALSE),0) -> 0 | J44: =IFERROR(VLOOKUP($B44,'Datos Infanto'!$G$3:$T$82,9,FALSE),0) -> 0 | K44: =IFERROR(VLOOKUP($B44,'Datos Infanto'!$G$3:$T$82,10,FALSE),0) -> 0 | L44: =IFERROR(VLOOKUP($B44,'Datos Infanto'!$G$3:$T$82,11,FALSE),0) -> 0 | M44: =IFERROR(VLOOKUP($B44,'Datos Infanto'!$G$3:$T$82,12,FALSE),0) -> 0 | N44: =IFERROR(VLOOKUP($B44,'Datos Infanto'!$G$3:$T$82,13,FALSE),0) -> 0 | O44: =SUM(C44:N44) -> 0
A45: 04106-VICUÑA | B45: 105471-P.S.R. PERALILLO | C45: =IFERROR(VLOOKUP($B45,'Datos Infanto'!$G$3:$T$82,2,FALSE),0) -> 0 | D45: =IFERROR(VLOOKUP($B45,'Datos Infanto'!$G$3:$T$82,3,FALSE),0) -> 0 | E45: =IFERROR(VLOOKUP($B45,'Datos Infanto'!$G$3:$T$82,4,FALSE),0) -> 0 | F45: =IFERROR(VLOOKUP($B45,'Datos Infanto'!$G$3:$T$82,5,FALSE),0) -> 0 | G45: =IFERROR(VLOOKUP($B45,'Datos Infanto'!$G$3:$T$82,6,FALSE),0) -> 0 | H45: =IFERROR(VLOOKUP($B45,'Datos Infanto'!$G$3:$T$82,7,FALSE),0) -> 0 | I45: =IFERROR(VLOOKUP($B45,'Datos Infanto'!$G$3:$T$82,8,FALSE),0) -> 0 | J45: =IFERROR(VLOOKUP($B45,'Datos Infanto'!$G$3:$T$82,9,FALSE),0) -> 0 | K45: =IFERROR(VLOOKUP($B45,'Datos Infanto'!$G$3:$T$82,10,FALSE),0) -> 0 | L45: =IFERROR(VLOOKUP($B45,'Datos Infanto'!$G$3:$T$82,11,FALSE),0) -> 0 | M45: =IFERROR(VLOOKUP($B45,'Datos Infanto'!$G$3:$T$82,12,FALSE),0) -> 0 | N45: =IFERROR(VLOOKUP($B45,'Datos Infanto'!$G$3:$T$82,13,FALSE),0) -> 0 | O45: =SUM(C45:N45) -> 0
A46: 04106-VICUÑA | B46: 105472-P.S.R. RIVADAVIA | C46: =IFERROR(VLOOKUP($B46,'Datos Infanto'!$G$3:$T$82,2,FALSE),0) -> 0 | D46: =IFERROR(VLOOKUP($B46,'Datos Infanto'!$G$3:$T$82,3,FALSE),0) -> 0 | E46: =IFERROR(VLOOKUP($B46,'Datos Infanto'!$G$3:$T$82,4,FALSE),0) -> 0 | F46: =IFERROR(VLOOKUP($B46,'Datos Infanto'!$G$3:$T$82,5,FALSE),0) -> 0 | G46: =IFERROR(VLOOKUP($B46,'Datos Infanto'!$G$3:$T$82,6,FALSE),0) -> 0 | H46: =IFERROR(VLOOKUP($B46,'Datos Infanto'!$G$3:$T$82,7,FALSE),0) -> 0 | I46: =IFERROR(VLOOKUP($B46,'Datos Infanto'!$G$3:$T$82,8,FALSE),0) -> 0 | J46: =IFERROR(VLOOKUP($B46,'Datos Infanto'!$G$3:$T$82,9,FALSE),0) -> 0 | K46: =IFERROR(VLOOKUP($B46,'Datos Infanto'!$G$3:$T$82,10,FALSE),0) -> 0 | L46: =IFERROR(VLOOKUP($B46,'Datos Infanto'!$G$3:$T$82,11,FALSE),0) -> 0 | M46: =IFERROR(VLOOKUP($B46,'Datos Infanto'!$G$3:$T$82,12,FALSE),0) -> 0 | N46: =IFERROR(VLOOKUP($B46,'Datos Infanto'!$G$3:$T$82,13,FALSE),0) -> 0 | O46: =SUM(C46:N46) -> 0
A47: 04106-VICUÑA | B47: 105473-P.S.R. TALCUNA | C47: =IFERROR(VLOOKUP($B47,'Datos Infanto'!$G$3:$T$82,2,FALSE),0) -> 0 | D47: =IFERROR(VLOOKUP($B47,'Datos Infanto'!$G$3:$T$82,3,FALSE),0) -> 0 | E47: =IFERROR(VLOOKUP($B47,'Datos Infanto'!$G$3:$T$82,4,FALSE),0) -> 0 | F47: =IFERROR(VLOOKUP($B47,'Datos Infanto'!$G$3:$T$82,5,FALSE),0) -> 0 | G47: =IFERROR(VLOOKUP($B47,'Datos Infanto'!$G$3:$T$82,6,FALSE),0) -> 0 | H47: =IFERROR(VLOOKUP($B47,'Datos Infanto'!$G$3:$T$82,7,FALSE),0) -> 0 | I47: =IFERROR(VLOOKUP($B47,'Datos Infanto'!$G$3:$T$82,8,FALSE),0) -> 0 | J47: =IFERROR(VLOOKUP($B47,'Datos Infanto'!$G$3:$T$82,9,FALSE),0) -> 0 | K47: =IFERROR(VLOOKUP($B47,'Datos Infanto'!$G$3:$T$82,10,FALSE),0) -> 0 | L47: =IFERROR(VLOOKUP($B47,'Datos Infanto'!$G$3:$T$82,11,FALSE),0) -> 0 | M47: =IFERROR(VLOOKUP($B47,'Datos Infanto'!$G$3:$T$82,12,FALSE),0) -> 0 | N47: =IFERROR(VLOOKUP($B47,'Datos Infanto'!$G$3:$T$82,13,FALSE),0) -> 0 | O47: =SUM(C47:N47) -> 0
A48: 04106-VICUÑA | B48: 105474-P.S.R. CHAPILCA | C48: =IFERROR(VLOOKUP($B48,'Datos Infanto'!$G$3:$T$82,2,FALSE),0) -> 0 | D48: =IFERROR(VLOOKUP($B48,'Datos Infanto'!$G$3:$T$82,3,FALSE),0) -> 0 | E48: =IFERROR(VLOOKUP($B48,'Datos Infanto'!$G$3:$T$82,4,FALSE),0) -> 0 | F48: =IFERROR(VLOOKUP($B48,'Datos Infanto'!$G$3:$T$82,5,FALSE),0) -> 0 | G48: =IFERROR(VLOOKUP($B48,'Datos Infanto'!$G$3:$T$82,6,FALSE),0) -> 0 | H48: =IFERROR(VLOOKUP($B48,'Datos Infanto'!$G$3:$T$82,7,FALSE),0) -> 0 | I48: =IFERROR(VLOOKUP($B48,'Datos Infanto'!$G$3:$T$82,8,FALSE),0) -> 0 | J48: =IFERROR(VLOOKUP($B48,'Datos Infanto'!$G$3:$T$82,9,FALSE),0) -> 0 | K48: =IFERROR(VLOOKUP($B48,'Datos Infanto'!$G$3:$T$82,10,FALSE),0) -> 0 | L48: =IFERROR(VLOOKUP($B48,'Datos Infanto'!$G$3:$T$82,11,FALSE),0) -> 0 | M48: =IFERROR(VLOOKUP($B48,'Datos Infanto'!$G$3:$T$82,12,FALSE),0) -> 0 | N48: =IFERROR(VLOOKUP($B48,'Datos Infanto'!$G$3:$T$82,13,FALSE),0) -> 0 | O48: =SUM(C48:N48) -> 0
A49: 04106-VICUÑA | B49: 105509-P.S.R. GUALLIGUAICA | C49: =IFERROR(VLOOKUP($B49,'Datos Infanto'!$G$3:$T$82,2,FALSE),0) -> 0 | D49: =IFERROR(VLOOKUP($B49,'Datos Infanto'!$G$3:$T$82,3,FALSE),0) -> 0 | E49: =IFERROR(VLOOKUP($B49,'Datos Infanto'!$G$3:$T$82,4,FALSE),0) -> 0 | F49: =IFERROR(VLOOKUP($B49,'Datos Infanto'!$G$3:$T$82,5,FALSE),0) -> 0 | G49: =IFERROR(VLOOKUP($B49,'Datos Infanto'!$G$3:$T$82,6,FALSE),0) -> 0 | H49: =IFERROR(VLOOKUP($B49,'Datos Infanto'!$G$3:$T$82,7,FALSE),0) -> 0 | I49: =IFERROR(VLOOKUP($B49,'Datos Infanto'!$G$3:$T$82,8,FALSE),0) -> 0 | J49: =IFERROR(VLOOKUP($B49,'Datos Infanto'!$G$3:$T$82,9,FALSE),0) -> 0 | K49: =IFERROR(VLOOKUP($B49,'Datos Infanto'!$G$3:$T$82,10,FALSE),0) -> 0 | L49: =IFERROR(VLOOKUP($B49,'Datos Infanto'!$G$3:$T$82,11,FALSE),0) -> 0 | M49: =IFERROR(VLOOKUP($B49,'Datos Infanto'!$G$3:$T$82,12,FALSE),0) -> 0 | N49: =IFERROR(VLOOKUP($B49,'Datos Infanto'!$G$3:$T$82,13,FALSE),0) -> 0 | O49: =SUM(C49:N49) -> 0
A50: 04106-VICUÑA | B50: 200538-CESFAM SAN ISIDRO CALINGASTA | C50: =IFERROR(VLOOKUP($B50,'Datos Infanto'!$G$3:$T$82,2,FALSE),0) -> 1 | D50: =IFERROR(VLOOKUP($B50,'Datos Infanto'!$G$3:$T$82,3,FALSE),0) -> 1 | E50: =IFERROR(VLOOKUP($B50,'Datos Infanto'!$G$3:$T$82,4,FALSE),0) -> 1 | F50: =IFERROR(VLOOKUP($B50,'Datos Infanto'!$G$3:$T$82,5,FALSE),0) -> 1 | G50: =IFERROR(VLOOKUP($B50,'Datos Infanto'!$G$3:$T$82,6,FALSE),0) -> 1 | H50: =IFERROR(VLOOKUP($B50,'Datos Infanto'!$G$3:$T$82,7,FALSE),0) -> 1 | I50: =IFERROR(VLOOKUP($B50,'Datos Infanto'!$G$3:$T$82,8,FALSE),0) -> 1 | J50: =IFERROR(VLOOKUP($B50,'Datos Infanto'!$G$3:$T$82,9,FALSE),0) -> 0 | K50: =IFERROR(VLOOKUP($B50,'Datos Infanto'!$G$3:$T$82,10,FALSE),0) -> 0 | L50: =IFERROR(VLOOKUP($B50,'Datos Infanto'!$G$3:$T$82,11,FALSE),0) -> 1 | M50: =IFERROR(VLOOKUP($B50,'Datos Infanto'!$G$3:$T$82,12,FALSE),0) -> 1 | N50: =IFERROR(VLOOKUP($B50,'Datos Infanto'!$G$3:$T$82,13,FALSE),0) -> 1 | O50: =SUM(C50:N50) -> 10
A51: TOTAL VICUÑA | C51: =SUM(C41:C50) -> 2 | D51: =SUM(D41:D50) -> 1 | E51: =SUM(E41:E50) -> 1 | F51: =SUM(F41:F50) -> 1 | G51: =SUM(G41:G50) -> 1 | H51: =SUM(H41:H50) -> 1 | I51: =SUM(I41:I50) -> 2 | J51: =SUM(J41:J50) -> 0 | ... O51: =SUM(O41:O50) -> 17
A52: 04201-ILLAPEL | B52: 105326-CESFAM SAN RAFAEL | C52: =IFERROR(VLOOKUP($B52,'Datos Infanto'!$G$3:$T$82,2,FALSE),0) -> 0 | D52: =IFERROR(VLOOKUP($B52,'Datos Infanto'!$G$3:$T$82,3,FALSE),0) -> 0 | E52: =IFERROR(VLOOKUP($B52,'Datos Infanto'!$G$3:$T$82,4,FALSE),0) -> 0 | F52: =IFERROR(VLOOKUP($B52,'Datos Infanto'!$G$3:$T$82,5,FALSE),0) -> 1 | G52: =IFERROR(VLOOKUP($B52,'Datos Infanto'!$G$3:$T$82,6,FALSE),0) -> 0 | H52: =IFERROR(VLOOKUP($B52,'Datos Infanto'!$G$3:$T$82,7,FALSE),0) -> 0 | I52: =IFERROR(VLOOKUP($B52,'Datos Infanto'!$G$3:$T$82,8,FALSE),0) -> 0 | J52: =IFERROR(VLOOKUP($B52,'Datos Infanto'!$G$3:$T$82,9,FALSE),0) -> 1 | K52: =IFERROR(VLOOKUP($B52,'Datos Infanto'!$G$3:$T$82,10,FALSE),0) -> 1 | L52: =IFERROR(VLOOKUP($B52,'Datos Infanto'!$G$3:$T$82,11,FALSE),0) -> 1 | M52: =IFERROR(VLOOKUP($B52,'Datos Infanto'!$G$3:$T$82,12,FALSE),0) -> 1 | N52: =IFERROR(VLOOKUP($B52,'Datos Infanto'!$G$3:$T$82,13,FALSE),0) -> 0 | O52: =SUM(C52:N52) -> 5
A53: 04201-ILLAPEL | B53: 105443-P.S.R. CARCAMO | C53: =IFERROR(VLOOKUP($B53,'Datos Infanto'!$G$3:$T$82,2,FALSE),0) -> 0 | D53: =IFERROR(VLOOKUP($B53,'Datos Infanto'!$G$3:$T$82,3,FALSE),0) -> 0 | E53: =IFERROR(VLOOKUP($B53,'Datos Infanto'!$G$3:$T$82,4,FALSE),0) -> 0 | F53: =IFERROR(VLOOKUP($B53,'Datos Infanto'!$G$3:$T$82,5,FALSE),0) -> 0 | G53: =IFERROR(VLOOKUP($B53,'Datos Infanto'!$G$3:$T$82,6,FALSE),0) -> 0 | H53: =IFERROR(VLOOKUP($B53,'Datos Infanto'!$G$3:$T$82,7,FALSE),0) -> 0 | I53: =IFERROR(VLOOKUP($B53,'Datos Infanto'!$G$3:$T$82,8,FALSE),0) -> 0 | J53: =IFERROR(VLOOKUP($B53,'Datos Infanto'!$G$3:$T$82,9,FALSE),0) -> 0 | K53: =IFERROR(VLOOKUP($B53,'Datos Infanto'!$G$3:$T$82,10,FALSE),0) -> 0 | L53: =IFERROR(VLOOKUP($B53,'Datos Infanto'!$G$3:$T$82,11,FALSE),0) -> 0 | M53: =IFERROR(VLOOKUP($B53,'Datos Infanto'!$G$3:$T$82,12,FALSE),0) -> 0 | N53: =IFERROR(VLOOKUP($B53,'Datos Infanto'!$G$3:$T$82,13,FALSE),0) -> 0 | O53: =SUM(C53:N53) -> 0
A54: 04201-ILLAPEL | B54: 105444-P.S.R. HUINTIL | C54: =IFERROR(VLOOKUP($B54,'Datos Infanto'!$G$3:$T$82,2,FALSE),0) -> 0 | D54: =IFERROR(VLOOKUP($B54,'Datos Infanto'!$G$3:$T$82,3,FALSE),0) -> 0 | E54: =IFERROR(VLOOKUP($B54,'Datos Infanto'!$G$3:$T$82,4,FALSE),0) -> 1 | F54: =IFERROR(VLOOKUP($B54,'Datos Infanto'!$G$3:$T$82,5,FALSE),0) -> 0 | G54: =IFERROR(VLOOKUP($B54,'Datos Infanto'!$G$3:$T$82,6,FALSE),0) -> 0 | H54: =IFERROR(VLOOKUP($B54,'Datos Infanto'!$G$3:$T$82,7,FALSE),0) -> 1 | I54: =IFERROR(VLOOKUP($B54,'Datos Infanto'!$G$3:$T$82,8,FALSE),0) -> 0 | J54: =IFERROR(VLOOKUP($B54,'Datos Infanto'!$G$3:$T$82,9,FALSE),0) -> 1 | K54: =IFERROR(VLOOKUP($B54,'Datos Infanto'!$G$3:$T$82,10,FALSE),0) -> 1 | L54: =IFERROR(VLOOKUP($B54,'Datos Infanto'!$G$3:$T$82,11,FALSE),0) -> 0 | M54: =IFERROR(VLOOKUP($B54,'Datos Infanto'!$G$3:$T$82,12,FALSE),0) -> 0 | N54: =IFERROR(VLOOKUP($B54,'Datos Infanto'!$G$3:$T$82,13,FALSE),0) -> 2 | O54: =SUM(C54:N54) -> 6
A55: 04201-ILLAPEL | B55: 105445-P.S.R. LIMAHUIDA | C55: =IFERROR(VLOOKUP($B55,'Datos Infanto'!$G$3:$T$82,2,FALSE),0) -> 0 | D55: =IFERROR(VLOOKUP($B55,'Datos Infanto'!$G$3:$T$82,3,FALSE),0) -> 0 | E55: =IFERROR(VLOOKUP($B55,'Datos Infanto'!$G$3:$T$82,4,FALSE),0) -> 0 | F55: =IFERROR(VLOOKUP($B55,'Datos Infanto'!$G$3:$T$82,5,FALSE),0) -> 0 | G55: =IFERROR(VLOOKUP($B55,'Datos Infanto'!$G$3:$T$82,6,FALSE),0) -> 0 | H55: =IFERROR(VLOOKUP($B55,'Datos Infanto'!$G$3:$T$82,7,FALSE),0) -> 0 | I55: =IFERROR(VLOOKUP($B55,'Datos Infanto'!$G$3:$T$82,8,FALSE),0) -> 0 | J55: =IFERROR(VLOOKUP($B55,'Datos Infanto'!$G$3:$T$82,9,FALSE),0) -> 0 | K55: =IFERROR(VLOOKUP($B55,'Datos Infanto'!$G$3:$T$82,10,FALSE),0) -> 0 | L55: =IFERROR(VLOOKUP($B55,'Datos Infanto'!$G$3:$T$82,11,FALSE),0) -> 0 | M55: =IFERROR(VLOOKUP($B55,'Datos Infanto'!$G$3:$T$82,12,FALSE),0) -> 0 | N55: =IFERROR(VLOOKUP($B55,'Datos Infanto'!$G$3:$T$82,13,FALSE),0) -> 0 | O55: =SUM(C55:N55) -> 0
A56: 04201-ILLAPEL | B56: 105446-P.S.R. MATANCILLA | C56: =IFERROR(VLOOKUP($B56,'Datos Infanto'!$G$3:$T$82,2,FALSE),0) -> 0 | D56: =IFERROR(VLOOKUP($B56,'Datos Infanto'!$G$3:$T$82,3,FALSE),0) -> 0 | E56: =IFERROR(VLOOKUP($B56,'Datos Infanto'!$G$3:$T$82,4,FALSE),0) -> 0 | F56: =IFERROR(VLOOKUP($B56,'Datos Infanto'!$G$3:$T$82,5,FALSE),0) -> 0 | G56: =IFERROR(VLOOKUP($B56,'Datos Infanto'!$G$3:$T$82,6,FALSE),0) -> 0 | H56: =IFERROR(VLOOKUP($B56,'Datos Infanto'!$G$3:$T$82,7,FALSE),0) -> 0 | I56: =IFERROR(VLOOKUP($B56,'Datos Infanto'!$G$3:$T$82,8,FALSE),0) -> 0 | J56: =IFERROR(VLOOKUP($B56,'Datos Infanto'!$G$3:$T$82,9,FALSE),0) -> 0 | K56: =IFERROR(VLOOKUP($B56,'Datos Infanto'!$G$3:$T$82,10,FALSE),0) -> 0 | L56: =IFERROR(VLOOKUP($B56,'Datos Infanto'!$G$3:$T$82,11,FALSE),0) -> 0 | M56: =IFERROR(VLOOKUP($B56,'Datos Infanto'!$G$3:$T$82,12,FALSE),0) -> 0 | N56: =IFERROR(VLOOKUP($B56,'Datos Infanto'!$G$3:$T$82,13,FALSE),0) -> 0 | O56: =SUM(C56:N56) -> 0
A57: 04201-ILLAPEL | B57: 105447-P.S.R. PERALILLO | C57: =IFERROR(VLOOKUP($B57,'Datos Infanto'!$G$3:$T$82,2,FALSE),0) -> 0 | D57: =IFERROR(VLOOKUP($B57,'Datos Infanto'!$G$3:$T$82,3,FALSE),0) -> 0 | E57: =IFERROR(VLOOKUP($B57,'Datos Infanto'!$G$3:$T$82,4,FALSE),0) -> 0 | F57: =IFERROR(VLOOKUP($B57,'Datos Infanto'!$G$3:$T$82,5,FALSE),0) -> 0 | G57: =IFERROR(VLOOKUP($B57,'Datos Infanto'!$G$3:$T$82,6,FALSE),0) -> 0 | H57: =IFERROR(VLOOKUP($B57,'Datos Infanto'!$G$3:$T$82,7,FALSE),0) -> 0 | I57: =IFERROR(VLOOKUP($B57,'Datos Infanto'!$G$3:$T$82,8,FALSE),0) -> 0 | J57: =IFERROR(VLOOKUP($B57,'Datos Infanto'!$G$3:$T$82,9,FALSE),0) -> 0 | K57: =IFERROR(VLOOKUP($B57,'Datos Infanto'!$G$3:$T$82,10,FALSE),0) -> 0 | L57: =IFERROR(VLOOKUP($B57,'Datos Infanto'!$G$3:$T$82,11,FALSE),0) -> 0 | M57: =IFERROR(VLOOKUP($B57,'Datos Infanto'!$G$3:$T$82,12,FALSE),0) -> 0 | N57: =IFERROR(VLOOKUP($B57,'Datos Infanto'!$G$3:$T$82,13,FALSE),0) -> 0 | O57: =SUM(C57:N57) -> 0
A58: 04201-ILLAPEL | B58: 105448-P.S.R. SANTA VIRGINIA | C58: =IFERROR(VLOOKUP($B58,'Datos Infanto'!$G$3:$T$82,2,FALSE),0) -> 0 | D58: =IFERROR(VLOOKUP($B58,'Datos Infanto'!$G$3:$T$82,3,FALSE),0) -> 0 | E58: =IFERROR(VLOOKUP($B58,'Datos Infanto'!$G$3:$T$82,4,FALSE),0) -> 0 | F58: =IFERROR(VLOOKUP($B58,'Datos Infanto'!$G$3:$T$82,5,FALSE),0) -> 0 | G58: =IFERROR(VLOOKUP($B58,'Datos Infanto'!$G$3:$T$82,6,FALSE),0) -> 0 | H58: =IFERROR(VLOOKUP($B58,'Datos Infanto'!$G$3:$T$82,7,FALSE),0) -> 0 | I58: =IFERROR(VLOOKUP($B58,'Datos Infanto'!$G$3:$T$82,8,FALSE),0) -> 0 | J58: =IFERROR(VLOOKUP($B58,'Datos Infanto'!$G$3:$T$82,9,FALSE),0) -> 0 | K58: =IFERROR(VLOOKUP($B58,'Datos Infanto'!$G$3:$T$82,10,FALSE),0) -> 0 | L58: =IFERROR(VLOOKUP($B58,'Datos Infanto'!$G$3:$T$82,11,FALSE),0) -> 0 | M58: =IFERROR(VLOOKUP($B58,'Datos Infanto'!$G$3:$T$82,12,FALSE),0) -> 0 | N58: =IFERROR(VLOOKUP($B58,'Datos Infanto'!$G$3:$T$82,13,FALSE),0) -> 0 | O58: =SUM(C58:N58) -> 0
A59: 04201-ILLAPEL | B59: 105449-P.S.R. TUNGA NORTE | C59: =IFERROR(VLOOKUP($B59,'Datos Infanto'!$G$3:$T$82,2,FALSE),0) -> 0 | D59: =IFERROR(VLOOKUP($B59,'Datos Infanto'!$G$3:$T$82,3,FALSE),0) -> 0 | E59: =IFERROR(VLOOKUP($B59,'Datos Infanto'!$G$3:$T$82,4,FALSE),0) -> 0 | F59: =IFERROR(VLOOKUP($B59,'Datos Infanto'!$G$3:$T$82,5,FALSE),0) -> 0 | G59: =IFERROR(VLOOKUP($B59,'Datos Infanto'!$G$3:$T$82,6,FALSE),0) -> 0 | H59: =IFERROR(VLOOKUP($B59,'Datos Infanto'!$G$3:$T$82,7,FALSE),0) -> 0 | I59: =IFERROR(VLOOKUP($B59,'Datos Infanto'!$G$3:$T$82,8,FALSE),0) -> 0 | J59: =IFERROR(VLOOKUP($B59,'Datos Infanto'!$G$3:$T$82,9,FALSE),0) -> 0 | K59: =IFERROR(VLOOKUP($B59,'Datos Infanto'!$G$3:$T$82,10,FALSE),0) -> 0 | L59: =IFERROR(VLOOKUP($B59,'Datos Infanto'!$G$3:$T$82,11,FALSE),0) -> 0 | M59: =IFERROR(VLOOKUP($B59,'Datos Infanto'!$G$3:$T$82,12,FALSE),0) -> 0 | N59: =IFERROR(VLOOKUP($B59,'Datos Infanto'!$G$3:$T$82,13,FALSE),0) -> 0 | O59: =SUM(C59:N59) -> 0
A60: 04201-ILLAPEL | B60: 105485-P.S.R. PLAN DE HORNOS | C60: =IFERROR(VLOOKUP($B60,'Datos Infanto'!$G$3:$T$82,2,FALSE),0) -> 0 | D60: =IFERROR(VLOOKUP($B60,'Datos Infanto'!$G$3:$T$82,3,FALSE),0) -> 0 | E60: =IFERROR(VLOOKUP($B60,'Datos Infanto'!$G$3:$T$82,4,FALSE),0) -> 0 | F60: =IFERROR(VLOOKUP($B60,'Datos Infanto'!$G$3:$T$82,5,FALSE),0) -> 0 | G60: =IFERROR(VLOOKUP($B60,'Datos Infanto'!$G$3:$T$82,6,FALSE),0) -> 0 | H60: =IFERROR(VLOOKUP($B60,'Datos Infanto'!$G$3:$T$82,7,FALSE),0) -> 0 | I60: =IFERROR(VLOOKUP($B60,'Datos Infanto'!$G$3:$T$82,8,FALSE),0) -> 0 | J60: =IFERROR(VLOOKUP($B60,'Datos Infanto'!$G$3:$T$82,9,FALSE),0) -> 0 | K60: =IFERROR(VLOOKUP($B60,'Datos Infanto'!$G$3:$T$82,10,FALSE),0) -> 0 | L60: =IFERROR(VLOOKUP($B60,'Datos Infanto'!$G$3:$T$82,11,FALSE),0) -> 0 | M60: =IFERROR(VLOOKUP($B60,'Datos Infanto'!$G$3:$T$82,12,FALSE),0) -> 0 | N60: =IFERROR(VLOOKUP($B60,'Datos Infanto'!$G$3:$T$82,13,FALSE),0) -> 0 | O60: =SUM(C60:N60) -> 0
A61: 04201-ILLAPEL | B61: 105486-P.S.R. TUNGA SUR | C61: =IFERROR(VLOOKUP($B61,'Datos Infanto'!$G$3:$T$82,2,FALSE),0) -> 0 | D61: =IFERROR(VLOOKUP($B61,'Datos Infanto'!$G$3:$T$82,3,FALSE),0) -> 0 | E61: =IFERROR(VLOOKUP($B61,'Datos Infanto'!$G$3:$T$82,4,FALSE),0) -> 0 | F61: =IFERROR(VLOOKUP($B61,'Datos Infanto'!$G$3:$T$82,5,FALSE),0) -> 0 | G61: =IFERROR(VLOOKUP($B61,'Datos Infanto'!$G$3:$T$82,6,FALSE),0) -> 0 | H61: =IFERROR(VLOOKUP($B61,'Datos Infanto'!$G$3:$T$82,7,FALSE),0) -> 0 | I61: =IFERROR(VLOOKUP($B61,'Datos Infanto'!$G$3:$T$82,8,FALSE),0) -> 0 | J61: =IFERROR(VLOOKUP($B61,'Datos Infanto'!$G$3:$T$82,9,FALSE),0) -> 0 | K61: =IFERROR(VLOOKUP($B61,'Datos Infanto'!$G$3:$T$82,10,FALSE),0) -> 0 | L61: =IFERROR(VLOOKUP($B61,'Datos Infanto'!$G$3:$T$82,11,FALSE),0) -> 0 | M61: =IFERROR(VLOOKUP($B61,'Datos Infanto'!$G$3:$T$82,12,FALSE),0) -> 0 | N61: =IFERROR(VLOOKUP($B61,'Datos Infanto'!$G$3:$T$82,13,FALSE),0) -> 0 | O61: =SUM(C61:N61) -> 0
A62: 04201-ILLAPEL | B62: 105487-P.S.R. CAÑAS UNO | C62: =IFERROR(VLOOKUP($B62,'Datos Infanto'!$G$3:$T$82,2,FALSE),0) -> 0 | D62: =IFERROR(VLOOKUP($B62,'Datos Infanto'!$G$3:$T$82,3,FALSE),0) -> 0 | E62: =IFERROR(VLOOKUP($B62,'Datos Infanto'!$G$3:$T$82,4,FALSE),0) -> 0 | F62: =IFERROR(VLOOKUP($B62,'Datos Infanto'!$G$3:$T$82,5,FALSE),0) -> 0 | G62: =IFERROR(VLOOKUP($B62,'Datos Infanto'!$G$3:$T$82,6,FALSE),0) -> 0 | H62: =IFERROR(VLOOKUP($B62,'Datos Infanto'!$G$3:$T$82,7,FALSE),0) -> 0 | I62: =IFERROR(VLOOKUP($B62,'Datos Infanto'!$G$3:$T$82,8,FALSE),0) -> 0 | J62: =IFERROR(VLOOKUP($B62,'Datos Infanto'!$G$3:$T$82,9,FALSE),0) -> 0 | K62: =IFERROR(VLOOKUP($B62,'Datos Infanto'!$G$3:$T$82,10,FALSE),0) -> 0 | L62: =IFERROR(VLOOKUP($B62,'Datos Infanto'!$G$3:$T$82,11,FALSE),0) -> 0 | M62: =IFERROR(VLOOKUP($B62,'Datos Infanto'!$G$3:$T$82,12,FALSE),0) -> 0 | N62: =IFERROR(VLOOKUP($B62,'Datos Infanto'!$G$3:$T$82,13,FALSE),0) -> 0 | O62: =SUM(C62:N62) -> 0
A63: 04201-ILLAPEL | B63: 105496-P.S.R. PINTACURA SUR | C63: =IFERROR(VLOOKUP($B63,'Datos Infanto'!$G$3:$T$82,2,FALSE),0) -> 0 | D63: =IFERROR(VLOOKUP($B63,'Datos Infanto'!$G$3:$T$82,3,FALSE),0) -> 0 | E63: =IFERROR(VLOOKUP($B63,'Datos Infanto'!$G$3:$T$82,4,FALSE),0) -> 0 | F63: =IFERROR(VLOOKUP($B63,'Datos Infanto'!$G$3:$T$82,5,FALSE),0) -> 0 | G63: =IFERROR(VLOOKUP($B63,'Datos Infanto'!$G$3:$T$82,6,FALSE),0) -> 0 | H63: =IFERROR(VLOOKUP($B63,'Datos Infanto'!$G$3:$T$82,7,FALSE),0) -> 0 | I63: =IFERROR(VLOOKUP($B63,'Datos Infanto'!$G$3:$T$82,8,FALSE),0) -> 0 | J63: =IFERROR(VLOOKUP($B63,'Datos Infanto'!$G$3:$T$82,9,FALSE),0) -> 0 | K63: =IFERROR(VLOOKUP($B63,'Datos Infanto'!$G$3:$T$82,10,FALSE),0) -> 0 | L63: =IFERROR(VLOOKUP($B63,'Datos Infanto'!$G$3:$T$82,11,FALSE),0) -> 0 | M63: =IFERROR(VLOOKUP($B63,'Datos Infanto'!$G$3:$T$82,12,FALSE),0) -> 0 | N63: =IFERROR(VLOOKUP($B63,'Datos Infanto'!$G$3:$T$82,13,FALSE),0) -> 0 | O63: =SUM(C63:N63) -> 0
... A65: 04201-ILLAPEL | B65: 200366-CESFAM URBANO II | C65: =IFERROR(VLOOKUP($B65,'Datos Infanto'!$G$3:$T$82,2,FALSE),0) -> 0 | D65: =IFERROR(VLOOKUP($B65,'Datos Infanto'!$G$3:$T$82,3,FALSE),0) -> 0 | E65: =IFERROR(VLOOKUP($B65,'Datos Infanto'!$G$3:$T$82,4,FALSE),0) -> 0 | F65: =IFERROR(VLOOKUP($B65,'Datos Infanto'!$G$3:$T$82,5,FALSE),0) -> 0 | G65: =IFERROR(VLOOKUP($B65,'Datos Infanto'!$G$3:$T$82,6,FALSE),0) -> 0 | H65: =IFERROR(VLOOKUP($B65,'Datos Infanto'!$G$3:$T$82,7,FALSE),0) -> 0 | I65: =IFERROR(VLOOKUP($B65,'Datos Infanto'!$G$3:$T$82,8,FALSE),0) -> 1 | J65: =IFERROR(VLOOKUP($B65,'Datos Infanto'!$G$3:$T$82,9,FALSE),0) -> 0 | K65: =IFERROR(VLOOKUP($B65,'Datos Infanto'!$G$3:$T$82,10,FALSE),0) -> 0 | L65: =IFERROR(VLOOKUP($B65,'Datos Infanto'!$G$3:$T$82,11,FALSE),0) -> 1 | M65: =IFERROR(VLOOKUP($B65,'Datos Infanto'!$G$3:$T$82,12,FALSE),0) -> 1 | N65: =IFERROR(VLOOKUP($B65,'Datos Infanto'!$G$3:$T$82,13,FALSE),0) -> 0 | O65: =SUM(C65:N65) -> 3
A66: TOTAL ILLAPEL | C66: =SUM(C52:C65) -> 0 | D66: =SUM(D52:D65) -> 0 | E66: =SUM(E52:E65) -> 1 | F66: =SUM(F52:F65) -> 1 | G66: =SUM(G52:G65) -> 0 | H66: =SUM(H52:H65) -> 1 | I66: =SUM(I52:I65) -> 1 | J66: =SUM(J52:J65) -> 2 | ... O66: =SUM(O52:O65) -> 14
A67: 04202-CANELA | B67: 105309-CES. RURAL CANELA | C67: =IFERROR(VLOOKUP($B67,'Datos Infanto'!$G$3:$T$82,2,FALSE),0) -> 0 | D67: =IFERROR(VLOOKUP($B67,'Datos Infanto'!$G$3:$T$82,3,FALSE),0) -> 0 | E67: =IFERROR(VLOOKUP($B67,'Datos Infanto'!$G$3:$T$82,4,FALSE),0) -> 1 | F67: =IFERROR(VLOOKUP($B67,'Datos Infanto'!$G$3:$T$82,5,FALSE),0) -> 0 | G67: =IFERROR(VLOOKUP($B67,'Datos Infanto'!$G$3:$T$82,6,FALSE),0) -> 0 | H67: =IFERROR(VLOOKUP($B67,'Datos Infanto'!$G$3:$T$82,7,FALSE),0) -> 0 | I67: =IFERROR(VLOOKUP($B67,'Datos Infanto'!$G$3:$T$82,8,FALSE),0) -> 1 | J67: =IFERROR(VLOOKUP($B67,'Datos Infanto'!$G$3:$T$82,9,FALSE),0) -> 1 | K67: =IFERROR(VLOOKUP($B67,'Datos Infanto'!$G$3:$T$82,10,FALSE),0) -> 0 | L67: =IFERROR(VLOOKUP($B67,'Datos Infanto'!$G$3:$T$82,11,FALSE),0) -> 1 | M67: =IFERROR(VLOOKUP($B67,'Datos Infanto'!$G$3:$T$82,12,FALSE),0) -> 1 | N67: =IFERROR(VLOOKUP($B67,'Datos Infanto'!$G$3:$T$82,13,FALSE),0) -> 1 | O67: =SUM(C67:N67) -> 6
A68: 04202-CANELA | B68: 105450-P.S.R. MINCHA NORTE | C68: =IFERROR(VLOOKUP($B68,'Datos Infanto'!$G$3:$T$82,2,FALSE),0) -> 0 | D68: =IFERROR(VLOOKUP($B68,'Datos Infanto'!$G$3:$T$82,3,FALSE),0) -> 0 | E68: =IFERROR(VLOOKUP($B68,'Datos Infanto'!$G$3:$T$82,4,FALSE),0) -> 0 | F68: =IFERROR(VLOOKUP($B68,'Datos Infanto'!$G$3:$T$82,5,FALSE),0) -> 0 | G68: =IFERROR(VLOOKUP($B68,'Datos Infanto'!$G$3:$T$82,6,FALSE),0) -> 0 | H68: =IFERROR(VLOOKUP($B68,'Datos Infanto'!$G$3:$T$82,7,FALSE),0) -> 0 | I68: =IFERROR(VLOOKUP($B68,'Datos Infanto'!$G$3:$T$82,8,FALSE),0) -> 0 | J68: =IFERROR(VLOOKUP($B68,'Datos Infanto'!$G$3:$T$82,9,FALSE),0) -> 0 | K68: =IFERROR(VLOOKUP($B68,'Datos Infanto'!$G$3:$T$82,10,FALSE),0) -> 0 | L68: =IFERROR(VLOOKUP($B68,'Datos Infanto'!$G$3:$T$82,11,FALSE),0) -> 0 | M68: =IFERROR(VLOOKUP($B68,'Datos Infanto'!$G$3:$T$82,12,FALSE),0) -> 0 | N68: =IFERROR(VLOOKUP($B68,'Datos Infanto'!$G$3:$T$82,13,FALSE),0) -> 0 | O68: =SUM(C68:N68) -> 0
A69: 04202-CANELA | B69: 105451-P.S.R. AGUA FRIA | C69: =IFERROR(VLOOKUP($B69,'Datos Infanto'!$G$3:$T$82,2,FALSE),0) -> 0 | D69: =IFERROR(VLOOKUP($B69,'Datos Infanto'!$G$3:$T$82,3,FALSE),0) -> 0 | E69: =IFERROR(VLOOKUP($B69,'Datos Infanto'!$G$3:$T$82,4,FALSE),0) -> 0 | F69: =IFERROR(VLOOKUP($B69,'Datos Infanto'!$G$3:$T$82,5,FALSE),0) -> 0 | G69: =IFERROR(VLOOKUP($B69,'Datos Infanto'!$G$3:$T$82,6,FALSE),0) -> 0 | H69: =IFERROR(VLOOKUP($B69,'Datos Infanto'!$G$3:$T$82,7,FALSE),0) -> 0 | I69: =IFERROR(VLOOKUP($B69,'Datos Infanto'!$G$3:$T$82,8,FALSE),0) -> 0 | J69: =IFERROR(VLOOKUP($B69,'Datos Infanto'!$G$3:$T$82,9,FALSE),0) -> 0 | K69: =IFERROR(VLOOKUP($B69,'Datos Infanto'!$G$3:$T$82,10,FALSE),0) -> 0 | L69: =IFERROR(VLOOKUP($B69,'Datos Infanto'!$G$3:$T$82,11,FALSE),0) -> 0 | M69: =IFERROR(VLOOKUP($B69,'Datos Infanto'!$G$3:$T$82,12,FALSE),0) -> 0 | N69: =IFERROR(VLOOKUP($B69,'Datos Infanto'!$G$3:$T$82,13,FALSE),0) -> 0 | O69: =SUM(C69:N69) -> 0
A70: 04202-CANELA | B70: 105482-P.S.R. CANELA ALTA | C70: =IFERROR(VLOOKUP($B70,'Datos Infanto'!$G$3:$T$82,2,FALSE),0) -> 0 | D70: =IFERROR(VLOOKUP($B70,'Datos Infanto'!$G$3:$T$82,3,FALSE),0) -> 0 | E70: =IFERROR(VLOOKUP($B70,'Datos Infanto'!$G$3:$T$82,4,FALSE),0) -> 0 | F70: =IFERROR(VLOOKUP($B70,'Datos Infanto'!$G$3:$T$82,5,FALSE),0) -> 0 | G70: =IFERROR(VLOOKUP($B70,'Datos Infanto'!$G$3:$T$82,6,FALSE),0) -> 0 | H70: =IFERROR(VLOOKUP($B70,'Datos Infanto'!$G$3:$T$82,7,FALSE),0) -> 0 | I70: =IFERROR(VLOOKUP($B70,'Datos Infanto'!$G$3:$T$82,8,FALSE),0) -> 0 | J70: =IFERROR(VLOOKUP($B70,'Datos Infanto'!$G$3:$T$82,9,FALSE),0) -> 0 | K70: =IFERROR(VLOOKUP($B70,'Datos Infanto'!$G$3:$T$82,10,FALSE),0) -> 0 | L70: =IFERROR(VLOOKUP($B70,'Datos Infanto'!$G$3:$T$82,11,FALSE),0) -> 0 | M70: =IFERROR(VLOOKUP($B70,'Datos Infanto'!$G$3:$T$82,12,FALSE),0) -> 0 | N70: =IFERROR(VLOOKUP($B70,'Datos Infanto'!$G$3:$T$82,13,FALSE),0) -> 0 | O70: =SUM(C70:N70) -> 0
A71: 04202-CANELA | B71: 105483-P.S.R. LOS RULOS | C71: =IFERROR(VLOOKUP($B71,'Datos Infanto'!$G$3:$T$82,2,FALSE),0) -> 0 | D71: =IFERROR(VLOOKUP($B71,'Datos Infanto'!$G$3:$T$82,3,FALSE),0) -> 0 | E71: =IFERROR(VLOOKUP($B71,'Datos Infanto'!$G$3:$T$82,4,FALSE),0) -> 0 | F71: =IFERROR(VLOOKUP($B71,'Datos Infanto'!$G$3:$T$82,5,FALSE),0) -> 0 | G71: =IFERROR(VLOOKUP($B71,'Datos Infanto'!$G$3:$T$82,6,FALSE),0) -> 0 | H71: =IFERROR(VLOOKUP($B71,'Datos Infanto'!$G$3:$T$82,7,FALSE),0) -> 0 | I71: =IFERROR(VLOOKUP($B71,'Datos Infanto'!$G$3:$T$82,8,FALSE),0) -> 0 | J71: =IFERROR(VLOOKUP($B71,'Datos Infanto'!$G$3:$T$82,9,FALSE),0) -> 0 | K71: =IFERROR(VLOOKUP($B71,'Datos Infanto'!$G$3:$T$82,10,FALSE),0) -> 0 | L71: =IFERROR(VLOOKUP($B71,'Datos Infanto'!$G$3:$T$82,11,FALSE),0) -> 0 | M71: =IFERROR(VLOOKUP($B71,'Datos Infanto'!$G$3:$T$82,12,FALSE),0) -> 0 | N71: =IFERROR(VLOOKUP($B71,'Datos Infanto'!$G$3:$T$82,13,FALSE),0) -> 0 | O71: =SUM(C71:N71) -> 0
A72: 04202-CANELA | B72: 105484-P.S.R. HUENTELAUQUEN | C72: =IFERROR(VLOOKUP($B72,'Datos Infanto'!$G$3:$T$82,2,FALSE),0) -> 0 | D72: =IFERROR(VLOOKUP($B72,'Datos Infanto'!$G$3:$T$82,3,FALSE),0) -> 0 | E72: =IFERROR(VLOOKUP($B72,'Datos Infanto'!$G$3:$T$82,4,FALSE),0) -> 0 | F72: =IFERROR(VLOOKUP($B72,'Datos Infanto'!$G$3:$T$82,5,FALSE),0) -> 0 | G72: =IFERROR(VLOOKUP($B72,'Datos Infanto'!$G$3:$T$82,6,FALSE),0) -> 0 | H72: =IFERROR(VLOOKUP($B72,'Datos Infanto'!$G$3:$T$82,7,FALSE),0) -> 0 | I72: =IFERROR(VLOOKUP($B72,'Datos Infanto'!$G$3:$T$82,8,FALSE),0) -> 0 | J72: =IFERROR(VLOOKUP($B72,'Datos Infanto'!$G$3:$T$82,9,FALSE),0) -> 0 | K72: =IFERROR(VLOOKUP($B72,'Datos Infanto'!$G$3:$T$82,10,FALSE),0) -> 0 | L72: =IFERROR(VLOOKUP($B72,'Datos Infanto'!$G$3:$T$82,11,FALSE),0) -> 0 | M72: =IFERROR(VLOOKUP($B72,'Datos Infanto'!$G$3:$T$82,12,FALSE),0) -> 0 | N72: =IFERROR(VLOOKUP($B72,'Datos Infanto'!$G$3:$T$82,13,FALSE),0) -> 0 | O72: =SUM(C72:N72) -> 0
A73: 04202-CANELA | B73: 105488-P.S.R. ESPIRITU SANTO | C73: =IFERROR(VLOOKUP($B73,'Datos Infanto'!$G$3:$T$82,2,FALSE),0) -> 0 | D73: =IFERROR(VLOOKUP($B73,'Datos Infanto'!$G$3:$T$82,3,FALSE),0) -> 0 | E73: =IFERROR(VLOOKUP($B73,'Datos Infanto'!$G$3:$T$82,4,FALSE),0) -> 0 | F73: =IFERROR(VLOOKUP($B73,'Datos Infanto'!$G$3:$T$82,5,FALSE),0) -> 0 | G73: =IFERROR(VLOOKUP($B73,'Datos Infanto'!$G$3:$T$82,6,FALSE),0) -> 0 | H73: =IFERROR(VLOOKUP($B73,'Datos Infanto'!$G$3:$T$82,7,FALSE),0) -> 0 | I73: =IFERROR(VLOOKUP($B73,'Datos Infanto'!$G$3:$T$82,8,FALSE),0) -> 0 | J73: =IFERROR(VLOOKUP($B73,'Datos Infanto'!$G$3:$T$82,9,FALSE),0) -> 0 | K73: =IFERROR(VLOOKUP($B73,'Datos Infanto'!$G$3:$T$82,10,FALSE),0) -> 0 | L73: =IFERROR(VLOOKUP($B73,'Datos Infanto'!$G$3:$T$82,11,FALSE),0) -> 0 | M73: =IFERROR(VLOOKUP($B73,'Datos Infanto'!$G$3:$T$82,12,FALSE),0) -> 0 | N73: =IFERROR(VLOOKUP($B73,'Datos Infanto'!$G$3:$T$82,13,FALSE),0) -> 0 | O73: =SUM(C73:N73) -> 0
A74: 04202-CANELA | B74: 105493-P.S.R. MINCHA SUR | C74: =IFERROR(VLOOKUP($B74,'Datos Infanto'!$G$3:$T$82,2,FALSE),0) -> 0 | D74: =IFERROR(VLOOKUP($B74,'Datos Infanto'!$G$3:$T$82,3,FALSE),0) -> 0 | E74: =IFERROR(VLOOKUP($B74,'Datos Infanto'!$G$3:$T$82,4,FALSE),0) -> 0 | F74: =IFERROR(VLOOKUP($B74,'Datos Infanto'!$G$3:$T$82,5,FALSE),0) -> 0 | G74: =IFERROR(VLOOKUP($B74,'Datos Infanto'!$G$3:$T$82,6,FALSE),0) -> 0 | H74: =IFERROR(VLOOKUP($B74,'Datos Infanto'!$G$3:$T$82,7,FALSE),0) -> 0 | I74: =IFERROR(VLOOKUP($B74,'Datos Infanto'!$G$3:$T$82,8,FALSE),0) -> 0 | J74: =IFERROR(VLOOKUP($B74,'Datos Infanto'!$G$3:$T$82,9,FALSE),0) -> 0 | K74: =IFERROR(VLOOKUP($B74,'Datos Infanto'!$G$3:$T$82,10,FALSE),0) -> 0 | L74: =IFERROR(VLOOKUP($B74,'Datos Infanto'!$G$3:$T$82,11,FALSE),0) -> 0 | M74: =IFERROR(VLOOKUP($B74,'Datos Infanto'!$G$3:$T$82,12,FALSE),0) -> 0 | N74: =IFERROR(VLOOKUP($B74,'Datos Infanto'!$G$3:$T$82,13,FALSE),0) -> 0 | O74: =SUM(C74:N74) -> 0
A75: 04202-CANELA | B75: 105497-P.S.R. JABONERIA | C75: =IFERROR(VLOOKUP($B75,'Datos Infanto'!$G$3:$T$82,2,FALSE),0) -> 0 | D75: =IFERROR(VLOOKUP($B75,'Datos Infanto'!$G$3:$T$82,3,FALSE),0) -> 0 | E75: =IFERROR(VLOOKUP($B75,'Datos Infanto'!$G$3:$T$82,4,FALSE),0) -> 0 | F75: =IFERROR(VLOOKUP($B75,'Datos Infanto'!$G$3:$T$82,5,FALSE),0) -> 0 | G75: =IFERROR(VLOOKUP($B75,'Datos Infanto'!$G$3:$T$82,6,FALSE),0) -> 0 | H75: =IFERROR(VLOOKUP($B75,'Datos Infanto'!$G$3:$T$82,7,FALSE),0) -> 0 | I75: =IFERROR(VLOOKUP($B75,'Datos Infanto'!$G$3:$T$82,8,FALSE),0) -> 0 | J75: =IFERROR(VLOOKUP($B75,'Datos Infanto'!$G$3:$T$82,9,FALSE),0) -> 0 | K75: =IFERROR(VLOOKUP($B75,'Datos Infanto'!$G$3:$T$82,10,FALSE),0) -> 0 | L75: =IFERROR(VLOOKUP($B75,'Datos Infanto'!$G$3:$T$82,11,FALSE),0) -> 0 | M75: =IFERROR(VLOOKUP($B75,'Datos Infanto'!$G$3:$T$82,12,FALSE),0) -> 0 | N75: =IFERROR(VLOOKUP($B75,'Datos Infanto'!$G$3:$T$82,13,FALSE),0) -> 0 | O75: =SUM(C75:N75) -> 0
A76: 04202-CANELA | B76: 105498-P.S.R. QUEBRADA DE LINARES | C76: =IFERROR(VLOOKUP($B76,'Datos Infanto'!$G$3:$T$82,2,FALSE),0) -> 0 | D76: =IFERROR(VLOOKUP($B76,'Datos Infanto'!$G$3:$T$82,3,FALSE),0) -> 0 | E76: =IFERROR(VLOOKUP($B76,'Datos Infanto'!$G$3:$T$82,4,FALSE),0) -> 0 | F76: =IFERROR(VLOOKUP($B76,'Datos Infanto'!$G$3:$T$82,5,FALSE),0) -> 0 | G76: =IFERROR(VLOOKUP($B76,'Datos Infanto'!$G$3:$T$82,6,FALSE),0) -> 0 | H76: =IFERROR(VLOOKUP($B76,'Datos Infanto'!$G$3:$T$82,7,FALSE),0) -> 0 | I76: =IFERROR(VLOOKUP($B76,'Datos Infanto'!$G$3:$T$82,8,FALSE),0) -> 0 | J76: =IFERROR(VLOOKUP($B76,'Datos Infanto'!$G$3:$T$82,9,FALSE),0) -> 0 | K76: =IFERROR(VLOOKUP($B76,'Datos Infanto'!$G$3:$T$82,10,FALSE),0) -> 0 | L76: =IFERROR(VLOOKUP($B76,'Datos Infanto'!$G$3:$T$82,11,FALSE),0) -> 0 | M76: =IFERROR(VLOOKUP($B76,'Datos Infanto'!$G$3:$T$82,12,FALSE),0) -> 0 | N76: =IFERROR(VLOOKUP($B76,'Datos Infanto'!$G$3:$T$82,13,FALSE),0) -> 0 | O76: =SUM(C76:N76) -> 0
A77: TOTAL CANELA | C77: =SUM(C67:C76) -> 0 | D77: =SUM(D67:D76) -> 0 | E77: =SUM(E67:E76) -> 1 | F77: =SUM(F67:F76) -> 0 | G77: =SUM(G67:G76) -> 0 | H77: =SUM(H67:H76) -> 0 | I77: =SUM(I67:I76) -> 1 | J77: =SUM(J67:J76) -> 1 | ... O77: =SUM(O67:O76) -> 6
A78: 04203-LOS VILOS | B78: 105478-P.S.R. CAIMANES | C78: =IFERROR(VLOOKUP($B78,'Datos Infanto'!$G$3:$T$82,2,FALSE),0) -> 0 | D78: =IFERROR(VLOOKUP($B78,'Datos Infanto'!$G$3:$T$82,3,FALSE),0) -> 0 | E78: =IFERROR(VLOOKUP($B78,'Datos Infanto'!$G$3:$T$82,4,FALSE),0) -> 1 | F78: =IFERROR(VLOOKUP($B78,'Datos Infanto'!$G$3:$T$82,5,FALSE),0) -> 1 | G78: =IFERROR(VLOOKUP($B78,'Datos Infanto'!$G$3:$T$82,6,FALSE),0) -> 0 | H78: =IFERROR(VLOOKUP($B78,'Datos Infanto'!$G$3:$T$82,7,FALSE),0) -> 0 | I78: =IFERROR(VLOOKUP($B78,'Datos Infanto'!$G$3:$T$82,8,FALSE),0) -> 0 | J78: =IFERROR(VLOOKUP($B78,'Datos Infanto'!$G$3:$T$82,9,FALSE),0) -> 1 | K78: =IFERROR(VLOOKUP($B78,'Datos Infanto'!$G$3:$T$82,10,FALSE),0) -> 1 | L78: =IFERROR(VLOOKUP($B78,'Datos Infanto'!$G$3:$T$82,11,FALSE),0) -> 0 | M78: =IFERROR(VLOOKUP($B78,'Datos Infanto'!$G$3:$T$82,12,FALSE),0) -> 0 | N78: =IFERROR(VLOOKUP($B78,'Datos Infanto'!$G$3:$T$82,13,FALSE),0) -> 0 | O78: =SUM(C78:N78) -> 4
A79: 04203-LOS VILOS | B79: 105479-P.S.R. GUANGUALI | C79: =IFERROR(VLOOKUP($B79,'Datos Infanto'!$G$3:$T$82,2,FALSE),0) -> 0 | D79: =IFERROR(VLOOKUP($B79,'Datos Infanto'!$G$3:$T$82,3,FALSE),0) -> 0 | E79: =IFERROR(VLOOKUP($B79,'Datos Infanto'!$G$3:$T$82,4,FALSE),0) -> 0 | F79: =IFERROR(VLOOKUP($B79,'Datos Infanto'!$G$3:$T$82,5,FALSE),0) -> 0 | G79: =IFERROR(VLOOKUP($B79,'Datos Infanto'!$G$3:$T$82,6,FALSE),0) -> 0 | H79: =IFERROR(VLOOKUP($B79,'Datos Infanto'!$G$3:$T$82,7,FALSE),0) -> 0 | I79: =IFERROR(VLOOKUP($B79,'Datos Infanto'!$G$3:$T$82,8,FALSE),0) -> 0 | J79: =IFERROR(VLOOKUP($B79,'Datos Infanto'!$G$3:$T$82,9,FALSE),0) -> 0 | K79: =IFERROR(VLOOKUP($B79,'Datos Infanto'!$G$3:$T$82,10,FALSE),0) -> 0 | L79: =IFERROR(VLOOKUP($B79,'Datos Infanto'!$G$3:$T$82,11,FALSE),0) -> 0 | M79: =IFERROR(VLOOKUP($B79,'Datos Infanto'!$G$3:$T$82,12,FALSE),0) -> 0 | N79: =IFERROR(VLOOKUP($B79,'Datos Infanto'!$G$3:$T$82,13,FALSE),0) -> 0 | O79: =SUM(C79:N79) -> 0
A80: 04203-LOS VILOS | B80: 105480-P.S.R. QUILIMARI | C80: =IFERROR(VLOOKUP($B80,'Datos Infanto'!$G$3:$T$82,2,FALSE),0) -> 0 | D80: =IFERROR(VLOOKUP($B80,'Datos Infanto'!$G$3:$T$82,3,FALSE),0) -> 0 | E80: =IFERROR(VLOOKUP($B80,'Datos Infanto'!$G$3:$T$82,4,FALSE),0) -> 0 | F80: =IFERROR(VLOOKUP($B80,'Datos Infanto'!$G$3:$T$82,5,FALSE),0) -> 0 | G80: =IFERROR(VLOOKUP($B80,'Datos Infanto'!$G$3:$T$82,6,FALSE),0) -> 0 | H80: =IFERROR(VLOOKUP($B80,'Datos Infanto'!$G$3:$T$82,7,FALSE),0) -> 0 | I80: =IFERROR(VLOOKUP($B80,'Datos Infanto'!$G$3:$T$82,8,FALSE),0) -> 0 | J80: =IFERROR(VLOOKUP($B80,'Datos Infanto'!$G$3:$T$82,9,FALSE),0) -> 0 | K80: =IFERROR(VLOOKUP($B80,'Datos Infanto'!$G$3:$T$82,10,FALSE),0) -> 0 | L80: =IFERROR(VLOOKUP($B80,'Datos Infanto'!$G$3:$T$82,11,FALSE),0) -> 0 | M80: =IFERROR(VLOOKUP($B80,'Datos Infanto'!$G$3:$T$82,12,FALSE),0) -> 0 | N80: =IFERROR(VLOOKUP($B80,'Datos Infanto'!$G$3:$T$82,13,FALSE),0) -> 0 | O80: =SUM(C80:N80) -> 0
A81: 04203-LOS VILOS | B81: 105481-P.S.R. TILAMA | C81: =IFERROR(VLOOKUP($B81,'Datos Infanto'!$G$3:$T$82,2,FALSE),0) -> 0 | D81: =IFERROR(VLOOKUP($B81,'Datos Infanto'!$G$3:$T$82,3,FALSE),0) -> 0 | E81: =IFERROR(VLOOKUP($B81,'Datos Infanto'!$G$3:$T$82,4,FALSE),0) -> 0 | F81: =IFERROR(VLOOKUP($B81,'Datos Infanto'!$G$3:$T$82,5,FALSE),0) -> 0 | G81: =IFERROR(VLOOKUP($B81,'Datos Infanto'!$G$3:$T$82,6,FALSE),0) -> 0 | H81: =IFERROR(VLOOKUP($B81,'Datos Infanto'!$G$3:$T$82,7,FALSE),0) -> 0 | I81: =IFERROR(VLOOKUP($B81,'Datos Infanto'!$G$3:$T$82,8,FALSE),0) -> 0 | J81: =IFERROR(VLOOKUP($B81,'Datos Infanto'!$G$3:$T$82,9,FALSE),0) -> 0 | K81: =IFERROR(VLOOKUP($B81,'Datos Infanto'!$G$3:$T$82,10,FALSE),0) -> 0 | L81: =IFERROR(VLOOKUP($B81,'Datos Infanto'!$G$3:$T$82,11,FALSE),0) -> 0 | M81: =IFERROR(VLOOKUP($B81,'Datos Infanto'!$G$3:$T$82,12,FALSE),0) -> 0 | N81: =IFERROR(VLOOKUP($B81,'Datos Infanto'!$G$3:$T$82,13,FALSE),0) -> 0 | O81: =SUM(C81:N81) -> 0
A82: 04203-LOS VILOS | B82: 105511-P.S.R. LOS CONDORES | C82: =IFERROR(VLOOKUP($B82,'Datos Infanto'!$G$3:$T$82,2,FALSE),0) -> 0 | D82: =IFERROR(VLOOKUP($B82,'Datos Infanto'!$G$3:$T$82,3,FALSE),0) -> 0 | E82: =IFERROR(VLOOKUP($B82,'Datos Infanto'!$G$3:$T$82,4,FALSE),0) -> 0 | F82: =IFERROR(VLOOKUP($B82,'Datos Infanto'!$G$3:$T$82,5,FALSE),0) -> 0 | G82: =IFERROR(VLOOKUP($B82,'Datos Infanto'!$G$3:$T$82,6,FALSE),0) -> 0 | H82: =IFERROR(VLOOKUP($B82,'Datos Infanto'!$G$3:$T$82,7,FALSE),0) -> 0 | I82: =IFERROR(VLOOKUP($B82,'Datos Infanto'!$G$3:$T$82,8,FALSE),0) -> 0 | J82: =IFERROR(VLOOKUP($B82,'Datos Infanto'!$G$3:$T$82,9,FALSE),0) -> 0 | K82: =IFERROR(VLOOKUP($B82,'Datos Infanto'!$G$3:$T$82,10,FALSE),0) -> 0 | L82: =IFERROR(VLOOKUP($B82,'Datos Infanto'!$G$3:$T$82,11,FALSE),0) -> 0 | M82: =IFERROR(VLOOKUP($B82,'Datos Infanto'!$G$3:$T$82,12,FALSE),0) -> 0 | N82: =IFERROR(VLOOKUP($B82,'Datos Infanto'!$G$3:$T$82,13,FALSE),0) -> 0 | O82: =SUM(C82:N82) -> 0
A83: TOTAL LOS VILOS | C83: =SUM(C78:C82) -> 0 | D83: =SUM(D78:D82) -> 0 | E83: =SUM(E78:E82) -> 1 | F83: =SUM(F78:F82) -> 1 | G83: =SUM(G78:G82) -> 0 | H83: =SUM(H78:H82) -> 0 | I83: =SUM(I78:I82) -> 0 | J83: =SUM(J78:J82) -> 1 | ... O83: =SUM(O78:O82) -> 4
A84: 04204-SALAMANCA | B84: 105452-P.S.R. CUNCUMEN | C84: =IFERROR(VLOOKUP($B84,'Datos Infanto'!$G$3:$T$82,2,FALSE),0) -> 0 | D84: =IFERROR(VLOOKUP($B84,'Datos Infanto'!$G$3:$T$82,3,FALSE),0) -> 0 | E84: =IFERROR(VLOOKUP($B84,'Datos Infanto'!$G$3:$T$82,4,FALSE),0) -> 0 | F84: =IFERROR(VLOOKUP($B84,'Datos Infanto'!$G$3:$T$82,5,FALSE),0) -> 0 | G84: =IFERROR(VLOOKUP($B84,'Datos Infanto'!$G$3:$T$82,6,FALSE),0) -> 0 | H84: =IFERROR(VLOOKUP($B84,'Datos Infanto'!$G$3:$T$82,7,FALSE),0) -> 0 | I84: =IFERROR(VLOOKUP($B84,'Datos Infanto'!$G$3:$T$82,8,FALSE),0) -> 0 | J84: =IFERROR(VLOOKUP($B84,'Datos Infanto'!$G$3:$T$82,9,FALSE),0) -> 0 | K84: =IFERROR(VLOOKUP($B84,'Datos Infanto'!$G$3:$T$82,10,FALSE),0) -> 0 | L84: =IFERROR(VLOOKUP($B84,'Datos Infanto'!$G$3:$T$82,11,FALSE),0) -> 1 | M84: =IFERROR(VLOOKUP($B84,'Datos Infanto'!$G$3:$T$82,12,FALSE),0) -> 0 | N84: =IFERROR(VLOOKUP($B84,'Datos Infanto'!$G$3:$T$82,13,FALSE),0) -> 0 | O84: =SUM(C84:N84) -> 1
A85: 04204-SALAMANCA | B85: 105453-P.S.R. TRANQUILLA | C85: =IFERROR(VLOOKUP($B85,'Datos Infanto'!$G$3:$T$82,2,FALSE),0) -> 0 | D85: =IFERROR(VLOOKUP($B85,'Datos Infanto'!$G$3:$T$82,3,FALSE),0) -> 0 | E85: =IFERROR(VLOOKUP($B85,'Datos Infanto'!$G$3:$T$82,4,FALSE),0) -> 0 | F85: =IFERROR(VLOOKUP($B85,'Datos Infanto'!$G$3:$T$82,5,FALSE),0) -> 0 | G85: =IFERROR(VLOOKUP($B85,'Datos Infanto'!$G$3:$T$82,6,FALSE),0) -> 0 | H85: =IFERROR(VLOOKUP($B85,'Datos Infanto'!$G$3:$T$82,7,FALSE),0) -> 0 | I85: =IFERROR(VLOOKUP($B85,'Datos Infanto'!$G$3:$T$82,8,FALSE),0) -> 0 | J85: =IFERROR(VLOOKUP($B85,'Datos Infanto'!$G$3:$T$82,9,FALSE),0) -> 0 | K85: =IFERROR(VLOOKUP($B85,'Datos Infanto'!$G$3:$T$82,10,FALSE),0) -> 0 | L85: =IFERROR(VLOOKUP($B85,'Datos Infanto'!$G$3:$T$82,11,FALSE),0) -> 0 | M85: =IFERROR(VLOOKUP($B85,'Datos Infanto'!$G$3:$T$82,12,FALSE),0) -> 0 | N85: =IFERROR(VLOOKUP($B85,'Datos Infanto'!$G$3:$T$82,13,FALSE),0) -> 0 | O85: =SUM(C85:N85) -> 0
A86: 04204-SALAMANCA | B86: 105454-P.S.R. CUNLAGUA | C86: =IFERROR(VLOOKUP($B86,'Datos Infanto'!$G$3:$T$82,2,FALSE),0) -> 1 | D86: =IFERROR(VLOOKUP($B86,'Datos Infanto'!$G$3:$T$82,3,FALSE),0) -> 0 | E86: =IFERROR(VLOOKUP($B86,'Datos Infanto'!$G$3:$T$82,4,FALSE),0) -> 1 | F86: =IFERROR(VLOOKUP($B86,'Datos Infanto'!$G$3:$T$82,5,FALSE),0) -> 0 | G86: =IFERROR(VLOOKUP($B86,'Datos Infanto'!$G$3:$T$82,6,FALSE),0) -> 0 | H86: =IFERROR(VLOOKUP($B86,'Datos Infanto'!$G$3:$T$82,7,FALSE),0) -> 1 | I86: =IFERROR(VLOOKUP($B86,'Datos Infanto'!$G$3:$T$82,8,FALSE),0) -> 0 | J86: =IFERROR(VLOOKUP($B86,'Datos Infanto'!$G$3:$T$82,9,FALSE),0) -> 0 | K86: =IFERROR(VLOOKUP($B86,'Datos Infanto'!$G$3:$T$82,10,FALSE),0) -> 2 | L86: =IFERROR(VLOOKUP($B86,'Datos Infanto'!$G$3:$T$82,11,FALSE),0) -> 0 | M86: =IFERROR(VLOOKUP($B86,'Datos Infanto'!$G$3:$T$82,12,FALSE),0) -> 1 | N86: =IFERROR(VLOOKUP($B86,'Datos Infanto'!$G$3:$T$82,13,FALSE),0) -> 0 | O86: =SUM(C86:N86) -> 6
A87: 04204-SALAMANCA | B87: 105455-P.S.R. CHILLEPIN | C87: =IFERROR(VLOOKUP($B87,'Datos Infanto'!$G$3:$T$82,2,FALSE),0) -> 0 | D87: =IFERROR(VLOOKUP($B87,'Datos Infanto'!$G$3:$T$82,3,FALSE),0) -> 0 | E87: =IFERROR(VLOOKUP($B87,'Datos Infanto'!$G$3:$T$82,4,FALSE),0) -> 0 | F87: =IFERROR(VLOOKUP($B87,'Datos Infanto'!$G$3:$T$82,5,FALSE),0) -> 0 | G87: =IFERROR(VLOOKUP($B87,'Datos Infanto'!$G$3:$T$82,6,FALSE),0) -> 0 | H87: =IFERROR(VLOOKUP($B87,'Datos Infanto'!$G$3:$T$82,7,FALSE),0) -> 0 | I87: =IFERROR(VLOOKUP($B87,'Datos Infanto'!$G$3:$T$82,8,FALSE),0) -> 0 | J87: =IFERROR(VLOOKUP($B87,'Datos Infanto'!$G$3:$T$82,9,FALSE),0) -> 0 | K87: =IFERROR(VLOOKUP($B87,'Datos Infanto'!$G$3:$T$82,10,FALSE),0) -> 0 | L87: =IFERROR(VLOOKUP($B87,'Datos Infanto'!$G$3:$T$82,11,FALSE),0) -> 0 | M87: =IFERROR(VLOOKUP($B87,'Datos Infanto'!$G$3:$T$82,12,FALSE),0) -> 0 | N87: =IFERROR(VLOOKUP($B87,'Datos Infanto'!$G$3:$T$82,13,FALSE),0) -> 1 | O87: =SUM(C87:N87) -> 1
A88: 04204-SALAMANCA | B88: 105456-P.S.R. LLIMPO | C88: =IFERROR(VLOOKUP($B88,'Datos Infanto'!$G$3:$T$82,2,FALSE),0) -> 0 | D88: =IFERROR(VLOOKUP($B88,'Datos Infanto'!$G$3:$T$82,3,FALSE),0) -> 0 | E88: =IFERROR(VLOOKUP($B88,'Datos Infanto'!$G$3:$T$82,4,FALSE),0) -> 0 | F88: =IFERROR(VLOOKUP($B88,'Datos Infanto'!$G$3:$T$82,5,FALSE),0) -> 0 | G88: =IFERROR(VLOOKUP($B88,'Datos Infanto'!$G$3:$T$82,6,FALSE),0) -> 0 | H88: =IFERROR(VLOOKUP($B88,'Datos Infanto'!$G$3:$T$82,7,FALSE),0) -> 0 | I88: =IFERROR(VLOOKUP($B88,'Datos Infanto'!$G$3:$T$82,8,FALSE),0) -> 0 | J88: =IFERROR(VLOOKUP($B88,'Datos Infanto'!$G$3:$T$82,9,FALSE),0) -> 0 | K88: =IFERROR(VLOOKUP($B88,'Datos Infanto'!$G$3:$T$82,10,FALSE),0) -> 0 | L88: =IFERROR(VLOOKUP($B88,'Datos Infanto'!$G$3:$T$82,11,FALSE),0) -> 0 | M88: =IFERROR(VLOOKUP($B88,'Datos Infanto'!$G$3:$T$82,12,FALSE),0) -> 0 | N88: =IFERROR(VLOOKUP($B88,'Datos Infanto'!$G$3:$T$82,13,FALSE),0) -> 0 | O88: =SUM(C88:N88) -> 0
A89: 04204-SALAMANCA | B89: 105457-P.S.R. SAN AGUSTIN | C89: =IFERROR(VLOOKUP($B89,'Datos Infanto'!$G$3:$T$82,2,FALSE),0) -> 0 | D89: =IFERROR(VLOOKUP($B89,'Datos Infanto'!$G$3:$T$82,3,FALSE),0) -> 0 | E89: =IFERROR(VLOOKUP($B89,'Datos Infanto'!$G$3:$T$82,4,FALSE),0) -> 0 | F89: =IFERROR(VLOOKUP($B89,'Datos Infanto'!$G$3:$T$82,5,FALSE),0) -> 0 | G89: =IFERROR(VLOOKUP($B89,'Datos Infanto'!$G$3:$T$82,6,FALSE),0) -> 0 | H89: =IFERROR(VLOOKUP($B89,'Datos Infanto'!$G$3:$T$82,7,FALSE),0) -> 0 | I89: =IFERROR(VLOOKUP($B89,'Datos Infanto'!$G$3:$T$82,8,FALSE),0) -> 0 | J89: =IFERROR(VLOOKUP($B89,'Datos Infanto'!$G$3:$T$82,9,FALSE),0) -> 0 | K89: =IFERROR(VLOOKUP($B89,'Datos Infanto'!$G$3:$T$82,10,FALSE),0) -> 0 | L89: =IFERROR(VLOOKUP($B89,'Datos Infanto'!$G$3:$T$82,11,FALSE),0) -> 0 | M89: =IFERROR(VLOOKUP($B89,'Datos Infanto'!$G$3:$T$82,12,FALSE),0) -> 0 | N89: =IFERROR(VLOOKUP($B89,'Datos Infanto'!$G$3:$T$82,13,FALSE),0) -> 0 | O89: =SUM(C89:N89) -> 0
A90: 04204-SALAMANCA | B90: 105458-P.S.R. TAHUINCO | C90: =IFERROR(VLOOKUP($B90,'Datos Infanto'!$G$3:$T$82,2,FALSE),0) -> 0 | D90: =IFERROR(VLOOKUP($B90,'Datos Infanto'!$G$3:$T$82,3,FALSE),0) -> 0 | E90: =IFERROR(VLOOKUP($B90,'Datos Infanto'!$G$3:$T$82,4,FALSE),0) -> 0 | F90: =IFERROR(VLOOKUP($B90,'Datos Infanto'!$G$3:$T$82,5,FALSE),0) -> 0 | G90: =IFERROR(VLOOKUP($B90,'Datos Infanto'!$G$3:$T$82,6,FALSE),0) -> 0 | H90: =IFERROR(VLOOKUP($B90,'Datos Infanto'!$G$3:$T$82,7,FALSE),0) -> 0 | I90: =IFERROR(VLOOKUP($B90,'Datos Infanto'!$G$3:$T$82,8,FALSE),0) -> 0 | J90: =IFERROR(VLOOKUP($B90,'Datos Infanto'!$G$3:$T$82,9,FALSE),0) -> 0 | K90: =IFERROR(VLOOKUP($B90,'Datos Infanto'!$G$3:$T$82,10,FALSE),0) -> 0 | L90: =IFERROR(VLOOKUP($B90,'Datos Infanto'!$G$3:$T$82,11,FALSE),0) -> 0 | M90: =IFERROR(VLOOKUP($B90,'Datos Infanto'!$G$3:$T$82,12,FALSE),0) -> 0 | N90: =IFERROR(VLOOKUP($B90,'Datos Infanto'!$G$3:$T$82,13,FALSE),0) -> 0 | O90: =SUM(C90:N90) -> 0
A91: 04204-SALAMANCA | B91: 105491-P.S.R. QUELEN BAJO | C91: =IFERROR(VLOOKUP($B91,'Datos Infanto'!$G$3:$T$82,2,FALSE),0) -> 0 | D91: =IFERROR(VLOOKUP($B91,'Datos Infanto'!$G$3:$T$82,3,FALSE),0) -> 0 | E91: =IFERROR(VLOOKUP($B91,'Datos Infanto'!$G$3:$T$82,4,FALSE),0) -> 0 | F91: =IFERROR(VLOOKUP($B91,'Datos Infanto'!$G$3:$T$82,5,FALSE),0) -> 0 | G91: =IFERROR(VLOOKUP($B91,'Datos Infanto'!$G$3:$T$82,6,FALSE),0) -> 0 | H91: =IFERROR(VLOOKUP($B91,'Datos Infanto'!$G$3:$T$82,7,FALSE),0) -> 0 | I91: =IFERROR(VLOOKUP($B91,'Datos Infanto'!$G$3:$T$82,8,FALSE),0) -> 0 | J91: =IFERROR(VLOOKUP($B91,'Datos Infanto'!$G$3:$T$82,9,FALSE),0) -> 0 | K91: =IFERROR(VLOOKUP($B91,'Datos Infanto'!$G$3:$T$82,10,FALSE),0) -> 0 | L91: =IFERROR(VLOOKUP($B91,'Datos Infanto'!$G$3:$T$82,11,FALSE),0) -> 0 | M91: =IFERROR(VLOOKUP($B91,'Datos Infanto'!$G$3:$T$82,12,FALSE),0) -> 0 | N91: =IFERROR(VLOOKUP($B91,'Datos Infanto'!$G$3:$T$82,13,FALSE),0) -> 0 | O91: =SUM(C91:N91) -> 0
A92: 04204-SALAMANCA | B92: 105492-P.S.R. CAMISA | C92: =IFERROR(VLOOKUP($B92,'Datos Infanto'!$G$3:$T$82,2,FALSE),0) -> 0 | D92: =IFERROR(VLOOKUP($B92,'Datos Infanto'!$G$3:$T$82,3,FALSE),0) -> 0 | E92: =IFERROR(VLOOKUP($B92,'Datos Infanto'!$G$3:$T$82,4,FALSE),0) -> 0 | F92: =IFERROR(VLOOKUP($B92,'Datos Infanto'!$G$3:$T$82,5,FALSE),0) -> 0 | G92: =IFERROR(VLOOKUP($B92,'Datos Infanto'!$G$3:$T$82,6,FALSE),0) -> 0 | H92: =IFERROR(VLOOKUP($B92,'Datos Infanto'!$G$3:$T$82,7,FALSE),0) -> 0 | I92: =IFERROR(VLOOKUP($B92,'Datos Infanto'!$G$3:$T$82,8,FALSE),0) -> 0 | J92: =IFERROR(VLOOKUP($B92,'Datos Infanto'!$G$3:$T$82,9,FALSE),0) -> 0 | K92: =IFERROR(VLOOKUP($B92,'Datos Infanto'!$G$3:$T$82,10,FALSE),0) -> 0 | L92: =IFERROR(VLOOKUP($B92,'Datos Infanto'!$G$3:$T$82,11,FALSE),0) -> 0 | M92: =IFERROR(VLOOKUP($B92,'Datos Infanto'!$G$3:$T$82,12,FALSE),0) -> 0 | N92: =IFERROR(VLOOKUP($B92,'Datos Infanto'!$G$3:$T$82,13,FALSE),0) -> 0 | O92: =SUM(C92:N92) -> 0
A93: 04204-SALAMANCA | B93: 105501-P.S.R. ARBOLEDA GRANDE | C93: =IFERROR(VLOOKUP($B93,'Datos Infanto'!$G$3:$T$82,2,FALSE),0) -> 0 | D93: =IFERROR(VLOOKUP($B93,'Datos Infanto'!$G$3:$T$82,3,FALSE),0) -> 0 | E93: =IFERROR(VLOOKUP($B93,'Datos Infanto'!$G$3:$T$82,4,FALSE),0) -> 0 | F93: =IFERROR(VLOOKUP($B93,'Datos Infanto'!$G$3:$T$82,5,FALSE),0) -> 0 | G93: =IFERROR(VLOOKUP($B93,'Datos Infanto'!$G$3:$T$82,6,FALSE),0) -> 0 | H93: =IFERROR(VLOOKUP($B93,'Datos Infanto'!$G$3:$T$82,7,FALSE),0) -> 0 | I93: =IFERROR(VLOOKUP($B93,'Datos Infanto'!$G$3:$T$82,8,FALSE),0) -> 0 | J93: =IFERROR(VLOOKUP($B93,'Datos Infanto'!$G$3:$T$82,9,FALSE),0) -> 0 | K93: =IFERROR(VLOOKUP($B93,'Datos Infanto'!$G$3:$T$82,10,FALSE),0) -> 0 | L93: =IFERROR(VLOOKUP($B93,'Datos Infanto'!$G$3:$T$82,11,FALSE),0) -> 0 | M93: =IFERROR(VLOOKUP($B93,'Datos Infanto'!$G$3:$T$82,12,FALSE),0) -> 0 | N93: =IFERROR(VLOOKUP($B93,'Datos Infanto'!$G$3:$T$82,13,FALSE),0) -> 0 | O93: =SUM(C93:N93) -> 0
A94: TOTAL SALAMANCA | C94: =SUM(C84:C93) -> 1 | D94: =SUM(D84:D93) -> 0 | E94: =SUM(E84:E93) -> 1 | F94: =SUM(F84:F93) -> 0 | G94: =SUM(G84:G93) -> 0 | H94: =SUM(H84:H93) -> 1 | I94: =SUM(I84:I93) -> 0 | J94: =SUM(J84:J93) -> 0 | ... O94: =SUM(O84:O93) -> 8
A95: 04301-OVALLE | B95: 105315-CES. RURAL C. DE TAMAYA | C95: =IFERROR(VLOOKUP($B95,'Datos Infanto'!$G$3:$T$82,2,FALSE),0) -> 1 | D95: =IFERROR(VLOOKUP($B95,'Datos Infanto'!$G$3:$T$82,3,FALSE),0) -> 0 | E95: =IFERROR(VLOOKUP($B95,'Datos Infanto'!$G$3:$T$82,4,FALSE),0) -> 1 | F95: =IFERROR(VLOOKUP($B95,'Datos Infanto'!$G$3:$T$82,5,FALSE),0) -> 0 | G95: =IFERROR(VLOOKUP($B95,'Datos Infanto'!$G$3:$T$82,6,FALSE),0) -> 3 | H95: =IFERROR(VLOOKUP($B95,'Datos Infanto'!$G$3:$T$82,7,FALSE),0) -> 1 | I95: =IFERROR(VLOOKUP($B95,'Datos Infanto'!$G$3:$T$82,8,FALSE),0) -> 1 | J95: =IFERROR(VLOOKUP($B95,'Datos Infanto'!$G$3:$T$82,9,FALSE),0) -> 0 | K95: =IFERROR(VLOOKUP($B95,'Datos Infanto'!$G$3:$T$82,10,FALSE),0) -> 0 | L95: =IFERROR(VLOOKUP($B95,'Datos Infanto'!$G$3:$T$82,11,FALSE),0) -> 0 | M95: =IFERROR(VLOOKUP($B95,'Datos Infanto'!$G$3:$T$82,12,FALSE),0) -> 0 | N95: =IFERROR(VLOOKUP($B95,'Datos Infanto'!$G$3:$T$82,13,FALSE),0) -> 0 | O95: =SUM(C95:N95) -> 7
A96: 04301-OVALLE | B96: 105317-CES. JORGE JORDAN D. | C96: =IFERROR(VLOOKUP($B96,'Datos Infanto'!$G$3:$T$82,2,FALSE),0) -> 1 | D96: =IFERROR(VLOOKUP($B96,'Datos Infanto'!$G$3:$T$82,3,FALSE),0) -> 1 | E96: =IFERROR(VLOOKUP($B96,'Datos Infanto'!$G$3:$T$82,4,FALSE),0) -> 1 | F96: =IFERROR(VLOOKUP($B96,'Datos Infanto'!$G$3:$T$82,5,FALSE),0) -> 1 | G96: =IFERROR(VLOOKUP($B96,'Datos Infanto'!$G$3:$T$82,6,FALSE),0) -> 1 | H96: =IFERROR(VLOOKUP($B96,'Datos Infanto'!$G$3:$T$82,7,FALSE),0) -> 1 | I96: =IFERROR(VLOOKUP($B96,'Datos Infanto'!$G$3:$T$82,8,FALSE),0) -> 0 | J96: =IFERROR(VLOOKUP($B96,'Datos Infanto'!$G$3:$T$82,9,FALSE),0) -> 1 | K96: =IFERROR(VLOOKUP($B96,'Datos Infanto'!$G$3:$T$82,10,FALSE),0) -> 1 | L96: =IFERROR(VLOOKUP($B96,'Datos Infanto'!$G$3:$T$82,11,FALSE),0) -> 1 | M96: =IFERROR(VLOOKUP($B96,'Datos Infanto'!$G$3:$T$82,12,FALSE),0) -> 1 | N96: =IFERROR(VLOOKUP($B96,'Datos Infanto'!$G$3:$T$82,13,FALSE),0) -> 1 | O96: =SUM(C96:N96) -> 11
A97: 04301-OVALLE | B97: 105322-CES. MARCOS MACUADA | C97: =IFERROR(VLOOKUP($B97,'Datos Infanto'!$G$3:$T$82,2,FALSE),0) -> 0 | D97: =IFERROR(VLOOKUP($B97,'Datos Infanto'!$G$3:$T$82,3,FALSE),0) -> 1 | E97: =IFERROR(VLOOKUP($B97,'Datos Infanto'!$G$3:$T$82,4,FALSE),0) -> 1 | F97: =IFERROR(VLOOKUP($B97,'Datos Infanto'!$G$3:$T$82,5,FALSE),0) -> 1 | G97: =IFERROR(VLOOKUP($B97,'Datos Infanto'!$G$3:$T$82,6,FALSE),0) -> 1 | H97: =IFERROR(VLOOKUP($B97,'Datos Infanto'!$G$3:$T$82,7,FALSE),0) -> 0 | I97: =IFERROR(VLOOKUP($B97,'Datos Infanto'!$G$3:$T$82,8,FALSE),0) -> 1 | J97: =IFERROR(VLOOKUP($B97,'Datos Infanto'!$G$3:$T$82,9,FALSE),0) -> 0 | K97: =IFERROR(VLOOKUP($B97,'Datos Infanto'!$G$3:$T$82,10,FALSE),0) -> 0 | L97: =IFERROR(VLOOKUP($B97,'Datos Infanto'!$G$3:$T$82,11,FALSE),0) -> 1 | M97: =IFERROR(VLOOKUP($B97,'Datos Infanto'!$G$3:$T$82,12,FALSE),0) -> 0 | N97: =IFERROR(VLOOKUP($B97,'Datos Infanto'!$G$3:$T$82,13,FALSE),0) -> 1 | O97: =SUM(C97:N97) -> 7
A98: 04301-OVALLE | B98: 105324-CES. SOTAQUI | C98: =IFERROR(VLOOKUP($B98,'Datos Infanto'!$G$3:$T$82,2,FALSE),0) -> 1 | D98: =IFERROR(VLOOKUP($B98,'Datos Infanto'!$G$3:$T$82,3,FALSE),0) -> 1 | E98: =IFERROR(VLOOKUP($B98,'Datos Infanto'!$G$3:$T$82,4,FALSE),0) -> 1 | F98: =IFERROR(VLOOKUP($B98,'Datos Infanto'!$G$3:$T$82,5,FALSE),0) -> 1 | G98: =IFERROR(VLOOKUP($B98,'Datos Infanto'!$G$3:$T$82,6,FALSE),0) -> 1 | H98: =IFERROR(VLOOKUP($B98,'Datos Infanto'!$G$3:$T$82,7,FALSE),0) -> 1 | I98: =IFERROR(VLOOKUP($B98,'Datos Infanto'!$G$3:$T$82,8,FALSE),0) -> 1 | J98: =IFERROR(VLOOKUP($B98,'Datos Infanto'!$G$3:$T$82,9,FALSE),0) -> 0 | K98: =IFERROR(VLOOKUP($B98,'Datos Infanto'!$G$3:$T$82,10,FALSE),0) -> 1 | L98: =IFERROR(VLOOKUP($B98,'Datos Infanto'!$G$3:$T$82,11,FALSE),0) -> 0 | M98: =IFERROR(VLOOKUP($B98,'Datos Infanto'!$G$3:$T$82,12,FALSE),0) -> 0 | N98: =IFERROR(VLOOKUP($B98,'Datos Infanto'!$G$3:$T$82,13,FALSE),0) -> 1 | O98: =SUM(C98:N98) -> 9
A99: 04301-OVALLE | B99: 105415-P.S.R. BARRAZA | C99: =IFERROR(VLOOKUP($B99,'Datos Infanto'!$G$3:$T$82,2,FALSE),0) -> 0 | D99: =IFERROR(VLOOKUP($B99,'Datos Infanto'!$G$3:$T$82,3,FALSE),0) -> 0 | E99: =IFERROR(VLOOKUP($B99,'Datos Infanto'!$G$3:$T$82,4,FALSE),0) -> 0 | F99: =IFERROR(VLOOKUP($B99,'Datos Infanto'!$G$3:$T$82,5,FALSE),0) -> 0 | G99: =IFERROR(VLOOKUP($B99,'Datos Infanto'!$G$3:$T$82,6,FALSE),0) -> 0 | H99: =IFERROR(VLOOKUP($B99,'Datos Infanto'!$G$3:$T$82,7,FALSE),0) -> 0 | I99: =IFERROR(VLOOKUP($B99,'Datos Infanto'!$G$3:$T$82,8,FALSE),0) -> 0 | J99: =IFERROR(VLOOKUP($B99,'Datos Infanto'!$G$3:$T$82,9,FALSE),0) -> 0 | K99: =IFERROR(VLOOKUP($B99,'Datos Infanto'!$G$3:$T$82,10,FALSE),0) -> 0 | L99: =IFERROR(VLOOKUP($B99,'Datos Infanto'!$G$3:$T$82,11,FALSE),0) -> 0 | M99: =IFERROR(VLOOKUP($B99,'Datos Infanto'!$G$3:$T$82,12,FALSE),0) -> 0 | N99: =IFERROR(VLOOKUP($B99,'Datos Infanto'!$G$3:$T$82,13,FALSE),0) -> 0 | O99: =SUM(C99:N99) -> 0
A100: 04301-OVALLE | B100: 105416-P.S.R. CAMARICO | C100: =IFERROR(VLOOKUP($B100,'Datos Infanto'!$G$3:$T$82,2,FALSE),0) -> 0 | D100: =IFERROR(VLOOKUP($B100,'Datos Infanto'!$G$3:$T$82,3,FALSE),0) -> 0 | E100: =IFERROR(VLOOKUP($B100,'Datos Infanto'!$G$3:$T$82,4,FALSE),0) -> 0 | F100: =IFERROR(VLOOKUP($B100,'Datos Infanto'!$G$3:$T$82,5,FALSE),0) -> 0 | G100: =IFERROR(VLOOKUP($B100,'Datos Infanto'!$G$3:$T$82,6,FALSE),0) -> 0 | H100: =IFERROR(VLOOKUP($B100,'Datos Infanto'!$G$3:$T$82,7,FALSE),0) -> 0 | I100: =IFERROR(VLOOKUP($B100,'Datos Infanto'!$G$3:$T$82,8,FALSE),0) -> 0 | J100: =IFERROR(VLOOKUP($B100,'Datos Infanto'!$G$3:$T$82,9,FALSE),0) -> 0 | K100: =IFERROR(VLOOKUP($B100,'Datos Infanto'!$G$3:$T$82,10,FALSE),0) -> 0 | L100: =IFERROR(VLOOKUP($B100,'Datos Infanto'!$G$3:$T$82,11,FALSE),0) -> 0 | M100: =IFERROR(VLOOKUP($B100,'Datos Infanto'!$G$3:$T$82,12,FALSE),0) -> 0 | N100: =IFERROR(VLOOKUP($B100,'Datos Infanto'!$G$3:$T$82,13,FALSE),0) -> 0 | O100: =SUM(C100:N100) -> 0
A101: 04301-OVALLE | B101: 105417-P.S.R. ALCONES BAJOS | C101: =IFERROR(VLOOKUP($B101,'Datos Infanto'!$G$3:$T$82,2,FALSE),0) -> 0 | D101: =IFERROR(VLOOKUP($B101,'Datos Infanto'!$G$3:$T$82,3,FALSE),0) -> 0 | E101: =IFERROR(VLOOKUP($B101,'Datos Infanto'!$G$3:$T$82,4,FALSE),0) -> 0 | F101: =IFERROR(VLOOKUP($B101,'Datos Infanto'!$G$3:$T$82,5,FALSE),0) -> 0 | G101: =IFERROR(VLOOKUP($B101,'Datos Infanto'!$G$3:$T$82,6,FALSE),0) -> 0 | H101: =IFERROR(VLOOKUP($B101,'Datos Infanto'!$G$3:$T$82,7,FALSE),0) -> 0 | I101: =IFERROR(VLOOKUP($B101,'Datos Infanto'!$G$3:$T$82,8,FALSE),0) -> 0 | J101: =IFERROR(VLOOKUP($B101,'Datos Infanto'!$G$3:$T$82,9,FALSE),0) -> 0 | K101: =IFERROR(VLOOKUP($B101,'Datos Infanto'!$G$3:$T$82,10,FALSE),0) -> 0 | L101: =IFERROR(VLOOKUP($B101,'Datos Infanto'!$G$3:$T$82,11,FALSE),0) -> 0 | M101: =IFERROR(VLOOKUP($B101,'Datos Infanto'!$G$3:$T$82,12,FALSE),0) -> 0 | N101: =IFERROR(VLOOKUP($B101,'Datos Infanto'!$G$3:$T$82,13,FALSE),0) -> 0 | O101: =SUM(C101:N101) -> 0
A102: 04301-OVALLE | B102: 105419-P.S.R. LAS SOSSAS | C102: =IFERROR(VLOOKUP($B102,'Datos Infanto'!$G$3:$T$82,2,FALSE),0) -> 0 | D102: =IFERROR(VLOOKUP($B102,'Datos Infanto'!$G$3:$T$82,3,FALSE),0) -> 0 | E102: =IFERROR(VLOOKUP($B102,'Datos Infanto'!$G$3:$T$82,4,FALSE),0) -> 0 | F102: =IFERROR(VLOOKUP($B102,'Datos Infanto'!$G$3:$T$82,5,FALSE),0) -> 0 | G102: =IFERROR(VLOOKUP($B102,'Datos Infanto'!$G$3:$T$82,6,FALSE),0) -> 0 | H102: =IFERROR(VLOOKUP($B102,'Datos Infanto'!$G$3:$T$82,7,FALSE),0) -> 0 | I102: =IFERROR(VLOOKUP($B102,'Datos Infanto'!$G$3:$T$82,8,FALSE),0) -> 0 | J102: =IFERROR(VLOOKUP($B102,'Datos Infanto'!$G$3:$T$82,9,FALSE),0) -> 0 | K102: =IFERROR(VLOOKUP($B102,'Datos Infanto'!$G$3:$T$82,10,FALSE),0) -> 0 | L102: =IFERROR(VLOOKUP($B102,'Datos Infanto'!$G$3:$T$82,11,FALSE),0) -> 0 | M102: =IFERROR(VLOOKUP($B102,'Datos Infanto'!$G$3:$T$82,12,FALSE),0) -> 0 | N102: =IFERROR(VLOOKUP($B102,'Datos Infanto'!$G$3:$T$82,13,FALSE),0) -> 0 | O102: =SUM(C102:N102) -> 0
...

Sheet Datos Infanto
A1: Idestablecimiento | B1: Establecimineto | C1: Comuna | D1: Mes | E1: Total
A2: 105100 | B2: =IFERROR(VLOOKUP($A2,[1]Establecimientos!$A$1:$E$175,3,FALSE),0) -> 105100-HOSPITAL LA SERENA | C2: =IFERROR(VLOOKUP($A2,[1]Establecimientos!$A$1:$E$175,4,FALSE),0) -> 04101-LA SERENA | D2: 9 | E2: 0
A3: 105103 | B3: =IFERROR(VLOOKUP($A3,[1]Establecimientos!$A$1:$E$175,3,FALSE),0) -> 105103-HOSPITAL ILLAPEL | C3: =IFERROR(VLOOKUP($A3,[1]Establecimientos!$A$1:$E$175,4,FALSE),0) -> 04201-ILLAPEL | D3: 1 | E3: 1 | G3: Suma de Total | H3: Etiquetas de columna
A4: 105103 | B4: =IFERROR(VLOOKUP($A4,[1]Establecimientos!$A$1:$E$175,3,FALSE),0) -> 105103-HOSPITAL ILLAPEL | C4: =IFERROR(VLOOKUP($A4,[1]Establecimientos!$A$1:$E$175,4,FALSE),0) -> 04201-ILLAPEL | D4: 2 | E4: 1 | G4: Etiquetas de fila | H4: 1 | I4: 2 | J4: 3 | K4: 4 | L4: 5 | M4: 6 | N4: 7 | O4: 8 | P4: 9 | Q4: 10 | R4: 11 | S4: 12 | T4: Total general
A5: 105103 | B5: =IFERROR(VLOOKUP($A5,[1]Establecimientos!$A$1:$E$175,3,FALSE),0) -> 105103-HOSPITAL ILLAPEL | C5: =IFERROR(VLOOKUP($A5,[1]Establecimientos!$A$1:$E$175,4,FALSE),0) -> 04201-ILLAPEL | D5: 3 | E5: 1 | G5: 04101-LA SERENA | H5: 6 | I5: 4 | J5: 5 | K5: 4 | L5: 9 | M5: 4 | N5: 6 | O5: 6 | P5: 6 | Q5: 5 | R5: 5 | S5: 7 | T5: 67
A6: 105103 | B6: =IFERROR(VLOOKUP($A6,[1]Establecimientos!$A$1:$E$175,3,FALSE),0) -> 105103-HOSPITAL ILLAPEL | C6: =IFERROR(VLOOKUP($A6,[1]Establecimientos!$A$1:$E$175,4,FALSE),0) -> 04201-ILLAPEL | D6: 4 | E6: 1 | G6: 105100-HOSPITAL LA SERENA | P6: 0 | T6: 0
A7: 105103 | B7: =IFERROR(VLOOKUP($A7,[1]Establecimientos!$A$1:$E$175,3,FALSE),0) -> 105103-HOSPITAL ILLAPEL | C7: =IFERROR(VLOOKUP($A7,[1]Establecimientos!$A$1:$E$175,4,FALSE),0) -> 04201-ILLAPEL | D7: 5 | E7: 1 | G7: 105300-CES. CARDENAL CARO | H7: 1 | L7: 2 | N7: 1 | O7: 1 | Q7: 1 | R7: 1 | S7: 1 | T7: 8
A8: 105104 | B8: =IFERROR(VLOOKUP($A8,[1]Establecimientos!$A$1:$E$175,3,FALSE),0) -> 105104-HOSPITAL SALAMANCA | C8: =IFERROR(VLOOKUP($A8,[1]Establecimientos!$A$1:$E$175,4,FALSE),0) -> 04204-SALAMANCA | D8: 1 | E8: 0 | G8: 105301-CES. LAS COMPAÑIAS | H8: 1 | I8: 0 | J8: 1 | K8: 1 | L8: 1 | M8: 0 | N8: 1 | O8: 1 | P8: 1 | Q8: 1 | R8: 0 | S8: 1 | T8: 9
A9: 105104 | B9: =IFERROR(VLOOKUP($A9,[1]Establecimientos!$A$1:$E$175,3,FALSE),0) -> 105104-HOSPITAL SALAMANCA | C9: =IFERROR(VLOOKUP($A9,[1]Establecimientos!$A$1:$E$175,4,FALSE),0) -> 04204-SALAMANCA | D9: 2 | E9: 0 | G9: 105302-CES. PEDRO AGUIRRE C. | H9: 1 | I9: 1 | J9: 1 | K9: 1 | L9: 1 | M9: 1 | N9: 1 | O9: 1 | P9: 1 | Q9: 1 | R9: 1 | S9: 1 | T9: 12
A10: 105104 | B10: =IFERROR(VLOOKUP($A10,[1]Establecimientos!$A$1:$E$175,3,FALSE),0) -> 105104-HOSPITAL SALAMANCA | C10: =IFERROR(VLOOKUP($A10,[1]Establecimientos!$A$1:$E$175,4,FALSE),0) -> 04204-SALAMANCA | D10: 3 | E10: 0 | G10: 105313-CES. SCHAFFHAUSER | H10: 1 | I10: 1 | J10: 0 | K10: 1 | L10: 2 | M10: 1 | N10: 1 | O10: 1 | P10: 1 | Q10: 1 | R10: 1 | S10: 1 | T10: 12
A11: 105104 | B11: =IFERROR(VLOOKUP($A11,[1]Establecimientos!$A$1:$E$175,3,FALSE),0) -> 105104-HOSPITAL SALAMANCA | C11: =IFERROR(VLOOKUP($A11,[1]Establecimientos!$A$1:$E$175,4,FALSE),0) -> 04204-SALAMANCA | D11: 4 | E11: 0 | G11: 105319-CES. CARDENAL R.S.H. | H11: 1 | I11: 1 | J11: 1 | K11: 1 | L11: 1 | M11: 1 | N11: 1 | O11: 1 | P11: 1 | Q11: 0 | R11: 0 | S11: 1 | T11: 10
A12: 105104 | B12: =IFERROR(VLOOKUP($A12,[1]Establecimientos!$A$1:$E$175,3,FALSE),0) -> 105104-HOSPITAL SALAMANCA | C12: =IFERROR(VLOOKUP($A12,[1]Establecimientos!$A$1:$E$175,4,FALSE),0) -> 04204-SALAMANCA | D12: 6 | E12: 1 | G12: 105325-CESFAM JUAN PABLO II | I12: 0 | J12: 1 | L12: 1 | M12: 1 | O12: 1 | P12: 1 | Q12: 1 | R12: 1 | S12: 1 | T12: 8
A13: 105104 | B13: =IFERROR(VLOOKUP($A13,[1]Establecimientos!$A$1:$E$175,3,FALSE),0) -> 105104-HOSPITAL SALAMANCA | C13: =IFERROR(VLOOKUP($A13,[1]Establecimientos!$A$1:$E$175,4,FALSE),0) -> 04204-SALAMANCA | D13: 8 | E13: 1 | G13: 105400-P.S.R. ALGARROBITO | H13: 1 | I13: 1 | J13: 1 | K13: 0 | L13: 1 | M13: 0 | N13: 1 | O13: 0 | P13: 1 | R13: 1 | T13: 7
A14: 105104 | B14: =IFERROR(VLOOKUP($A14,[1]Establecimientos!$A$1:$E$175,3,FALSE),0) -> 105104-HOSPITAL SALAMANCA | C14: =IFERROR(VLOOKUP($A14,[1]Establecimientos!$A$1:$E$175,4,FALSE),0) -> 04204-SALAMANCA | D14: 9 | E14: 1 | G14: 105401-P.S.R. LAS ROJAS | N14: 0 | Q14: 0 | R14: 0 | S14: 0 | T14: 0
A15: 105104 | B15: =IFERROR(VLOOKUP($A15,[1]Establecimientos!$A$1:$E$175,3,FALSE),0) -> 105104-HOSPITAL SALAMANCA | C15: =IFERROR(VLOOKUP($A15,[1]Establecimientos!$A$1:$E$175,4,FALSE),0) -> 04204-SALAMANCA | D15: 10 | E15: 1 | G15: 105402-P.S.R. EL ROMERO | R15: 0 | S15: 0 | T15: 0
A16: 105104 | B16: =IFERROR(VLOOKUP($A16,[1]Establecimientos!$A$1:$E$175,3,FALSE),0) -> 105104-HOSPITAL SALAMANCA | C16: =IFERROR(VLOOKUP($A16,[1]Establecimientos!$A$1:$E$175,4,FALSE),0) -> 04204-SALAMANCA | D16: 11 | E16: 1 | G16: 105499-P.S.R. LAMBERT | S16: 1 | T16: 1
A17: 105104 | B17: =IFERROR(VLOOKUP($A17,[1]Establecimientos!$A$1:$E$175,3,FALSE),0) -> 105104-HOSPITAL SALAMANCA | C17: =IFERROR(VLOOKUP($A17,[1]Establecimientos!$A$1:$E$175,4,FALSE),0) -> 04204-SALAMANCA | D17: 12 | E17: 0 | G17: 200402-CECOF ARCOS DE PINAMAR | H17: 0 | T17: 0
A18: 105105 | B18: =IFERROR(VLOOKUP($A18,[1]Establecimientos!$A$1:$E$175,3,FALSE),0) -> 105105-HOSPITAL COMBARBALÁ | C18: =IFERROR(VLOOKUP($A18,[1]Establecimientos!$A$1:$E$175,4,FALSE),0) -> 04302-COMBARBALÁ | D18: 1 | E18: 1 | G18: 04102-COQUIMBO | H18: 5 | I18: 3 | J18: 4 | K18: 7 | L18: 8 | M18: 5 | N18: 5 | O18: 5 | P18: 7 | Q18: 8 | R18: 8 | S18: 7 | T18: 72
A19: 105105 | B19: =IFERROR(VLOOKUP($A19,[1]Establecimientos!$A$1:$E$175,3,FALSE),0) -> 105105-HOSPITAL COMBARBALÁ | C19: =IFERROR(VLOOKUP($A19,[1]Establecimientos!$A$1:$E$175,4,FALSE),0) -> 04302-COMBARBALÁ | D19: 2 | E19: 1 | G19: 105303-CES. SAN JUAN | H19: 1 | I19: 1 | J19: 0 | K19: 1 | L19: 1 | M19: 1 | N19: 1 | O19: 1 | P19: 1 | Q19: 1 | R19: 1 | S19: 1 | T19: 11
A20: 105105 | B20: =IFERROR(VLOOKUP($A20,[1]Establecimientos!$A$1:$E$175,3,FALSE),0) -> 105105-HOSPITAL COMBARBALÁ | C20: =IFERROR(VLOOKUP($A20,[1]Establecimientos!$A$1:$E$175,4,FALSE),0) -> 04302-COMBARBALÁ | D20: 4 | E20: 1 | G20: 105304-CES. SANTA CECILIA | H20: 1 | J20: 1 | K20: 0 | L20: 1 | M20: 1 | N20: 0 | O20: 1 | P20: 1 | Q20: 1 | R20: 2 | S20: 0 | T20: 9
A21: 105105 | B21: =IFERROR(VLOOKUP($A21,[1]Establecimientos!$A$1:$E$175,3,FALSE),0) -> 105105-HOSPITAL COMBARBALÁ | C21: =IFERROR(VLOOKUP($A21,[1]Establecimientos!$A$1:$E$175,4,FALSE),0) -> 04302-COMBARBALÁ | D21: 5 | E21: 1 | G21: 105305-CES. TIERRAS BLANCAS | H21: 1 | I21: 0 | J21: 1 | K21: 1 | L21: 1 | M21: 0 | N21: 1 | O21: 1 | P21: 1 | Q21: 1 | R21: 1 | S21: 1 | T21: 10
A22: 105105 | B22: =IFERROR(VLOOKUP($A22,[1]Establecimientos!$A$1:$E$175,3,FALSE),0) -> 105105-HOSPITAL COMBARBALÁ | C22: =IFERROR(VLOOKUP($A22,[1]Establecimientos!$A$1:$E$175,4,FALSE),0) -> 04302-COMBARBALÁ | D22: 6 | E22: 1 | G22: 105321-CES. RURAL TONGOY | J22: 0 | K22: 1 | L22: 1 | M22: 1 | N22: 0 | O22: 0 | P22: 1 | Q22: 1 | R22: 0 | S22: 1 | T22: 6
A23: 105105 | B23: =IFERROR(VLOOKUP($A23,[1]Establecimientos!$A$1:$E$175,3,FALSE),0) -> 105105-HOSPITAL COMBARBALÁ | C23: =IFERROR(VLOOKUP($A23,[1]Establecimientos!$A$1:$E$175,4,FALSE),0) -> 04302-COMBARBALÁ | D23: 7 | E23: 1 | G23: 105323-CES. DR. SERGIO AGUILAR | J23: 0 | K23: 1 | L23: 1 | M23: 1 | N23: 0 | O23: 1 | P23: 1 | Q23: 1 | R23: 0 | S23: 1 | T23: 7
A24: 105105 | B24: =IFERROR(VLOOKUP($A24,[1]Establecimientos!$A$1:$E$175,3,FALSE),0) -> 105105-HOSPITAL COMBARBALÁ | C24: =IFERROR(VLOOKUP($A24,[1]Establecimientos!$A$1:$E$175,4,FALSE),0) -> 04302-COMBARBALÁ | D24: 8 | E24: 0 | G24: 200494-CESFAM EL SAUCE | H24: 0 | I24: 1 | J24: 1 | K24: 1 | L24: 1 | M24: 0 | N24: 1 | P24: 1 | Q24: 1 | R24: 1 | S24: 1 | T24: 9
A25: 105105 | B25: =IFERROR(VLOOKUP($A25,[1]Establecimientos!$A$1:$E$175,3,FALSE),0) -> 105105-HOSPITAL COMBARBALÁ | C25: =IFERROR(VLOOKUP($A25,[1]Establecimientos!$A$1:$E$175,4,FALSE),0) -> 04302-COMBARBALÁ | D25: 9 | E25: 1 | G25: 200499-CESFAM PAN DE AZÚCAR | H25: 1 | I25: 1 | J25: 1 | K25: 1 | L25: 1 | M25: 1 | N25: 1 | O25: 1 | P25: 1 | Q25: 1 | R25: 1 | S25: 1 | T25: 12
A26: 105105 | B26: =IFERROR(VLOOKUP($A26,[1]Establecimientos!$A$1:$E$175,3,FALSE),0) -> 105105-HOSPITAL COMBARBALÁ | C26: =IFERROR(VLOOKUP($A26,[1]Establecimientos!$A$1:$E$175,4,FALSE),0) -> 04302-COMBARBALÁ | D26: 10 | E26: 0 | G26: 200607-CESFAM LILA CORTES | H26: 1 | J26: 0 | K26: 1 | L26: 1 | M26: 0 | N26: 1 | O26: 0 | P26: 0 | Q26: 1 | R26: 2 | S26: 1 | T26: 8
A27: 105105 | B27: =IFERROR(VLOOKUP($A27,[1]Establecimientos!$A$1:$E$175,3,FALSE),0) -> 105105-HOSPITAL COMBARBALÁ | C27: =IFERROR(VLOOKUP($A27,[1]Establecimientos!$A$1:$E$175,4,FALSE),0) -> 04302-COMBARBALÁ | D27: 11 | E27: 2 | G27: 04103-ANDACOLLO | H27: 1 | J27: 0 | K27: 1 | L27: 1 | M27: 0 | N27: 1 | O27: 2 | P27: 0 | Q27: 2 | R27: 1 | S27: 2 | T27: 11
A28: 105105 | B28: =IFERROR(VLOOKUP($A28,[1]Establecimientos!$A$1:$E$175,3,FALSE),0) -> 105105-HOSPITAL COMBARBALÁ | C28: =IFERROR(VLOOKUP($A28,[1]Establecimientos!$A$1:$E$175,4,FALSE),0) -> 04302-COMBARBALÁ | D28: 12 | E28: 1 | G28: 105106-HOSPITAL ANDACOLLO | H28: 1 | J28: 0 | K28: 1 | L28: 1 | M28: 0 | N28: 1 | O28: 2 | P28: 0 | Q28: 2 | R28: 1 | S28: 2 | T28: 11
A29: 105106 | B29: =IFERROR(VLOOKUP($A29,[1]Establecimientos!$A$1:$E$175,3,FALSE),0) -> 105106-HOSPITAL ANDACOLLO | C29: =IFERROR(VLOOKUP($A29,[1]Establecimientos!$A$1:$E$175,4,FALSE),0) -> 04103-ANDACOLLO | D29: 1 | E29: 1 | G29: 04104-LA HIGUERA | H29: 1 | I29: 2 | J29: 1 | K29: 1 | L29: 1 | M29: 1 | N29: 0 | O29: 1 | P29: 0 | Q29: 2 | T29: 10
A30: 105106 | B30: =IFERROR(VLOOKUP($A30,[1]Establecimientos!$A$1:$E$175,3,FALSE),0) -> 105106-HOSPITAL ANDACOLLO | C30: =IFERROR(VLOOKUP($A30,[1]Establecimientos!$A$1:$E$175,4,FALSE),0) -> 04103-ANDACOLLO | D30: 3 | E30: 0 | G30: 105314-CES. LA HIGUERA | H30: 1 | J30: 1 | K30: 1 | L30: 1 | M30: 1 | N30: 0 | O30: 1 | P30: 0 | Q30: 1 | T30: 7
A31: 105106 | B31: =IFERROR(VLOOKUP($A31,[1]Establecimientos!$A$1:$E$175,3,FALSE),0) -> 105106-HOSPITAL ANDACOLLO | C31: =IFERROR(VLOOKUP($A31,[1]Establecimientos!$A$1:$E$175,4,FALSE),0) -> 04103-ANDACOLLO | D31: 4 | E31: 1 | G31: 105500-P.S.R. CALETA HORNOS | Q31: 1 | T31: 1
A32: 105106 | B32: =IFERROR(VLOOKUP($A32,[1]Establecimientos!$A$1:$E$175,3,FALSE),0) -> 105106-HOSPITAL ANDACOLLO | C32: =IFERROR(VLOOKUP($A32,[1]Establecimientos!$A$1:$E$175,4,FALSE),0) -> 04103-ANDACOLLO | D32: 5 | E32: 1 | G32: 105505-P.S.R. LOS CHOROS | I32: 1 | T32: 1
A33: 105106 | B33: =IFERROR(VLOOKUP($A33,[1]Establecimientos!$A$1:$E$175,3,FALSE),0) -> 105106-HOSPITAL ANDACOLLO | C33: =IFERROR(VLOOKUP($A33,[1]Establecimientos!$A$1:$E$175,4,FALSE),0) -> 04103-ANDACOLLO | D33: 6 | E33: 0 | G33: 105506-P.S.R. EL TRAPICHE | I33: 1 | T33: 1
A34: 105106 | B34: =IFERROR(VLOOKUP($A34,[1]Establecimientos!$A$1:$E$175,3,FALSE),0) -> 105106-HOSPITAL ANDACOLLO | C34: =IFERROR(VLOOKUP($A34,[1]Establecimientos!$A$1:$E$175,4,FALSE),0) -> 04103-ANDACOLLO | D34: 7 | E34: 1 | G34: 04105-PAIHUANO | H34: 0 | I34: 0 | J34: 1 | K34: 1 | L34: 1 | M34: 1 | O34: 0 | P34: 3 | Q34: 2 | R34: 1 | S34: 1 | T34: 11
A35: 105106 | B35: =IFERROR(VLOOKUP($A35,[1]Establecimientos!$A$1:$E$175,3,FALSE),0) -> 105106-HOSPITAL ANDACOLLO | C35: =IFERROR(VLOOKUP($A35,[1]Establecimientos!$A$1:$E$175,4,FALSE),0) -> 04103-ANDACOLLO | D35: 8 | E35: 2 | G35: 105306-CES. PAIHUANO | H35: 0 | I35: 0 | J35: 1 | K35: 1 | L35: 1 | M35: 1 | O35: 0 | P35: 3 | Q35: 2 | R35: 1 | S35: 1 | T35: 11
A36: 105106 | B36: =IFERROR(VLOOKUP($A36,[1]Establecimientos!$A$1:$E$175,3,FALSE),0) -> 105106-HOSPITAL ANDACOLLO | C36: =IFERROR(VLOOKUP($A36,[1]Establecimientos!$A$1:$E$175,4,FALSE),0) -> 04103-ANDACOLLO | D36: 9 | E36: 0 | G36: 04106-VICUÑA | H36: 2 | I36: 2 | J36: 2 | K36: 2 | L36: 2 | M36: 2 | N36: 3 | O36: 1 | P36: 3 | Q36: 3 | R36: 2 | S36: 3 | T36: 27
A37: 105106 | B37: =IFERROR(VLOOKUP($A37,[1]Establecimientos!$A$1:$E$175,3,FALSE),0) -> 105106-HOSPITAL ANDACOLLO | C37: =IFERROR(VLOOKUP($A37,[1]Establecimientos!$A$1:$E$175,4,FALSE),0) -> 04103-ANDACOLLO | D37: 10 | E37: 2 | G37: 105107-HOSPITAL VICUÑA | H37: 0 | I37: 1 | J37: 1 | K37: 1 | L37: 1 | M37: 1 | N37: 1 | O37: 1 | P37: 1 | Q37: 1 | R37: 0 | S37: 1 | T37: 10
A38: 105106 | B38: =IFERROR(VLOOKUP($A38,[1]Establecimientos!$A$1:$E$175,3,FALSE),0) -> 105106-HOSPITAL ANDACOLLO | C38: =IFERROR(VLOOKUP($A38,[1]Establecimientos!$A$1:$E$175,4,FALSE),0) -> 04103-ANDACOLLO | D38: 11 | E38: 1 | G38: 105467-P.S.R. DIAGUITAS | H38: 1 | I38: 0 | J38: 0 | K38: 0 | N38: 1 | P38: 2 | Q38: 1 | R38: 1 | S38: 1 | T38: 7
A39: 105106 | B39: =IFERROR(VLOOKUP($A39,[1]Establecimientos!$A$1:$E$175,3,FALSE),0) -> 105106-HOSPITAL ANDACOLLO | C39: =IFERROR(VLOOKUP($A39,[1]Establecimientos!$A$1:$E$175,4,FALSE),0) -> 04103-ANDACOLLO | D39: 12 | E39: 2 | G39: 200538-CESFAM SAN ISIDRO CALINGASTA | H39: 1 | I39: 1 | J39: 1 | K39: 1 | L39: 1 | M39: 1 | N39: 1 | P39: 0 | Q39: 1 | R39: 1 | S39: 1 | T39: 10
A40: 105107 | B40: =IFERROR(VLOOKUP($A40,[1]Establecimientos!$A$1:$E$175,3,FALSE),0) -> 105107-HOSPITAL VICUÑA | C40: =IFERROR(VLOOKUP($A40,[1]Establecimientos!$A$1:$E$175,4,FALSE),0) -> 04106-VICUÑA | D40: 1 | E40: 0 | G40: 04201-ILLAPEL | H40: 1 | I40: 1 | J40: 2 | K40: 2 | L40: 1 | M40: 1 | N40: 1 | O40: 2 | P40: 2 | Q40: 2 | R40: 2 | S40: 2 | T40: 19
A41: 105107 | B41: =IFERROR(VLOOKUP($A41,[1]Establecimientos!$A$1:$E$175,3,FALSE),0) -> 105107-HOSPITAL VICUÑA | C41: =IFERROR(VLOOKUP($A41,[1]Establecimientos!$A$1:$E$175,4,FALSE),0) -> 04106-VICUÑA | D41: 2 | E41: 1 | G41: 105103-HOSPITAL ILLAPEL | H41: 1 | I41: 1 | J41: 1 | K41: 1 | L41: 1 | T41: 5
A42: 105107 | B42: =IFERROR(VLOOKUP($A42,[1]Establecimientos!$A$1:$E$175,3,FALSE),0) -> 105107-HOSPITAL VICUÑA | C42: =IFERROR(VLOOKUP($A42,[1]Establecimientos!$A$1:$E$175,4,FALSE),0) -> 04106-VICUÑA | D42: 3 | E42: 1 | G42: 105326-CESFAM SAN RAFAEL | I42: 0 | J42: 0 | K42: 1 | N42: 0 | O42: 1 | P42: 1 | Q42: 1 | R42: 1 | S42: 0 | T42: 5
A43: 105107 | B43: =IFERROR(VLOOKUP($A43,[1]Establecimientos!$A$1:$E$175,3,FALSE),0) -> 105107-HOSPITAL VICUÑA | C43: =IFERROR(VLOOKUP($A43,[1]Establecimientos!$A$1:$E$175,4,FALSE),0) -> 04106-VICUÑA | D43: 4 | E43: 1 | G43: 105444-P.S.R. HUINTIL | J43: 1 | K43: 0 | L43: 0 | M43: 1 | N43: 0 | O43: 1 | P43: 1 | S43: 2 | T43: 6
A44: 105107 | B44: =IFERROR(VLOOKUP($A44,[1]Establecimientos!$A$1:$E$175,3,FALSE),0) -> 105107-HOSPITAL VICUÑA | C44: =IFERROR(VLOOKUP($A44,[1]Establecimientos!$A$1:$E$175,4,FALSE),0) -> 04106-VICUÑA | D44: 5 | E44: 1 | G44: 200366-CESFAM URBANO II | N44: 1 | Q44: 1 | R44: 1 | T44: 3
A45: 105107 | B45: =IFERROR(VLOOKUP($A45,[1]Establecimientos!$A$1:$E$175,3,FALSE),0) -> 105107-HOSPITAL VICUÑA | C45: =IFERROR(VLOOKUP($A45,[1]Establecimientos!$A$1:$E$175,4,FALSE),0) -> 04106-VICUÑA | D45: 6 | E45: 1 | G45: 04202-CANELA | H45: 0 | I45: 0 | J45: 1 | K45: 0 | L45: 0 | M45: 0 | N45: 1 | O45: 1 | P45: 0 | Q45: 1 | R45: 1 | S45: 1 | T45: 6
A46: 105107 | B46: =IFERROR(VLOOKUP($A46,[1]Establecimientos!$A$1:$E$175,3,FALSE),0) -> 105107-HOSPITAL VICUÑA | C46: =IFERROR(VLOOKUP($A46,[1]Establecimientos!$A$1:$E$175,4,FALSE),0) -> 04106-VICUÑA | D46: 7 | E46: 1 | G46: 105309-CES. RURAL CANELA | H46: 0 | I46: 0 | J46: 1 | K46: 0 | L46: 0 | M46: 0 | N46: 1 | O46: 1 | P46: 0 | Q46: 1 | R46: 1 | S46: 1 | T46: 6
A47: 105107 | B47: =IFERROR(VLOOKUP($A47,[1]Establecimientos!$A$1:$E$175,3,FALSE),0) -> 105107-HOSPITAL VICUÑA | C47: =IFERROR(VLOOKUP($A47,[1]Establecimientos!$A$1:$E$175,4,FALSE),0) -> 04106-VICUÑA | D47: 8 | E47: 1 | G47: 04203-LOS VILOS | I47: 1 | J47: 2 | K47: 1 | L47: 1 | M47: 1 | O47: 2 | P47: 2 | Q47: 1 | R47: 1 | S47: 1 | T47: 13
A48: 105107 | B48: =IFERROR(VLOOKUP($A48,[1]Establecimientos!$A$1:$E$175,3,FALSE),0) -> 105107-HOSPITAL VICUÑA | C48: =IFERROR(VLOOKUP($A48,[1]Establecimientos!$A$1:$E$175,4,FALSE),0) -> 04106-VICUÑA | D48: 9 | E48: 1 | G48: 105108-HOSPITAL LOS VILOS | I48: 1 | J48: 1 | K48: 0 | L48: 1 | M48: 1 | O48: 1 | P48: 1 | Q48: 1 | R48: 1 | S48: 1 | T48: 9
A49: 105107 | B49: =IFERROR(VLOOKUP($A49,[1]Establecimientos!$A$1:$E$175,3,FALSE),0) -> 105107-HOSPITAL VICUÑA | C49: =IFERROR(VLOOKUP($A49,[1]Establecimientos!$A$1:$E$175,4,FALSE),0) -> 04106-VICUÑA | D49: 10 | E49: 1 | G49: 105478-P.S.R. CAIMANES | J49: 1 | K49: 1 | O49: 1 | P49: 1 | T49: 4
A50: 105107 | B50: =IFERROR(VLOOKUP($A50,[1]Establecimientos!$A$1:$E$175,3,FALSE),0) -> 105107-HOSPITAL VICUÑA | C50: =IFERROR(VLOOKUP($A50,[1]Establecimientos!$A$1:$E$175,4,FALSE),0) -> 04106-VICUÑA | D50: 11 | E50: 0 | G50: 105481-P.S.R. TILAMA | Q50: 0 | T50: 0
A51: 105107 | B51: =IFERROR(VLOOKUP($A51,[1]Establecimientos!$A$1:$E$175,3,FALSE),0) -> 105107-HOSPITAL VICUÑA | C51: =IFERROR(VLOOKUP($A51,[1]Establecimientos!$A$1:$E$175,4,FALSE),0) -> 04106-VICUÑA | D51: 12 | E51: 1 | G51: 04204-SALAMANCA | H51: 1 | I51: 0 | J51: 1 | K51: 0 | M51: 2 | O51: 1 | P51: 3 | Q51: 2 | R51: 2 | S51: 1 | T51: 13
A52: 105108 | B52: =IFERROR(VLOOKUP($A52,[1]Establecimientos!$A$1:$E$175,3,FALSE),0) -> 105108-HOSPITAL LOS VILOS | C52: =IFERROR(VLOOKUP($A52,[1]Establecimientos!$A$1:$E$175,4,FALSE),0) -> 04203-LOS VILOS | D52: 2 | E52: 1 | G52: 105104-HOSPITAL SALAMANCA | H52: 0 | I52: 0 | J52: 0 | K52: 0 | M52: 1 | O52: 1 | P52: 1 | Q52: 1 | R52: 1 | S52: 0 | T52: 5
A53: 105108 | B53: =IFERROR(VLOOKUP($A53,[1]Establecimientos!$A$1:$E$175,3,FALSE),0) -> 105108-HOSPITAL LOS VILOS | C53: =IFERROR(VLOOKUP($A53,[1]Establecimientos!$A$1:$E$175,4,FALSE),0) -> 04203-LOS VILOS | D53: 3 | E53: 1 | G53: 105452-P.S.R. CUNCUMEN | Q53: 1 | T53: 1
A54: 105108 | B54: =IFERROR(VLOOKUP($A54,[1]Establecimientos!$A$1:$E$175,3,FALSE),0) -> 105108-HOSPITAL LOS VILOS | C54: =IFERROR(VLOOKUP($A54,[1]Establecimientos!$A$1:$E$175,4,FALSE),0) -> 04203-LOS VILOS | D54: 4 | E54: 0 | G54: 105454-P.S.R. CUNLAGUA | H54: 1 | I54: 0 | J54: 1 | M54: 1 | P54: 2 | R54: 1 | T54: 6
A55: 105108 | B55: =IFERROR(VLOOKUP($A55,[1]Establecimientos!$A$1:$E$175,3,FALSE),0) -> 105108-HOSPITAL LOS VILOS | C55: =IFERROR(VLOOKUP($A55,[1]Establecimientos!$A$1:$E$175,4,FALSE),0) -> 04203-LOS VILOS | D55: 5 | E55: 1 | G55: 105455-P.S.R. CHILLEPIN | K55: 0 | S55: 1 | T55: 1
A56: 105108 | B56: =IFERROR(VLOOKUP($A56,[1]Establecimientos!$A$1:$E$175,3,FALSE),0) -> 105108-HOSPITAL LOS VILOS | C56: =IFERROR(VLOOKUP($A56,[1]Establecimientos!$A$1:$E$175,4,FALSE),0) -> 04203-LOS VILOS | D56: 6 | E56: 1 | G56: 04301-OVALLE | H56: 5 | I56: 5 | J56: 6 | K56: 6 | L56: 12 | M56: 6 | N56: 6 | O56: 2 | P56: 8 | Q56: 3 | R56: 4 | S56: 8 | T56: 71
A57: 105108 | B57: =IFERROR(VLOOKUP($A57,[1]Establecimientos!$A$1:$E$175,3,FALSE),0) -> 105108-HOSPITAL LOS VILOS | C57: =IFERROR(VLOOKUP($A57,[1]Establecimientos!$A$1:$E$175,4,FALSE),0) -> 04203-LOS VILOS | D57: 8 | E57: 1 | G57: 105315-CES. RURAL C. DE TAMAYA | H57: 1 | J57: 1 | L57: 3 | M57: 1 | N57: 1 | T57: 7
A58: 105108 | B58: =IFERROR(VLOOKUP($A58,[1]Establecimientos!$A$1:$E$175,3,FALSE),0) -> 105108-HOSPITAL LOS VILOS | C58: =IFERROR(VLOOKUP($A58,[1]Establecimientos!$A$1:$E$175,4,FALSE),0) -> 04203-LOS VILOS | D58: 9 | E58: 1 | G58: 105317-CES. JORGE JORDAN D. | H58: 1 | I58: 1 | J58: 1 | K58: 1 | L58: 1 | M58: 1 | N58: 0 | O58: 1 | P58: 1 | Q58: 1 | R58: 1 | S58: 1 | T58: 11
A59: 105108 | B59: =IFERROR(VLOOKUP($A59,[1]Establecimientos!$A$1:$E$175,3,FALSE),0) -> 105108-HOSPITAL LOS VILOS | C59: =IFERROR(VLOOKUP($A59,[1]Establecimientos!$A$1:$E$175,4,FALSE),0) -> 04203-LOS VILOS | D59: 10 | E59: 1 | G59: 105322-CES. MARCOS MACUADA | H59: 0 | I59: 1 | J59: 1 | K59: 1 | L59: 1 | M59: 0 | N59: 1 | O59: 0 | Q59: 1 | S59: 1 | T59: 7
A60: 105108 | B60: =IFERROR(VLOOKUP($A60,[1]Establecimientos!$A$1:$E$175,3,FALSE),0) -> 105108-HOSPITAL LOS VILOS | C60: =IFERROR(VLOOKUP($A60,[1]Establecimientos!$A$1:$E$175,4,FALSE),0) -> 04203-LOS VILOS | D60: 11 | E60: 1 | G60: 105324-CES. SOTAQUI | H60: 1 | I60: 1 | J60: 1 | K60: 1 | L60: 1 | M60: 1 | N60: 1 | P60: 1 | Q60: 0 | S60: 1 | T60: 9
A61: 105108 | B61: =IFERROR(VLOOKUP($A61,[1]Establecimientos!$A$1:$E$175,3,FALSE),0) -> 105108-HOSPITAL LOS VILOS | C61: =IFERROR(VLOOKUP($A61,[1]Establecimientos!$A$1:$E$175,4,FALSE),0) -> 04203-LOS VILOS | D61: 12 | E61: 1 | G61: 105437-P.S.R. CHALINGA | R61: 0 | T61: 0
A62: 105300 | B62: =IFERROR(VLOOKUP($A62,[1]Establecimientos!$A$1:$E$175,3,FALSE),0) -> 105300-CES. CARDENAL CARO | C62: =IFERROR(VLOOKUP($A62,[1]Establecimientos!$A$1:$E$175,4,FALSE),0) -> 04101-LA SERENA | D62: 1 | E62: 1 | G62: 105510-P.S.R. RECOLETA | H62: 0 | J62: 1 | L62: 1 | P62: 1 | Q62: 0 | R62: 1 | T62: 4
A63: 105300 | B63: =IFERROR(VLOOKUP($A63,[1]Establecimientos!$A$1:$E$175,3,FALSE),0) -> 105300-CES. CARDENAL CARO | C63: =IFERROR(VLOOKUP($A63,[1]Establecimientos!$A$1:$E$175,4,FALSE),0) -> 04101-LA SERENA | D63: 5 | E63: 2 | G63: 105722-CECOF SAN JOSE DE LA DEHESA | M63: 0 | N63: 3 | P63: 0 | S63: 2 | T63: 5
A64: 105300 | B64: =IFERROR(VLOOKUP($A64,[1]Establecimientos!$A$1:$E$175,3,FALSE),0) -> 105300-CES. CARDENAL CARO | C64: =IFERROR(VLOOKUP($A64,[1]Establecimientos!$A$1:$E$175,4,FALSE),0) -> 04101-LA SERENA | D64: 7 | E64: 1 | G64: 105723-CECOF LIMARI | I64: 1 | J64: 1 | K64: 1 | L64: 1 | M64: 1 | O64: 1 | P64: 1 | Q64: 0 | R64: 1 | T64: 8
A65: 105300 | B65: =IFERROR(VLOOKUP($A65,[1]Establecimientos!$A$1:$E$175,3,FALSE),0) -> 105300-CES. CARDENAL CARO | C65: =IFERROR(VLOOKUP($A65,[1]Establecimientos!$A$1:$E$175,4,FALSE),0) -> 04101-LA SERENA | D65: 8 | E65: 1 | G65: 200258-CECOF LOS COPIHUES | J65: 0 | K65: 2 | M65: 1 | O65: 0 | P65: 3 | Q65: 1 | R65: 1 | S65: 2 | T65: 10
A66: 105300 | B66: =IFERROR(VLOOKUP($A66,[1]Establecimientos!$A$1:$E$175,3,FALSE),0) -> 105300-CES. CARDENAL CARO | C66: =IFERROR(VLOOKUP($A66,[1]Establecimientos!$A$1:$E$175,4,FALSE),0) -> 04101-LA SERENA | D66: 10 | E66: 1 | G66: 200367-CECOF COLONIA LIMARÍ | H66: 1 | L66: 1 | T66: 2
A67: 105300 | B67: =IFERROR(VLOOKUP($A67,[1]Establecimientos!$A$1:$E$175,3,FALSE),0) -> 105300-CES. CARDENAL CARO | C67: =IFERROR(VLOOKUP($A67,[1]Establecimientos!$A$1:$E$175,4,FALSE),0) -> 04101-LA SERENA | D67: 11 | E67: 1 | G67: 200569-CESFAM FRAY JORGE | H67: 1 | I67: 1 | J67: 0 | L67: 3 | M67: 1 | N67: 0 | O67: 0 | P67: 1 | Q67: 0 | R67: 0 | S67: 1 | T67: 8
A68: 105300 | B68: =IFERROR(VLOOKUP($A68,[1]Establecimientos!$A$1:$E$175,3,FALSE),0) -> 105300-CES. CARDENAL CARO | C68: =IFERROR(VLOOKUP($A68,[1]Establecimientos!$A$1:$E$175,4,FALSE),0) -> 04101-LA SERENA | D68: 12 | E68: 1 | G68: 04302-COMBARBALÁ | H68: 2 | I68: 2 | J68: 1 | K68: 1 | L68: 2 | M68: 2 | N68: 2 | O68: 0 | P68: 2 | Q68: 0 | R68: 3 | S68: 2 | T68: 19
A69: 105301 | B69: =IFERROR(VLOOKUP($A69,[1]Establecimientos!$A$1:$E$175,3,FALSE),0) -> 105301-CES. LAS COMPAÑIAS | C69: =IFERROR(VLOOKUP($A69,[1]Establecimientos!$A$1:$E$175,4,FALSE),0) -> 04101-LA SERENA | D69: 1 | E69: 1 | G69: 105105-HOSPITAL COMBARBALÁ | H69: 1 | I69: 1 | K69: 1 | L69: 1 | M69: 1 | N69: 1 | O69: 0 | P69: 1 | Q69: 0 | R69: 2 | S69: 1 | T69: 10
A70: 105301 | B70: =IFERROR(VLOOKUP($A70,[1]Establecimientos!$A$1:$E$175,3,FALSE),0) -> 105301-CES. LAS COMPAÑIAS | C70: =IFERROR(VLOOKUP($A70,[1]Establecimientos!$A$1:$E$175,4,FALSE),0) -> 04101-LA SERENA | D70: 2 | E70: 0 | G70: 105433-P.S.R. SAN LORENZO | S70: 0 | T70: 0
A71: 105301 | B71: =IFERROR(VLOOKUP($A71,[1]Establecimientos!$A$1:$E$175,3,FALSE),0) -> 105301-CES. LAS COMPAÑIAS | C71: =IFERROR(VLOOKUP($A71,[1]Establecimientos!$A$1:$E$175,4,FALSE),0) -> 04101-LA SERENA | D71: 3 | E71: 1 | G71: 105460-P.S.R. COGOTI 18 | K71: 0 | N71: 1 | T71: 1
A72: 105301 | B72: =IFERROR(VLOOKUP($A72,[1]Establecimientos!$A$1:$E$175,3,FALSE),0) -> 105301-CES. LAS COMPAÑIAS | C72: =IFERROR(VLOOKUP($A72,[1]Establecimientos!$A$1:$E$175,4,FALSE),0) -> 04101-LA SERENA | D72: 4 | E72: 1 | G72: 105462-P.S.R. EL SAUCE | H72: 1 | I72: 1 | J72: 1 | L72: 1 | M72: 1 | N72: 0 | P72: 1 | Q72: 0 | R72: 1 | S72: 1 | T72: 8
A73: 105301 | B73: =IFERROR(VLOOKUP($A73,[1]Establecimientos!$A$1:$E$175,3,FALSE),0) -> 105301-CES. LAS COMPAÑIAS | C73: =IFERROR(VLOOKUP($A73,[1]Establecimientos!$A$1:$E$175,4,FALSE),0) -> 04101-LA SERENA | D73: 5 | E73: 1 | G73: 04303-MONTE PATRIA | H73: 1 | I73: 2 | J73: 2 | K73: 0 | L73: 0 | M73: 2 | N73: 2 | O73: 2 | P73: 1 | Q73: 1 | R73: 0 | S73: 3 | T73: 16
A74: 105301 | B74: =IFERROR(VLOOKUP($A74,[1]Establecimientos!$A$1:$E$175,3,FALSE),0) -> 105301-CES. LAS COMPAÑIAS | C74: =IFERROR(VLOOKUP($A74,[1]Establecimientos!$A$1:$E$175,4,FALSE),0) -> 04101-LA SERENA | D74: 6 | E74: 0 | G74: 105307-CES. RURAL MONTE PATRIA | I74: 1 | L74: 0 | S74: 1 | T74: 2
A75: 105301 | B75: =IFERROR(VLOOKUP($A75,[1]Establecimientos!$A$1:$E$175,3,FALSE),0) -> 105301-CES. LAS COMPAÑIAS | C75: =IFERROR(VLOOKUP($A75,[1]Establecimientos!$A$1:$E$175,4,FALSE),0) -> 04101-LA SERENA | D75: 7 | E75: 1 | G75: 105311-CES. RURAL CHAÑARAL ALTO | H75: 1 | J75: 1 | L75: 0 | M75: 1 | N75: 1 | O75: 1 | P75: 0 | Q75: 1 | R75: 0 | S75: 2 | T75: 8
A76: 105301 | B76: =IFERROR(VLOOKUP($A76,[1]Establecimientos!$A$1:$E$175,3,FALSE),0) -> 105301-CES. LAS COMPAÑIAS | C76: =IFERROR(VLOOKUP($A76,[1]Establecimientos!$A$1:$E$175,4,FALSE),0) -> 04101-LA SERENA | D76: 8 | E76: 1 | G76: 105312-CES. RURAL CAREN | K76: 0 | T76: 0
A77: 105301 | B77: =IFERROR(VLOOKUP($A77,[1]Establecimientos!$A$1:$E$175,3,FALSE),0) -> 105301-CES. LAS COMPAÑIAS | C77: =IFERROR(VLOOKUP($A77,[1]Establecimientos!$A$1:$E$175,4,FALSE),0) -> 04101-LA SERENA | D77: 9 | E77: 1 | G77: 105318-CES. RURAL EL PALQUI | I77: 1 | J77: 1 | M77: 1 | N77: 1 | O77: 1 | P77: 1 | S77: 0 | T77: 6
A78: 105301 | B78: =IFERROR(VLOOKUP($A78,[1]Establecimientos!$A$1:$E$175,3,FALSE),0) -> 105301-CES. LAS COMPAÑIAS | C78: =IFERROR(VLOOKUP($A78,[1]Establecimientos!$A$1:$E$175,4,FALSE),0) -> 04101-LA SERENA | D78: 10 | E78: 1 | G78: 04304-PUNITAQUI | H78: 1 | I78: 1 | J78: 1 | K78: 1 | L78: 2 | M78: 1 | P78: 0 | Q78: 0 | R78: 1 | S78: 1 | T78: 9
A79: 105301 | B79: =IFERROR(VLOOKUP($A79,[1]Establecimientos!$A$1:$E$175,3,FALSE),0) -> 105301-CES. LAS COMPAÑIAS | C79: =IFERROR(VLOOKUP($A79,[1]Establecimientos!$A$1:$E$175,4,FALSE),0) -> 04101-LA SERENA | D79: 11 | E79: 0 | G79: 105308-CES. RURAL PUNITAQUI | H79: 1 | I79: 1 | J79: 1 | K79: 1 | L79: 2 | M79: 1 | P79: 0 | Q79: 0 | R79: 1 | S79: 1 | T79: 9
A80: 105301 | B80: =IFERROR(VLOOKUP($A80,[1]Establecimientos!$A$1:$E$175,3,FALSE),0) -> 105301-CES. LAS COMPAÑIAS | C80: =IFERROR(VLOOKUP($A80,[1]Establecimientos!$A$1:$E$175,4,FALSE),0) -> 04101-LA SERENA | D80: 12 | E80: 1 | G80: 04305-RIO HURTADO | J80: 2 | L80: 1 | T80: 3
A81: 105302 | B81: =IFERROR(VLOOKUP($A81,[1]Establecimientos!$A$1:$E$175,3,FALSE),0) -> 105302-CES. PEDRO AGUIRRE C. | C81: =IFERROR(VLOOKUP($A81,[1]Establecimientos!$A$1:$E$175,4,FALSE),0) -> 04101-LA SERENA | D81: 1 | E81: 1 | G81: 105310-CES. RURAL PICHASCA | J81: 2 | L81: 1 | T81: 3
A82: 105302 | B82: =IFERROR(VLOOKUP($A82,[1]Establecimientos!$A$1:$E$175,3,FALSE),0) -> 105302-CES. PEDRO AGUIRRE C. | C82: =IFERROR(VLOOKUP($A82,[1]Establecimientos!$A$1:$E$175,4,FALSE),0) -> 04101-LA SERENA | D82: 2 | E82: 1 | G82: Total general | H82: 26 | I82: 23 | J82: 31 | K82: 27 | L82: 41 | M82: 28 | N82: 27 | O82: 25 | P82: 37 | Q82: 32 | R82: 31 | S82: 39 | T82: 367
A83: 105302 | B83: =IFERROR(VLOOKUP($A83,[1]Establecimientos!$A$1:$E$175,3,FALSE),0) -> 105302-CES. PEDRO AGUIRRE C. | C83: =IFERROR(VLOOKUP($A83,[1]Establecimientos!$A$1:$E$175,4,FALSE),0) -> 04101-LA SERENA | D83: 3 | E83: 1
A84: 105302 | B84: =IFERROR(VLOOKUP($A84,[1]Establecimientos!$A$1:$E$175,3,FALSE),0) -> 105302-CES. PEDRO AGUIRRE C. | C84: =IFERROR(VLOOKUP($A84,[1]Establecimientos!$A$1:$E$175,4,FALSE),0) -> 04101-LA SERENA | D84: 4 | E84: 1
A85: 105302 | B85: =IFERROR(VLOOKUP($A85,[1]Establecimientos!$A$1:$E$175,3,FALSE),0) -> 105302-CES. PEDRO AGUIRRE C. | C85: =IFERROR(VLOOKUP($A85,[1]Establecimientos!$A$1:$E$175,4,FALSE),0) -> 04101-LA SERENA | D85: 5 | E85: 1
A86: 105302 | B86: =IFERROR(VLOOKUP($A86,[1]Establecimientos!$A$1:$E$175,3,FALSE),0) -> 105302-CES. PEDRO AGUIRRE C. | C86: =IFERROR(VLOOKUP($A86,[1]Establecimientos!$A$1:$E$175,4,FALSE),0) -> 04101-LA SERENA | D86: 6 | E86: 1
A87: 105302 | B87: =IFERROR(VLOOKUP($A87,[1]Establecimientos!$A$1:$E$175,3,FALSE),0) -> 105302-CES. PEDRO AGUIRRE C. | C87: =IFERROR(VLOOKUP($A87,[1]Establecimientos!$A$1:$E$175,4,FALSE),0) -> 04101-LA SERENA | D87: 7 | E87: 1
A88: 105302 | B88: =IFERROR(VLOOKUP($A88,[1]Establecimientos!$A$1:$E$175,3,FALSE),0) -> 105302-CES. PEDRO AGUIRRE C. | C88: =IFERROR(VLOOKUP($A88,[1]Establecimientos!$A$1:$E$175,4,FALSE),0) -> 04101-LA SERENA | D88: 8 | E88: 1
A89: 105302 | B89: =IFERROR(VLOOKUP($A89,[1]Establecimientos!$A$1:$E$175,3,FALSE),0) -> 105302-CES. PEDRO AGUIRRE C. | C89: =IFERROR(VLOOKUP($A89,[1]Establecimientos!$A$1:$E$175,4,FALSE),0) -> 04101-LA SERENA | D89: 9 | E89: 1
A90: 105302 | B90: =IFERROR(VLOOKUP($A90,[1]Establecimientos!$A$1:$E$175,3,FALSE),0) -> 105302-CES. PEDRO AGUIRRE C. | C90: =IFERROR(VLOOKUP($A90,[1]Establecimientos!$A$1:$E$175,4,FALSE),0) -> 04101-LA SERENA | D90: 10 | E90: 1
A91: 105302 | B91: =IFERROR(VLOOKUP($A91,[1]Establecimientos!$A$1:$E$175,3,FALSE),0) -> 105302-CES. PEDRO AGUIRRE C. | C91: =IFERROR(VLOOKUP($A91,[1]Establecimientos!$A$1:$E$175,4,FALSE),0) -> 04101-LA SERENA | D91: 11 | E91: 1
A92: 105302 | B92: =IFERROR(VLOOKUP($A92,[1]Establecimientos!$A$1:$E$175,3,FALSE),0) -> 105302-CES. PEDRO AGUIRRE C. | C92: =IFERROR(VLOOKUP($A92,[1]Establecimientos!$A$1:$E$175,4,FALSE),0) -> 04101-LA SERENA | D92: 12 | E92: 1
A93: 105303 | B93: =IFERROR(VLOOKUP($A93,[1]Establecimientos!$A$1:$E$175,3,FALSE),0) -> 105303-CES. SAN JUAN | C93: =IFERROR(VLOOKUP($A93,[1]Establecimientos!$A$1:$E$175,4,FALSE),0) -> 04102-COQUIMBO | D93: 1 | E93: 1
A94: 105303 | B94: =IFERROR(VLOOKUP($A94,[1]Establecimientos!$A$1:$E$175,3,FALSE),0) -> 105303-CES. SAN JUAN | C94: =IFERROR(VLOOKUP($A94,[1]Establecimientos!$A$1:$E$175,4,FALSE),0) -> 04102-COQUIMBO | D94: 2 | E94: 1
... A445: 200607 | B445: =IFERROR(VLOOKUP($A445,[1]Establecimientos!$A$1:$E$175,3,FALSE),0) -> 200607-CESFAM LILA CORTES | C445: =IFERROR(VLOOKUP($A445,[1]Establecimientos!$A$1:$E$175,4,FALSE),0) -> 04102-COQUIMBO | D445: 12 | E445: 1

Sheet Adulto
A1: COMUNA | B1: ESTABLECIMIENTO | C1: CONSULTORÍAS Y TELECONSULTORÍAS DE SALUD MENTAL ADULTO
C2: ENERO | D2: FEBRERO | E2: MARZO | F2: ABRIL | G2: MAYO | H2: JUNIO | I2: JULIO | J2: AGOSTO | K2: SEPBRE | L2: OCTUBRE | M2: NOVBRE | N2: DICBRE | O2: TOTAL
A3: 04101-LA SERENA | B3: 105300-CES. CARDENAL CARO | C3: =IFERROR(VLOOKUP($B3,'Datos Adulto'!$G$3:$T$82,2,FALSE),0) -> 3 | D3: =IFERROR(VLOOKUP($B3,'Datos Adulto'!$G$3:$T$82,3,FALSE),0) -> 0 | E3: =IFERROR(VLOOKUP($B3,'Datos Adulto'!$G$3:$T$82,4,FALSE),0) -> 0 | F3: =IFERROR(VLOOKUP($B3,'Datos Adulto'!$G$3:$T$82,5,FALSE),0) -> 0 | G3: =IFERROR(VLOOKUP($B3,'Datos Adulto'!$G$3:$T$82,6,FALSE),0) -> 2 | H3: =IFERROR(VLOOKUP($B3,'Datos Adulto'!$G$3:$T$82,7,FALSE),0) -> 0 | I3: =IFERROR(VLOOKUP($B3,'Datos Adulto'!$G$3:$T$82,8,FALSE),0) -> 1 | J3: =IFERROR(VLOOKUP($B3,'Datos Adulto'!$G$3:$T$82,9,FALSE),0) -> 1 | K3: =IFERROR(VLOOKUP($B3,'Datos Adulto'!$G$3:$T$82,10,FALSE),0) -> 0 | L3: =IFERROR(VLOOKUP($B3,'Datos Adulto'!$G$3:$T$82,11,FALSE),0) -> 1 | M3: =IFERROR(VLOOKUP($B3,'Datos Adulto'!$G$3:$T$82,12,FALSE),0) -> 1 | N3: =IFERROR(VLOOKUP($B3,'Datos Adulto'!$G$3:$T$82,13,FALSE),0) -> 1 | O3: =SUM(C3:N3) -> 10
A4: 04101-LA SERENA | B4: 105301-CES. LAS COMPAÑIAS | C4: =IFERROR(VLOOKUP($B4,'Datos Adulto'!$G$3:$T$82,2,FALSE),0) -> 1 | D4: =IFERROR(VLOOKUP($B4,'Datos Adulto'!$G$3:$T$82,3,FALSE),0) -> 1 | E4: =IFERROR(VLOOKUP($B4,'Datos Adulto'!$G$3:$T$82,4,FALSE),0) -> 1 | F4: =IFERROR(VLOOKUP($B4,'Datos Adulto'!$G$3:$T$82,5,FALSE),0) -> 1 | G4: =IFERROR(VLOOKUP($B4,'Datos Adulto'!$G$3:$T$82,6,FALSE),0) -> 1 | H4: =IFERROR(VLOOKUP($B4,'Datos Adulto'!$G$3:$T$82,7,FALSE),0) -> 1 | I4: =IFERROR(VLOOKUP($B4,'Datos Adulto'!$G$3:$T$82,8,FALSE),0) -> 1 | J4: =IFERROR(VLOOKUP($B4,'Datos Adulto'!$G$3:$T$82,9,FALSE),0) -> 1 | K4: =IFERROR(VLOOKUP($B4,'Datos Adulto'!$G$3:$T$82,10,FALSE),0) -> 1 | L4: =IFERROR(VLOOKUP($B4,'Datos Adulto'!$G$3:$T$82,11,FALSE),0) -> 1 | M4: =IFERROR(VLOOKUP($B4,'Datos Adulto'!$G$3:$T$82,12,FALSE),0) -> 0 | N4: =IFERROR(VLOOKUP($B4,'Datos Adulto'!$G$3:$T$82,13,FALSE),0) -> 1 | O4: =SUM(C4:N4) -> 11
A5: 04101-LA SERENA | B5: 105302-CES. PEDRO AGUIRRE C. | C5: =IFERROR(VLOOKUP($B5,'Datos Adulto'!$G$3:$T$82,2,FALSE),0) -> 0 | D5: =IFERROR(VLOOKUP($B5,'Datos Adulto'!$G$3:$T$82,3,FALSE),0) -> 0 | E5: =IFERROR(VLOOKUP($B5,'Datos Adulto'!$G$3:$T$82,4,FALSE),0) -> 2 | F5: =IFERROR(VLOOKUP($B5,'Datos Adulto'!$G$3:$T$82,5,FALSE),0) -> 0 | G5: =IFERROR(VLOOKUP($B5,'Datos Adulto'!$G$3:$T$82,6,FALSE),0) -> 1 | H5: =IFERROR(VLOOKUP($B5,'Datos Adulto'!$G$3:$T$82,7,FALSE),0) -> 1 | I5: =IFERROR(VLOOKUP($B5,'Datos Adulto'!$G$3:$T$82,8,FALSE),0) -> 1 | J5: =IFERROR(VLOOKUP($B5,'Datos Adulto'!$G$3:$T$82,9,FALSE),0) -> 1 | K5: =IFERROR(VLOOKUP($B5,'Datos Adulto'!$G$3:$T$82,10,FALSE),0) -> 1 | L5: =IFERROR(VLOOKUP($B5,'Datos Adulto'!$G$3:$T$82,11,FALSE),0) -> 1 | M5: =IFERROR(VLOOKUP($B5,'Datos Adulto'!$G$3:$T$82,12,FALSE),0) -> 1 | N5: =IFERROR(VLOOKUP($B5,'Datos Adulto'!$G$3:$T$82,13,FALSE),0) -> 1 | O5: =SUM(C5:N5) -> 10
A6: 04101-LA SERENA | B6: 105313-CES. SCHAFFHAUSER | C6: =IFERROR(VLOOKUP($B6,'Datos Adulto'!$G$3:$T$82,2,FALSE),0) -> 0 | D6: =IFERROR(VLOOKUP($B6,'Datos Adulto'!$G$3:$T$82,3,FALSE),0) -> 1 | E6: =IFERROR(VLOOKUP($B6,'Datos Adulto'!$G$3:$T$82,4,FALSE),0) -> 1 | F6: =IFERROR(VLOOKUP($B6,'Datos Adulto'!$G$3:$T$82,5,FALSE),0) -> 1 | G6: =IFERROR(VLOOKUP($B6,'Datos Adulto'!$G$3:$T$82,6,FALSE),0) -> 2 | H6: =IFERROR(VLOOKUP($B6,'Datos Adulto'!$G$3:$T$82,7,FALSE),0) -> 1 | I6: =IFERROR(VLOOKUP($B6,'Datos Adulto'!$G$3:$T$82,8,FALSE),0) -> 1 | J6: =IFERROR(VLOOKUP($B6,'Datos Adulto'!$G$3:$T$82,9,FALSE),0) -> 1 | K6: =IFERROR(VLOOKUP($B6,'Datos Adulto'!$G$3:$T$82,10,FALSE),0) -> 2 | L6: =IFERROR(VLOOKUP($B6,'Datos Adulto'!$G$3:$T$82,11,FALSE),0) -> 1 | M6: =IFERROR(VLOOKUP($B6,'Datos Adulto'!$G$3:$T$82,12,FALSE),0) -> 1 | N6: =IFERROR(VLOOKUP($B6,'Datos Adulto'!$G$3:$T$82,13,FALSE),0) -> 1 | O6: =SUM(C6:N6) -> 13
A7: 04101-LA SERENA | B7: 105319-CES. CARDENAL R.S.H. | C7: =IFERROR(VLOOKUP($B7,'Datos Adulto'!$G$3:$T$82,2,FALSE),0) -> 1 | D7: =IFERROR(VLOOKUP($B7,'Datos Adulto'!$G$3:$T$82,3,FALSE),0) -> 1 | E7: =IFERROR(VLOOKUP($B7,'Datos Adulto'!$G$3:$T$82,4,FALSE),0) -> 1 | F7: =IFERROR(VLOOKUP($B7,'Datos Adulto'!$G$3:$T$82,5,FALSE),0) -> 1 | G7: =IFERROR(VLOOKUP($B7,'Datos Adulto'!$G$3:$T$82,6,FALSE),0) -> 0 | H7: =IFERROR(VLOOKUP($B7,'Datos Adulto'!$G$3:$T$82,7,FALSE),0) -> 1 | I7: =IFERROR(VLOOKUP($B7,'Datos Adulto'!$G$3:$T$82,8,FALSE),0) -> 1 | J7: =IFERROR(VLOOKUP($B7,'Datos Adulto'!$G$3:$T$82,9,FALSE),0) -> 1 | K7: =IFERROR(VLOOKUP($B7,'Datos Adulto'!$G$3:$T$82,10,FALSE),0) -> 1 | L7: =IFERROR(VLOOKUP($B7,'Datos Adulto'!$G$3:$T$82,11,FALSE),0) -> 1 | M7: =IFERROR(VLOOKUP($B7,'Datos Adulto'!$G$3:$T$82,12,FALSE),0) -> 2 | N7: =IFERROR(VLOOKUP($B7,'Datos Adulto'!$G$3:$T$82,13,FALSE),0) -> 1 | O7: =SUM(C7:N7) -> 12
A8: 04101-LA SERENA | B8: 105325-CESFAM JUAN PABLO II | C8: =IFERROR(VLOOKUP($B8,'Datos Adulto'!$G$3:$T$82,2,FALSE),0) -> 0 | D8: =IFERROR(VLOOKUP($B8,'Datos Adulto'!$G$3:$T$82,3,FALSE),0) -> 1 | E8: =IFERROR(VLOOKUP($B8,'Datos Adulto'!$G$3:$T$82,4,FALSE),0) -> 1 | F8: =IFERROR(VLOOKUP($B8,'Datos Adulto'!$G$3:$T$82,5,FALSE),0) -> 0 | G8: =IFERROR(VLOOKUP($B8,'Datos Adulto'!$G$3:$T$82,6,FALSE),0) -> 1 | H8: =IFERROR(VLOOKUP($B8,'Datos Adulto'!$G$3:$T$82,7,FALSE),0) -> 1 | I8: =IFERROR(VLOOKUP($B8,'Datos Adulto'!$G$3:$T$82,8,FALSE),0) -> 0 | J8: =IFERROR(VLOOKUP($B8,'Datos Adulto'!$G$3:$T$82,9,FALSE),0) -> 1 | K8: =IFERROR(VLOOKUP($B8,'Datos Adulto'!$G$3:$T$82,10,FALSE),0) -> 1 | L8: =IFERROR(VLOOKUP($B8,'Datos Adulto'!$G$3:$T$82,11,FALSE),0) -> 1 | M8: =IFERROR(VLOOKUP($B8,'Datos Adulto'!$G$3:$T$82,12,FALSE),0) -> 1 | N8: =IFERROR(VLOOKUP($B8,'Datos Adulto'!$G$3:$T$82,13,FALSE),0) -> 1 | O8: =SUM(C8:N8) -> 9
A9: 04101-LA SERENA | B9: 105400-P.S.R. ALGARROBITO | C9: =IFERROR(VLOOKUP($B9,'Datos Adulto'!$G$3:$T$82,2,FALSE),0) -> 1 | D9: =IFERROR(VLOOKUP($B9,'Datos Adulto'!$G$3:$T$82,3,FALSE),0) -> 0 | E9: =IFERROR(VLOOKUP($B9,'Datos Adulto'!$G$3:$T$82,4,FALSE),0) -> 1 | F9: =IFERROR(VLOOKUP($B9,'Datos Adulto'!$G$3:$T$82,5,FALSE),0) -> 1 | G9: =IFERROR(VLOOKUP($B9,'Datos Adulto'!$G$3:$T$82,6,FALSE),0) -> 1 | H9: =IFERROR(VLOOKUP($B9,'Datos Adulto'!$G$3:$T$82,7,FALSE),0) -> 1 | I9: =IFERROR(VLOOKUP($B9,'Datos Adulto'!$G$3:$T$82,8,FALSE),0) -> 1 | J9: =IFERROR(VLOOKUP($B9,'Datos Adulto'!$G$3:$T$82,9,FALSE),0) -> 1 | K9: =IFERROR(VLOOKUP($B9,'Datos Adulto'!$G$3:$T$82,10,FALSE),0) -> 1 | L9: =IFERROR(VLOOKUP($B9,'Datos Adulto'!$G$3:$T$82,11,FALSE),0) -> 0 | M9: =IFERROR(VLOOKUP($B9,'Datos Adulto'!$G$3:$T$82,12,FALSE),0) -> 0 | N9: =IFERROR(VLOOKUP($B9,'Datos Adulto'!$G$3:$T$82,13,FALSE),0) -> 0 | O9: =SUM(C9:N9) -> 8
A10: 04101-LA SERENA | B10: 105401-P.S.R. LAS ROJAS | C10: =IFERROR(VLOOKUP($B10,'Datos Adulto'!$G$3:$T$82,2,FALSE),0) -> 0 | D10: =IFERROR(VLOOKUP($B10,'Datos Adulto'!$G$3:$T$82,3,FALSE),0) -> 0 | E10: =IFERROR(VLOOKUP($B10,'Datos Adulto'!$G$3:$T$82,4,FALSE),0) -> 0 | F10: =IFERROR(VLOOKUP($B10,'Datos Adulto'!$G$3:$T$82,5,FALSE),0) -> 0 | G10: =IFERROR(VLOOKUP($B10,'Datos Adulto'!$G$3:$T$82,6,FALSE),0) -> 0 | H10: =IFERROR(VLOOKUP($B10,'Datos Adulto'!$G$3:$T$82,7,FALSE),0) -> 0 | I10: =IFERROR(VLOOKUP($B10,'Datos Adulto'!$G$3:$T$82,8,FALSE),0) -> 1 | J10: =IFERROR(VLOOKUP($B10,'Datos Adulto'!$G$3:$T$82,9,FALSE),0) -> 0 | K10: =IFERROR(VLOOKUP($B10,'Datos Adulto'!$G$3:$T$82,10,FALSE),0) -> 0 | L10: =IFERROR(VLOOKUP($B10,'Datos Adulto'!$G$3:$T$82,11,FALSE),0) -> 1 | M10: =IFERROR(VLOOKUP($B10,'Datos Adulto'!$G$3:$T$82,12,FALSE),0) -> 1 | N10: =IFERROR(VLOOKUP($B10,'Datos Adulto'!$G$3:$T$82,13,FALSE),0) -> 1 | O10: =SUM(C10:N10) -> 4
A11: 04101-LA SERENA | B11: 105402-P.S.R. EL ROMERO | C11: =IFERROR(VLOOKUP($B11,'Datos Adulto'!$G$3:$T$82,2,FALSE),0) -> 0 | D11: =IFERROR(VLOOKUP($B11,'Datos Adulto'!$G$3:$T$82,3,FALSE),0) -> 0 | E11: =IFERROR(VLOOKUP($B11,'Datos Adulto'!$G$3:$T$82,4,FALSE),0) -> 0 | F11: =IFERROR(VLOOKUP($B11,'Datos Adulto'!$G$3:$T$82,5,FALSE),0) -> 0 | G11: =IFERROR(VLOOKUP($B11,'Datos Adulto'!$G$3:$T$82,6,FALSE),0) -> 0 | H11: =IFERROR(VLOOKUP($B11,'Datos Adulto'!$G$3:$T$82,7,FALSE),0) -> 0 | I11: =IFERROR(VLOOKUP($B11,'Datos Adulto'!$G$3:$T$82,8,FALSE),0) -> 0 | J11: =IFERROR(VLOOKUP($B11,'Datos Adulto'!$G$3:$T$82,9,FALSE),0) -> 0 | K11: =IFERROR(VLOOKUP($B11,'Datos Adulto'!$G$3:$T$82,10,FALSE),0) -> 0 | L11: =IFERROR(VLOOKUP($B11,'Datos Adulto'!$G$3:$T$82,11,FALSE),0) -> 0 | M11: =IFERROR(VLOOKUP($B11,'Datos Adulto'!$G$3:$T$82,12,FALSE),0) -> 1 | N11: =IFERROR(VLOOKUP($B11,'Datos Adulto'!$G$3:$T$82,13,FALSE),0) -> 1 | O11: =SUM(C11:N11) -> 2
A12: 04101-LA SERENA | B12: 105499-P.S.R. LAMBERT | C12: =IFERROR(VLOOKUP($B12,'Datos Adulto'!$G$3:$T$82,2,FALSE),0) -> 0 | D12: =IFERROR(VLOOKUP($B12,'Datos Adulto'!$G$3:$T$82,3,FALSE),0) -> 0 | E12: =IFERROR(VLOOKUP($B12,'Datos Adulto'!$G$3:$T$82,4,FALSE),0) -> 0 | F12: =IFERROR(VLOOKUP($B12,'Datos Adulto'!$G$3:$T$82,5,FALSE),0) -> 0 | G12: =IFERROR(VLOOKUP($B12,'Datos Adulto'!$G$3:$T$82,6,FALSE),0) -> 0 | H12: =IFERROR(VLOOKUP($B12,'Datos Adulto'!$G$3:$T$82,7,FALSE),0) -> 0 | I12: =IFERROR(VLOOKUP($B12,'Datos Adulto'!$G$3:$T$82,8,FALSE),0) -> 0 | J12: =IFERROR(VLOOKUP($B12,'Datos Adulto'!$G$3:$T$82,9,FALSE),0) -> 0 | K12: =IFERROR(VLOOKUP($B12,'Datos Adulto'!$G$3:$T$82,10,FALSE),0) -> 0 | L12: =IFERROR(VLOOKUP($B12,'Datos Adulto'!$G$3:$T$82,11,FALSE),0) -> 0 | M12: =IFERROR(VLOOKUP($B12,'Datos Adulto'!$G$3:$T$82,12,FALSE),0) -> 0 | N12: =IFERROR(VLOOKUP($B12,'Datos Adulto'!$G$3:$T$82,13,FALSE),0) -> 0 | O12: =SUM(C12:N12) -> 0
A13: 04101-LA SERENA | B13: 105700-CECOF VILLA EL INDIO | C13: =IFERROR(VLOOKUP($B13,'Datos Adulto'!$G$3:$T$82,2,FALSE),0) -> 0 | D13: =IFERROR(VLOOKUP($B13,'Datos Adulto'!$G$3:$T$82,3,FALSE),0) -> 0 | E13: =IFERROR(VLOOKUP($B13,'Datos Adulto'!$G$3:$T$82,4,FALSE),0) -> 0 | F13: =IFERROR(VLOOKUP($B13,'Datos Adulto'!$G$3:$T$82,5,FALSE),0) -> 0 | G13: =IFERROR(VLOOKUP($B13,'Datos Adulto'!$G$3:$T$82,6,FALSE),0) -> 0 | H13: =IFERROR(VLOOKUP($B13,'Datos Adulto'!$G$3:$T$82,7,FALSE),0) -> 0 | I13: =IFERROR(VLOOKUP($B13,'Datos Adulto'!$G$3:$T$82,8,FALSE),0) -> 0 | J13: =IFERROR(VLOOKUP($B13,'Datos Adulto'!$G$3:$T$82,9,FALSE),0) -> 0 | K13: =IFERROR(VLOOKUP($B13,'Datos Adulto'!$G$3:$T$82,10,FALSE),0) -> 0 | L13: =IFERROR(VLOOKUP($B13,'Datos Adulto'!$G$3:$T$82,11,FALSE),0) -> 0 | M13: =IFERROR(VLOOKUP($B13,'Datos Adulto'!$G$3:$T$82,12,FALSE),0) -> 0 | N13: =IFERROR(VLOOKUP($B13,'Datos Adulto'!$G$3:$T$82,13,FALSE),0) -> 0 | O13: =SUM(C13:N13) -> 0
A14: 04101-LA SERENA | B14: 105701-CECOF VILLA ALEMANIA | C14: =IFERROR(VLOOKUP($B14,'Datos Adulto'!$G$3:$T$82,2,FALSE),0) -> 0 | D14: =IFERROR(VLOOKUP($B14,'Datos Adulto'!$G$3:$T$82,3,FALSE),0) -> 0 | E14: =IFERROR(VLOOKUP($B14,'Datos Adulto'!$G$3:$T$82,4,FALSE),0) -> 0 | F14: =IFERROR(VLOOKUP($B14,'Datos Adulto'!$G$3:$T$82,5,FALSE),0) -> 0 | G14: =IFERROR(VLOOKUP($B14,'Datos Adulto'!$G$3:$T$82,6,FALSE),0) -> 0 | H14: =IFERROR(VLOOKUP($B14,'Datos Adulto'!$G$3:$T$82,7,FALSE),0) -> 0 | I14: =IFERROR(VLOOKUP($B14,'Datos Adulto'!$G$3:$T$82,8,FALSE),0) -> 0 | J14: =IFERROR(VLOOKUP($B14,'Datos Adulto'!$G$3:$T$82,9,FALSE),0) -> 0 | K14: =IFERROR(VLOOKUP($B14,'Datos Adulto'!$G$3:$T$82,10,FALSE),0) -> 0 | L14: =IFERROR(VLOOKUP($B14,'Datos Adulto'!$G$3:$T$82,11,FALSE),0) -> 0 | M14: =IFERROR(VLOOKUP($B14,'Datos Adulto'!$G$3:$T$82,12,FALSE),0) -> 0 | N14: =IFERROR(VLOOKUP($B14,'Datos Adulto'!$G$3:$T$82,13,FALSE),0) -> 0 | O14: =SUM(C14:N14) -> 0
... A16: 04101-LA SERENA | B16: 200402-CECOF ARCOS DE PINAMAR | C16: =IFERROR(VLOOKUP($B16,'Datos Adulto'!$G$3:$T$82,2,FALSE),0) -> 1 | D16: =IFERROR(VLOOKUP($B16,'Datos Adulto'!$G$3:$T$82,3,FALSE),0) -> 0 | E16: =IFERROR(VLOOKUP($B16,'Datos Adulto'!$G$3:$T$82,4,FALSE),0) -> 0 | F16: =IFERROR(VLOOKUP($B16,'Datos Adulto'!$G$3:$T$82,5,FALSE),0) -> 0 | G16: =IFERROR(VLOOKUP($B16,'Datos Adulto'!$G$3:$T$82,6,FALSE),0) -> 0 | H16: =IFERROR(VLOOKUP($B16,'Datos Adulto'!$G$3:$T$82,7,FALSE),0) -> 0 | I16: =IFERROR(VLOOKUP($B16,'Datos Adulto'!$G$3:$T$82,8,FALSE),0) -> 0 | J16: =IFERROR(VLOOKUP($B16,'Datos Adulto'!$G$3:$T$82,9,FALSE),0) -> 0 | K16: =IFERROR(VLOOKUP($B16,'Datos Adulto'!$G$3:$T$82,10,FALSE),0) -> 0 | L16: =IFERROR(VLOOKUP($B16,'Datos Adulto'!$G$3:$T$82,11,FALSE),0) -> 0 | M16: =IFERROR(VLOOKUP($B16,'Datos Adulto'!$G$3:$T$82,12,FALSE),0) -> 0 | N16: =IFERROR(VLOOKUP($B16,'Datos Adulto'!$G$3:$T$82,13,FALSE),0) -> 0 | O16: =SUM(C16:N16) -> 1
A17: TOTAL LA SERENA | C17: =SUM(C3:C16) -> 7 | D17: =SUM(D3:D16) -> 4 | E17: =SUM(E3:E16) -> 7 | F17: =SUM(F3:F16) -> 4 | G17: =SUM(G3:G16) -> 8 | H17: =SUM(H3:H16) -> 6 | I17: =SUM(I3:I16) -> 7 | J17: =SUM(J3:J16) -> 7 | ... O17: =SUM(O3:O16) -> 80
A18: 04102-COQUIMBO | B18: 105303-CES. SAN JUAN | C18: =IFERROR(VLOOKUP($B18,'Datos Adulto'!$G$3:$T$82,2,FALSE),0) -> 1 | D18: =IFERROR(VLOOKUP($B18,'Datos Adulto'!$G$3:$T$82,3,FALSE),0) -> 0 | E18: =IFERROR(VLOOKUP($B18,'Datos Adulto'!$G$3:$T$82,4,FALSE),0) -> 1 | F18: =IFERROR(VLOOKUP($B18,'Datos Adulto'!$G$3:$T$82,5,FALSE),0) -> 1 | G18: =IFERROR(VLOOKUP($B18,'Datos Adulto'!$G$3:$T$82,6,FALSE),0) -> 1 | H18: =IFERROR(VLOOKUP($B18,'Datos Adulto'!$G$3:$T$82,7,FALSE),0) -> 1 | I18: =IFERROR(VLOOKUP($B18,'Datos Adulto'!$G$3:$T$82,8,FALSE),0) -> 0 | J18: =IFERROR(VLOOKUP($B18,'Datos Adulto'!$G$3:$T$82,9,FALSE),0) -> 2 | K18: =IFERROR(VLOOKUP($B18,'Datos Adulto'!$G$3:$T$82,10,FALSE),0) -> 0 | L18: =IFERROR(VLOOKUP($B18,'Datos Adulto'!$G$3:$T$82,11,FALSE),0) -> 0 | M18: =IFERROR(VLOOKUP($B18,'Datos Adulto'!$G$3:$T$82,12,FALSE),0) -> 1 | N18: =IFERROR(VLOOKUP($B18,'Datos Adulto'!$G$3:$T$82,13,FALSE),0) -> 1 | O18: =SUM(C18:N18) -> 9
A19: 04102-COQUIMBO | B19: 105304-CES. SANTA CECILIA | C19: =IFERROR(VLOOKUP($B19,'Datos Adulto'!$G$3:$T$82,2,FALSE),0) -> 1 | D19: =IFERROR(VLOOKUP($B19,'Datos Adulto'!$G$3:$T$82,3,FALSE),0) -> 0 | E19: =IFERROR(VLOOKUP($B19,'Datos Adulto'!$G$3:$T$82,4,FALSE),0) -> 1 | F19: =IFERROR(VLOOKUP($B19,'Datos Adulto'!$G$3:$T$82,5,FALSE),0) -> 1 | G19: =IFERROR(VLOOKUP($B19,'Datos Adulto'!$G$3:$T$82,6,FALSE),0) -> 1 | H19: =IFERROR(VLOOKUP($B19,'Datos Adulto'!$G$3:$T$82,7,FALSE),0) -> 1 | I19: =IFERROR(VLOOKUP($B19,'Datos Adulto'!$G$3:$T$82,8,FALSE),0) -> 1 | J19: =IFERROR(VLOOKUP($B19,'Datos Adulto'!$G$3:$T$82,9,FALSE),0) -> 1 | K19: =IFERROR(VLOOKUP($B19,'Datos Adulto'!$G$3:$T$82,10,FALSE),0) -> 0 | L19: =IFERROR(VLOOKUP($B19,'Datos Adulto'!$G$3:$T$82,11,FALSE),0) -> 1 | M19: =IFERROR(VLOOKUP($B19,'Datos Adulto'!$G$3:$T$82,12,FALSE),0) -> 0 | N19: =IFERROR(VLOOKUP($B19,'Datos Adulto'!$G$3:$T$82,13,FALSE),0) -> 1 | O19: =SUM(C19:N19) -> 9
A20: 04102-COQUIMBO | B20: 105305-CES. TIERRAS BLANCAS | C20: =IFERROR(VLOOKUP($B20,'Datos Adulto'!$G$3:$T$82,2,FALSE),0) -> 1 | D20: =IFERROR(VLOOKUP($B20,'Datos Adulto'!$G$3:$T$82,3,FALSE),0) -> 1 | E20: =IFERROR(VLOOKUP($B20,'Datos Adulto'!$G$3:$T$82,4,FALSE),0) -> 1 | F20: =IFERROR(VLOOKUP($B20,'Datos Adulto'!$G$3:$T$82,5,FALSE),0) -> 1 | G20: =IFERROR(VLOOKUP($B20,'Datos Adulto'!$G$3:$T$82,6,FALSE),0) -> 1 | H20: =IFERROR(VLOOKUP($B20,'Datos Adulto'!$G$3:$T$82,7,FALSE),0) -> 1 | I20: =IFERROR(VLOOKUP($B20,'Datos Adulto'!$G$3:$T$82,8,FALSE),0) -> 1 | J20: =IFERROR(VLOOKUP($B20,'Datos Adulto'!$G$3:$T$82,9,FALSE),0) -> 1 | K20: =IFERROR(VLOOKUP($B20,'Datos Adulto'!$G$3:$T$82,10,FALSE),0) -> 1 | L20: =IFERROR(VLOOKUP($B20,'Datos Adulto'!$G$3:$T$82,11,FALSE),0) -> 0 | M20: =IFERROR(VLOOKUP($B20,'Datos Adulto'!$G$3:$T$82,12,FALSE),0) -> 1 | N20: =IFERROR(VLOOKUP($B20,'Datos Adulto'!$G$3:$T$82,13,FALSE),0) -> 1 | O20: =SUM(C20:N20) -> 11
A21: 04102-COQUIMBO | B21: 105321-CES. RURAL TONGOY | C21: =IFERROR(VLOOKUP($B21,'Datos Adulto'!$G$3:$T$82,2,FALSE),0) -> 0 | D21: =IFERROR(VLOOKUP($B21,'Datos Adulto'!$G$3:$T$82,3,FALSE),0) -> 0 | E21: =IFERROR(VLOOKUP($B21,'Datos Adulto'!$G$3:$T$82,4,FALSE),0) -> 1 | F21: =IFERROR(VLOOKUP($B21,'Datos Adulto'!$G$3:$T$82,5,FALSE),0) -> 1 | G21: =IFERROR(VLOOKUP($B21,'Datos Adulto'!$G$3:$T$82,6,FALSE),0) -> 1 | H21: =IFERROR(VLOOKUP($B21,'Datos Adulto'!$G$3:$T$82,7,FALSE),0) -> 1 | I21: =IFERROR(VLOOKUP($B21,'Datos Adulto'!$G$3:$T$82,8,FALSE),0) -> 1 | J21: =IFERROR(VLOOKUP($B21,'Datos Adulto'!$G$3:$T$82,9,FALSE),0) -> 1 | K21: =IFERROR(VLOOKUP($B21,'Datos Adulto'!$G$3:$T$82,10,FALSE),0) -> 1 | L21: =IFERROR(VLOOKUP($B21,'Datos Adulto'!$G$3:$T$82,11,FALSE),0) -> 1 | M21: =IFERROR(VLOOKUP($B21,'Datos Adulto'!$G$3:$T$82,12,FALSE),0) -> 1 | N21: =IFERROR(VLOOKUP($B21,'Datos Adulto'!$G$3:$T$82,13,FALSE),0) -> 0 | O21: =SUM(C21:N21) -> 9
A22: 04102-COQUIMBO | B22: 105323-CES. DR. SERGIO AGUILAR | C22: =IFERROR(VLOOKUP($B22,'Datos Adulto'!$G$3:$T$82,2,FALSE),0) -> 0 | D22: =IFERROR(VLOOKUP($B22,'Datos Adulto'!$G$3:$T$82,3,FALSE),0) -> 0 | E22: =IFERROR(VLOOKUP($B22,'Datos Adulto'!$G$3:$T$82,4,FALSE),0) -> 2 | F22: =IFERROR(VLOOKUP($B22,'Datos Adulto'!$G$3:$T$82,5,FALSE),0) -> 1 | G22: =IFERROR(VLOOKUP($B22,'Datos Adulto'!$G$3:$T$82,6,FALSE),0) -> 1 | H22: =IFERROR(VLOOKUP($B22,'Datos Adulto'!$G$3:$T$82,7,FALSE),0) -> 1 | I22: =IFERROR(VLOOKUP($B22,'Datos Adulto'!$G$3:$T$82,8,FALSE),0) -> 1 | J22: =IFERROR(VLOOKUP($B22,'Datos Adulto'!$G$3:$T$82,9,FALSE),0) -> 1 | K22: =IFERROR(VLOOKUP($B22,'Datos Adulto'!$G$3:$T$82,10,FALSE),0) -> 1 | L22: =IFERROR(VLOOKUP($B22,'Datos Adulto'!$G$3:$T$82,11,FALSE),0) -> 1 | M22: =IFERROR(VLOOKUP($B22,'Datos Adulto'!$G$3:$T$82,12,FALSE),0) -> 1 | N22: =IFERROR(VLOOKUP($B22,'Datos Adulto'!$G$3:$T$82,13,FALSE),0) -> 1 | O22: =SUM(C22:N22) -> 11
A23: 04102-COQUIMBO | B23: 105404-P.S.R. EL TANGUE | C23: =IFERROR(VLOOKUP($B23,'Datos Adulto'!$G$3:$T$82,2,FALSE),0) -> 0 | D23: =IFERROR(VLOOKUP($B23,'Datos Adulto'!$G$3:$T$82,3,FALSE),0) -> 0 | E23: =IFERROR(VLOOKUP($B23,'Datos Adulto'!$G$3:$T$82,4,FALSE),0) -> 0 | F23: =IFERROR(VLOOKUP($B23,'Datos Adulto'!$G$3:$T$82,5,FALSE),0) -> 0 | G23: =IFERROR(VLOOKUP($B23,'Datos Adulto'!$G$3:$T$82,6,FALSE),0) -> 0 | H23: =IFERROR(VLOOKUP($B23,'Datos Adulto'!$G$3:$T$82,7,FALSE),0) -> 0 | I23: =IFERROR(VLOOKUP($B23,'Datos Adulto'!$G$3:$T$82,8,FALSE),0) -> 0 | J23: =IFERROR(VLOOKUP($B23,'Datos Adulto'!$G$3:$T$82,9,FALSE),0) -> 0 | K23: =IFERROR(VLOOKUP($B23,'Datos Adulto'!$G$3:$T$82,10,FALSE),0) -> 0 | L23: =IFERROR(VLOOKUP($B23,'Datos Adulto'!$G$3:$T$82,11,FALSE),0) -> 0 | M23: =IFERROR(VLOOKUP($B23,'Datos Adulto'!$G$3:$T$82,12,FALSE),0) -> 0 | N23: =IFERROR(VLOOKUP($B23,'Datos Adulto'!$G$3:$T$82,13,FALSE),0) -> 0 | O23: =SUM(C23:N23) -> 0
A24: 04102-COQUIMBO | B24: 105405-P.S.R. GUANAQUEROS | C24: =IFERROR(VLOOKUP($B24,'Datos Adulto'!$G$3:$T$82,2,FALSE),0) -> 0 | D24: =IFERROR(VLOOKUP($B24,'Datos Adulto'!$G$3:$T$82,3,FALSE),0) -> 0 | E24: =IFERROR(VLOOKUP($B24,'Datos Adulto'!$G$3:$T$82,4,FALSE),0) -> 0 | F24: =IFERROR(VLOOKUP($B24,'Datos Adulto'!$G$3:$T$82,5,FALSE),0) -> 0 | G24: =IFERROR(VLOOKUP($B24,'Datos Adulto'!$G$3:$T$82,6,FALSE),0) -> 0 | H24: =IFERROR(VLOOKUP($B24,'Datos Adulto'!$G$3:$T$82,7,FALSE),0) -> 0 | I24: =IFERROR(VLOOKUP($B24,'Datos Adulto'!$G$3:$T$82,8,FALSE),0) -> 0 | J24: =IFERROR(VLOOKUP($B24,'Datos Adulto'!$G$3:$T$82,9,FALSE),0) -> 0 | K24: =IFERROR(VLOOKUP($B24,'Datos Adulto'!$G$3:$T$82,10,FALSE),0) -> 0 | L24: =IFERROR(VLOOKUP($B24,'Datos Adulto'!$G$3:$T$82,11,FALSE),0) -> 0 | M24: =IFERROR(VLOOKUP($B24,'Datos Adulto'!$G$3:$T$82,12,FALSE),0) -> 0 | N24: =IFERROR(VLOOKUP($B24,'Datos Adulto'!$G$3:$T$82,13,FALSE),0) -> 0 | O24: =SUM(C24:N24) -> 0
A25: 04102-COQUIMBO | B25: 105407-P.S.R. TAMBILLOS | C25: =IFERROR(VLOOKUP($B25,'Datos Adulto'!$G$3:$T$82,2,FALSE),0) -> 0 | D25: =IFERROR(VLOOKUP($B25,'Datos Adulto'!$G$3:$T$82,3,FALSE),0) -> 0 | E25: =IFERROR(VLOOKUP($B25,'Datos Adulto'!$G$3:$T$82,4,FALSE),0) -> 0 | F25: =IFERROR(VLOOKUP($B25,'Datos Adulto'!$G$3:$T$82,5,FALSE),0) -> 0 | G25: =IFERROR(VLOOKUP($B25,'Datos Adulto'!$G$3:$T$82,6,FALSE),0) -> 0 | H25: =IFERROR(VLOOKUP($B25,'Datos Adulto'!$G$3:$T$82,7,FALSE),0) -> 0 | I25: =IFERROR(VLOOKUP($B25,'Datos Adulto'!$G$3:$T$82,8,FALSE),0) -> 0 | J25: =IFERROR(VLOOKUP($B25,'Datos Adulto'!$G$3:$T$82,9,FALSE),0) -> 0 | K25: =IFERROR(VLOOKUP($B25,'Datos Adulto'!$G$3:$T$82,10,FALSE),0) -> 0 | L25: =IFERROR(VLOOKUP($B25,'Datos Adulto'!$G$3:$T$82,11,FALSE),0) -> 0 | M25: =IFERROR(VLOOKUP($B25,'Datos Adulto'!$G$3:$T$82,12,FALSE),0) -> 0 | N25: =IFERROR(VLOOKUP($B25,'Datos Adulto'!$G$3:$T$82,13,FALSE),0) -> 0 | O25: =SUM(C25:N25) -> 0
A26: 04102-COQUIMBO | B26: 200273-CECOF PUNTA MIRA | C26: =IFERROR(VLOOKUP($B26,'Datos Adulto'!$G$3:$T$82,2,FALSE),0) -> 0 | D26: =IFERROR(VLOOKUP($B26,'Datos Adulto'!$G$3:$T$82,3,FALSE),0) -> 0 | E26: =IFERROR(VLOOKUP($B26,'Datos Adulto'!$G$3:$T$82,4,FALSE),0) -> 0 | F26: =IFERROR(VLOOKUP($B26,'Datos Adulto'!$G$3:$T$82,5,FALSE),0) -> 0 | G26: =IFERROR(VLOOKUP($B26,'Datos Adulto'!$G$3:$T$82,6,FALSE),0) -> 0 | H26: =IFERROR(VLOOKUP($B26,'Datos Adulto'!$G$3:$T$82,7,FALSE),0) -> 0 | I26: =IFERROR(VLOOKUP($B26,'Datos Adulto'!$G$3:$T$82,8,FALSE),0) -> 0 | J26: =IFERROR(VLOOKUP($B26,'Datos Adulto'!$G$3:$T$82,9,FALSE),0) -> 0 | K26: =IFERROR(VLOOKUP($B26,'Datos Adulto'!$G$3:$T$82,10,FALSE),0) -> 0 | L26: =IFERROR(VLOOKUP($B26,'Datos Adulto'!$G$3:$T$82,11,FALSE),0) -> 0 | M26: =IFERROR(VLOOKUP($B26,'Datos Adulto'!$G$3:$T$82,12,FALSE),0) -> 0 | N26: =IFERROR(VLOOKUP($B26,'Datos Adulto'!$G$3:$T$82,13,FALSE),0) -> 0 | O26: =SUM(C26:N26) -> 0
A27: 04102-COQUIMBO | B27: 200494-CESFAM EL SAUCE | C27: =IFERROR(VLOOKUP($B27,'Datos Adulto'!$G$3:$T$82,2,FALSE),0) -> 1 | D27: =IFERROR(VLOOKUP($B27,'Datos Adulto'!$G$3:$T$82,3,FALSE),0) -> 0 | E27: =IFERROR(VLOOKUP($B27,'Datos Adulto'!$G$3:$T$82,4,FALSE),0) -> 1 | F27: =IFERROR(VLOOKUP($B27,'Datos Adulto'!$G$3:$T$82,5,FALSE),0) -> 1 | G27: =IFERROR(VLOOKUP($B27,'Datos Adulto'!$G$3:$T$82,6,FALSE),0) -> 1 | H27: =IFERROR(VLOOKUP($B27,'Datos Adulto'!$G$3:$T$82,7,FALSE),0) -> 1 | I27: =IFERROR(VLOOKUP($B27,'Datos Adulto'!$G$3:$T$82,8,FALSE),0) -> 1 | J27: =IFERROR(VLOOKUP($B27,'Datos Adulto'!$G$3:$T$82,9,FALSE),0) -> 0 | K27: =IFERROR(VLOOKUP($B27,'Datos Adulto'!$G$3:$T$82,10,FALSE),0) -> 1 | L27: =IFERROR(VLOOKUP($B27,'Datos Adulto'!$G$3:$T$82,11,FALSE),0) -> 1 | M27: =IFERROR(VLOOKUP($B27,'Datos Adulto'!$G$3:$T$82,12,FALSE),0) -> 1 | N27: =IFERROR(VLOOKUP($B27,'Datos Adulto'!$G$3:$T$82,13,FALSE),0) -> 1 | O27: =SUM(C27:N27) -> 10
A28: 04102-COQUIMBO | B28: 200607-CESFAM LILA CORTES | C28: =IFERROR(VLOOKUP($B28,'Datos Adulto'!$G$3:$T$82,2,FALSE),0) -> 1 | D28: =IFERROR(VLOOKUP($B28,'Datos Adulto'!$G$3:$T$82,3,FALSE),0) -> 0 | E28: =IFERROR(VLOOKUP($B28,'Datos Adulto'!$G$3:$T$82,4,FALSE),0) -> 1 | F28: =IFERROR(VLOOKUP($B28,'Datos Adulto'!$G$3:$T$82,5,FALSE),0) -> 0 | G28: =IFERROR(VLOOKUP($B28,'Datos Adulto'!$G$3:$T$82,6,FALSE),0) -> 1 | H28: =IFERROR(VLOOKUP($B28,'Datos Adulto'!$G$3:$T$82,7,FALSE),0) -> 3 | I28: =IFERROR(VLOOKUP($B28,'Datos Adulto'!$G$3:$T$82,8,FALSE),0) -> 1 | J28: =IFERROR(VLOOKUP($B28,'Datos Adulto'!$G$3:$T$82,9,FALSE),0) -> 1 | K28: =IFERROR(VLOOKUP($B28,'Datos Adulto'!$G$3:$T$82,10,FALSE),0) -> 1 | L28: =IFERROR(VLOOKUP($B28,'Datos Adulto'!$G$3:$T$82,11,FALSE),0) -> 1 | M28: =IFERROR(VLOOKUP($B28,'Datos Adulto'!$G$3:$T$82,12,FALSE),0) -> 1 | N28: =IFERROR(VLOOKUP($B28,'Datos Adulto'!$G$3:$T$82,13,FALSE),0) -> 4 | O28: =SUM(C28:N28) -> 15
A29: 04102-COQUIMBO | B29: 200499-CESFAM PAN DE AZÚCAR | C29: =IFERROR(VLOOKUP($B29,'Datos Adulto'!$G$3:$T$82,2,FALSE),0) -> 1 | D29: =IFERROR(VLOOKUP($B29,'Datos Adulto'!$G$3:$T$82,3,FALSE),0) -> 0 | E29: =IFERROR(VLOOKUP($B29,'Datos Adulto'!$G$3:$T$82,4,FALSE),0) -> 1 | F29: =IFERROR(VLOOKUP($B29,'Datos Adulto'!$G$3:$T$82,5,FALSE),0) -> 1 | G29: =IFERROR(VLOOKUP($B29,'Datos Adulto'!$G$3:$T$82,6,FALSE),0) -> 1 | H29: =IFERROR(VLOOKUP($B29,'Datos Adulto'!$G$3:$T$82,7,FALSE),0) -> 1 | I29: =IFERROR(VLOOKUP($B29,'Datos Adulto'!$G$3:$T$82,8,FALSE),0) -> 1 | J29: =IFERROR(VLOOKUP($B29,'Datos Adulto'!$G$3:$T$82,9,FALSE),0) -> 1 | K29: =IFERROR(VLOOKUP($B29,'Datos Adulto'!$G$3:$T$82,10,FALSE),0) -> 1 | L29: =IFERROR(VLOOKUP($B29,'Datos Adulto'!$G$3:$T$82,11,FALSE),0) -> 1 | M29: =IFERROR(VLOOKUP($B29,'Datos Adulto'!$G$3:$T$82,12,FALSE),0) -> 1 | N29: =IFERROR(VLOOKUP($B29,'Datos Adulto'!$G$3:$T$82,13,FALSE),0) -> 1 | O29: =SUM(C29:N29) -> 11
A30: TOTAL COQUIMBO | C30: =SUM(C18:C29) -> 6 | D30: =SUM(D18:D29) -> 1 | E30: =SUM(E18:E29) -> 9 | F30: =SUM(F18:F29) -> 7 | G30: =SUM(G18:G29) -> 8 | H30: =SUM(H18:H29) -> 10 | I30: =SUM(I18:I29) -> 7 | J30: =SUM(J18:J29) -> 8 | ... O30: =SUM(O18:O29) -> 85
A31: 04104-LA HIGUERA | B31: 105314-CES. LA HIGUERA | C31: =IFERROR(VLOOKUP($B31,'Datos Adulto'!$G$3:$T$82,2,FALSE),0) -> 1 | D31: =IFERROR(VLOOKUP($B31,'Datos Adulto'!$G$3:$T$82,3,FALSE),0) -> 0 | E31: =IFERROR(VLOOKUP($B31,'Datos Adulto'!$G$3:$T$82,4,FALSE),0) -> 1 | F31: =IFERROR(VLOOKUP($B31,'Datos Adulto'!$G$3:$T$82,5,FALSE),0) -> 1 | G31: =IFERROR(VLOOKUP($B31,'Datos Adulto'!$G$3:$T$82,6,FALSE),0) -> 1 | H31: =IFERROR(VLOOKUP($B31,'Datos Adulto'!$G$3:$T$82,7,FALSE),0) -> 1 | I31: =IFERROR(VLOOKUP($B31,'Datos Adulto'!$G$3:$T$82,8,FALSE),0) -> 1 | J31: =IFERROR(VLOOKUP($B31,'Datos Adulto'!$G$3:$T$82,9,FALSE),0) -> 1 | K31: =IFERROR(VLOOKUP($B31,'Datos Adulto'!$G$3:$T$82,10,FALSE),0) -> 1 | L31: =IFERROR(VLOOKUP($B31,'Datos Adulto'!$G$3:$T$82,11,FALSE),0) -> 1 | M31: =IFERROR(VLOOKUP($B31,'Datos Adulto'!$G$3:$T$82,12,FALSE),0) -> 0 | N31: =IFERROR(VLOOKUP($B31,'Datos Adulto'!$G$3:$T$82,13,FALSE),0) -> 0 | O31: =SUM(C31:N31) -> 9
A32: 04104-LA HIGUERA | B32: 105500-P.S.R. CALETA HORNOS | C32: =IFERROR(VLOOKUP($B32,'Datos Adulto'!$G$3:$T$82,2,FALSE),0) -> 0 | D32: =IFERROR(VLOOKUP($B32,'Datos Adulto'!$G$3:$T$82,3,FALSE),0) -> 0 | E32: =IFERROR(VLOOKUP($B32,'Datos Adulto'!$G$3:$T$82,4,FALSE),0) -> 0 | F32: =IFERROR(VLOOKUP($B32,'Datos Adulto'!$G$3:$T$82,5,FALSE),0) -> 0 | G32: =IFERROR(VLOOKUP($B32,'Datos Adulto'!$G$3:$T$82,6,FALSE),0) -> 0 | H32: =IFERROR(VLOOKUP($B32,'Datos Adulto'!$G$3:$T$82,7,FALSE),0) -> 0 | I32: =IFERROR(VLOOKUP($B32,'Datos Adulto'!$G$3:$T$82,8,FALSE),0) -> 0 | J32: =IFERROR(VLOOKUP($B32,'Datos Adulto'!$G$3:$T$82,9,FALSE),0) -> 0 | K32: =IFERROR(VLOOKUP($B32,'Datos Adulto'!$G$3:$T$82,10,FALSE),0) -> 0 | L32: =IFERROR(VLOOKUP($B32,'Datos Adulto'!$G$3:$T$82,11,FALSE),0) -> 0 | M32: =IFERROR(VLOOKUP($B32,'Datos Adulto'!$G$3:$T$82,12,FALSE),0) -> 0 | N32: =IFERROR(VLOOKUP($B32,'Datos Adulto'!$G$3:$T$82,13,FALSE),0) -> 0 | O32: =SUM(C32:N32) -> 0
A33: 04104-LA HIGUERA | B33: 105505-P.S.R. LOS CHOROS | C33: =IFERROR(VLOOKUP($B33,'Datos Adulto'!$G$3:$T$82,2,FALSE),0) -> 0 | D33: =IFERROR(VLOOKUP($B33,'Datos Adulto'!$G$3:$T$82,3,FALSE),0) -> 1 | E33: =IFERROR(VLOOKUP($B33,'Datos Adulto'!$G$3:$T$82,4,FALSE),0) -> 0 | F33: =IFERROR(VLOOKUP($B33,'Datos Adulto'!$G$3:$T$82,5,FALSE),0) -> 0 | G33: =IFERROR(VLOOKUP($B33,'Datos Adulto'!$G$3:$T$82,6,FALSE),0) -> 0 | H33: =IFERROR(VLOOKUP($B33,'Datos Adulto'!$G$3:$T$82,7,FALSE),0) -> 0 | I33: =IFERROR(VLOOKUP($B33,'Datos Adulto'!$G$3:$T$82,8,FALSE),0) -> 0 | J33: =IFERROR(VLOOKUP($B33,'Datos Adulto'!$G$3:$T$82,9,FALSE),0) -> 0 | K33: =IFERROR(VLOOKUP($B33,'Datos Adulto'!$G$3:$T$82,10,FALSE),0) -> 0 | L33: =IFERROR(VLOOKUP($B33,'Datos Adulto'!$G$3:$T$82,11,FALSE),0) -> 0 | M33: =IFERROR(VLOOKUP($B33,'Datos Adulto'!$G$3:$T$82,12,FALSE),0) -> 0 | N33: =IFERROR(VLOOKUP($B33,'Datos Adulto'!$G$3:$T$82,13,FALSE),0) -> 0 | O33: =SUM(C33:N33) -> 1
A34: 04104-LA HIGUERA | B34: 105506-P.S.R. EL TRAPICHE | C34: =IFERROR(VLOOKUP($B34,'Datos Adulto'!$G$3:$T$82,2,FALSE),0) -> 0 | D34: =IFERROR(VLOOKUP($B34,'Datos Adulto'!$G$3:$T$82,3,FALSE),0) -> 0 | E34: =IFERROR(VLOOKUP($B34,'Datos Adulto'!$G$3:$T$82,4,FALSE),0) -> 0 | F34: =IFERROR(VLOOKUP($B34,'Datos Adulto'!$G$3:$T$82,5,FALSE),0) -> 0 | G34: =IFERROR(VLOOKUP($B34,'Datos Adulto'!$G$3:$T$82,6,FALSE),0) -> 0 | H34: =IFERROR(VLOOKUP($B34,'Datos Adulto'!$G$3:$T$82,7,FALSE),0) -> 0 | I34: =IFERROR(VLOOKUP($B34,'Datos Adulto'!$G$3:$T$82,8,FALSE),0) -> 0 | J34: =IFERROR(VLOOKUP($B34,'Datos Adulto'!$G$3:$T$82,9,FALSE),0) -> 0 | K34: =IFERROR(VLOOKUP($B34,'Datos Adulto'!$G$3:$T$82,10,FALSE),0) -> 0 | L34: =IFERROR(VLOOKUP($B34,'Datos Adulto'!$G$3:$T$82,11,FALSE),0) -> 0 | M34: =IFERROR(VLOOKUP($B34,'Datos Adulto'!$G$3:$T$82,12,FALSE),0) -> 0 | N34: =IFERROR(VLOOKUP($B34,'Datos Adulto'!$G$3:$T$82,13,FALSE),0) -> 0 | O34: =SUM(C34:N34) -> 0
A35: TOTAL LA HIGUERA | C35: =SUM(C31:C34) -> 1 | D35: =SUM(D31:D34) -> 1 | E35: =SUM(E31:E34) -> 1 | F35: =SUM(F31:F34) -> 1 | G35: =SUM(G31:G34) -> 1 | H35: =SUM(H31:H34) -> 1 | I35: =SUM(I31:I34) -> 1 | J35: =SUM(J31:J34) -> 1 | ... O35: =SUM(O31:O34) -> 10
A36: 04105-PAIHUANO | B36: 105306-CES. PAIHUANO | C36: =IFERROR(VLOOKUP($B36,'Datos Adulto'!$G$3:$T$82,2,FALSE),0) -> 1 | D36: =IFERROR(VLOOKUP($B36,'Datos Adulto'!$G$3:$T$82,3,FALSE),0) -> 1 | E36: =IFERROR(VLOOKUP($B36,'Datos Adulto'!$G$3:$T$82,4,FALSE),0) -> 1 | F36: =IFERROR(VLOOKUP($B36,'Datos Adulto'!$G$3:$T$82,5,FALSE),0) -> 1 | G36: =IFERROR(VLOOKUP($B36,'Datos Adulto'!$G$3:$T$82,6,FALSE),0) -> 1 | H36: =IFERROR(VLOOKUP($B36,'Datos Adulto'!$G$3:$T$82,7,FALSE),0) -> 1 | I36: =IFERROR(VLOOKUP($B36,'Datos Adulto'!$G$3:$T$82,8,FALSE),0) -> 0 | J36: =IFERROR(VLOOKUP($B36,'Datos Adulto'!$G$3:$T$82,9,FALSE),0) -> 2 | K36: =IFERROR(VLOOKUP($B36,'Datos Adulto'!$G$3:$T$82,10,FALSE),0) -> 0 | L36: =IFERROR(VLOOKUP($B36,'Datos Adulto'!$G$3:$T$82,11,FALSE),0) -> 2 | M36: =IFERROR(VLOOKUP($B36,'Datos Adulto'!$G$3:$T$82,12,FALSE),0) -> 1 | N36: =IFERROR(VLOOKUP($B36,'Datos Adulto'!$G$3:$T$82,13,FALSE),0) -> 1 | O36: =SUM(C36:N36) -> 12
A37: 04105-PAIHUANO | B37: 105475-P.S.R. HORCON | C37: =IFERROR(VLOOKUP($B37,'Datos Adulto'!$G$3:$T$82,2,FALSE),0) -> 0 | D37: =IFERROR(VLOOKUP($B37,'Datos Adulto'!$G$3:$T$82,3,FALSE),0) -> 0 | E37: =IFERROR(VLOOKUP($B37,'Datos Adulto'!$G$3:$T$82,4,FALSE),0) -> 0 | F37: =IFERROR(VLOOKUP($B37,'Datos Adulto'!$G$3:$T$82,5,FALSE),0) -> 0 | G37: =IFERROR(VLOOKUP($B37,'Datos Adulto'!$G$3:$T$82,6,FALSE),0) -> 0 | H37: =IFERROR(VLOOKUP($B37,'Datos Adulto'!$G$3:$T$82,7,FALSE),0) -> 0 | I37: =IFERROR(VLOOKUP($B37,'Datos Adulto'!$G$3:$T$82,8,FALSE),0) -> 0 | J37: =IFERROR(VLOOKUP($B37,'Datos Adulto'!$G$3:$T$82,9,FALSE),0) -> 0 | K37: =IFERROR(VLOOKUP($B37,'Datos Adulto'!$G$3:$T$82,10,FALSE),0) -> 0 | L37: =IFERROR(VLOOKUP($B37,'Datos Adulto'!$G$3:$T$82,11,FALSE),0) -> 0 | M37: =IFERROR(VLOOKUP($B37,'Datos Adulto'!$G$3:$T$82,12,FALSE),0) -> 0 | N37: =IFERROR(VLOOKUP($B37,'Datos Adulto'!$G$3:$T$82,13,FALSE),0) -> 0 | O37: =SUM(C37:N37) -> 0
A38: 04105-PAIHUANO | B38: 105476-P.S.R. MONTE GRANDE | C38: =IFERROR(VLOOKUP($B38,'Datos Adulto'!$G$3:$T$82,2,FALSE),0) -> 0 | D38: =IFERROR(VLOOKUP($B38,'Datos Adulto'!$G$3:$T$82,3,FALSE),0) -> 0 | E38: =IFERROR(VLOOKUP($B38,'Datos Adulto'!$G$3:$T$82,4,FALSE),0) -> 0 | F38: =IFERROR(VLOOKUP($B38,'Datos Adulto'!$G$3:$T$82,5,FALSE),0) -> 0 | G38: =IFERROR(VLOOKUP($B38,'Datos Adulto'!$G$3:$T$82,6,FALSE),0) -> 0 | H38: =IFERROR(VLOOKUP($B38,'Datos Adulto'!$G$3:$T$82,7,FALSE),0) -> 0 | I38: =IFERROR(VLOOKUP($B38,'Datos Adulto'!$G$3:$T$82,8,FALSE),0) -> 0 | J38: =IFERROR(VLOOKUP($B38,'Datos Adulto'!$G$3:$T$82,9,FALSE),0) -> 0 | K38: =IFERROR(VLOOKUP($B38,'Datos Adulto'!$G$3:$T$82,10,FALSE),0) -> 0 | L38: =IFERROR(VLOOKUP($B38,'Datos Adulto'!$G$3:$T$82,11,FALSE),0) -> 0 | M38: =IFERROR(VLOOKUP($B38,'Datos Adulto'!$G$3:$T$82,12,FALSE),0) -> 0 | N38: =IFERROR(VLOOKUP($B38,'Datos Adulto'!$G$3:$T$82,13,FALSE),0) -> 0 | O38: =SUM(C38:N38) -> 0
A39: 04105-PAIHUANO | B39: 105477-P.S.R. PISCO ELQUI | C39: =IFERROR(VLOOKUP($B39,'Datos Adulto'!$G$3:$T$82,2,FALSE),0) -> 0 | D39: =IFERROR(VLOOKUP($B39,'Datos Adulto'!$G$3:$T$82,3,FALSE),0) -> 0 | E39: =IFERROR(VLOOKUP($B39,'Datos Adulto'!$G$3:$T$82,4,FALSE),0) -> 0 | F39: =IFERROR(VLOOKUP($B39,'Datos Adulto'!$G$3:$T$82,5,FALSE),0) -> 0 | G39: =IFERROR(VLOOKUP($B39,'Datos Adulto'!$G$3:$T$82,6,FALSE),0) -> 0 | H39: =IFERROR(VLOOKUP($B39,'Datos Adulto'!$G$3:$T$82,7,FALSE),0) -> 0 | I39: =IFERROR(VLOOKUP($B39,'Datos Adulto'!$G$3:$T$82,8,FALSE),0) -> 0 | J39: =IFERROR(VLOOKUP($B39,'Datos Adulto'!$G$3:$T$82,9,FALSE),0) -> 0 | K39: =IFERROR(VLOOKUP($B39,'Datos Adulto'!$G$3:$T$82,10,FALSE),0) -> 0 | L39: =IFERROR(VLOOKUP($B39,'Datos Adulto'!$G$3:$T$82,11,FALSE),0) -> 0 | M39: =IFERROR(VLOOKUP($B39,'Datos Adulto'!$G$3:$T$82,12,FALSE),0) -> 0 | N39: =IFERROR(VLOOKUP($B39,'Datos Adulto'!$G$3:$T$82,13,FALSE),0) -> 0 | O39: =SUM(C39:N39) -> 0
A40: TOTAL PAIHUANO | C40: =IFERROR(VLOOKUP($B40,#REF!,2,FALSE),0) -> 0 | D40: =IFERROR(VLOOKUP($B40,#REF!,3,FALSE),0) -> 0 | E40: =SUM(E36:E39) -> 1 | F40: =SUM(F36:F39) -> 1 | G40: =SUM(G36:G39) -> 1 | H40: =SUM(H36:H39) -> 1 | I40: =SUM(I36:I39) -> 0 | J40: =SUM(J36:J39) -> 2 | K40: =SUM(K36:K39) -> 0 | L40: =SUM(L36:L39) -> 2 | ... O40: =SUM(O36:O39) -> 12
A41: 04106-VICUÑA | B41: 105467-P.S.R. DIAGUITAS | C41: =IFERROR(VLOOKUP($B41,'Datos Adulto'!$G$3:$T$82,2,FALSE),0) -> 1 | D41: =IFERROR(VLOOKUP($B41,'Datos Adulto'!$G$3:$T$82,3,FALSE),0) -> 1 | E41: =IFERROR(VLOOKUP($B41,'Datos Adulto'!$G$3:$T$82,4,FALSE),0) -> 1 | F41: =IFERROR(VLOOKUP($B41,'Datos Adulto'!$G$3:$T$82,5,FALSE),0) -> 1 | G41: =IFERROR(VLOOKUP($B41,'Datos Adulto'!$G$3:$T$82,6,FALSE),0) -> 0 | H41: =IFERROR(VLOOKUP($B41,'Datos Adulto'!$G$3:$T$82,7,FALSE),0) -> 0 | I41: =IFERROR(VLOOKUP($B41,'Datos Adulto'!$G$3:$T$82,8,FALSE),0) -> 1 | J41: =IFERROR(VLOOKUP($B41,'Datos Adulto'!$G$3:$T$82,9,FALSE),0) -> 0 | K41: =IFERROR(VLOOKUP($B41,'Datos Adulto'!$G$3:$T$82,10,FALSE),0) -> 2 | L41: =IFERROR(VLOOKUP($B41,'Datos Adulto'!$G$3:$T$82,11,FALSE),0) -> 1 | M41: =IFERROR(VLOOKUP($B41,'Datos Adulto'!$G$3:$T$82,12,FALSE),0) -> 1 | N41: =IFERROR(VLOOKUP($B41,'Datos Adulto'!$G$3:$T$82,13,FALSE),0) -> 0 | O41: =SUM(C41:N41) -> 9
A42: 04106-VICUÑA | B42: 105468-P.S.R. EL MOLLE | C42: =IFERROR(VLOOKUP($B42,'Datos Adulto'!$G$3:$T$82,2,FALSE),0) -> 0 | D42: =IFERROR(VLOOKUP($B42,'Datos Adulto'!$G$3:$T$82,3,FALSE),0) -> 0 | E42: =IFERROR(VLOOKUP($B42,'Datos Adulto'!$G$3:$T$82,4,FALSE),0) -> 0 | F42: =IFERROR(VLOOKUP($B42,'Datos Adulto'!$G$3:$T$82,5,FALSE),0) -> 0 | G42: =IFERROR(VLOOKUP($B42,'Datos Adulto'!$G$3:$T$82,6,FALSE),0) -> 0 | H42: =IFERROR(VLOOKUP($B42,'Datos Adulto'!$G$3:$T$82,7,FALSE),0) -> 0 | I42: =IFERROR(VLOOKUP($B42,'Datos Adulto'!$G$3:$T$82,8,FALSE),0) -> 0 | J42: =IFERROR(VLOOKUP($B42,'Datos Adulto'!$G$3:$T$82,9,FALSE),0) -> 0 | K42: =IFERROR(VLOOKUP($B42,'Datos Adulto'!$G$3:$T$82,10,FALSE),0) -> 0 | L42: =IFERROR(VLOOKUP($B42,'Datos Adulto'!$G$3:$T$82,11,FALSE),0) -> 0 | M42: =IFERROR(VLOOKUP($B42,'Datos Adulto'!$G$3:$T$82,12,FALSE),0) -> 0 | N42: =IFERROR(VLOOKUP($B42,'Datos Adulto'!$G$3:$T$82,13,FALSE),0) -> 0 | O42: =SUM(C42:N42) -> 0
A43: 04106-VICUÑA | B43: 105469-P.S.R. EL TAMBO | C43: =IFERROR(VLOOKUP($B43,'Datos Adulto'!$G$3:$T$82,2,FALSE),0) -> 0 | D43: =IFERROR(VLOOKUP($B43,'Datos Adulto'!$G$3:$T$82,3,FALSE),0) -> 0 | E43: =IFERROR(VLOOKUP($B43,'Datos Adulto'!$G$3:$T$82,4,FALSE),0) -> 0 | F43: =IFERROR(VLOOKUP($B43,'Datos Adulto'!$G$3:$T$82,5,FALSE),0) -> 0 | G43: =IFERROR(VLOOKUP($B43,'Datos Adulto'!$G$3:$T$82,6,FALSE),0) -> 0 | H43: =IFERROR(VLOOKUP($B43,'Datos Adulto'!$G$3:$T$82,7,FALSE),0) -> 0 | I43: =IFERROR(VLOOKUP($B43,'Datos Adulto'!$G$3:$T$82,8,FALSE),0) -> 0 | J43: =IFERROR(VLOOKUP($B43,'Datos Adulto'!$G$3:$T$82,9,FALSE),0) -> 0 | K43: =IFERROR(VLOOKUP($B43,'Datos Adulto'!$G$3:$T$82,10,FALSE),0) -> 0 | L43: =IFERROR(VLOOKUP($B43,'Datos Adulto'!$G$3:$T$82,11,FALSE),0) -> 0 | M43: =IFERROR(VLOOKUP($B43,'Datos Adulto'!$G$3:$T$82,12,FALSE),0) -> 0 | N43: =IFERROR(VLOOKUP($B43,'Datos Adulto'!$G$3:$T$82,13,FALSE),0) -> 0 | O43: =SUM(C43:N43) -> 0
A44: 04106-VICUÑA | B44: 105470-P.S.R. HUANTA | C44: =IFERROR(VLOOKUP($B44,'Datos Adulto'!$G$3:$T$82,2,FALSE),0) -> 0 | D44: =IFERROR(VLOOKUP($B44,'Datos Adulto'!$G$3:$T$82,3,FALSE),0) -> 0 | E44: =IFERROR(VLOOKUP($B44,'Datos Adulto'!$G$3:$T$82,4,FALSE),0) -> 0 | F44: =IFERROR(VLOOKUP($B44,'Datos Adulto'!$G$3:$T$82,5,FALSE),0) -> 0 | G44: =IFERROR(VLOOKUP($B44,'Datos Adulto'!$G$3:$T$82,6,FALSE),0) -> 0 | H44: =IFERROR(VLOOKUP($B44,'Datos Adulto'!$G$3:$T$82,7,FALSE),0) -> 0 | I44: =IFERROR(VLOOKUP($B44,'Datos Adulto'!$G$3:$T$82,8,FALSE),0) -> 0 | J44: =IFERROR(VLOOKUP($B44,'Datos Adulto'!$G$3:$T$82,9,FALSE),0) -> 0 | K44: =IFERROR(VLOOKUP($B44,'Datos Adulto'!$G$3:$T$82,10,FALSE),0) -> 0 | L44: =IFERROR(VLOOKUP($B44,'Datos Adulto'!$G$3:$T$82,11,FALSE),0) -> 0 | M44: =IFERROR(VLOOKUP($B44,'Datos Adulto'!$G$3:$T$82,12,FALSE),0) -> 0 | N44: =IFERROR(VLOOKUP($B44,'Datos Adulto'!$G$3:$T$82,13,FALSE),0) -> 0 | O44: =SUM(C44:N44) -> 0
A45: 04106-VICUÑA | B45: 105471-P.S.R. PERALILLO | C45: =IFERROR(VLOOKUP($B45,'Datos Adulto'!$G$3:$T$82,2,FALSE),0) -> 0 | D45: =IFERROR(VLOOKUP($B45,'Datos Adulto'!$G$3:$T$82,3,FALSE),0) -> 0 | E45: =IFERROR(VLOOKUP($B45,'Datos Adulto'!$G$3:$T$82,4,FALSE),0) -> 0 | F45: =IFERROR(VLOOKUP($B45,'Datos Adulto'!$G$3:$T$82,5,FALSE),0) -> 0 | G45: =IFERROR(VLOOKUP($B45,'Datos Adulto'!$G$3:$T$82,6,FALSE),0) -> 0 | H45: =IFERROR(VLOOKUP($B45,'Datos Adulto'!$G$3:$T$82,7,FALSE),0) -> 0 | I45: =IFERROR(VLOOKUP($B45,'Datos Adulto'!$G$3:$T$82,8,FALSE),0) -> 0 | J45: =IFERROR(VLOOKUP($B45,'Datos Adulto'!$G$3:$T$82,9,FALSE),0) -> 0 | K45: =IFERROR(VLOOKUP($B45,'Datos Adulto'!$G$3:$T$82,10,FALSE),0) -> 0 | L45: =IFERROR(VLOOKUP($B45,'Datos Adulto'!$G$3:$T$82,11,FALSE),0) -> 0 | M45: =IFERROR(VLOOKUP($B45,'Datos Adulto'!$G$3:$T$82,12,FALSE),0) -> 0 | N45: =IFERROR(VLOOKUP($B45,'Datos Adulto'!$G$3:$T$82,13,FALSE),0) -> 0 | O45: =SUM(C45:N45) -> 0
A46: 04106-VICUÑA | B46: 105472-P.S.R. RIVADAVIA | C46: =IFERROR(VLOOKUP($B46,'Datos Adulto'!$G$3:$T$82,2,FALSE),0) -> 0 | D46: =IFERROR(VLOOKUP($B46,'Datos Adulto'!$G$3:$T$82,3,FALSE),0) -> 0 | E46: =IFERROR(VLOOKUP($B46,'Datos Adulto'!$G$3:$T$82,4,FALSE),0) -> 0 | F46: =IFERROR(VLOOKUP($B46,'Datos Adulto'!$G$3:$T$82,5,FALSE),0) -> 0 | G46: =IFERROR(VLOOKUP($B46,'Datos Adulto'!$G$3:$T$82,6,FALSE),0) -> 0 | H46: =IFERROR(VLOOKUP($B46,'Datos Adulto'!$G$3:$T$82,7,FALSE),0) -> 0 | I46: =IFERROR(VLOOKUP($B46,'Datos Adulto'!$G$3:$T$82,8,FALSE),0) -> 0 | J46: =IFERROR(VLOOKUP($B46,'Datos Adulto'!$G$3:$T$82,9,FALSE),0) -> 0 | K46: =IFERROR(VLOOKUP($B46,'Datos Adulto'!$G$3:$T$82,10,FALSE),0) -> 0 | L46: =IFERROR(VLOOKUP($B46,'Datos Adulto'!$G$3:$T$82,11,FALSE),0) -> 0 | M46: =IFERROR(VLOOKUP($B46,'Datos Adulto'!$G$3:$T$82,12,FALSE),0) -> 0 | N46: =IFERROR(VLOOKUP($B46,'Datos Adulto'!$G$3:$T$82,13,FALSE),0) -> 0 | O46: =SUM(C46:N46) -> 0
A47: 04106-VICUÑA | B47: 105473-P.S.R. TALCUNA | C47: =IFERROR(VLOOKUP($B47,'Datos Adulto'!$G$3:$T$82,2,FALSE),0) -> 0 | D47: =IFERROR(VLOOKUP($B47,'Datos Adulto'!$G$3:$T$82,3,FALSE),0) -> 0 | E47: =IFERROR(VLOOKUP($B47,'Datos Adulto'!$G$3:$T$82,4,FALSE),0) -> 0 | F47: =IFERROR(VLOOKUP($B47,'Datos Adulto'!$G$3:$T$82,5,FALSE),0) -> 0 | G47: =IFERROR(VLOOKUP($B47,'Datos Adulto'!$G$3:$T$82,6,FALSE),0) -> 0 | H47: =IFERROR(VLOOKUP($B47,'Datos Adulto'!$G$3:$T$82,7,FALSE),0) -> 0 | I47: =IFERROR(VLOOKUP($B47,'Datos Adulto'!$G$3:$T$82,8,FALSE),0) -> 0 | J47: =IFERROR(VLOOKUP($B47,'Datos Adulto'!$G$3:$T$82,9,FALSE),0) -> 0 | K47: =IFERROR(VLOOKUP($B47,'Datos Adulto'!$G$3:$T$82,10,FALSE),0) -> 0 | L47: =IFERROR(VLOOKUP($B47,'Datos Adulto'!$G$3:$T$82,11,FALSE),0) -> 0 | M47: =IFERROR(VLOOKUP($B47,'Datos Adulto'!$G$3:$T$82,12,FALSE),0) -> 0 | N47: =IFERROR(VLOOKUP($B47,'Datos Adulto'!$G$3:$T$82,13,FALSE),0) -> 0 | O47: =SUM(C47:N47) -> 0
A48: 04106-VICUÑA | B48: 105474-P.S.R. CHAPILCA | C48: =IFERROR(VLOOKUP($B48,'Datos Adulto'!$G$3:$T$82,2,FALSE),0) -> 0 | D48: =IFERROR(VLOOKUP($B48,'Datos Adulto'!$G$3:$T$82,3,FALSE),0) -> 0 | E48: =IFERROR(VLOOKUP($B48,'Datos Adulto'!$G$3:$T$82,4,FALSE),0) -> 0 | F48: =IFERROR(VLOOKUP($B48,'Datos Adulto'!$G$3:$T$82,5,FALSE),0) -> 0 | G48: =IFERROR(VLOOKUP($B48,'Datos Adulto'!$G$3:$T$82,6,FALSE),0) -> 0 | H48: =IFERROR(VLOOKUP($B48,'Datos Adulto'!$G$3:$T$82,7,FALSE),0) -> 0 | I48: =IFERROR(VLOOKUP($B48,'Datos Adulto'!$G$3:$T$82,8,FALSE),0) -> 0 | J48: =IFERROR(VLOOKUP($B48,'Datos Adulto'!$G$3:$T$82,9,FALSE),0) -> 0 | K48: =IFERROR(VLOOKUP($B48,'Datos Adulto'!$G$3:$T$82,10,FALSE),0) -> 0 | L48: =IFERROR(VLOOKUP($B48,'Datos Adulto'!$G$3:$T$82,11,FALSE),0) -> 0 | M48: =IFERROR(VLOOKUP($B48,'Datos Adulto'!$G$3:$T$82,12,FALSE),0) -> 0 | N48: =IFERROR(VLOOKUP($B48,'Datos Adulto'!$G$3:$T$82,13,FALSE),0) -> 0 | O48: =SUM(C48:N48) -> 0
A49: 04106-VICUÑA | B49: 105509-P.S.R. GUALLIGUAICA | C49: =IFERROR(VLOOKUP($B49,'Datos Adulto'!$G$3:$T$82,2,FALSE),0) -> 0 | D49: =IFERROR(VLOOKUP($B49,'Datos Adulto'!$G$3:$T$82,3,FALSE),0) -> 0 | E49: =IFERROR(VLOOKUP($B49,'Datos Adulto'!$G$3:$T$82,4,FALSE),0) -> 0 | F49: =IFERROR(VLOOKUP($B49,'Datos Adulto'!$G$3:$T$82,5,FALSE),0) -> 0 | G49: =IFERROR(VLOOKUP($B49,'Datos Adulto'!$G$3:$T$82,6,FALSE),0) -> 0 | H49: =IFERROR(VLOOKUP($B49,'Datos Adulto'!$G$3:$T$82,7,FALSE),0) -> 0 | I49: =IFERROR(VLOOKUP($B49,'Datos Adulto'!$G$3:$T$82,8,FALSE),0) -> 0 | J49: =IFERROR(VLOOKUP($B49,'Datos Adulto'!$G$3:$T$82,9,FALSE),0) -> 0 | K49: =IFERROR(VLOOKUP($B49,'Datos Adulto'!$G$3:$T$82,10,FALSE),0) -> 0 | L49: =IFERROR(VLOOKUP($B49,'Datos Adulto'!$G$3:$T$82,11,FALSE),0) -> 0 | M49: =IFERROR(VLOOKUP($B49,'Datos Adulto'!$G$3:$T$82,12,FALSE),0) -> 0 | N49: =IFERROR(VLOOKUP($B49,'Datos Adulto'!$G$3:$T$82,13,FALSE),0) -> 0 | O49: =SUM(C49:N49) -> 0
A50: 04106-VICUÑA | B50: 200538-CESFAM SAN ISIDRO CALINGASTA | C50: =IFERROR(VLOOKUP($B50,'Datos Adulto'!$G$3:$T$82,2,FALSE),0) -> 1 | D50: =IFERROR(VLOOKUP($B50,'Datos Adulto'!$G$3:$T$82,3,FALSE),0) -> 1 | E50: =IFERROR(VLOOKUP($B50,'Datos Adulto'!$G$3:$T$82,4,FALSE),0) -> 1 | F50: =IFERROR(VLOOKUP($B50,'Datos Adulto'!$G$3:$T$82,5,FALSE),0) -> 1 | G50: =IFERROR(VLOOKUP($B50,'Datos Adulto'!$G$3:$T$82,6,FALSE),0) -> 1 | H50: =IFERROR(VLOOKUP($B50,'Datos Adulto'!$G$3:$T$82,7,FALSE),0) -> 0 | I50: =IFERROR(VLOOKUP($B50,'Datos Adulto'!$G$3:$T$82,8,FALSE),0) -> 1 | J50: =IFERROR(VLOOKUP($B50,'Datos Adulto'!$G$3:$T$82,9,FALSE),0) -> 0 | K50: =IFERROR(VLOOKUP($B50,'Datos Adulto'!$G$3:$T$82,10,FALSE),0) -> 1 | L50: =IFERROR(VLOOKUP($B50,'Datos Adulto'!$G$3:$T$82,11,FALSE),0) -> 1 | M50: =IFERROR(VLOOKUP($B50,'Datos Adulto'!$G$3:$T$82,12,FALSE),0) -> 1 | N50: =IFERROR(VLOOKUP($B50,'Datos Adulto'!$G$3:$T$82,13,FALSE),0) -> 1 | O50: =SUM(C50:N50) -> 10
A51: TOTAL VICUÑA | C51: =SUM(C41:C50) -> 2 | D51: =SUM(D41:D50) -> 2 | E51: =SUM(E41:E50) -> 2 | F51: =SUM(F41:F50) -> 2 | G51: =SUM(G41:G50) -> 1 | H51: =SUM(H41:H50) -> 0 | I51: =SUM(I41:I50) -> 2 | J51: =SUM(J41:J50) -> 0 | ... O51: =SUM(O41:O50) -> 19
A52: 04201-ILLAPEL | B52: 105326-CESFAM SAN RAFAEL | C52: =IFERROR(VLOOKUP($B52,'Datos Adulto'!$G$3:$T$82,2,FALSE),0) -> 0 | D52: =IFERROR(VLOOKUP($B52,'Datos Adulto'!$G$3:$T$82,3,FALSE),0) -> 1 | E52: =IFERROR(VLOOKUP($B52,'Datos Adulto'!$G$3:$T$82,4,FALSE),0) -> 2 | F52: =IFERROR(VLOOKUP($B52,'Datos Adulto'!$G$3:$T$82,5,FALSE),0) -> 1 | G52: =IFERROR(VLOOKUP($B52,'Datos Adulto'!$G$3:$T$82,6,FALSE),0) -> 0 | H52: =IFERROR(VLOOKUP($B52,'Datos Adulto'!$G$3:$T$82,7,FALSE),0) -> 0 | I52: =IFERROR(VLOOKUP($B52,'Datos Adulto'!$G$3:$T$82,8,FALSE),0) -> 1 | J52: =IFERROR(VLOOKUP($B52,'Datos Adulto'!$G$3:$T$82,9,FALSE),0) -> 1 | K52: =IFERROR(VLOOKUP($B52,'Datos Adulto'!$G$3:$T$82,10,FALSE),0) -> 1 | L52: =IFERROR(VLOOKUP($B52,'Datos Adulto'!$G$3:$T$82,11,FALSE),0) -> 1 | M52: =IFERROR(VLOOKUP($B52,'Datos Adulto'!$G$3:$T$82,12,FALSE),0) -> 0 | N52: =IFERROR(VLOOKUP($B52,'Datos Adulto'!$G$3:$T$82,13,FALSE),0) -> 1 | O52: =SUM(C52:N52) -> 9
A53: 04201-ILLAPEL | B53: 105443-P.S.R. CARCAMO | C53: =IFERROR(VLOOKUP($B53,'Datos Adulto'!$G$3:$T$82,2,FALSE),0) -> 0 | D53: =IFERROR(VLOOKUP($B53,'Datos Adulto'!$G$3:$T$82,3,FALSE),0) -> 0 | E53: =IFERROR(VLOOKUP($B53,'Datos Adulto'!$G$3:$T$82,4,FALSE),0) -> 0 | F53: =IFERROR(VLOOKUP($B53,'Datos Adulto'!$G$3:$T$82,5,FALSE),0) -> 0 | G53: =IFERROR(VLOOKUP($B53,'Datos Adulto'!$G$3:$T$82,6,FALSE),0) -> 0 | H53: =IFERROR(VLOOKUP($B53,'Datos Adulto'!$G$3:$T$82,7,FALSE),0) -> 0 | I53: =IFERROR(VLOOKUP($B53,'Datos Adulto'!$G$3:$T$82,8,FALSE),0) -> 0 | J53: =IFERROR(VLOOKUP($B53,'Datos Adulto'!$G$3:$T$82,9,FALSE),0) -> 0 | K53: =IFERROR(VLOOKUP($B53,'Datos Adulto'!$G$3:$T$82,10,FALSE),0) -> 0 | L53: =IFERROR(VLOOKUP($B53,'Datos Adulto'!$G$3:$T$82,11,FALSE),0) -> 0 | M53: =IFERROR(VLOOKUP($B53,'Datos Adulto'!$G$3:$T$82,12,FALSE),0) -> 0 | N53: =IFERROR(VLOOKUP($B53,'Datos Adulto'!$G$3:$T$82,13,FALSE),0) -> 0 | O53: =SUM(C53:N53) -> 0
A54: 04201-ILLAPEL | B54: 105444-P.S.R. HUINTIL | C54: =IFERROR(VLOOKUP($B54,'Datos Adulto'!$G$3:$T$82,2,FALSE),0) -> 0 | D54: =IFERROR(VLOOKUP($B54,'Datos Adulto'!$G$3:$T$82,3,FALSE),0) -> 0 | E54: =IFERROR(VLOOKUP($B54,'Datos Adulto'!$G$3:$T$82,4,FALSE),0) -> 1 | F54: =IFERROR(VLOOKUP($B54,'Datos Adulto'!$G$3:$T$82,5,FALSE),0) -> 1 | G54: =IFERROR(VLOOKUP($B54,'Datos Adulto'!$G$3:$T$82,6,FALSE),0) -> 1 | H54: =IFERROR(VLOOKUP($B54,'Datos Adulto'!$G$3:$T$82,7,FALSE),0) -> 1 | I54: =IFERROR(VLOOKUP($B54,'Datos Adulto'!$G$3:$T$82,8,FALSE),0) -> 1 | J54: =IFERROR(VLOOKUP($B54,'Datos Adulto'!$G$3:$T$82,9,FALSE),0) -> 1 | K54: =IFERROR(VLOOKUP($B54,'Datos Adulto'!$G$3:$T$82,10,FALSE),0) -> 1 | L54: =IFERROR(VLOOKUP($B54,'Datos Adulto'!$G$3:$T$82,11,FALSE),0) -> 0 | M54: =IFERROR(VLOOKUP($B54,'Datos Adulto'!$G$3:$T$82,12,FALSE),0) -> 0 | N54: =IFERROR(VLOOKUP($B54,'Datos Adulto'!$G$3:$T$82,13,FALSE),0) -> 2 | O54: =SUM(C54:N54) -> 9
A55: 04201-ILLAPEL | B55: 105445-P.S.R. LIMAHUIDA | C55: =IFERROR(VLOOKUP($B55,'Datos Adulto'!$G$3:$T$82,2,FALSE),0) -> 0 | D55: =IFERROR(VLOOKUP($B55,'Datos Adulto'!$G$3:$T$82,3,FALSE),0) -> 0 | E55: =IFERROR(VLOOKUP($B55,'Datos Adulto'!$G$3:$T$82,4,FALSE),0) -> 0 | F55: =IFERROR(VLOOKUP($B55,'Datos Adulto'!$G$3:$T$82,5,FALSE),0) -> 0 | G55: =IFERROR(VLOOKUP($B55,'Datos Adulto'!$G$3:$T$82,6,FALSE),0) -> 0 | H55: =IFERROR(VLOOKUP($B55,'Datos Adulto'!$G$3:$T$82,7,FALSE),0) -> 0 | I55: =IFERROR(VLOOKUP($B55,'Datos Adulto'!$G$3:$T$82,8,FALSE),0) -> 0 | J55: =IFERROR(VLOOKUP($B55,'Datos Adulto'!$G$3:$T$82,9,FALSE),0) -> 0 | K55: =IFERROR(VLOOKUP($B55,'Datos Adulto'!$G$3:$T$82,10,FALSE),0) -> 0 | L55: =IFERROR(VLOOKUP($B55,'Datos Adulto'!$G$3:$T$82,11,FALSE),0) -> 0 | M55: =IFERROR(VLOOKUP($B55,'Datos Adulto'!$G$3:$T$82,12,FALSE),0) -> 0 | N55: =IFERROR(VLOOKUP($B55,'Datos Adulto'!$G$3:$T$82,13,FALSE),0) -> 0 | O55: =SUM(C55:N55) -> 0
A56: 04201-ILLAPEL | B56: 105446-P.S.R. MATANCILLA | C56: =IFERROR(VLOOKUP($B56,'Datos Adulto'!$G$3:$T$82,2,FALSE),0) -> 0 | D56: =IFERROR(VLOOKUP($B56,'Datos Adulto'!$G$3:$T$82,3,FALSE),0) -> 0 | E56: =IFERROR(VLOOKUP($B56,'Datos Adulto'!$G$3:$T$82,4,FALSE),0) -> 0 | F56: =IFERROR(VLOOKUP($B56,'Datos Adulto'!$G$3:$T$82,5,FALSE),0) -> 0 | G56: =IFERROR(VLOOKUP($B56,'Datos Adulto'!$G$3:$T$82,6,FALSE),0) -> 0 | H56: =IFERROR(VLOOKUP($B56,'Datos Adulto'!$G$3:$T$82,7,FALSE),0) -> 0 | I56: =IFERROR(VLOOKUP($B56,'Datos Adulto'!$G$3:$T$82,8,FALSE),0) -> 0 | J56: =IFERROR(VLOOKUP($B56,'Datos Adulto'!$G$3:$T$82,9,FALSE),0) -> 0 | K56: =IFERROR(VLOOKUP($B56,'Datos Adulto'!$G$3:$T$82,10,FALSE),0) -> 0 | L56: =IFERROR(VLOOKUP($B56,'Datos Adulto'!$G$3:$T$82,11,FALSE),0) -> 0 | M56: =IFERROR(VLOOKUP($B56,'Datos Adulto'!$G$3:$T$82,12,FALSE),0) -> 0 | N56: =IFERROR(VLOOKUP($B56,'Datos Adulto'!$G$3:$T$82,13,FALSE),0) -> 0 | O56: =SUM(C56:N56) -> 0
A57: 04201-ILLAPEL | B57: 105447-P.S.R. PERALILLO | C57: =IFERROR(VLOOKUP($B57,'Datos Adulto'!$G$3:$T$82,2,FALSE),0) -> 0 | D57: =IFERROR(VLOOKUP($B57,'Datos Adulto'!$G$3:$T$82,3,FALSE),0) -> 0 | E57: =IFERROR(VLOOKUP($B57,'Datos Adulto'!$G$3:$T$82,4,FALSE),0) -> 0 | F57: =IFERROR(VLOOKUP($B57,'Datos Adulto'!$G$3:$T$82,5,FALSE),0) -> 0 | G57: =IFERROR(VLOOKUP($B57,'Datos Adulto'!$G$3:$T$82,6,FALSE),0) -> 0 | H57: =IFERROR(VLOOKUP($B57,'Datos Adulto'!$G$3:$T$82,7,FALSE),0) -> 0 | I57: =IFERROR(VLOOKUP($B57,'Datos Adulto'!$G$3:$T$82,8,FALSE),0) -> 0 | J57: =IFERROR(VLOOKUP($B57,'Datos Adulto'!$G$3:$T$82,9,FALSE),0) -> 0 | K57: =IFERROR(VLOOKUP($B57,'Datos Adulto'!$G$3:$T$82,10,FALSE),0) -> 0 | L57: =IFERROR(VLOOKUP($B57,'Datos Adulto'!$G$3:$T$82,11,FALSE),0) -> 0 | M57: =IFERROR(VLOOKUP($B57,'Datos Adulto'!$G$3:$T$82,12,FALSE),0) -> 0 | N57: =IFERROR(VLOOKUP($B57,'Datos Adulto'!$G$3:$T$82,13,FALSE),0) -> 0 | O57: =SUM(C57:N57) -> 0
A58: 04201-ILLAPEL | B58: 105448-P.S.R. SANTA VIRGINIA | C58: =IFERROR(VLOOKUP($B58,'Datos Adulto'!$G$3:$T$82,2,FALSE),0) -> 0 | D58: =IFERROR(VLOOKUP($B58,'Datos Adulto'!$G$3:$T$82,3,FALSE),0) -> 0 | E58: =IFERROR(VLOOKUP($B58,'Datos Adulto'!$G$3:$T$82,4,FALSE),0) -> 0 | F58: =IFERROR(VLOOKUP($B58,'Datos Adulto'!$G$3:$T$82,5,FALSE),0) -> 0 | G58: =IFERROR(VLOOKUP($B58,'Datos Adulto'!$G$3:$T$82,6,FALSE),0) -> 0 | H58: =IFERROR(VLOOKUP($B58,'Datos Adulto'!$G$3:$T$82,7,FALSE),0) -> 0 | I58: =IFERROR(VLOOKUP($B58,'Datos Adulto'!$G$3:$T$82,8,FALSE),0) -> 0 | J58: =IFERROR(VLOOKUP($B58,'Datos Adulto'!$G$3:$T$82,9,FALSE),0) -> 0 | K58: =IFERROR(VLOOKUP($B58,'Datos Adulto'!$G$3:$T$82,10,FALSE),0) -> 0 | L58: =IFERROR(VLOOKUP($B58,'Datos Adulto'!$G$3:$T$82,11,FALSE),0) -> 0 | M58: =IFERROR(VLOOKUP($B58,'Datos Adulto'!$G$3:$T$82,12,FALSE),0) -> 0 | N58: =IFERROR(VLOOKUP($B58,'Datos Adulto'!$G$3:$T$82,13,FALSE),0) -> 0 | O58: =SUM(C58:N58) -> 0
A59: 04201-ILLAPEL | B59: 105449-P.S.R. TUNGA NORTE | C59: =IFERROR(VLOOKUP($B59,'Datos Adulto'!$G$3:$T$82,2,FALSE),0) -> 0 | D59: =IFERROR(VLOOKUP($B59,'Datos Adulto'!$G$3:$T$82,3,FALSE),0) -> 0 | E59: =IFERROR(VLOOKUP($B59,'Datos Adulto'!$G$3:$T$82,4,FALSE),0) -> 0 | F59: =IFERROR(VLOOKUP($B59,'Datos Adulto'!$G$3:$T$82,5,FALSE),0) -> 0 | G59: =IFERROR(VLOOKUP($B59,'Datos Adulto'!$G$3:$T$82,6,FALSE),0) -> 0 | H59: =IFERROR(VLOOKUP($B59,'Datos Adulto'!$G$3:$T$82,7,FALSE),0) -> 0 | I59: =IFERROR(VLOOKUP($B59,'Datos Adulto'!$G$3:$T$82,8,FALSE),0) -> 0 | J59: =IFERROR(VLOOKUP($B59,'Datos Adulto'!$G$3:$T$82,9,FALSE),0) -> 0 | K59: =IFERROR(VLOOKUP($B59,'Datos Adulto'!$G$3:$T$82,10,FALSE),0) -> 0 | L59: =IFERROR(VLOOKUP($B59,'Datos Adulto'!$G$3:$T$82,11,FALSE),0) -> 0 | M59: =IFERROR(VLOOKUP($B59,'Datos Adulto'!$G$3:$T$82,12,FALSE),0) -> 0 | N59: =IFERROR(VLOOKUP($B59,'Datos Adulto'!$G$3:$T$82,13,FALSE),0) -> 0 | O59: =SUM(C59:N59) -> 0
A60: 04201-ILLAPEL | B60: 105485-P.S.R. PLAN DE HORNOS | C60: =IFERROR(VLOOKUP($B60,'Datos Adulto'!$G$3:$T$82,2,FALSE),0) -> 0 | D60: =IFERROR(VLOOKUP($B60,'Datos Adulto'!$G$3:$T$82,3,FALSE),0) -> 0 | E60: =IFERROR(VLOOKUP($B60,'Datos Adulto'!$G$3:$T$82,4,FALSE),0) -> 0 | F60: =IFERROR(VLOOKUP($B60,'Datos Adulto'!$G$3:$T$82,5,FALSE),0) -> 0 | G60: =IFERROR(VLOOKUP($B60,'Datos Adulto'!$G$3:$T$82,6,FALSE),0) -> 0 | H60: =IFERROR(VLOOKUP($B60,'Datos Adulto'!$G$3:$T$82,7,FALSE),0) -> 0 | I60: =IFERROR(VLOOKUP($B60,'Datos Adulto'!$G$3:$T$82,8,FALSE),0) -> 0 | J60: =IFERROR(VLOOKUP($B60,'Datos Adulto'!$G$3:$T$82,9,FALSE),0) -> 0 | K60: =IFERROR(VLOOKUP($B60,'Datos Adulto'!$G$3:$T$82,10,FALSE),0) -> 0 | L60: =IFERROR(VLOOKUP($B60,'Datos Adulto'!$G$3:$T$82,11,FALSE),0) -> 0 | M60: =IFERROR(VLOOKUP($B60,'Datos Adulto'!$G$3:$T$82,12,FALSE),0) -> 0 | N60: =IFERROR(VLOOKUP($B60,'Datos Adulto'!$G$3:$T$82,13,FALSE),0) -> 0 | O60: =SUM(C60:N60) -> 0
A61: 04201-ILLAPEL | B61: 105486-P.S.R. TUNGA SUR | C61: =IFERROR(VLOOKUP($B61,'Datos Adulto'!$G$3:$T$82,2,FALSE),0) -> 0 | D61: =IFERROR(VLOOKUP($B61,'Datos Adulto'!$G$3:$T$82,3,FALSE),0) -> 0 | E61: =IFERROR(VLOOKUP($B61,'Datos Adulto'!$G$3:$T$82,4,FALSE),0) -> 0 | F61: =IFERROR(VLOOKUP($B61,'Datos Adulto'!$G$3:$T$82,5,FALSE),0) -> 0 | G61: =IFERROR(VLOOKUP($B61,'Datos Adulto'!$G$3:$T$82,6,FALSE),0) -> 0 | H61: =IFERROR(VLOOKUP($B61,'Datos Adulto'!$G$3:$T$82,7,FALSE),0) -> 0 | I61: =IFERROR(VLOOKUP($B61,'Datos Adulto'!$G$3:$T$82,8,FALSE),0) -> 0 | J61: =IFERROR(VLOOKUP($B61,'Datos Adulto'!$G$3:$T$82,9,FALSE),0) -> 0 | K61: =IFERROR(VLOOKUP($B61,'Datos Adulto'!$G$3:$T$82,10,FALSE),0) -> 0 | L61: =IFERROR(VLOOKUP($B61,'Datos Adulto'!$G$3:$T$82,11,FALSE),0) -> 0 | M61: =IFERROR(VLOOKUP($B61,'Datos Adulto'!$G$3:$T$82,12,FALSE),0) -> 0 | N61: =IFERROR(VLOOKUP($B61,'Datos Adulto'!$G$3:$T$82,13,FALSE),0) -> 0 | O61: =SUM(C61:N61) -> 0
A62: 04201-ILLAPEL | B62: 105487-P.S.R. CAÑAS UNO | C62: =IFERROR(VLOOKUP($B62,'Datos Adulto'!$G$3:$T$82,2,FALSE),0) -> 0 | D62: =IFERROR(VLOOKUP($B62,'Datos Adulto'!$G$3:$T$82,3,FALSE),0) -> 0 | E62: =IFERROR(VLOOKUP($B62,'Datos Adulto'!$G$3:$T$82,4,FALSE),0) -> 0 | F62: =IFERROR(VLOOKUP($B62,'Datos Adulto'!$G$3:$T$82,5,FALSE),0) -> 0 | G62: =IFERROR(VLOOKUP($B62,'Datos Adulto'!$G$3:$T$82,6,FALSE),0) -> 0 | H62: =IFERROR(VLOOKUP($B62,'Datos Adulto'!$G$3:$T$82,7,FALSE),0) -> 0 | I62: =IFERROR(VLOOKUP($B62,'Datos Adulto'!$G$3:$T$82,8,FALSE),0) -> 0 | J62: =IFERROR(VLOOKUP($B62,'Datos Adulto'!$G$3:$T$82,9,FALSE),0) -> 0 | K62: =IFERROR(VLOOKUP($B62,'Datos Adulto'!$G$3:$T$82,10,FALSE),0) -> 0 | L62: =IFERROR(VLOOKUP($B62,'Datos Adulto'!$G$3:$T$82,11,FALSE),0) -> 0 | M62: =IFERROR(VLOOKUP($B62,'Datos Adulto'!$G$3:$T$82,12,FALSE),0) -> 0 | N62: =IFERROR(VLOOKUP($B62,'Datos Adulto'!$G$3:$T$82,13,FALSE),0) -> 0 | O62: =SUM(C62:N62) -> 0
A63: 04201-ILLAPEL | B63: 105496-P.S.R. PINTACURA SUR | C63: =IFERROR(VLOOKUP($B63,'Datos Adulto'!$G$3:$T$82,2,FALSE),0) -> 0 | D63: =IFERROR(VLOOKUP($B63,'Datos Adulto'!$G$3:$T$82,3,FALSE),0) -> 0 | E63: =IFERROR(VLOOKUP($B63,'Datos Adulto'!$G$3:$T$82,4,FALSE),0) -> 0 | F63: =IFERROR(VLOOKUP($B63,'Datos Adulto'!$G$3:$T$82,5,FALSE),0) -> 0 | G63: =IFERROR(VLOOKUP($B63,'Datos Adulto'!$G$3:$T$82,6,FALSE),0) -> 0 | H63: =IFERROR(VLOOKUP($B63,'Datos Adulto'!$G$3:$T$82,7,FALSE),0) -> 0 | I63: =IFERROR(VLOOKUP($B63,'Datos Adulto'!$G$3:$T$82,8,FALSE),0) -> 0 | J63: =IFERROR(VLOOKUP($B63,'Datos Adulto'!$G$3:$T$82,9,FALSE),0) -> 0 | K63: =IFERROR(VLOOKUP($B63,'Datos Adulto'!$G$3:$T$82,10,FALSE),0) -> 0 | L63: =IFERROR(VLOOKUP($B63,'Datos Adulto'!$G$3:$T$82,11,FALSE),0) -> 0 | M63: =IFERROR(VLOOKUP($B63,'Datos Adulto'!$G$3:$T$82,12,FALSE),0) -> 0 | N63: =IFERROR(VLOOKUP($B63,'Datos Adulto'!$G$3:$T$82,13,FALSE),0) -> 0 | O63: =SUM(C63:N63) -> 0
... A65: 04201-ILLAPEL | B65: 200366-CESFAM URBANO II | C65: =IFERROR(VLOOKUP($B65,'Datos Adulto'!$G$3:$T$82,2,FALSE),0) -> 0 | D65: =IFERROR(VLOOKUP($B65,'Datos Adulto'!$G$3:$T$82,3,FALSE),0) -> 0 | E65: =IFERROR(VLOOKUP($B65,'Datos Adulto'!$G$3:$T$82,4,FALSE),0) -> 0 | F65: =IFERROR(VLOOKUP($B65,'Datos Adulto'!$G$3:$T$82,5,FALSE),0) -> 0 | G65: =IFERROR(VLOOKUP($B65,'Datos Adulto'!$G$3:$T$82,6,FALSE),0) -> 0 | H65: =IFERROR(VLOOKUP($B65,'Datos Adulto'!$G$3:$T$82,7,FALSE),0) -> 0 | I65: =IFERROR(VLOOKUP($B65,'Datos Adulto'!$G$3:$T$82,8,FALSE),0) -> 0 | J65: =IFERROR(VLOOKUP($B65,'Datos Adulto'!$G$3:$T$82,9,FALSE),0) -> 0 | K65: =IFERROR(VLOOKUP($B65,'Datos Adulto'!$G$3:$T$82,10,FALSE),0) -> 0 | L65: =IFERROR(VLOOKUP($B65,'Datos Adulto'!$G$3:$T$82,11,FALSE),0) -> 0 | M65: =IFERROR(VLOOKUP($B65,'Datos Adulto'!$G$3:$T$82,12,FALSE),0) -> 0 | N65: =IFERROR(VLOOKUP($B65,'Datos Adulto'!$G$3:$T$82,13,FALSE),0) -> 0 | O65: =SUM(C65:N65) -> 0
A66: TOTAL ILLAPEL | C66: =SUM(C52:C65) -> 0 | D66: =SUM(D52:D65) -> 1 | E66: =SUM(E52:E65) -> 3 | F66: =SUM(F52:F65) -> 2 | G66: =SUM(G52:G65) -> 1 | H66: =SUM(H52:H65) -> 1 | I66: =SUM(I52:I65) -> 2 | J66: =SUM(J52:J65) -> 2 | ... O66: =SUM(O52:O65) -> 18
A67: 04202-CANELA | B67: 105309-CES. RURAL CANELA | C67: =IFERROR(VLOOKUP($B67,'Datos Adulto'!$G$3:$T$82,2,FALSE),0) -> 1 | D67: =IFERROR(VLOOKUP($B67,'Datos Adulto'!$G$3:$T$82,3,FALSE),0) -> 1 | E67: =IFERROR(VLOOKUP($B67,'Datos Adulto'!$G$3:$T$82,4,FALSE),0) -> 0 | F67: =IFERROR(VLOOKUP($B67,'Datos Adulto'!$G$3:$T$82,5,FALSE),0) -> 1 | G67: =IFERROR(VLOOKUP($B67,'Datos Adulto'!$G$3:$T$82,6,FALSE),0) -> 1 | H67: =IFERROR(VLOOKUP($B67,'Datos Adulto'!$G$3:$T$82,7,FALSE),0) -> 1 | I67: =IFERROR(VLOOKUP($B67,'Datos Adulto'!$G$3:$T$82,8,FALSE),0) -> 1 | J67: =IFERROR(VLOOKUP($B67,'Datos Adulto'!$G$3:$T$82,9,FALSE),0) -> 1 | K67: =IFERROR(VLOOKUP($B67,'Datos Adulto'!$G$3:$T$82,10,FALSE),0) -> 1 | L67: =IFERROR(VLOOKUP($B67,'Datos Adulto'!$G$3:$T$82,11,FALSE),0) -> 1 | M67: =IFERROR(VLOOKUP($B67,'Datos Adulto'!$G$3:$T$82,12,FALSE),0) -> 1 | N67: =IFERROR(VLOOKUP($B67,'Datos Adulto'!$G$3:$T$82,13,FALSE),0) -> 1 | O67: =SUM(C67:N67) -> 11
A68: 04202-CANELA | B68: 105450-P.S.R. MINCHA NORTE | C68: =IFERROR(VLOOKUP($B68,'Datos Adulto'!$G$3:$T$82,2,FALSE),0) -> 0 | D68: =IFERROR(VLOOKUP($B68,'Datos Adulto'!$G$3:$T$82,3,FALSE),0) -> 0 | E68: =IFERROR(VLOOKUP($B68,'Datos Adulto'!$G$3:$T$82,4,FALSE),0) -> 0 | F68: =IFERROR(VLOOKUP($B68,'Datos Adulto'!$G$3:$T$82,5,FALSE),0) -> 0 | G68: =IFERROR(VLOOKUP($B68,'Datos Adulto'!$G$3:$T$82,6,FALSE),0) -> 0 | H68: =IFERROR(VLOOKUP($B68,'Datos Adulto'!$G$3:$T$82,7,FALSE),0) -> 0 | I68: =IFERROR(VLOOKUP($B68,'Datos Adulto'!$G$3:$T$82,8,FALSE),0) -> 0 | J68: =IFERROR(VLOOKUP($B68,'Datos Adulto'!$G$3:$T$82,9,FALSE),0) -> 0 | K68: =IFERROR(VLOOKUP($B68,'Datos Adulto'!$G$3:$T$82,10,FALSE),0) -> 0 | L68: =IFERROR(VLOOKUP($B68,'Datos Adulto'!$G$3:$T$82,11,FALSE),0) -> 0 | M68: =IFERROR(VLOOKUP($B68,'Datos Adulto'!$G$3:$T$82,12,FALSE),0) -> 0 | N68: =IFERROR(VLOOKUP($B68,'Datos Adulto'!$G$3:$T$82,13,FALSE),0) -> 0 | O68: =SUM(C68:N68) -> 0
A69: 04202-CANELA | B69: 105451-P.S.R. AGUA FRIA | C69: =IFERROR(VLOOKUP($B69,'Datos Adulto'!$G$3:$T$82,2,FALSE),0) -> 0 | D69: =IFERROR(VLOOKUP($B69,'Datos Adulto'!$G$3:$T$82,3,FALSE),0) -> 0 | E69: =IFERROR(VLOOKUP($B69,'Datos Adulto'!$G$3:$T$82,4,FALSE),0) -> 0 | F69: =IFERROR(VLOOKUP($B69,'Datos Adulto'!$G$3:$T$82,5,FALSE),0) -> 0 | G69: =IFERROR(VLOOKUP($B69,'Datos Adulto'!$G$3:$T$82,6,FALSE),0) -> 0 | H69: =IFERROR(VLOOKUP($B69,'Datos Adulto'!$G$3:$T$82,7,FALSE),0) -> 0 | I69: =IFERROR(VLOOKUP($B69,'Datos Adulto'!$G$3:$T$82,8,FALSE),0) -> 0 | J69: =IFERROR(VLOOKUP($B69,'Datos Adulto'!$G$3:$T$82,9,FALSE),0) -> 0 | K69: =IFERROR(VLOOKUP($B69,'Datos Adulto'!$G$3:$T$82,10,FALSE),0) -> 0 | L69: =IFERROR(VLOOKUP($B69,'Datos Adulto'!$G$3:$T$82,11,FALSE),0) -> 0 | M69: =IFERROR(VLOOKUP($B69,'Datos Adulto'!$G$3:$T$82,12,FALSE),0) -> 0 | N69: =IFERROR(VLOOKUP($B69,'Datos Adulto'!$G$3:$T$82,13,FALSE),0) -> 0 | O69: =SUM(C69:N69) -> 0
A70: 04202-CANELA | B70: 105482-P.S.R. CANELA ALTA | C70: =IFERROR(VLOOKUP($B70,'Datos Adulto'!$G$3:$T$82,2,FALSE),0) -> 0 | D70: =IFERROR(VLOOKUP($B70,'Datos Adulto'!$G$3:$T$82,3,FALSE),0) -> 0 | E70: =IFERROR(VLOOKUP($B70,'Datos Adulto'!$G$3:$T$82,4,FALSE),0) -> 0 | F70: =IFERROR(VLOOKUP($B70,'Datos Adulto'!$G$3:$T$82,5,FALSE),0) -> 0 | G70: =IFERROR(VLOOKUP($B70,'Datos Adulto'!$G$3:$T$82,6,FALSE),0) -> 0 | H70: =IFERROR(VLOOKUP($B70,'Datos Adulto'!$G$3:$T$82,7,FALSE),0) -> 0 | I70: =IFERROR(VLOOKUP($B70,'Datos Adulto'!$G$3:$T$82,8,FALSE),0) -> 0 | J70: =IFERROR(VLOOKUP($B70,'Datos Adulto'!$G$3:$T$82,9,FALSE),0) -> 0 | K70: =IFERROR(VLOOKUP($B70,'Datos Adulto'!$G$3:$T$82,10,FALSE),0) -> 0 | L70: =IFERROR(VLOOKUP($B70,'Datos Adulto'!$G$3:$T$82,11,FALSE),0) -> 0 | M70: =IFERROR(VLOOKUP($B70,'Datos Adulto'!$G$3:$T$82,12,FALSE),0) -> 0 | N70: =IFERROR(VLOOKUP($B70,'Datos Adulto'!$G$3:$T$82,13,FALSE),0) -> 0 | O70: =SUM(C70:N70) -> 0
A71: 04202-CANELA | B71: 105483-P.S.R. LOS RULOS | C71: =IFERROR(VLOOKUP($B71,'Datos Adulto'!$G$3:$T$82,2,FALSE),0) -> 0 | D71: =IFERROR(VLOOKUP($B71,'Datos Adulto'!$G$3:$T$82,3,FALSE),0) -> 0 | E71: =IFERROR(VLOOKUP($B71,'Datos Adulto'!$G$3:$T$82,4,FALSE),0) -> 0 | F71: =IFERROR(VLOOKUP($B71,'Datos Adulto'!$G$3:$T$82,5,FALSE),0) -> 0 | G71: =IFERROR(VLOOKUP($B71,'Datos Adulto'!$G$3:$T$82,6,FALSE),0) -> 0 | H71: =IFERROR(VLOOKUP($B71,'Datos Adulto'!$G$3:$T$82,7,FALSE),0) -> 0 | I71: =IFERROR(VLOOKUP($B71,'Datos Adulto'!$G$3:$T$82,8,FALSE),0) -> 0 | J71: =IFERROR(VLOOKUP($B71,'Datos Adulto'!$G$3:$T$82,9,FALSE),0) -> 0 | K71: =IFERROR(VLOOKUP($B71,'Datos Adulto'!$G$3:$T$82,10,FALSE),0) -> 0 | L71: =IFERROR(VLOOKUP($B71,'Datos Adulto'!$G$3:$T$82,11,FALSE),0) -> 0 | M71: =IFERROR(VLOOKUP($B71,'Datos Adulto'!$G$3:$T$82,12,FALSE),0) -> 0 | N71: =IFERROR(VLOOKUP($B71,'Datos Adulto'!$G$3:$T$82,13,FALSE),0) -> 0 | O71: =SUM(C71:N71) -> 0
A72: 04202-CANELA | B72: 105484-P.S.R. HUENTELAUQUEN | C72: =IFERROR(VLOOKUP($B72,'Datos Adulto'!$G$3:$T$82,2,FALSE),0) -> 0 | D72: =IFERROR(VLOOKUP($B72,'Datos Adulto'!$G$3:$T$82,3,FALSE),0) -> 0 | E72: =IFERROR(VLOOKUP($B72,'Datos Adulto'!$G$3:$T$82,4,FALSE),0) -> 0 | F72: =IFERROR(VLOOKUP($B72,'Datos Adulto'!$G$3:$T$82,5,FALSE),0) -> 0 | G72: =IFERROR(VLOOKUP($B72,'Datos Adulto'!$G$3:$T$82,6,FALSE),0) -> 0 | H72: =IFERROR(VLOOKUP($B72,'Datos Adulto'!$G$3:$T$82,7,FALSE),0) -> 0 | I72: =IFERROR(VLOOKUP($B72,'Datos Adulto'!$G$3:$T$82,8,FALSE),0) -> 0 | J72: =IFERROR(VLOOKUP($B72,'Datos Adulto'!$G$3:$T$82,9,FALSE),0) -> 0 | K72: =IFERROR(VLOOKUP($B72,'Datos Adulto'!$G$3:$T$82,10,FALSE),0) -> 0 | L72: =IFERROR(VLOOKUP($B72,'Datos Adulto'!$G$3:$T$82,11,FALSE),0) -> 0 | M72: =IFERROR(VLOOKUP($B72,'Datos Adulto'!$G$3:$T$82,12,FALSE),0) -> 0 | N72: =IFERROR(VLOOKUP($B72,'Datos Adulto'!$G$3:$T$82,13,FALSE),0) -> 0 | O72: =SUM(C72:N72) -> 0
A73: 04202-CANELA | B73: 105488-P.S.R. ESPIRITU SANTO | C73: =IFERROR(VLOOKUP($B73,'Datos Adulto'!$G$3:$T$82,2,FALSE),0) -> 0 | D73: =IFERROR(VLOOKUP($B73,'Datos Adulto'!$G$3:$T$82,3,FALSE),0) -> 0 | E73: =IFERROR(VLOOKUP($B73,'Datos Adulto'!$G$3:$T$82,4,FALSE),0) -> 0 | F73: =IFERROR(VLOOKUP($B73,'Datos Adulto'!$G$3:$T$82,5,FALSE),0) -> 0 | G73: =IFERROR(VLOOKUP($B73,'Datos Adulto'!$G$3:$T$82,6,FALSE),0) -> 0 | H73: =IFERROR(VLOOKUP($B73,'Datos Adulto'!$G$3:$T$82,7,FALSE),0) -> 0 | I73: =IFERROR(VLOOKUP($B73,'Datos Adulto'!$G$3:$T$82,8,FALSE),0) -> 0 | J73: =IFERROR(VLOOKUP($B73,'Datos Adulto'!$G$3:$T$82,9,FALSE),0) -> 0 | K73: =IFERROR(VLOOKUP($B73,'Datos Adulto'!$G$3:$T$82,10,FALSE),0) -> 0 | L73: =IFERROR(VLOOKUP($B73,'Datos Adulto'!$G$3:$T$82,11,FALSE),0) -> 0 | M73: =IFERROR(VLOOKUP($B73,'Datos Adulto'!$G$3:$T$82,12,FALSE),0) -> 0 | N73: =IFERROR(VLOOKUP($B73,'Datos Adulto'!$G$3:$T$82,13,FALSE),0) -> 0 | O73: =SUM(C73:N73) -> 0
A74: 04202-CANELA | B74: 105493-P.S.R. MINCHA SUR | C74: =IFERROR(VLOOKUP($B74,'Datos Adulto'!$G$3:$T$82,2,FALSE),0) -> 0 | D74: =IFERROR(VLOOKUP($B74,'Datos Adulto'!$G$3:$T$82,3,FALSE),0) -> 0 | E74: =IFERROR(VLOOKUP($B74,'Datos Adulto'!$G$3:$T$82,4,FALSE),0) -> 0 | F74: =IFERROR(VLOOKUP($B74,'Datos Adulto'!$G$3:$T$82,5,FALSE),0) -> 0 | G74: =IFERROR(VLOOKUP($B74,'Datos Adulto'!$G$3:$T$82,6,FALSE),0) -> 0 | H74: =IFERROR(VLOOKUP($B74,'Datos Adulto'!$G$3:$T$82,7,FALSE),0) -> 0 | I74: =IFERROR(VLOOKUP($B74,'Datos Adulto'!$G$3:$T$82,8,FALSE),0) -> 0 | J74: =IFERROR(VLOOKUP($B74,'Datos Adulto'!$G$3:$T$82,9,FALSE),0) -> 0 | K74: =IFERROR(VLOOKUP($B74,'Datos Adulto'!$G$3:$T$82,10,FALSE),0) -> 0 | L74: =IFERROR(VLOOKUP($B74,'Datos Adulto'!$G$3:$T$82,11,FALSE),0) -> 0 | M74: =IFERROR(VLOOKUP($B74,'Datos Adulto'!$G$3:$T$82,12,FALSE),0) -> 0 | N74: =IFERROR(VLOOKUP($B74,'Datos Adulto'!$G$3:$T$82,13,FALSE),0) -> 0 | O74: =SUM(C74:N74) -> 0
A75: 04202-CANELA | B75: 105497-P.S.R. JABONERIA | C75: =IFERROR(VLOOKUP($B75,'Datos Adulto'!$G$3:$T$82,2,FALSE),0) -> 0 | D75: =IFERROR(VLOOKUP($B75,'Datos Adulto'!$G$3:$T$82,3,FALSE),0) -> 0 | E75: =IFERROR(VLOOKUP($B75,'Datos Adulto'!$G$3:$T$82,4,FALSE),0) -> 0 | F75: =IFERROR(VLOOKUP($B75,'Datos Adulto'!$G$3:$T$82,5,FALSE),0) -> 0 | G75: =IFERROR(VLOOKUP($B75,'Datos Adulto'!$G$3:$T$82,6,FALSE),0) -> 0 | H75: =IFERROR(VLOOKUP($B75,'Datos Adulto'!$G$3:$T$82,7,FALSE),0) -> 0 | I75: =IFERROR(VLOOKUP($B75,'Datos Adulto'!$G$3:$T$82,8,FALSE),0) -> 0 | J75: =IFERROR(VLOOKUP($B75,'Datos Adulto'!$G$3:$T$82,9,FALSE),0) -> 0 | K75: =IFERROR(VLOOKUP($B75,'Datos Adulto'!$G$3:$T$82,10,FALSE),0) -> 0 | L75: =IFERROR(VLOOKUP($B75,'Datos Adulto'!$G$3:$T$82,11,FALSE),0) -> 0 | M75: =IFERROR(VLOOKUP($B75,'Datos Adulto'!$G$3:$T$82,12,FALSE),0) -> 0 | N75: =IFERROR(VLOOKUP($B75,'Datos Adulto'!$G$3:$T$82,13,FALSE),0) -> 0 | O75: =SUM(C75:N75) -> 0
A76: 04202-CANELA | B76: 105498-P.S.R. QUEBRADA DE LINARES | C76: =IFERROR(VLOOKUP($B76,'Datos Adulto'!$G$3:$T$82,2,FALSE),0) -> 0 | D76: =IFERROR(VLOOKUP($B76,'Datos Adulto'!$G$3:$T$82,3,FALSE),0) -> 0 | E76: =IFERROR(VLOOKUP($B76,'Datos Adulto'!$G$3:$T$82,4,FALSE),0) -> 0 | F76: =IFERROR(VLOOKUP($B76,'Datos Adulto'!$G$3:$T$82,5,FALSE),0) -> 0 | G76: =IFERROR(VLOOKUP($B76,'Datos Adulto'!$G$3:$T$82,6,FALSE),0) -> 0 | H76: =IFERROR(VLOOKUP($B76,'Datos Adulto'!$G$3:$T$82,7,FALSE),0) -> 0 | I76: =IFERROR(VLOOKUP($B76,'Datos Adulto'!$G$3:$T$82,8,FALSE),0) -> 0 | J76: =IFERROR(VLOOKUP($B76,'Datos Adulto'!$G$3:$T$82,9,FALSE),0) -> 0 | K76: =IFERROR(VLOOKUP($B76,'Datos Adulto'!$G$3:$T$82,10,FALSE),0) -> 0 | L76: =IFERROR(VLOOKUP($B76,'Datos Adulto'!$G$3:$T$82,11,FALSE),0) -> 0 | M76: =IFERROR(VLOOKUP($B76,'Datos Adulto'!$G$3:$T$82,12,FALSE),0) -> 0 | N76: =IFERROR(VLOOKUP($B76,'Datos Adulto'!$G$3:$T$82,13,FALSE),0) -> 0 | O76: =SUM(C76:N76) -> 0
A77: TOTAL CANELA | C77: =SUM(C67:C76) -> 1 | D77: =SUM(D67:D76) -> 1 | E77: =SUM(E67:E76) -> 0 | F77: =SUM(F67:F76) -> 1 | G77: =SUM(G67:G76) -> 1 | H77: =SUM(H67:H76) -> 1 | I77: =SUM(I67:I76) -> 1 | J77: =SUM(J67:J76) -> 1 | ... O77: =SUM(O67:O76) -> 11
A78: 04203-LOS VILOS | B78: 105478-P.S.R. CAIMANES | C78: =IFERROR(VLOOKUP($B78,'Datos Adulto'!$G$3:$T$82,2,FALSE),0) -> 0 | D78: =IFERROR(VLOOKUP($B78,'Datos Adulto'!$G$3:$T$82,3,FALSE),0) -> 0 | E78: =IFERROR(VLOOKUP($B78,'Datos Adulto'!$G$3:$T$82,4,FALSE),0) -> 1 | F78: =IFERROR(VLOOKUP($B78,'Datos Adulto'!$G$3:$T$82,5,FALSE),0) -> 1 | G78: =IFERROR(VLOOKUP($B78,'Datos Adulto'!$G$3:$T$82,6,FALSE),0) -> 0 | H78: =IFERROR(VLOOKUP($B78,'Datos Adulto'!$G$3:$T$82,7,FALSE),0) -> 0 | I78: =IFERROR(VLOOKUP($B78,'Datos Adulto'!$G$3:$T$82,8,FALSE),0) -> 0 | J78: =IFERROR(VLOOKUP($B78,'Datos Adulto'!$G$3:$T$82,9,FALSE),0) -> 1 | K78: =IFERROR(VLOOKUP($B78,'Datos Adulto'!$G$3:$T$82,10,FALSE),0) -> 1 | L78: =IFERROR(VLOOKUP($B78,'Datos Adulto'!$G$3:$T$82,11,FALSE),0) -> 0 | M78: =IFERROR(VLOOKUP($B78,'Datos Adulto'!$G$3:$T$82,12,FALSE),0) -> 0 | N78: =IFERROR(VLOOKUP($B78,'Datos Adulto'!$G$3:$T$82,13,FALSE),0) -> 0 | O78: =SUM(C78:N78) -> 4
A79: 04203-LOS VILOS | B79: 105479-P.S.R. GUANGUALI | C79: =IFERROR(VLOOKUP($B79,'Datos Adulto'!$G$3:$T$82,2,FALSE),0) -> 0 | D79: =IFERROR(VLOOKUP($B79,'Datos Adulto'!$G$3:$T$82,3,FALSE),0) -> 0 | E79: =IFERROR(VLOOKUP($B79,'Datos Adulto'!$G$3:$T$82,4,FALSE),0) -> 0 | F79: =IFERROR(VLOOKUP($B79,'Datos Adulto'!$G$3:$T$82,5,FALSE),0) -> 0 | G79: =IFERROR(VLOOKUP($B79,'Datos Adulto'!$G$3:$T$82,6,FALSE),0) -> 0 | H79: =IFERROR(VLOOKUP($B79,'Datos Adulto'!$G$3:$T$82,7,FALSE),0) -> 0 | I79: =IFERROR(VLOOKUP($B79,'Datos Adulto'!$G$3:$T$82,8,FALSE),0) -> 0 | J79: =IFERROR(VLOOKUP($B79,'Datos Adulto'!$G$3:$T$82,9,FALSE),0) -> 0 | K79: =IFERROR(VLOOKUP($B79,'Datos Adulto'!$G$3:$T$82,10,FALSE),0) -> 0 | L79: =IFERROR(VLOOKUP($B79,'Datos Adulto'!$G$3:$T$82,11,FALSE),0) -> 0 | M79: =IFERROR(VLOOKUP($B79,'Datos Adulto'!$G$3:$T$82,12,FALSE),0) -> 0 | N79: =IFERROR(VLOOKUP($B79,'Datos Adulto'!$G$3:$T$82,13,FALSE),0) -> 0 | O79: =SUM(C79:N79) -> 0
A80: 04203-LOS VILOS | B80: 105480-P.S.R. QUILIMARI | C80: =IFERROR(VLOOKUP($B80,'Datos Adulto'!$G$3:$T$82,2,FALSE),0) -> 0 | D80: =IFERROR(VLOOKUP($B80,'Datos Adulto'!$G$3:$T$82,3,FALSE),0) -> 0 | E80: =IFERROR(VLOOKUP($B80,'Datos Adulto'!$G$3:$T$82,4,FALSE),0) -> 0 | F80: =IFERROR(VLOOKUP($B80,'Datos Adulto'!$G$3:$T$82,5,FALSE),0) -> 0 | G80: =IFERROR(VLOOKUP($B80,'Datos Adulto'!$G$3:$T$82,6,FALSE),0) -> 0 | H80: =IFERROR(VLOOKUP($B80,'Datos Adulto'!$G$3:$T$82,7,FALSE),0) -> 0 | I80: =IFERROR(VLOOKUP($B80,'Datos Adulto'!$G$3:$T$82,8,FALSE),0) -> 0 | J80: =IFERROR(VLOOKUP($B80,'Datos Adulto'!$G$3:$T$82,9,FALSE),0) -> 0 | K80: =IFERROR(VLOOKUP($B80,'Datos Adulto'!$G$3:$T$82,10,FALSE),0) -> 0 | L80: =IFERROR(VLOOKUP($B80,'Datos Adulto'!$G$3:$T$82,11,FALSE),0) -> 0 | M80: =IFERROR(VLOOKUP($B80,'Datos Adulto'!$G$3:$T$82,12,FALSE),0) -> 0 | N80: =IFERROR(VLOOKUP($B80,'Datos Adulto'!$G$3:$T$82,13,FALSE),0) -> 0 | O80: =SUM(C80:N80) -> 0
A81: 04203-LOS VILOS | B81: 105481-P.S.R. TILAMA | C81: =IFERROR(VLOOKUP($B81,'Datos Adulto'!$G$3:$T$82,2,FALSE),0) -> 0 | D81: =IFERROR(VLOOKUP($B81,'Datos Adulto'!$G$3:$T$82,3,FALSE),0) -> 0 | E81: =IFERROR(VLOOKUP($B81,'Datos Adulto'!$G$3:$T$82,4,FALSE),0) -> 0 | F81: =IFERROR(VLOOKUP($B81,'Datos Adulto'!$G$3:$T$82,5,FALSE),0) -> 0 | G81: =IFERROR(VLOOKUP($B81,'Datos Adulto'!$G$3:$T$82,6,FALSE),0) -> 0 | H81: =IFERROR(VLOOKUP($B81,'Datos Adulto'!$G$3:$T$82,7,FALSE),0) -> 0 | I81: =IFERROR(VLOOKUP($B81,'Datos Adulto'!$G$3:$T$82,8,FALSE),0) -> 0 | J81: =IFERROR(VLOOKUP($B81,'Datos Adulto'!$G$3:$T$82,9,FALSE),0) -> 0 | K81: =IFERROR(VLOOKUP($B81,'Datos Adulto'!$G$3:$T$82,10,FALSE),0) -> 0 | L81: =IFERROR(VLOOKUP($B81,'Datos Adulto'!$G$3:$T$82,11,FALSE),0) -> 1 | M81: =IFERROR(VLOOKUP($B81,'Datos Adulto'!$G$3:$T$82,12,FALSE),0) -> 0 | N81: =IFERROR(VLOOKUP($B81,'Datos Adulto'!$G$3:$T$82,13,FALSE),0) -> 0 | O81: =SUM(C81:N81) -> 1
A82: 04203-LOS VILOS | B82: 105511-P.S.R. LOS CONDORES | C82: =IFERROR(VLOOKUP($B82,'Datos Adulto'!$G$3:$T$82,2,FALSE),0) -> 0 | D82: =IFERROR(VLOOKUP($B82,'Datos Adulto'!$G$3:$T$82,3,FALSE),0) -> 0 | E82: =IFERROR(VLOOKUP($B82,'Datos Adulto'!$G$3:$T$82,4,FALSE),0) -> 0 | F82: =IFERROR(VLOOKUP($B82,'Datos Adulto'!$G$3:$T$82,5,FALSE),0) -> 0 | G82: =IFERROR(VLOOKUP($B82,'Datos Adulto'!$G$3:$T$82,6,FALSE),0) -> 0 | H82: =IFERROR(VLOOKUP($B82,'Datos Adulto'!$G$3:$T$82,7,FALSE),0) -> 0 | I82: =IFERROR(VLOOKUP($B82,'Datos Adulto'!$G$3:$T$82,8,FALSE),0) -> 0 | J82: =IFERROR(VLOOKUP($B82,'Datos Adulto'!$G$3:$T$82,9,FALSE),0) -> 0 | K82: =IFERROR(VLOOKUP($B82,'Datos Adulto'!$G$3:$T$82,10,FALSE),0) -> 0 | L82: =IFERROR(VLOOKUP($B82,'Datos Adulto'!$G$3:$T$82,11,FALSE),0) -> 0 | M82: =IFERROR(VLOOKUP($B82,'Datos Adulto'!$G$3:$T$82,12,FALSE),0) -> 0 | N82: =IFERROR(VLOOKUP($B82,'Datos Adulto'!$G$3:$T$82,13,FALSE),0) -> 0 | O82: =SUM(C82:N82) -> 0
A83: TOTAL LOS VILOS | C83: =SUM(C78:C82) -> 0 | D83: =SUM(D78:D82) -> 0 | E83: =SUM(E78:E82) -> 1 | F83: =SUM(F78:F82) -> 1 | G83: =SUM(G78:G82) -> 0 | H83: =SUM(H78:H82) -> 0 | I83: =SUM(I78:I82) -> 0 | J83: =SUM(J78:J82) -> 1 | ... O83: =SUM(O78:O82) -> 5
A84: 04204-SALAMANCA | B84: 105452-P.S.R. CUNCUMEN | C84: =IFERROR(VLOOKUP($B84,'Datos Adulto'!$G$3:$T$82,2,FALSE),0) -> 0 | D84: =IFERROR(VLOOKUP($B84,'Datos Adulto'!$G$3:$T$82,3,FALSE),0) -> 0 | E84: =IFERROR(VLOOKUP($B84,'Datos Adulto'!$G$3:$T$82,4,FALSE),0) -> 0 | F84: =IFERROR(VLOOKUP($B84,'Datos Adulto'!$G$3:$T$82,5,FALSE),0) -> 0 | G84: =IFERROR(VLOOKUP($B84,'Datos Adulto'!$G$3:$T$82,6,FALSE),0) -> 0 | H84: =IFERROR(VLOOKUP($B84,'Datos Adulto'!$G$3:$T$82,7,FALSE),0) -> 0 | I84: =IFERROR(VLOOKUP($B84,'Datos Adulto'!$G$3:$T$82,8,FALSE),0) -> 0 | J84: =IFERROR(VLOOKUP($B84,'Datos Adulto'!$G$3:$T$82,9,FALSE),0) -> 0 | K84: =IFERROR(VLOOKUP($B84,'Datos Adulto'!$G$3:$T$82,10,FALSE),0) -> 0 | L84: =IFERROR(VLOOKUP($B84,'Datos Adulto'!$G$3:$T$82,11,FALSE),0) -> 0 | M84: =IFERROR(VLOOKUP($B84,'Datos Adulto'!$G$3:$T$82,12,FALSE),0) -> 0 | N84: =IFERROR(VLOOKUP($B84,'Datos Adulto'!$G$3:$T$82,13,FALSE),0) -> 0 | O84: =SUM(C84:N84) -> 0
A85: 04204-SALAMANCA | B85: 105453-P.S.R. TRANQUILLA | C85: =IFERROR(VLOOKUP($B85,'Datos Adulto'!$G$3:$T$82,2,FALSE),0) -> 0 | D85: =IFERROR(VLOOKUP($B85,'Datos Adulto'!$G$3:$T$82,3,FALSE),0) -> 0 | E85: =IFERROR(VLOOKUP($B85,'Datos Adulto'!$G$3:$T$82,4,FALSE),0) -> 0 | F85: =IFERROR(VLOOKUP($B85,'Datos Adulto'!$G$3:$T$82,5,FALSE),0) -> 0 | G85: =IFERROR(VLOOKUP($B85,'Datos Adulto'!$G$3:$T$82,6,FALSE),0) -> 0 | H85: =IFERROR(VLOOKUP($B85,'Datos Adulto'!$G$3:$T$82,7,FALSE),0) -> 0 | I85: =IFERROR(VLOOKUP($B85,'Datos Adulto'!$G$3:$T$82,8,FALSE),0) -> 0 | J85: =IFERROR(VLOOKUP($B85,'Datos Adulto'!$G$3:$T$82,9,FALSE),0) -> 0 | K85: =IFERROR(VLOOKUP($B85,'Datos Adulto'!$G$3:$T$82,10,FALSE),0) -> 0 | L85: =IFERROR(VLOOKUP($B85,'Datos Adulto'!$G$3:$T$82,11,FALSE),0) -> 0 | M85: =IFERROR(VLOOKUP($B85,'Datos Adulto'!$G$3:$T$82,12,FALSE),0) -> 0 | N85: =IFERROR(VLOOKUP($B85,'Datos Adulto'!$G$3:$T$82,13,FALSE),0) -> 0 | O85: =SUM(C85:N85) -> 0
A86: 04204-SALAMANCA | B86: 105454-P.S.R. CUNLAGUA | C86: =IFERROR(VLOOKUP($B86,'Datos Adulto'!$G$3:$T$82,2,FALSE),0) -> 0 | D86: =IFERROR(VLOOKUP($B86,'Datos Adulto'!$G$3:$T$82,3,FALSE),0) -> 0 | E86: =IFERROR(VLOOKUP($B86,'Datos Adulto'!$G$3:$T$82,4,FALSE),0) -> 0 | F86: =IFERROR(VLOOKUP($B86,'Datos Adulto'!$G$3:$T$82,5,FALSE),0) -> 0 | G86: =IFERROR(VLOOKUP($B86,'Datos Adulto'!$G$3:$T$82,6,FALSE),0) -> 0 | H86: =IFERROR(VLOOKUP($B86,'Datos Adulto'!$G$3:$T$82,7,FALSE),0) -> 1 | I86: =IFERROR(VLOOKUP($B86,'Datos Adulto'!$G$3:$T$82,8,FALSE),0) -> 0 | J86: =IFERROR(VLOOKUP($B86,'Datos Adulto'!$G$3:$T$82,9,FALSE),0) -> 0 | K86: =IFERROR(VLOOKUP($B86,'Datos Adulto'!$G$3:$T$82,10,FALSE),0) -> 2 | L86: =IFERROR(VLOOKUP($B86,'Datos Adulto'!$G$3:$T$82,11,FALSE),0) -> 0 | M86: =IFERROR(VLOOKUP($B86,'Datos Adulto'!$G$3:$T$82,12,FALSE),0) -> 1 | N86: =IFERROR(VLOOKUP($B86,'Datos Adulto'!$G$3:$T$82,13,FALSE),0) -> 0 | O86: =SUM(C86:N86) -> 4
A87: 04204-SALAMANCA | B87: 105455-P.S.R. CHILLEPIN | C87: =IFERROR(VLOOKUP($B87,'Datos Adulto'!$G$3:$T$82,2,FALSE),0) -> 0 | D87: =IFERROR(VLOOKUP($B87,'Datos Adulto'!$G$3:$T$82,3,FALSE),0) -> 0 | E87: =IFERROR(VLOOKUP($B87,'Datos Adulto'!$G$3:$T$82,4,FALSE),0) -> 0 | F87: =IFERROR(VLOOKUP($B87,'Datos Adulto'!$G$3:$T$82,5,FALSE),0) -> 1 | G87: =IFERROR(VLOOKUP($B87,'Datos Adulto'!$G$3:$T$82,6,FALSE),0) -> 0 | H87: =IFERROR(VLOOKUP($B87,'Datos Adulto'!$G$3:$T$82,7,FALSE),0) -> 0 | I87: =IFERROR(VLOOKUP($B87,'Datos Adulto'!$G$3:$T$82,8,FALSE),0) -> 0 | J87: =IFERROR(VLOOKUP($B87,'Datos Adulto'!$G$3:$T$82,9,FALSE),0) -> 0 | K87: =IFERROR(VLOOKUP($B87,'Datos Adulto'!$G$3:$T$82,10,FALSE),0) -> 0 | L87: =IFERROR(VLOOKUP($B87,'Datos Adulto'!$G$3:$T$82,11,FALSE),0) -> 0 | M87: =IFERROR(VLOOKUP($B87,'Datos Adulto'!$G$3:$T$82,12,FALSE),0) -> 0 | N87: =IFERROR(VLOOKUP($B87,'Datos Adulto'!$G$3:$T$82,13,FALSE),0) -> 0 | O87: =SUM(C87:N87) -> 1
A88: 04204-SALAMANCA | B88: 105456-P.S.R. LLIMPO | C88: =IFERROR(VLOOKUP($B88,'Datos Adulto'!$G$3:$T$82,2,FALSE),0) -> 0 | D88: =IFERROR(VLOOKUP($B88,'Datos Adulto'!$G$3:$T$82,3,FALSE),0) -> 0 | E88: =IFERROR(VLOOKUP($B88,'Datos Adulto'!$G$3:$T$82,4,FALSE),0) -> 0 | F88: =IFERROR(VLOOKUP($B88,'Datos Adulto'!$G$3:$T$82,5,FALSE),0) -> 0 | G88: =IFERROR(VLOOKUP($B88,'Datos Adulto'!$G$3:$T$82,6,FALSE),0) -> 0 | H88: =IFERROR(VLOOKUP($B88,'Datos Adulto'!$G$3:$T$82,7,FALSE),0) -> 0 | I88: =IFERROR(VLOOKUP($B88,'Datos Adulto'!$G$3:$T$82,8,FALSE),0) -> 0 | J88: =IFERROR(VLOOKUP($B88,'Datos Adulto'!$G$3:$T$82,9,FALSE),0) -> 0 | K88: =IFERROR(VLOOKUP($B88,'Datos Adulto'!$G$3:$T$82,10,FALSE),0) -> 0 | L88: =IFERROR(VLOOKUP($B88,'Datos Adulto'!$G$3:$T$82,11,FALSE),0) -> 0 | M88: =IFERROR(VLOOKUP($B88,'Datos Adulto'!$G$3:$T$82,12,FALSE),0) -> 0 | N88: =IFERROR(VLOOKUP($B88,'Datos Adulto'!$G$3:$T$82,13,FALSE),0) -> 0 | O88: =SUM(C88:N88) -> 0
A89: 04204-SALAMANCA | B89: 105457-P.S.R. SAN AGUSTIN | C89: =IFERROR(VLOOKUP($B89,'Datos Adulto'!$G$3:$T$82,2,FALSE),0) -> 0 | D89: =IFERROR(VLOOKUP($B89,'Datos Adulto'!$G$3:$T$82,3,FALSE),0) -> 0 | E89: =IFERROR(VLOOKUP($B89,'Datos Adulto'!$G$3:$T$82,4,FALSE),0) -> 0 | F89: =IFERROR(VLOOKUP($B89,'Datos Adulto'!$G$3:$T$82,5,FALSE),0) -> 0 | G89: =IFERROR(VLOOKUP($B89,'Datos Adulto'!$G$3:$T$82,6,FALSE),0) -> 0 | H89: =IFERROR(VLOOKUP($B89,'Datos Adulto'!$G$3:$T$82,7,FALSE),0) -> 0 | I89: =IFERROR(VLOOKUP($B89,'Datos Adulto'!$G$3:$T$82,8,FALSE),0) -> 0 | J89: =IFERROR(VLOOKUP($B89,'Datos Adulto'!$G$3:$T$82,9,FALSE),0) -> 0 | K89: =IFERROR(VLOOKUP($B89,'Datos Adulto'!$G$3:$T$82,10,FALSE),0) -> 0 | L89: =IFERROR(VLOOKUP($B89,'Datos Adulto'!$G$3:$T$82,11,FALSE),0) -> 0 | M89: =IFERROR(VLOOKUP($B89,'Datos Adulto'!$G$3:$T$82,12,FALSE),0) -> 0 | N89: =IFERROR(VLOOKUP($B89,'Datos Adulto'!$G$3:$T$82,13,FALSE),0) -> 0 | O89: =SUM(C89:N89) -> 0
A90: 04204-SALAMANCA | B90: 105458-P.S.R. TAHUINCO | C90: =IFERROR(VLOOKUP($B90,'Datos Adulto'!$G$3:$T$82,2,FALSE),0) -> 0 | D90: =IFERROR(VLOOKUP($B90,'Datos Adulto'!$G$3:$T$82,3,FALSE),0) -> 0 | E90: =IFERROR(VLOOKUP($B90,'Datos Adulto'!$G$3:$T$82,4,FALSE),0) -> 0 | F90: =IFERROR(VLOOKUP($B90,'Datos Adulto'!$G$3:$T$82,5,FALSE),0) -> 0 | G90: =IFERROR(VLOOKUP($B90,'Datos Adulto'!$G$3:$T$82,6,FALSE),0) -> 0 | H90: =IFERROR(VLOOKUP($B90,'Datos Adulto'!$G$3:$T$82,7,FALSE),0) -> 0 | I90: =IFERROR(VLOOKUP($B90,'Datos Adulto'!$G$3:$T$82,8,FALSE),0) -> 0 | J90: =IFERROR(VLOOKUP($B90,'Datos Adulto'!$G$3:$T$82,9,FALSE),0) -> 0 | K90: =IFERROR(VLOOKUP($B90,'Datos Adulto'!$G$3:$T$82,10,FALSE),0) -> 0 | L90: =IFERROR(VLOOKUP($B90,'Datos Adulto'!$G$3:$T$82,11,FALSE),0) -> 0 | M90: =IFERROR(VLOOKUP($B90,'Datos Adulto'!$G$3:$T$82,12,FALSE),0) -> 0 | N90: =IFERROR(VLOOKUP($B90,'Datos Adulto'!$G$3:$T$82,13,FALSE),0) -> 0 | O90: =SUM(C90:N90) -> 0
A91: 04204-SALAMANCA | B91: 105491-P.S.R. QUELEN BAJO | C91: =IFERROR(VLOOKUP($B91,'Datos Adulto'!$G$3:$T$82,2,FALSE),0) -> 0 | D91: =IFERROR(VLOOKUP($B91,'Datos Adulto'!$G$3:$T$82,3,FALSE),0) -> 0 | E91: =IFERROR(VLOOKUP($B91,'Datos Adulto'!$G$3:$T$82,4,FALSE),0) -> 0 | F91: =IFERROR(VLOOKUP($B91,'Datos Adulto'!$G$3:$T$82,5,FALSE),0) -> 0 | G91: =IFERROR(VLOOKUP($B91,'Datos Adulto'!$G$3:$T$82,6,FALSE),0) -> 0 | H91: =IFERROR(VLOOKUP($B91,'Datos Adulto'!$G$3:$T$82,7,FALSE),0) -> 0 | I91: =IFERROR(VLOOKUP($B91,'Datos Adulto'!$G$3:$T$82,8,FALSE),0) -> 0 | J91: =IFERROR(VLOOKUP($B91,'Datos Adulto'!$G$3:$T$82,9,FALSE),0) -> 0 | K91: =IFERROR(VLOOKUP($B91,'Datos Adulto'!$G$3:$T$82,10,FALSE),0) -> 0 | L91: =IFERROR(VLOOKUP($B91,'Datos Adulto'!$G$3:$T$82,11,FALSE),0) -> 0 | M91: =IFERROR(VLOOKUP($B91,'Datos Adulto'!$G$3:$T$82,12,FALSE),0) -> 0 | N91: =IFERROR(VLOOKUP($B91,'Datos Adulto'!$G$3:$T$82,13,FALSE),0) -> 0 | O91: =SUM(C91:N91) -> 0
A92: 04204-SALAMANCA | B92: 105492-P.S.R. CAMISA | C92: =IFERROR(VLOOKUP($B92,'Datos Adulto'!$G$3:$T$82,2,FALSE),0) -> 0 | D92: =IFERROR(VLOOKUP($B92,'Datos Adulto'!$G$3:$T$82,3,FALSE),0) -> 0 | E92: =IFERROR(VLOOKUP($B92,'Datos Adulto'!$G$3:$T$82,4,FALSE),0) -> 0 | F92: =IFERROR(VLOOKUP($B92,'Datos Adulto'!$G$3:$T$82,5,FALSE),0) -> 0 | G92: =IFERROR(VLOOKUP($B92,'Datos Adulto'!$G$3:$T$82,6,FALSE),0) -> 0 | H92: =IFERROR(VLOOKUP($B92,'Datos Adulto'!$G$3:$T$82,7,FALSE),0) -> 0 | I92: =IFERROR(VLOOKUP($B92,'Datos Adulto'!$G$3:$T$82,8,FALSE),0) -> 0 | J92: =IFERROR(VLOOKUP($B92,'Datos Adulto'!$G$3:$T$82,9,FALSE),0) -> 0 | K92: =IFERROR(VLOOKUP($B92,'Datos Adulto'!$G$3:$T$82,10,FALSE),0) -> 0 | L92: =IFERROR(VLOOKUP($B92,'Datos Adulto'!$G$3:$T$82,11,FALSE),0) -> 0 | M92: =IFERROR(VLOOKUP($B92,'Datos Adulto'!$G$3:$T$82,12,FALSE),0) -> 0 | N92: =IFERROR(VLOOKUP($B92,'Datos Adulto'!$G$3:$T$82,13,FALSE),0) -> 0 | O92: =SUM(C92:N92) -> 0
A93: 04204-SALAMANCA | B93: 105501-P.S.R. ARBOLEDA GRANDE | C93: =IFERROR(VLOOKUP($B93,'Datos Adulto'!$G$3:$T$82,2,FALSE),0) -> 0 | D93: =IFERROR(VLOOKUP($B93,'Datos Adulto'!$G$3:$T$82,3,FALSE),0) -> 0 | E93: =IFERROR(VLOOKUP($B93,'Datos Adulto'!$G$3:$T$82,4,FALSE),0) -> 0 | F93: =IFERROR(VLOOKUP($B93,'Datos Adulto'!$G$3:$T$82,5,FALSE),0) -> 0 | G93: =IFERROR(VLOOKUP($B93,'Datos Adulto'!$G$3:$T$82,6,FALSE),0) -> 0 | H93: =IFERROR(VLOOKUP($B93,'Datos Adulto'!$G$3:$T$82,7,FALSE),0) -> 0 | I93: =IFERROR(VLOOKUP($B93,'Datos Adulto'!$G$3:$T$82,8,FALSE),0) -> 0 | J93: =IFERROR(VLOOKUP($B93,'Datos Adulto'!$G$3:$T$82,9,FALSE),0) -> 0 | K93: =IFERROR(VLOOKUP($B93,'Datos Adulto'!$G$3:$T$82,10,FALSE),0) -> 0 | L93: =IFERROR(VLOOKUP($B93,'Datos Adulto'!$G$3:$T$82,11,FALSE),0) -> 0 | M93: =IFERROR(VLOOKUP($B93,'Datos Adulto'!$G$3:$T$82,12,FALSE),0) -> 0 | N93: =IFERROR(VLOOKUP($B93,'Datos Adulto'!$G$3:$T$82,13,FALSE),0) -> 0 | O93: =SUM(C93:N93) -> 0
A94: TOTAL SALAMANCA | C94: =SUM(C84:C93) -> 0 | D94: =SUM(D84:D93) -> 0 | E94: =SUM(E84:E93) -> 0 | F94: =SUM(F84:F93) -> 1 | G94: =SUM(G84:G93) -> 0 | H94: =SUM(H84:H93) -> 1 | I94: =SUM(I84:I93) -> 0 | J94: =SUM(J84:J93) -> 0 | ... O94: =SUM(O84:O93) -> 5
A95: 04301-OVALLE | B95: 105315-CES. RURAL C. DE TAMAYA | C95: =IFERROR(VLOOKUP($B95,'Datos Adulto'!$G$3:$T$82,2,FALSE),0) -> 1 | D95: =IFERROR(VLOOKUP($B95,'Datos Adulto'!$G$3:$T$82,3,FALSE),0) -> 0 | E95: =IFERROR(VLOOKUP($B95,'Datos Adulto'!$G$3:$T$82,4,FALSE),0) -> 3 | F95: =IFERROR(VLOOKUP($B95,'Datos Adulto'!$G$3:$T$82,5,FALSE),0) -> 0 | G95: =IFERROR(VLOOKUP($B95,'Datos Adulto'!$G$3:$T$82,6,FALSE),0) -> 0 | H95: =IFERROR(VLOOKUP($B95,'Datos Adulto'!$G$3:$T$82,7,FALSE),0) -> 0 | I95: =IFERROR(VLOOKUP($B95,'Datos Adulto'!$G$3:$T$82,8,FALSE),0) -> 1 | J95: =IFERROR(VLOOKUP($B95,'Datos Adulto'!$G$3:$T$82,9,FALSE),0) -> 0 | K95: =IFERROR(VLOOKUP($B95,'Datos Adulto'!$G$3:$T$82,10,FALSE),0) -> 0 | L95: =IFERROR(VLOOKUP($B95,'Datos Adulto'!$G$3:$T$82,11,FALSE),0) -> 0 | M95: =IFERROR(VLOOKUP($B95,'Datos Adulto'!$G$3:$T$82,12,FALSE),0) -> 0 | N95: =IFERROR(VLOOKUP($B95,'Datos Adulto'!$G$3:$T$82,13,FALSE),0) -> 0 | O95: =SUM(C95:N95) -> 5
A96: 04301-OVALLE | B96: 105317-CES. JORGE JORDAN D. | C96: =IFERROR(VLOOKUP($B96,'Datos Adulto'!$G$3:$T$82,2,FALSE),0) -> 1 | D96: =IFERROR(VLOOKUP($B96,'Datos Adulto'!$G$3:$T$82,3,FALSE),0) -> 1 | E96: =IFERROR(VLOOKUP($B96,'Datos Adulto'!$G$3:$T$82,4,FALSE),0) -> 1 | F96: =IFERROR(VLOOKUP($B96,'Datos Adulto'!$G$3:$T$82,5,FALSE),0) -> 1 | G96: =IFERROR(VLOOKUP($B96,'Datos Adulto'!$G$3:$T$82,6,FALSE),0) -> 1 | H96: =IFERROR(VLOOKUP($B96,'Datos Adulto'!$G$3:$T$82,7,FALSE),0) -> 1 | I96: =IFERROR(VLOOKUP($B96,'Datos Adulto'!$G$3:$T$82,8,FALSE),0) -> 1 | J96: =IFERROR(VLOOKUP($B96,'Datos Adulto'!$G$3:$T$82,9,FALSE),0) -> 1 | K96: =IFERROR(VLOOKUP($B96,'Datos Adulto'!$G$3:$T$82,10,FALSE),0) -> 1 | L96: =IFERROR(VLOOKUP($B96,'Datos Adulto'!$G$3:$T$82,11,FALSE),0) -> 0 | M96: =IFERROR(VLOOKUP($B96,'Datos Adulto'!$G$3:$T$82,12,FALSE),0) -> 1 | N96: =IFERROR(VLOOKUP($B96,'Datos Adulto'!$G$3:$T$82,13,FALSE),0) -> 1 | O96: =SUM(C96:N96) -> 11
A97: 04301-OVALLE | B97: 105322-CES. MARCOS MACUADA | C97: =IFERROR(VLOOKUP($B97,'Datos Adulto'!$G$3:$T$82,2,FALSE),0) -> 0 | D97: =IFERROR(VLOOKUP($B97,'Datos Adulto'!$G$3:$T$82,3,FALSE),0) -> 0 | E97: =IFERROR(VLOOKUP($B97,'Datos Adulto'!$G$3:$T$82,4,FALSE),0) -> 2 | F97: =IFERROR(VLOOKUP($B97,'Datos Adulto'!$G$3:$T$82,5,FALSE),0) -> 0 | G97: =IFERROR(VLOOKUP($B97,'Datos Adulto'!$G$3:$T$82,6,FALSE),0) -> 0 | H97: =IFERROR(VLOOKUP($B97,'Datos Adulto'!$G$3:$T$82,7,FALSE),0) -> 1 | I97: =IFERROR(VLOOKUP($B97,'Datos Adulto'!$G$3:$T$82,8,FALSE),0) -> 0 | J97: =IFERROR(VLOOKUP($B97,'Datos Adulto'!$G$3:$T$82,9,FALSE),0) -> 1 | K97: =IFERROR(VLOOKUP($B97,'Datos Adulto'!$G$3:$T$82,10,FALSE),0) -> 0 | L97: =IFERROR(VLOOKUP($B97,'Datos Adulto'!$G$3:$T$82,11,FALSE),0) -> 1 | M97: =IFERROR(VLOOKUP($B97,'Datos Adulto'!$G$3:$T$82,12,FALSE),0) -> 0 | N97: =IFERROR(VLOOKUP($B97,'Datos Adulto'!$G$3:$T$82,13,FALSE),0) -> 1 | O97: =SUM(C97:N97) -> 6
