Workbook

Sheet Infanto Adolescente
A1: COMUNA | B1: ESTABLECIMIENTO | C1: CONSULTORÍAS Y TELECONSULTORÍAS DE SALUD MENTAL INFANTO ADOLESCENTE
C2: ENERO | D2: FEBRERO | E2: MARZO | F2: ABRIL | G2: MAYO | H2: JUNIO | I2: JULIO | J2: AGOSTO | K2: SEPBRE | L2: OCTUBRE | M2: NOVBRE | N2: DICBRE | O2: TOTAL
A3: 04101-LA SERENA | B3: 105300-CES. CARDENAL CARO | C3: =IFERROR(VLOOKUP($B3,'Datos Infanto'!$G$3:$T$82,2,FALSE),0) -> 1 | D3: =IFERROR(VLOOKUP($B3,'Datos Infanto'!$G$3:$T$82,3,FALSE),0) -> 0 | E3: =IFERROR(VLOOKUP($B3,'Datos Infanto'!$G$3:$T$82,4,FALSE),0) -> 0 | F3: =IFERROR(VLOOKUP($B3,'Datos Infanto'!$G$3:$T$82,5,FALSE),0) -> 0 | G3: =IFERROR(VLOOKUP($B3,'Datos Infanto'!$G$3:$T$82,6,FALSE),0) -> 2 | H3: =IFERROR(VLOOKUP($B3,'Datos Infanto'!$G$3:$T$82,7,FALSE),0) -> 0 | I3: =IFERROR(VLOOKUP($B3,'Datos Infanto'!$G$3:$T$82,8,FALSE),0) -> 1 | J3: =IFERROR(VLOOKUP($B3,'Datos Infanto'!$G$3:$T$82,9,FALSE),0) -> 1 | K3: =IFERROR(VLOOKUP($B3,'Datos Infanto'!$G$3:$T$82,10,FALSE),0) -> 0 | L3: =IFERROR(VLOOKUP($B3,'Datos Infanto'!$G$3:$T$82,11,FALSE),0) -> 1 | M3: =IFERROR(VLOOKUP($B3,'Datos Infanto'!$G$3:$T$82,12,FALSE),0) -> 1 | N3: =IFERROR(VLOOKUP($B3,'Datos Infanto'!$G$3:$T$82,13,FALSE),0) -> 1 | O3: =SUM(C3:N3) -> 8
A4: 04101-LA SERENA | B4: 105301-CES. LAS COMPAÑIAS | C4: =IFERROR(VLOOKUP($B4,'Datos Infanto'!$G$3:$T$82,2,FALSE),0) -> 1 | D4: =IFERROR(VLOOKUP($B4,'Datos Infanto'!$G$3:$T$82,3,FALSE),0) -> 0 | E4: =IFERROR(VLOOKUP($B4,'Datos Infanto'!$G$3:$T$82,4,FALSE),0) -> 1 | F4: =IFERROR(VLOOKUP($B4,'Datos Infanto'!$G$3:$T$82,5,FALSE),0) -> 1 | G4: =IFERROR(VLOOKUP($B4,'Datos Infanto'!$G$3:$T$82,6,FALSE),0) -> 1 | H4: =IFERROR(VLOOKUP($B4,'Datos Infanto'!$G$3:$T$82,7,FALSE),0) -> 0 | I4: =IFERROR(VLOOKUP($B4,'Datos Infanto'!$G$3:$T$82,8,FALSE),0) -> 1 | J4: =IFERROR(VLOOKUP($B4,'Datos Infanto'!$G$3:$T$82,9,FALSE),0) -> 1 | K4: =IFERROR(VLOOKUP($B4,'Datos Infanto'!$G$3:$T$82,10,FALSE),0) -> 1 | L4: =IFERROR(VLOOKUP($B4,'Datos Infanto'!$G$3:$T$82,11,FALSE),0) -> 1 | M4: =IFERROR(VLOOKUP($B4,'Datos Infanto'!$G$3:$T$82,12,FALSE),0) -> 0 | N4: =IFERROR(VLOOKUP($B4,'Datos Infanto'!$G$3:$T$82,13,FALSE),0) -> 1 | O4: =SUM(C4:N4) -> 9
A5: 04101-LA SERENA | B5: 105302-CES. PEDRO AGUIRRE C. | C5: =IFERROR(VLOOKUP($B5,'Datos Infanto'!$G$3:$T$82,2,FALSE),0) -> 1 | D5: =IFERROR(VLOOKUP($B5,'Datos Infanto'!$G$3:$T$82,3,FALSE),0) -> 1 | E5: =IFERROR(VLOOKUP($B5,'Datos Infanto'!$G$3:$T$82,4,FALSE),0) -> 1 | F5: =IFERROR(VLOOKUP($B5,'Datos Infanto'!$G$3:$T$82,5,FALSE),0) -> 1 | G5: =IFERROR(VLOOKUP($B5,'Datos Infanto'!$G$3:$T$82,6,FALSE),0) -> 1 | H5: =IFERROR(VLOOKUP($B5,'Datos Infanto'!$G$3:$T$82,7,FALSE),0) -> 1 | I5: =IFERROR(VLOOKUP($B5,'Datos Infanto'!$G$3:$T$82,8,FALSE),0) -> 1 | J5: =IFERROR(VLOOKUP($B5,'Datos Infanto'!$G$3:$T$82,9,FALSE),0) -> 1 | K5: =IFERROR(VLOOKUP($B5,'Datos Infanto'!$G$3:$T$82,10,FALSE),0) -> 1 | L5: =IFERROR(VLOOKUP($B5,'Datos Infanto'!$G$3:$T$82,11,FALSE),0) -> 1 | M5: =IFERROR(VLOOKUP($B5,'Datos Infanto'!$G$3:$T$82,12,FALSE),0) -> 1 | N5: =IFERROR(VLOOKUP($B5,'Datos Infanto'!$G$3:$T$82,13,FALSE),0) -> 1 | O5: =SUM(C5:N5) -> 12
A6: 04101-LA SERENA | B6: 105313-CES. SCHAFFHAUSER | C6: =IFERROR(VLOOKUP($B6,'Datos Infanto'!$G$3:$T$82,2,FALSE),0) -> 1 | D6: =IFERROR(VLOOKUP($B6,'Datos Infanto'!$G$3:$T$82,3,FALSE),0) -> 1 | E6: =IFERROR(VLOOKUP($B6,'Datos Infanto'!$G$3:$T$82,4,FALSE),0) -> 0 | F6: =IFERROR(VLOOKUP($B6,'Datos Infanto'!$G$3:$T$82,5,FALSE),0) -> 1 | G6: =IFERROR(VLOOKUP($B6,'Datos Infanto'!$G$3:$T$82,6,FALSE),0) -> 2 | H6: =IFERROR(VLOOKUP($B6,'Datos Infanto'!$G$3:$T$82,7,FALSE),0) -> 1 | I6: =IFERROR(VLOOKUP($B6,'Datos Infanto'!$G$3:$T$82,8,FALSE),0) -> 1 | J6: =IFERROR(VLOOKUP($B6,'Datos Infanto'!$G$3:$T$82,9,FALSE),0) -> 1 | K6: =IFERROR(VLOOKUP($B6,'Datos Infanto'!$G$3:$T$82,10,FALSE),0) -> 1 | L6: =IFERROR(VLOOKUP($B6,'Datos Infanto'!$G$3:$T$82,11,FALSE),0) -> 1 | M6: =IFERROR(VLOOKUP($B6,'Datos Infanto'!$G$3:$T$82,12,FALSE),0) -> 1 | N6: =IFERROR(VLOOKUP($B6,'Datos Infanto'!$G$3:$T$82,13,FALSE),0) -> 1 | O6: =SUM(C6:N6) -> 12
A7: 04101-LA SERENA | B7: 105319-CES. CARDENAL R.S.H. | C7: =IFERROR(VLOOKUP($B7,'Datos Infanto'!$G$3:$T$82,2,FALSE),0) -> 1 | D7: =IFERROR(VLOOKUP($B7,'Datos Infanto'!$G$3:$T$82,3,FALSE),0) -> 1 | E7: =IFERROR(VLOOKUP($B7,'Datos Infanto'!$G$3:$T$82,4,FALSE),0) -> 1 | F7: =IFERROR(VLOOKUP($B7,'Datos Infanto'!$G$3:$T$82,5,FALSE),0) -> 1 | G7: =IFERROR(VLOOKUP($B7,'Datos Infanto'!$G$3:$T$82,6,FALSE),0) -> 1 | H7: =IFERROR(VLOOKUP($B7,'Datos Infanto'!$G$3:$T$82,7,FALSE),0) -> 1 | I7: =IFERROR(VLOOKUP($B7,'Datos Infanto'!$G$3:$T$82,8,FALSE),0) -> 1 | J7: =IFERROR(VLOOKUP($B7,'Datos Infanto'!$G$3:$T$82,9,FALSE),0) -> 1 | K7: =IFERROR(VLOOKUP($B7,'Datos Infanto'!$G$3:$T$82,10,FALSE),0) -> 1 | L7: =IFERROR(VLOOKUP($B7,'Datos Infanto'!$G$3:$T$82,11,FALSE),0) -> 0 | M7: =IFERROR(VLOOKUP($B7,'Datos Infanto'!$G$3:$T$82,12,FALSE),0) -> 0 | N7: =IFERROR(VLOOKUP($B7,'Datos Infanto'!$G$3:$T$82,13,FALSE),0) -> 1 | O7: =SUM(C7:N7) -> 10
A8: 04101-LA SERENA | B8: 105325-CESFAM JUAN PABLO II | C8: =IFERROR(VLOOKUP($B8,'Datos Infanto'!$G$3:$T$82,2,FALSE),0) -> 0 | D8: =IFERROR(VLOOKUP($B8,'Datos Infanto'!$G$3:$T$82,3,FALSE),0) -> 0 | E8: =IFERROR(VLOOKUP($B8,'Datos Infanto'!$G$3:$T$82,4,FALSE),0) -> 1 | F8: =IFERROR(VLOOKUP($B8,'Datos Infanto'!$G$3:$T$82,5,FALSE),0) -> 0 | G8: =IFERROR(VLOOKUP($B8,'Datos Infanto'!$G$3:$T$82,6,FALSE),0) -> 1 | H8: =IFERROR(VLOOKUP($B8,'Datos Infanto'!$G$3:$T$82,7,FALSE),0) -> 1 | I8: =IFERROR(VLOOKUP($B8,'Datos Infanto'!$G$3:$T$82,8,FALSE),0) -> 0 | J8: =IFERROR(VLOOKUP($B8,'Datos Infanto'!$G$3:$T$82,9,FALSE),0) -> 1 | K8: =IFERROR(VLOOKUP($B8,'Datos Infanto'!$G$3:$T$82,10,FALSE),0) -> 1 | L8: =IFERROR(VLOOKUP($B8,'Datos Infanto'!$G$3:$T$82,11,FALSE),0) -> 1 | M8: =IFERROR(VLOOKUP($B8,'Datos Infanto'!$G$3:$T$82,12,FALSE),0) -> 1 | N8: =IFERROR(VLOOKUP($B8,'Datos Infanto'!$G$3:$T$82,13,FALSE),0) -> 1 | O8: =SUM(C8:N8) -> 8
A9: 04101-LA SERENA | B9: 105400-P.S.R. ALGARROBITO | C9: =IFERROR(VLOOKUP($B9,'Datos Infanto'!$G$3:$T$82,2,FALSE),0) -> 1 | D9: =IFERROR(VLOOKUP($B9,'Datos Infanto'!$G$3:$T$82,3,FALSE),0) -> 1 | E9: =IFERROR(VLOOKUP($B9,'Datos Infanto'!$G$3:$T$82,4,FALSE),0) -> 1 | F9: =IFERROR(VLOOKUP($B9,'Datos Infanto'!$G$3:$T$82,5,FALSE),0) -> 0 | G9: =IFERROR(VLOOKUP($B9,'Datos Infanto'!$G$3:$T$82,6,FALSE),0) -> 1 | H9: =IFERROR(VLOOKUP($B9,'Datos Infanto'!$G$3:$T$82,7,FALSE),0) -> 0 | I9: =IFERROR(VLOOKUP($B9,'Datos Infanto'!$G$3:$T$82,8,FALSE),0) -> 1 | J9: =IFERROR(VLOOKUP($B9,'Datos Infanto'!$G$3:$T$82,9,FALSE),0) -> 0 | K9: =IFERROR(VLOOKUP($B9,'Datos Infanto'!$G$3:$T$82,10,FALSE),0) -> 1 | L9: =IFERROR(VLOOKUP($B9,'Datos Infanto'!$G$3:$T$82,11,FALSE),0) -> 0 | M9: =IFERROR(VLOOKUP($B9,'Datos Infanto'!$G$3:$T$82,12,FALSE),0) -> 1 | N9: =IFERROR(VLOOKUP($B9,'Datos Infanto'!$G$3:$T$82,13,FALSE),0) -> 0 | O9: =SUM(C9:N9) -> 7
A10: 04101-LA SERENA | B10: 105401-P.S.R. LAS ROJAS | C10: =IFERROR(VLOOKUP($B10,'Datos Infanto'!$G$3:$T$82,2,FALSE),0) -> 0 | D10: =IFERROR(VLOOKUP($B10,'Datos Infanto'!$G$3:$T$82,3,FALSE),0) -> 0 | E10: =IFERROR(VLOOKUP($B10,'Datos Infanto'!$G$3:$T$82,4,FALSE),0) -> 0 | F10: =IFERROR(VLOOKUP($B10,'Datos Infanto'!$G$3:$T$82,5,FALSE),0) -> 0 | G10: =IFERROR(VLOOKUP($B10,'Datos Infanto'!$G$3:$T$82,6,FALSE),0) -> 0 | H10: =IFERROR(VLOOKUP($B10,'Datos Infanto'!$G$3:$T$82,7,FALSE),0) -> 0 | I10: =IFERROR(VLOOKUP($B10,'Datos Infanto'!$G$3:$T$82,8,FALSE),0) -> 0 | J10: =IFERROR(VLOOKUP($B10,'Datos Infanto'!$G$3:$T$82,9,FALSE),0) -> 0 | K10: =IFERROR(VLOOKUP($B10,'Datos Infanto'!$G$3:$T$82,10,FALSE),0) -> 0 | L10: =IFERROR(VLOOKUP($B10,'Datos Infanto'!$G$3:$T$82,11,FALSE),0) -> 0 | M10: =IFERROR(VLOOKUP($B10,'Datos Infanto'!$G$3:$T$82,12,FALSE),0) -> 0 | N10: =IFERROR(VLOOKUP($B10,'Datos Infanto'!$G$3:$T$82,13,FALSE),0) -> 0 | O10: =SUM(C10:N10) -> 0
A11: 04101-LA SERENA | B11: 105402-P.S.R. EL ROMERO | C11: =IFERROR(VLOOKUP($B11,'Datos Infanto'!$G$3:$T$82,2,FALSE),0) -> 0 | D11: =IFERROR(VLOOKUP($B11,'Datos Infanto'!$G$3:$T$82,3,FALSE),0) -> 0 | E11: =IFERROR(VLOOKUP($B11,'Datos Infanto'!$G$3:$T$82,4,FALSE),0) -> 0 | F11: =IFERROR(VLOOKUP($B11,'Datos Infanto'!$G$3:$T$82,5,FALSE),0) -> 0 | G11: =IFERROR(VLOOKUP($B11,'Datos Infanto'!$G$3:$T$82,6,FALSE),0) -> 0 | H11: =IFERROR(VLOOKUP($B11,'Datos Infanto'!$G$3:$T$82,7,FALSE),0) -> 0 | I11: =IFERROR(VLOOKUP($B11,'Datos Infanto'!$G$3:$T$82,8,FALSE),0) -> 0 | J11: =IFERROR(VLOOKUP($B11,'Datos Infanto'!$G$3:$T$82,9,FALSE),0) -> 0 | K11: =IFERROR(VLOOKUP($B11,'Datos Infanto'!$G$3:$T$82,10,FALSE),0) -> 0 | L11: =IFERROR(VLOOKUP($B11,'Datos Infanto'!$G$3:$T$82,11,FALSE),0) -> 0 | M11: =IFERROR(VLOOKUP($B11,'Datos Infanto'!$G$3:$T$82,12,FALSE),0) -> 0 | N11: =IFERROR(VLOOKUP($B11,'Datos Infanto'!$G$3:$T$82,13,FALSE),0) -> 0 | O11: =SUM(C11:N11) -> 0
A12: 04101-LA SERENA | B12: 105499-P.S.R. LAMBERT | C12: =IFERROR(VLOOKUP($B12,'Datos Infanto'!$G$3:$T$82,2,FALSE),0) -> 0 | D12: =IFERROR(VLOOKUP($B12,'Datos Infanto'!$G$3:$T$82,3,FALSE),0) -> 0 | E12: =IFERROR(VLOOKUP($B12,'Datos Infanto'!$G$3:$T$82,4,FALSE),0) -> 0 | F12: =IFERROR(VLOOKUP($B12,'Datos Infanto'!$G$3:$T$82,5,FALSE),0) -> 0 | G12: =IFERROR(VLOOKUP($B12,'Datos Infanto'!$G$3:$T$82,6,FALSE),0) -> 0 | H12: =IFERROR(VLOOKUP($B12,'Datos Infanto'!$G$3:$T$82,7,FALSE),0) -> 0 | I12: =IFERROR(VLOOKUP($B12,'Datos Infanto'!$G$3:$T$82,8,FALSE),0) -> 0 | J12: =IFERROR(VLOOKUP($B12,'Datos Infanto'!$G$3:$T$82,9,FALSE),0) -> 0 | K12: =IFERROR(VLOOKUP($B12,'Datos Infanto'!$G$3:$T$82,10,FALSE),0) -> 0 | L12: =IFERROR(VLOOKUP($B12,'Datos Infanto'!$G$3:$T$82,11,FALSE),0) -> 0 | M12: =IFERROR(VLOOKUP($B12,'Datos Infanto'!$G$3:$T$82,12,FALSE),0) -> 0 | N12: =IFERROR(VLOOKUP($B12,'Datos Infanto'!$G$3:$T$82,13,FALSE),0) -> 1 | O12: =SUM(C12:N12) -> 1
A13: 04101-LA SERENA | B13: 105700-CECOF VILLA EL INDIO | C13: =IFERROR(VLOOKUP($B13,'Datos Infanto'!$G$3:$T$82,2,FALSE),0) -> 0 | D13: =IFERROR(VLOOKUP($B13,'Datos Infanto'!$G$3:$T$82,3,FALSE),0) -> 0 | E13: =IFERROR(VLOOKUP($B13,'Datos Infanto'!$G$3:$T$82,4,FALSE),0) -> 0 | F13: =IFERROR(VLOOKUP($B13,'Datos Infanto'!$G$3:$T$82,5,FALSE),0) -> 0 | G13: =IFERROR(VLOOKUP($B13,'Datos Infanto'!$G$3:$T$82,6,FALSE),0) -> 0 | H13: =IFERROR(VLOOKUP($B13,'Datos Infanto'!$G$3:$T$82,7,FALSE),0) -> 0 | I13: =IFERROR(VLOOKUP($B13,'Datos Infanto'!$G$3:$T$82,8,FALSE),0) -> 0 | J13: =IFERROR(VLOOKUP($B13,'Datos Infanto'!$G$3:$T$82,9,FALSE),0) -> 0 | K13: =IFERROR(VLOOKUP($B13,'Datos Infanto'!$G$3:$T$82,10,FALSE),0) -> 0 | L13: =IFERROR(VLOOKUP($B13,'Datos Infanto'!$G$3:$T$82,11,FALSE),0) -> 0 | M13: =IFERROR(VLOOKUP($B13,'Datos Infanto'!$G$3:$T$82,12,FALSE),0) -> 0 | N13: =IFERROR(VLOOKUP($B13,'Datos Infanto'!$G$3:$T$82,13,FALSE),0) -> 0 | O13: =SUM(C13:N13) -> 0
A14: 04101-LA SERENA | B14: 105701-CECOF VILLA ALEMANIA | C14: =IFERROR(VLOOKUP($B14,'Datos Infanto'!$G$3:$T$82,2,FALSE),0) -> 0 | D14: =IFERROR(VLOOKUP($B14,'Datos Infanto'!$G$3:$T$82,3,FALSE),0) -> 0 | E14: =IFERROR(VLOOKUP($B14,'Datos Infanto'!$G$3:$T$82,4,FALSE),0) -> 0 | F14: =IFERROR(VLOOKUP($B14,'Datos Infanto'!$G$3:$T$82,5,FALSE),0) -> 0 | G14: =IFERROR(VLOOKUP($B14,'Datos Infanto'!$G$3:$T$82,6,FALSE),0) -> 0 | H14: =IFERROR(VLOOKUP($B14,'Datos Infanto'!$G$3:$T$82,7,FALSE),0) -> 0 | I14: =IFERROR(VLOOKUP($B14,'Datos Infanto'!$G$3:$T$82,8,FALSE),0) -> 0 | J14: =IFERROR(VLOOKUP($B14,'Datos Infanto'!$G$3:$T$82,9,FALSE),0) -> 0 | K14: =IFERROR(VLOOKUP($B14,'Datos Infanto'!$G$3:$T$82,10,FALSE),0) -> 0 | L14: =IFERROR(VLOOKUP($B14,'Datos Infanto'!$G$3:$T$82,11,FALSE),0) -> 0 | M14: =IFERROR(VLOOKUP($B14,'Datos Infanto'!$G$3:$T$82,12,FALSE),0) -> 0 | N14: =IFERROR(VLOOKUP($B14,'Datos Infanto'!$G$3:$T$82,13,FALSE),0) -> 0 | O14: =SUM(C14:N14) -> 0
... A16: 04101-LA SERENA | B16: 200402-CECOF ARCOS DE PINAMAR | C16: =IFERROR(VLOOKUP($B16,'Datos Infanto'!$G$3:$T$82,2,FALSE),0) -> 0 | D16: =IFERROR(VLOOKUP($B16,'Datos Infanto'!$G$3:$T$82,3,FALSE),0) -> 0 | E16: =IFERROR(VLOOKUP($B16,'Datos Infanto'!$G$3:$T$82,4,FALSE),0) -> 0 | F16: =IFERROR(VLOOKUP($B16,'Datos Infanto'!$G$3:$T$82,5,FALSE),0) -> 0 | G16: =IFERROR(VLOOKUP($B16,'Datos Infanto'!$G$3:$T$82,6,FALSE),0) -> 0 | H16: =IFERROR(VLOOKUP($B16,'Datos Infanto'!$G$3:$T$82,7,FALSE),0) -> 0 | I16: =IFERROR(VLOOKUP($B16,'Datos Infanto'!$G$3:$T$82,8,FALSE),0) -> 0 | J16: =IFERROR(VLOOKUP($B16,'Datos Infanto'!$G$3:$T$82,9,FALSE),0) -> 0 | K16: =IFERROR(VLOOKUP($B16,'Datos Infanto'!$G$3:$T$82,10,FALSE),0) -> 0 | L16: =IFERROR(VLOOKUP($B16,'Datos Infanto'!$G$3:$T$82,11,FALSE),0) -> 0 | M16: =IFERROR(VLOOKUP($B16,'Datos Infanto'!$G$3:$T$82,12,FALSE),0) -> 0 | N16: =IFERROR(VLOOKUP($B16,'Datos Infanto'!$G$3:$T$82,13,FALSE),0) -> 0 | O16: =SUM(C16:N16) -> 0
A17: TOTAL LA SERENA | C17: =SUM(C3:C16) -> 6 | D17: =SUM(D3:D16) -> 4 | E17: =SUM(E3:E16) -> 5 | F17: =SUM(F3:F16) -> 4 | G17: =SUM(G3:G16) -> 9 | H17: =SUM(H3:H16) -> 4 | I17: =SUM(I3:I16) -> 6 | J17: =SUM(J3:J16) -> 6 | ... O17: =SUM(O3:O16) -> 67
A18: 04102-COQUIMBO | B18: 105303-CES. SAN JUAN | C18: =IFERROR(VLOOKUP($B18,'Datos Infanto'!$G$3:$T$82,2,FALSE),0) -> 1 | D18: =IFERROR(VLOOKUP($B18,'Datos Infanto'!$G$3:$T$82,3,FALSE),0) -> 1 | E18: =IFERROR(VLOOKUP($B18,'Datos Infanto'!$G$3:$T$82,4,FALSE),0) -> 0 | F18: =IFERROR(VLOOKUP($B18,'Datos Infanto'!$G$3:$T$82,5,FALSE),0) -> 1 | G18: =IFERROR(VLOOKUP($B18,'Datos Infanto'!$G$3:$T$82,6,FALSE),0) -> 1 | H18: =IFERROR(VLOOKUP($B18,'Datos Infanto'!$G$3:$T$82,7,FALSE),0) -> 1 | I18: =IFERROR(VLOOKUP($B18,'Datos Infanto'!$G$3:$T$82,8,FALSE),0) -> 1 | J18: =IFERROR(VLOOKUP($B18,'Datos Infanto'!$G$3:$T$82,9,FALSE),0) -> 1 | K18: =IFERROR(VLOOKUP($B18,'Datos Infanto'!$G$3:$T$82,10,FALSE),0) -> 1 | L18: =IFERROR(VLOOKUP($B18,'Datos Infanto'!$G$3:$T$82,11,FALSE),0) -> 1 | M18: =IFERROR(VLOOKUP($B18,'Datos Infanto'!$G$3:$T$82,12,FALSE),0) -> 1 | N18: =IFERROR(VLOOKUP($B18,'Datos Infanto'!$G$3:$T$82,13,FALSE),0) -> 1 | O18: =SUM(C18:N18) -> 11
A19: 04102-COQUIMBO | B19: 105304-CES. SANTA CECILIA | C19: =IFERROR(VLOOKUP($B19,'Datos Infanto'!$G$3:$T$82,2,FALSE),0) -> 1 | D19: =IFERROR(VLOOKUP($B19,'Datos Infanto'!$G$3:$T$82,3,FALSE),0) -> 0 | E19: =IFERROR(VLOOKUP($B19,'Datos Infanto'!$G$3:$T$82,4,FALSE),0) -> 1 | F19: =IFERROR(VLOOKUP($B19,'Datos Infanto'!$G$3:$T$82,5,FALSE),0) -> 0 | G19: =IFERROR(VLOOKUP($B19,'Datos Infanto'!$G$3:$T$82,6,FALSE),0) -> 1 | H19: =IFERROR(VLOOKUP($B19,'Datos Infanto'!$G$3:$T$82,7,FALSE),0) -> 1 | I19: =IFERROR(VLOOKUP($B19,'Datos Infanto'!$G$3:$T$82,8,FALSE),0) -> 0 | J19: =IFERROR(VLOOKUP($B19,'Datos Infanto'!$G$3:$T$82,9,FALSE),0) -> 1 | K19: =IFERROR(VLOOKUP($B19,'Datos Infanto'!$G$3:$T$82,10,FALSE),0) -> 1 | L19: =IFERROR(VLOOKUP($B19,'Datos Infanto'!$G$3:$T$82,11,FALSE),0) -> 1 | M19: =IFERROR(VLOOKUP($B19,'Datos Infanto'!$G$3:$T$82,12,FALSE),0) -> 2 | N19: =IFERROR(VLOOKUP($B19,'Datos Infanto'!$G$3:$T$82,13,FALSE),0) -> 0 | O19: =SUM(C19:N19) -> 9
A20: 04102-COQUIMBO | B20: 105305-CES. TIERRAS BLANCAS | C20: =IFERROR(VLOOKUP($B20,'Datos Infanto'!$G$3:$T$82,2,FALSE),0) -> 1 | D20: =IFERROR(VLOOKUP($B20,'Datos Infanto'!$G$3:$T$82,3,FALSE),0) -> 0 | E20: =IFERROR(VLOOKUP($B20,'Datos Infanto'!$G$3:$T$82,4,FALSE),0) -> 1 | F20: =IFERROR(VLOOKUP($B20,'Datos Infanto'!$G$3:$T$82,5,FALSE),0) -> 1 | G20: =IFERROR(VLOOKUP($B20,'Datos Infanto'!$G$3:$T$82,6,FALSE),0) -> 1 | H20: =IFERROR(VLOOKUP($B20,'Datos Infanto'!$G$3:$T$82,7,FALSE),0) -> 0 | I20: =IFERROR(VLOOKUP($B20,'Datos Infanto'!$G$3:$T$82,8,FALSE),0) -> 1 | J20: =IFERROR(VLOOKUP($B20,'Datos Infanto'!$G$3:$T$82,9,FALSE),0) -> 1 | K20: =IFERROR(VLOOKUP($B20,'Datos Infanto'!$G$3:$T$82,10,FALSE),0) -> 1 | L20: =IFERROR(VLOOKUP($B20,'Datos Infanto'!$G$3:$T$82,11,FALSE),0) -> 1 | M20: =IFERROR(VLOOKUP($B20,'Datos Infanto'!$G$3:$T$82,12,FALSE),0) -> 1 | N20: =IFERROR(VLOOKUP($B20,'Datos Infanto'!$G$3:$T$82,13,FALSE),0) -> 1 | O20: =SUM(C20:N20) -> 10
A21: 04102-COQUIMBO | B21: 105321-CES. RURAL TONGOY | C21: =IFERROR(VLOOKUP($B21,'Datos Infanto'!$G$3:$T$82,2,FALSE),0) -> 0 | D21: =IFERROR(VLOOKUP($B21,'Datos Infanto'!$G$3:$T$82,3,FALSE),0) -> 0 | E21: =IFERROR(VLOOKUP($B21,'Datos Infanto'!$G$3:$T$82,4,FALSE),0) -> 0 | F21: =IFERROR(VLOOKUP($B21,'Datos Infanto'!$G$3:$T$82,5,FALSE),0) -> 1 | G21: =IFERROR(VLOOKUP($B21,'Datos Infanto'!$G$3:$T$82,6,FALSE),0) -> 1 | H21: =IFERROR(VLOOKUP($B21,'Datos Infanto'!$G$3:$T$82,7,FALSE),0) -> 1 | I21: =IFERROR(VLOOKUP($B21,'Datos Infanto'!$G$3:$T$82,8,FALSE),0) -> 0 | J21: =IFERROR(VLOOKUP($B21,'Datos Infanto'!$G$3:$T$82,9,FALSE),0) -> 0 | K21: =IFERROR(VLOOKUP($B21,'Datos Infanto'!$G$3:$T$82,10,FALSE),0) -> 1 | L21: =IFERROR(VLOOKUP($B21,'Datos Infanto'!$G$3:$T$82,11,FALSE),0) -> 1 | M21: =IFERROR(VLOOKUP($B21,'Datos Infanto'!$G$3:$T$82,12,FALSE),0) -> 0 | N21: =IFERROR(VLOOKUP($B21,'Datos Infanto'!$G$3:$T$82,13,FALSE),0) -> 1 | O21: =SUM(C21:N21) -> 6
A22: 04102-COQUIMBO | B22: 105323-CES. DR. SERGIO AGUILAR | C22: =IFERROR(VLOOKUP($B22,'Datos Infanto'!$G$3:$T$82,2,FALSE),0) -> 0 | D22: =IFERROR(VLOOKUP($B22,'Datos Infanto'!$G$3:$T$82,3,FALSE),0) -> 0 | E22: =IFERROR(VLOOKUP($B22,'Datos Infanto'!$G$3:$T$82,4,FALSE),0) -> 0 | F22: =IFERROR(VLOOKUP($B22,'Datos Infanto'!$G$3:$T$82,5,FALSE),0) -> 1 | G22: =IFERROR(VLOOKUP($B22,'Datos Infanto'!$G$3:$T$82,6,FALSE),0) -> 1 | H22: =IFERROR(VLOOKUP($B22,'Datos Infanto'!$G$3:$T$82,7,FALSE),0) -> 1 | I22: =IFERROR(VLOOKUP($B22,'Datos Infanto'!$G$3:$T$82,8,FALSE),0) -> 0 | J22: =IFERROR(VLOOKUP($B22,'Datos Infanto'!$G$3:$T$82,9,FALSE),0) -> 1 | K22: =IFERROR(VLOOKUP($B22,'Datos Infanto'!$G$3:$T$82,10,FALSE),0) -> 1 | L22: =IFERROR(VLOOKUP($B22,'Datos Infanto'!$G$3:$T$82,11,FALSE),0) -> 1 | M22: =IFERROR(VLOOKUP($B22,'Datos Infanto'!$G$3:$T$82,12,FALSE),0) -> 0 | N22: =IFERROR(VLOOKUP($B22,'Datos Infanto'!$G$3:$T$82,13,FALSE),0) -> 1 | O22: =SUM(C22:N22) -> 7
A23: 04102-COQUIMBO | B23: 105404-P.S.R. EL TANGUE | C23: =IFERROR(VLOOKUP($B23,'Datos Infanto'!$G$3:$T$82,2,FALSE),0) -> 0 | D23: =IFERROR(VLOOKUP($B23,'Datos Infanto'!$G$3:$T$82,3,FALSE),0) -> 0 | E23: =IFERROR(VLOOKUP($B23,'Datos Infanto'!$G$3:$T$82,4,FALSE),0) -> 0 | F23: =IFERROR(VLOOKUP($B23,'Datos Infanto'!$G$3:$T$82,5,FALSE),0) -> 0 | G23: =IFERROR(VLOOKUP($B23,'Datos Infanto'!$G$3:$T$82,6,FALSE),0) -> 0 | H23: =IFERROR(VLOOKUP($B23,'Datos Infanto'!$G$3:$T$82,7,FALSE),0) -> 0 | I23: =IFERROR(VLOOKUP($B23,'Datos Infanto'!$G$3:$T$82,8,FALSE),0) -> 0 | J23: =IFERROR(VLOOKUP($B23,'Datos Infanto'!$G$3:$T$82,9,FALSE),0) -> 0 | K23: =IFERROR(VLOOKUP($B23,'Datos Infanto'!$G$3:$T$82,10,FALSE),0) -> 0 | L23: =IFERROR(VLOOKUP($B23,'Datos Infanto'!$G$3:$T$82,11,FALSE),0) -> 0 | M23: =IFERROR(VLOOKUP($B23,'Datos Infanto'!$G$3:$T$82,12,FALSE),0) -> 0 | N23: =IFERROR(VLOOKUP($B23,'Datos Infanto'!$G$3:$T$82,13,FALSE),0) -> 0 | O23: =SUM(C23:N23) -> 0
A24: 04102-COQUIMBO | B24: 105405-P.S.R. GUANAQUEROS | C24: =IFERROR(VLOOKUP($B24,'Datos Infanto'!$G$3:$T$82,2,FALSE),0) -> 0 | D24: =IFERROR(VLOOKUP($B24,'Datos Infanto'!$G$3:$T$82,3,FALSE),0) -> 0 | E24: =IFERROR(VLOOKUP($B24,'Datos Infanto'!$G$3:$T$82,4,FALSE),0) -> 0 | F24: =IFERROR(VLOOKUP($B24,'Datos Infanto'!$G$3:$T$82,5,FALSE),0) -> 0 | G24: =IFERROR(VLOOKUP($B24,'Datos Infanto'!$G$3:$T$82,6,FALSE),0) -> 0 | H24: =IFERROR(VLOOKUP($B24,'Datos Infanto'!$G$3:$T$82,7,FALSE),0) -> 0 | I24: =IFERROR(VLOOKUP($B24,'Datos Infanto'!$G$3:$T$82,8,FALSE),0) -> 0 | J24: =IFERROR(VLOOKUP($B24,'Datos Infanto'!$G$3:$T$82,9,FALSE),0) -> 0 | K24: =IFERROR(VLOOKUP($B24,'Datos Infanto'!$G$3:$T$82,10,FALSE),0) -> 0 | L24: =IFERROR(VLOOKUP($B24,'Datos Infanto'!$G$3:$T$82,11,FALSE),0) -> 0 | M24: =IFERROR(VLOOKUP($B24,'Datos Infanto'!$G$3:$T$82,12,FALSE),0) -> 0 | N24: =IFERROR(VLOOKUP($B24,'Datos Infanto'!$G$3:$T$82,13,FALSE),0) -> 0 | O24: =SUM(C24:N24) -> 0
A25: 04102-COQUIMBO | B25: 105407-P.S.R. TAMBILLOS | C25: =IFERROR(VLOOKUP($B25,'Datos Infanto'!$G$3:$T$82,2,FALSE),0) -> 0 | D25: =IFERROR(VLOOKUP($B25,'Datos Infanto'!$G$3:$T$82,3,FALSE),0) -> 0 | E25: =IFERROR(VLOOKUP($B25,'Datos Infanto'!$G$3:$T$82,4,FALSE),0) -> 0 | F25: =IFERROR(VLOOKUP($B25,'Datos Infanto'!$G$3:$T$82,5,FALSE),0) -> 0 | G25: =IFERROR(VLOOKUP($B25,'Datos Infanto'!$G$3:$T$82,6,FALSE),0) -> 0 | H25: =IFERROR(VLOOKUP($B25,'Datos Infanto'!$G$3:$T$82,7,FALSE),0) -> 0 | I25: =IFERROR(VLOOKUP($B25,'Datos Infanto'!$G$3:$T$82,8,FALSE),0) -> 0 | J25: =IFERROR(VLOOKUP($B25,'Datos Infanto'!$G$3:$T$82,9,FALSE),0) -> 0 | K25: =IFERROR(VLOOKUP($B25,'Datos Infanto'!$G$3:$T$82,10,FALSE),0) -> 0 | L25: =IFERROR(VLOOKUP($B25,'Datos Infanto'!$G$3:$T$82,11,FALSE),0) -> 0 | M25: =IFERROR(VLOOKUP($B25,'Datos Infanto'!$G$3:$T$82,12,FALSE),0) -> 0 | N25: =IFERROR(VLOOKUP($B25,'Datos Infanto'!$G$3:$T$82,13,FALSE),0) -> 0 | O25: =SUM(C25:N25) -> 0
A26: 04102-COQUIMBO | B26: 200273-CECOF PUNTA MIRA | C26: =IFERROR(VLOOKUP($B26,'Datos Infanto'!$G$3:$T$82,2,FALSE),0) -> 0 | D26: =IFERROR(VLOOKUP($B26,'Datos Infanto'!$G$3:$T$82,3,FALSE),0) -> 0 | E26: =IFERROR(VLOOKUP($B26,'Datos Infanto'!$G$3:$T$82,4,FALSE),0) -> 0 | F26: =IFERROR(VLOOKUP($B26,'Datos Infanto'!$G$3:$T$82,5,FALSE),0) -> 0 | G26: =IFERROR(VLOOKUP($B26,'Datos Infanto'!$G$3:$T$82,6,FALSE),0) -> 0 | H26: =IFERROR(VLOOKUP($B26,'Datos Infanto'!$G$3:$T$82,7,FALSE),0) -> 0 | I26: =IFERROR(VLOOKUP($B26,'Datos Infanto'!$G$3:$T$82,8,FALSE),0) -> 0 | J26: =IFERROR(VLOOKUP($B26,'Datos Infanto'!$G$3:$T$82,9,FALSE),0) -> 0 | K26: =IFERROR(VLOOKUP($B26,'Datos Infanto'!$G$3:$T$82,10,FALSE),0) -> 0 | L26: =IFERROR(VLOOKUP($B26,'Datos Infanto'!$G$3:$T$82,11,FALSE),0) -> 0 | M26: =IFERROR(VLOOKUP($B26,'Datos Infanto'!$G$3:$T$82,12,FALSE),0) -> 0 | N26: =IFERROR(VLOOKUP($B26,'Datos Infanto'!$G$3:$T$82,13,FALSE),0) -> 0 | O26: =SUM(C26:N26) -> 0
A27: 04102-COQUIMBO | B27: 200494-CESFAM EL SAUCE | C27: =IFERROR(VLOOKUP($B27,'Datos Infanto'!$G$3:$T$82,2,FALSE),0) -> 0 | D27: =IFERROR(VLOOKUP($B27,'Datos Infanto'!$G$3:$T$82,3,FALSE),0) -> 1 | E27: =IFERROR(VLOOKUP($B27,'Datos Infanto'!$G$3:$T$82,4,FALSE),0) -> 1 | F27: =IFERROR(VLOOKUP($B27,'Datos Infanto'!$G$3:$T$82,5,FALSE),0) -> 1 | G27: =IFERROR(VLOOKUP($B27,'Datos Infanto'!$G$3:$T$82,6,FALSE),0) -> 1 | H27: =IFERROR(VLOOKUP($B27,'Datos Infanto'!$G$3:$T$82,7,FALSE),0) -> 0 | I27: =IFERROR(VLOOKUP($B27,'Datos Infanto'!$G$3:$T$82,8,FALSE),0) -> 1 | J27: =IFERROR(VLOOKUP($B27,'Datos Infanto'!$G$3:$T$82,9,FALSE),0) -> 0 | K27: =IFERROR(VLOOKUP($B27,'Datos Infanto'!$G$3:$T$82,10,FALSE),0) -> 1 | L27: =IFERROR(VLOOKUP($B27,'Datos Infanto'!$G$3:$T$82,11,FALSE),0) -> 1 | M27: =IFERROR(VLOOKUP($B27,'Datos Infanto'!$G$3:$T$82,12,FALSE),0) -> 1 | N27: =IFERROR(VLOOKUP($B27,'Datos Infanto'!$G$3:$T$82,13,FALSE),0) -> 1 | O27: =SUM(C27:N27) -> 9
A28: 04102-COQUIMBO | B28: 200607-CESFAM LILA CORTES | C28: =IFERROR(VLOOKUP($B28,'Datos Infanto'!$G$3:$T$82,2,FALSE),0) -> 1 | D28: =IFERROR(VLOOKUP($B28,'Datos Infanto'!$G$3:$T$82,3,FALSE),0) -> 0 | E28: =IFERROR(VLOOKUP($B28,'Datos Infanto'!$G$3:$T$82,4,FALSE),0) -> 0 | F28: =IFERROR(VLOOKUP($B28,'Datos Infanto'!$G$3:$T$82,5,FALSE),0) -> 1 | G28: =IFERROR(VLOOKUP($B28,'Datos Infanto'!$G$3:$T$82,6,FALSE),0) -> 1 | H28: =IFERROR(VLOOKUP($B28,'Datos Infanto'!$G$3:$T$82,7,FALSE),0) -> 0 | I28: =IFERROR(VLOOKUP($B28,'Datos Infanto'!$G$3:$T$82,8,FALSE),0) -> 1 | J28: =IFERROR(VLOOKUP($B28,'Datos Infanto'!$G$3:$T$82,9,FALSE),0) -> 0 | K28: =IFERROR(VLOOKUP($B28,'Datos Infanto'!$G$3:$T$82,10,FALSE),0) -> 0 | L28: =IFERROR(VLOOKUP($B28,'Datos Infanto'!$G$3:$T$82,11,FALSE),0) -> 1 | M28: =IFERROR(VLOOKUP($B28,'Datos Infanto'!$G$3:$T$82,12,FALSE),0) -> 2 | N28: =IFERROR(VLOOKUP($B28,'Datos Infanto'!$G$3:$T$82,13,FALSE),0) -> 1
A29: 04102-COQUIMBO | B29: 200499-CESFAM PAN DE AZÚCAR | C29: =IFERROR(VLOOKUP($B29,'Datos Infanto'!$G$3:$T$82,2,FALSE),0) -> 1 | D29: =IFERROR(VLOOKUP($B29,'Datos Infanto'!$G$3:$T$82,3,FALSE),0) -> 1 | E29: =IFERROR(VLOOKUP($B29,'Datos Infanto'!$G$3:$T$82,4,FALSE),0) -> 1 | F29: =IFERROR(VLOOKUP($B29,'Datos Infanto'!$G$3:$T$82,5,FALSE),0) -> 1 | G29: =IFERROR(VLOOKUP($B29,'Datos Infanto'!$G$3:$T$82,6,FALSE),0) -> 1 | H29: =IFERROR(VLOOKUP($B29,'Datos Infanto'!$G$3:$T$82,7,FALSE),0) -> 1 | I29: =IFERROR(VLOOKUP($B29,'Datos Infanto'!$G$3:$T$82,8,FALSE),0) -> 1 | J29: =IFERROR(VLOOKUP($B29,'Datos Infanto'!$G$3:$T$82,9,FALSE),0) -> 1 | K29: =IFERROR(VLOOKUP($B29,'Datos Infanto'!$G$3:$T$82,10,FALSE),0) -> 1 | L29: =IFERROR(VLOOKUP($B29,'Datos Infanto'!$G$3:$T$82,11,FALSE),0) -> 1 | M29: =IFERROR(VLOOKUP($B29,'Datos Infanto'!$G$3:$T$82,12,FALSE),0) -> 1 | N29: =IFERROR(VLOOKUP($B29,'Datos Infanto'!$G$3:$T$82,13,FALSE),0) -> 1 | O29: =SUM(C29:N29) -> 12
A30: TOTAL COQUIMBO | C30: =SUM(C18:C29) -> 5 | D30: =SUM(D18:D29) -> 3 | E30: =SUM(E18:E29) -> 4 | F30: =SUM(F18:F29) -> 7 | G30: =SUM(G18:G29) -> 8 | H30: =SUM(H18:H29) -> 5 | I30: =SUM(I18:I29) -> 5 | J30: =SUM(J18:J29) -> 5 | ... O30: =SUM(O18:O29) -> 64
A31: 04104-LA HIGUERA | B31: 105314-CES. LA HIGUERA | C31: =IFERROR(VLOOKUP($B31,'Datos Infanto'!$G$3:$T$82,2,FALSE),0) -> 1 | D31: =IFERROR(VLOOKUP($B31,'Datos Infanto'!$G$3:$T$82,3,FALSE),0) -> 0 | E31: =IFERROR(VLOOKUP($B31,'Datos Infanto'!$G$3:$T$82,4,FALSE),0) -> 1 | F31: =IFERROR(VLOOKUP($B31,'Datos Infanto'!$G$3:$T$82,5,FALSE),0) -> 1 | G31: =IFERROR(VLOOKUP($B31,'Datos Infanto'!$G$3:$T$82,6,FALSE),0) -> 1 | H31: =IFERROR(VLOOKUP($B31,'Datos Infanto'!$G$3:$T$82,7,FALSE),0) -> 1 | I31: =IFERROR(VLOOKUP($B31,'Datos Infanto'!$G$3:$T$82,8,FALSE),0) -> 0 | J31: =IFERROR(VLOOKUP($B31,'Datos Infanto'!$G$3:$T$82,9,FALSE),0) -> 1 | K31: =IFERROR(VLOOKUP($B31,'Datos Infanto'!$G$3:$T$82,10,FALSE),0) -> 0 | L31: =IFERROR(VLOOKUP($B31,'Datos Infanto'!$G$3:$T$82,11,FALSE),0) -> 1 | M31: =IFERROR(VLOOKUP($B31,'Datos Infanto'!$G$3:$T$82,12,FALSE),0) -> 0 | N31: =IFERROR(VLOOKUP($B31,'Datos Infanto'!$G$3:$T$82,13,FALSE),0) -> 0 | O31: =SUM(C31:N31) -> 7
A32: 04104-LA HIGUERA | B32: 105500-P.S.R. CALETA HORNOS | C32: =IFERROR(VLOOKUP($B32,'Datos Infanto'!$G$3:$T$82,2,FALSE),0) -> 0 | D32: =IFERROR(VLOOKUP($B32,'Datos Infanto'!$G$3:$T$82,3,FALSE),0) -> 0 | E32: =IFERROR(VLOOKUP($B32,'Datos Infanto'!$G$3:$T$82,4,FALSE),0) -> 0 | F32: =IFERROR(VLOOKUP($B32,'Datos Infanto'!$G$3:$T$82,5,FALSE),0) -> 0 | G32: =IFERROR(VLOOKUP($B32,'Datos Infanto'!$G$3:$T$82,6,FALSE),0) -> 0 | H32: =IFERROR(VLOOKUP($B32,'Datos Infanto'!$G$3:$T$82,7,FALSE),0) -> 0 | I32: =IFERROR(VLOOKUP($B32,'Datos Infanto'!$G$3:$T$82,8,FALSE),0) -> 0 | J32: =IFERROR(VLOOKUP($B32,'Datos Infanto'!$G$3:$T$82,9,FALSE),0) -> 0 | K32: =IFERROR(VLOOKUP($B32,'Datos Infanto'!$G$3:$T$82,10,FALSE),0) -> 0 | L32: =IFERROR(VLOOKUP($B32,'Datos Infanto'!$G$3:$T$82,11,FALSE),0) -> 1 | M32: =IFERROR(VLOOKUP($B32,'Datos Infanto'!$G$3:$T$82,12,FALSE),0) -> 0 | N32: =IFERROR(VLOOKUP($B32,'Datos Infanto'!$G$3:$T$82,13,FALSE),0) -> 0 | O32: =SUM(C32:N32) -> 1
A33: 04104-LA HIGUERA | B33: 105505-P.S.R. LOS CHOROS | C33: =IFERROR(VLOOKUP($B33,'Datos Infanto'!$G$3:$T$82,2,FALSE),0) -> 0 | D33: =IFERROR(VLOOKUP($B33,'Datos Infanto'!$G$3:$T$82,3,FALSE),0) -> 1 | E33: =IFERROR(VLOOKUP($B33,'Datos Infanto'!$G$3:$T$82,4,FALSE),0) -> 0 | F33: =IFERROR(VLOOKUP($B33,'Datos Infanto'!$G$3:$T$82,5,FALSE),0) -> 0 | G33: =IFERROR(VLOOKUP($B33,'Datos Infanto'!$G$3:$T$82,6,FALSE),0) -> 0 | H33: =IFERROR(VLOOKUP($B33,'Datos Infanto'!$G$3:$T$82,7,FALSE),0) -> 0 | I33: =IFERROR(VLOOKUP($B33,'Datos Infanto'!$G$3:$T$82,8,FALSE),0) -> 0 | J33: =IFERROR(VLOOKUP($B33,'Datos Infanto'!$G$3:$T$82,9,FALSE),0) -> 0 | K33: =IFERROR(VLOOKUP($B33,'Datos Infanto'!$G$3:$T$82,10,FALSE),0) -> 0 | L33: =IFERROR(VLOOKUP($B33,'Datos Infanto'!$G$3:$T$82,11,FALSE),0) -> 0 | M33: =IFERROR(VLOOKUP($B33,'Datos Infanto'!$G$3:$T$82,12,FALSE),0) -> 0 | N33: =IFERROR(VLOOKUP($B33,'Datos Infanto'!$G$3:$T$82,13,FALSE),0) -> 0 | O33: =SUM(C33:N33) -> 1
A34: 04104-LA HIGUERA | B34: 105506-P.S.R. EL TRAPICHE | C34: =IFERROR(VLOOKUP($B34,'Datos Infanto'!$G$3:$T$82,2,FALSE),0) -> 0 | D34: =IFERROR(VLOOKUP($B34,'Datos Infanto'!$G$3:$T$82,3,FALSE),0) -> 1 | E34: =IFERROR(VLOOKUP($B34,'Datos Infanto'!$G$3:$T$82,4,FALSE),0) -> 0 | F34: =IFERROR(VLOOKUP($B34,'Datos Infanto'!$G$3:$T$82,5,FALSE),0) -> 0 | G34: =IFERROR(VLOOKUP($B34,'Datos Infanto'!$G$3:$T$82,6,FALSE),0) -> 0 | H34: =IFERROR(VLOOKUP($B34,'Datos Infanto'!$G$3:$T$82,7,FALSE),0) -> 0 | I34: =IFERROR(VLOOKUP($B34,'Datos Infanto'!$G$3:$T$82,8,FALSE),0) -> 0 | J34: =IFERROR(VLOOKUP($B34,'Datos Infanto'!$G$3:$T$82,9,FALSE),0) -> 0 | K34: =IFERROR(VLOOKUP($B34,'Datos Infanto'!$G$3:$T$82,10,FALSE),0) -> 0 | L34: =IFERROR(VLOOKUP($B34,'Datos Infanto'!$G$3:$T$82,11,FALSE),0) -> 0 | M34: =IFERROR(VLOOKUP($B34,'Datos Infanto'!$G$3:$T$82,12,FALSE),0) -> 0 | N34: =IFERROR(VLOOKUP($B34,'Datos Infanto'!$G$3:$T$82,13,FALSE),0) -> 0 | O34: =SUM(C34:N34) -> 1
A35: TOTAL LA HIGUERA | C35: =SUM(C31:C34) -> 1 | D35: =SUM(D31:D34) -> 2 | E35: =SUM(E31:E34) -> 1 | F35: =SUM(F31:F34) -> 1 | G35: =SUM(G31:G34) -> 1 | H35: =SUM(H31:H34) -> 1 | I35: =SUM(I31:I34) -> 0 | J35: =SUM(J31:J34) -> 1 | ... O35: =SUM(O31:O34) -> 10
A36: 04105-PAIHUANO | B36: 105306-CES. PAIHUANO | C36: =IFERROR(VLOOKUP($B36,'Datos Infanto'!$G$3:$T$82,2,FALSE),0) -> 0 | D36: =IFERROR(VLOOKUP($B36,'Datos Infanto'!$G$3:$T$82,3,FALSE),0) -> 0 | E36: =IFERROR(VLOOKUP($B36,'Datos Infanto'!$G$3:$T$82,4,FALSE),0) -> 1 | F36: =IFERROR(VLOOKUP($B36,'Datos Infanto'!$G$3:$T$82,5,FALSE),0) -> 1 | G36: =IFERROR(VLOOKUP($B36,'Datos Infanto'!$G$3:$T$82,6,FALSE),0) -> 1 | H36: =IFERROR(VLOOKUP($B36,'Datos Infanto'!$G$3:$T$82,7,FALSE),0) -> 1 | I36: =IFERROR(VLOOKUP($B36,'Datos Infanto'!$G$3:$T$82,8,FALSE),0) -> 0 | J36: =IFERROR(VLOOKUP($B36,'Datos Infanto'!$G$3:$T$82,9,FALSE),0) -> 0 | K36: =IFERROR(VLOOKUP($B36,'Datos Infanto'!$G$3:$T$82,10,FALSE),0) -> 3 | L36: =IFERROR(VLOOKUP($B36,'Datos Infanto'!$G$3:$T$82,11,FALSE),0) -> 2 | M36: =IFERROR(VLOOKUP($B36,'Datos Infanto'!$G$3:$T$82,12,FALSE),0) -> 1 | N36: =IFERROR(VLOOKUP($B36,'Datos Infanto'!$G$3:$T$82,13,FALSE),0) -> 1 | O36: =SUM(C36:N36) -> 11
A37: 04105-PAIHUANO | B37: 105475-P.S.R. HORCON | C37: =IFERROR(VLOOKUP($B37,'Datos Infanto'!$G$3:$T$82,2,FALSE),0) -> 0 | D37: =IFERROR(VLOOKUP($B37,'Datos Infanto'!$G$3:$T$82,3,FALSE),0) -> 0 | E37: =IFERROR(VLOOKUP($B37,'Datos Infanto'!$G$3:$T$82,4,FALSE),0) -> 0 | F37: =IFERROR(VLOOKUP($B37,'Datos Infanto'!$G$3:$T$82,5,FALSE),0) -> 0 | G37: =IFERROR(VLOOKUP($B37,'Datos Infanto'!$G$3:$T$82,6,FALSE),0) -> 0 | H37: =IFERROR(VLOOKUP($B37,'Datos Infanto'!$G$3:$T$82,7,FALSE),0) -> 0 | I37: =IFERROR(VLOOKUP($B37,'Datos Infanto'!$G$3:$T$82,8,FALSE),0) -> 0 | J37: =IFERROR(VLOOKUP($B37,'Datos Infanto'!$G$3:$T$82,9,FALSE),0) -> 0 | K37: =IFERROR(VLOOKUP($B37,'Datos Infanto'!$G$3:$T$82,10,FALSE),0) -> 0 | L37: =IFERROR(VLOOKUP($B37,'Datos Infanto'!$G$3:$T$82,11,FALSE),0) -> 0 | M37: =IFERROR(VLOOKUP($B37,'Datos Infanto'!$G$3:$T$82,12,FALSE),0) -> 0 | N37: =IFERROR(VLOOKUP($B37,'Datos Infanto'!$G$3:$T$82,13,FALSE),0) -> 0 | O37: =SUM(C37:N37) -> 0
A38: 04105-PAIHUANO | B38: 105476-P.S.R. MONTE GRANDE | C38: =IFERROR(VLOOKUP($B38,'Datos Infanto'!$G$3:$T$82,2,FALSE),0) -> 0 | D38: =IFERROR(VLOOKUP($B38,'Datos Infanto'!$G$3:$T$82,3,FALSE),0) -> 0 | E38: =IFERROR(VLOOKUP($B38,'Datos Infanto'!$G$3:$T$82,4,FALSE),0) -> 0 | F38: =IFERROR(VLOOKUP($B38,'Datos Infanto'!$G$3:$T$82,5,FALSE),0) -> 0 | G38: =IFERROR(VLOOKUP($B38,'Datos Infanto'!$G$3:$T$82,6,FALSE),0) -> 0 | H38: =IFERROR(VLOOKUP($B38,'Datos Infanto'!$G$3:$T$82,7,FALSE),0) -> 0 | I38: =IFERROR(VLOOKUP($B38,'Datos Infanto'!$G$3:$T$82,8,FALSE),0) -> 0 | J38: =IFERROR(VLOOKUP($B38,'Datos Infanto'!$G$3:$T$82,9,FALSE),0) -> 0 | K38: =IFERROR(VLOOKUP($B38,'Datos Infanto'!$G$3:$T$82,10,FALSE),0) -> 0 | L38: =IFERROR(VLOOKUP($B38,'Datos Infanto'!$G$3:$T$82,11,FALSE),0) -> 0 | M38: =IFERROR(VLOOKUP($B38,'Datos Infanto'!$G$3:$T$82,12,FALSE),0) -> 0 | N38: =IFERROR(VLOOKUP($B38,'Datos Infanto'!$G$3:$T$82,13,FALSE),0) -> 0 | O38: =SUM(C38:N38) -> 0
A39: 04105-PAIHUANO | B39: 105477-P.S.R. PISCO ELQUI | C39: =IFERROR(VLOOKUP($B39,'Datos Infanto'!$G$3:$T$82,2,FALSE),0) -> 0 | D39: =IFERROR(VLOOKUP($B39,'Datos Infanto'!$G$3:$T$82,3,FALSE),0) -> 0 | E39: =IFERROR(VLOOKUP($B39,'Datos Infanto'!$G$3:$T$82,4,FALSE),0) -> 0 | F39: =IFERROR(VLOOKUP($B39,'Datos Infanto'!$G$3:$T$82,5,FALSE),0) -> 0 | G39: =IFERROR(VLOOKUP($B39,'Datos Infanto'!$G$3:$T$82,6,FALSE),0) -> 0 | H39: =IFERROR(VLOOKUP($B39,'Datos Infanto'!$G$3:$T$82,7,FALSE),0) -> 0 | I39: =IFERROR(VLOOKUP($B39,'Datos Infanto'!$G$3:$T$82,8,FALSE),0) -> 0 | J39: =IFERROR(VLOOKUP($B39,'Datos Infanto'!$G$3:$T$82,9,FALSE),0) -> 0 | K39: =IFERROR(VLOOKUP($B39,'Datos Infanto'!$G$3:$T$82,10,FALSE),0) -> 0 | L39: =IFERROR(VLOOKUP($B39,'Datos Infanto'!$G$3:$T$82,11,FALSE),0) -> 0 | M39: =IFERROR(VLOOKUP($B39,'Datos Infanto'!$G$3:$T$82,12,FALSE),0) -> 0 | N39: =IFERROR(VLOOKUP($B39,'Datos Infanto'!$G$3:$T$82,13,FALSE),0) -> 0 | O39: =SUM(C39:N39) -> 0
A40: TOTAL PAIHUANO | C40: =IFERROR(VLOOKUP($B40,#REF!,2,FALSE),0) -> 0 | D40: =IFERROR(VLOOKUP($B40,#REF!,3,FALSE),0) -> 0 | E40: =SUM(E36:E39) -> 1 | F40: =SUM(F36:F39) -> 1 | G40: =SUM(G36:G39) -> 1 | H40: =SUM(H36:H39) -> 1 | I40: =SUM(I36:I39) -> 0 | J40: =SUM(J36:J39) -> 0 | K40: =SUM(K36:K39) -> 3 | L40: =SUM(L36:L39) -> 2 | ... O40: =SUM(O36:O39) -> 11
A41: 04106-VICUÑA | B41: 105467-P.S.R. DIAGUITAS | C41: =IFERROR(VLOOKUP($B41,'Datos Infanto'!$G$3:$T$82,2,FALSE),0) -> 1 | D41: =IFERROR(VLOOKUP($B41,'Datos Infanto'!$G$3:$T$82,3,FALSE),0) -> 0 | E41: =IFERROR(VLOOKUP($B41,'Datos Infanto'!$G$3:$T$82,4,FALSE),0) -> 0 | F41: =IFERROR(VLOOKUP($B41,'Datos Infanto'!$G$3:$T$82,5,FALSE),0) -> 0 | G41: =IFERROR(VLOOKUP($B41,'Datos Infanto'!$G$3:$T$82,6,FALSE),0) -> 0 | H41: =IFERROR(VLOOKUP($B41,'Datos Infanto'!$G$3:$T$82,7,FALSE),0) -> 0 | I41: =IFERROR(VLOOKUP($B41,'Datos Infanto'!$G$3:$T$82,8,FALSE),0) -> 1 | J41: =IFERROR(VLOOKUP($B41,'Datos Infanto'!$G$3:$T$82,9,FALSE),0) -> 0 | K41: =IFERROR(VLOOKUP($B41,'Datos Infanto'!$G$3:$T$82,10,FALSE),0) -> 2 | L41: =IFERROR(VLOOKUP($B41,'Datos Infanto'!$G$3:$T$82,11,FALSE),0) -> 1 | M41: =IFERROR(VLOOKUP($B41,'Datos Infanto'!$G$3:$T$82,12,FALSE),0) -> 1 | N41: =IFERROR(VLOOKUP($B41,'Datos Infanto'!$G$3:$T$82,13,FALSE),0) -> 1 | O41: =SUM(C41:N41) -> 7
...

Sheet Datos Infanto
A1: Idestablecimiento | B1: Establecimineto | C1: Comuna | D1: Mes | E1: Total
A2: 105100 | B2: =IFERROR(VLOOKUP($A2,[1]Establecimientos!$A$1:$E$175,3,FALSE),0) -> 105100-HOSPITAL LA SERENA | C2: =IFERROR(VLOOKUP($A2,[1]Establecimientos!$A$1:$E$175,4,FALSE),0) -> 04101-LA SERENA | D2: 9 | E2: 0
A3: 105103 | B3: =IFERROR(VLOOKUP($A3,[1]Establecimientos!$A$1:$E$175,3,FALSE),0) -> 105103-HOSPITAL ILLAPEL | C3: =IFERROR(VLOOKUP($A3,[1]Establecimientos!$A$1:$E$175,4,FALSE),0) -> 04201-ILLAPEL | D3: 1 | E3: 1 | G3: Suma de Total | H3: Etiquetas de columna
A4: 105103 | B4: =IFERROR(VLOOKUP($A4,[1]Establecimientos!$A$1:$E$175,3,FALSE),0) -> 105103-HOSPITAL ILLAPEL | C4: =IFERROR(VLOOKUP($A4,[1]Establecimientos!$A$1:$E$175,4,FALSE),0) -> 04201-ILLAPEL | D4: 2 | E4: 1 | G4: Etiquetas de fila | H4: 1 | I4: 2 | J4: 3 | K4: 4 | L4: 5 | M4: 6 | N4: 7 | O4: 8 | P4: 9 | Q4: 10 | R4: 11 | S4: 12 | T4: Total general
A5: 105103 | B5: =IFERROR(VLOOKUP($A5,[1]Establecimientos!$A$1:$E$175,3,FALSE),0) -> 105103-HOSPITAL ILLAPEL | C5: =IFERROR(VLOOKUP($A5,[1]Establecimientos!$A$1:$E$175,4,FALSE),0) -> 04201-ILLAPEL | D5: 3 | E5: 1 | G5: 04101-LA SERENA | H5: 6 | I5: 4 | J5: 5 | K5: 4 | L5: 9 | M5: 4 | N5: 6 | O5: 6 | P5: 6 | Q5: 5 | R5: 5 | S5: 7 | T5: 67
A6: 105103 | B6: =IFERROR(VLOOKUP($A6,[1]Establecimientos!$A$1:$E$175,3,FALSE),0) -> 105103-HOSPITAL ILLAPEL | C6: =IFERROR(VLOOKUP($A6,[1]Establecimientos!$A$1:$E$175,4,FALSE),0) -> 04201-ILLAPEL | D6: 4 | E6: 1 | G6: 105100-HOSPITAL LA SERENA | P6: 0 | T6: 0
A7: 105103 | B7: =IFERROR(VLOOKUP($A7,[1]Establecimientos!$A$1:$E$175,3,FALSE),0) -> 105103-HOSPITAL ILLAPEL | C7: =IFERROR(VLOOKUP($A7,[1]Establecimientos!$A$1:$E$175,4,FALSE),0) -> 04201-ILLAPEL | D7: 5 | E7: 1 | G7: 105300-CES. CARDENAL CARO | H7: 1 | L7: 2 | N7: 1 | O7: 1 | Q7: 1 | R7: 1 | S7: 1 | T7: 8
A8: 105104 | B8: =IFERROR(VLOOKUP($A8,[1]Establecimientos!$A$1:$E$175,3,FALSE),0) -> 105104-HOSPITAL SALAMANCA | C8: =IFERROR(VLOOKUP($A8,[1]Establecimientos!$A$1:$E$175,4,FALSE),0) -> 04204-SALAMANCA | D8: 1 | E8: 0 | G8: 105301-CES. LAS COMPAÑIAS | H8: 1 | I8: 0 | J8: 1 | K8: 1 | L8: 1 | M8: 0 | N8: 1 | O8: 1 | P8: 1 | Q8: 1 | R8: 0 | S8: 1 | T8: 9
A9: 105104 | B9: =IFERROR(VLOOKUP($A9,[1]Establecimientos!$A$1:$E$175,3,FALSE),0) -> 105104-HOSPITAL SALAMANCA | C9: =IFERROR(VLOOKUP($A9,[1]Establecimientos!$A$1:$E$175,4,FALSE),0) -> 04204-SALAMANCA | D9: 2 | E9: 0 | G9: 105302-CES. PEDRO AGUIRRE C. | H9: 1 | I9: 1 | J9: 1 | K9: 1 | L9: 1 | M9: 1 | N9: 1 | O9: 1 | P9: 1 | Q9: 1 | R9: 1 | S9: 1 | T9: 12
A10: 105104 | B10: =IFERROR(VLOOKUP($A10,[1]Establecimientos!$A$1:$E$175,3,FALSE),0) -> 105104-HOSPITAL SALAMANCA | C10: =IFERROR(VLOOKUP($A10,[1]Establecimientos!$A$1:$E$175,4,FALSE),0) -> 04204-SALAMANCA | D10: 3 | E10: 0 | G10: 105313-CES. SCHAFFHAUSER | H10: 1 | I10: 1 | J10: 0 | K10: 1 | L10: 2 | M10: 1 | N10: 1 | O10: 1 | P10: 1 | Q10: 1 | R10: 1 | S10: 1 | T10: 12
A11: 105104 | B11: =IFERROR(VLOOKUP($A11,[1]Establecimientos!$A$1:$E$175,3,FALSE),0) -> 105104-HOSPITAL SALAMANCA | C11: =IFERROR(VLOOKUP($A11,[1]Establecimientos!$A$1:$E$175,4,FALSE),0) -> 04204-SALAMANCA | D11: 4 | E11: 0 | G11: 105319-CES. CARDENAL R.S.H. | H11: 1 | I11: 1 | J11: 1 | K11: 1 | L11: 1 | M11: 1 | N11: 1 | O11: 1 | P11: 1 | Q11: 0 | R11: 0 | S11: 1 | T11: 10
A12: 105104 | B12: =IFERROR(VLOOKUP($A12,[1]Establecimientos!$A$1:$E$175,3,FALSE),0) -> 105104-HOSPITAL SALAMANCA | C12: =IFERROR(VLOOKUP($A12,[1]Establecimientos!$A$1:$E$175,4,FALSE),0) -> 04204-SALAMANCA | D12: 6 | E12: 1 | G12: 105325-CESFAM JUAN PABLO II | I12: 0 | J12: 1 | L12: 1 | M12: 1 | O12: 1 | P12: 1 | Q12: 1 | R12: 1 | S12: 1 | T12: 8
A13: 105104 | B13: =IFERROR(VLOOKUP($A13,[1]Establecimientos!$A$1:$E$175,3,FALSE),0) -> 105104-HOSPITAL SALAMANCA | C13: =IFERROR(VLOOKUP($A13,[1]Establecimientos!$A$1:$E$175,4,FALSE),0) -> 04204-SALAMANCA | D13: 8 | E13: 1 | G13: 105400-P.S.R. ALGARROBITO | H13: 1 | I13: 1 | J13: 1 | K13: 0 | L13: 1 | M13: 0 | N13: 1 | O13: 0 | P13: 1 | R13: 1 | T13: 7
A14: 105104 | B14: =IFERROR(VLOOKUP($A14,[1]Establecimientos!$A$1:$E$175,3,FALSE),0) -> 105104-HOSPITAL SALAMANCA | C14: =IFERROR(VLOOKUP($A14,[1]Establecimientos!$A$1:$E$175,4,FALSE),0) -> 04204-SALAMANCA | D14: 9 | E14: 1 | G14: 105401-P.S.R. LAS ROJAS | N14: 0 | Q14: 0 | R14: 0 | S14: 0 | T14: 0
A15: 105104 | B15: =IFERROR(VLOOKUP($A15,[1]Establecimientos!$A$1:$E$175,3,FALSE),0) -> 105104-HOSPITAL SALAMANCA | C15: =IFERROR(VLOOKUP($A15,[1]Establecimientos!$A$1:$E$175,4,FALSE),0) -> 04204-SALAMANCA | D15: 10 | E15: 1 | G15: 105402-P.S.R. EL ROMERO | R15: 0 | S15: 0 | T15: 0
A16: 105104 | B16: =IFERROR(VLOOKUP($A16,[1]Establecimientos!$A$1:$E$175,3,FALSE),0) -> 105104-HOSPITAL SALAMANCA | C16: =IFERROR(VLOOKUP($A16,[1]Establecimientos!$A$1:$E$175,4,FALSE),0) -> 04204-SALAMANCA | D16: 11 | E16: 1 | G16: 105499-P.S.R. LAMBERT | S16: 1 | T16: 1
A17: 105104 | B17: =IFERROR(VLOOKUP($A17,[1]Establecimientos!$A$1:$E$175,3,FALSE),0) -> 105104-HOSPITAL SALAMANCA | C17: =IFERROR(VLOOKUP($A17,[1]Establecimientos!$A$1:$E$175,4,FALSE),0) -> 04204-SALAMANCA | D17: 12 | E17: 0 | G17: 200402-CECOF ARCOS DE PINAMAR | H17: 0 | T17: 0
A18: 105105 | B18: =IFERROR(VLOOKUP($A18,[1]Establecimientos!$A$1:$E$175,3,FALSE),0) -> 105105-HOSPITAL COMBARBALÁ | C18: =IFERROR(VLOOKUP($A18,[1]Establecimientos!$A$1:$E$175,4,FALSE),0) -> 04302-COMBARBALÁ | D18: 1 | E18: 1 | G18: 04102-COQUIMBO | H18: 5 | I18: 3 | J18: 4 | K18: 7 | L18: 8 | M18: 5 | N18: 5 | O18: 5 | P18: 7 | Q18: 8 | R18: 8 | S18: 7 | T18: 72
A19: 105105 | B19: =IFERROR(VLOOKUP($A19,[1]Establecimientos!$A$1:$E$175,3,FALSE),0) -> 105105-HOSPITAL COMBARBALÁ | C19: =IFERROR(VLOOKUP($A19,[1]Establecimientos!$A$1:$E$175,4,FALSE),0) -> 04302-COMBARBALÁ | D19: 2 | E19: 1 | G19: 105303-CES. SAN JUAN | H19: 1 | I19: 1 | J19: 0 | K19: 1 | L19: 1 | M19: 1 | N19: 1 | O19: 1 | P19: 1 | Q19: 1 | R19: 1 | S19: 1 | T19: 11
A20: 105105 | B20: =IFERROR(VLOOKUP($A20,[1]Establecimientos!$A$1:$E$175,3,FALSE),0) -> 105105-HOSPITAL COMBARBALÁ | C20: =IFERROR(VLOOKUP($A20,[1]Establecimientos!$A$1:$E$175,4,FALSE),0) -> 04302-COMBARBALÁ | D20: 4 | E20: 1 | G20: 105304-CES. SANTA CECILIA | H20: 1 | J20: 1 | K20: 0 | L20: 1 | M20: 1 | N20: 0 | O20: 1 | P20: 1 | Q20: 1 | R20: 2 | S20: 0 | T20: 9
A21: 105105 | B21: =IFERROR(VLOOKUP($A21,[1]Establecimientos!$A$1:$E$175,3,FALSE),0) -> 105105-HOSPITAL COMBARBALÁ | C21: =IFERROR(VLOOKUP($A21,[1]Establecimientos!$A$1:$E$175,4,FALSE),0) -> 04302-COMBARBALÁ | D21: 5 | E21: 1 | G21: 105305-CES. TIERRAS BLANCAS | H21: 1 | I21: 0 | J21: 1 | K21: 1 | L21: 1 | M21: 0 | N21: 1 | O21: 1 | P21: 1 | Q21: 1 | R21: 1 | S21: 1 | T21: 10
A22: 105105 | B22: =IFERROR(VLOOKUP($A22,[1]Establecimientos!$A$1:$E$175,3,FALSE),0) -> 105105-HOSPITAL COMBARBALÁ | C22: =IFERROR(VLOOKUP($A22,[1]Establecimientos!$A$1:$E$175,4,FALSE),0) -> 04302-COMBARBALÁ | D22: 6 | E22: 1 | G22: 105321-CES. RURAL TONGOY | J22: 0 | K22: 1 | L22: 1 | M22: 1 | N22: 0 | O22: 0 | P22: 1 | Q22: 1 | R22: 0 | S22: 1 | T22: 6
A23: 105105 | B23: =IFERROR(VLOOKUP($A23,[1]Establecimientos!$A$1:$E$175,3,FALSE),0) -> 105105-HOSPITAL COMBARBALÁ | C23: =IFERROR(VLOOKUP($A23,[1]Establecimientos!$A$1:$E$175,4,FALSE),0) -> 04302-COMBARBALÁ | D23: 7 | E23: 1 | G23: 105323-CES. DR. SERGIO AGUILAR | J23: 0 | K23: 1 | L23: 1 | M23: 1 | N23: 0 | O23: 1 | P23: 1 | Q23: 1 | R23: 0 | S23: 1 | T23: 7
A24: 105105 | B24: =IFERROR(VLOOKUP($A24,[1]Establecimientos!$A$1:$E$175,3,FALSE),0) -> 105105-HOSPITAL COMBARBALÁ | C24: =IFERROR(VLOOKUP($A24,[1]Establecimientos!$A$1:$E$175,4,FALSE),0) -> 04302-COMBARBALÁ | D24: 8 | E24: 0 | G24: 200494-CESFAM EL SAUCE | H24: 0 | I24: 1 | J24: 1 | K24: 1 | L24: 1 | M24: 0 | N24: 1 | P24: 1 | Q24: 1 | R24: 1 | S24: 1 | T24: 9
A25: 105105 | B25: =IFERROR(VLOOKUP($A25,[1]Establecimientos!$A$1:$E$175,3,FALSE),0) -> 105105-HOSPITAL COMBARBALÁ | C25: =IFERROR(VLOOKUP($A25,[1]Establecimientos!$A$1:$E$175,4,FALSE),0) -> 04302-COMBARBALÁ | D25: 9 | E25: 1 | G25: 200499-CESFAM PAN DE AZÚCAR | H25: 1 | I25: 1 | J25: 1 | K25: 1 | L25: 1 | M25: 1 | N25: 1 | O25: 1 | P25: 1 | Q25: 1 | R25: 1 | S25: 1 | T25: 12
A26: 105105 | B26: =IFERROR(VLOOKUP($A26,[1]Establecimientos!$A$1:$E$175,3,FALSE),0) -> 105105-HOSPITAL COMBARBALÁ | C26: =IFERROR(VLOOKUP($A26,[1]Establecimientos!$A$1:$E$175,4,FALSE),0) -> 04302-COMBARBALÁ | D26: 10 | E26: 0 | G26: 200607-CESFAM LILA CORTES | H26: 1 | J26: 0 | K26: 1 | L26: 1 | M26: 0 | N26: 1 | O26: 0 | P26: 0 | Q26: 1 | R26: 2 | S26: 1 | T26: 8
A27: 105105 | B27: =IFERROR(VLOOKUP($A27,[1]Establecimientos!$A$1:$E$175,3,FALSE),0) -> 105105-HOSPITAL COMBARBALÁ | C27: =IFERROR(VLOOKUP($A27,[1]Establecimientos!$A$1:$E$175,4,FALSE),0) -> 04302-COMBARBALÁ | D27: 11 | E27: 2 | G27: 04103-ANDACOLLO | H27: 1 | J27: 0 | K27: 1 | L27: 1 | M27: 0 | N27: 1 | O27: 2 | P27: 0 | Q27: 2 | R27: 1 | S27: 2 | T27: 11
A28: 105105 | B28: =IFERROR(VLOOKUP($A28,[1]Establecimientos!$A$1:$E$175,3,FALSE),0) -> 105105-HOSPITAL COMBARBALÁ | C28: =IFERROR(VLOOKUP($A28,[1]Establecimientos!$A$1:$E$175,4,FALSE),0) -> 04302-COMBARBALÁ | D28: 12 | E28: 1 | G28: 105106-HOSPITAL ANDACOLLO | H28: 1 | J28: 0 | K28: 1 | L28: 1 | M28: 0 | N28: 1 | O28: 2 | P28: 0 | Q28: 2 | R28: 1 | S28: 2 | T28: 11
A29: 105106 | B29: =IFERROR(VLOOKUP($A29,[1]Establecimientos!$A$1:$E$175,3,FALSE),0) -> 105106-HOSPITAL ANDACOLLO | C29: =IFERROR(VLOOKUP($A29,[1]Establecimientos!$A$1:$E$175,4,FALSE),0) -> 04103-ANDACOLLO | D29: 1 | E29: 1 | G29: 04104-LA HIGUERA | H29: 1 | I29: 2 | J29: 1 | K29: 1 | L29: 1 | M29: 1 | N29: 0 | O29: 1 | P29: 0 | Q29: 2 | T29: 10
A30: 105106 | B30: =IFERROR(VLOOKUP($A30,[1]Establecimientos!$A$1:$E$175,3,FALSE),0) -> 105106-HOSPITAL ANDACOLLO | C30: =IFERROR(VLOOKUP($A30,[1]Establecimientos!$A$1:$E$175,4,FALSE),0) -> 04103-ANDACOLLO | D30: 3 | E30: 0 | G30: 105314-CES. LA HIGUERA | H30: 1 | J30: 1 | K30: 1 | L30: 1 | M30: 1 | N30: 0 | O30: 1 | P30: 0 | Q30: 1 | T30: 7
A31: 105106 | B31: =IFERROR(VLOOKUP($A31,[1]Establecimientos!$A$1:$E$175,3,FALSE),0) -> 105106-HOSPITAL ANDACOLLO | C31: =IFERROR(VLOOKUP($A31,[1]Establecimientos!$A$1:$E$175,4,FALSE),0) -> 04103-ANDACOLLO | D31: 4 | E31: 1 | G31: 105500-P.S.R. CALETA HORNOS | Q31: 1 | T31: 1
A32: 105106 | B32: =IFERROR(VLOOKUP($A32,[1]Establecimientos!$A$1:$E$175,3,FALSE),0) -> 105106-HOSPITAL ANDACOLLO | C32: =IFERROR(VLOOKUP($A32,[1]Establecimientos!$A$1:$E$175,4,FALSE),0) -> 04103-ANDACOLLO | D32: 5 | E32: 1 | G32: 105505-P.S.R. LOS CHOROS | I32: 1 | T32: 1
A33: 105106 | B33: =IFERROR(VLOOKUP($A33,[1]Establecimientos!$A$1:$E$175,3,FALSE),0) -> 105106-HOSPITAL ANDACOLLO | C33: =IFERROR(VLOOKUP($A33,[1]Establecimientos!$A$1:$E$175,4,FALSE),0) -> 04103-ANDACOLLO | D33: 6 | E33: 0 | G33: 105506-P.S.R. EL TRAPICHE | I33: 1 | T33: 1
A34: 105106 | B34: =IFERROR(VLOOKUP($A34,[1]Establecimientos!$A$1:$E$175,3,FALSE),0) -> 105106-HOSPITAL ANDACOLLO | C34: =IFERROR(VLOOKUP($A34,[1]Establecimientos!$A$1:$E$175,4,FALSE),0) -> 04103-ANDACOLLO | D34: 7 | E34: 1 | G34: 04105-PAIHUANO | H34: 0 | I34: 0 | J34: 1 | K34: 1 | L34: 1 | M34: 1 | O34: 0 | P34: 3 | Q34: 2 | R34: 1 | S34: 1 | T34: 11
A35: 105106 | B35: =IFERROR(VLOOKUP($A35,[1]Establecimientos!$A$1:$E$175,3,FALSE),0) -> 105106-HOSPITAL ANDACOLLO | C35: =IFERROR(VLOOKUP($A35,[1]Establecimientos!$A$1:$E$175,4,FALSE),0) -> 04103-ANDACOLLO | D35: 8 | E35: 2 | G35: 105306-CES. PAIHUANO | H35: 0 | I35: 0 | J35: 1 | K35: 1 | L35: 1 | M35: 1 | O35: 0 | P35: 3 | Q35: 2 | R35: 1 | S35: 1 | T35: 11
A36: 105106 | B36: =IFERROR(VLOOKUP($A36,[1]Establecimientos!$A$1:$E$175,3,FALSE),0) -> 105106-HOSPITAL ANDACOLLO | C36: =IFERROR(VLOOKUP($A36,[1]Establecimientos!$A$1:$E$175,4,FALSE),0) -> 04103-ANDACOLLO | D36: 9 | E36: 0 | G36: 04106-VICUÑA | H36: 2 | I36: 2 | J36: 2 | K36: 2 | L36: 2 | M36: 2 | N36: 3 | O36: 1 | P36: 3 | Q36: 3 | R36: 2 | S36: 3 | T36: 27
A37: 105106 | B37: =IFERROR(VLOOKUP($A37,[1]Establecimientos!$A$1:$E$175,3,FALSE),0) -> 105106-HOSPITAL ANDACOLLO | C37: =IFERROR(VLOOKUP($A37,[1]Establecimientos!$A$1:$E$175,4,FALSE),0) -> 04103-ANDACOLLO | D37: 10 | E37: 2 | G37: 105107-HOSPITAL VICUÑA | H37: 0 | I37: 1 | J37: 1 | K37: 1 | L37: 1 | M37: 1 | N37: 1 | O37: 1 | P37: 1 | Q37: 1 | R37: 0 | S37: 1 | T37: 10
A38: 105106 | B38: =IFERROR(VLOOKUP($A38,[1]Establecimientos!$A$1:$E$175,3,FALSE),0) -> 105106-HOSPITAL ANDACOLLO | C38: =IFERROR(VLOOKUP($A38,[1]Establecimientos!$A$1:$E$175,4,FALSE),0) -> 04103-ANDACOLLO | D38: 11 | E38: 1 | G38: 105467-P.S.R. DIAGUITAS | H38: 1 | I38: 0 | J38: 0 | K38: 0 | N38: 1 | P38: 2 | Q38: 1 | R38: 1 | S38: 1 | T38: 7
A39: 105106 | B39: =IFERROR(VLOOKUP($A39,[1]Establecimientos!$A$1:$E$175,3,FALSE),0) -> 105106-HOSPITAL ANDACOLLO | C39: =IFERROR(VLOOKUP($A39,[1]Establecimientos!$A$1:$E$175,4,FALSE),0) -> 04103-ANDACOLLO | D39: 12 | E39: 2 | G39: 200538-CESFAM SAN ISIDRO CALINGASTA | H39: 1 | I39: 1 | J39: 1 | K39: 1 | L39: 1 | M39: 1 | N39: 1 | P39: 0 | Q39: 1 | R39: 1 | S39: 1 | T39: 10
A40: 105107 | B40: =IFERROR(VLOOKUP($A40,[1]Establecimientos!$A$1:$E$175,3,FALSE),0) -> 105107-HOSPITAL VICUÑA | C40: =IFERROR(VLOOKUP($A40,[1]Establecimientos!$A$1:$E$175,4,FALSE),0) -> 04106-VICUÑA | D40: 1 | E40: 0 | G40: 04201-ILLAPEL | H40: 1 | I40: 1 | J40: 2 | K40: 2 | L40: 1 | M40: 1 | N40: 1 | O40: 2 | P40: 2 | Q40: 2 | R40: 2 | S40: 2 | T40: 19
...

Sheet Adulto
A1: COMUNA | B1: ESTABLECIMIENTO | C1: CONSULTORÍAS Y TELECONSULTORÍAS DE SALUD MENTAL ADULTO
C2: ENERO | D2: FEBRERO | E2: MARZO | F2: ABRIL | G2: MAYO | H2: JUNIO | I2: JULIO | J2: AGOSTO | K2: SEPBRE | L2: OCTUBRE | M2: NOVBRE | N2: DICBRE | O2: TOTAL
A3: 04101-LA SERENA | B3: 105300-CES. CARDENAL CARO | C3: =IFERROR(VLOOKUP($B3,'Datos Adulto'!$G$3:$T$82,2,FALSE),0) -> 3 | D3: =IFERROR(VLOOKUP($B3,'Datos Adulto'!$G$3:$T$82,3,FALSE),0) -> 0 | E3: =IFERROR(VLOOKUP($B3,'Datos Adulto'!$G$3:$T$82,4,FALSE),0) -> 0 | F3: =IFERROR(VLOOKUP($B3,'Datos Adulto'!$G$3:$T$82,5,FALSE),0) -> 0 | G3: =IFERROR(VLOOKUP($B3,'Datos Adulto'!$G$3:$T$82,6,FALSE),0) -> 2 | H3: =IFERROR(VLOOKUP($B3,'Datos Adulto'!$G$3:$T$82,7,FALSE),0) -> 0 | I3: =IFERROR(VLOOKUP($B3,'Datos Adulto'!$G$3:$T$82,8,FALSE),0) -> 1 | J3: =IFERROR(VLOOKUP($B3,'Datos Adulto'!$G$3:$T$82,9,FALSE),0) -> 1 | K3: =IFERROR(VLOOKUP($B3,'Datos Adulto'!$G$3:$T$82,10,FALSE),0) -> 0 | L3: =IFERROR(VLOOKUP($B3,'Datos Adulto'!$G$3:$T$82,11,FALSE),0) -> 1 | M3: =IFERROR(VLOOKUP($B3,'Datos Adulto'!$G$3:$T$82,12,FALSE),0) -> 1 | N3: =IFERROR(VLOOKUP($B3,'Datos Adulto'!$G$3:$T$82,13,FALSE),0) -> 1 | O3: =SUM(C3:N3) -> 10
A4: 04101-LA SERENA | B4: 105301-CES. LAS COMPAÑIAS | C4: =IFERROR(VLOOKUP($B4,'Datos Adulto'!$G$3:$T$82,2,FALSE),0) -> 1 | D4: =IFERROR(VLOOKUP($B4,'Datos Adulto'!$G$3:$T$82,3,FALSE),0) -> 1 | E4: =IFERROR(VLOOKUP($B4,'Datos Adulto'!$G$3:$T$82,4,FALSE),0) -> 1 | F4: =IFERROR(VLOOKUP($B4,'Datos Adulto'!$G$3:$T$82,5,FALSE),0) -> 1 | G4: =IFERROR(VLOOKUP($B4,'Datos Adulto'!$G$3:$T$82,6,FALSE),0) -> 1 | H4: =IFERROR(VLOOKUP($B4,'Datos Adulto'!$G$3:$T$82,7,FALSE),0) -> 1 | I4: =IFERROR(VLOOKUP($B4,'Datos Adulto'!$G$3:$T$82,8,FALSE),0) -> 1 | J4: =IFERROR(VLOOKUP($B4,'Datos Adulto'!$G$3:$T$82,9,FALSE),0) -> 1 | K4: =IFERROR(VLOOKUP($B4,'Datos Adulto'!$G$3:$T$82,10,FALSE),0) -> 1 | L4: =IFERROR(VLOOKUP($B4,'Datos Adulto'!$G$3:$T$82,11,FALSE),0) -> 1 | M4: =IFERROR(VLOOKUP($B4,'Datos Adulto'!$G$3:$T$82,12,FALSE),0) -> 0 | N4: =IFERROR(VLOOKUP($B4,'Datos Adulto'!$G$3:$T$82,13,FALSE),0) -> 1 | O4: =SUM(C4:N4) -> 11
A5: 04101-LA SERENA | B5: 105302-CES. PEDRO AGUIRRE C. | C5: =IFERROR(VLOOKUP($B5,'Datos Adulto'!$G$3:$T$82,2,FALSE),0) -> 0 | D5: =IFERROR(VLOOKUP($B5,'Datos Adulto'!$G$3:$T$82,3,FALSE),0) -> 0 | E5: =IFERROR(VLOOKUP($B5,'Datos Adulto'!$G$3:$T$82,4,FALSE),0) -> 2 | F5: =IFERROR(VLOOKUP($B5,'Datos Adulto'!$G$3:$T$82,5,FALSE),0) -> 0 | G5: =IFERROR(VLOOKUP($B5,'Datos Adulto'!$G$3:$T$82,6,FALSE),0) -> 1 | H5: =IFERROR(VLOOKUP($B5,'Datos Adulto'!$G$3:$T$82,7,FALSE),0) -> 1 | I5: =IFERROR(VLOOKUP($B5,'Datos Adulto'!$G$3:$T$82,8,FALSE),0) -> 1 | J5: =IFERROR(VLOOKUP($B5,'Datos Adulto'!$G$3:$T$82,9,FALSE),0) -> 1 | K5: =IFERROR(VLOOKUP($B5,'Datos Adulto'!$G$3:$T$82,10,FALSE),0) -> 1 | L5: =IFERROR(VLOOKUP($B5,'Datos Adulto'!$G$3:$T$82,11,FALSE),0) -> 1 | M5: =IFERROR(VLOOKUP($B5,'Datos Adulto'!$G$3:$T$82,12,FALSE),0) -> 1 | N5: =IFERROR(VLOOKUP($B5,'Datos Adulto'!$G$3:$T$82,13,FALSE),0) -> 1 | O5: =SUM(C5:N5) -> 10
A6: 04101-LA SERENA | B6: 105313-CES. SCHAFFHAUSER | C6: =IFERROR(VLOOKUP($B6,'Datos Adulto'!$G$3:$T$82,2,FALSE),0) -> 0 | D6: =IFERROR(VLOOKUP($B6,'Datos Adulto'!$G$3:$T$82,3,FALSE),0) -> 1 | E6: =IFERROR(VLOOKUP($B6,'Datos Adulto'!$G$3:$T$82,4,FALSE),0) -> 1 | F6: =IFERROR(VLOOKUP($B6,'Datos Adulto'!$G$3:$T$82,5,FALSE),0) -> 1 | G6: =IFERROR(VLOOKUP($B6,'Datos Adulto'!$G$3:$T$82,6,FALSE),0) -> 2 | H6: =IFERROR(VLOOKUP($B6,'Datos Adulto'!$G$3:$T$82,7,FALSE),0) -> 1 | I6: =IFERROR(VLOOKUP($B6,'Datos Adulto'!$G$3:$T$82,8,FALSE),0) -> 1 | J6: =IFERROR(VLOOKUP($B6,'Datos Adulto'!$G$3:$T$82,9,FALSE),0) -> 1 | K6: =IFERROR(VLOOKUP($B6,'Datos Adulto'!$G$3:$T$82,10,FALSE),0) -> 2 | L6: =IFERROR(VLOOKUP($B6,'Datos Adulto'!$G$3:$T$82,11,FALSE),0) -> 1 | M6: =IFERROR(VLOOKUP($B6,'Datos Adulto'!$G$3:$T$82,12,FALSE),0) -> 1 | N6: =IFERROR(VLOOKUP($B6,'Datos Adulto'!$G$3:$T$82,13,FALSE),0) -> 1 | O6: =SUM(C6:N6) -> 13
A7: 04101-LA SERENA | B7: 105319-CES. CARDENAL R.S.H. | C7: =IFERROR(VLOOKUP($B7,'Datos Adulto'!$G$3:$T$82,2,FALSE),0) -> 1 | D7: =IFERROR(VLOOKUP($B7,'Datos Adulto'!$G$3:$T$82,3,FALSE),0) -> 1 | E7: =IFERROR(VLOOKUP($B7,'Datos Adulto'!$G$3:$T$82,4,FALSE),0) -> 1 | F7: =IFERROR(VLOOKUP($B7,'Datos Adulto'!$G$3:$T$82,5,FALSE),0) -> 1 | G7: =IFERROR(VLOOKUP($B7,'Datos Adulto'!$G$3:$T$82,6,FALSE),0) -> 0 | H7: =IFERROR(VLOOKUP($B7,'Datos Adulto'!$G$3:$T$82,7,FALSE),0) -> 1 | I7: =IFERROR(VLOOKUP($B7,'Datos Adulto'!$G$3:$T$82,8,FALSE),0) -> 1 | J7: =IFERROR(VLOOKUP($B7,'Datos Adulto'!$G$3:$T$82,9,FALSE),0) -> 1 | K7: =IFERROR(VLOOKUP($B7,'Datos Adulto'!$G$3:$T$82,10,FALSE),0) -> 1 | L7: =IFERROR(VLOOKUP($B7,'Datos Adulto'!$G$3:$T$82,11,FALSE),0) -> 1 | M7: =IFERROR(VLOOKUP($B7,'Datos Adulto'!$G$3:$T$82,12,FALSE),0) -> 2 | N7: =IFERROR(VLOOKUP($B7,'Datos Adulto'!$G$3:$T$82,13,FALSE),0) -> 1 | O7: =SUM(C7:N7) -> 12
A8: 04101-LA SERENA | B8: 105325-CESFAM JUAN PABLO II | C8: =IFERROR(VLOOKUP($B8,'Datos Adulto'!$G$3:$T$82,2,FALSE),0) -> 0 | D8: =IFERROR(VLOOKUP($B8,'Datos Adulto'!$G$3:$T$82,3,FALSE),0) -> 1 | E8: =IFERROR(VLOOKUP($B8,'Datos Adulto'!$G$3:$T$82,4,FALSE),0) -> 1 | F8: =IFERROR(VLOOKUP($B8,'Datos Adulto'!$G$3:$T$82,5,FALSE),0) -> 0 | G8: =IFERROR(VLOOKUP($B8,'Datos Adulto'!$G$3:$T$82,6,FALSE),0) -> 1 | H8: =IFERROR(VLOOKUP($B8,'Datos Adulto'!$G$3:$T$82,7,FALSE),0) -> 1 | I8: =IFERROR(VLOOKUP($B8,'Datos Adulto'!$G$3:$T$82,8,FALSE),0) -> 0 | J8: =IFERROR(VLOOKUP($B8,'Datos Adulto'!$G$3:$T$82,9,FALSE),0) -> 1 | K8: =IFERROR(VLOOKUP($B8,'Datos Adulto'!$G$3:$T$82,10,FALSE),0) -> 1 | L8: =IFERROR(VLOOKUP($B8,'Datos Adulto'!$G$3:$T$82,11,FALSE),0) -> 1 | M8: =IFERROR(VLOOKUP($B8,'Datos Adulto'!$G$3:$T$82,12,FALSE),0) -> 1 | N8: =IFERROR(VLOOKUP($B8,'Datos Adulto'!$G$3:$T$82,13,FALSE),0) -> 1 | O8: =SUM(C8:N8) -> 9
A9: 04101-LA SERENA | B9: 105400-P.S.R. ALGARROBITO | C9: =IFERROR(VLOOKUP($B9,'Datos Adulto'!$G$3:$T$82,2,FALSE),0) -> 1 | D9: =IFERROR(VLOOKUP($B9,'Datos Adulto'!$G$3:$T$82,3,FALSE),0) -> 0 | E9: =IFERROR(VLOOKUP($B9,'Datos Adulto'!$G$3:$T$82,4,FALSE),0) -> 1 | F9: =IFERROR(VLOOKUP($B9,'Datos Adulto'!$G$3:$T$82,5,FALSE),0) -> 1 | G9: =IFERROR(VLOOKUP($B9,'Datos Adulto'!$G$3:$T$82,6,FALSE),0) -> 1 | H9: =IFERROR(VLOOKUP($B9,'Datos Adulto'!$G$3:$T$82,7,FALSE),0) -> 1 | I9: =IFERROR(VLOOKUP($B9,'Datos Adulto'!$G$3:$T$82,8,FALSE),0) -> 1 | J9: =IFERROR(VLOOKUP($B9,'Datos Adulto'!$G$3:$T$82,9,FALSE),0) -> 1 | K9: =IFERROR(VLOOKUP($B9,'Datos Adulto'!$G$3:$T$82,10,FALSE),0) -> 1 | L9: =IFERROR(VLOOKUP($B9,'Datos Adulto'!$G$3:$T$82,11,FALSE),0) -> 0 | M9: =IFERROR(VLOOKUP($B9,'Datos Adulto'!$G$3:$T$82,12,FALSE),0) -> 0 | N9: =IFERROR(VLOOKUP($B9,'Datos Adulto'!$G$3:$T$82,13,FALSE),0) -> 0 | O9: =SUM(C9:N9) -> 8
A10: 04101-LA SERENA | B10: 105401-P.S.R. LAS ROJAS | C10: =IFERROR(VLOOKUP($B10,'Datos Adulto'!$G$3:$T$82,2,FALSE),0) -> 0 | D10: =IFERROR(VLOOKUP($B10,'Datos Adulto'!$G$3:$T$82,3,FALSE),0) -> 0 | E10: =IFERROR(VLOOKUP($B10,'Datos Adulto'!$G$3:$T$82,4,FALSE),0) -> 0 | F10: =IFERROR(VLOOKUP($B10,'Datos Adulto'!$G$3:$T$82,5,FALSE),0) -> 0 | G10: =IFERROR(VLOOKUP($B10,'Datos Adulto'!$G$3:$T$82,6,FALSE),0) -> 0 | H10: =IFERROR(VLOOKUP($B10,'Datos Adulto'!$G$3:$T$82,7,FALSE),0) -> 0 | I10: =IFERROR(VLOOKUP($B10,'Datos Adulto'!$G$3:$T$82,8,FALSE),0) -> 1 | J10: =IFERROR(VLOOKUP($B10,'Datos Adulto'!$G$3:$T$82,9,FALSE),0) -> 0 | K10: =IFERROR(VLOOKUP($B10,'Datos Adulto'!$G$3:$T$82,10,FALSE),0) -> 0 | L10: =IFERROR(VLOOKUP($B10,'Datos Adulto'!$G$3:$T$82,11,FALSE),0) -> 1 | M10: =IFERROR(VLOOKUP($B10,'Datos Adulto'!$G$3:$T$82,12,FALSE),0) -> 1 | N10: =IFERROR(VLOOKUP($B10,'Datos Adulto'!$G$3:$T$82,13,FALSE),0) -> 1 | O10: =SUM(C10:N10) -> 4
A11: 04101-LA SERENA | B11: 105402-P.S.R. EL ROMERO | C11: =IFERROR(VLOOKUP($B11,'Datos Adulto'!$G$3:$T$82,2,FALSE),0) -> 0 | D11: =IFERROR(VLOOKUP($B11,'Datos Adulto'!$G$3:$T$82,3,FALSE),0) -> 0 | E11: =IFERROR(VLOOKUP($B11,'Datos Adulto'!$G$3:$T$82,4,FALSE),0) -> 0 | F11: =IFERROR(VLOOKUP($B11,'Datos Adulto'!$G$3:$T$82,5,FALSE),0) -> 0 | G11: =IFERROR(VLOOKUP($B11,'Datos Adulto'!$G$3:$T$82,6,FALSE),0) -> 0 | H11: =IFERROR(VLOOKUP($B11,'Datos Adulto'!$G$3:$T$82,7,FALSE),0) -> 0 | I11: =IFERROR(VLOOKUP($B11,'Datos Adulto'!$G$3:$T$82,8,FALSE),0) -> 0 | J11: =IFERROR(VLOOKUP($B11,'Datos Adulto'!$G$3:$T$82,9,FALSE),0) -> 0 | K11: =IFERROR(VLOOKUP($B11,'Datos Adulto'!$G$3:$T$82,10,FALSE),0) -> 0 | L11: =IFERROR(VLOOKUP($B11,'Datos Adulto'!$G$3:$T$82,11,FALSE),0) -> 0 | M11: =IFERROR(VLOOKUP($B11,'Datos Adulto'!$G$3:$T$82,12,FALSE),0) -> 1 | N11: =IFERROR(VLOOKUP($B11,'Datos Adulto'!$G$3:$T$82,13,FALSE),0) -> 1 | O11: =SUM(C11:N11) -> 2
A12: 04101-LA SERENA | B12: 105499-P.S.R. LAMBERT | C12: =IFERROR(VLOOKUP($B12,'Datos Adulto'!$G$3:$T$82,2,FALSE),0) -> 0 | D12: =IFERROR(VLOOKUP($B12,'Datos Adulto'!$G$3:$T$82,3,FALSE),0) -> 0 | E12: =IFERROR(VLOOKUP($B12,'Datos Adulto'!$G$3:$T$82,4,FALSE),0) -> 0 | F12: =IFERROR(VLOOKUP($B12,'Datos Adulto'!$G$3:$T$82,5,FALSE),0) -> 0 | G12: =IFERROR(VLOOKUP($B12,'Datos Adulto'!$G$3:$T$82,6,FALSE),0) -> 0 | H12: =IFERROR(VLOOKUP($B12,'Datos Adulto'!$G$3:$T$82,7,FALSE),0) -> 0 | I12: =IFERROR(VLOOKUP($B12,'Datos Adulto'!$G$3:$T$82,8,FALSE),0) -> 0 | J12: =IFERROR(VLOOKUP($B12,'Datos Adulto'!$G$3:$T$82,9,FALSE),0) -> 0 | K12: =IFERROR(VLOOKUP($B12,'Datos Adulto'!$G$3:$T$82,10,FALSE),0) -> 0 | L12: =IFERROR(VLOOKUP($B12,'Datos Adulto'!$G$3:$T$82,11,FALSE),0) -> 0 | M12: =IFERROR(VLOOKUP($B12,'Datos Adulto'!$G$3:$T$82,12,FALSE),0) -> 0 | N12: =IFERROR(VLOOKUP($B12,'Datos Adulto'!$G$3:$T$82,13,FALSE),0) -> 0 | O12: =SUM(C12:N12) -> 0
A13: 04101-LA SERENA | B13: 105700-CECOF VILLA EL INDIO | C13: =IFERROR(VLOOKUP($B13,'Datos Adulto'!$G$3:$T$82,2,FALSE),0) -> 0 | D13: =IFERROR(VLOOKUP($B13,'Datos Adulto'!$G$3:$T$82,3,FALSE),0) -> 0 | E13: =IFERROR(VLOOKUP($B13,'Datos Adulto'!$G$3:$T$82,4,FALSE),0) -> 0 | F13: =IFERROR(VLOOKUP($B13,'Datos Adulto'!$G$3:$T$82,5,FALSE),0) -> 0 | G13: =IFERROR(VLOOKUP($B13,'Datos Adulto'!$G$3:$T$82,6,FALSE),0) -> 0 | H13: =IFERROR(VLOOKUP($B13,'Datos Adulto'!$G$3:$T$82,7,FALSE),0) -> 0 | I13: =IFERROR(VLOOKUP($B13,'Datos Adulto'!$G$3:$T$82,8,FALSE),0) -> 0 | J13: =IFERROR(VLOOKUP($B13,'Datos Adulto'!$G$3:$T$82,9,FALSE),0) -> 0 | K13: =IFERROR(VLOOKUP($B13,'Datos Adulto'!$G$3:$T$82,10,FALSE),0) -> 0 | L13: =IFERROR(VLOOKUP($B13,'Datos Adulto'!$G$3:$T$82,11,FALSE),0) -> 0 | M13: =IFERROR(VLOOKUP($B13,'Datos Adulto'!$G$3:$T$82,12,FALSE),0) -> 0 | N13: =IFERROR(VLOOKUP($B13,'Datos Adulto'!$G$3:$T$82,13,FALSE),0) -> 0 | O13: =SUM(C13:N13) -> 0
A14: 04101-LA SERENA | B14: 105701-CECOF VILLA ALEMANIA | C14: =IFERROR(VLOOKUP($B14,'Datos Adulto'!$G$3:$T$82,2,FALSE),0) -> 0 | D14: =IFERROR(VLOOKUP($B14,'Datos Adulto'!$G$3:$T$82,3,FALSE),0) -> 0 | E14: =IFERROR(VLOOKUP($B14,'Datos Adulto'!$G$3:$T$82,4,FALSE),0) -> 0 | F14: =IFERROR(VLOOKUP($B14,'Datos Adulto'!$G$3:$T$82,5,FALSE),0) -> 0 | G14: =IFERROR(VLOOKUP($B14,'Datos Adulto'!$G$3:$T$82,6,FALSE),0) -> 0 | H14: =IFERROR(VLOOKUP($B14,'Datos Adulto'!$G$3:$T$82,7,FALSE),0) -> 0 | I14: =IFERROR(VLOOKUP($B14,'Datos Adulto'!$G$3:$T$82,8,FALSE),0) -> 0 | J14: =IFERROR(VLOOKUP($B14,'Datos Adulto'!$G$3:$T$82,9,FALSE),0) -> 0 | K14: =IFERROR(VLOOKUP($B14,'Datos Adulto'!$G$3:$T$82,10,FALSE),0) -> 0 | L14: =IFERROR(VLOOKUP($B14,'Datos Adulto'!$G$3:$T$82,11,FALSE),0) -> 0 | M14: =IFERROR(VLOOKUP($B14,'Datos Adulto'!$G$3:$T$82,12,FALSE),0) -> 0 | N14: =IFERROR(VLOOKUP($B14,'Datos Adulto'!$G$3:$T$82,13,FALSE),0) -> 0 | O14: =SUM(C14:N14) -> 0
... A16: 04101-LA SERENA | B16: 200402-CECOF ARCOS DE PINAMAR | C16: =IFERROR(VLOOKUP($B16,'Datos Adulto'!$G$3:$T$82,2,FALSE),0) -> 1 | D16: =IFERROR(VLOOKUP($B16,'Datos Adulto'!$G$3:$T$82,3,FALSE),0) -> 0 | E16: =IFERROR(VLOOKUP($B16,'Datos Adulto'!$G$3:$T$82,4,FALSE),0) -> 0 | F16: =IFERROR(VLOOKUP($B16,'Datos Adulto'!$G$3:$T$82,5,FALSE),0) -> 0 | G16: =IFERROR(VLOOKUP($B16,'Datos Adulto'!$G$3:$T$82,6,FALSE),0) -> 0 | H16: =IFERROR(VLOOKUP($B16,'Datos Adulto'!$G$3:$T$82,7,FALSE),0) -> 0 | I16: =IFERROR(VLOOKUP($B16,'Datos Adulto'!$G$3:$T$82,8,FALSE),0) -> 0 | J16: =IFERROR(VLOOKUP($B16,'Datos Adulto'!$G$3:$T$82,9,FALSE),0) -> 0 | K16: =IFERROR(VLOOKUP($B16,'Datos Adulto'!$G$3:$T$82,10,FALSE),0) -> 0 | L16: =IFERROR(VLOOKUP($B16,'Datos Adulto'!$G$3:$T$82,11,FALSE),0) -> 0 | M16: =IFERROR(VLOOKUP($B16,'Datos Adulto'!$G$3:$T$82,12,FALSE),0) -> 0 | N16: =IFERROR(VLOOKUP($B16,'Datos Adulto'!$G$3:$T$82,13,FALSE),0) -> 0 | O16: =SUM(C16:N16) -> 1
A17: TOTAL LA SERENA | C17: =SUM(C3:C16) -> 7 | D17: =SUM(D3:D16) -> 4 | E17: =SUM(E3:E16) -> 7 | F17: =SUM(F3:F16) -> 4 | G17: =SUM(G3:G16) -> 8 | H17: =SUM(H3:H16) -> 6 | I17: =SUM(I3:I16) -> 7 | J17: =SUM(J3:J16) -> 7 | ... O17: =SUM(O3:O16) -> 80
