Workbook

Sheet Nombre
A1: DATOS DEL ESTABLECIMIENTO | C1: CÓDIGOS
A2: NOMBRE DE COMUNA | I2: =IF(OR([1]NOMBRE!C2="",[1]NOMBRE!E2="",[1]NOMBRE!D2="",[1]NOMBRE!E2="",[1]NOMBRE!F2="",[1]NOMBRE!G2=""),"Falta Cód. Com.","") | AG2: =IF(I2>"",1,0) -> 0
A3: NOMBRE ESTABLECIMIENTO/ESTRATEGIA | I3: =IF(OR([1]NOMBRE!C3="",[1]NOMBRE!D3="",[1]NOMBRE!E3="",[1]NOMBRE!F3="",[1]NOMBRE!G3="",[1]NOMBRE!H3=""),"Falta Cód. Estab.","") | AG3: =IF(I3>"",1,0) -> 0
A4: TIPO DE ESTABLECIMIENTO/ESTRATEGIA | I4: =IF(OR([1]NOMBRE!B4=""),"Falta TIPO Estab.","") | AG4: =IF(I4>"",1,0) -> 0
A5: DEPENDENCIA | I5: =IF(OR([1]NOMBRE!B5=""),"Falta DEPENDENCIA Estab.","") | AG5: =IF(I5>"",1,0) -> 0
A6: MES: | I6: =IF(OR([1]NOMBRE!C6="",[1]NOMBRE!D6=""),"Falta el Mes","") | AG6: =IF(I6>"",1,0) -> 0
A7: AÑO: | B7: 2023 | AG7: =SUM(AG2:AG6) -> 0
A9: Versión 1.3 ABRIL 2023
A11: Director Servicio de Salud o Director Establecimiento | AA11: ENERO | AB11: Establecimiento de Mayor Complejidad (EMAYC) | AC11: SERVICIO DE SALUD
A12: Jefe de Estadisticas | AA12: FEBRERO | AB12: Establecimiento de Mediana Complejidad (EMEDC) | AC12: MUNICIPAL
AA13: MARZO | AB13: Establecimiento de Menor Complejidad (EMENC) | AC13: OTRA INSTITUCION (Delegado)
AA14: ABRIL | AB14: Centros de Diagnóstico Terapeutico (CDT)
A15: MINSAL - DEIS | AA15: MAYO | AB15: Centro de Referencia de Salud (CRS)
AA16: JUNIO | AB16: Centro de Salud Familiar
B17: SERIE D | AA17: JULIO | AB17: Consultorio General Urbano (CGU)
AA18: AGOSTO | AB18: Consultorio General Urbano (CGU) - CESFAM
AA19: SEPTIEMBRE | AB19: Consultorio General Urbano(CGU) con SAPU/SUR/SAR
AA20: OCTUBRE | AB20: Consultorio General Urbano (CGU) - CESFAM con SAPU/SAR
AA21: NOVIEMBRE | AB21: Consultorio General Rural (CGR)
AA22: DICIEMBRE | AB22: Consultorio General Rural (CGR) - CESFAM
AB23: Consultorio General Rural (CGR) con SAPU/SAR/SUR
AB24: Consultorio General Rural (CGR) - CESFAM con SAPU/SAR/SUR
AB25: Posta de Salud Rural (PSR)
AB26: Centro Comunitario de Salud Familiar (CECOF)
AB27: Consultorio de Salud Mental (COSAM)
AB28: Programa de Reparación y Atención Integral de Salud (PRAIS)
AB29: Centro de Atención Funcionarios (CAF)
AB30: Unidad de Salud de Funcionarios (USF)
AB31: ClÍnica Dental Móvil (CDM)
AB32: Dirección Servicio de Salud (DSS)
AB33: Servicio de Atención Primaria de Urgencia (SAPU)
AB34: Servicio de Urgencia Rural (SUR)
... AB42: Servicio de Atención Primaria de Urgencia Dental (SAPUDENT)

Sheet Filtro
A1: COMUNA | B1: (Todas)
A2: ESTABLECIMIENTO | B2: (Todas)
A3: Mes | B3: (Todas)
A5: Etiquetas de fila | B5: Suma de Col01 | C5: Suma de Col02 | D5: Suma de Col03 | E5: Suma de Col04 | F5: Suma de Col05 | G5: Suma de Col06 | H5: Suma de Col07 | I5: Suma de Col08 | J5: Suma de Col09 | K5: Suma de Col10 | L5: Suma de Col11 | M5: Suma de Col12 | N5: Suma de Col13 | O5: Suma de Col14 | P5: Suma de Col15 | Q5: Suma de Col16 | R5: Suma de Col17 | S5: Suma de Col18 | T5: Suma de Col19 | U5: Suma de Col20
A6: 15010100 | B6: 20268 | F6: 13958 | G6: 6170 | H6: 2 | I6: 6 | J6: 65 | K6: 0 | L6: 34 | M6: 19 | N6: 14
A7: 15010200 | B7: 76814 | G7: 5780 | H7: 38269 | I7: 32765
A8: 15010300 | B8: 411 | F8: 295 | G8: 116 | H8: 0 | I8: 0 | J8: 0 | K8: 0 | L8: 0 | M8: 0 | N8: 0
A9: 15010400 | B9: 1563 | G9: 110 | H9: 894 | I9: 559
A10: 15010500 | B10: 3611 | D10: 8 | E10: 570 | F10: 526 | G10: 412 | H10: 1316 | I10: 779
A11: 15020100 | B11: 564 | C11: 8 | D11: 32 | E11: 134 | F11: 314 | G11: 74 | H11: 0 | I11: 0 | J11: 0 | K11: 0 | L11: 0 | M11: 2 | N11: 0
A12: 15020200 | B12: 1264 | G12: 92 | H12: 675 | I12: 497
A13: 15020300 | B13: 2 | G13: 2
A14: 15020400 | B14: 26 | G14: 0 | H14: 20 | I14: 6
A15: 15020500 | B15: 16 | D15: 0 | E15: 0 | F15: 0 | G15: 0 | H15: 14 | I15: 2
A16: 15030100 | B16: 915.6 | C16: 315.6 | D16: 289.2 | E16: 310.8
A17: 15040100 | B17: 55.2 | C17: 30.8 | D17: 24.4 | E17: 0
A18: 15050100 | B18: 92331 | C18: 36834 | D18: 55733 | E18: 1055 | F18: 2516 | G18: 7570 | H18: 12054 | I18: 10371 | J18: 19580 | K18: 16988 | L18: 12393 | N18: 4722 | O18: 1649 | P18: 3433
A19: 15050200 | B19: 2186 | C19: 1094 | D19: 1041 | E19: 39 | F19: 65 | G19: 295 | H19: 273 | I19: 201 | J19: 661 | K19: 391 | M19: 210 | N19: 29 | O19: 10 | P19: 12
A20: 15050500 | B20: 347 | C20: 182 | D20: 161 | E20: 96 | F20: 92 | G20: 159
A21: 15060100 | B21: 1333 | C21: 611 | D21: 731 | E21: 13 | F21: 43 | G21: 152 | H21: 273 | I21: 158 | J21: 357 | K21: 271 | L21: 26 | N21: 23 | O21: 14 | P21: 3
A22: 15060200 | B22: 10 | C22: 6 | D22: 6 | E22: 0 | F22: 0 | G22: 0 | H22: 0 | I22: 1 | J22: 7 | K22: 2 | M22: 0 | N22: 0 | O22: 0 | P22: 0
A23: 15060600 | B23: 14 | C23: 6 | D23: 8 | E23: 8 | F23: 6 | G23: 0
A24: 15080008 | B24: 26575 | J24: 12266 | L24: 9241 | M24: 1640 | N24: 3428
A25: 15080009 | B25: 743 | K25: 624 | L25: 90 | M25: 14 | N25: 15
A26: 15080010 | B26: 84 | J26: 23 | L26: 44 | M26: 14 | N26: 3
A27: 15080011 | B27: 1 | K27: 1 | L27: 0 | M27: 0 | N27: 0
A28: 15080012 | B28: 12 | D28: 0 | E28: 12
A29: 15080014 | B29: 18782 | F29: 10185 | G29: 8503 | H29: 0 | I29: 2 | J29: 54 | K29: 0 | L29: 27 | M29: 4 | N29: 7
A30: 15080015 | B30: 1339 | H30: 684 | I30: 655
A31: 15080016 | B31: 1069 | F31: 233 | G31: 178 | H31: 430 | I31: 217 | J31: 0 | K31: 6 | L31: 7 | M31: 2 | N31: 0
A32: 15080018 | B32: 563 | C32: 11 | D32: 37 | E32: 155 | F32: 216 | G32: 144 | H32: 0 | I32: 0 | J32: 0 | K32: 0 | L32: 0 | M32: 0 | N32: 0
A33: 15080019 | B33: 20 | H33: 10 | I33: 10
A34: 15900010 | B34: 27850.2 | C34: 2285.5 | D34: 6576.2 | E34: 18988.5
A35: 15900020 | B35: 1083.2 | C35: 99.1 | D35: 186 | E35: 798.1
A36: 15900030 | B36: 6702 | C36: 109.6 | D36: 364 | E36: 5057.2 | F36: 683.2 | G36: 441.2 | H36: 40.4 | I36: 6.4
A37: 15900040 | B37: 1356 | C37: 60.8 | D37: 231.6 | E37: 648.8 | F37: 313.6 | G37: 73.6 | H37: 14.4 | I37: 13.2
A38: 15900050 | B38: 1163 | C38: 622 | D38: 495 | E38: 62 | F38: 168 | G38: 473 | H38: 284 | I38: 151 | J38: 21 | K38: 4
A39: 15901200 | B39: 922.4 | C39: 42.8 | D39: 94 | E39: 386.4 | F39: 262.8 | G39: 136.4 | H39: 0 | I39: 0
A40: 15901300 | B40: 493.2 | C40: 16.8 | D40: 54.4 | E40: 249.2 | F40: 88.4 | G40: 79.6 | H40: 4.8 | I40: 0
A41: 15901400 | B41: 402 | C41: 240 | D41: 154 | E41: 19 | F41: 42 | G41: 176 | H41: 102 | I41: 62 | J41: 1 | K41: 0
A42: 15901500 | B42: 288.4 | C42: 14.1 | D42: 41.4 | E42: 232.9
A43: 16090100 | B43: 526 | C43: 526
A44: 16090300 | B44: 133580 | C44: 133585
A45: 16090500 | B45: 276 | C45: 276
A46: 16090600 | B46: 31 | C46: 31
A47: 16100100 | B47: 526 | C47: 218 | D47: 308
A48: 16100300 | B48: 133649 | C48: 56730 | D48: 76919
A49: 16100600 | B49: 281 | C49: 103 | D49: 178
A50: 16100700 | B50: 26 | C50: 22 | D50: 4
A51: 16200100 | B51: 2107 | C51: 1132 | D51: 975
A52: 16200210 | B52: 9505 | C52: 9506
A53: 16200220 | B53: 9509 | C53: 3627 | D53: 5882
A54: 16200230 | B54: 59 | C54: 24 | D54: 35
A55: 16200240 | B55: 2 | C55: 2
A56: (en blanco)
A57: Total general | B57: 581256.2 | C57: 248371.1 | D57: 150568.2 | E57: 28834.9 | F57: 30007 | G57: 31136.8 | H57: 55359.6 | I57: 46461.6 | J57: 33035 | K57: 18287 | L57: 21862 | M57: 1905 | N57: 8241 | O57: 1673 | P57: 3448

Sheet D15
B1: SERVICIO DE SALUD
B2: =CONCATENATE("COMUNA: ",[1]NOMBRE!$B$2," ","( ",[1]NOMBRE!$C$2,[1]NOMBRE!$D$2,[1]NOMBRE!$E$2,[1]NOMBRE!$F$2,[1]NOMBRE!$G$2," )") -> COMUNA: 0 ( 00000 )
B3: =CONCATENATE("ESTABLECIMIENTO/ESTRATEGIA: ",[1]NOMBRE!$B$3," ","( ",[1]NOMBRE!$C$3,[1]NOMBRE!$D$3,[1]NOMBRE!$E$3,[1]NOMBRE!$F$3,[1]NOMBRE!$G$3,[1]NOMBRE!$H$3," )") -> ESTABLECIMIENTO/ESTRATEGIA: 0 ( 000000 )
B4: =CONCATENATE("MES: ",[1]NOMBRE!$B$6," ","( ",[1]NOMBRE!$C$6,[1]NOMBRE!$D$6," )") -> MES: 0 ( 00 )
B5: =CONCATENATE("AÑO: ",[1]NOMBRE!$B$7) -> AÑO: 2023
B7: REM-D.15 - Programa Nacional de Alimentación Complementaria (PNAC)
B8: Sección A: PNAC - Cantidad distribuida (kg) a personas intrasistema
B9: Subprogramas | C9: Productos | D9: Total | E9: Menores a 6 años | L9: Gestantes | N9: Persona que amamanta a hijo/a menor a 12 meses
E10: 0 - 2 meses | F10: 3 - 5 meses | G10: 6 - 11 meses | H10: 12 - 17 meses | I10: 18 - 23 meses | J10: 24 - 47 meses | K10: 48 - 71 meses | L10: Normal, sobrepeso y obesas | M10: Bajo peso | N10: 0 a 5 meses con Lactancia Materna exclusiva | O10: 0 a 5 meses Lactancia Materna + Fórmula Láctea | P10: 6 a 11 meses Lactancia Materna
A13: 15010100 | B13: Básico | C13: Leche Purita Fortificada (LPF) | D13: =SUM(H13:P13) -> 20268 | E13: =IFERROR(VLOOKUP($A13,Filtro!$A5:$U57,3,FALSE),0) -> 0 | F13: =IFERROR(VLOOKUP($A13,Filtro!$A5:$U57,4,FALSE),0) -> 0 | G13: =IFERROR(VLOOKUP($A13,Filtro!$A5:$U57,5,FALSE),0) -> 0 | H13: =IFERROR(VLOOKUP($A13,Filtro!$A5:$U57,6,FALSE),0) -> 13958 | I13: =IFERROR(VLOOKUP($A13,Filtro!$A5:$U57,7,FALSE),0) -> 6170 | J13: =IFERROR(VLOOKUP($A13,Filtro!$A5:$U57,8,FALSE),0) -> 2 | K13: =IFERROR(VLOOKUP($A13,Filtro!$A5:$U57,9,FALSE),0) -> 6 | L13: =IFERROR(VLOOKUP($A13,Filtro!$A5:$U57,10,FALSE),0) -> 65 | M13: =IFERROR(VLOOKUP($A13,Filtro!$A5:$U57,11,FALSE),0) -> 0 | N13: =IFERROR(VLOOKUP($A13,Filtro!$A5:$U57,12,FALSE),0) -> 34 | O13: =IFERROR(VLOOKUP($A13,Filtro!$A5:$U57,13,FALSE),0) -> 19 | P13: =IFERROR(VLOOKUP($A13,Filtro!$A5:$U57,14,FALSE),0) -> 14
A14: 15080014 | C14: Purita +Pro 1 | D14: =SUM(H14:P14) -> 18782 | E14: =IFERROR(VLOOKUP($A14,Filtro!$A6:$U58,3,FALSE),0) -> 0 | F14: =IFERROR(VLOOKUP($A14,Filtro!$A6:$U58,4,FALSE),0) -> 0 | G14: =IFERROR(VLOOKUP($A14,Filtro!$A6:$U58,5,FALSE),0) -> 0 | H14: =IFERROR(VLOOKUP($A14,Filtro!$A6:$U58,6,FALSE),0) -> 10185 | I14: =IFERROR(VLOOKUP($A14,Filtro!$A6:$U58,7,FALSE),0) -> 8503 | J14: =IFERROR(VLOOKUP($A14,Filtro!$A6:$U58,8,FALSE),0) -> 0 | K14: =IFERROR(VLOOKUP($A14,Filtro!$A6:$U58,9,FALSE),0) -> 2 | L14: =IFERROR(VLOOKUP($A14,Filtro!$A6:$U58,10,FALSE),0) -> 54 | M14: =IFERROR(VLOOKUP($A14,Filtro!$A6:$U58,11,FALSE),0) -> 0 | N14: =IFERROR(VLOOKUP($A14,Filtro!$A6:$U58,12,FALSE),0) -> 27 | O14: =IFERROR(VLOOKUP($A14,Filtro!$A6:$U58,13,FALSE),0) -> 4 | P14: =IFERROR(VLOOKUP($A14,Filtro!$A6:$U58,14,FALSE),0) -> 7
A15: 15010200 | C15: Purita Cereal (PC) | D15: =SUM(I15:K15) -> 76814 | E15: =IFERROR(VLOOKUP($A15,Filtro!$A7:$U59,3,FALSE),0) -> 0 | F15: =IFERROR(VLOOKUP($A15,Filtro!$A7:$U59,4,FALSE),0) -> 0 | G15: =IFERROR(VLOOKUP($A15,Filtro!$A7:$U59,5,FALSE),0) -> 0 | H15: =IFERROR(VLOOKUP($A15,Filtro!$A7:$U59,6,FALSE),0) -> 0 | I15: =IFERROR(VLOOKUP($A15,Filtro!$A7:$U59,7,FALSE),0) -> 5780 | J15: =IFERROR(VLOOKUP($A15,Filtro!$A7:$U59,8,FALSE),0) -> 38269 | K15: =IFERROR(VLOOKUP($A15,Filtro!$A7:$U59,9,FALSE),0) -> 32765 | L15: =IFERROR(VLOOKUP($A15,Filtro!$A7:$U59,10,FALSE),0) -> 0 | M15: =IFERROR(VLOOKUP($A15,Filtro!$A7:$U59,11,FALSE),0) -> 0 | N15: =IFERROR(VLOOKUP($A15,Filtro!$A7:$U59,12,FALSE),0) -> 0 | O15: =IFERROR(VLOOKUP($A15,Filtro!$A7:$U59,13,FALSE),0) -> 0 | P15: =IFERROR(VLOOKUP($A15,Filtro!$A7:$U59,14,FALSE),0) -> 0
A16: 15080015 | C16: Purita +Pro 2 | D16: =SUM(J16:K16) -> 1339 | E16: =IFERROR(VLOOKUP($A16,Filtro!$A8:$U60,3,FALSE),0) -> 0 | F16: =IFERROR(VLOOKUP($A16,Filtro!$A8:$U60,4,FALSE),0) -> 0 | G16: =IFERROR(VLOOKUP($A16,Filtro!$A8:$U60,5,FALSE),0) -> 0 | H16: =IFERROR(VLOOKUP($A16,Filtro!$A8:$U60,6,FALSE),0) -> 0 | I16: =IFERROR(VLOOKUP($A16,Filtro!$A8:$U60,7,FALSE),0) -> 0 | J16: =IFERROR(VLOOKUP($A16,Filtro!$A8:$U60,8,FALSE),0) -> 684 | K16: =IFERROR(VLOOKUP($A16,Filtro!$A8:$U60,9,FALSE),0) -> 655 | L16: =IFERROR(VLOOKUP($A16,Filtro!$A8:$U60,10,FALSE),0) -> 0 | M16: =IFERROR(VLOOKUP($A16,Filtro!$A8:$U60,11,FALSE),0) -> 0 | N16: =IFERROR(VLOOKUP($A16,Filtro!$A8:$U60,12,FALSE),0) -> 0 | O16: =IFERROR(VLOOKUP($A16,Filtro!$A8:$U60,13,FALSE),0) -> 0 | P16: =IFERROR(VLOOKUP($A16,Filtro!$A8:$U60,14,FALSE),0) -> 0
A17: 15080008 | C17: Purita Mamá (PM) | D17: =SUM(N17:P17)+L17 -> 26575 | E17: =IFERROR(VLOOKUP($A17,Filtro!$A9:$U61,3,FALSE),0) -> 0 | F17: =IFERROR(VLOOKUP($A17,Filtro!$A9:$U61,4,FALSE),0) -> 0 | G17: =IFERROR(VLOOKUP($A17,Filtro!$A9:$U61,5,FALSE),0) -> 0 | H17: =IFERROR(VLOOKUP($A17,Filtro!$A9:$U61,6,FALSE),0) -> 0 | I17: =IFERROR(VLOOKUP($A17,Filtro!$A9:$U61,7,FALSE),0) -> 0 | J17: =IFERROR(VLOOKUP($A17,Filtro!$A9:$U61,8,FALSE),0) -> 0 | K17: =IFERROR(VLOOKUP($A17,Filtro!$A9:$U61,9,FALSE),0) -> 0 | L17: =IFERROR(VLOOKUP($A17,Filtro!$A9:$U61,10,FALSE),0) -> 12266 | M17: =IFERROR(VLOOKUP($A17,Filtro!$A9:$U61,11,FALSE),0) -> 0 | N17: =IFERROR(VLOOKUP($A17,Filtro!$A9:$U61,12,FALSE),0) -> 9241 | O17: =IFERROR(VLOOKUP($A17,Filtro!$A9:$U61,13,FALSE),0) -> 1640 | P17: =IFERROR(VLOOKUP($A17,Filtro!$A9:$U61,14,FALSE),0) -> 3428 | Q17: =$AB17&$AC17&$AD17&$AE17 | AB17: =IF(AND(OR(L13<>0,L14<>0,L17<>0),N42=""),"* No olvide ingresar el Nº de personas que retiran alimento de la sección B en el grupo de Gestantes Normal, Sobrepeso y Obesas.","") | AC17: =IF(AND(SUM(N13,N14,N17)<>0,P42=""),"* No olvide ingresar el Nº de personas que retiran alimento de la sección B en el grupo de Madre con hijo/a menor a 6 meses con Lactancia materna exclusiva.","") | AD17: =IF(AND(SUM(O13,O14,O17)<>0,Q42=""),"* No olvide ingresar el Nº de personas que retiran alimento de la sección D en el grupo de Madre con hijo/a menor a 6 meses con Lactancia materna predominante.","") | AE17: =IF(AND(SUM(P13,P14,P17)<>0,R42=""),"* No olvide ingresar el Nº de personas que retiran alimento de la sección B en el grupo de Madre con hijo/a menor a 6 meses con Formula predominantes o exclusiva.","")
A18: 15900010 | C18: Fórmula de Inicio (FI) | D18: =SUM(E18:G18) -> 27850.2 | E18: =IFERROR(VLOOKUP($A18,Filtro!$A10:$U62,3,FALSE),0) -> 2285.5 | F18: =IFERROR(VLOOKUP($A18,Filtro!$A10:$U62,4,FALSE),0) -> 6576.2 | G18: =IFERROR(VLOOKUP($A18,Filtro!$A10:$U62,5,FALSE),0) -> 18988.5 | H18: =IFERROR(VLOOKUP($A18,Filtro!$A10:$U62,6,FALSE),0) -> 0 | I18: =IFERROR(VLOOKUP($A18,Filtro!$A10:$U62,7,FALSE),0) -> 0 | J18: =IFERROR(VLOOKUP($A18,Filtro!$A10:$U62,8,FALSE),0) -> 0 | K18: =IFERROR(VLOOKUP($A18,Filtro!$A10:$U62,9,FALSE),0) -> 0 | L18: =IFERROR(VLOOKUP($A18,Filtro!$A10:$U62,10,FALSE),0) -> 0 | M18: =IFERROR(VLOOKUP($A18,Filtro!$A10:$U62,11,FALSE),0) -> 0 | N18: =IFERROR(VLOOKUP($A18,Filtro!$A10:$U62,12,FALSE),0) -> 0 | O18: =IFERROR(VLOOKUP($A18,Filtro!$A10:$U62,13,FALSE),0) -> 0 | P18: =IFERROR(VLOOKUP($A18,Filtro!$A10:$U62,14,FALSE),0) -> 0
C19: Subtotal | D19: =SUM(E19:P19) -> 171628.2 | E19: =SUM(E18) -> 2285.5 | F19: =SUM(F18) -> 6576.2 | G19: =SUM(G18) -> 18988.5 | H19: =SUM(H13:H14) -> 24143 | I19: =SUM(I13:I15) -> 20453 | J19: =SUM(J13:J16) -> 38955 | K19: =SUM(K13:K16) -> 33428 | L19: =SUM(L13:L18) -> 12385 | M19: =SUM(M13:M14) -> 0 | N19: =SUM(N13:N18) -> 9302 | O19: =SUM(O13:O18) -> 1663 | P19: =SUM(P13:P18) -> 3449
A20: 15010300 | B20: Refuerzo | C20: Leche Purita Fortificada (LPF) | D20: =SUM(H20:Q20) -> 0 | E20: =IFERROR(VLOOKUP($A20,Filtro!$A12:$U64,3,FALSE),0) -> 0 | F20: =IFERROR(VLOOKUP($A20,Filtro!$A12:$U64,4,FALSE),0) -> 0 | G20: =IFERROR(VLOOKUP($A20,Filtro!$A12:$U64,5,FALSE),0) -> 0 | H20: =IFERROR(VLOOKUP($A20,Filtro!$A12:$U64,6,FALSE),0) -> 0 | I20: =IFERROR(VLOOKUP($A20,Filtro!$A12:$U64,7,FALSE),0) -> 0 | J20: =IFERROR(VLOOKUP($A20,Filtro!$A12:$U64,8,FALSE),0) -> 0 | K20: =IFERROR(VLOOKUP($A20,Filtro!$A12:$U64,9,FALSE),0) -> 0 | L20: =IFERROR(VLOOKUP($A20,Filtro!$A12:$U64,10,FALSE),0) -> 0 | M20: =IFERROR(VLOOKUP($A20,Filtro!$A12:$U64,11,FALSE),0) -> 0 | N20: =IFERROR(VLOOKUP($A20,Filtro!$A12:$U64,12,FALSE),0) -> 0 | O20: =IFERROR(VLOOKUP($A20,Filtro!$A12:$U64,13,FALSE),0) -> 0 | P20: =IFERROR(VLOOKUP($A20,Filtro!$A12:$U64,14,FALSE),0) -> 0
A21: 15080016 | C21: Purita +Pro 1 | D21: =SUM(H21:Q21) -> 1073 | E21: =IFERROR(VLOOKUP($A21,Filtro!$A13:$U65,3,FALSE),0) -> 0 | F21: =IFERROR(VLOOKUP($A21,Filtro!$A13:$U65,4,FALSE),0) -> 0 | G21: =IFERROR(VLOOKUP($A21,Filtro!$A13:$U65,5,FALSE),0) -> 0 | H21: =IFERROR(VLOOKUP($A21,Filtro!$A13:$U65,6,FALSE),0) -> 233 | I21: =IFERROR(VLOOKUP($A21,Filtro!$A13:$U65,7,FALSE),0) -> 178 | J21: =IFERROR(VLOOKUP($A21,Filtro!$A13:$U65,8,FALSE),0) -> 430 | K21: =IFERROR(VLOOKUP($A21,Filtro!$A13:$U65,9,FALSE),0) -> 217 | L21: =IFERROR(VLOOKUP($A21,Filtro!$A13:$U65,10,FALSE),0) -> 0 | M21: =IFERROR(VLOOKUP($A21,Filtro!$A13:$U65,11,FALSE),0) -> 6 | N21: =IFERROR(VLOOKUP($A21,Filtro!$A13:$U65,12,FALSE),0) -> 7 | O21: =IFERROR(VLOOKUP($A21,Filtro!$A13:$U65,13,FALSE),0) -> 2 | P21: =IFERROR(VLOOKUP($A21,Filtro!$A13:$U65,14,FALSE),0) -> 0
A22: 15010400 | C22: Purita Cereal (PC) | D22: =SUM(I22:K22) -> 0 | E22: =IFERROR(VLOOKUP($A22,Filtro!$A14:$U66,3,FALSE),0) -> 0 | F22: =IFERROR(VLOOKUP($A22,Filtro!$A14:$U66,4,FALSE),0) -> 0 | G22: =IFERROR(VLOOKUP($A22,Filtro!$A14:$U66,5,FALSE),0) -> 0 | H22: =IFERROR(VLOOKUP($A22,Filtro!$A14:$U66,6,FALSE),0) -> 0 | I22: =IFERROR(VLOOKUP($A22,Filtro!$A14:$U66,7,FALSE),0) -> 0 | J22: =IFERROR(VLOOKUP($A22,Filtro!$A14:$U66,8,FALSE),0) -> 0 | K22: =IFERROR(VLOOKUP($A22,Filtro!$A14:$U66,9,FALSE),0) -> 0 | L22: =IFERROR(VLOOKUP($A22,Filtro!$A14:$U66,10,FALSE),0) -> 0 | M22: =IFERROR(VLOOKUP($A22,Filtro!$A14:$U66,11,FALSE),0) -> 0 | N22: =IFERROR(VLOOKUP($A22,Filtro!$A14:$U66,12,FALSE),0) -> 0 | O22: =IFERROR(VLOOKUP($A22,Filtro!$A14:$U66,13,FALSE),0) -> 0 | P22: =IFERROR(VLOOKUP($A22,Filtro!$A14:$U66,14,FALSE),0) -> 0
A23: 15080017 | C23: Purita +Pro 2 | D23: =SUM(J23:K23) -> 0 | E23: =IFERROR(VLOOKUP($A23,Filtro!$A15:$U67,3,FALSE),0) -> 0 | F23: =IFERROR(VLOOKUP($A23,Filtro!$A15:$U67,4,FALSE),0) -> 0 | G23: =IFERROR(VLOOKUP($A23,Filtro!$A15:$U67,5,FALSE),0) -> 0 | H23: =IFERROR(VLOOKUP($A23,Filtro!$A15:$U67,6,FALSE),0) -> 0 | I23: =IFERROR(VLOOKUP($A23,Filtro!$A15:$U67,7,FALSE),0) -> 0 | J23: =IFERROR(VLOOKUP($A23,Filtro!$A15:$U67,8,FALSE),0) -> 0 | K23: =IFERROR(VLOOKUP($A23,Filtro!$A15:$U67,9,FALSE),0) -> 0 | L23: =IFERROR(VLOOKUP($A23,Filtro!$A15:$U67,10,FALSE),0) -> 0 | M23: =IFERROR(VLOOKUP($A23,Filtro!$A15:$U67,11,FALSE),0) -> 0 | N23: =IFERROR(VLOOKUP($A23,Filtro!$A15:$U67,12,FALSE),0) -> 0 | O23: =IFERROR(VLOOKUP($A23,Filtro!$A15:$U67,13,FALSE),0) -> 0 | P23: =IFERROR(VLOOKUP($A23,Filtro!$A15:$U67,14,FALSE),0) -> 0
A24: 15010500 | C24: Mi Sopita (MS) | D24: =SUM(F24:K24) -> 0 | E24: =IFERROR(VLOOKUP($A24,Filtro!$A16:$U68,3,FALSE),0) -> 0 | F24: =IFERROR(VLOOKUP($A24,Filtro!$A16:$U68,4,FALSE),0) -> 0 | G24: =IFERROR(VLOOKUP($A24,Filtro!$A16:$U68,5,FALSE),0) -> 0 | H24: =IFERROR(VLOOKUP($A24,Filtro!$A16:$U68,6,FALSE),0) -> 0 | I24: =IFERROR(VLOOKUP($A24,Filtro!$A16:$U68,7,FALSE),0) -> 0 | J24: =IFERROR(VLOOKUP($A24,Filtro!$A16:$U68,8,FALSE),0) -> 0 | K24: =IFERROR(VLOOKUP($A24,Filtro!$A16:$U68,9,FALSE),0) -> 0 | L24: =IFERROR(VLOOKUP($A24,Filtro!$A16:$U68,10,FALSE),0) -> 0 | M24: =IFERROR(VLOOKUP($A24,Filtro!$A16:$U68,11,FALSE),0) -> 0 | N24: =IFERROR(VLOOKUP($A24,Filtro!$A16:$U68,12,FALSE),0) -> 0 | O24: =IFERROR(VLOOKUP($A24,Filtro!$A16:$U68,13,FALSE),0) -> 0 | P24: =IFERROR(VLOOKUP($A24,Filtro!$A16:$U68,14,FALSE),0) -> 0
A25: 15080009 | C25: Purita Mamá (PM) | D25: =SUM(M25:Q25) -> 743 | E25: =IFERROR(VLOOKUP($A25,Filtro!$A17:$U69,3,FALSE),0) -> 0 | F25: =IFERROR(VLOOKUP($A25,Filtro!$A17:$U69,4,FALSE),0) -> 0 | G25: =IFERROR(VLOOKUP($A25,Filtro!$A17:$U69,5,FALSE),0) -> 0 | H25: =IFERROR(VLOOKUP($A25,Filtro!$A17:$U69,6,FALSE),0) -> 0 | I25: =IFERROR(VLOOKUP($A25,Filtro!$A17:$U69,7,FALSE),0) -> 0 | J25: =IFERROR(VLOOKUP($A25,Filtro!$A17:$U69,8,FALSE),0) -> 0 | K25: =IFERROR(VLOOKUP($A25,Filtro!$A17:$U69,9,FALSE),0) -> 0 | L25: =IFERROR(VLOOKUP($A25,Filtro!$A17:$U69,10,FALSE),0) -> 0 | M25: =IFERROR(VLOOKUP($A25,Filtro!$A17:$U69,11,FALSE),0) -> 624 | N25: =IFERROR(VLOOKUP($A25,Filtro!$A17:$U69,12,FALSE),0) -> 90 | O25: =IFERROR(VLOOKUP($A25,Filtro!$A17:$U69,13,FALSE),0) -> 14 | P25: =IFERROR(VLOOKUP($A25,Filtro!$A17:$U69,14,FALSE),0) -> 15
A26: 15900020 | C26: Fórmula de Inicio (FI) | D26: =SUM(E26:G26) -> 1083.2 | E26: =IFERROR(VLOOKUP($A26,Filtro!$A18:$U70,3,FALSE),0) -> 99.1 | F26: =IFERROR(VLOOKUP($A26,Filtro!$A18:$U70,4,FALSE),0) -> 186 | G26: =IFERROR(VLOOKUP($A26,Filtro!$A18:$U70,5,FALSE),0) -> 798.1 | H26: =IFERROR(VLOOKUP($A26,Filtro!$A18:$U70,6,FALSE),0) -> 0 | I26: =IFERROR(VLOOKUP($A26,Filtro!$A18:$U70,7,FALSE),0) -> 0 | J26: =IFERROR(VLOOKUP($A26,Filtro!$A18:$U70,8,FALSE),0) -> 0 | K26: =IFERROR(VLOOKUP($A26,Filtro!$A18:$U70,9,FALSE),0) -> 0 | L26: =IFERROR(VLOOKUP($A26,Filtro!$A18:$U70,10,FALSE),0) -> 0 | M26: =IFERROR(VLOOKUP($A26,Filtro!$A18:$U70,11,FALSE),0) -> 0 | N26: =IFERROR(VLOOKUP($A26,Filtro!$A18:$U70,12,FALSE),0) -> 0 | O26: =IFERROR(VLOOKUP($A26,Filtro!$A18:$U70,13,FALSE),0) -> 0 | P26: =IFERROR(VLOOKUP($A26,Filtro!$A18:$U70,14,FALSE),0) -> 0
C27: Subtotal | D27: =SUM(E27:Q27) -> 2899.2 | E27: =SUM(E26) -> 99.1 | F27: =SUM(F20:F26) -> 186 | G27: =SUM(G20:G26) -> 798.1 | H27: =SUM(H20:H24) -> 233 | I27: =SUM(I20:I24) -> 178 | J27: =SUM(J20:J24) -> 430 | K27: =SUM(K20:K24) -> 217 | L27: =SUM(L20:L21) -> 0 | M27: =SUM(M20:M26) -> 630 | N27: =SUM(N20:N26) -> 97 | O27: =SUM(O20:O26) -> 16 | P27: =SUM(P20:P26) -> 15
A28: 15030100 | B28: Prematuros | C28: Fórmula de Prematuros (FP) | D28: =SUM(E28:G28) -> 0 | E28: =IFERROR(VLOOKUP($A28,Filtro!$A20:$U72,3,FALSE),0) -> 0 | F28: =IFERROR(VLOOKUP($A28,Filtro!$A20:$U72,4,FALSE),0) -> 0 | G28: =IFERROR(VLOOKUP($A28,Filtro!$A20:$U72,5,FALSE),0) -> 0 | H28: =IFERROR(VLOOKUP($A28,Filtro!$A20:$U72,6,FALSE),0) -> 0 | I28: =IFERROR(VLOOKUP($A28,Filtro!$A20:$U72,7,FALSE),0) -> 0 | J28: =IFERROR(VLOOKUP($A28,Filtro!$A20:$U72,8,FALSE),0) -> 0 | K28: =IFERROR(VLOOKUP($A28,Filtro!$A20:$U72,9,FALSE),0) -> 0 | L28: =IFERROR(VLOOKUP($A28,Filtro!$A20:$U72,10,FALSE),0) -> 0 | M28: =IFERROR(VLOOKUP($A28,Filtro!$A20:$U72,11,FALSE),0) -> 0 | N28: =IFERROR(VLOOKUP($A28,Filtro!$A20:$U72,12,FALSE),0) -> 0 | O28: =IFERROR(VLOOKUP($A28,Filtro!$A20:$U72,13,FALSE),0) -> 0 | P28: =IFERROR(VLOOKUP($A28,Filtro!$A20:$U72,14,FALSE),0) -> 0
A29: 15901500 | C29: Fórmula de Incio (FI) | D29: =SUM(E29:G29) -> 288.4 | E29: =IFERROR(VLOOKUP($A29,Filtro!$A21:$U73,3,FALSE),0) -> 14.1 | F29: =IFERROR(VLOOKUP($A29,Filtro!$A21:$U73,4,FALSE),0) -> 41.4 | G29: =IFERROR(VLOOKUP($A29,Filtro!$A21:$U73,5,FALSE),0) -> 232.9 | H29: =IFERROR(VLOOKUP($A29,Filtro!$A21:$U73,6,FALSE),0) -> 0 | I29: =IFERROR(VLOOKUP($A29,Filtro!$A21:$U73,7,FALSE),0) -> 0 | J29: =IFERROR(VLOOKUP($A29,Filtro!$A21:$U73,8,FALSE),0) -> 0 | K29: =IFERROR(VLOOKUP($A29,Filtro!$A21:$U73,9,FALSE),0) -> 0 | L29: =IFERROR(VLOOKUP($A29,Filtro!$A21:$U73,10,FALSE),0) -> 0 | M29: =IFERROR(VLOOKUP($A29,Filtro!$A21:$U73,11,FALSE),0) -> 0 | N29: =IFERROR(VLOOKUP($A29,Filtro!$A21:$U73,12,FALSE),0) -> 0 | O29: =IFERROR(VLOOKUP($A29,Filtro!$A21:$U73,13,FALSE),0) -> 0 | P29: =IFERROR(VLOOKUP($A29,Filtro!$A21:$U73,14,FALSE),0) -> 0
A30: 15080012 | C30: Mi Sopita (MS) | D30: =SUM(F30:G30) -> 12 | E30: =IFERROR(VLOOKUP($A30,Filtro!$A22:$U74,3,FALSE),0) -> 0 | F30: =IFERROR(VLOOKUP($A30,Filtro!$A22:$U74,4,FALSE),0) -> 0 | G30: =IFERROR(VLOOKUP($A30,Filtro!$A22:$U74,5,FALSE),0) -> 12 | H30: =IFERROR(VLOOKUP($A30,Filtro!$A22:$U74,6,FALSE),0) -> 0 | I30: =IFERROR(VLOOKUP($A30,Filtro!$A22:$U74,7,FALSE),0) -> 0 | J30: =IFERROR(VLOOKUP($A30,Filtro!$A22:$U74,8,FALSE),0) -> 0 | K30: =IFERROR(VLOOKUP($A30,Filtro!$A22:$U74,9,FALSE),0) -> 0 | L30: =IFERROR(VLOOKUP($A30,Filtro!$A22:$U74,10,FALSE),0) -> 0 | M30: =IFERROR(VLOOKUP($A30,Filtro!$A22:$U74,11,FALSE),0) -> 0 | N30: =IFERROR(VLOOKUP($A30,Filtro!$A22:$U74,12,FALSE),0) -> 0 | O30: =IFERROR(VLOOKUP($A30,Filtro!$A22:$U74,13,FALSE),0) -> 0 | P30: =IFERROR(VLOOKUP($A30,Filtro!$A22:$U74,14,FALSE),0) -> 0
C31: Subtotal | D31: =SUM(E31:Q31) -> 300.4 | E31: =SUM(E28:E30) -> 14.1 | F31: =SUM(F28:F30) -> 41.4 | G31: =SUM(G28:G30) -> 244.9
A32: 15900030 | B32: Alergia a la proteína de la leche de vaca | C32: Fórmula Extensamente Hidrolizada (FEH) | D32: =SUM(E32:K32) -> 6702 | E32: =IFERROR(VLOOKUP($A32,Filtro!$A24:$U76,3,FALSE),0) -> 109.6 | F32: =IFERROR(VLOOKUP($A32,Filtro!$A24:$U76,4,FALSE),0) -> 364 | G32: =IFERROR(VLOOKUP($A32,Filtro!$A24:$U76,5,FALSE),0) -> 5057.2 | H32: =IFERROR(VLOOKUP($A32,Filtro!$A24:$U76,6,FALSE),0) -> 683.2 | I32: =IFERROR(VLOOKUP($A32,Filtro!$A24:$U76,7,FALSE),0) -> 441.2 | J32: =IFERROR(VLOOKUP($A32,Filtro!$A24:$U76,8,FALSE),0) -> 40.4 | K32: =IFERROR(VLOOKUP($A32,Filtro!$A24:$U76,9,FALSE),0) -> 6.4 | L32: =IFERROR(VLOOKUP($A32,Filtro!$A24:$U76,10,FALSE),0) -> 0 | M32: =IFERROR(VLOOKUP($A32,Filtro!$A24:$U76,11,FALSE),0) -> 0 | N32: =IFERROR(VLOOKUP($A32,Filtro!$A24:$U76,12,FALSE),0) -> 0 | O32: =IFERROR(VLOOKUP($A32,Filtro!$A24:$U76,13,FALSE),0) -> 0 | P32: =IFERROR(VLOOKUP($A32,Filtro!$A24:$U76,14,FALSE),0) -> 0
A33: 15900040 | C33: Fórmula Aminoacídica (FAA) | D33: =SUM(E33:K33) -> 1356 | E33: =IFERROR(VLOOKUP($A33,Filtro!$A25:$U77,3,FALSE),0) -> 60.8 | F33: =IFERROR(VLOOKUP($A33,Filtro!$A25:$U77,4,FALSE),0) -> 231.6 | G33: =IFERROR(VLOOKUP($A33,Filtro!$A25:$U77,5,FALSE),0) -> 648.8 | H33: =IFERROR(VLOOKUP($A33,Filtro!$A25:$U77,6,FALSE),0) -> 313.6 | I33: =IFERROR(VLOOKUP($A33,Filtro!$A25:$U77,7,FALSE),0) -> 73.6 | J33: =IFERROR(VLOOKUP($A33,Filtro!$A25:$U77,8,FALSE),0) -> 14.4 | K33: =IFERROR(VLOOKUP($A33,Filtro!$A25:$U77,9,FALSE),0) -> 13.2 | L33: =IFERROR(VLOOKUP($A33,Filtro!$A25:$U77,10,FALSE),0) -> 0 | M33: =IFERROR(VLOOKUP($A33,Filtro!$A25:$U77,11,FALSE),0) -> 0 | N33: =IFERROR(VLOOKUP($A33,Filtro!$A25:$U77,12,FALSE),0) -> 0 | O33: =IFERROR(VLOOKUP($A33,Filtro!$A25:$U77,13,FALSE),0) -> 0 | P33: =IFERROR(VLOOKUP($A33,Filtro!$A25:$U77,14,FALSE),0) -> 0
C34: Subtotal | D34: =SUM(E34:Q34) -> 8058 | E34: =SUM(E32:E33) -> 170.4 | F34: =SUM(F32:F33) -> 595.6 | G34: =SUM(G32:G33) -> 5706 | H34: =SUM(H32:H33) -> 996.8 | I34: =SUM(I32:I33) -> 514.8 | J34: =SUM(J32:J33) -> 54.8 | K34: =SUM(K32:K33) -> 19.6
B35: Total | D35: =SUM(E35:Q35) -> 182885.8 | E35: =+E19+E27+E31+E34 -> 2569.1 | F35: =+F19+F27+F31+F34 -> 7399.2 | G35: =+G19+G27+G31+G34 -> 25737.5 | H35: =+H19+H27+H31+H34 -> 25372.8 | I35: =+I19+I27+I31+I34 -> 21145.8 | J35: =+J19+J27+J31+J34 -> 39439.8 | K35: =+K19+K27+K31+K34 -> 33664.6 | L35: =+L19+L27+L31+L34 -> 12385 | ... P35: =+P19+P27+P31+P34 -> 3464
B37: Sección B: PNAC - Número de personas intrasistema que retiran
B38: Subprogramas | D38: Total | E38: Hombres | F38: Mujeres | G38: Menores a 6 años | N38: Gestantes | P38: Persona que amamanta a hijo/a menor a 12 meses
G39: 0 - 2 meses | H39: 3 - 5 meses | I39: 6 - 11 meses | J39: 12 - 17 meses | K39: 18 - 23 meses | L39: 24 - 47 meses | M39: 48 - 71 meses | N39: Normal, sobrepeso y obesas | O39: Bajo peso | P39: 0 a 5 meses con Lactancia Materna exclusiva | Q39: 0 a 5 meses Lactancia Materna + Fórmula Láctea | R39: 6 a 11 meses Lactancia Materna
A42: 15050100 | B42: Básico | D42: =IFERROR(VLOOKUP($A42,Filtro!$A5:$U57,2,FALSE),0) -> 92331 | E42: =IFERROR(VLOOKUP($A42,Filtro!$A5:$U57,3,FALSE),0) -> 36834 | F42: =IFERROR(VLOOKUP($A42,Filtro!$A5:$U57,4,FALSE),0) -> 55733 | G42: =IFERROR(VLOOKUP($A42,Filtro!$A5:$U57,5,FALSE),0) -> 1055 | H42: =IFERROR(VLOOKUP($A42,Filtro!$A5:$U57,6,FALSE),0) -> 2516 | I42: =IFERROR(VLOOKUP($A42,Filtro!$A5:$U57,7,FALSE),0) -> 7570 | J42: =IFERROR(VLOOKUP($A42,Filtro!$A5:$U57,8,FALSE),0) -> 12054 | K42: =IFERROR(VLOOKUP($A42,Filtro!$A5:$U57,9,FALSE),0) -> 10371 | L42: =IFERROR(VLOOKUP($A42,Filtro!$A5:$U57,10,FALSE),0) -> 19580 | M42: =IFERROR(VLOOKUP($A42,Filtro!$A5:$U57,11,FALSE),0) -> 16988 | N42: =IFERROR(VLOOKUP($A42,Filtro!$A5:$U57,12,FALSE),0) -> 12393 | O42: =IFERROR(VLOOKUP($A42,Filtro!$A5:$U57,13,FALSE),0) -> 0 | P42: =IFERROR(VLOOKUP($A42,Filtro!$A5:$U57,14,FALSE),0) -> 4722 | Q42: =IFERROR(VLOOKUP($A42,Filtro!$A5:$U57,15,FALSE),0) -> 1649 | R42: =IFERROR(VLOOKUP($A42,Filtro!$A5:$U57,16,FALSE),0) -> 3433 | S42: =AA42&AB42 | AA42: =IF(AF42=1,"* La suma del Total según grupo etario, gestantes y Personas que amamantan no pueden superar al Total por Sexo. ","") | AF42: =IF(SUM(E42:F42)<SUM(G42:M42,N42,P42:R42),1,0) -> 0
A43: 15050200 | B43: Refuerzo | D43: =IFERROR(VLOOKUP($A43,Filtro!$A6:$U58,2,FALSE),0) -> 2186 | E43: =IFERROR(VLOOKUP($A43,Filtro!$A6:$U58,3,FALSE),0) -> 1094 | F43: =IFERROR(VLOOKUP($A43,Filtro!$A6:$U58,4,FALSE),0) -> 1041 | G43: =IFERROR(VLOOKUP($A43,Filtro!$A6:$U58,5,FALSE),0) -> 39 | H43: =IFERROR(VLOOKUP($A43,Filtro!$A6:$U58,6,FALSE),0) -> 65 | I43: =IFERROR(VLOOKUP($A43,Filtro!$A6:$U58,7,FALSE),0) -> 295 | J43: =IFERROR(VLOOKUP($A43,Filtro!$A6:$U58,8,FALSE),0) -> 273 | K43: =IFERROR(VLOOKUP($A43,Filtro!$A6:$U58,9,FALSE),0) -> 201 | L43: =IFERROR(VLOOKUP($A43,Filtro!$A6:$U58,10,FALSE),0) -> 661 | M43: =IFERROR(VLOOKUP($A43,Filtro!$A6:$U58,11,FALSE),0) -> 391 | N43: =IFERROR(VLOOKUP($A43,Filtro!$A6:$U58,12,FALSE),0) -> 0 | O43: =IFERROR(VLOOKUP($A43,Filtro!$A6:$U58,13,FALSE),0) -> 210 | P43: =IFERROR(VLOOKUP($A43,Filtro!$A6:$U58,14,FALSE),0) -> 29 | Q43: =IFERROR(VLOOKUP($A43,Filtro!$A6:$U58,15,FALSE),0) -> 10 | R43: =IFERROR(VLOOKUP($A43,Filtro!$A6:$U58,16,FALSE),0) -> 12 | S43: =AA43&AB43 | AA43: =IF(AF43=1,"* La suma del Total según grupo etario, gestantes y Personas que amamantan no pueden superar al Total por Sexo. ","") | AF43: =IF(D43<SUM(G43:M43,O43:R43),1,0) -> 0
A44: 15050500 | B44: Prematuros | D44: =IFERROR(VLOOKUP($A44,Filtro!$A7:$U59,2,FALSE),0) -> 347 | E44: =IFERROR(VLOOKUP($A44,Filtro!$A7:$U59,3,FALSE),0) -> 182 | F44: =IFERROR(VLOOKUP($A44,Filtro!$A7:$U59,4,FALSE),0) -> 161 | G44: =IFERROR(VLOOKUP($A44,Filtro!$A7:$U59,5,FALSE),0) -> 96 | H44: =IFERROR(VLOOKUP($A44,Filtro!$A7:$U59,6,FALSE),0) -> 92 | I44: =IFERROR(VLOOKUP($A44,Filtro!$A7:$U59,7,FALSE),0) -> 159 | J44: =IFERROR(VLOOKUP($A44,Filtro!$A7:$U59,8,FALSE),0) -> 0 | K44: =IFERROR(VLOOKUP($A44,Filtro!$A7:$U59,9,FALSE),0) -> 0 | L44: =IFERROR(VLOOKUP($A44,Filtro!$A7:$U59,10,FALSE),0) -> 0 | M44: =IFERROR(VLOOKUP($A44,Filtro!$A7:$U59,11,FALSE),0) -> 0 | N44: =IFERROR(VLOOKUP($A44,Filtro!$A7:$U59,12,FALSE),0) -> 0 | O44: =IFERROR(VLOOKUP($A44,Filtro!$A7:$U59,13,FALSE),0) -> 0 | P44: =IFERROR(VLOOKUP($A44,Filtro!$A7:$U59,14,FALSE),0) -> 0 | Q44: =IFERROR(VLOOKUP($A44,Filtro!$A7:$U59,15,FALSE),0) -> 0 | R44: =IFERROR(VLOOKUP($A44,Filtro!$A7:$U59,16,FALSE),0) -> 0 | S44: =AA44&AB44 | AA44: =IF(AF44=1,"* El Total según grupo etario no puede superar al Total por Sexo. ","") | AF44: =IF(D44<SUM(G44:M44),1,0) -> 0
A45: 15900050 | B45: Alergia a la Proteína de la leche de vaca | D45: =IFERROR(VLOOKUP($A45,Filtro!$A8:$U60,2,FALSE),0) -> 1163 | E45: =IFERROR(VLOOKUP($A45,Filtro!$A8:$U60,3,FALSE),0) -> 622 | F45: =IFERROR(VLOOKUP($A45,Filtro!$A8:$U60,4,FALSE),0) -> 495 | G45: =IFERROR(VLOOKUP($A45,Filtro!$A8:$U60,5,FALSE),0) -> 62 | H45: =IFERROR(VLOOKUP($A45,Filtro!$A8:$U60,6,FALSE),0) -> 168 | I45: =IFERROR(VLOOKUP($A45,Filtro!$A8:$U60,7,FALSE),0) -> 473 | J45: =IFERROR(VLOOKUP($A45,Filtro!$A8:$U60,8,FALSE),0) -> 284 | K45: =IFERROR(VLOOKUP($A45,Filtro!$A8:$U60,9,FALSE),0) -> 151 | L45: =IFERROR(VLOOKUP($A45,Filtro!$A8:$U60,10,FALSE),0) -> 21 | M45: =IFERROR(VLOOKUP($A45,Filtro!$A8:$U60,11,FALSE),0) -> 4 | N45: =IFERROR(VLOOKUP($A45,Filtro!$A8:$U60,12,FALSE),0) -> 0 | O45: =IFERROR(VLOOKUP($A45,Filtro!$A8:$U60,13,FALSE),0) -> 0 | P45: =IFERROR(VLOOKUP($A45,Filtro!$A8:$U60,14,FALSE),0) -> 0 | Q45: =IFERROR(VLOOKUP($A45,Filtro!$A8:$U60,15,FALSE),0) -> 0 | R45: =IFERROR(VLOOKUP($A45,Filtro!$A8:$U60,16,FALSE),0) -> 0 | S45: =AA45&AB45 | AA45: =IF(AF45=1,"* El Total según grupo etario no puede superar al Total por Sexo. ","") | AF45: =IF(D45<SUM(G45:M45),1,0) -> 0
B46: TOTAL | D46: =SUM(E46:F46) -> 96162 | E46: =SUM(E42:E45) -> 38732 | F46: =SUM(F42:F45) -> 57430 | G46: =SUM(G42:G45) -> 1252 | H46: =SUM(H42:H45) -> 2841 | I46: =SUM(I42:I45) -> 8497 | J46: =SUM(J42:J45) -> 12611 | K46: =SUM(K42:K45) -> 10723 | L46: =SUM(L42:L45) -> 20262 | M46: =SUM(M42:M45) -> 17383 | N46: =N42 -> 12393 | O46: =O43 -> 210 | P46: =SUM(P42:P43) -> 4751 | Q46: =SUM(Q42:Q43) -> 1659 | R46: =SUM(R42:R43) -> 3445
A47: 15900060 | B47: Programas Sociales (*) | D47: =SUM(G47:R47) -> 0 | E47: =IFERROR(VLOOKUP($A47,Filtro!$A10:$U62,3,FALSE),0) -> 0 | F47: =IFERROR(VLOOKUP($A47,Filtro!$A10:$U62,4,FALSE),0) -> 0 | G47: =IFERROR(VLOOKUP($A47,Filtro!$A10:$U62,5,FALSE),0) -> 0 | H47: =IFERROR(VLOOKUP($A47,Filtro!$A10:$U62,6,FALSE),0) -> 0 | I47: =IFERROR(VLOOKUP($A47,Filtro!$A10:$U62,7,FALSE),0) -> 0 | J47: =IFERROR(VLOOKUP($A47,Filtro!$A10:$U62,8,FALSE),0) -> 0 | K47: =IFERROR(VLOOKUP($A47,Filtro!$A10:$U62,9,FALSE),0) -> 0 | L47: =IFERROR(VLOOKUP($A47,Filtro!$A10:$U62,10,FALSE),0) -> 0 | M47: =IFERROR(VLOOKUP($A47,Filtro!$A10:$U62,11,FALSE),0) -> 0 | N47: =IFERROR(VLOOKUP($A47,Filtro!$A10:$U62,12,FALSE),0) -> 0 | O47: =IFERROR(VLOOKUP($A47,Filtro!$A10:$U62,13,FALSE),0) -> 0 | P47: =IFERROR(VLOOKUP($A47,Filtro!$A10:$U62,14,FALSE),0) -> 0 | Q47: =IFERROR(VLOOKUP($A47,Filtro!$A10:$U62,15,FALSE),0) -> 0 | R47: =IFERROR(VLOOKUP($A47,Filtro!$A10:$U62,16,FALSE),0) -> 0 | S47: =AA47&AB47 | AA47: =IF(AF47=1,"* La suma del Total según grupo etario, gestantes y Personas que amamantan no pueden superar al Total por Sexo. ","") | AB47: =IF(AG47=1,"* Compruebe que lo ingresado en Programas Sociales no supere al Total registrado en los subprogramas. ","") | AC47: =IF(AH47=1,"* El Total registrado en Programas Sociales no puede ser mayor al Total registrado en los subprogramas. ","") | AF47: =IF(SUM(E47:F47)<SUM(G47:R47),1,0) -> 0 | AG47: =IF(OR(E47>E46,F47>F46,G47>G46,H47>H46,I47>I46,J47>J46,K47>K46,L47>L46,M47>M46,N47>N46,O47>O46,P47>P46,Q47>Q46,R47>R46),1,0) -> 0 | AH47: =IF(D47>D46,1,0) -> 0
B48: Nota: (*) Información referencial, ya incluida en los subprogramas.
B50: Sección C: PNAC: Cantidad distribuida (kg) a personas extrasistema (incluye modalidad libre elección)
B51: Subprogramas | C51: Productos | D51: Total | E51: Menores a 6 años | L51: Gestantes | N51: Persona que amamanta a hijo/a menor a 12 meses
E52: 0 - 2 meses | F52: 3 - 5 meses | G52: 6 - 11 meses | H52: 12 - 17 meses | I52: 18 - 23 meses | J52: 24 - 47 meses | K52: 48 - 71 meses | L52: Normal, sobrepeso y obesas | M52: Bajo peso | N52: 0 a 5 meses con Lactancia Materna exclusiva | O52: 0 a 5 meses Lactancia Materna + Fórmula Láctea | P52: 6 a 11 meses Lactancia Materna
A55: 15020100 | B55: Básico | C55: Leche Purita Fortificada (LPF) | D55: =IFERROR(VLOOKUP($A55,Filtro!$A18:$U70,2,FALSE),0) -> 0 | E55: =IFERROR(VLOOKUP($A55,Filtro!$A18:$U70,3,FALSE),0) -> 0 | F55: =IFERROR(VLOOKUP($A55,Filtro!$A18:$U70,4,FALSE),0) -> 0 | G55: =IFERROR(VLOOKUP($A55,Filtro!$A18:$U70,5,FALSE),0) -> 0 | H55: =IFERROR(VLOOKUP($A55,Filtro!$A18:$U70,6,FALSE),0) -> 0 | I55: =IFERROR(VLOOKUP($A55,Filtro!$A18:$U70,7,FALSE),0) -> 0 | J55: =IFERROR(VLOOKUP($A55,Filtro!$A18:$U70,8,FALSE),0) -> 0 | K55: =IFERROR(VLOOKUP($A55,Filtro!$A18:$U70,9,FALSE),0) -> 0 | L55: =IFERROR(VLOOKUP($A55,Filtro!$A18:$U70,10,FALSE),0) -> 0 | M55: =IFERROR(VLOOKUP($A55,Filtro!$A18:$U70,11,FALSE),0) -> 0 | N55: =IFERROR(VLOOKUP($A55,Filtro!$A18:$U70,12,FALSE),0) -> 0 | O55: =IFERROR(VLOOKUP($A55,Filtro!$A18:$U70,13,FALSE),0) -> 0 | P55: =IFERROR(VLOOKUP($A55,Filtro!$A18:$U70,14,FALSE),0) -> 0 | Q55: =IFERROR(VLOOKUP($A55,Filtro!$A18:$U70,15,FALSE),0) -> 0 | R55: =IFERROR(VLOOKUP($A55,Filtro!$A18:$U70,16,FALSE),0) -> 0 | S55: =AA55&AB55
A56: 15080018 | C56: Purita +Pro 1 | D56: =IFERROR(VLOOKUP($A56,Filtro!$A19:$U71,2,FALSE),0) -> 563 | E56: =IFERROR(VLOOKUP($A56,Filtro!$A19:$U71,3,FALSE),0) -> 11 | F56: =IFERROR(VLOOKUP($A56,Filtro!$A19:$U71,4,FALSE),0) -> 37 | G56: =IFERROR(VLOOKUP($A56,Filtro!$A19:$U71,5,FALSE),0) -> 155 | H56: =IFERROR(VLOOKUP($A56,Filtro!$A19:$U71,6,FALSE),0) -> 216 | I56: =IFERROR(VLOOKUP($A56,Filtro!$A19:$U71,7,FALSE),0) -> 144 | J56: =IFERROR(VLOOKUP($A56,Filtro!$A19:$U71,8,FALSE),0) -> 0 | K56: =IFERROR(VLOOKUP($A56,Filtro!$A19:$U71,9,FALSE),0) -> 0 | L56: =IFERROR(VLOOKUP($A56,Filtro!$A19:$U71,10,FALSE),0) -> 0 | M56: =IFERROR(VLOOKUP($A56,Filtro!$A19:$U71,11,FALSE),0) -> 0 | N56: =IFERROR(VLOOKUP($A56,Filtro!$A19:$U71,12,FALSE),0) -> 0 | O56: =IFERROR(VLOOKUP($A56,Filtro!$A19:$U71,13,FALSE),0) -> 0 | P56: =IFERROR(VLOOKUP($A56,Filtro!$A19:$U71,14,FALSE),0) -> 0 | Q56: =IFERROR(VLOOKUP($A56,Filtro!$A19:$U71,15,FALSE),0) -> 0 | R56: =IFERROR(VLOOKUP($A56,Filtro!$A19:$U71,16,FALSE),0) -> 0 | S56: =AA56&AB56
A57: 15020200 | C57: Purita Cereal (PC) | D57: =IFERROR(VLOOKUP($A57,Filtro!$A20:$U72,2,FALSE),0) -> 0 | E57: =IFERROR(VLOOKUP($A57,Filtro!$A20:$U72,3,FALSE),0) -> 0 | F57: =IFERROR(VLOOKUP($A57,Filtro!$A20:$U72,4,FALSE),0) -> 0 | G57: =IFERROR(VLOOKUP($A57,Filtro!$A20:$U72,5,FALSE),0) -> 0 | H57: =IFERROR(VLOOKUP($A57,Filtro!$A20:$U72,6,FALSE),0) -> 0 | I57: =IFERROR(VLOOKUP($A57,Filtro!$A20:$U72,7,FALSE),0) -> 0 | J57: =IFERROR(VLOOKUP($A57,Filtro!$A20:$U72,8,FALSE),0) -> 0 | K57: =IFERROR(VLOOKUP($A57,Filtro!$A20:$U72,9,FALSE),0) -> 0 | L57: =IFERROR(VLOOKUP($A57,Filtro!$A20:$U72,10,FALSE),0) -> 0 | M57: =IFERROR(VLOOKUP($A57,Filtro!$A20:$U72,11,FALSE),0) -> 0 | N57: =IFERROR(VLOOKUP($A57,Filtro!$A20:$U72,12,FALSE),0) -> 0 | O57: =IFERROR(VLOOKUP($A57,Filtro!$A20:$U72,13,FALSE),0) -> 0 | P57: =IFERROR(VLOOKUP($A57,Filtro!$A20:$U72,14,FALSE),0) -> 0 | Q57: =IFERROR(VLOOKUP($A57,Filtro!$A20:$U72,15,FALSE),0) -> 0 | R57: =IFERROR(VLOOKUP($A57,Filtro!$A20:$U72,16,FALSE),0) -> 0 | S57: =AA57&AB57
A58: 15080019 | C58: Purita +Pro 2 | D58: =IFERROR(VLOOKUP($A58,Filtro!$A21:$U73,2,FALSE),0) -> 20 | E58: =IFERROR(VLOOKUP($A58,Filtro!$A21:$U73,3,FALSE),0) -> 0 | F58: =IFERROR(VLOOKUP($A58,Filtro!$A21:$U73,4,FALSE),0) -> 0 | G58: =IFERROR(VLOOKUP($A58,Filtro!$A21:$U73,5,FALSE),0) -> 0 | H58: =IFERROR(VLOOKUP($A58,Filtro!$A21:$U73,6,FALSE),0) -> 0 | I58: =IFERROR(VLOOKUP($A58,Filtro!$A21:$U73,7,FALSE),0) -> 0 | J58: =IFERROR(VLOOKUP($A58,Filtro!$A21:$U73,8,FALSE),0) -> 10 | K58: =IFERROR(VLOOKUP($A58,Filtro!$A21:$U73,9,FALSE),0) -> 10 | L58: =IFERROR(VLOOKUP($A58,Filtro!$A21:$U73,10,FALSE),0) -> 0 | M58: =IFERROR(VLOOKUP($A58,Filtro!$A21:$U73,11,FALSE),0) -> 0 | N58: =IFERROR(VLOOKUP($A58,Filtro!$A21:$U73,12,FALSE),0) -> 0 | O58: =IFERROR(VLOOKUP($A58,Filtro!$A21:$U73,13,FALSE),0) -> 0 | P58: =IFERROR(VLOOKUP($A58,Filtro!$A21:$U73,14,FALSE),0) -> 0 | Q58: =IFERROR(VLOOKUP($A58,Filtro!$A21:$U73,15,FALSE),0) -> 0 | R58: =IFERROR(VLOOKUP($A58,Filtro!$A21:$U73,16,FALSE),0) -> 0 | S58: =AA58&AB58
A59: 15080010 | C59: Purita Mamá (PM) | D59: =IFERROR(VLOOKUP($A59,Filtro!$A22:$U74,2,FALSE),0) -> 84 | E59: =IFERROR(VLOOKUP($A59,Filtro!$A22:$U74,3,FALSE),0) -> 0 | F59: =IFERROR(VLOOKUP($A59,Filtro!$A22:$U74,4,FALSE),0) -> 0 | G59: =IFERROR(VLOOKUP($A59,Filtro!$A22:$U74,5,FALSE),0) -> 0 | H59: =IFERROR(VLOOKUP($A59,Filtro!$A22:$U74,6,FALSE),0) -> 0 | I59: =IFERROR(VLOOKUP($A59,Filtro!$A22:$U74,7,FALSE),0) -> 0 | J59: =IFERROR(VLOOKUP($A59,Filtro!$A22:$U74,8,FALSE),0) -> 0 | K59: =IFERROR(VLOOKUP($A59,Filtro!$A22:$U74,9,FALSE),0) -> 0 | L59: =IFERROR(VLOOKUP($A59,Filtro!$A22:$U74,10,FALSE),0) -> 23 | M59: =IFERROR(VLOOKUP($A59,Filtro!$A22:$U74,11,FALSE),0) -> 0 | N59: =IFERROR(VLOOKUP($A59,Filtro!$A22:$U74,12,FALSE),0) -> 44 | O59: =IFERROR(VLOOKUP($A59,Filtro!$A22:$U74,13,FALSE),0) -> 14 | P59: =IFERROR(VLOOKUP($A59,Filtro!$A22:$U74,14,FALSE),0) -> 3 | Q59: =IFERROR(VLOOKUP($A59,Filtro!$A22:$U74,15,FALSE),0) -> 0 | R59: =IFERROR(VLOOKUP($A59,Filtro!$A22:$U74,16,FALSE),0) -> 0 | S59: =AA59&AB59 | AB59: =IF(AND(SUM(L55,L56,L59)<>0,N84=""),"* No olvide ingresar el Nº de personas que retiran alimento de la sección D en el grupo de Gestantes Normal, Sobrepeso y Obesas.","") | AC59: =IF(AND(SUM(N56,N55,N59)<>0,P84=""),"* No olvide ingresar el Nº de personas que retiran alimento de la sección D en el grupo de Madre con hijo/a menor a 6 meses con Lactancia materna exclusiva.","") | AD59: =IF(AND(SUM(O57,O56,O59)<>0,Q84=""),"* No olvide ingresar el Nº de personas que retiran alimento de la sección D en el grupo de Madre con hijo/a menor a 6 meses con Lactancia materna predominante.","") | AE59: =IF(AND(SUM(P57,P56,P59)<>0,R84=""),"No olvide ingresar el Nº de personas que retiran alimento de la sección D en el grupo de Madre con hijo/a menor a 6 meses con Fórmula predominantes o exclusiva.","")
A60: 15900070 | C60: Fórmula de Inicio (FI) | D60: =IFERROR(VLOOKUP($A60,Filtro!$A23:$U75,2,FALSE),0) -> 0 | E60: =IFERROR(VLOOKUP($A60,Filtro!$A23:$U75,3,FALSE),0) -> 0 | F60: =IFERROR(VLOOKUP($A60,Filtro!$A23:$U75,4,FALSE),0) -> 0 | G60: =IFERROR(VLOOKUP($A60,Filtro!$A23:$U75,5,FALSE),0) -> 0 | H60: =IFERROR(VLOOKUP($A60,Filtro!$A23:$U75,6,FALSE),0) -> 0 | I60: =IFERROR(VLOOKUP($A60,Filtro!$A23:$U75,7,FALSE),0) -> 0 | J60: =IFERROR(VLOOKUP($A60,Filtro!$A23:$U75,8,FALSE),0) -> 0 | K60: =IFERROR(VLOOKUP($A60,Filtro!$A23:$U75,9,FALSE),0) -> 0 | L60: =IFERROR(VLOOKUP($A60,Filtro!$A23:$U75,10,FALSE),0) -> 0 | M60: =IFERROR(VLOOKUP($A60,Filtro!$A23:$U75,11,FALSE),0) -> 0 | N60: =IFERROR(VLOOKUP($A60,Filtro!$A23:$U75,12,FALSE),0) -> 0 | O60: =IFERROR(VLOOKUP($A60,Filtro!$A23:$U75,13,FALSE),0) -> 0 | P60: =IFERROR(VLOOKUP($A60,Filtro!$A23:$U75,14,FALSE),0) -> 0 | Q60: =IFERROR(VLOOKUP($A60,Filtro!$A23:$U75,15,FALSE),0) -> 0 | R60: =IFERROR(VLOOKUP($A60,Filtro!$A23:$U75,16,FALSE),0) -> 0 | S60: =AA60&AB60
C61: Subtotal | D61: =SUM(E61:P61) -> 667 | E61: =SUM(E55:E60) -> 11 | F61: =SUM(F55:F60) -> 37 | G61: =SUM(G55:G60) -> 155 | H61: =SUM(H55:H56) -> 216 | I61: =SUM(I55:I57) -> 144 | J61: =SUM(J55:J58) -> 10 | K61: =SUM(K55:K58) -> 10 | L61: =SUM(L55:L60) -> 23 | M61: =SUM(M55:M56) -> 0 | N61: =SUM(N55:N60) -> 44 | O61: =SUM(O55:O60) -> 14 | P61: =SUM(P55:P60) -> 3
A62: 15020300 | B62: Refuerzo | C62: Leche Purita Fortificada (LPF) | D62: =IFERROR(VLOOKUP($A62,Filtro!$A5:$U57,2,FALSE),0) -> 2 | E62: =IFERROR(VLOOKUP($A62,Filtro!$A5:$U57,3,FALSE),0) -> 0 | F62: =IFERROR(VLOOKUP($A62,Filtro!$A5:$U57,4,FALSE),0) -> 0 | G62: =IFERROR(VLOOKUP($A62,Filtro!$A5:$U57,5,FALSE),0) -> 0 | H62: =IFERROR(VLOOKUP($A62,Filtro!$A5:$U57,6,FALSE),0) -> 0 | I62: =IFERROR(VLOOKUP($A62,Filtro!$A5:$U57,7,FALSE),0) -> 2 | J62: =IFERROR(VLOOKUP($A62,Filtro!$A5:$U57,8,FALSE),0) -> 0 | K62: =IFERROR(VLOOKUP($A62,Filtro!$A5:$U57,9,FALSE),0) -> 0 | L62: =IFERROR(VLOOKUP($A62,Filtro!$A5:$U57,10,FALSE),0) -> 0 | M62: =IFERROR(VLOOKUP($A62,Filtro!$A5:$U57,11,FALSE),0) -> 0 | N62: =IFERROR(VLOOKUP($A62,Filtro!$A5:$U57,12,FALSE),0) -> 0 | O62: =IFERROR(VLOOKUP($A62,Filtro!$A5:$U57,13,FALSE),0) -> 0 | P62: =IFERROR(VLOOKUP($A62,Filtro!$A5:$U57,14,FALSE),0) -> 0
A63: 15080020 | C63: Purita +Pro 1 | D63: =IFERROR(VLOOKUP($A63,Filtro!$A6:$U58,2,FALSE),0) -> 0 | E63: =IFERROR(VLOOKUP($A63,Filtro!$A6:$U58,3,FALSE),0) -> 0 | F63: =IFERROR(VLOOKUP($A63,Filtro!$A6:$U58,4,FALSE),0) -> 0 | G63: =IFERROR(VLOOKUP($A63,Filtro!$A6:$U58,5,FALSE),0) -> 0 | H63: =IFERROR(VLOOKUP($A63,Filtro!$A6:$U58,6,FALSE),0) -> 0 | I63: =IFERROR(VLOOKUP($A63,Filtro!$A6:$U58,7,FALSE),0) -> 0 | J63: =IFERROR(VLOOKUP($A63,Filtro!$A6:$U58,8,FALSE),0) -> 0 | K63: =IFERROR(VLOOKUP($A63,Filtro!$A6:$U58,9,FALSE),0) -> 0 | L63: =IFERROR(VLOOKUP($A63,Filtro!$A6:$U58,10,FALSE),0) -> 0 | M63: =IFERROR(VLOOKUP($A63,Filtro!$A6:$U58,11,FALSE),0) -> 0 | N63: =IFERROR(VLOOKUP($A63,Filtro!$A6:$U58,12,FALSE),0) -> 0 | O63: =IFERROR(VLOOKUP($A63,Filtro!$A6:$U58,13,FALSE),0) -> 0 | P63: =IFERROR(VLOOKUP($A63,Filtro!$A6:$U58,14,FALSE),0) -> 0
A64: 15020400 | C64: Purita Cereal (PC) | D64: =IFERROR(VLOOKUP($A64,Filtro!$A7:$U59,2,FALSE),0) -> 26 | E64: =IFERROR(VLOOKUP($A64,Filtro!$A7:$U59,3,FALSE),0) -> 0 | F64: =IFERROR(VLOOKUP($A64,Filtro!$A7:$U59,4,FALSE),0) -> 0 | G64: =IFERROR(VLOOKUP($A64,Filtro!$A7:$U59,5,FALSE),0) -> 0 | H64: =IFERROR(VLOOKUP($A64,Filtro!$A7:$U59,6,FALSE),0) -> 0 | I64: =IFERROR(VLOOKUP($A64,Filtro!$A7:$U59,7,FALSE),0) -> 0 | J64: =IFERROR(VLOOKUP($A64,Filtro!$A7:$U59,8,FALSE),0) -> 20 | K64: =IFERROR(VLOOKUP($A64,Filtro!$A7:$U59,9,FALSE),0) -> 6 | L64: =IFERROR(VLOOKUP($A64,Filtro!$A7:$U59,10,FALSE),0) -> 0 | M64: =IFERROR(VLOOKUP($A64,Filtro!$A7:$U59,11,FALSE),0) -> 0 | N64: =IFERROR(VLOOKUP($A64,Filtro!$A7:$U59,12,FALSE),0) -> 0 | O64: =IFERROR(VLOOKUP($A64,Filtro!$A7:$U59,13,FALSE),0) -> 0 | P64: =IFERROR(VLOOKUP($A64,Filtro!$A7:$U59,14,FALSE),0) -> 0
A65: 15080021 | C65: Purita +Pro 2 | D65: =IFERROR(VLOOKUP($A65,Filtro!$A8:$U60,2,FALSE),0) -> 0 | E65: =IFERROR(VLOOKUP($A65,Filtro!$A8:$U60,3,FALSE),0) -> 0 | F65: =IFERROR(VLOOKUP($A65,Filtro!$A8:$U60,4,FALSE),0) -> 0 | G65: =IFERROR(VLOOKUP($A65,Filtro!$A8:$U60,5,FALSE),0) -> 0 | H65: =IFERROR(VLOOKUP($A65,Filtro!$A8:$U60,6,FALSE),0) -> 0 | I65: =IFERROR(VLOOKUP($A65,Filtro!$A8:$U60,7,FALSE),0) -> 0 | J65: =IFERROR(VLOOKUP($A65,Filtro!$A8:$U60,8,FALSE),0) -> 0 | K65: =IFERROR(VLOOKUP($A65,Filtro!$A8:$U60,9,FALSE),0) -> 0 | L65: =IFERROR(VLOOKUP($A65,Filtro!$A8:$U60,10,FALSE),0) -> 0 | M65: =IFERROR(VLOOKUP($A65,Filtro!$A8:$U60,11,FALSE),0) -> 0 | N65: =IFERROR(VLOOKUP($A65,Filtro!$A8:$U60,12,FALSE),0) -> 0 | O65: =IFERROR(VLOOKUP($A65,Filtro!$A8:$U60,13,FALSE),0) -> 0 | P65: =IFERROR(VLOOKUP($A65,Filtro!$A8:$U60,14,FALSE),0) -> 0
A66: 15020500 | C66: Mi Sopita (MS) | D66: =IFERROR(VLOOKUP($A66,Filtro!$A9:$U61,2,FALSE),0) -> 16 | E66: =IFERROR(VLOOKUP($A66,Filtro!$A9:$U61,3,FALSE),0) -> 0 | F66: =IFERROR(VLOOKUP($A66,Filtro!$A9:$U61,4,FALSE),0) -> 0 | G66: =IFERROR(VLOOKUP($A66,Filtro!$A9:$U61,5,FALSE),0) -> 0 | H66: =IFERROR(VLOOKUP($A66,Filtro!$A9:$U61,6,FALSE),0) -> 0 | I66: =IFERROR(VLOOKUP($A66,Filtro!$A9:$U61,7,FALSE),0) -> 0 | J66: =IFERROR(VLOOKUP($A66,Filtro!$A9:$U61,8,FALSE),0) -> 14 | K66: =IFERROR(VLOOKUP($A66,Filtro!$A9:$U61,9,FALSE),0) -> 2 | L66: =IFERROR(VLOOKUP($A66,Filtro!$A9:$U61,10,FALSE),0) -> 0 | M66: =IFERROR(VLOOKUP($A66,Filtro!$A9:$U61,11,FALSE),0) -> 0 | N66: =IFERROR(VLOOKUP($A66,Filtro!$A9:$U61,12,FALSE),0) -> 0 | O66: =IFERROR(VLOOKUP($A66,Filtro!$A9:$U61,13,FALSE),0) -> 0 | P66: =IFERROR(VLOOKUP($A66,Filtro!$A9:$U61,14,FALSE),0) -> 0
A67: 15080011 | C67: Purita Mamá (PM) | D67: =IFERROR(VLOOKUP($A67,Filtro!$A10:$U62,2,FALSE),0) -> 1 | E67: =IFERROR(VLOOKUP($A67,Filtro!$A10:$U62,3,FALSE),0) -> 0 | F67: =IFERROR(VLOOKUP($A67,Filtro!$A10:$U62,4,FALSE),0) -> 0 | G67: =IFERROR(VLOOKUP($A67,Filtro!$A10:$U62,5,FALSE),0) -> 0 | H67: =IFERROR(VLOOKUP($A67,Filtro!$A10:$U62,6,FALSE),0) -> 0 | I67: =IFERROR(VLOOKUP($A67,Filtro!$A10:$U62,7,FALSE),0) -> 0 | J67: =IFERROR(VLOOKUP($A67,Filtro!$A10:$U62,8,FALSE),0) -> 0 | K67: =IFERROR(VLOOKUP($A67,Filtro!$A10:$U62,9,FALSE),0) -> 0 | L67: =IFERROR(VLOOKUP($A67,Filtro!$A10:$U62,10,FALSE),0) -> 0 | M67: =IFERROR(VLOOKUP($A67,Filtro!$A10:$U62,11,FALSE),0) -> 1 | N67: =IFERROR(VLOOKUP($A67,Filtro!$A10:$U62,12,FALSE),0) -> 0 | O67: =IFERROR(VLOOKUP($A67,Filtro!$A10:$U62,13,FALSE),0) -> 0 | P67: =IFERROR(VLOOKUP($A67,Filtro!$A10:$U62,14,FALSE),0) -> 0
A68: 15900080 | C68: Fórmula de Inicio (FI) | D68: =IFERROR(VLOOKUP($A68,Filtro!$A11:$U63,2,FALSE),0) -> 0 | E68: =IFERROR(VLOOKUP($A68,Filtro!$A11:$U63,3,FALSE),0) -> 0 | F68: =IFERROR(VLOOKUP($A68,Filtro!$A11:$U63,4,FALSE),0) -> 0 | G68: =IFERROR(VLOOKUP($A68,Filtro!$A11:$U63,5,FALSE),0) -> 0 | H68: =IFERROR(VLOOKUP($A68,Filtro!$A11:$U63,6,FALSE),0) -> 0 | I68: =IFERROR(VLOOKUP($A68,Filtro!$A11:$U63,7,FALSE),0) -> 0 | J68: =IFERROR(VLOOKUP($A68,Filtro!$A11:$U63,8,FALSE),0) -> 0 | K68: =IFERROR(VLOOKUP($A68,Filtro!$A11:$U63,9,FALSE),0) -> 0 | L68: =IFERROR(VLOOKUP($A68,Filtro!$A11:$U63,10,FALSE),0) -> 0 | M68: =IFERROR(VLOOKUP($A68,Filtro!$A11:$U63,11,FALSE),0) -> 0 | N68: =IFERROR(VLOOKUP($A68,Filtro!$A11:$U63,12,FALSE),0) -> 0 | O68: =IFERROR(VLOOKUP($A68,Filtro!$A11:$U63,13,FALSE),0) -> 0 | P68: =IFERROR(VLOOKUP($A68,Filtro!$A11:$U63,14,FALSE),0) -> 0
C69: Subtotal | D69: =SUM(E69:P69) -> 45 | E69: =SUM(E62:E68) -> 0 | F69: =SUM(F62:F68) -> 0 | G69: =SUM(G62:G68) -> 0 | H69: =SUM(H62:H66) -> 0 | I69: =SUM(I62:I66) -> 2 | J69: =SUM(J62:J66) -> 34 | K69: =SUM(K62:K66) -> 8 | L69: =SUM(L62:L63) -> 0 | M69: =SUM(M62:M68) -> 1 | N69: =SUM(N62:N68) -> 0 | O69: =SUM(O62:O68) -> 0 | P69: =SUM(P62:P68) -> 0
A70: 15040100 | B70: Prematuros | C70: Fórmula de Prematuros (FP) | D70: =IFERROR(VLOOKUP($A70,Filtro!$A13:$U65,2,FALSE),0) -> 55.2 | E70: =IFERROR(VLOOKUP($A70,Filtro!$A13:$U65,3,FALSE),0) -> 30.8 | F70: =IFERROR(VLOOKUP($A70,Filtro!$A13:$U65,4,FALSE),0) -> 24.4 | G70: =IFERROR(VLOOKUP($A70,Filtro!$A13:$U65,5,FALSE),0) -> 0 | H70: =IFERROR(VLOOKUP($A70,Filtro!$A13:$U65,6,FALSE),0) -> 0 | I70: =IFERROR(VLOOKUP($A70,Filtro!$A13:$U65,7,FALSE),0) -> 0 | J70: =IFERROR(VLOOKUP($A70,Filtro!$A13:$U65,8,FALSE),0) -> 0 | K70: =IFERROR(VLOOKUP($A70,Filtro!$A13:$U65,9,FALSE),0) -> 0 | L70: =IFERROR(VLOOKUP($A70,Filtro!$A13:$U65,10,FALSE),0) -> 0 | M70: =IFERROR(VLOOKUP($A70,Filtro!$A13:$U65,11,FALSE),0) -> 0 | N70: =IFERROR(VLOOKUP($A70,Filtro!$A13:$U65,12,FALSE),0) -> 0 | O70: =IFERROR(VLOOKUP($A70,Filtro!$A13:$U65,13,FALSE),0) -> 0 | P70: =IFERROR(VLOOKUP($A70,Filtro!$A13:$U65,14,FALSE),0) -> 0
A71: 15901600 | C71: Fórmula de Incio (FI) | D71: =IFERROR(VLOOKUP($A71,Filtro!$A14:$U66,2,FALSE),0) -> 0 | E71: =IFERROR(VLOOKUP($A71,Filtro!$A14:$U66,3,FALSE),0) -> 0 | F71: =IFERROR(VLOOKUP($A71,Filtro!$A14:$U66,4,FALSE),0) -> 0 | G71: =IFERROR(VLOOKUP($A71,Filtro!$A14:$U66,5,FALSE),0) -> 0 | H71: =IFERROR(VLOOKUP($A71,Filtro!$A14:$U66,6,FALSE),0) -> 0 | I71: =IFERROR(VLOOKUP($A71,Filtro!$A14:$U66,7,FALSE),0) -> 0 | J71: =IFERROR(VLOOKUP($A71,Filtro!$A14:$U66,8,FALSE),0) -> 0 | K71: =IFERROR(VLOOKUP($A71,Filtro!$A14:$U66,9,FALSE),0) -> 0 | L71: =IFERROR(VLOOKUP($A71,Filtro!$A14:$U66,10,FALSE),0) -> 0 | M71: =IFERROR(VLOOKUP($A71,Filtro!$A14:$U66,11,FALSE),0) -> 0 | N71: =IFERROR(VLOOKUP($A71,Filtro!$A14:$U66,12,FALSE),0) -> 0 | O71: =IFERROR(VLOOKUP($A71,Filtro!$A14:$U66,13,FALSE),0) -> 0 | P71: =IFERROR(VLOOKUP($A71,Filtro!$A14:$U66,14,FALSE),0) -> 0
A72: 15080013 | C72: Mi Sopita (MS) | D72: =IFERROR(VLOOKUP($A72,Filtro!$A15:$U67,2,FALSE),0) -> 0 | E72: =IFERROR(VLOOKUP($A72,Filtro!$A15:$U67,3,FALSE),0) -> 0 | F72: =IFERROR(VLOOKUP($A72,Filtro!$A15:$U67,4,FALSE),0) -> 0 | G72: =IFERROR(VLOOKUP($A72,Filtro!$A15:$U67,5,FALSE),0) -> 0 | H72: =IFERROR(VLOOKUP($A72,Filtro!$A15:$U67,6,FALSE),0) -> 0 | I72: =IFERROR(VLOOKUP($A72,Filtro!$A15:$U67,7,FALSE),0) -> 0 | J72: =IFERROR(VLOOKUP($A72,Filtro!$A15:$U67,8,FALSE),0) -> 0 | K72: =IFERROR(VLOOKUP($A72,Filtro!$A15:$U67,9,FALSE),0) -> 0 | L72: =IFERROR(VLOOKUP($A72,Filtro!$A15:$U67,10,FALSE),0) -> 0 | M72: =IFERROR(VLOOKUP($A72,Filtro!$A15:$U67,11,FALSE),0) -> 0 | N72: =IFERROR(VLOOKUP($A72,Filtro!$A15:$U67,12,FALSE),0) -> 0 | O72: =IFERROR(VLOOKUP($A72,Filtro!$A15:$U67,13,FALSE),0) -> 0 | P72: =IFERROR(VLOOKUP($A72,Filtro!$A15:$U67,14,FALSE),0) -> 0
C73: Subtotal | D73: =SUM(E73:P73) -> 55.2 | E73: =SUM(E70:E72) -> 30.8 | F73: =SUM(F70:F72) -> 24.4 | G73: =SUM(G70:G72) -> 0
A74: 15901200 | B74: Alergia a la proteína de la leche de vaca | C74: Fórmula Extensamente Hidrolizada (FEH) | D74: =IFERROR(VLOOKUP($A74,Filtro!$A17:$U69,2,FALSE),0) -> 922.4 | E74: =IFERROR(VLOOKUP($A74,Filtro!$A17:$U69,3,FALSE),0) -> 42.8 | F74: =IFERROR(VLOOKUP($A74,Filtro!$A17:$U69,4,FALSE),0) -> 94 | G74: =IFERROR(VLOOKUP($A74,Filtro!$A17:$U69,5,FALSE),0) -> 386.4 | H74: =IFERROR(VLOOKUP($A74,Filtro!$A17:$U69,6,FALSE),0) -> 262.8 | I74: =IFERROR(VLOOKUP($A74,Filtro!$A17:$U69,7,FALSE),0) -> 136.4 | J74: =IFERROR(VLOOKUP($A74,Filtro!$A17:$U69,8,FALSE),0) -> 0 | K74: =IFERROR(VLOOKUP($A74,Filtro!$A17:$U69,9,FALSE),0) -> 0 | L74: =IFERROR(VLOOKUP($A74,Filtro!$A17:$U69,10,FALSE),0) -> 0 | M74: =IFERROR(VLOOKUP($A74,Filtro!$A17:$U69,11,FALSE),0) -> 0 | N74: =IFERROR(VLOOKUP($A74,Filtro!$A17:$U69,12,FALSE),0) -> 0 | O74: =IFERROR(VLOOKUP($A74,Filtro!$A17:$U69,13,FALSE),0) -> 0 | P74: =IFERROR(VLOOKUP($A74,Filtro!$A17:$U69,14,FALSE),0) -> 0
A75: 15901300 | C75: Fórmula Aminoacídica (FAA) | D75: =IFERROR(VLOOKUP($A75,Filtro!$A18:$U70,2,FALSE),0) -> 493.2 | E75: =IFERROR(VLOOKUP($A75,Filtro!$A18:$U70,3,FALSE),0) -> 16.8 | F75: =IFERROR(VLOOKUP($A75,Filtro!$A18:$U70,4,FALSE),0) -> 54.4 | G75: =IFERROR(VLOOKUP($A75,Filtro!$A18:$U70,5,FALSE),0) -> 249.2 | H75: =IFERROR(VLOOKUP($A75,Filtro!$A18:$U70,6,FALSE),0) -> 88.4 | I75: =IFERROR(VLOOKUP($A75,Filtro!$A18:$U70,7,FALSE),0) -> 79.6 | J75: =IFERROR(VLOOKUP($A75,Filtro!$A18:$U70,8,FALSE),0) -> 4.8 | K75: =IFERROR(VLOOKUP($A75,Filtro!$A18:$U70,9,FALSE),0) -> 0 | L75: =IFERROR(VLOOKUP($A75,Filtro!$A18:$U70,10,FALSE),0) -> 0 | M75: =IFERROR(VLOOKUP($A75,Filtro!$A18:$U70,11,FALSE),0) -> 0 | N75: =IFERROR(VLOOKUP($A75,Filtro!$A18:$U70,12,FALSE),0) -> 0 | O75: =IFERROR(VLOOKUP($A75,Filtro!$A18:$U70,13,FALSE),0) -> 0 | P75: =IFERROR(VLOOKUP($A75,Filtro!$A18:$U70,14,FALSE),0) -> 0
C76: Subtotal | D76: =SUM(E76:P76) -> 1415.6 | E76: =SUM(E74:E75) -> 59.6 | F76: =SUM(F74:F75) -> 148.4 | G76: =SUM(G74:G75) -> 635.6 | H76: =SUM(H74:H75) -> 351.2 | I76: =SUM(I74:I75) -> 216 | J76: =SUM(J74:J75) -> 4.8 | K76: =SUM(K74:K75) -> 0
B77: Total | D77: =SUM(E77:P77) -> 2182.8 | E77: =+E61+E69+E73+E76 -> 101.4 | F77: =+F61+F69+F73+F76 -> 209.8 | G77: =+G61+G69+G73+G76 -> 790.6 | H77: =+H61+H69+H73+H76 -> 567.2 | I77: =+I61+I69+I73+I76 -> 362 | J77: =+J61+J69+J73+J76 -> 48.8 | K77: =+K61+K69+K73+K76 -> 18 | L77: =+L61+L69+L73+L76 -> 23 | ... P77: =+P61+P69+P73+P76 -> 3
B79: Sección D: PNAC - Número de personas extrasistema que retiran
B80: Subprogramas | D80: Total | E80: Hombres | F80: Mujeres | G80: Menores a 6 años | N80: Gestantes | P80: Persona que amamanta a hijo/a menor a 12 meses
G81: 0 - 2 meses | H81: 3 - 5 meses | I81: 6 - 11 meses | J81: 12 - 17 meses | K81: 18 - 23 meses | L81: 24 - 47 meses | M81: 48 - 71 meses | N81: Normal, sobrepeso y obesas | O81: Bajo peso | P81: 0 a 5 meses con Lactancia Materna exclusiva | Q81: 0 a 5 meses Lactancia Materna + Fórmula Láctea | R81: 6 a 11 meses Lactancia Materna
A84: 15060100 | B84: Básico | D84: =SUM(G84:R84) -> 1333 | E84: =IFERROR(VLOOKUP($A84,Filtro!$A5:$U57,3,FALSE),0) -> 611 | F84: =IFERROR(VLOOKUP($A84,Filtro!$A5:$U57,4,FALSE),0) -> 731 | G84: =IFERROR(VLOOKUP($A84,Filtro!$A5:$U57,5,FALSE),0) -> 13 | H84: =IFERROR(VLOOKUP($A84,Filtro!$A5:$U57,6,FALSE),0) -> 43 | I84: =IFERROR(VLOOKUP($A84,Filtro!$A5:$U57,7,FALSE),0) -> 152 | J84: =IFERROR(VLOOKUP($A84,Filtro!$A5:$U57,8,FALSE),0) -> 273 | K84: =IFERROR(VLOOKUP($A84,Filtro!$A5:$U57,9,FALSE),0) -> 158 | L84: =IFERROR(VLOOKUP($A84,Filtro!$A5:$U57,10,FALSE),0) -> 357 | M84: =IFERROR(VLOOKUP($A84,Filtro!$A5:$U57,11,FALSE),0) -> 271 | N84: =IFERROR(VLOOKUP($A84,Filtro!$A5:$U57,12,FALSE),0) -> 26 | O84: =IFERROR(VLOOKUP($A84,Filtro!$A5:$U57,13,FALSE),0) -> 0 | P84: =IFERROR(VLOOKUP($A84,Filtro!$A5:$U57,14,FALSE),0) -> 23 | Q84: =IFERROR(VLOOKUP($A84,Filtro!$A5:$U57,15,FALSE),0) -> 14 | R84: =IFERROR(VLOOKUP($A84,Filtro!$A5:$U57,16,FALSE),0) -> 3 | S84: =AA84&AB84 | AA84: =IF(AF84=1,"* La suma del Total según grupo etario, gestantes y Personas que amamantan no pueden superar al Total por Sexo. ","") | AF84: =IF(SUM(E84:F84)<SUM(G84:M84,N84,P84:R84),1,0) -> 0
A85: 15060200 | B85: Refuerzo | D85: =SUM(G85:R85) -> 10 | E85: =IFERROR(VLOOKUP($A85,Filtro!$A6:$U58,3,FALSE),0) -> 6 | F85: =IFERROR(VLOOKUP($A85,Filtro!$A6:$U58,4,FALSE),0) -> 6 | G85: =IFERROR(VLOOKUP($A85,Filtro!$A6:$U58,5,FALSE),0) -> 0 | H85: =IFERROR(VLOOKUP($A85,Filtro!$A6:$U58,6,FALSE),0) -> 0 | I85: =IFERROR(VLOOKUP($A85,Filtro!$A6:$U58,7,FALSE),0) -> 0 | J85: =IFERROR(VLOOKUP($A85,Filtro!$A6:$U58,8,FALSE),0) -> 0 | K85: =IFERROR(VLOOKUP($A85,Filtro!$A6:$U58,9,FALSE),0) -> 1 | L85: =IFERROR(VLOOKUP($A85,Filtro!$A6:$U58,10,FALSE),0) -> 7 | M85: =IFERROR(VLOOKUP($A85,Filtro!$A6:$U58,11,FALSE),0) -> 2 | N85: =IFERROR(VLOOKUP($A85,Filtro!$A6:$U58,12,FALSE),0) -> 0 | O85: =IFERROR(VLOOKUP($A85,Filtro!$A6:$U58,13,FALSE),0) -> 0 | P85: =IFERROR(VLOOKUP($A85,Filtro!$A6:$U58,14,FALSE),0) -> 0 | Q85: =IFERROR(VLOOKUP($A85,Filtro!$A6:$U58,15,FALSE),0) -> 0 | R85: =IFERROR(VLOOKUP($A85,Filtro!$A6:$U58,16,FALSE),0) -> 0 | S85: =AA85&AB85 | AA85: =IF(AF85=1,"* La suma del Total según grupo etario, gestantes y Personas que amamantan no pueden superar al Total por Sexo. ","") | AF85: =IF(D85<SUM(G85:M85,O85:R85),1,0) -> 0
A86: 15060600 | B86: Prematuros | D86: =SUM(G86:I86) -> 14 | E86: =IFERROR(VLOOKUP($A86,Filtro!$A7:$U59,3,FALSE),0) -> 6 | F86: =IFERROR(VLOOKUP($A86,Filtro!$A7:$U59,4,FALSE),0) -> 8 | G86: =IFERROR(VLOOKUP($A86,Filtro!$A7:$U59,5,FALSE),0) -> 8 | H86: =IFERROR(VLOOKUP($A86,Filtro!$A7:$U59,6,FALSE),0) -> 6 | I86: =IFERROR(VLOOKUP($A86,Filtro!$A7:$U59,7,FALSE),0) -> 0 | J86: =IFERROR(VLOOKUP($A86,Filtro!$A7:$U59,8,FALSE),0) -> 0 | K86: =IFERROR(VLOOKUP($A86,Filtro!$A7:$U59,9,FALSE),0) -> 0 | L86: =IFERROR(VLOOKUP($A86,Filtro!$A7:$U59,10,FALSE),0) -> 0 | M86: =IFERROR(VLOOKUP($A86,Filtro!$A7:$U59,11,FALSE),0) -> 0 | N86: =IFERROR(VLOOKUP($A86,Filtro!$A7:$U59,12,FALSE),0) -> 0 | O86: =IFERROR(VLOOKUP($A86,Filtro!$A7:$U59,13,FALSE),0) -> 0 | P86: =IFERROR(VLOOKUP($A86,Filtro!$A7:$U59,14,FALSE),0) -> 0 | Q86: =IFERROR(VLOOKUP($A86,Filtro!$A7:$U59,15,FALSE),0) -> 0 | R86: =IFERROR(VLOOKUP($A86,Filtro!$A7:$U59,16,FALSE),0) -> 0 | S86: =AA86&AB86 | AA86: =IF(AF86=1,"* El Total según grupo etario no puede superar al Total por Sexo. ","") | AF86: =IF(D86<SUM(G86:M86),1,0) -> 0
A87: 15901400 | B87: Alergia a la Proteína de la leche de vaca | D87: =SUM(G87:M87) -> 402 | E87: =IFERROR(VLOOKUP($A87,Filtro!$A8:$U60,3,FALSE),0) -> 240 | F87: =IFERROR(VLOOKUP($A87,Filtro!$A8:$U60,4,FALSE),0) -> 154 | G87: =IFERROR(VLOOKUP($A87,Filtro!$A8:$U60,5,FALSE),0) -> 19 | H87: =IFERROR(VLOOKUP($A87,Filtro!$A8:$U60,6,FALSE),0) -> 42 | I87: =IFERROR(VLOOKUP($A87,Filtro!$A8:$U60,7,FALSE),0) -> 176 | J87: =IFERROR(VLOOKUP($A87,Filtro!$A8:$U60,8,FALSE),0) -> 102 | K87: =IFERROR(VLOOKUP($A87,Filtro!$A8:$U60,9,FALSE),0) -> 62 | L87: =IFERROR(VLOOKUP($A87,Filtro!$A8:$U60,10,FALSE),0) -> 1 | M87: =IFERROR(VLOOKUP($A87,Filtro!$A8:$U60,11,FALSE),0) -> 0 | N87: =IFERROR(VLOOKUP($A87,Filtro!$A8:$U60,12,FALSE),0) -> 0 | O87: =IFERROR(VLOOKUP($A87,Filtro!$A8:$U60,13,FALSE),0) -> 0 | P87: =IFERROR(VLOOKUP($A87,Filtro!$A8:$U60,14,FALSE),0) -> 0 | Q87: =IFERROR(VLOOKUP($A87,Filtro!$A8:$U60,15,FALSE),0) -> 0 | R87: =IFERROR(VLOOKUP($A87,Filtro!$A8:$U60,16,FALSE),0) -> 0 | S87: =AA87&AB87 | AA87: =IF(AF87=1,"* El Total según grupo etario no puede superar al Total por Sexo. ","") | AF87: =IF(D87<SUM(G87:M87),1,0) -> 0
B88: Total | D88: =SUM(E88:F88) -> 1762 | E88: =SUM(E84:E87) -> 863 | F88: =SUM(F84:F87) -> 899 | G88: =SUM(G84:G87) -> 40 | H88: =SUM(H84:H87) -> 91 | I88: =SUM(I84:I87) -> 328 | J88: =SUM(J84:J87) -> 375 | K88: =SUM(K84:K87) -> 221 | L88: =SUM(L84:L87) -> 365 | M88: =SUM(M84:M87) -> 273 | N88: =SUM(N84) -> 26 | O88: =SUM(O85) -> 0 | P88: =SUM(P84:P85) -> 23 | Q88: =SUM(Q84:Q85) -> 14 | R88: =SUM(R84:R85) -> 3
A89: 15900090 | B89: Programas Sociales (*) | D89: =SUM(G89:R89) -> 0 | E89: =IFERROR(VLOOKUP($A89,Filtro!$A10:$U62,3,FALSE),0) -> 0 | F89: =IFERROR(VLOOKUP($A89,Filtro!$A10:$U62,4,FALSE),0) -> 0 | G89: =IFERROR(VLOOKUP($A89,Filtro!$A10:$U62,5,FALSE),0) -> 0 | H89: =IFERROR(VLOOKUP($A89,Filtro!$A10:$U62,6,FALSE),0) -> 0 | I89: =IFERROR(VLOOKUP($A89,Filtro!$A10:$U62,7,FALSE),0) -> 0 | J89: =IFERROR(VLOOKUP($A89,Filtro!$A10:$U62,8,FALSE),0) -> 0 | K89: =IFERROR(VLOOKUP($A89,Filtro!$A10:$U62,9,FALSE),0) -> 0 | L89: =IFERROR(VLOOKUP($A89,Filtro!$A10:$U62,10,FALSE),0) -> 0 | M89: =IFERROR(VLOOKUP($A89,Filtro!$A10:$U62,11,FALSE),0) -> 0 | N89: =IFERROR(VLOOKUP($A89,Filtro!$A10:$U62,12,FALSE),0) -> 0 | O89: =IFERROR(VLOOKUP($A89,Filtro!$A10:$U62,13,FALSE),0) -> 0 | P89: =IFERROR(VLOOKUP($A89,Filtro!$A10:$U62,14,FALSE),0) -> 0 | Q89: =IFERROR(VLOOKUP($A89,Filtro!$A10:$U62,15,FALSE),0) -> 0 | R89: =IFERROR(VLOOKUP($A89,Filtro!$A10:$U62,16,FALSE),0) -> 0 | S89: =AA89&AB89 | AA89: =IF(AF89=1,"* La suma del Total según grupo etario, gestantes y Personas que amamantan no pueden superar al Total por Sexo. ","") | AB89: =IF(AG89=1,"* Compruebe que lo ingresado en Programas Sociales no supere al Total registrado en los subprogramas. ","") | AC89: =IF(AH89=1,"* El Total registrado en Programas Sociales no puede ser mayor al Total registrado en los subprogramas. ","") | AF89: =IF(SUM(E89:F89)<SUM(G89:R89),1,0) -> 0 | AG89: =IF(OR(E89>E88,F89>F88,G89>G88,H89>H88,I89>I88,J89>J88,K89>K88,L89>L88,M89>M88,N89>N88,O89>O88,P89>P88,Q89>Q88,R89>R88),1,0) -> 0 | AH89: =IF(D89>D88,1,0) -> 0
B90: Nota: (*) Información referencial, ya incluida en los subprogramas.
B92: Sección E: Existencia y movimiento total de productos (Intrasistema y Extrasistema)
B93: Productos | D93: Saldo Mes Anterior | E93: Ingresos | G93: Total Disponible | H93: Egresos | O93: Saldo mes siguiente
E94: Proveedor/Operador Logístico | F94: Por traspaso | H94: Distribuido a Población Beneficiaria | K94: Mermas (Incluye faltantes) | L94: Otros (demostraciones, donaciones, etc.) | M94: Traspaso | N94: Total Egresos
H95: Intrasistema | I95: Extrasistema | J95: Total
B96: Leche Purita Fortificada (LPF) | G96: =SUM(D96:F96) -> 0 | H96: =D13+D20 -> 20268 | I96: =+D55+D62 -> 2 | J96: =+H96+I96 -> 20270 | N96: =SUM(J96:M96) -> 20270 | O96: =G96-N96 -> -20270
B97: Purita +Pro 1 | G97: =SUM(D97:F97) -> 0 | H97: =D14+D21 -> 19855 | I97: =+D56+D63 -> 563 | J97: =+H97+I97 -> 20418 | N97: =SUM(J97:M97) -> 20418 | O97: =G97-N97 -> -20418
B98: Purita Cereal (PC) | G98: =SUM(D98:F98) -> 0 | H98: =D15+D22 -> 76814 | I98: =+D57+D64 -> 26 | J98: =+H98+I98 -> 76840 | N98: =SUM(J98:M98) -> 76840 | O98: =G98-N98 -> -76840
B99: Purita +Pro 2 | G99: =SUM(D99:F99) -> 0 | H99: =D16+D23 -> 1339 | I99: =+D58+D65 -> 20 | J99: =+H99+I99 -> 1359 | N99: =SUM(J99:M99) -> 1359 | O99: =G99-N99 -> -1359
B100: Mi Sopita (MS) | G100: =SUM(D100:F100) -> 0 | H100: =D24+D30 -> 12 | I100: =+D66+D72 -> 16 | J100: =+H100+I100 -> 28 | N100: =SUM(J100:M100) -> 28 | O100: =G100-N100 -> -28
B101: Purita Mamá (PM) | G101: =SUM(D101:F101) -> 0 | H101: =+D17+D25 -> 27318 | I101: =+D59+D67 -> 85 | J101: =+H101+I101 -> 27403 | N101: =SUM(J101:M101) -> 27403 | O101: =G101-N101 -> -27403
B102: Fórmula de Inicio (FI) | G102: =SUM(D102:F102) -> 0 | H102: =D18+D26+D29 -> 29221.8 | I102: =+D60+D68+D71 -> 0 | J102: =+H102+I102 -> 29221.8 | N102: =SUM(J102:M102) -> 29221.8 | O102: =G102-N102 -> -29221.8
B103: Fórmula Prematuros | G103: =SUM(D103:F103) -> 0 | H103: =D28 -> 0 | I103: =D70 -> 55.2 | J103: =+H103+I103 -> 55.2 | N103: =SUM(J103:M103) -> 55.2 | O103: =G103-N103 -> -55.2
B104: Fórmula Extensamente Hidrolizada (FEH) | G104: =SUM(D104:F104) -> 0 | H104: =D32 -> 6702 | I104: =D74 -> 922.4 | J104: =+H104+I104 -> 7624.4 | N104: =SUM(J104:M104) -> 7624.4 | O104: =G104-N104 -> -7624.4
B105: Fórmula aminoacídica (FAA) | G105: =SUM(D105:F105) -> 0 | H105: =D33 -> 1356 | I105: =D75 -> 493.2 | J105: =+H105+I105 -> 1849.2 | N105: =SUM(J105:M105) -> 1849.2 | O105: =G105-N105 -> -1849.2
B106: Total (Kg) | D106: =SUM(D96:D105) -> 0 | E106: =SUM(E96:E105) -> 0 | F106: =SUM(F96:F105) -> 0 | G106: =SUM(G96:G105) -> 0 | H106: =SUM(H96:H105) -> 182885.8 | I106: =SUM(I96:I105) -> 2182.8 | J106: =SUM(J96:J105) -> 185068.6 | K106: =SUM(K96:K105) -> 0 | ... O106: =SUM(O96:O105) -> -185068.6
A111: Codigos eliminados
A112: 15030200
A113: 15040200
A115: CODIGOS NUEVOS
A116: 15080014
A117: 15080015
A118: 15080016
...

Sheet D16
B1: SERVICIO DE SALUD
B2: =CONCATENATE("COMUNA: ",[1]NOMBRE!$B$2," ","( ",[1]NOMBRE!$C$2,[1]NOMBRE!$D$2,[1]NOMBRE!$E$2,[1]NOMBRE!$F$2,[1]NOMBRE!$G$2," )") -> COMUNA: 0 ( 00000 )
B3: =CONCATENATE("ESTABLECIMIENTO/ESTRATEGIA: ",[1]NOMBRE!$B$3," ","( ",[1]NOMBRE!$C$3,[1]NOMBRE!$D$3,[1]NOMBRE!$E$3,[1]NOMBRE!$F$3,[1]NOMBRE!$G$3,[1]NOMBRE!$H$3," )") -> ESTABLECIMIENTO/ESTRATEGIA: 0 ( 000000 )
B4: =CONCATENATE("MES: ",[1]NOMBRE!$B$6," ","( ",[1]NOMBRE!$C$6,[1]NOMBRE!$D$6," )") -> MES: 0 ( 00 )
B5: =CONCATENATE("AÑO: ",[1]NOMBRE!$B$7) -> AÑO: 2023
B7: REM-D.16. Programa de Alimentación Complementaria del Adulto Mayor (PACAM)
B9: Sección A: PACAM - Cantidad distribuida (kg)
B10: Grupo Programático | C10: Sopa/Crema | D10: Bebida Láctea
A11: 16090300 | B11: 70 años y más (independiente del motivo de ingreso) | C11: =IFERROR(VLOOKUP($A11,Filtro!$A5:$U57,2,FALSE),0) -> 133580 | D11: =IFERROR(VLOOKUP($A11,Filtro!$A5:$U57,3,FALSE),0) -> 133585 | E11: =$AB11&" "&$AC11 -> La cantidad distribuída de Sopa/Crema es distinta a la cantidad distribuída de Bebida Láctea.- | AB11: =IF(C11<>D11,"La cantidad distribuída de Sopa/Crema es distinta a la cantidad distribuída de Bebida Láctea.- ","") -> La cantidad distribuída de Sopa/Crema es distinta a la cantidad distribuída de Bebida Láctea.-
A12: 16200210 | B12: 65 - 69 años con alteración de la funcionalidad | C12: =IFERROR(VLOOKUP($A12,Filtro!$A6:$U58,2,FALSE),0) -> 9505 | D12: =IFERROR(VLOOKUP($A12,Filtro!$A6:$U58,3,FALSE),0) -> 9506 | E12: =$AB12&" "&$AC12 -> La cantidad distribuída de Sopa/Crema es distinta a la cantidad distribuída de Bebida Láctea.- | AB12: =IF(C12<>D12,"La cantidad distribuída de Sopa/Crema es distinta a la cantidad distribuída de Bebida Láctea.- ","") -> La cantidad distribuída de Sopa/Crema es distinta a la cantidad distribuída de Bebida Láctea.-
A13: 16090500 | B13: 65 - 69 años en programa social (Vínculos, Familia, Calle u otro) | C13: =IFERROR(VLOOKUP($A13,Filtro!$A7:$U59,2,FALSE),0) -> 276 | D13: =IFERROR(VLOOKUP($A13,Filtro!$A7:$U59,3,FALSE),0) -> 276 | E13: =$AB13&" "&$AC13 | AB13: =IF(C13<>D13,"La cantidad distribuída de Sopa/Crema es distinta a la cantidad distribuída de Bebida Láctea.- ","")
A14: 16090600 | B14: 60 - 69 años con tuberculosis | C14: =IFERROR(VLOOKUP($A14,Filtro!$A8:$U60,2,FALSE),0) -> 31 | D14: =IFERROR(VLOOKUP($A14,Filtro!$A8:$U60,3,FALSE),0) -> 31 | E14: =$AB14&" "&$AC14 | AB14: =IF(C14<>D14,"La cantidad distribuída de Sopa/Crema es distinta a la cantidad distribuída de Bebida Láctea.- ","")
A15: 16090100 | B15: 60 - 69 años en ELEAM autorizado o similar | C15: =IFERROR(VLOOKUP($A15,Filtro!$A9:$U61,2,FALSE),0) -> 526 | D15: =IFERROR(VLOOKUP($A15,Filtro!$A9:$U61,3,FALSE),0) -> 526 | E15: =$AB15&" "&$AC15 | AB15: =IF(C15<>D15,"La cantidad distribuída de Sopa/Crema es distinta a la cantidad distribuída de Bebida Láctea.- ","")
B16: TOTAL | C16: =SUM(C11:C15) -> 143918 | D16: =SUM(D11:D15) -> 143924
B18: Sección B: PACAM - Número de personas que retiran
B19: Grupo Programático | C19: Sopa/Crema - Bebida Láctea
C20: Total | D20: Total Hombres | E20: Total Mujeres
A21: 16100300 | B21: 70 años y más (independiente del motivo de ingreso | C21: =IFERROR(VLOOKUP($A21,Filtro!$A5:$U57,2,FALSE),0) -> 133649 | D21: =IFERROR(VLOOKUP($A21,Filtro!$A5:$U57,3,FALSE),0) -> 56730 | E21: =IFERROR(VLOOKUP($A21,Filtro!$A5:$U57,4,FALSE),0) -> 76919 | F21: =$AA21 -> No olvide que el Nº de personas que retiran debe ser igual al promedio de Kilos que retiran en Seccion A.- | AA21: =IF(((C11+D11)/2)<>(D21+E21)," No olvide que el Nº de personas que retiran debe ser igual al promedio de Kilos que retiran en Seccion A.-","") -> No olvide que el Nº de personas que retiran debe ser igual al promedio de Kilos que retiran en Seccion A.- | AC21: =IF($D21+$E21=0,"",IF($C11+$D11="",IF($D21+$E21="",0,1),"")) | AD21: =IF(D21+E21=0,"",IF(C11+D11=0,"",IF(((C11+D11)/2)<>D21+E21,1,0))) -> 1
A22: 16200220 | B22: 65 - 69 años con alteración de la funcionalidad | C22: =IFERROR(VLOOKUP($A22,Filtro!$A6:$U58,2,FALSE),0) -> 9509 | D22: =IFERROR(VLOOKUP($A22,Filtro!$A6:$U58,3,FALSE),0) -> 3627 | E22: =IFERROR(VLOOKUP($A22,Filtro!$A6:$U58,4,FALSE),0) -> 5882 | F22: =$AA22 -> No olvide que el Nº de personas que retiran debe ser igual al promedio de Kilos que retiran en Seccion A.- | AA22: =IF(((C12+D12)/2)<>(D22+E22)," No olvide que el Nº de personas que retiran debe ser igual al promedio de Kilos que retiran en Seccion A.-","") -> No olvide que el Nº de personas que retiran debe ser igual al promedio de Kilos que retiran en Seccion A.- | AC22: =IF($D22+$E22=0,"",IF($C12+$D12="",IF($D22+$E22="",0,1),"")) | AD22: =IF(D22+E22=0,"",IF(C12+D12=0,"",IF(((C12+D12)/2)<>D22+E22,1,0))) -> 1
A23: 16100600 | B23: 65 - 69 años en programa social (Vínculos, Familia, Calle u otro) | C23: =IFERROR(VLOOKUP($A23,Filtro!$A7:$U59,2,FALSE),0) -> 281 | D23: =IFERROR(VLOOKUP($A23,Filtro!$A7:$U59,3,FALSE),0) -> 103 | E23: =IFERROR(VLOOKUP($A23,Filtro!$A7:$U59,4,FALSE),0) -> 178 | F23: =$AA23 -> No olvide que el Nº de personas que retiran debe ser igual al promedio de Kilos que retiran en Seccion A.- | AA23: =IF(((C13+D13)/2)<>(D23+E23)," No olvide que el Nº de personas que retiran debe ser igual al promedio de Kilos que retiran en Seccion A.-","") -> No olvide que el Nº de personas que retiran debe ser igual al promedio de Kilos que retiran en Seccion A.- | AC23: =IF($D23+$E23=0,"",IF($C13+$D13="",IF($D23+$E23="",0,1),"")) | AD23: =IF(D23+E23=0,"",IF(C13+D13=0,"",IF(((C13+D13)/2)<>D23+E23,1,0))) -> 1
A24: 16100700 | B24: 60 - 69 años con tuberculosis | C24: =IFERROR(VLOOKUP($A24,Filtro!$A8:$U60,2,FALSE),0) -> 26 | D24: =IFERROR(VLOOKUP($A24,Filtro!$A8:$U60,3,FALSE),0) -> 22 | E24: =IFERROR(VLOOKUP($A24,Filtro!$A8:$U60,4,FALSE),0) -> 4 | F24: =$AA24 -> No olvide que el Nº de personas que retiran debe ser igual al promedio de Kilos que retiran en Seccion A.- | AA24: =IF(((C14+D14)/2)<>(D24+E24)," No olvide que el Nº de personas que retiran debe ser igual al promedio de Kilos que retiran en Seccion A.-","") -> No olvide que el Nº de personas que retiran debe ser igual al promedio de Kilos que retiran en Seccion A.- | AC24: =IF($D24+$E24=0,"",IF($C14+$D14="",IF($D24+$E24="",0,1),"")) | AD24: =IF(D24+E24=0,"",IF(C14+D14=0,"",IF(((C14+D14)/2)<>D24+E24,1,0))) -> 1
A25: 16100100 | B25: 60 - 69 años en ELEAM autorizado o similar | C25: =IFERROR(VLOOKUP($A25,Filtro!$A9:$U61,2,FALSE),0) -> 526 | D25: =IFERROR(VLOOKUP($A25,Filtro!$A9:$U61,3,FALSE),0) -> 218 | E25: =IFERROR(VLOOKUP($A25,Filtro!$A9:$U61,4,FALSE),0) -> 308 | F25: =$AA25 | AA25: =IF(((C15+D15)/2)<>(D25+E25)," No olvide que el Nº de personas que retiran debe ser igual al promedio de Kilos que retiran en Seccion A.-","") | AC25: =IF($D25+$E25=0,"",IF($C15+$D15="",IF($D25+$E25="",0,1),"")) | AD25: =IF(D25+E25=0,"",IF(C15+D15=0,"",IF(((C15+D15)/2)<>D25+E25,1,0))) -> 0
B26: TOTAL | C26: =SUM(C21:C25) -> 143991 | D26: =SUM(D21:D25) -> 60700 | E26: =SUM(E21:E25) -> 83291
B28: Sección C: Existencia y movimiento de productos
B29: Productos | C29: Saldo mes anterior | D29: Ingresos | F29: Total disponible | G29: Egresos | L29: Saldo mes siguiente
D30: Proveedor/Operador Logístico | E30: Por traspaso | G30: Distribuido a población beneficiaria | H30: Mermas (Incluye faltantes) | I30: Otros: (demostraciones, donaciones, etc.) | J30: Traspaso | K30: Total egresos
B32: Sopa/Crema | F32: =SUM(C32:E32) -> 0 | G32: =C16 -> 143918 | K32: =SUM(G32:J32) -> 143918 | L32: =F32-K32 -> -143918
B33: Bebida Láctea | F33: =SUM(C33:E33) -> 0 | G33: =D16 -> 143924 | K33: =SUM(G33:J33) -> 143924 | L33: =F33-K33 -> -143924
B35: Sección D: PACAM - Número de personas que retiran, pertenecientes al PRAIS (incluidos en Sección B)
B36: Grupo Programático | C36: Sopa/Crema - Bebida Láctea
C37: Total | D37: Total Hombres | E37: Total Mujeres
A38: 16200100 | B38: 70 años y más (independiente del motivo de ingreso | C38: =IFERROR(VLOOKUP($A38,Filtro!$A22:$U74,2,FALSE),0) -> 2107 | D38: =IFERROR(VLOOKUP($A38,Filtro!$A22:$U74,3,FALSE),0) -> 1132 | E38: =IFERROR(VLOOKUP($A38,Filtro!$A22:$U74,4,FALSE),0) -> 975
A39: 16200230 | B39: 65 - 69 años con alteración de la funcionalidad | C39: =IFERROR(VLOOKUP($A39,Filtro!$A23:$U75,2,FALSE),0) -> 59 | D39: =IFERROR(VLOOKUP($A39,Filtro!$A23:$U75,3,FALSE),0) -> 24 | E39: =IFERROR(VLOOKUP($A39,Filtro!$A23:$U75,4,FALSE),0) -> 35
A40: 16200240 | B40: 65 - 69 años en programa social (Vínculos, Familia, Calle u otro) | C40: =IFERROR(VLOOKUP($A40,Filtro!$A24:$U76,2,FALSE),0) -> 2 | D40: =IFERROR(VLOOKUP($A40,Filtro!$A24:$U76,3,FALSE),0) -> 2 | E40: =IFERROR(VLOOKUP($A40,Filtro!$A24:$U76,4,FALSE),0) -> 0
A41: 16200200 | B41: 60 - 69 años con tuberculosis | C41: =IFERROR(VLOOKUP($A41,Filtro!$A25:$U77,2,FALSE),0) -> 0 | D41: =IFERROR(VLOOKUP($A41,Filtro!$A25:$U77,3,FALSE),0) -> 0 | E41: =IFERROR(VLOOKUP($A41,Filtro!$A25:$U77,4,FALSE),0) -> 0
A42: 16200250 | B42: 60 - 69 años en ELEAM autorizado o similar | C42: =IFERROR(VLOOKUP($A42,Filtro!$A26:$U78,2,FALSE),0) -> 0 | D42: =IFERROR(VLOOKUP($A42,Filtro!$A26:$U78,3,FALSE),0) -> 0 | E42: =IFERROR(VLOOKUP($A42,Filtro!$A26:$U78,4,FALSE),0) -> 0
B43: TOTAL | C43: =SUM(C38:C42) -> 2168 | D43: =SUM(D38:D42) -> 1158 | E43: =SUM(E38:E42) -> 1010
A48: CODIGOS ELIMINADOS
A49: 16200260
A50: 16200270
B209: =SUM(B9:O43) -> 1448162 | AE209: =SUM(AE1:AF208) -> 0
