Workbook

Sheet COMGES 15.1
A1: MINISTERIO DE SALUD
A2: SERVICIO DE SALUD COQUIMBO
A3: DEPARTAMENTO DE GESTIÓN, PLANIFICACIÓN Y CONTROL
A4: SUBDEPTO. DE ESTADÍSTICAS Y GESTIÓN DE LA INFORMACIÓN
A5: AÑO 2022
B6: INDICADOR 15.1: Porcentaje de cumplimiento de test visual/rápido programados por establecimientos de atención primaria en el periodo.
B8: COMUNA | C8: NUMERADOR
C9: Número de test visual/rápido VIH realizados en establecimientos de atención primaria del Servicio de Salud en el periodo
C10: Enero | D10: Febrero | E10: Marzo | F10: Abril | G10: Mayo | H10: Junio | I10: Julio | J10: Agosto | K10: Septiembre | L10: Octubre | M10: Noviembre | N10: Diciembre | O10: Total
B11: 04101-LA SERENA | C11: =IFERROR(VLOOKUP($B11,Datos!$F$3:$S$19,2,FALSE),0) -> 70 | D11: =IFERROR(VLOOKUP($B11,Datos!$F$3:$S$19,3,FALSE),0) -> 169 | E11: =IFERROR(VLOOKUP($B11,Datos!$F$3:$S$19,4,FALSE),0) -> 134 | F11: =IFERROR(VLOOKUP($B11,Datos!$F$3:$S$19,5,FALSE),0) -> 140 | G11: =IFERROR(VLOOKUP($B11,Datos!$F$3:$S$19,6,FALSE),0) -> 169 | H11: =IFERROR(VLOOKUP($B11,Datos!$F$3:$S$19,7,FALSE),0) -> 125 | I11: =IFERROR(VLOOKUP($B11,Datos!$F$3:$S$19,8,FALSE),0) -> 108 | J11: =IFERROR(VLOOKUP($B11,Datos!$F$3:$S$19,9,FALSE),0) -> 187 | K11: =IFERROR(VLOOKUP($B11,Datos!$F$3:$S$19,10,FALSE),0) -> 166 | L11: =IFERROR(VLOOKUP($B11,Datos!$F$3:$S$19,11,FALSE),0) -> 349 | M11: =IFERROR(VLOOKUP($B11,Datos!$F$3:$S$19,12,FALSE),0) -> 236 | O11: =SUM(C11:N11) -> 1853
B12: 04104-LA HIGUERA | C12: =IFERROR(VLOOKUP($B12,Datos!$F$3:$S$19,2,FALSE),0) -> 0 | D12: =IFERROR(VLOOKUP($B12,Datos!$F$3:$S$19,3,FALSE),0) -> 0 | E12: =IFERROR(VLOOKUP($B12,Datos!$F$3:$S$19,4,FALSE),0) -> 0 | F12: =IFERROR(VLOOKUP($B12,Datos!$F$3:$S$19,5,FALSE),0) -> 0 | G12: =IFERROR(VLOOKUP($B12,Datos!$F$3:$S$19,6,FALSE),0) -> 0 | H12: =IFERROR(VLOOKUP($B12,Datos!$F$3:$S$19,7,FALSE),0) -> 0 | I12: =IFERROR(VLOOKUP($B12,Datos!$F$3:$S$19,8,FALSE),0) -> 0 | J12: =IFERROR(VLOOKUP($B12,Datos!$F$3:$S$19,9,FALSE),0) -> 0 | K12: =IFERROR(VLOOKUP($B12,Datos!$F$3:$S$19,10,FALSE),0) -> 0 | L12: =IFERROR(VLOOKUP($B12,Datos!$F$3:$S$19,11,FALSE),0) -> 0 | M12: =IFERROR(VLOOKUP($B12,Datos!$F$3:$S$19,12,FALSE),0) -> 0 | O12: =SUM(C12:N12) -> 0
B13: 04102-COQUIMBO | C13: =IFERROR(VLOOKUP($B13,Datos!$F$3:$S$19,2,FALSE),0) -> 39 | D13: =IFERROR(VLOOKUP($B13,Datos!$F$3:$S$19,3,FALSE),0) -> 89 | E13: =IFERROR(VLOOKUP($B13,Datos!$F$3:$S$19,4,FALSE),0) -> 153 | F13: =IFERROR(VLOOKUP($B13,Datos!$F$3:$S$19,5,FALSE),0) -> 159 | G13: =IFERROR(VLOOKUP($B13,Datos!$F$3:$S$19,6,FALSE),0) -> 216 | H13: =IFERROR(VLOOKUP($B13,Datos!$F$3:$S$19,7,FALSE),0) -> 202 | I13: =IFERROR(VLOOKUP($B13,Datos!$F$3:$S$19,8,FALSE),0) -> 203 | J13: =IFERROR(VLOOKUP($B13,Datos!$F$3:$S$19,9,FALSE),0) -> 192 | K13: =IFERROR(VLOOKUP($B13,Datos!$F$3:$S$19,10,FALSE),0) -> 133 | L13: =IFERROR(VLOOKUP($B13,Datos!$F$3:$S$19,11,FALSE),0) -> 178 | M13: =IFERROR(VLOOKUP($B13,Datos!$F$3:$S$19,12,FALSE),0) -> 428 | O13: =SUM(C13:N13) -> 1992
B14: 04106-VICUÑA | C14: =IFERROR(VLOOKUP($B14,Datos!$F$3:$S$19,2,FALSE),0) -> 2 | D14: =IFERROR(VLOOKUP($B14,Datos!$F$3:$S$19,3,FALSE),0) -> 1 | E14: =IFERROR(VLOOKUP($B14,Datos!$F$3:$S$19,4,FALSE),0) -> 1 | F14: =IFERROR(VLOOKUP($B14,Datos!$F$3:$S$19,5,FALSE),0) -> 2 | G14: =IFERROR(VLOOKUP($B14,Datos!$F$3:$S$19,6,FALSE),0) -> 2 | H14: =IFERROR(VLOOKUP($B14,Datos!$F$3:$S$19,7,FALSE),0) -> 1 | I14: =IFERROR(VLOOKUP($B14,Datos!$F$3:$S$19,8,FALSE),0) -> 3 | J14: =IFERROR(VLOOKUP($B14,Datos!$F$3:$S$19,9,FALSE),0) -> 0 | K14: =IFERROR(VLOOKUP($B14,Datos!$F$3:$S$19,10,FALSE),0) -> 0 | L14: =IFERROR(VLOOKUP($B14,Datos!$F$3:$S$19,11,FALSE),0) -> 0 | M14: =IFERROR(VLOOKUP($B14,Datos!$F$3:$S$19,12,FALSE),0) -> 0 | O14: =SUM(C14:N14) -> 12
B15: 04105-PAIHUANO | C15: =IFERROR(VLOOKUP($B15,Datos!$F$3:$S$19,2,FALSE),0) -> 0 | D15: =IFERROR(VLOOKUP($B15,Datos!$F$3:$S$19,3,FALSE),0) -> 0 | E15: =IFERROR(VLOOKUP($B15,Datos!$F$3:$S$19,4,FALSE),0) -> 0 | F15: =IFERROR(VLOOKUP($B15,Datos!$F$3:$S$19,5,FALSE),0) -> 0 | G15: =IFERROR(VLOOKUP($B15,Datos!$F$3:$S$19,6,FALSE),0) -> 0 | H15: =IFERROR(VLOOKUP($B15,Datos!$F$3:$S$19,7,FALSE),0) -> 0 | I15: =IFERROR(VLOOKUP($B15,Datos!$F$3:$S$19,8,FALSE),0) -> 0 | J15: =IFERROR(VLOOKUP($B15,Datos!$F$3:$S$19,9,FALSE),0) -> 5 | K15: =IFERROR(VLOOKUP($B15,Datos!$F$3:$S$19,10,FALSE),0) -> 4 | L15: =IFERROR(VLOOKUP($B15,Datos!$F$3:$S$19,11,FALSE),0) -> 0 | M15: =IFERROR(VLOOKUP($B15,Datos!$F$3:$S$19,12,FALSE),0) -> 0 | O15: =SUM(C15:N15) -> 9
B16: 04301-OVALLE | C16: =IFERROR(VLOOKUP($B16,Datos!$F$3:$S$19,2,FALSE),0) -> 3 | D16: =IFERROR(VLOOKUP($B16,Datos!$F$3:$S$19,3,FALSE),0) -> 3 | E16: =IFERROR(VLOOKUP($B16,Datos!$F$3:$S$19,4,FALSE),0) -> 12 | F16: =IFERROR(VLOOKUP($B16,Datos!$F$3:$S$19,5,FALSE),0) -> 28 | G16: =IFERROR(VLOOKUP($B16,Datos!$F$3:$S$19,6,FALSE),0) -> 76 | H16: =IFERROR(VLOOKUP($B16,Datos!$F$3:$S$19,7,FALSE),0) -> 185 | I16: =IFERROR(VLOOKUP($B16,Datos!$F$3:$S$19,8,FALSE),0) -> 118 | J16: =IFERROR(VLOOKUP($B16,Datos!$F$3:$S$19,9,FALSE),0) -> 125 | K16: =IFERROR(VLOOKUP($B16,Datos!$F$3:$S$19,10,FALSE),0) -> 121 | L16: =IFERROR(VLOOKUP($B16,Datos!$F$3:$S$19,11,FALSE),0) -> 212 | M16: =IFERROR(VLOOKUP($B16,Datos!$F$3:$S$19,12,FALSE),0) -> 45 | O16: =SUM(C16:N16) -> 928
B17: 04305-RIO HURTADO | C17: =IFERROR(VLOOKUP($B17,Datos!$F$3:$S$19,2,FALSE),0) -> 0 | D17: =IFERROR(VLOOKUP($B17,Datos!$F$3:$S$19,3,FALSE),0) -> 0 | E17: =IFERROR(VLOOKUP($B17,Datos!$F$3:$S$19,4,FALSE),0) -> 0 | F17: =IFERROR(VLOOKUP($B17,Datos!$F$3:$S$19,5,FALSE),0) -> 0 | G17: =IFERROR(VLOOKUP($B17,Datos!$F$3:$S$19,6,FALSE),0) -> 0 | H17: =IFERROR(VLOOKUP($B17,Datos!$F$3:$S$19,7,FALSE),0) -> 0 | I17: =IFERROR(VLOOKUP($B17,Datos!$F$3:$S$19,8,FALSE),0) -> 0 | J17: =IFERROR(VLOOKUP($B17,Datos!$F$3:$S$19,9,FALSE),0) -> 0 | K17: =IFERROR(VLOOKUP($B17,Datos!$F$3:$S$19,10,FALSE),0) -> 0 | L17: =IFERROR(VLOOKUP($B17,Datos!$F$3:$S$19,11,FALSE),0) -> 0 | M17: =IFERROR(VLOOKUP($B17,Datos!$F$3:$S$19,12,FALSE),0) -> 0 | O17: =SUM(C17:N17) -> 0
B18: 04303-MONTE PATRIA | C18: =IFERROR(VLOOKUP($B18,Datos!$F$3:$S$19,2,FALSE),0) -> 1 | D18: =IFERROR(VLOOKUP($B18,Datos!$F$3:$S$19,3,FALSE),0) -> 1 | E18: =IFERROR(VLOOKUP($B18,Datos!$F$3:$S$19,4,FALSE),0) -> 9 | F18: =IFERROR(VLOOKUP($B18,Datos!$F$3:$S$19,5,FALSE),0) -> 15 | G18: =IFERROR(VLOOKUP($B18,Datos!$F$3:$S$19,6,FALSE),0) -> 15 | H18: =IFERROR(VLOOKUP($B18,Datos!$F$3:$S$19,7,FALSE),0) -> 13 | I18: =IFERROR(VLOOKUP($B18,Datos!$F$3:$S$19,8,FALSE),0) -> 9 | J18: =IFERROR(VLOOKUP($B18,Datos!$F$3:$S$19,9,FALSE),0) -> 28 | K18: =IFERROR(VLOOKUP($B18,Datos!$F$3:$S$19,10,FALSE),0) -> 24 | L18: =IFERROR(VLOOKUP($B18,Datos!$F$3:$S$19,11,FALSE),0) -> 26 | M18: =IFERROR(VLOOKUP($B18,Datos!$F$3:$S$19,12,FALSE),0) -> 46 | O18: =SUM(C18:N18) -> 187
B19: 04304-PUNITAQUI | C19: =IFERROR(VLOOKUP($B19,Datos!$F$3:$S$19,2,FALSE),0) -> 0 | D19: =IFERROR(VLOOKUP($B19,Datos!$F$3:$S$19,3,FALSE),0) -> 0 | E19: =IFERROR(VLOOKUP($B19,Datos!$F$3:$S$19,4,FALSE),0) -> 0 | F19: =IFERROR(VLOOKUP($B19,Datos!$F$3:$S$19,5,FALSE),0) -> 0 | G19: =IFERROR(VLOOKUP($B19,Datos!$F$3:$S$19,6,FALSE),0) -> 0 | H19: =IFERROR(VLOOKUP($B19,Datos!$F$3:$S$19,7,FALSE),0) -> 0 | I19: =IFERROR(VLOOKUP($B19,Datos!$F$3:$S$19,8,FALSE),0) -> 0 | J19: =IFERROR(VLOOKUP($B19,Datos!$F$3:$S$19,9,FALSE),0) -> 0 | K19: =IFERROR(VLOOKUP($B19,Datos!$F$3:$S$19,10,FALSE),0) -> 0 | L19: =IFERROR(VLOOKUP($B19,Datos!$F$3:$S$19,11,FALSE),0) -> 0 | M19: =IFERROR(VLOOKUP($B19,Datos!$F$3:$S$19,12,FALSE),0) -> 4 | O19: =SUM(C19:N19) -> 4
B20: 04302-COMBARBALÁ | C20: =IFERROR(VLOOKUP($B20,Datos!$F$3:$S$19,2,FALSE),0) -> 0 | D20: =IFERROR(VLOOKUP($B20,Datos!$F$3:$S$19,3,FALSE),0) -> 2 | E20: =IFERROR(VLOOKUP($B20,Datos!$F$3:$S$19,4,FALSE),0) -> 1 | F20: =IFERROR(VLOOKUP($B20,Datos!$F$3:$S$19,5,FALSE),0) -> 2 | G20: =IFERROR(VLOOKUP($B20,Datos!$F$3:$S$19,6,FALSE),0) -> 16 | H20: =IFERROR(VLOOKUP($B20,Datos!$F$3:$S$19,7,FALSE),0) -> 0 | I20: =IFERROR(VLOOKUP($B20,Datos!$F$3:$S$19,8,FALSE),0) -> 2 | J20: =IFERROR(VLOOKUP($B20,Datos!$F$3:$S$19,9,FALSE),0) -> 5 | K20: =IFERROR(VLOOKUP($B20,Datos!$F$3:$S$19,10,FALSE),0) -> 0 | L20: =IFERROR(VLOOKUP($B20,Datos!$F$3:$S$19,11,FALSE),0) -> 0 | M20: =IFERROR(VLOOKUP($B20,Datos!$F$3:$S$19,12,FALSE),0) -> 0 | O20: =SUM(C20:N20) -> 28
B21: 04201-ILLAPEL | C21: =IFERROR(VLOOKUP($B21,Datos!$F$3:$S$19,2,FALSE),0) -> 0 | D21: =IFERROR(VLOOKUP($B21,Datos!$F$3:$S$19,3,FALSE),0) -> 1 | E21: =IFERROR(VLOOKUP($B21,Datos!$F$3:$S$19,4,FALSE),0) -> 1 | F21: =IFERROR(VLOOKUP($B21,Datos!$F$3:$S$19,5,FALSE),0) -> 4 | G21: =IFERROR(VLOOKUP($B21,Datos!$F$3:$S$19,6,FALSE),0) -> 1 | H21: =IFERROR(VLOOKUP($B21,Datos!$F$3:$S$19,7,FALSE),0) -> 1 | I21: =IFERROR(VLOOKUP($B21,Datos!$F$3:$S$19,8,FALSE),0) -> 8 | J21: =IFERROR(VLOOKUP($B21,Datos!$F$3:$S$19,9,FALSE),0) -> 0 | K21: =IFERROR(VLOOKUP($B21,Datos!$F$3:$S$19,10,FALSE),0) -> 10 | L21: =IFERROR(VLOOKUP($B21,Datos!$F$3:$S$19,11,FALSE),0) -> 55 | M21: =IFERROR(VLOOKUP($B21,Datos!$F$3:$S$19,12,FALSE),0) -> 16 | O21: =SUM(C21:N21) -> 97
B22: 04204-SALAMANCA | C22: =IFERROR(VLOOKUP($B22,Datos!$F$3:$S$19,2,FALSE),0) -> 0 | D22: =IFERROR(VLOOKUP($B22,Datos!$F$3:$S$19,3,FALSE),0) -> 0 | E22: =IFERROR(VLOOKUP($B22,Datos!$F$3:$S$19,4,FALSE),0) -> 0 | F22: =IFERROR(VLOOKUP($B22,Datos!$F$3:$S$19,5,FALSE),0) -> 0 | G22: =IFERROR(VLOOKUP($B22,Datos!$F$3:$S$19,6,FALSE),0) -> 0 | H22: =IFERROR(VLOOKUP($B22,Datos!$F$3:$S$19,7,FALSE),0) -> 0 | I22: =IFERROR(VLOOKUP($B22,Datos!$F$3:$S$19,8,FALSE),0) -> 0 | J22: =IFERROR(VLOOKUP($B22,Datos!$F$3:$S$19,9,FALSE),0) -> 0 | K22: =IFERROR(VLOOKUP($B22,Datos!$F$3:$S$19,10,FALSE),0) -> 0 | L22: =IFERROR(VLOOKUP($B22,Datos!$F$3:$S$19,11,FALSE),0) -> 0 | M22: =IFERROR(VLOOKUP($B22,Datos!$F$3:$S$19,12,FALSE),0) -> 0 | O22: =SUM(C22:N22) -> 0
... B24: 04202-CANELA | C24: =IFERROR(VLOOKUP($B24,Datos!$F$3:$S$19,2,FALSE),0) -> 0 | D24: =IFERROR(VLOOKUP($B24,Datos!$F$3:$S$19,3,FALSE),0) -> 0 | E24: =IFERROR(VLOOKUP($B24,Datos!$F$3:$S$19,4,FALSE),0) -> 0 | F24: =IFERROR(VLOOKUP($B24,Datos!$F$3:$S$19,5,FALSE),0) -> 0 | G24: =IFERROR(VLOOKUP($B24,Datos!$F$3:$S$19,6,FALSE),0) -> 1 | H24: =IFERROR(VLOOKUP($B24,Datos!$F$3:$S$19,7,FALSE),0) -> 0 | I24: =IFERROR(VLOOKUP($B24,Datos!$F$3:$S$19,8,FALSE),0) -> 7 | J24: =IFERROR(VLOOKUP($B24,Datos!$F$3:$S$19,9,FALSE),0) -> 7 | K24: =IFERROR(VLOOKUP($B24,Datos!$F$3:$S$19,10,FALSE),0) -> 7 | L24: =IFERROR(VLOOKUP($B24,Datos!$F$3:$S$19,11,FALSE),0) -> 4 | M24: =IFERROR(VLOOKUP($B24,Datos!$F$3:$S$19,12,FALSE),0) -> 2 | O24: =SUM(C24:N24) -> 28
B25: HOSPITAL
B26: 105104-HOSPITAL SALAMANCA | C26: =IFERROR(VLOOKUP($B26,Datos!$F$3:$S$19,2,FALSE),0) -> 0 | D26: =IFERROR(VLOOKUP($B26,Datos!$F$3:$S$19,3,FALSE),0) -> 0 | E26: =IFERROR(VLOOKUP($B26,Datos!$F$3:$S$19,4,FALSE),0) -> 0 | F26: =IFERROR(VLOOKUP($B26,Datos!$F$3:$S$19,5,FALSE),0) -> 0 | G26: =IFERROR(VLOOKUP($B26,Datos!$F$3:$S$19,6,FALSE),0) -> 0 | H26: =IFERROR(VLOOKUP($B26,Datos!$F$3:$S$19,7,FALSE),0) -> 0 | I26: =IFERROR(VLOOKUP($B26,Datos!$F$3:$S$19,8,FALSE),0) -> 0 | J26: =IFERROR(VLOOKUP($B26,Datos!$F$3:$S$19,9,FALSE),0) -> 0 | K26: =IFERROR(VLOOKUP($B26,Datos!$F$3:$S$19,10,FALSE),0) -> 0 | L26: =IFERROR(VLOOKUP($B26,Datos!$F$3:$S$19,11,FALSE),0) -> 0 | M26: =IFERROR(VLOOKUP($B26,Datos!$F$3:$S$19,12,FALSE),0) -> 0 | O26: =SUM(C26:N26) -> 0
B27: 105105-HOSPITAL COMBARBALÁ | C27: =IFERROR(VLOOKUP($B27,Datos!$F$3:$S$19,2,FALSE),0) -> 0 | D27: =IFERROR(VLOOKUP($B27,Datos!$F$3:$S$19,3,FALSE),0) -> 0 | E27: =IFERROR(VLOOKUP($B27,Datos!$F$3:$S$19,4,FALSE),0) -> 0 | F27: =IFERROR(VLOOKUP($B27,Datos!$F$3:$S$19,5,FALSE),0) -> 0 | G27: =IFERROR(VLOOKUP($B27,Datos!$F$3:$S$19,6,FALSE),0) -> 0 | H27: =IFERROR(VLOOKUP($B27,Datos!$F$3:$S$19,7,FALSE),0) -> 0 | I27: =IFERROR(VLOOKUP($B27,Datos!$F$3:$S$19,8,FALSE),0) -> 0 | J27: =IFERROR(VLOOKUP($B27,Datos!$F$3:$S$19,9,FALSE),0) -> 0 | K27: =IFERROR(VLOOKUP($B27,Datos!$F$3:$S$19,10,FALSE),0) -> 0 | L27: =IFERROR(VLOOKUP($B27,Datos!$F$3:$S$19,11,FALSE),0) -> 0 | M27: =IFERROR(VLOOKUP($B27,Datos!$F$3:$S$19,12,FALSE),0) -> 0 | O27: =SUM(C27:N27) -> 0
B28: 105106-HOSPITAL ANDACOLLO | C28: =IFERROR(VLOOKUP($B28,Datos!$F$3:$S$19,2,FALSE),0) -> 0 | D28: =IFERROR(VLOOKUP($B28,Datos!$F$3:$S$19,3,FALSE),0) -> 0 | E28: =IFERROR(VLOOKUP($B28,Datos!$F$3:$S$19,4,FALSE),0) -> 0 | F28: =IFERROR(VLOOKUP($B28,Datos!$F$3:$S$19,5,FALSE),0) -> 0 | G28: =IFERROR(VLOOKUP($B28,Datos!$F$3:$S$19,6,FALSE),0) -> 0 | H28: =IFERROR(VLOOKUP($B28,Datos!$F$3:$S$19,7,FALSE),0) -> 0 | I28: =IFERROR(VLOOKUP($B28,Datos!$F$3:$S$19,8,FALSE),0) -> 33 | J28: =IFERROR(VLOOKUP($B28,Datos!$F$3:$S$19,9,FALSE),0) -> 9 | K28: =IFERROR(VLOOKUP($B28,Datos!$F$3:$S$19,10,FALSE),0) -> 23 | L28: =IFERROR(VLOOKUP($B28,Datos!$F$3:$S$19,11,FALSE),0) -> 9 | M28: =IFERROR(VLOOKUP($B28,Datos!$F$3:$S$19,12,FALSE),0) -> 20 | O28: =SUM(C28:N28) -> 94
B29: 105107-HOSPITAL VICUÑA | C29: =IFERROR(VLOOKUP($B29,Datos!$F$3:$S$19,2,FALSE),0) -> 8 | D29: =IFERROR(VLOOKUP($B29,Datos!$F$3:$S$19,3,FALSE),0) -> 20 | E29: =IFERROR(VLOOKUP($B29,Datos!$F$3:$S$19,4,FALSE),0) -> 11 | F29: =IFERROR(VLOOKUP($B29,Datos!$F$3:$S$19,5,FALSE),0) -> 17 | G29: =IFERROR(VLOOKUP($B29,Datos!$F$3:$S$19,6,FALSE),0) -> 35 | H29: =IFERROR(VLOOKUP($B29,Datos!$F$3:$S$19,7,FALSE),0) -> 29 | I29: =IFERROR(VLOOKUP($B29,Datos!$F$3:$S$19,8,FALSE),0) -> 17 | J29: =IFERROR(VLOOKUP($B29,Datos!$F$3:$S$19,9,FALSE),0) -> 36 | K29: =IFERROR(VLOOKUP($B29,Datos!$F$3:$S$19,10,FALSE),0) -> 19 | L29: =IFERROR(VLOOKUP($B29,Datos!$F$3:$S$19,11,FALSE),0) -> 27 | M29: =IFERROR(VLOOKUP($B29,Datos!$F$3:$S$19,12,FALSE),0) -> 19 | O29: =SUM(C29:N29) -> 238
B30: 105108-HOSPITAL LOS VILOS | C30: =IFERROR(VLOOKUP($B30,Datos!$F$3:$S$19,2,FALSE),0) -> 7 | D30: =IFERROR(VLOOKUP($B30,Datos!$F$3:$S$19,3,FALSE),0) -> 6 | E30: =IFERROR(VLOOKUP($B30,Datos!$F$3:$S$19,4,FALSE),0) -> 1 | F30: =IFERROR(VLOOKUP($B30,Datos!$F$3:$S$19,5,FALSE),0) -> 10 | G30: =IFERROR(VLOOKUP($B30,Datos!$F$3:$S$19,6,FALSE),0) -> 6 | H30: =IFERROR(VLOOKUP($B30,Datos!$F$3:$S$19,7,FALSE),0) -> 4 | I30: =IFERROR(VLOOKUP($B30,Datos!$F$3:$S$19,8,FALSE),0) -> 4 | J30: =IFERROR(VLOOKUP($B30,Datos!$F$3:$S$19,9,FALSE),0) -> 4 | K30: =IFERROR(VLOOKUP($B30,Datos!$F$3:$S$19,10,FALSE),0) -> 4 | L30: =IFERROR(VLOOKUP($B30,Datos!$F$3:$S$19,11,FALSE),0) -> 4 | M30: =IFERROR(VLOOKUP($B30,Datos!$F$3:$S$19,12,FALSE),0) -> 2 | O30: =SUM(C30:N30) -> 52

Sheet Datos
A1: Idestablecimiento | B1: Comuna / Hospital | C1: Mes | D1: Total
A2: 105106 | B2: =IFERROR(VLOOKUP($A2,[1]Establecimientos!$A$1:$E$175,5,FALSE),0) -> 105106-HOSPITAL ANDACOLLO | C2: 7 | D2: 33
A3: 105106 | B3: =IFERROR(VLOOKUP($A3,[1]Establecimientos!$A$1:$E$175,5,FALSE),0) -> 105106-HOSPITAL ANDACOLLO | C3: 8 | D3: 9 | F3: Suma de Total | G3: Etiquetas de columna
A4: 105106 | B4: =IFERROR(VLOOKUP($A4,[1]Establecimientos!$A$1:$E$175,5,FALSE),0) -> 105106-HOSPITAL ANDACOLLO | C4: 9 | D4: 23 | F4: Etiquetas de fila | G4: 1 | H4: 2 | I4: 3 | J4: 4 | K4: 5 | L4: 6 | M4: 7 | N4: 8 | O4: 9 | P4: 10 | Q4: 11 | R4: 12 | S4: Total general
A5: 105106 | B5: =IFERROR(VLOOKUP($A5,[1]Establecimientos!$A$1:$E$175,5,FALSE),0) -> 105106-HOSPITAL ANDACOLLO | C5: 10 | D5: 9 | F5: 04101-LA SERENA | G5: 70 | H5: 169 | I5: 134 | J5: 140 | K5: 169 | L5: 125 | M5: 108 | N5: 187 | O5: 166 | P5: 349 | Q5: 236 | R5: 211 | S5: 2064
A6: 105106 | B6: =IFERROR(VLOOKUP($A6,[1]Establecimientos!$A$1:$E$175,5,FALSE),0) -> 105106-HOSPITAL ANDACOLLO | C6: 11 | D6: 20 | F6: 04102-COQUIMBO | G6: 39 | H6: 89 | I6: 153 | J6: 159 | K6: 216 | L6: 202 | M6: 203 | N6: 192 | O6: 133 | P6: 178 | Q6: 428 | R6: 206 | S6: 2198
A7: 105106 | B7: =IFERROR(VLOOKUP($A7,[1]Establecimientos!$A$1:$E$175,5,FALSE),0) -> 105106-HOSPITAL ANDACOLLO | C7: 12 | D7: 31 | F7: 04105-PAIHUANO | N7: 5 | O7: 4 | S7: 9
A8: 105107 | B8: =IFERROR(VLOOKUP($A8,[1]Establecimientos!$A$1:$E$175,5,FALSE),0) -> 105107-HOSPITAL VICUÑA | C8: 1 | D8: 8 | F8: 04106-VICUÑA | G8: 2 | H8: 1 | I8: 1 | J8: 2 | K8: 2 | L8: 1 | M8: 3 | S8: 12
A9: 105107 | B9: =IFERROR(VLOOKUP($A9,[1]Establecimientos!$A$1:$E$175,5,FALSE),0) -> 105107-HOSPITAL VICUÑA | C9: 2 | D9: 20 | F9: 04201-ILLAPEL | H9: 1 | I9: 1 | J9: 4 | K9: 1 | L9: 1 | M9: 8 | O9: 10 | P9: 55 | Q9: 16 | R9: 35 | S9: 132
A10: 105107 | B10: =IFERROR(VLOOKUP($A10,[1]Establecimientos!$A$1:$E$175,5,FALSE),0) -> 105107-HOSPITAL VICUÑA | C10: 3 | D10: 11 | F10: 04202-CANELA | K10: 1 | M10: 7 | N10: 7 | O10: 7 | P10: 4 | Q10: 2 | R10: 4 | S10: 32
A11: 105107 | B11: =IFERROR(VLOOKUP($A11,[1]Establecimientos!$A$1:$E$175,5,FALSE),0) -> 105107-HOSPITAL VICUÑA | C11: 4 | D11: 17 | F11: 04203-LOS VILOS | G11: 5 | I11: 29 | J11: 7 | L11: 1 | M11: 1 | N11: 4 | O11: 1 | P11: 11 | Q11: 7 | R11: 7 | S11: 73
A12: 105107 | B12: =IFERROR(VLOOKUP($A12,[1]Establecimientos!$A$1:$E$175,5,FALSE),0) -> 105107-HOSPITAL VICUÑA | C12: 5 | D12: 35 | F12: 04301-OVALLE | G12: 3 | H12: 3 | I12: 12 | J12: 28 | K12: 76 | L12: 185 | M12: 118 | N12: 125 | O12: 121 | P12: 212 | Q12: 45 | R12: 90 | S12: 1018
A13: 105107 | B13: =IFERROR(VLOOKUP($A13,[1]Establecimientos!$A$1:$E$175,5,FALSE),0) -> 105107-HOSPITAL VICUÑA | C13: 6 | D13: 29 | F13: 04302-COMBARBALÁ | H13: 2 | I13: 1 | J13: 2 | K13: 16 | M13: 2 | N13: 5 | S13: 28
A14: 105107 | B14: =IFERROR(VLOOKUP($A14,[1]Establecimientos!$A$1:$E$175,5,FALSE),0) -> 105107-HOSPITAL VICUÑA | C14: 7 | D14: 17 | F14: 04303-MONTE PATRIA | G14: 1 | H14: 1 | I14: 9 | J14: 15 | K14: 15 | L14: 13 | M14: 9 | N14: 28 | O14: 24 | P14: 26 | Q14: 46 | R14: 33 | S14: 220
A15: 105107 | B15: =IFERROR(VLOOKUP($A15,[1]Establecimientos!$A$1:$E$175,5,FALSE),0) -> 105107-HOSPITAL VICUÑA | C15: 8 | D15: 36 | F15: 04304-PUNITAQUI | Q15: 4 | R15: 10 | S15: 14
A16: 105107 | B16: =IFERROR(VLOOKUP($A16,[1]Establecimientos!$A$1:$E$175,5,FALSE),0) -> 105107-HOSPITAL VICUÑA | C16: 9 | D16: 19 | F16: 105106-HOSPITAL ANDACOLLO | M16: 33 | N16: 9 | O16: 23 | P16: 9 | Q16: 20 | R16: 31 | S16: 125
A17: 105107 | B17: =IFERROR(VLOOKUP($A17,[1]Establecimientos!$A$1:$E$175,5,FALSE),0) -> 105107-HOSPITAL VICUÑA | C17: 10 | D17: 27 | F17: 105107-HOSPITAL VICUÑA | G17: 8 | H17: 20 | I17: 11 | J17: 17 | K17: 35 | L17: 29 | M17: 17 | N17: 36 | O17: 19 | P17: 27 | Q17: 19 | R17: 20 | S17: 258
A18: 105107 | B18: =IFERROR(VLOOKUP($A18,[1]Establecimientos!$A$1:$E$175,5,FALSE),0) -> 105107-HOSPITAL VICUÑA | C18: 11 | D18: 19 | F18: 105108-HOSPITAL LOS VILOS | G18: 7 | H18: 6 | I18: 1 | J18: 10 | K18: 6 | L18: 4 | M18: 4 | N18: 4 | O18: 4 | P18: 4 | Q18: 2 | R18: 6 | S18: 58
A19: 105107 | B19: =IFERROR(VLOOKUP($A19,[1]Establecimientos!$A$1:$E$175,5,FALSE),0) -> 105107-HOSPITAL VICUÑA | C19: 12 | D19: 20 | F19: Total general | G19: 135 | H19: 292 | I19: 352 | J19: 384 | K19: 537 | L19: 561 | M19: 513 | N19: 602 | O19: 512 | P19: 875 | Q19: 825 | R19: 653 | S19: 6241
A20: 105108 | B20: =IFERROR(VLOOKUP($A20,[1]Establecimientos!$A$1:$E$175,5,FALSE),0) -> 105108-HOSPITAL LOS VILOS | C20: 1 | D20: 7
A21: 105108 | B21: =IFERROR(VLOOKUP($A21,[1]Establecimientos!$A$1:$E$175,5,FALSE),0) -> 105108-HOSPITAL LOS VILOS | C21: 2 | D21: 6
A22: 105108 | B22: =IFERROR(VLOOKUP($A22,[1]Establecimientos!$A$1:$E$175,5,FALSE),0) -> 105108-HOSPITAL LOS VILOS | C22: 3 | D22: 1
A23: 105108 | B23: =IFERROR(VLOOKUP($A23,[1]Establecimientos!$A$1:$E$175,5,FALSE),0) -> 105108-HOSPITAL LOS VILOS | C23: 4 | D23: 10
A24: 105108 | B24: =IFERROR(VLOOKUP($A24,[1]Establecimientos!$A$1:$E$175,5,FALSE),0) -> 105108-HOSPITAL LOS VILOS | C24: 5 | D24: 6
A25: 105108 | B25: =IFERROR(VLOOKUP($A25,[1]Establecimientos!$A$1:$E$175,5,FALSE),0) -> 105108-HOSPITAL LOS VILOS | C25: 6 | D25: 4
A26: 105108 | B26: =IFERROR(VLOOKUP($A26,[1]Establecimientos!$A$1:$E$175,5,FALSE),0) -> 105108-HOSPITAL LOS VILOS | C26: 7 | D26: 4
A27: 105108 | B27: =IFERROR(VLOOKUP($A27,[1]Establecimientos!$A$1:$E$175,5,FALSE),0) -> 105108-HOSPITAL LOS VILOS | C27: 8 | D27: 4
A28: 105108 | B28: =IFERROR(VLOOKUP($A28,[1]Establecimientos!$A$1:$E$175,5,FALSE),0) -> 105108-HOSPITAL LOS VILOS | C28: 9 | D28: 4
A29: 105108 | B29: =IFERROR(VLOOKUP($A29,[1]Establecimientos!$A$1:$E$175,5,FALSE),0) -> 105108-HOSPITAL LOS VILOS | C29: 10 | D29: 4
A30: 105108 | B30: =IFERROR(VLOOKUP($A30,[1]Establecimientos!$A$1:$E$175,5,FALSE),0) -> 105108-HOSPITAL LOS VILOS | C30: 11 | D30: 2
A31: 105108 | B31: =IFERROR(VLOOKUP($A31,[1]Establecimientos!$A$1:$E$175,5,FALSE),0) -> 105108-HOSPITAL LOS VILOS | C31: 12 | D31: 6
... A420: 200607 | B420: =IFERROR(VLOOKUP($A420,[1]Establecimientos!$A$1:$E$175,5,FALSE),0) -> 04102-COQUIMBO | C420: 12 | D420: 40
