Workbook

Sheet Resúmen
A1: MINISTERIO DE SALUD
A2: SERVICIO DE SALUD COQUIMBO
A3: SUBDIRECCION DE GESTION ASISTENCIAL
A4: SUBDEPTO. DE ESTADISTICAS Y GESTION DE LA INFORMACION
A5: AÑO 2022
C7: INDICADOR 1.4:Porcentaje de contra referencias realizadas al alta de consulta de especialidad
C9: Hospital | D9: Indicador
C11: Hospital La Serena | D11: ='105100-HLS'!AB86 -> 0
C12: Hospital Coquimbo | D12: ='105101-HCQ'!AB86 -> 0
C13: Hospital Ovalle | D13: ='105102-HOV'!AB86 -> 0
C14: Hospital Illapel | D14: ='105103-HIL'!AB86 -> 0
C15: Servicio de Salud | D15: =Consolidado!AB86 -> 0
C16: Fuente: REM A07

Sheet Consolidado
A1: MINISTERIO DE SALUD
A2: SERVICIO DE SALUD COQUIMBO
A3: SUBDIRECCION DE GESTION ASISTENCIAL
A4: SUBDEPTO. DE ESTADISTICAS Y GESTION DE LA INFORMACION
A5: AÑO 2022
A6: INDICADOR 1.4:Porcentaje de contra referencias realizadas al alta de consulta de especialidad.
A8: ESPECIALIDADES Y SUB-ESPECIALIDADES MEDICAS | B8: NUMERADOR | O8: DENOMINADOR | AB8: INDICADOR
B9: N° de contra referencias a las altas médicas de consulta de especialidad realizadas en el periodo (presenciales y remotas) | O9: N° de altas médicas de consultas de especialidad realizadas en el periodo (presenciales y remotas)
B10: Enero | C10: Febrero | D10: Marzo | E10: Abril | F10: Mayo | G10: Junio | H10: Julio | I10: Agosto | J10: Septiembre | K10: Octubre | L10: Noviembre | M10: Diciembre | N10: Total | O10: Enero | P10: Febrero | Q10: Marzo | R10: Abril | S10: Mayo | T10: Junio | U10: Julio | V10: Agosto | W10: Septiembre | X10: Octubre | Y10: Noviembre | Z10: Diciembre | AA10: Total
A11: PEDIATRÍA | B11: ='105100-HLS'!B11+'105101-HCQ'!B11+'105102-HOV'!B11+'105103-HIL'!B11 -> 0 | C11: ='105100-HLS'!C11+'105101-HCQ'!C11+'105102-HOV'!C11+'105103-HIL'!C11 -> 0 | D11: ='105100-HLS'!D11+'105101-HCQ'!D11+'105102-HOV'!D11+'105103-HIL'!D11 -> 0 | E11: ='105100-HLS'!E11+'105101-HCQ'!E11+'105102-HOV'!E11+'105103-HIL'!E11 -> 0 | F11: ='105100-HLS'!F11+'105101-HCQ'!F11+'105102-HOV'!F11+'105103-HIL'!F11 -> 0 | G11: ='105100-HLS'!G11+'105101-HCQ'!G11+'105102-HOV'!G11+'105103-HIL'!G11 -> 0 | H11: ='105100-HLS'!H11+'105101-HCQ'!H11+'105102-HOV'!H11+'105103-HIL'!H11 -> 0 | I11: ='105100-HLS'!I11+'105101-HCQ'!I11+'105102-HOV'!I11+'105103-HIL'!I11 -> 0 | ... M11: ='105100-HLS'!M11+'105101-HCQ'!M11+'105102-HOV'!M11+'105103-HIL'!M11 -> 0 | N11: =SUM(B11:M11) -> 0 | O11: ='105100-HLS'!O11+'105101-HCQ'!O11+'105102-HOV'!O11+'105103-HIL'!O11 -> 60 | P11: ='105100-HLS'!P11+'105101-HCQ'!P11+'105102-HOV'!P11+'105103-HIL'!P11 -> 58 | Q11: ='105100-HLS'!Q11+'105101-HCQ'!Q11+'105102-HOV'!Q11+'105103-HIL'!Q11 -> 28 | R11: ='105100-HLS'!R11+'105101-HCQ'!R11+'105102-HOV'!R11+'105103-HIL'!R11 -> 49 | S11: ='105100-HLS'!S11+'105101-HCQ'!S11+'105102-HOV'!S11+'105103-HIL'!S11 -> 49 | T11: ='105100-HLS'!T11+'105101-HCQ'!T11+'105102-HOV'!T11+'105103-HIL'!T11 -> 53 | U11: ='105100-HLS'!U11+'105101-HCQ'!U11+'105102-HOV'!U11+'105103-HIL'!U11 -> 34 | V11: ='105100-HLS'!V11+'105101-HCQ'!V11+'105102-HOV'!V11+'105103-HIL'!V11 -> 41 | ... Z11: ='105100-HLS'!Z11+'105101-HCQ'!Z11+'105102-HOV'!Z11+'105103-HIL'!Z11 -> 31 | AA11: =SUM(O11:Z11) -> 499 | AB11: =IFERROR(N11/AA11,0) -> 0
A12: MEDICINA INTERNA | B12: ='105100-HLS'!B12+'105101-HCQ'!B12+'105102-HOV'!B12+'105103-HIL'!B12 -> 0 | C12: ='105100-HLS'!C12+'105101-HCQ'!C12+'105102-HOV'!C12+'105103-HIL'!C12 -> 0 | D12: ='105100-HLS'!D12+'105101-HCQ'!D12+'105102-HOV'!D12+'105103-HIL'!D12 -> 0 | E12: ='105100-HLS'!E12+'105101-HCQ'!E12+'105102-HOV'!E12+'105103-HIL'!E12 -> 0 | F12: ='105100-HLS'!F12+'105101-HCQ'!F12+'105102-HOV'!F12+'105103-HIL'!F12 -> 0 | G12: ='105100-HLS'!G12+'105101-HCQ'!G12+'105102-HOV'!G12+'105103-HIL'!G12 -> 0 | H12: ='105100-HLS'!H12+'105101-HCQ'!H12+'105102-HOV'!H12+'105103-HIL'!H12 -> 0 | I12: ='105100-HLS'!I12+'105101-HCQ'!I12+'105102-HOV'!I12+'105103-HIL'!I12 -> 0 | ... M12: ='105100-HLS'!M12+'105101-HCQ'!M12+'105102-HOV'!M12+'105103-HIL'!M12 -> 0 | N12: =SUM(B12:M12) -> 0 | O12: ='105100-HLS'!O12+'105101-HCQ'!O12+'105102-HOV'!O12+'105103-HIL'!O12 -> 265 | P12: ='105100-HLS'!P12+'105101-HCQ'!P12+'105102-HOV'!P12+'105103-HIL'!P12 -> 381 | Q12: ='105100-HLS'!Q12+'105101-HCQ'!Q12+'105102-HOV'!Q12+'105103-HIL'!Q12 -> 400 | R12: ='105100-HLS'!R12+'105101-HCQ'!R12+'105102-HOV'!R12+'105103-HIL'!R12 -> 335 | S12: ='105100-HLS'!S12+'105101-HCQ'!S12+'105102-HOV'!S12+'105103-HIL'!S12 -> 396 | T12: ='105100-HLS'!T12+'105101-HCQ'!T12+'105102-HOV'!T12+'105103-HIL'!T12 -> 290 | U12: ='105100-HLS'!U12+'105101-HCQ'!U12+'105102-HOV'!U12+'105103-HIL'!U12 -> 386 | V12: ='105100-HLS'!V12+'105101-HCQ'!V12+'105102-HOV'!V12+'105103-HIL'!V12 -> 401 | ... Z12: ='105100-HLS'!Z12+'105101-HCQ'!Z12+'105102-HOV'!Z12+'105103-HIL'!Z12 -> 248 | AA12: =SUM(O12:Z12) -> 4094 | AB12: =IFERROR(N12/AA12,0) -> 0
A13: NEONATOLOGÍA | B13: ='105100-HLS'!B13+'105101-HCQ'!B13+'105102-HOV'!B13+'105103-HIL'!B13 -> 0 | C13: ='105100-HLS'!C13+'105101-HCQ'!C13+'105102-HOV'!C13+'105103-HIL'!C13 -> 0 | D13: ='105100-HLS'!D13+'105101-HCQ'!D13+'105102-HOV'!D13+'105103-HIL'!D13 -> 0 | E13: ='105100-HLS'!E13+'105101-HCQ'!E13+'105102-HOV'!E13+'105103-HIL'!E13 -> 0 | F13: ='105100-HLS'!F13+'105101-HCQ'!F13+'105102-HOV'!F13+'105103-HIL'!F13 -> 0 | G13: ='105100-HLS'!G13+'105101-HCQ'!G13+'105102-HOV'!G13+'105103-HIL'!G13 -> 0 | H13: ='105100-HLS'!H13+'105101-HCQ'!H13+'105102-HOV'!H13+'105103-HIL'!H13 -> 0 | I13: ='105100-HLS'!I13+'105101-HCQ'!I13+'105102-HOV'!I13+'105103-HIL'!I13 -> 0 | ... M13: ='105100-HLS'!M13+'105101-HCQ'!M13+'105102-HOV'!M13+'105103-HIL'!M13 -> 0 | N13: =SUM(B13:M13) -> 0 | O13: ='105100-HLS'!O13+'105101-HCQ'!O13+'105102-HOV'!O13+'105103-HIL'!O13 -> 16 | P13: ='105100-HLS'!P13+'105101-HCQ'!P13+'105102-HOV'!P13+'105103-HIL'!P13 -> 7 | Q13: ='105100-HLS'!Q13+'105101-HCQ'!Q13+'105102-HOV'!Q13+'105103-HIL'!Q13 -> 2 | R13: ='105100-HLS'!R13+'105101-HCQ'!R13+'105102-HOV'!R13+'105103-HIL'!R13 -> 4 | S13: ='105100-HLS'!S13+'105101-HCQ'!S13+'105102-HOV'!S13+'105103-HIL'!S13 -> 8 | T13: ='105100-HLS'!T13+'105101-HCQ'!T13+'105102-HOV'!T13+'105103-HIL'!T13 -> 2 | U13: ='105100-HLS'!U13+'105101-HCQ'!U13+'105102-HOV'!U13+'105103-HIL'!U13 -> 5 | V13: ='105100-HLS'!V13+'105101-HCQ'!V13+'105102-HOV'!V13+'105103-HIL'!V13 -> 4 | ... Z13: ='105100-HLS'!Z13+'105101-HCQ'!Z13+'105102-HOV'!Z13+'105103-HIL'!Z13 -> 8 | AA13: =SUM(O13:Z13) -> 90 | AB13: =IFERROR(N13/AA13,0) -> 0
A14: ENFERMEDAD RESPIRATORIA PEDIÁTRICA (BRONCOPULMONAR INFANTIL) | B14: ='105100-HLS'!B14+'105101-HCQ'!B14+'105102-HOV'!B14+'105103-HIL'!B14 -> 0 | C14: ='105100-HLS'!C14+'105101-HCQ'!C14+'105102-HOV'!C14+'105103-HIL'!C14 -> 0 | D14: ='105100-HLS'!D14+'105101-HCQ'!D14+'105102-HOV'!D14+'105103-HIL'!D14 -> 0 | E14: ='105100-HLS'!E14+'105101-HCQ'!E14+'105102-HOV'!E14+'105103-HIL'!E14 -> 0 | F14: ='105100-HLS'!F14+'105101-HCQ'!F14+'105102-HOV'!F14+'105103-HIL'!F14 -> 0 | G14: ='105100-HLS'!G14+'105101-HCQ'!G14+'105102-HOV'!G14+'105103-HIL'!G14 -> 0 | H14: ='105100-HLS'!H14+'105101-HCQ'!H14+'105102-HOV'!H14+'105103-HIL'!H14 -> 0 | I14: ='105100-HLS'!I14+'105101-HCQ'!I14+'105102-HOV'!I14+'105103-HIL'!I14 -> 0 | ... M14: ='105100-HLS'!M14+'105101-HCQ'!M14+'105102-HOV'!M14+'105103-HIL'!M14 -> 0 | N14: =SUM(B14:M14) -> 0 | O14: ='105100-HLS'!O14+'105101-HCQ'!O14+'105102-HOV'!O14+'105103-HIL'!O14 -> 11 | P14: ='105100-HLS'!P14+'105101-HCQ'!P14+'105102-HOV'!P14+'105103-HIL'!P14 -> 3 | Q14: ='105100-HLS'!Q14+'105101-HCQ'!Q14+'105102-HOV'!Q14+'105103-HIL'!Q14 -> 11 | R14: ='105100-HLS'!R14+'105101-HCQ'!R14+'105102-HOV'!R14+'105103-HIL'!R14 -> 8 | S14: ='105100-HLS'!S14+'105101-HCQ'!S14+'105102-HOV'!S14+'105103-HIL'!S14 -> 3 | T14: ='105100-HLS'!T14+'105101-HCQ'!T14+'105102-HOV'!T14+'105103-HIL'!T14 -> 5 | U14: ='105100-HLS'!U14+'105101-HCQ'!U14+'105102-HOV'!U14+'105103-HIL'!U14 -> 5 | V14: ='105100-HLS'!V14+'105101-HCQ'!V14+'105102-HOV'!V14+'105103-HIL'!V14 -> 10 | ... Z14: ='105100-HLS'!Z14+'105101-HCQ'!Z14+'105102-HOV'!Z14+'105103-HIL'!Z14 -> 3 | AA14: =SUM(O14:Z14) -> 67 | AB14: =IFERROR(N14/AA14,0) -> 0
A15: ENFERMEDAD RESPIRATORIA DE ADULTO (BRONCOPULMONAR) | B15: ='105100-HLS'!B15+'105101-HCQ'!B15+'105102-HOV'!B15+'105103-HIL'!B15 -> 0 | C15: ='105100-HLS'!C15+'105101-HCQ'!C15+'105102-HOV'!C15+'105103-HIL'!C15 -> 0 | D15: ='105100-HLS'!D15+'105101-HCQ'!D15+'105102-HOV'!D15+'105103-HIL'!D15 -> 0 | E15: ='105100-HLS'!E15+'105101-HCQ'!E15+'105102-HOV'!E15+'105103-HIL'!E15 -> 0 | F15: ='105100-HLS'!F15+'105101-HCQ'!F15+'105102-HOV'!F15+'105103-HIL'!F15 -> 0 | G15: ='105100-HLS'!G15+'105101-HCQ'!G15+'105102-HOV'!G15+'105103-HIL'!G15 -> 0 | H15: ='105100-HLS'!H15+'105101-HCQ'!H15+'105102-HOV'!H15+'105103-HIL'!H15 -> 0 | I15: ='105100-HLS'!I15+'105101-HCQ'!I15+'105102-HOV'!I15+'105103-HIL'!I15 -> 0 | ... M15: ='105100-HLS'!M15+'105101-HCQ'!M15+'105102-HOV'!M15+'105103-HIL'!M15 -> 0 | N15: =SUM(B15:M15) -> 0 | O15: ='105100-HLS'!O15+'105101-HCQ'!O15+'105102-HOV'!O15+'105103-HIL'!O15 -> 12 | P15: ='105100-HLS'!P15+'105101-HCQ'!P15+'105102-HOV'!P15+'105103-HIL'!P15 -> 5 | Q15: ='105100-HLS'!Q15+'105101-HCQ'!Q15+'105102-HOV'!Q15+'105103-HIL'!Q15 -> 4 | R15: ='105100-HLS'!R15+'105101-HCQ'!R15+'105102-HOV'!R15+'105103-HIL'!R15 -> 4 | S15: ='105100-HLS'!S15+'105101-HCQ'!S15+'105102-HOV'!S15+'105103-HIL'!S15 -> 6 | T15: ='105100-HLS'!T15+'105101-HCQ'!T15+'105102-HOV'!T15+'105103-HIL'!T15 -> 5 | U15: ='105100-HLS'!U15+'105101-HCQ'!U15+'105102-HOV'!U15+'105103-HIL'!U15 -> 3 | V15: ='105100-HLS'!V15+'105101-HCQ'!V15+'105102-HOV'!V15+'105103-HIL'!V15 -> 4 | ... Z15: ='105100-HLS'!Z15+'105101-HCQ'!Z15+'105102-HOV'!Z15+'105103-HIL'!Z15 -> 3 | AA15: =SUM(O15:Z15) -> 59 | AB15: =IFERROR(N15/AA15,0) -> 0
A16: CARDIOLOGÍA PEDIÁTRICA | B16: ='105100-HLS'!B16+'105101-HCQ'!B16+'105102-HOV'!B16+'105103-HIL'!B16 -> 0 | C16: ='105100-HLS'!C16+'105101-HCQ'!C16+'105102-HOV'!C16+'105103-HIL'!C16 -> 0 | D16: ='105100-HLS'!D16+'105101-HCQ'!D16+'105102-HOV'!D16+'105103-HIL'!D16 -> 0 | E16: ='105100-HLS'!E16+'105101-HCQ'!E16+'105102-HOV'!E16+'105103-HIL'!E16 -> 0 | F16: ='105100-HLS'!F16+'105101-HCQ'!F16+'105102-HOV'!F16+'105103-HIL'!F16 -> 0 | G16: ='105100-HLS'!G16+'105101-HCQ'!G16+'105102-HOV'!G16+'105103-HIL'!G16 -> 0 | H16: ='105100-HLS'!H16+'105101-HCQ'!H16+'105102-HOV'!H16+'105103-HIL'!H16 -> 0 | I16: ='105100-HLS'!I16+'105101-HCQ'!I16+'105102-HOV'!I16+'105103-HIL'!I16 -> 0 | ... M16: ='105100-HLS'!M16+'105101-HCQ'!M16+'105102-HOV'!M16+'105103-HIL'!M16 -> 0 | N16: =SUM(B16:M16) -> 0 | O16: ='105100-HLS'!O16+'105101-HCQ'!O16+'105102-HOV'!O16+'105103-HIL'!O16 -> 25 | P16: ='105100-HLS'!P16+'105101-HCQ'!P16+'105102-HOV'!P16+'105103-HIL'!P16 -> 20 | Q16: ='105100-HLS'!Q16+'105101-HCQ'!Q16+'105102-HOV'!Q16+'105103-HIL'!Q16 -> 31 | R16: ='105100-HLS'!R16+'105101-HCQ'!R16+'105102-HOV'!R16+'105103-HIL'!R16 -> 33 | S16: ='105100-HLS'!S16+'105101-HCQ'!S16+'105102-HOV'!S16+'105103-HIL'!S16 -> 18 | T16: ='105100-HLS'!T16+'105101-HCQ'!T16+'105102-HOV'!T16+'105103-HIL'!T16 -> 17 | U16: ='105100-HLS'!U16+'105101-HCQ'!U16+'105102-HOV'!U16+'105103-HIL'!U16 -> 15 | V16: ='105100-HLS'!V16+'105101-HCQ'!V16+'105102-HOV'!V16+'105103-HIL'!V16 -> 13 | ... Z16: ='105100-HLS'!Z16+'105101-HCQ'!Z16+'105102-HOV'!Z16+'105103-HIL'!Z16 -> 15 | AA16: =SUM(O16:Z16) -> 256 | AB16: =IFERROR(N16/AA16,0) -> 0
A17: CARDIOLOGÍA | B17: ='105100-HLS'!B17+'105101-HCQ'!B17+'105102-HOV'!B17+'105103-HIL'!B17 -> 0 | C17: ='105100-HLS'!C17+'105101-HCQ'!C17+'105102-HOV'!C17+'105103-HIL'!C17 -> 0 | D17: ='105100-HLS'!D17+'105101-HCQ'!D17+'105102-HOV'!D17+'105103-HIL'!D17 -> 0 | E17: ='105100-HLS'!E17+'105101-HCQ'!E17+'105102-HOV'!E17+'105103-HIL'!E17 -> 0 | F17: ='105100-HLS'!F17+'105101-HCQ'!F17+'105102-HOV'!F17+'105103-HIL'!F17 -> 0 | G17: ='105100-HLS'!G17+'105101-HCQ'!G17+'105102-HOV'!G17+'105103-HIL'!G17 -> 0 | H17: ='105100-HLS'!H17+'105101-HCQ'!H17+'105102-HOV'!H17+'105103-HIL'!H17 -> 0 | I17: ='105100-HLS'!I17+'105101-HCQ'!I17+'105102-HOV'!I17+'105103-HIL'!I17 -> 0 | ... M17: ='105100-HLS'!M17+'105101-HCQ'!M17+'105102-HOV'!M17+'105103-HIL'!M17 -> 0 | N17: =SUM(B17:M17) -> 0 | O17: ='105100-HLS'!O17+'105101-HCQ'!O17+'105102-HOV'!O17+'105103-HIL'!O17 -> 34 | P17: ='105100-HLS'!P17+'105101-HCQ'!P17+'105102-HOV'!P17+'105103-HIL'!P17 -> 43 | Q17: ='105100-HLS'!Q17+'105101-HCQ'!Q17+'105102-HOV'!Q17+'105103-HIL'!Q17 -> 57 | R17: ='105100-HLS'!R17+'105101-HCQ'!R17+'105102-HOV'!R17+'105103-HIL'!R17 -> 39 | S17: ='105100-HLS'!S17+'105101-HCQ'!S17+'105102-HOV'!S17+'105103-HIL'!S17 -> 17 | T17: ='105100-HLS'!T17+'105101-HCQ'!T17+'105102-HOV'!T17+'105103-HIL'!T17 -> 15 | U17: ='105100-HLS'!U17+'105101-HCQ'!U17+'105102-HOV'!U17+'105103-HIL'!U17 -> 37 | V17: ='105100-HLS'!V17+'105101-HCQ'!V17+'105102-HOV'!V17+'105103-HIL'!V17 -> 35 | ... Z17: ='105100-HLS'!Z17+'105101-HCQ'!Z17+'105102-HOV'!Z17+'105103-HIL'!Z17 -> 29 | AA17: =SUM(O17:Z17) -> 389 | AB17: =IFERROR(N17/AA17,0) -> 0
A18: ENDOCRINOLOGÍA PEDIÁTRICA | B18: ='105100-HLS'!B18+'105101-HCQ'!B18+'105102-HOV'!B18+'105103-HIL'!B18 -> 0 | C18: ='105100-HLS'!C18+'105101-HCQ'!C18+'105102-HOV'!C18+'105103-HIL'!C18 -> 0 | D18: ='105100-HLS'!D18+'105101-HCQ'!D18+'105102-HOV'!D18+'105103-HIL'!D18 -> 0 | E18: ='105100-HLS'!E18+'105101-HCQ'!E18+'105102-HOV'!E18+'105103-HIL'!E18 -> 0 | F18: ='105100-HLS'!F18+'105101-HCQ'!F18+'105102-HOV'!F18+'105103-HIL'!F18 -> 0 | G18: ='105100-HLS'!G18+'105101-HCQ'!G18+'105102-HOV'!G18+'105103-HIL'!G18 -> 0 | H18: ='105100-HLS'!H18+'105101-HCQ'!H18+'105102-HOV'!H18+'105103-HIL'!H18 -> 0 | I18: ='105100-HLS'!I18+'105101-HCQ'!I18+'105102-HOV'!I18+'105103-HIL'!I18 -> 0 | ... M18: ='105100-HLS'!M18+'105101-HCQ'!M18+'105102-HOV'!M18+'105103-HIL'!M18 -> 0 | N18: =SUM(B18:M18) -> 0 | O18: ='105100-HLS'!O18+'105101-HCQ'!O18+'105102-HOV'!O18+'105103-HIL'!O18 -> 5 | P18: ='105100-HLS'!P18+'105101-HCQ'!P18+'105102-HOV'!P18+'105103-HIL'!P18 -> 14 | Q18: ='105100-HLS'!Q18+'105101-HCQ'!Q18+'105102-HOV'!Q18+'105103-HIL'!Q18 -> 16 | R18: ='105100-HLS'!R18+'105101-HCQ'!R18+'105102-HOV'!R18+'105103-HIL'!R18 -> 4 | S18: ='105100-HLS'!S18+'105101-HCQ'!S18+'105102-HOV'!S18+'105103-HIL'!S18 -> 13 | T18: ='105100-HLS'!T18+'105101-HCQ'!T18+'105102-HOV'!T18+'105103-HIL'!T18 -> 8 | U18: ='105100-HLS'!U18+'105101-HCQ'!U18+'105102-HOV'!U18+'105103-HIL'!U18 -> 13 | V18: ='105100-HLS'!V18+'105101-HCQ'!V18+'105102-HOV'!V18+'105103-HIL'!V18 -> 19 | ... Z18: ='105100-HLS'!Z18+'105101-HCQ'!Z18+'105102-HOV'!Z18+'105103-HIL'!Z18 -> 22 | AA18: =SUM(O18:Z18) -> 179 | AB18: =IFERROR(N18/AA18,0) -> 0
A19: ENDOCRINOLOGÍA ADULTO | B19: ='105100-HLS'!B19+'105101-HCQ'!B19+'105102-HOV'!B19+'105103-HIL'!B19 -> 0 | C19: ='105100-HLS'!C19+'105101-HCQ'!C19+'105102-HOV'!C19+'105103-HIL'!C19 -> 0 | D19: ='105100-HLS'!D19+'105101-HCQ'!D19+'105102-HOV'!D19+'105103-HIL'!D19 -> 0 | E19: ='105100-HLS'!E19+'105101-HCQ'!E19+'105102-HOV'!E19+'105103-HIL'!E19 -> 0 | F19: ='105100-HLS'!F19+'105101-HCQ'!F19+'105102-HOV'!F19+'105103-HIL'!F19 -> 0 | G19: ='105100-HLS'!G19+'105101-HCQ'!G19+'105102-HOV'!G19+'105103-HIL'!G19 -> 0 | H19: ='105100-HLS'!H19+'105101-HCQ'!H19+'105102-HOV'!H19+'105103-HIL'!H19 -> 0 | I19: ='105100-HLS'!I19+'105101-HCQ'!I19+'105102-HOV'!I19+'105103-HIL'!I19 -> 0 | ... M19: ='105100-HLS'!M19+'105101-HCQ'!M19+'105102-HOV'!M19+'105103-HIL'!M19 -> 0 | N19: =SUM(B19:M19) -> 0 | O19: ='105100-HLS'!O19+'105101-HCQ'!O19+'105102-HOV'!O19+'105103-HIL'!O19 -> 14 | P19: ='105100-HLS'!P19+'105101-HCQ'!P19+'105102-HOV'!P19+'105103-HIL'!P19 -> 4 | Q19: ='105100-HLS'!Q19+'105101-HCQ'!Q19+'105102-HOV'!Q19+'105103-HIL'!Q19 -> 19 | R19: ='105100-HLS'!R19+'105101-HCQ'!R19+'105102-HOV'!R19+'105103-HIL'!R19 -> 16 | S19: ='105100-HLS'!S19+'105101-HCQ'!S19+'105102-HOV'!S19+'105103-HIL'!S19 -> 10 | T19: ='105100-HLS'!T19+'105101-HCQ'!T19+'105102-HOV'!T19+'105103-HIL'!T19 -> 13 | U19: ='105100-HLS'!U19+'105101-HCQ'!U19+'105102-HOV'!U19+'105103-HIL'!U19 -> 13 | V19: ='105100-HLS'!V19+'105101-HCQ'!V19+'105102-HOV'!V19+'105103-HIL'!V19 -> 7 | ... Z19: ='105100-HLS'!Z19+'105101-HCQ'!Z19+'105102-HOV'!Z19+'105103-HIL'!Z19 -> 6 | AA19: =SUM(O19:Z19) -> 153 | AB19: =IFERROR(N19/AA19,0) -> 0
A20: GASTROENTEROLOGÍA PEDIÁTRICA | B20: ='105100-HLS'!B20+'105101-HCQ'!B20+'105102-HOV'!B20+'105103-HIL'!B20 -> 0 | C20: ='105100-HLS'!C20+'105101-HCQ'!C20+'105102-HOV'!C20+'105103-HIL'!C20 -> 0 | D20: ='105100-HLS'!D20+'105101-HCQ'!D20+'105102-HOV'!D20+'105103-HIL'!D20 -> 0 | E20: ='105100-HLS'!E20+'105101-HCQ'!E20+'105102-HOV'!E20+'105103-HIL'!E20 -> 0 | F20: ='105100-HLS'!F20+'105101-HCQ'!F20+'105102-HOV'!F20+'105103-HIL'!F20 -> 0 | G20: ='105100-HLS'!G20+'105101-HCQ'!G20+'105102-HOV'!G20+'105103-HIL'!G20 -> 0 | H20: ='105100-HLS'!H20+'105101-HCQ'!H20+'105102-HOV'!H20+'105103-HIL'!H20 -> 0 | I20: ='105100-HLS'!I20+'105101-HCQ'!I20+'105102-HOV'!I20+'105103-HIL'!I20 -> 0 | ... M20: ='105100-HLS'!M20+'105101-HCQ'!M20+'105102-HOV'!M20+'105103-HIL'!M20 -> 0 | N20: =SUM(B20:M20) -> 0 | O20: ='105100-HLS'!O20+'105101-HCQ'!O20+'105102-HOV'!O20+'105103-HIL'!O20 -> 4 | P20: ='105100-HLS'!P20+'105101-HCQ'!P20+'105102-HOV'!P20+'105103-HIL'!P20 -> 7 | Q20: ='105100-HLS'!Q20+'105101-HCQ'!Q20+'105102-HOV'!Q20+'105103-HIL'!Q20 -> 4 | R20: ='105100-HLS'!R20+'105101-HCQ'!R20+'105102-HOV'!R20+'105103-HIL'!R20 -> 7 | S20: ='105100-HLS'!S20+'105101-HCQ'!S20+'105102-HOV'!S20+'105103-HIL'!S20 -> 7 | T20: ='105100-HLS'!T20+'105101-HCQ'!T20+'105102-HOV'!T20+'105103-HIL'!T20 -> 8 | U20: ='105100-HLS'!U20+'105101-HCQ'!U20+'105102-HOV'!U20+'105103-HIL'!U20 -> 8 | V20: ='105100-HLS'!V20+'105101-HCQ'!V20+'105102-HOV'!V20+'105103-HIL'!V20 -> 6 | ... Z20: ='105100-HLS'!Z20+'105101-HCQ'!Z20+'105102-HOV'!Z20+'105103-HIL'!Z20 -> 15 | AA20: =SUM(O20:Z20) -> 119 | AB20: =IFERROR(N20/AA20,0) -> 0
A21: GASTROENTEROLOGÍA ADULTO | B21: ='105100-HLS'!B21+'105101-HCQ'!B21+'105102-HOV'!B21+'105103-HIL'!B21 -> 0 | C21: ='105100-HLS'!C21+'105101-HCQ'!C21+'105102-HOV'!C21+'105103-HIL'!C21 -> 0 | D21: ='105100-HLS'!D21+'105101-HCQ'!D21+'105102-HOV'!D21+'105103-HIL'!D21 -> 0 | E21: ='105100-HLS'!E21+'105101-HCQ'!E21+'105102-HOV'!E21+'105103-HIL'!E21 -> 0 | F21: ='105100-HLS'!F21+'105101-HCQ'!F21+'105102-HOV'!F21+'105103-HIL'!F21 -> 0 | G21: ='105100-HLS'!G21+'105101-HCQ'!G21+'105102-HOV'!G21+'105103-HIL'!G21 -> 0 | H21: ='105100-HLS'!H21+'105101-HCQ'!H21+'105102-HOV'!H21+'105103-HIL'!H21 -> 0 | I21: ='105100-HLS'!I21+'105101-HCQ'!I21+'105102-HOV'!I21+'105103-HIL'!I21 -> 0 | ... M21: ='105100-HLS'!M21+'105101-HCQ'!M21+'105102-HOV'!M21+'105103-HIL'!M21 -> 0 | N21: =SUM(B21:M21) -> 0 | O21: ='105100-HLS'!O21+'105101-HCQ'!O21+'105102-HOV'!O21+'105103-HIL'!O21 -> 22 | P21: ='105100-HLS'!P21+'105101-HCQ'!P21+'105102-HOV'!P21+'105103-HIL'!P21 -> 21 | Q21: ='105100-HLS'!Q21+'105101-HCQ'!Q21+'105102-HOV'!Q21+'105103-HIL'!Q21 -> 14 | R21: ='105100-HLS'!R21+'105101-HCQ'!R21+'105102-HOV'!R21+'105103-HIL'!R21 -> 15 | S21: ='105100-HLS'!S21+'105101-HCQ'!S21+'105102-HOV'!S21+'105103-HIL'!S21 -> 15 | T21: ='105100-HLS'!T21+'105101-HCQ'!T21+'105102-HOV'!T21+'105103-HIL'!T21 -> 9 | U21: ='105100-HLS'!U21+'105101-HCQ'!U21+'105102-HOV'!U21+'105103-HIL'!U21 -> 9 | V21: ='105100-HLS'!V21+'105101-HCQ'!V21+'105102-HOV'!V21+'105103-HIL'!V21 -> 4 | ... Z21: ='105100-HLS'!Z21+'105101-HCQ'!Z21+'105102-HOV'!Z21+'105103-HIL'!Z21 -> 7 | AA21: =SUM(O21:Z21) -> 140 | AB21: =IFERROR(N21/AA21,0) -> 0
A22: GENÉTICA CLÍNICA | B22: ='105100-HLS'!B22+'105101-HCQ'!B22+'105102-HOV'!B22+'105103-HIL'!B22 -> 0 | C22: ='105100-HLS'!C22+'105101-HCQ'!C22+'105102-HOV'!C22+'105103-HIL'!C22 -> 0 | D22: ='105100-HLS'!D22+'105101-HCQ'!D22+'105102-HOV'!D22+'105103-HIL'!D22 -> 0 | E22: ='105100-HLS'!E22+'105101-HCQ'!E22+'105102-HOV'!E22+'105103-HIL'!E22 -> 0 | F22: ='105100-HLS'!F22+'105101-HCQ'!F22+'105102-HOV'!F22+'105103-HIL'!F22 -> 0 | G22: ='105100-HLS'!G22+'105101-HCQ'!G22+'105102-HOV'!G22+'105103-HIL'!G22 -> 0 | H22: ='105100-HLS'!H22+'105101-HCQ'!H22+'105102-HOV'!H22+'105103-HIL'!H22 -> 0 | I22: ='105100-HLS'!I22+'105101-HCQ'!I22+'105102-HOV'!I22+'105103-HIL'!I22 -> 0 | ... M22: ='105100-HLS'!M22+'105101-HCQ'!M22+'105102-HOV'!M22+'105103-HIL'!M22 -> 0 | N22: =SUM(B22:M22) -> 0 | O22: ='105100-HLS'!O22+'105101-HCQ'!O22+'105102-HOV'!O22+'105103-HIL'!O22 -> 0 | P22: ='105100-HLS'!P22+'105101-HCQ'!P22+'105102-HOV'!P22+'105103-HIL'!P22 -> 0 | Q22: ='105100-HLS'!Q22+'105101-HCQ'!Q22+'105102-HOV'!Q22+'105103-HIL'!Q22 -> 0 | R22: ='105100-HLS'!R22+'105101-HCQ'!R22+'105102-HOV'!R22+'105103-HIL'!R22 -> 0 | S22: ='105100-HLS'!S22+'105101-HCQ'!S22+'105102-HOV'!S22+'105103-HIL'!S22 -> 0 | T22: ='105100-HLS'!T22+'105101-HCQ'!T22+'105102-HOV'!T22+'105103-HIL'!T22 -> 0 | U22: ='105100-HLS'!U22+'105101-HCQ'!U22+'105102-HOV'!U22+'105103-HIL'!U22 -> 0 | V22: ='105100-HLS'!V22+'105101-HCQ'!V22+'105102-HOV'!V22+'105103-HIL'!V22 -> 0 | ... Z22: ='105100-HLS'!Z22+'105101-HCQ'!Z22+'105102-HOV'!Z22+'105103-HIL'!Z22 -> 0 | AA22: =SUM(O22:Z22) -> 0 | AB22: =IFERROR(N22/AA22,0) -> 0
... A85: *OTRAS ESPECIALIDADES ADULTO | B85: ='105100-HLS'!B85+'105101-HCQ'!B85+'105102-HOV'!B85+'105103-HIL'!B85 -> 0 | C85: ='105100-HLS'!C85+'105101-HCQ'!C85+'105102-HOV'!C85+'105103-HIL'!C85 -> 0 | D85: ='105100-HLS'!D85+'105101-HCQ'!D85+'105102-HOV'!D85+'105103-HIL'!D85 -> 0 | E85: ='105100-HLS'!E85+'105101-HCQ'!E85+'105102-HOV'!E85+'105103-HIL'!E85 -> 0 | F85: ='105100-HLS'!F85+'105101-HCQ'!F85+'105102-HOV'!F85+'105103-HIL'!F85 -> 0 | G85: ='105100-HLS'!G85+'105101-HCQ'!G85+'105102-HOV'!G85+'105103-HIL'!G85 -> 0 | H85: ='105100-HLS'!H85+'105101-HCQ'!H85+'105102-HOV'!H85+'105103-HIL'!H85 -> 0 | I85: ='105100-HLS'!I85+'105101-HCQ'!I85+'105102-HOV'!I85+'105103-HIL'!I85 -> 0 | ... M85: ='105100-HLS'!M85+'105101-HCQ'!M85+'105102-HOV'!M85+'105103-HIL'!M85 -> 0 | N85: =SUM(B85:M85) -> 0 | O85: ='105100-HLS'!O85+'105101-HCQ'!O85+'105102-HOV'!O85+'105103-HIL'!O85 -> 11 | P85: ='105100-HLS'!P85+'105101-HCQ'!P85+'105102-HOV'!P85+'105103-HIL'!P85 -> 43 | Q85: ='105100-HLS'!Q85+'105101-HCQ'!Q85+'105102-HOV'!Q85+'105103-HIL'!Q85 -> 340 | R85: ='105100-HLS'!R85+'105101-HCQ'!R85+'105102-HOV'!R85+'105103-HIL'!R85 -> 96 | S85: ='105100-HLS'!S85+'105101-HCQ'!S85+'105102-HOV'!S85+'105103-HIL'!S85 -> 222 | T85: ='105100-HLS'!T85+'105101-HCQ'!T85+'105102-HOV'!T85+'105103-HIL'!T85 -> 182 | U85: ='105100-HLS'!U85+'105101-HCQ'!U85+'105102-HOV'!U85+'105103-HIL'!U85 -> 159 | V85: ='105100-HLS'!V85+'105101-HCQ'!V85+'105102-HOV'!V85+'105103-HIL'!V85 -> 94 | ... Z85: ='105100-HLS'!Z85+'105101-HCQ'!Z85+'105102-HOV'!Z85+'105103-HIL'!Z85 -> 97 | AA85: =SUM(O85:Z85) -> 1945 | AB85: =IFERROR(N85/AA85,0) -> 0
A86: CONSULTAS PERTINENTES | B86: =SUM(B11:B85) -> 0 | C86: =SUM(C11:C85) -> 0 | D86: =SUM(D11:D85) -> 0 | E86: =SUM(E11:E85) -> 0 | F86: =SUM(F11:F85) -> 0 | G86: =SUM(G11:G85) -> 0 | H86: =SUM(H11:H85) -> 0 | I86: =SUM(I11:I85) -> 0 | ... AA86: =SUM(AA11:AA85) -> 25212 | AB86: =IFERROR(N86/AA86,0) -> 0

Sheet 105100-HLS
A1: MINISTERIO DE SALUD
A2: SERVICIO DE SALUD COQUIMBO
A3: SUBDIRECCION DE GESTION ASISTENCIAL
A4: SUBDEPTO. DE ESTADISTICAS Y GESTION DE LA INFORMACION
A5: AÑO 2022
A6: INDICADOR 1.4:Porcentaje de contra referencias realizadas al alta de consulta de especialidad.
A8: ESPECIALIDADES Y SUB-ESPECIALIDADES MEDICAS | B8: NUMERADOR | O8: DENOMINADOR | AB8: INDICADOR
B9: N° de contra referencias a las altas médicas de consulta de especialidad realizadas en el periodo (presenciales y remotas) | O9: N° de altas médicas de consultas de especialidad realizadas en el periodo (presenciales y remotas)
B10: Enero | C10: Febrero | D10: Marzo | E10: Abril | F10: Mayo | G10: Junio | H10: Julio | I10: Agosto | J10: Septiembre | K10: Octubre | L10: Noviembre | M10: Diciembre | N10: Total | O10: Enero | P10: Febrero | Q10: Marzo | R10: Abril | S10: Mayo | T10: Junio | U10: Julio | V10: Agosto | W10: Septiembre | X10: Octubre | Y10: Noviembre | Z10: Diciembre | AA10: Total
A11: PEDIATRÍA | N11: =SUM(B11:M11) -> 0 | O11: 24 | P11: 31 | Q11: 0 | R11: 27 | S11: 23 | T11: 17 | U11: 7 | V11: 6 | W11: 1 | X11: 14 | Y11: 4 | Z11: 2 | AA11: =SUM(O11:Z11) -> 156 | AB11: =IFERROR(N11/AA11,0) -> 0
A12: MEDICINA INTERNA | N12: =SUM(B12:M12) -> 0 | O12: 208 | P12: 334 | Q12: 349 | R12: 269 | S12: 294 | T12: 202 | U12: 257 | V12: 274 | W12: 253 | X12: 210 | Y12: 280 | Z12: 214 | AA12: =SUM(O12:Z12) -> 3144 | AB12: =IFERROR(N12/AA12,0) -> 0
A13: NEONATOLOGÍA | N13: =SUM(B13:M13) -> 0 | O13: 10 | P13: 6 | Q13: 0 | R13: 3 | S13: 8 | T13: 2 | U13: 5 | V13: 4 | W13: 6 | X13: 17 | Y13: 11 | Z13: 8 | AA13: =SUM(O13:Z13) -> 80 | AB13: =IFERROR(N13/AA13,0) -> 0
A14: ENFERMEDAD RESPIRATORIA PEDIÁTRICA (BRONCOPULMONAR INFANTIL) | N14: =SUM(B14:M14) -> 0 | O14: 4 | P14: 2 | Q14: 2 | R14: 0 | S14: 2 | T14: 0 | U14: 2 | V14: 6 | W14: 0 | X14: 0 | Y14: 0 | Z14: 1 | AA14: =SUM(O14:Z14) -> 19 | AB14: =IFERROR(N14/AA14,0) -> 0
A15: ENFERMEDAD RESPIRATORIA DE ADULTO (BRONCOPULMONAR) | N15: =SUM(B15:M15) -> 0 | O15: 2 | P15: 3 | Q15: 2 | R15: 1 | S15: 0 | T15: 0 | U15: 0 | V15: 0 | W15: 0 | X15: 0 | Y15: 0 | Z15: 0 | AA15: =SUM(O15:Z15) -> 8 | AB15: =IFERROR(N15/AA15,0) -> 0
A16: CARDIOLOGÍA PEDIÁTRICA | N16: =SUM(B16:M16) -> 0 | O16: 14 | P16: 14 | Q16: 13 | R16: 11 | S16: 11 | T16: 6 | U16: 9 | V16: 5 | W16: 17 | X16: 6 | Y16: 18 | Z16: 7 | AA16: =SUM(O16:Z16) -> 131 | AB16: =IFERROR(N16/AA16,0) -> 0
A17: CARDIOLOGÍA | N17: =SUM(B17:M17) -> 0 | O17: 16 | P17: 20 | Q17: 37 | R17: 18 | S17: 2 | T17: 0 | U17: 1 | V17: 2 | W17: 7 | X17: 3 | Y17: 9 | Z17: 12 | AA17: =SUM(O17:Z17) -> 127 | AB17: =IFERROR(N17/AA17,0) -> 0
A18: ENDOCRINOLOGÍA PEDIÁTRICA | N18: =SUM(B18:M18) -> 0 | O18: 2 | P18: 4 | Q18: 6 | R18: 0 | S18: 1 | T18: 0 | U18: 1 | V18: 3 | W18: 4 | X18: 2 | Y18: 0 | Z18: 5 | AA18: =SUM(O18:Z18) -> 28 | AB18: =IFERROR(N18/AA18,0) -> 0
A19: ENDOCRINOLOGÍA ADULTO | N19: =SUM(B19:M19) -> 0 | O19: 7 | P19: 3 | Q19: 16 | R19: 10 | S19: 2 | T19: 11 | U19: 7 | V19: 3 | W19: 10 | X19: 8 | Y19: 17 | Z19: 4 | AA19: =SUM(O19:Z19) -> 98 | AB19: =IFERROR(N19/AA19,0) -> 0
A20: GASTROENTEROLOGÍA PEDIÁTRICA | N20: =SUM(B20:M20) -> 0 | O20: 2 | P20: 5 | Q20: 3 | R20: 2 | S20: 0 | T20: 5 | U20: 0 | V20: 1 | W20: 2 | X20: 1 | Y20: 3 | Z20: 2 | AA20: =SUM(O20:Z20) -> 26 | AB20: =IFERROR(N20/AA20,0) -> 0
A21: GASTROENTEROLOGÍA ADULTO | N21: =SUM(B21:M21) -> 0 | O21: 4 | P21: 13 | Q21: 11 | R21: 6 | S21: 1 | T21: 3 | U21: 3 | V21: 1 | W21: 2 | X21: 2 | Y21: 4 | Z21: 2 | AA21: =SUM(O21:Z21) -> 52 | AB21: =IFERROR(N21/AA21,0) -> 0
A22: GENÉTICA CLÍNICA | N22: =SUM(B22:M22) -> 0 | O22: 0 | P22: 0 | Q22: 0 | R22: 0 | S22: 0 | T22: 0 | U22: 0 | V22: 0 | W22: 0 | X22: 0 | Y22: 0 | Z22: 0 | AA22: =SUM(O22:Z22) -> 0 | AB22: =IFERROR(N22/AA22,0) -> 0
... A85: *OTRAS ESPECIALIDADES ADULTO | N85: =SUM(B85:M85) -> 0 | O85: 0 | P85: 0 | Q85: 0 | R85: 0 | S85: 0 | T85: 0 | U85: 0 | V85: 0 | W85: 0 | X85: 0 | Y85: 0 | Z85: 0 | AA85: =SUM(O85:Z85) -> 0 | AB85: =IFERROR(N85/AA85,0) -> 0
A86: CONSULTAS PERTINENTES | B86: =SUM(B11:B85) -> 0 | C86: =SUM(C11:C85) -> 0 | D86: =SUM(D11:D85) -> 0 | E86: =SUM(E11:E85) -> 0 | F86: =SUM(F11:F85) -> 0 | G86: =SUM(G11:G85) -> 0 | H86: =SUM(H11:H85) -> 0 | I86: =SUM(I11:I85) -> 0 | ... AA86: =SUM(AA11:AA85) -> 7002 | AB86: =IFERROR(N86/AA86,0) -> 0

Sheet 105101-HCQ
A1: MINISTERIO DE SALUD
A2: SERVICIO DE SALUD COQUIMBO
A3: SUBDIRECCION DE GESTION ASISTENCIAL
A4: SUBDEPTO. DE ESTADISTICAS Y GESTION DE LA INFORMACION
A5: AÑO 2022
A6: INDICADOR 1.4:Porcentaje de contra referencias realizadas al alta de consulta de especialidad.
A8: ESPECIALIDADES Y SUB-ESPECIALIDADES MEDICAS | B8: NUMERADOR | O8: DENOMINADOR | AB8: INDICADOR
B9: N° de contra referencias a las altas médicas de consulta de especialidad realizadas en el periodo (presenciales y remotas) | O9: N° de altas médicas de consultas de especialidad realizadas en el periodo (presenciales y remotas)
B10: Enero | C10: Febrero | D10: Marzo | E10: Abril | F10: Mayo | G10: Junio | H10: Julio | I10: Agosto | J10: Septiembre | K10: Octubre | L10: Noviembre | M10: Diciembre | N10: Total | O10: Enero | P10: Febrero | Q10: Marzo | R10: Abril | S10: Mayo | T10: Junio | U10: Julio | V10: Agosto | W10: Septiembre | X10: Octubre | Y10: Noviembre | Z10: Diciembre | AA10: Total
A11: PEDIATRÍA | N11: =SUM(B11:M11) -> 0 | O11: 17 | P11: 10 | Q11: 14 | R11: 13 | S11: 18 | T11: 20 | U11: 13 | V11: 17 | W11: 12 | X11: 8 | Y11: 3 | Z11: 13 | AA11: =SUM(O11:Z11) -> 158 | AB11: =IFERROR(N11/AA11,0) -> 0
A12: MEDICINA INTERNA | N12: =SUM(B12:M12) -> 0 | O12: 3 | P12: 8 | Q12: 23 | R12: 24 | S12: 9 | T12: 6 | U12: 14 | V12: 10 | W12: 14 | X12: 7 | Y12: 9 | Z12: 4 | AA12: =SUM(O12:Z12) -> 131 | AB12: =IFERROR(N12/AA12,0) -> 0
A13: NEONATOLOGÍA | N13: =SUM(B13:M13) -> 0 | O13: 0 | P13: 0 | Q13: 0 | R13: 0 | S13: 0 | T13: 0 | U13: 0 | V13: 0 | W13: 0 | X13: 0 | Y13: 0 | Z13: 0 | AA13: =SUM(O13:Z13) -> 0 | AB13: =IFERROR(N13/AA13,0) -> 0
A14: ENFERMEDAD RESPIRATORIA PEDIÁTRICA (BRONCOPULMONAR INFANTIL) | N14: =SUM(B14:M14) -> 0 | O14: 7 | P14: 1 | Q14: 9 | R14: 8 | S14: 1 | T14: 5 | U14: 3 | V14: 4 | W14: 2 | X14: 1 | Y14: 5 | Z14: 2 | AA14: =SUM(O14:Z14) -> 48 | AB14: =IFERROR(N14/AA14,0) -> 0
A15: ENFERMEDAD RESPIRATORIA DE ADULTO (BRONCOPULMONAR) | N15: =SUM(B15:M15) -> 0 | O15: 1 | P15: 2 | Q15: 2 | R15: 1 | S15: 2 | T15: 3 | U15: 2 | V15: 1 | W15: 1 | X15: 6 | Y15: 3 | Z15: 2 | AA15: =SUM(O15:Z15) -> 26 | AB15: =IFERROR(N15/AA15,0) -> 0
A16: CARDIOLOGÍA PEDIÁTRICA | N16: =SUM(B16:M16) -> 0 | O16: 11 | P16: 6 | Q16: 18 | R16: 22 | S16: 7 | T16: 11 | U16: 6 | V16: 8 | W16: 12 | X16: 3 | Y16: 13 | Z16: 8 | AA16: =SUM(O16:Z16) -> 125 | AB16: =IFERROR(N16/AA16,0) -> 0
A17: CARDIOLOGÍA | N17: =SUM(B17:M17) -> 0 | O17: 4 | P17: 3 | Q17: 3 | R17: 1 | S17: 9 | T17: 4 | U17: 4 | V17: 11 | W17: 4 | X17: 5 | Y17: 4 | Z17: 9 | AA17: =SUM(O17:Z17) -> 61 | AB17: =IFERROR(N17/AA17,0) -> 0
A18: ENDOCRINOLOGÍA PEDIÁTRICA | N18: =SUM(B18:M18) -> 0 | O18: 2 | P18: 7 | Q18: 7 | R18: 2 | S18: 4 | T18: 4 | U18: 3 | V18: 5 | W18: 10 | X18: 2 | Y18: 7 | Z18: 5 | AA18: =SUM(O18:Z18) -> 58 | AB18: =IFERROR(N18/AA18,0) -> 0
A19: ENDOCRINOLOGÍA ADULTO | N19: =SUM(B19:M19) -> 0 | O19: 1 | P19: 0 | Q19: 2 | R19: 3 | S19: 7 | T19: 2 | U19: 4 | V19: 3 | W19: 2 | X19: 3 | Y19: 4 | Z19: 1 | AA19: =SUM(O19:Z19) -> 32 | AB19: =IFERROR(N19/AA19,0) -> 0
A20: GASTROENTEROLOGÍA PEDIÁTRICA | N20: =SUM(B20:M20) -> 0 | O20: 1 | P20: 0 | Q20: 1 | R20: 0 | S20: 2 | T20: 3 | U20: 7 | V20: 5 | W20: 12 | X20: 6 | Y20: 21 | Z20: 9 | AA20: =SUM(O20:Z20) -> 67 | AB20: =IFERROR(N20/AA20,0) -> 0
A21: GASTROENTEROLOGÍA ADULTO | N21: =SUM(B21:M21) -> 0 | O21: 5 | P21: 0 | Q21: 3 | R21: 0 | S21: 0 | T21: 0 | U21: 1 | V21: 0 | W21: 0 | X21: 0 | Y21: 0 | Z21: 0 | AA21: =SUM(O21:Z21) -> 9 | AB21: =IFERROR(N21/AA21,0) -> 0
A22: GENÉTICA CLÍNICA | N22: =SUM(B22:M22) -> 0 | O22: 0 | P22: 0 | Q22: 0 | R22: 0 | S22: 0 | T22: 0 | U22: 0 | V22: 0 | W22: 0 | X22: 0 | Y22: 0 | Z22: 0 | AA22: =SUM(O22:Z22) -> 0 | AB22: =IFERROR(N22/AA22,0) -> 0
... A85: *OTRAS ESPECIALIDADES ADULTO | N85: =SUM(B85:M85) -> 0 | O85: 10 | P85: 3 | Q85: 3 | R85: 10 | S85: 10 | T85: 5 | U85: 5 | V85: 5 | W85: 5 | X85: 6 | Y85: 4 | Z85: 1 | AA85: =SUM(O85:Z85) -> 67 | AB85: =IFERROR(N85/AA85,0) -> 0
A86: CONSULTAS PERTINENTES | B86: =SUM(B11:B85) -> 0 | C86: =SUM(C11:C85) -> 0 | D86: =SUM(D11:D85) -> 0 | E86: =SUM(E11:E85) -> 0 | F86: =SUM(F11:F85) -> 0 | G86: =SUM(G11:G85) -> 0 | H86: =SUM(H11:H85) -> 0 | I86: =SUM(I11:I85) -> 0 | ... AA86: =SUM(AA11:AA85) -> 6621 | AB86: =IFERROR(N86/AA86,0) -> 0

Sheet 105102-HOV
A1: MINISTERIO DE SALUD
A2: SERVICIO DE SALUD COQUIMBO
A3: SUBDIRECCION DE GESTION ASISTENCIAL
A4: SUBDEPTO. DE ESTADISTICAS Y GESTION DE LA INFORMACION
A5: AÑO 2022
A6: INDICADOR 1.4:Porcentaje de contra referencias realizadas al alta de consulta de especialidad.
A8: ESPECIALIDADES Y SUB-ESPECIALIDADES MEDICAS | B8: NUMERADOR | O8: DENOMINADOR | AB8: INDICADOR
B9: N° de contra referencias a las altas médicas de consulta de especialidad realizadas en el periodo (presenciales y remotas) | O9: N° de altas médicas de consultas de especialidad realizadas en el periodo (presenciales y remotas)
B10: Enero | C10: Febrero | D10: Marzo | E10: Abril | F10: Mayo | G10: Junio | H10: Julio | I10: Agosto | J10: Septiembre | K10: Octubre | L10: Noviembre | M10: Diciembre | N10: Total | O10: Enero | P10: Febrero | Q10: Marzo | R10: Abril | S10: Mayo | T10: Junio | U10: Julio | V10: Agosto | W10: Septiembre | X10: Octubre | Y10: Noviembre | Z10: Diciembre | AA10: Total
A11: PEDIATRÍA | N11: =SUM(B11:M11) -> 0 | O11: 17 | P11: 9 | Q11: 11 | R11: 9 | S11: 7 | T11: 10 | U11: 8 | V11: 10 | W11: 16 | X11: 5 | Y11: 11 | Z11: 13 | AA11: =SUM(O11:Z11) -> 126 | AB11: =IFERROR(N11/AA11,0) -> 0
A12: MEDICINA INTERNA | N12: =SUM(B12:M12) -> 0 | O12: 34 | P12: 26 | Q12: 20 | R12: 36 | S12: 65 | T12: 25 | U12: 52 | V12: 64 | W12: 56 | X12: 44 | Y12: 34 | Z12: 26 | AA12: =SUM(O12:Z12) -> 482 | AB12: =IFERROR(N12/AA12,0) -> 0
A13: NEONATOLOGÍA | N13: =SUM(B13:M13) -> 0 | O13: 6 | P13: 1 | Q13: 2 | R13: 1 | S13: 0 | T13: 0 | U13: 0 | V13: 0 | W13: 0 | X13: 0 | Y13: 0 | Z13: 0 | AA13: =SUM(O13:Z13) -> 10 | AB13: =IFERROR(N13/AA13,0) -> 0
A14: ENFERMEDAD RESPIRATORIA PEDIÁTRICA (BRONCOPULMONAR INFANTIL) | N14: =SUM(B14:M14) -> 0 | O14: 0 | P14: 0 | Q14: 0 | R14: 0 | S14: 0 | T14: 0 | U14: 0 | V14: 0 | W14: 0 | X14: 0 | Y14: 0 | Z14: 0 | AA14: =SUM(O14:Z14) -> 0 | AB14: =IFERROR(N14/AA14,0) -> 0
A15: ENFERMEDAD RESPIRATORIA DE ADULTO (BRONCOPULMONAR) | N15: =SUM(B15:M15) -> 0 | O15: 9 | P15: 0 | Q15: 0 | R15: 2 | S15: 4 | T15: 2 | U15: 1 | V15: 3 | W15: 0 | X15: 1 | Y15: 2 | Z15: 1 | AA15: =SUM(O15:Z15) -> 25 | AB15: =IFERROR(N15/AA15,0) -> 0
A16: CARDIOLOGÍA PEDIÁTRICA | N16: =SUM(B16:M16) -> 0 | O16: 0 | P16: 0 | Q16: 0 | R16: 0 | S16: 0 | T16: 0 | U16: 0 | V16: 0 | W16: 0 | X16: 0 | Y16: 0 | Z16: 0 | AA16: =SUM(O16:Z16) -> 0 | AB16: =IFERROR(N16/AA16,0) -> 0
A17: CARDIOLOGÍA | N17: =SUM(B17:M17) -> 0 | O17: 14 | P17: 20 | Q17: 17 | R17: 20 | S17: 6 | T17: 11 | U17: 32 | V17: 22 | W17: 23 | X17: 12 | Y17: 16 | Z17: 8 | AA17: =SUM(O17:Z17) -> 201 | AB17: =IFERROR(N17/AA17,0) -> 0
A18: ENDOCRINOLOGÍA PEDIÁTRICA | N18: =SUM(B18:M18) -> 0 | O18: 1 | P18: 3 | Q18: 3 | R18: 2 | S18: 8 | T18: 4 | U18: 9 | V18: 11 | W18: 12 | X18: 12 | Y18: 16 | Z18: 12 | AA18: =SUM(O18:Z18) -> 93 | AB18: =IFERROR(N18/AA18,0) -> 0
A19: ENDOCRINOLOGÍA ADULTO | N19: =SUM(B19:M19) -> 0 | O19: 6 | P19: 1 | Q19: 1 | R19: 3 | S19: 1 | T19: 0 | U19: 2 | V19: 1 | W19: 0 | X19: 2 | Y19: 5 | Z19: 1 | AA19: =SUM(O19:Z19) -> 23 | AB19: =IFERROR(N19/AA19,0) -> 0
A20: GASTROENTEROLOGÍA PEDIÁTRICA | N20: =SUM(B20:M20) -> 0 | O20: 1 | P20: 2 | Q20: 0 | R20: 5 | S20: 5 | T20: 0 | U20: 1 | V20: 0 | W20: 2 | X20: 2 | Y20: 4 | Z20: 4 | AA20: =SUM(O20:Z20) -> 26 | AB20: =IFERROR(N20/AA20,0) -> 0
A21: GASTROENTEROLOGÍA ADULTO | N21: =SUM(B21:M21) -> 0 | O21: 13 | P21: 8 | Q21: 0 | R21: 9 | S21: 14 | T21: 6 | U21: 5 | V21: 3 | W21: 11 | X21: 3 | Y21: 2 | Z21: 5 | AA21: =SUM(O21:Z21) -> 79 | AB21: =IFERROR(N21/AA21,0) -> 0
A22: GENÉTICA CLÍNICA | N22: =SUM(B22:M22) -> 0 | O22: 0 | P22: 0 | Q22: 0 | R22: 0 | S22: 0 | T22: 0 | U22: 0 | V22: 0 | W22: 0 | X22: 0 | Y22: 0 | Z22: 0 | AA22: =SUM(O22:Z22) -> 0 | AB22: =IFERROR(N22/AA22,0) -> 0
... A85: *OTRAS ESPECIALIDADES ADULTO | N85: =SUM(B85:M85) -> 0 | O85: 1 | P85: 40 | Q85: 337 | R85: 86 | S85: 212 | T85: 177 | U85: 154 | V85: 89 | W85: 160 | X85: 228 | Y85: 298 | Z85: 96 | AA85: =SUM(O85:Z85) -> 1878 | AB85: =IFERROR(N85/AA85,0) -> 0
A86: CONSULTAS PERTINENTES | B86: =SUM(B11:B85) -> 0 | C86: =SUM(C11:C85) -> 0 | D86: =SUM(D11:D85) -> 0 | E86: =SUM(E11:E85) -> 0 | F86: =SUM(F11:F85) -> 0 | G86: =SUM(G11:G85) -> 0 | H86: =SUM(H11:H85) -> 0 | I86: =SUM(I11:I85) -> 0 | ... AA86: =SUM(AA11:AA85) -> 7118 | AB86: =IFERROR(N86/AA86,0) -> 0

Sheet 105103-HIL
A1: MINISTERIO DE SALUD
A2: SERVICIO DE SALUD COQUIMBO
A3: SUBDIRECCION DE GESTION ASISTENCIAL
A4: SUBDEPTO. DE ESTADISTICAS Y GESTION DE LA INFORMACION
A5: AÑO 2022
A6: INDICADOR 1.4:Porcentaje de contra referencias realizadas al alta de consulta de especialidad.
A8: ESPECIALIDADES Y SUB-ESPECIALIDADES MEDICAS | B8: NUMERADOR | O8: DENOMINADOR | AB8: INDICADOR
B9: N° de contra referencias a las altas médicas de consulta de especialidad realizadas en el periodo (presenciales y remotas) | O9: N° de altas médicas de consultas de especialidad realizadas en el periodo (presenciales y remotas)
B10: Enero | C10: Febrero | D10: Marzo | E10: Abril | F10: Mayo | G10: Junio | H10: Julio | I10: Agosto | J10: Septiembre | K10: Octubre | L10: Noviembre | M10: Diciembre | N10: Total | O10: Enero | P10: Febrero | Q10: Marzo | R10: Abril | S10: Mayo | T10: Junio | U10: Julio | V10: Agosto | W10: Septiembre | X10: Octubre | Y10: Noviembre | Z10: Diciembre | AA10: Total
A11: PEDIATRÍA | N11: =SUM(B11:M11) -> 0 | O11: 2 | P11: 8 | Q11: 3 | R11: 0 | S11: 1 | T11: 6 | U11: 6 | V11: 8 | W11: 6 | X11: 6 | Y11: 10 | Z11: 3 | AA11: =SUM(O11:Z11) -> 59 | AB11: =IFERROR(N11/AA11,0) -> 0
A12: MEDICINA INTERNA | N12: =SUM(B12:M12) -> 0 | O12: 20 | P12: 13 | Q12: 8 | R12: 6 | S12: 28 | T12: 57 | U12: 63 | V12: 53 | W12: 32 | X12: 17 | Y12: 36 | Z12: 4 | AA12: =SUM(O12:Z12) -> 337 | AB12: =IFERROR(N12/AA12,0) -> 0
A13: NEONATOLOGÍA | N13: =SUM(B13:M13) -> 0 | O13: 0 | P13: 0 | Q13: 0 | R13: 0 | S13: 0 | T13: 0 | U13: 0 | V13: 0 | W13: 0 | X13: 0 | Y13: 0 | Z13: 0 | AA13: =SUM(O13:Z13) -> 0 | AB13: =IFERROR(N13/AA13,0) -> 0
A14: ENFERMEDAD RESPIRATORIA PEDIÁTRICA (BRONCOPULMONAR INFANTIL) | N14: =SUM(B14:M14) -> 0 | O14: 0 | P14: 0 | Q14: 0 | R14: 0 | S14: 0 | T14: 0 | U14: 0 | V14: 0 | W14: 0 | X14: 0 | Y14: 0 | Z14: 0 | AA14: =SUM(O14:Z14) -> 0 | AB14: =IFERROR(N14/AA14,0) -> 0
A15: ENFERMEDAD RESPIRATORIA DE ADULTO (BRONCOPULMONAR) | N15: =SUM(B15:M15) -> 0 | O15: 0 | P15: 0 | Q15: 0 | R15: 0 | S15: 0 | T15: 0 | U15: 0 | V15: 0 | W15: 0 | X15: 0 | Y15: 0 | Z15: 0 | AA15: =SUM(O15:Z15) -> 0 | AB15: =IFERROR(N15/AA15,0) -> 0
A16: CARDIOLOGÍA PEDIÁTRICA | N16: =SUM(B16:M16) -> 0 | O16: 0 | P16: 0 | Q16: 0 | R16: 0 | S16: 0 | T16: 0 | U16: 0 | V16: 0 | W16: 0 | X16: 0 | Y16: 0 | Z16: 0 | AA16: =SUM(O16:Z16) -> 0 | AB16: =IFERROR(N16/AA16,0) -> 0
A17: CARDIOLOGÍA | N17: =SUM(B17:M17) -> 0 | O17: 0 | P17: 0 | Q17: 0 | R17: 0 | S17: 0 | T17: 0 | U17: 0 | V17: 0 | W17: 0 | X17: 0 | Y17: 0 | Z17: 0 | AA17: =SUM(O17:Z17) -> 0 | AB17: =IFERROR(N17/AA17,0) -> 0
A18: ENDOCRINOLOGÍA PEDIÁTRICA | N18: =SUM(B18:M18) -> 0 | O18: 0 | P18: 0 | Q18: 0 | R18: 0 | S18: 0 | T18: 0 | U18: 0 | V18: 0 | W18: 0 | X18: 0 | Y18: 0 | Z18: 0 | AA18: =SUM(O18:Z18) -> 0 | AB18: =IFERROR(N18/AA18,0) -> 0
A19: ENDOCRINOLOGÍA ADULTO | N19: =SUM(B19:M19) -> 0 | O19: 0 | P19: 0 | Q19: 0 | R19: 0 | S19: 0 | T19: 0 | U19: 0 | V19: 0 | W19: 0 | X19: 0 | Y19: 0 | Z19: 0 | AA19: =SUM(O19:Z19) -> 0 | AB19: =IFERROR(N19/AA19,0) -> 0
A20: GASTROENTEROLOGÍA PEDIÁTRICA | N20: =SUM(B20:M20) -> 0 | O20: 0 | P20: 0 | Q20: 0 | R20: 0 | S20: 0 | T20: 0 | U20: 0 | V20: 0 | W20: 0 | X20: 0 | Y20: 0 | Z20: 0 | AA20: =SUM(O20:Z20) -> 0 | AB20: =IFERROR(N20/AA20,0) -> 0
A21: GASTROENTEROLOGÍA ADULTO | N21: =SUM(B21:M21) -> 0 | O21: 0 | P21: 0 | Q21: 0 | R21: 0 | S21: 0 | T21: 0 | U21: 0 | V21: 0 | W21: 0 | X21: 0 | Y21: 0 | Z21: 0 | AA21: =SUM(O21:Z21) -> 0 | AB21: =IFERROR(N21/AA21,0) -> 0
A22: GENÉTICA CLÍNICA | N22: =SUM(B22:M22) -> 0 | O22: 0 | P22: 0 | Q22: 0 | R22: 0 | S22: 0 | T22: 0 | U22: 0 | V22: 0 | W22: 0 | X22: 0 | Y22: 0 | Z22: 0 | AA22: =SUM(O22:Z22) -> 0 | AB22: =IFERROR(N22/AA22,0) -> 0
... A85: *OTRAS ESPECIALIDADES ADULTO | N85: =SUM(B85:M85) -> 0 | O85: 0 | P85: 0 | Q85: 0 | R85: 0 | S85: 0 | T85: 0 | U85: 0 | V85: 0 | W85: 0 | X85: 0 | Y85: 0 | Z85: 0 | AA85: =SUM(O85:Z85) -> 0 | AB85: =IFERROR(N85/AA85,0) -> 0
A86: CONSULTAS PERTINENTES | B86: =SUM(B11:B85) -> 0 | C86: =SUM(C11:C85) -> 0 | D86: =SUM(D11:D85) -> 0 | E86: =SUM(E11:E85) -> 0 | F86: =SUM(F11:F85) -> 0 | G86: =SUM(G11:G85) -> 0 | H86: =SUM(H11:H85) -> 0 | I86: =SUM(I11:I85) -> 0 | ... AA86: =SUM(AA11:AA85) -> 4471 | AB86: =IFERROR(N86/AA86,0) -> 0
