Workbook
Name SegmentaciónDeDatos_Hospital: #N/A

Sheet Resúmen
A1: MINISTERIO DE SALUD
A2: SERVICIO DE SALUD COQUIMBO
A3: SUBDIRECCION DE GESTION ASISTENCIAL
A4: SUBDEPTO. DE ESTADISTICAS Y GESTION DE LA INFORMACION
A5: AÑO 2022
C7: Hospital | D7: Indicador
C9: Hospital La Serena | D9: ='105100-HLS'!AB86 -> 0.056235092
C10: Hospital Coquimbo | D10: ='105101-HCQ'!AB86 -> 0.053858606
C11: Hospital Ovalle | D11: ='105102-HOV'!AB86 -> 0.072311678
C12: Hospital Illapel | D12: ='105103-HIL'!AB86 -> 0.088884913
C13: Servicio de Salud | D13: =Consolidado!AB86 -> 0.063637419
C14: Fuente: REM A07

Sheet Datos
A1: Hospital | B1: Indicador | D1: Hospital | E1: Especialidad | F1: Total
A2: Hospital La Serena | B2: 0.056235092 | D2: Hospital La Serena | E2: PEDIATRÍA | F2: ='105100-HLS'!AB11 -> 0.23744292
A3: Hospital Coquimbo | B3: 0.053858606 | D3: Hospital La Serena | E3: MEDICINA INTERNA | F3: ='105100-HLS'!AB12 -> 0.67656553 | H3: Etiquetas de fila | I3: Suma de Total
A4: Hospital Ovalle | B4: 0.072311678 | D4: Hospital La Serena | E4: NEONATOLOGÍA | F4: ='105100-HLS'!AB13 -> 0.064882401 | H4: GERIATRÍA | I4: 0.0026455026
A5: Hospital Illapel | B5: 0.088884913 | D5: Hospital La Serena | E5: ENFERMEDAD RESPIRATORIA PEDIÁTRICA (BRONCOPULMONAR INFANTIL) | F5: ='105100-HLS'!AB14 -> 0.012881356 | H5: CIRUGÍA TÓRAX | I5: 0.0042016807
D6: Hospital La Serena | E6: ENFERMEDAD RESPIRATORIA DE ADULTO (BRONCOPULMONAR) | F6: ='105100-HLS'!AB15 -> 0.0052015605 | H6: CIRUGÍA VASCULAR PERIFÉRICA | I6: 0.0043715847
A7: Etiquetas de fila | B7: Suma de Indicador | D7: Hospital La Serena | E7: CARDIOLOGÍA PEDIÁTRICA | F7: ='105100-HLS'!AB16 -> 0.094041637 | H7: INFECTOLOGÍA | I7: 0.0064308682
A8: Hospital Coquimbo | B8: 0.053858606 | D8: Hospital La Serena | E8: CARDIOLOGÍA | F8: ='105100-HLS'!AB17 -> 0.019538462 | H8: GASTROENTEROLOGÍA ADULTO | I8: 0.007252216
A9: Hospital La Serena | B9: 0.056235092 | D9: Hospital La Serena | E9: ENDOCRINOLOGÍA PEDIÁTRICA | F9: ='105100-HLS'!AB18 -> 0.025044723 | H9: ANESTESIOLOGÍA | I9: 0.011397922
A10: Hospital Ovalle | B10: 0.072311678 | D10: Hospital La Serena | E10: ENDOCRINOLOGÍA ADULTO | F10: ='105100-HLS'!AB19 -> 0.044303797 | H10: PSIQUIATRÍA | I10: 0.011680727
A11: Hospital Illapel | B11: 0.088884913 | D11: Hospital La Serena | E11: GASTROENTEROLOGÍA PEDIÁTRICA | F11: ='105100-HLS'!AB20 -> 0.018813314 | H11: *MEDICINA INTERNA | I11: 0.013544018
A12: Total general | B12: 0.27129029 | D12: Hospital La Serena | E12: GASTROENTEROLOGÍA ADULTO | F12: ='105100-HLS'!AB21 -> 0.0203125 | H12: ENFERMEDAD RESPIRATORIA DE ADULTO (BRONCOPULMONAR) | I12: 0.014730878
D13: Hospital La Serena | E13: GENÉTICA CLÍNICA | F13: ='105100-HLS'!AB22 -> 0 | H13: MEDICINA INTERNA | I13: 0.015368372
D14: Hospital La Serena | E14: HEMATO-ONCOLOGÍA INFANTIL | F14: ='105100-HLS'!AB23 -> 0.024570025 | H14: *OTRAS ESPECIALIDADES ADULTO | I14: 0.016289813
D15: Hospital La Serena | E15: HEMATOLOGÍA | F15: ='105100-HLS'!AB24 -> 0.026031895 | H15: UROLOGÍA | I15: 0.017603634
D16: Hospital La Serena | E16: NEFROLOGÍA PEDIÁTRICA | F16: ='105100-HLS'!AB25 -> 0.054631829 | H16: NEFROLOGÍA ADULTO | I16: 0.017731683
D17: Hospital La Serena | E17: NEFROLOGÍA ADULTO | F17: ='105100-HLS'!AB26 -> 0.052188552 | H17: REUMATOLOGÍA | I17: 0.017927416
D18: Hospital La Serena | E18: NUTRIÓLOGO PEDIÁTRICO | F18: ='105100-HLS'!AB27 -> 0.012539185 | H18: CARDIOLOGÍA | I18: 0.01806872
D19: Hospital La Serena | E19: NUTRIÓLOGO | F19: ='105100-HLS'!AB28 -> 0 | H19: PSIQUIATRÍA PEDIÁTRICA Y DE LA ADOLESCENCIA | I19: 0.020124913
D20: Hospital La Serena | E20: REUMATOLOGÍA PEDIÁTRICA | F20: ='105100-HLS'!AB29 -> 0.020833333 | H20: *CARDIOLOGIA ADULTO | I20: 0.02037037
D21: Hospital La Serena | E21: REUMATOLOGÍA | F21: ='105100-HLS'!AB30 -> 0.031587697 | H21: CIRUGÍA DIGESTIVA | I21: 0.022613065
D22: Hospital La Serena | E22: DERMATOLOGÍA | F22: ='105100-HLS'!AB31 -> 0 | H22: OBSTETRICIA | I22: 0.026290902
D23: Hospital La Serena | E23: INFECTOLOGÍA PEDIÁTRICA | F23: ='105100-HLS'!AB32 -> 0 | H23: NEFROLOGÍA PEDIÁTRICA | I23: 0.028571429
D24: Hospital La Serena | E24: INFECTOLOGÍA | F24: ='105100-HLS'!AB33 -> 0 | H24: ENDOCRINOLOGÍA ADULTO | I24: 0.029143898
... D48: Hospital La Serena | E48: GINECOLOGÍA | F48: ='105100-HLS'!AB57 -> 0.01205594 | H48: Total general | I48: 2.7937485
D49: Hospital La Serena | E49: OFTALMOLOGÍA | F49: ='105100-HLS'!AB58 -> 0.068165453
D50: Hospital La Serena | E50: OTORRINOLARINGOLOGÍA | F50: ='105100-HLS'!AB59 -> 0.074293757
D51: Hospital La Serena | E51: TRAUMATOLOGÍA Y ORTOPEDIA PEDIÁTRICA | F51: ='105100-HLS'!AB60 -> 0
D52: Hospital La Serena | E52: TRAUMATOLOGÍA Y ORTOPEDIA | F52: ='105100-HLS'!AB61 -> 0
D53: Hospital La Serena | E53: UROLOGÍA PEDIÁTRICA | F53: ='105100-HLS'!AB62 -> 0
D54: Hospital La Serena | E54: UROLOGÍA | F54: ='105100-HLS'!AB63 -> 0.014292196
D55: Hospital La Serena | E55: MEDICINA FAMILIAR DEL NIÑO | F55: ='105100-HLS'!AB64 -> 0
D56: Hospital La Serena | E56: MEDICINA FAMILIAR | F56: ='105100-HLS'!AB65 -> 0
D57: Hospital La Serena | E57: MEDICINA FAMILIAR ADULTO | F57: ='105100-HLS'!AB66 -> 0
D58: Hospital La Serena | E58: DIABETOLOGÍA | F58: ='105100-HLS'!AB67 -> 0.048961424
D59: Hospital La Serena | E59: MEDICINA NUCLEAR (EXCLUYE INFORMES) | F59: ='105100-HLS'!AB68 -> 0
D60: Hospital La Serena | E60: IMAGENOLOGÍA | F60: ='105100-HLS'!AB69 -> 0
... D76: Hospital La Serena | E76: *OTRAS ESPECIALIDADES ADULTO | F76: ='105100-HLS'!AB85 -> 0
D77: Hospital Coquimbo | E77: PEDIATRÍA | F77: ='105101-HCQ'!AB11 -> 0.05845357
D78: Hospital Coquimbo | E78: MEDICINA INTERNA | F78: ='105101-HCQ'!AB12 -> 0.015368372
...

Sheet Consolidado
A1: MINISTERIO DE SALUD
A2: SERVICIO DE SALUD COQUIMBO
A3: SUBDIRECCION DE GESTION ASISTENCIAL
A4: SUBDEPTO. DE ESTADISTICAS Y GESTION DE LA INFORMACION
A5: AÑO 2022
A6: INDICADOR 1.3:Porcentaje de altas médicas de consulta de especialidad en el nivel secundario.
A8: ESPECIALIDADES Y SUB-ESPECIALIDADES MEDICAS | B8: NUMERADOR | O8: DENOMINADOR | AB8: INDICADOR
B9: N° de altas médicas realizadas en el periodo (presenciales y remotas) | O9: N° de consultas médicas realizadas en el periodo (presenciales y remotas)
B10: Enero | C10: Febrero | D10: Marzo | E10: Abril | F10: Mayo | G10: Junio | H10: Julio | I10: Agosto | J10: Septiembre | K10: Octubre | L10: Noviembre | M10: Diciembre | N10: Total | O10: Enero | P10: Febrero | Q10: Marzo | R10: Abril | S10: Mayo | T10: Junio | U10: Julio | V10: Agosto | W10: Septiembre | X10: Octubre | Y10: Noviembre | Z10: Diciembre | AA10: Total
A11: PEDIATRÍA | B11: ='105100-HLS'!B11+'105101-HCQ'!B11+'105102-HOV'!B11+'105103-HIL'!B11 -> 60 | C11: ='105100-HLS'!C11+'105101-HCQ'!C11+'105102-HOV'!C11+'105103-HIL'!C11 -> 58 | D11: ='105100-HLS'!D11+'105101-HCQ'!D11+'105102-HOV'!D11+'105103-HIL'!D11 -> 28 | E11: ='105100-HLS'!E11+'105101-HCQ'!E11+'105102-HOV'!E11+'105103-HIL'!E11 -> 49 | F11: ='105100-HLS'!F11+'105101-HCQ'!F11+'105102-HOV'!F11+'105103-HIL'!F11 -> 49 | G11: ='105100-HLS'!G11+'105101-HCQ'!G11+'105102-HOV'!G11+'105103-HIL'!G11 -> 53 | H11: ='105100-HLS'!H11+'105101-HCQ'!H11+'105102-HOV'!H11+'105103-HIL'!H11 -> 34 | I11: ='105100-HLS'!I11+'105101-HCQ'!I11+'105102-HOV'!I11+'105103-HIL'!I11 -> 41 | ... M11: ='105100-HLS'!M11+'105101-HCQ'!M11+'105102-HOV'!M11+'105103-HIL'!M11 -> 31 | N11: =SUM(B11:M11) -> 499 | O11: ='105100-HLS'!O11+'105101-HCQ'!O11+'105102-HOV'!O11+'105103-HIL'!O11 -> 1029 | P11: ='105100-HLS'!P11+'105101-HCQ'!P11+'105102-HOV'!P11+'105103-HIL'!P11 -> 966 | Q11: ='105100-HLS'!Q11+'105101-HCQ'!Q11+'105102-HOV'!Q11+'105103-HIL'!Q11 -> 990 | R11: ='105100-HLS'!R11+'105101-HCQ'!R11+'105102-HOV'!R11+'105103-HIL'!R11 -> 994 | S11: ='105100-HLS'!S11+'105101-HCQ'!S11+'105102-HOV'!S11+'105103-HIL'!S11 -> 1082 | T11: ='105100-HLS'!T11+'105101-HCQ'!T11+'105102-HOV'!T11+'105103-HIL'!T11 -> 941 | U11: ='105100-HLS'!U11+'105101-HCQ'!U11+'105102-HOV'!U11+'105103-HIL'!U11 -> 944 | V11: ='105100-HLS'!V11+'105101-HCQ'!V11+'105102-HOV'!V11+'105103-HIL'!V11 -> 1196 | ... Z11: ='105100-HLS'!Z11+'105101-HCQ'!Z11+'105102-HOV'!Z11+'105103-HIL'!Z11 -> 824 | AA11: =SUM(O11:Z11) -> 11961 | AB11: =IFERROR(N11/AA11,0) -> 0.04171892
A12: MEDICINA INTERNA | B12: ='105100-HLS'!B12+'105101-HCQ'!B12+'105102-HOV'!B12+'105103-HIL'!B12 -> 265 | C12: ='105100-HLS'!C12+'105101-HCQ'!C12+'105102-HOV'!C12+'105103-HIL'!C12 -> 381 | D12: ='105100-HLS'!D12+'105101-HCQ'!D12+'105102-HOV'!D12+'105103-HIL'!D12 -> 400 | E12: ='105100-HLS'!E12+'105101-HCQ'!E12+'105102-HOV'!E12+'105103-HIL'!E12 -> 335 | F12: ='105100-HLS'!F12+'105101-HCQ'!F12+'105102-HOV'!F12+'105103-HIL'!F12 -> 396 | G12: ='105100-HLS'!G12+'105101-HCQ'!G12+'105102-HOV'!G12+'105103-HIL'!G12 -> 290 | H12: ='105100-HLS'!H12+'105101-HCQ'!H12+'105102-HOV'!H12+'105103-HIL'!H12 -> 386 | I12: ='105100-HLS'!I12+'105101-HCQ'!I12+'105102-HOV'!I12+'105103-HIL'!I12 -> 401 | ... M12: ='105100-HLS'!M12+'105101-HCQ'!M12+'105102-HOV'!M12+'105103-HIL'!M12 -> 248 | N12: =SUM(B12:M12) -> 4094 | O12: ='105100-HLS'!O12+'105101-HCQ'!O12+'105102-HOV'!O12+'105103-HIL'!O12 -> 2942 | P12: ='105100-HLS'!P12+'105101-HCQ'!P12+'105102-HOV'!P12+'105103-HIL'!P12 -> 3120 | Q12: ='105100-HLS'!Q12+'105101-HCQ'!Q12+'105102-HOV'!Q12+'105103-HIL'!Q12 -> 3673 | R12: ='105100-HLS'!R12+'105101-HCQ'!R12+'105102-HOV'!R12+'105103-HIL'!R12 -> 3061 | S12: ='105100-HLS'!S12+'105101-HCQ'!S12+'105102-HOV'!S12+'105103-HIL'!S12 -> 3691 | T12: ='105100-HLS'!T12+'105101-HCQ'!T12+'105102-HOV'!T12+'105103-HIL'!T12 -> 2783 | U12: ='105100-HLS'!U12+'105101-HCQ'!U12+'105102-HOV'!U12+'105103-HIL'!U12 -> 3322 | V12: ='105100-HLS'!V12+'105101-HCQ'!V12+'105102-HOV'!V12+'105103-HIL'!V12 -> 3052 | ... Z12: ='105100-HLS'!Z12+'105101-HCQ'!Z12+'105102-HOV'!Z12+'105103-HIL'!Z12 -> 2244 | AA12: =SUM(O12:Z12) -> 36743 | AB12: =IFERROR(N12/AA12,0) -> 0.11142258
A13: NEONATOLOGÍA | B13: ='105100-HLS'!B13+'105101-HCQ'!B13+'105102-HOV'!B13+'105103-HIL'!B13 -> 16 | C13: ='105100-HLS'!C13+'105101-HCQ'!C13+'105102-HOV'!C13+'105103-HIL'!C13 -> 7 | D13: ='105100-HLS'!D13+'105101-HCQ'!D13+'105102-HOV'!D13+'105103-HIL'!D13 -> 2 | E13: ='105100-HLS'!E13+'105101-HCQ'!E13+'105102-HOV'!E13+'105103-HIL'!E13 -> 4 | F13: ='105100-HLS'!F13+'105101-HCQ'!F13+'105102-HOV'!F13+'105103-HIL'!F13 -> 8 | G13: ='105100-HLS'!G13+'105101-HCQ'!G13+'105102-HOV'!G13+'105103-HIL'!G13 -> 2 | H13: ='105100-HLS'!H13+'105101-HCQ'!H13+'105102-HOV'!H13+'105103-HIL'!H13 -> 5 | I13: ='105100-HLS'!I13+'105101-HCQ'!I13+'105102-HOV'!I13+'105103-HIL'!I13 -> 4 | ... M13: ='105100-HLS'!M13+'105101-HCQ'!M13+'105102-HOV'!M13+'105103-HIL'!M13 -> 8 | N13: =SUM(B13:M13) -> 90 | O13: ='105100-HLS'!O13+'105101-HCQ'!O13+'105102-HOV'!O13+'105103-HIL'!O13 -> 199 | P13: ='105100-HLS'!P13+'105101-HCQ'!P13+'105102-HOV'!P13+'105103-HIL'!P13 -> 124 | Q13: ='105100-HLS'!Q13+'105101-HCQ'!Q13+'105102-HOV'!Q13+'105103-HIL'!Q13 -> 160 | R13: ='105100-HLS'!R13+'105101-HCQ'!R13+'105102-HOV'!R13+'105103-HIL'!R13 -> 124 | S13: ='105100-HLS'!S13+'105101-HCQ'!S13+'105102-HOV'!S13+'105103-HIL'!S13 -> 189 | T13: ='105100-HLS'!T13+'105101-HCQ'!T13+'105102-HOV'!T13+'105103-HIL'!T13 -> 150 | U13: ='105100-HLS'!U13+'105101-HCQ'!U13+'105102-HOV'!U13+'105103-HIL'!U13 -> 162 | V13: ='105100-HLS'!V13+'105101-HCQ'!V13+'105102-HOV'!V13+'105103-HIL'!V13 -> 155 | ... Z13: ='105100-HLS'!Z13+'105101-HCQ'!Z13+'105102-HOV'!Z13+'105103-HIL'!Z13 -> 104 | AA13: =SUM(O13:Z13) -> 1697 | AB13: =IFERROR(N13/AA13,0) -> 0.053034767
A14: ENFERMEDAD RESPIRATORIA PEDIÁTRICA (BRONCOPULMONAR INFANTIL) | B14: ='105100-HLS'!B14+'105101-HCQ'!B14+'105102-HOV'!B14+'105103-HIL'!B14 -> 11 | C14: ='105100-HLS'!C14+'105101-HCQ'!C14+'105102-HOV'!C14+'105103-HIL'!C14 -> 3 | D14: ='105100-HLS'!D14+'105101-HCQ'!D14+'105102-HOV'!D14+'105103-HIL'!D14 -> 11 | E14: ='105100-HLS'!E14+'105101-HCQ'!E14+'105102-HOV'!E14+'105103-HIL'!E14 -> 8 | F14: ='105100-HLS'!F14+'105101-HCQ'!F14+'105102-HOV'!F14+'105103-HIL'!F14 -> 3 | G14: ='105100-HLS'!G14+'105101-HCQ'!G14+'105102-HOV'!G14+'105103-HIL'!G14 -> 5 | H14: ='105100-HLS'!H14+'105101-HCQ'!H14+'105102-HOV'!H14+'105103-HIL'!H14 -> 5 | I14: ='105100-HLS'!I14+'105101-HCQ'!I14+'105102-HOV'!I14+'105103-HIL'!I14 -> 10 | ... M14: ='105100-HLS'!M14+'105101-HCQ'!M14+'105102-HOV'!M14+'105103-HIL'!M14 -> 3 | N14: =SUM(B14:M14) -> 67 | O14: ='105100-HLS'!O14+'105101-HCQ'!O14+'105102-HOV'!O14+'105103-HIL'!O14 -> 211 | P14: ='105100-HLS'!P14+'105101-HCQ'!P14+'105102-HOV'!P14+'105103-HIL'!P14 -> 176 | Q14: ='105100-HLS'!Q14+'105101-HCQ'!Q14+'105102-HOV'!Q14+'105103-HIL'!Q14 -> 257 | R14: ='105100-HLS'!R14+'105101-HCQ'!R14+'105102-HOV'!R14+'105103-HIL'!R14 -> 256 | S14: ='105100-HLS'!S14+'105101-HCQ'!S14+'105102-HOV'!S14+'105103-HIL'!S14 -> 315 | T14: ='105100-HLS'!T14+'105101-HCQ'!T14+'105102-HOV'!T14+'105103-HIL'!T14 -> 322 | U14: ='105100-HLS'!U14+'105101-HCQ'!U14+'105102-HOV'!U14+'105103-HIL'!U14 -> 388 | V14: ='105100-HLS'!V14+'105101-HCQ'!V14+'105102-HOV'!V14+'105103-HIL'!V14 -> 371 | ... Z14: ='105100-HLS'!Z14+'105101-HCQ'!Z14+'105102-HOV'!Z14+'105103-HIL'!Z14 -> 342 | AA14: =SUM(O14:Z14) -> 3700 | AB14: =IFERROR(N14/AA14,0) -> 0.018108108
A15: ENFERMEDAD RESPIRATORIA DE ADULTO (BRONCOPULMONAR) | B15: ='105100-HLS'!B15+'105101-HCQ'!B15+'105102-HOV'!B15+'105103-HIL'!B15 -> 12 | C15: ='105100-HLS'!C15+'105101-HCQ'!C15+'105102-HOV'!C15+'105103-HIL'!C15 -> 5 | D15: ='105100-HLS'!D15+'105101-HCQ'!D15+'105102-HOV'!D15+'105103-HIL'!D15 -> 4 | E15: ='105100-HLS'!E15+'105101-HCQ'!E15+'105102-HOV'!E15+'105103-HIL'!E15 -> 4 | F15: ='105100-HLS'!F15+'105101-HCQ'!F15+'105102-HOV'!F15+'105103-HIL'!F15 -> 6 | G15: ='105100-HLS'!G15+'105101-HCQ'!G15+'105102-HOV'!G15+'105103-HIL'!G15 -> 5 | H15: ='105100-HLS'!H15+'105101-HCQ'!H15+'105102-HOV'!H15+'105103-HIL'!H15 -> 3 | I15: ='105100-HLS'!I15+'105101-HCQ'!I15+'105102-HOV'!I15+'105103-HIL'!I15 -> 4 | ... M15: ='105100-HLS'!M15+'105101-HCQ'!M15+'105102-HOV'!M15+'105103-HIL'!M15 -> 3 | N15: =SUM(B15:M15) -> 59 | O15: ='105100-HLS'!O15+'105101-HCQ'!O15+'105102-HOV'!O15+'105103-HIL'!O15 -> 401 | P15: ='105100-HLS'!P15+'105101-HCQ'!P15+'105102-HOV'!P15+'105103-HIL'!P15 -> 346 | Q15: ='105100-HLS'!Q15+'105101-HCQ'!Q15+'105102-HOV'!Q15+'105103-HIL'!Q15 -> 538 | R15: ='105100-HLS'!R15+'105101-HCQ'!R15+'105102-HOV'!R15+'105103-HIL'!R15 -> 465 | S15: ='105100-HLS'!S15+'105101-HCQ'!S15+'105102-HOV'!S15+'105103-HIL'!S15 -> 508 | T15: ='105100-HLS'!T15+'105101-HCQ'!T15+'105102-HOV'!T15+'105103-HIL'!T15 -> 440 | U15: ='105100-HLS'!U15+'105101-HCQ'!U15+'105102-HOV'!U15+'105103-HIL'!U15 -> 456 | V15: ='105100-HLS'!V15+'105101-HCQ'!V15+'105102-HOV'!V15+'105103-HIL'!V15 -> 507 | ... Z15: ='105100-HLS'!Z15+'105101-HCQ'!Z15+'105102-HOV'!Z15+'105103-HIL'!Z15 -> 269 | AA15: =SUM(O15:Z15) -> 5079 | AB15: =IFERROR(N15/AA15,0) -> 0.01161646
A16: CARDIOLOGÍA PEDIÁTRICA | B16: ='105100-HLS'!B16+'105101-HCQ'!B16+'105102-HOV'!B16+'105103-HIL'!B16 -> 25 | C16: ='105100-HLS'!C16+'105101-HCQ'!C16+'105102-HOV'!C16+'105103-HIL'!C16 -> 20 | D16: ='105100-HLS'!D16+'105101-HCQ'!D16+'105102-HOV'!D16+'105103-HIL'!D16 -> 31 | E16: ='105100-HLS'!E16+'105101-HCQ'!E16+'105102-HOV'!E16+'105103-HIL'!E16 -> 33 | F16: ='105100-HLS'!F16+'105101-HCQ'!F16+'105102-HOV'!F16+'105103-HIL'!F16 -> 18 | G16: ='105100-HLS'!G16+'105101-HCQ'!G16+'105102-HOV'!G16+'105103-HIL'!G16 -> 17 | H16: ='105100-HLS'!H16+'105101-HCQ'!H16+'105102-HOV'!H16+'105103-HIL'!H16 -> 15 | I16: ='105100-HLS'!I16+'105101-HCQ'!I16+'105102-HOV'!I16+'105103-HIL'!I16 -> 13 | ... M16: ='105100-HLS'!M16+'105101-HCQ'!M16+'105102-HOV'!M16+'105103-HIL'!M16 -> 15 | N16: =SUM(B16:M16) -> 256 | O16: ='105100-HLS'!O16+'105101-HCQ'!O16+'105102-HOV'!O16+'105103-HIL'!O16 -> 174 | P16: ='105100-HLS'!P16+'105101-HCQ'!P16+'105102-HOV'!P16+'105103-HIL'!P16 -> 155 | Q16: ='105100-HLS'!Q16+'105101-HCQ'!Q16+'105102-HOV'!Q16+'105103-HIL'!Q16 -> 159 | R16: ='105100-HLS'!R16+'105101-HCQ'!R16+'105102-HOV'!R16+'105103-HIL'!R16 -> 178 | S16: ='105100-HLS'!S16+'105101-HCQ'!S16+'105102-HOV'!S16+'105103-HIL'!S16 -> 189 | T16: ='105100-HLS'!T16+'105101-HCQ'!T16+'105102-HOV'!T16+'105103-HIL'!T16 -> 185 | U16: ='105100-HLS'!U16+'105101-HCQ'!U16+'105102-HOV'!U16+'105103-HIL'!U16 -> 176 | V16: ='105100-HLS'!V16+'105101-HCQ'!V16+'105102-HOV'!V16+'105103-HIL'!V16 -> 219 | ... Z16: ='105100-HLS'!Z16+'105101-HCQ'!Z16+'105102-HOV'!Z16+'105103-HIL'!Z16 -> 144 | AA16: =SUM(O16:Z16) -> 2154 | AB16: =IFERROR(N16/AA16,0) -> 0.11884865
A17: CARDIOLOGÍA | B17: ='105100-HLS'!B17+'105101-HCQ'!B17+'105102-HOV'!B17+'105103-HIL'!B17 -> 34 | C17: ='105100-HLS'!C17+'105101-HCQ'!C17+'105102-HOV'!C17+'105103-HIL'!C17 -> 43 | D17: ='105100-HLS'!D17+'105101-HCQ'!D17+'105102-HOV'!D17+'105103-HIL'!D17 -> 57 | E17: ='105100-HLS'!E17+'105101-HCQ'!E17+'105102-HOV'!E17+'105103-HIL'!E17 -> 39 | F17: ='105100-HLS'!F17+'105101-HCQ'!F17+'105102-HOV'!F17+'105103-HIL'!F17 -> 17 | G17: ='105100-HLS'!G17+'105101-HCQ'!G17+'105102-HOV'!G17+'105103-HIL'!G17 -> 15 | H17: ='105100-HLS'!H17+'105101-HCQ'!H17+'105102-HOV'!H17+'105103-HIL'!H17 -> 37 | I17: ='105100-HLS'!I17+'105101-HCQ'!I17+'105102-HOV'!I17+'105103-HIL'!I17 -> 35 | ... M17: ='105100-HLS'!M17+'105101-HCQ'!M17+'105102-HOV'!M17+'105103-HIL'!M17 -> 29 | N17: =SUM(B17:M17) -> 389 | O17: ='105100-HLS'!O17+'105101-HCQ'!O17+'105102-HOV'!O17+'105103-HIL'!O17 -> 733 | P17: ='105100-HLS'!P17+'105101-HCQ'!P17+'105102-HOV'!P17+'105103-HIL'!P17 -> 697 | Q17: ='105100-HLS'!Q17+'105101-HCQ'!Q17+'105102-HOV'!Q17+'105103-HIL'!Q17 -> 901 | R17: ='105100-HLS'!R17+'105101-HCQ'!R17+'105102-HOV'!R17+'105103-HIL'!R17 -> 842 | S17: ='105100-HLS'!S17+'105101-HCQ'!S17+'105102-HOV'!S17+'105103-HIL'!S17 -> 1111 | T17: ='105100-HLS'!T17+'105101-HCQ'!T17+'105102-HOV'!T17+'105103-HIL'!T17 -> 1024 | U17: ='105100-HLS'!U17+'105101-HCQ'!U17+'105102-HOV'!U17+'105103-HIL'!U17 -> 989 | V17: ='105100-HLS'!V17+'105101-HCQ'!V17+'105102-HOV'!V17+'105103-HIL'!V17 -> 1172 | ... Z17: ='105100-HLS'!Z17+'105101-HCQ'!Z17+'105102-HOV'!Z17+'105103-HIL'!Z17 -> 748 | AA17: =SUM(O17:Z17) -> 11249 | AB17: =IFERROR(N17/AA17,0) -> 0.034580852
A18: ENDOCRINOLOGÍA PEDIÁTRICA | B18: ='105100-HLS'!B18+'105101-HCQ'!B18+'105102-HOV'!B18+'105103-HIL'!B18 -> 5 | C18: ='105100-HLS'!C18+'105101-HCQ'!C18+'105102-HOV'!C18+'105103-HIL'!C18 -> 14 | D18: ='105100-HLS'!D18+'105101-HCQ'!D18+'105102-HOV'!D18+'105103-HIL'!D18 -> 16 | E18: ='105100-HLS'!E18+'105101-HCQ'!E18+'105102-HOV'!E18+'105103-HIL'!E18 -> 4 | F18: ='105100-HLS'!F18+'105101-HCQ'!F18+'105102-HOV'!F18+'105103-HIL'!F18 -> 13 | G18: ='105100-HLS'!G18+'105101-HCQ'!G18+'105102-HOV'!G18+'105103-HIL'!G18 -> 8 | H18: ='105100-HLS'!H18+'105101-HCQ'!H18+'105102-HOV'!H18+'105103-HIL'!H18 -> 13 | I18: ='105100-HLS'!I18+'105101-HCQ'!I18+'105102-HOV'!I18+'105103-HIL'!I18 -> 19 | ... M18: ='105100-HLS'!M18+'105101-HCQ'!M18+'105102-HOV'!M18+'105103-HIL'!M18 -> 22 | N18: =SUM(B18:M18) -> 179 | O18: ='105100-HLS'!O18+'105101-HCQ'!O18+'105102-HOV'!O18+'105103-HIL'!O18 -> 306 | P18: ='105100-HLS'!P18+'105101-HCQ'!P18+'105102-HOV'!P18+'105103-HIL'!P18 -> 423 | Q18: ='105100-HLS'!Q18+'105101-HCQ'!Q18+'105102-HOV'!Q18+'105103-HIL'!Q18 -> 415 | R18: ='105100-HLS'!R18+'105101-HCQ'!R18+'105102-HOV'!R18+'105103-HIL'!R18 -> 270 | S18: ='105100-HLS'!S18+'105101-HCQ'!S18+'105102-HOV'!S18+'105103-HIL'!S18 -> 418 | T18: ='105100-HLS'!T18+'105101-HCQ'!T18+'105102-HOV'!T18+'105103-HIL'!T18 -> 254 | U18: ='105100-HLS'!U18+'105101-HCQ'!U18+'105102-HOV'!U18+'105103-HIL'!U18 -> 331 | V18: ='105100-HLS'!V18+'105101-HCQ'!V18+'105102-HOV'!V18+'105103-HIL'!V18 -> 334 | ... Z18: ='105100-HLS'!Z18+'105101-HCQ'!Z18+'105102-HOV'!Z18+'105103-HIL'!Z18 -> 432 | AA18: =SUM(O18:Z18) -> 4202 | AB18: =IFERROR(N18/AA18,0) -> 0.042598762
A19: ENDOCRINOLOGÍA ADULTO | B19: ='105100-HLS'!B19+'105101-HCQ'!B19+'105102-HOV'!B19+'105103-HIL'!B19 -> 14 | C19: ='105100-HLS'!C19+'105101-HCQ'!C19+'105102-HOV'!C19+'105103-HIL'!C19 -> 4 | D19: ='105100-HLS'!D19+'105101-HCQ'!D19+'105102-HOV'!D19+'105103-HIL'!D19 -> 19 | E19: ='105100-HLS'!E19+'105101-HCQ'!E19+'105102-HOV'!E19+'105103-HIL'!E19 -> 16 | F19: ='105100-HLS'!F19+'105101-HCQ'!F19+'105102-HOV'!F19+'105103-HIL'!F19 -> 10 | G19: ='105100-HLS'!G19+'105101-HCQ'!G19+'105102-HOV'!G19+'105103-HIL'!G19 -> 13 | H19: ='105100-HLS'!H19+'105101-HCQ'!H19+'105102-HOV'!H19+'105103-HIL'!H19 -> 13 | I19: ='105100-HLS'!I19+'105101-HCQ'!I19+'105102-HOV'!I19+'105103-HIL'!I19 -> 7 | ... M19: ='105100-HLS'!M19+'105101-HCQ'!M19+'105102-HOV'!M19+'105103-HIL'!M19 -> 6 | N19: =SUM(B19:M19) -> 153 | O19: ='105100-HLS'!O19+'105101-HCQ'!O19+'105102-HOV'!O19+'105103-HIL'!O19 -> 384 | P19: ='105100-HLS'!P19+'105101-HCQ'!P19+'105102-HOV'!P19+'105103-HIL'!P19 -> 380 | Q19: ='105100-HLS'!Q19+'105101-HCQ'!Q19+'105102-HOV'!Q19+'105103-HIL'!Q19 -> 596 | R19: ='105100-HLS'!R19+'105101-HCQ'!R19+'105102-HOV'!R19+'105103-HIL'!R19 -> 496 | S19: ='105100-HLS'!S19+'105101-HCQ'!S19+'105102-HOV'!S19+'105103-HIL'!S19 -> 572 | T19: ='105100-HLS'!T19+'105101-HCQ'!T19+'105102-HOV'!T19+'105103-HIL'!T19 -> 462 | U19: ='105100-HLS'!U19+'105101-HCQ'!U19+'105102-HOV'!U19+'105103-HIL'!U19 -> 444 | V19: ='105100-HLS'!V19+'105101-HCQ'!V19+'105102-HOV'!V19+'105103-HIL'!V19 -> 278 | ... Z19: ='105100-HLS'!Z19+'105101-HCQ'!Z19+'105102-HOV'!Z19+'105103-HIL'!Z19 -> 390 | AA19: =SUM(O19:Z19) -> 5225 | AB19: =IFERROR(N19/AA19,0) -> 0.029282297
A20: GASTROENTEROLOGÍA PEDIÁTRICA | B20: ='105100-HLS'!B20+'105101-HCQ'!B20+'105102-HOV'!B20+'105103-HIL'!B20 -> 4 | C20: ='105100-HLS'!C20+'105101-HCQ'!C20+'105102-HOV'!C20+'105103-HIL'!C20 -> 7 | D20: ='105100-HLS'!D20+'105101-HCQ'!D20+'105102-HOV'!D20+'105103-HIL'!D20 -> 4 | E20: ='105100-HLS'!E20+'105101-HCQ'!E20+'105102-HOV'!E20+'105103-HIL'!E20 -> 7 | F20: ='105100-HLS'!F20+'105101-HCQ'!F20+'105102-HOV'!F20+'105103-HIL'!F20 -> 7 | G20: ='105100-HLS'!G20+'105101-HCQ'!G20+'105102-HOV'!G20+'105103-HIL'!G20 -> 8 | H20: ='105100-HLS'!H20+'105101-HCQ'!H20+'105102-HOV'!H20+'105103-HIL'!H20 -> 8 | I20: ='105100-HLS'!I20+'105101-HCQ'!I20+'105102-HOV'!I20+'105103-HIL'!I20 -> 6 | ... M20: ='105100-HLS'!M20+'105101-HCQ'!M20+'105102-HOV'!M20+'105103-HIL'!M20 -> 15 | N20: =SUM(B20:M20) -> 119 | O20: ='105100-HLS'!O20+'105101-HCQ'!O20+'105102-HOV'!O20+'105103-HIL'!O20 -> 133 | P20: ='105100-HLS'!P20+'105101-HCQ'!P20+'105102-HOV'!P20+'105103-HIL'!P20 -> 194 | Q20: ='105100-HLS'!Q20+'105101-HCQ'!Q20+'105102-HOV'!Q20+'105103-HIL'!Q20 -> 159 | R20: ='105100-HLS'!R20+'105101-HCQ'!R20+'105102-HOV'!R20+'105103-HIL'!R20 -> 249 | S20: ='105100-HLS'!S20+'105101-HCQ'!S20+'105102-HOV'!S20+'105103-HIL'!S20 -> 235 | T20: ='105100-HLS'!T20+'105101-HCQ'!T20+'105102-HOV'!T20+'105103-HIL'!T20 -> 206 | U20: ='105100-HLS'!U20+'105101-HCQ'!U20+'105102-HOV'!U20+'105103-HIL'!U20 -> 292 | V20: ='105100-HLS'!V20+'105101-HCQ'!V20+'105102-HOV'!V20+'105103-HIL'!V20 -> 343 | ... Z20: ='105100-HLS'!Z20+'105101-HCQ'!Z20+'105102-HOV'!Z20+'105103-HIL'!Z20 -> 326 | AA20: =SUM(O20:Z20) -> 3225 | AB20: =IFERROR(N20/AA20,0) -> 0.036899225
A21: GASTROENTEROLOGÍA ADULTO | B21: ='105100-HLS'!B21+'105101-HCQ'!B21+'105102-HOV'!B21+'105103-HIL'!B21 -> 22 | C21: ='105100-HLS'!C21+'105101-HCQ'!C21+'105102-HOV'!C21+'105103-HIL'!C21 -> 21 | D21: ='105100-HLS'!D21+'105101-HCQ'!D21+'105102-HOV'!D21+'105103-HIL'!D21 -> 14 | E21: ='105100-HLS'!E21+'105101-HCQ'!E21+'105102-HOV'!E21+'105103-HIL'!E21 -> 15 | F21: ='105100-HLS'!F21+'105101-HCQ'!F21+'105102-HOV'!F21+'105103-HIL'!F21 -> 15 | G21: ='105100-HLS'!G21+'105101-HCQ'!G21+'105102-HOV'!G21+'105103-HIL'!G21 -> 9 | H21: ='105100-HLS'!H21+'105101-HCQ'!H21+'105102-HOV'!H21+'105103-HIL'!H21 -> 9 | I21: ='105100-HLS'!I21+'105101-HCQ'!I21+'105102-HOV'!I21+'105103-HIL'!I21 -> 4 | ... M21: ='105100-HLS'!M21+'105101-HCQ'!M21+'105102-HOV'!M21+'105103-HIL'!M21 -> 7 | N21: =SUM(B21:M21) -> 140 | O21: ='105100-HLS'!O21+'105101-HCQ'!O21+'105102-HOV'!O21+'105103-HIL'!O21 -> 605 | P21: ='105100-HLS'!P21+'105101-HCQ'!P21+'105102-HOV'!P21+'105103-HIL'!P21 -> 521 | Q21: ='105100-HLS'!Q21+'105101-HCQ'!Q21+'105102-HOV'!Q21+'105103-HIL'!Q21 -> 562 | R21: ='105100-HLS'!R21+'105101-HCQ'!R21+'105102-HOV'!R21+'105103-HIL'!R21 -> 459 | S21: ='105100-HLS'!S21+'105101-HCQ'!S21+'105102-HOV'!S21+'105103-HIL'!S21 -> 568 | T21: ='105100-HLS'!T21+'105101-HCQ'!T21+'105102-HOV'!T21+'105103-HIL'!T21 -> 386 | U21: ='105100-HLS'!U21+'105101-HCQ'!U21+'105102-HOV'!U21+'105103-HIL'!U21 -> 341 | V21: ='105100-HLS'!V21+'105101-HCQ'!V21+'105102-HOV'!V21+'105103-HIL'!V21 -> 375 | ... Z21: ='105100-HLS'!Z21+'105101-HCQ'!Z21+'105102-HOV'!Z21+'105103-HIL'!Z21 -> 326 | AA21: =SUM(O21:Z21) -> 5274 | AB21: =IFERROR(N21/AA21,0) -> 0.026545317
A22: GENÉTICA CLÍNICA | B22: ='105100-HLS'!B22+'105101-HCQ'!B22+'105102-HOV'!B22+'105103-HIL'!B22 -> 0 | C22: ='105100-HLS'!C22+'105101-HCQ'!C22+'105102-HOV'!C22+'105103-HIL'!C22 -> 0 | D22: ='105100-HLS'!D22+'105101-HCQ'!D22+'105102-HOV'!D22+'105103-HIL'!D22 -> 0 | E22: ='105100-HLS'!E22+'105101-HCQ'!E22+'105102-HOV'!E22+'105103-HIL'!E22 -> 0 | F22: ='105100-HLS'!F22+'105101-HCQ'!F22+'105102-HOV'!F22+'105103-HIL'!F22 -> 0 | G22: ='105100-HLS'!G22+'105101-HCQ'!G22+'105102-HOV'!G22+'105103-HIL'!G22 -> 0 | H22: ='105100-HLS'!H22+'105101-HCQ'!H22+'105102-HOV'!H22+'105103-HIL'!H22 -> 0 | I22: ='105100-HLS'!I22+'105101-HCQ'!I22+'105102-HOV'!I22+'105103-HIL'!I22 -> 0 | ... M22: ='105100-HLS'!M22+'105101-HCQ'!M22+'105102-HOV'!M22+'105103-HIL'!M22 -> 0 | N22: =SUM(B22:M22) -> 0 | O22: ='105100-HLS'!O22+'105101-HCQ'!O22+'105102-HOV'!O22+'105103-HIL'!O22 -> 0 | P22: ='105100-HLS'!P22+'105101-HCQ'!P22+'105102-HOV'!P22+'105103-HIL'!P22 -> 0 | Q22: ='105100-HLS'!Q22+'105101-HCQ'!Q22+'105102-HOV'!Q22+'105103-HIL'!Q22 -> 0 | R22: ='105100-HLS'!R22+'105101-HCQ'!R22+'105102-HOV'!R22+'105103-HIL'!R22 -> 0 | S22: ='105100-HLS'!S22+'105101-HCQ'!S22+'105102-HOV'!S22+'105103-HIL'!S22 -> 0 | T22: ='105100-HLS'!T22+'105101-HCQ'!T22+'105102-HOV'!T22+'105103-HIL'!T22 -> 0 | U22: ='105100-HLS'!U22+'105101-HCQ'!U22+'105102-HOV'!U22+'105103-HIL'!U22 -> 0 | V22: ='105100-HLS'!V22+'105101-HCQ'!V22+'105102-HOV'!V22+'105103-HIL'!V22 -> 0 | ... Z22: ='105100-HLS'!Z22+'105101-HCQ'!Z22+'105102-HOV'!Z22+'105103-HIL'!Z22 -> 0 | AA22: =SUM(O22:Z22) -> 0 | AB22: =IFERROR(N22/AA22,0) -> 0
... A69: IMAGENOLOGÍA | B69: ='105100-HLS'!B69+'105101-HCQ'!B69+'105102-HOV'!B69+'105103-HIL'!B69 -> 0 | C69: ='105100-HLS'!C69+'105101-HCQ'!C69+'105102-HOV'!C69+'105103-HIL'!C69 -> 0 | D69: ='105100-HLS'!D69+'105101-HCQ'!D69+'105102-HOV'!D69+'105103-HIL'!D69 -> 0 | E69: ='105100-HLS'!E69+'105101-HCQ'!E69+'105102-HOV'!E69+'105103-HIL'!E69 -> 0 | F69: ='105100-HLS'!F69+'105101-HCQ'!F69+'105102-HOV'!F69+'105103-HIL'!F69 -> 0 | G69: ='105100-HLS'!G69+'105101-HCQ'!G69+'105102-HOV'!G69+'105103-HIL'!G69 -> 0 | H69: ='105100-HLS'!H69+'105101-HCQ'!H69+'105102-HOV'!H69+'105103-HIL'!H69 -> 0 | I69: ='105100-HLS'!I69+'105101-HCQ'!I69+'105102-HOV'!I69+'105103-HIL'!I69 -> 0 | ... M69: ='105100-HLS'!M69+'105101-HCQ'!M69+'105102-HOV'!M69+'105103-HIL'!M69 -> 0 | N69: =SUM(B69:M69) -> 0 | O69: ='105100-HLS'!O69+'105101-HCQ'!O69+'105102-HOV'!O69+'105103-HIL'!O69 -> 0 | P69: ='105100-HLS'!P69+'105101-HCQ'!P69+'105102-HOV'!P69+'105103-HIL'!P69 -> 0 | Q69: ='105100-HLS'!Q69+'105101-HCQ'!Q69+'105102-HOV'!Q69+'105103-HIL'!Q69 -> 0 | R69: ='105100-HLS'!R69+'105101-HCQ'!R69+'105102-HOV'!R69+'105103-HIL'!R69 -> 0 | S69: ='105100-HLS'!S69+'105101-HCQ'!S69+'105102-HOV'!S69+'105103-HIL'!S69 -> 0 | T69: ='105100-HLS'!T69+'105101-HCQ'!T69+'105102-HOV'!T69+'105103-HIL'!T69 -> 0 | U69: ='105100-HLS'!U69+'105101-HCQ'!U69+'105102-HOV'!U69+'105103-HIL'!U69 -> 0 | V69: ='105100-HLS'!V69+'105101-HCQ'!V69+'105102-HOV'!V69+'105103-HIL'!V69 -> 0 | ... Z69: ='105100-HLS'!Z69+'105101-HCQ'!Z69+'105102-HOV'!Z69+'105103-HIL'!Z69 -> 0 | AA69: =SUM(O69:Z69) -> 0 | AB69: =IFERROR(N69/AA69,0) -> 0
A70: RADIOTERAPIA ONCOLÓGICA | B70: ='105100-HLS'!B70+'105101-HCQ'!B70+'105102-HOV'!B70+'105103-HIL'!B70 -> 0 | C70: ='105100-HLS'!C70+'105101-HCQ'!C70+'105102-HOV'!C70+'105103-HIL'!C70 -> 0 | D70: ='105100-HLS'!D70+'105101-HCQ'!D70+'105102-HOV'!D70+'105103-HIL'!D70 -> 0 | E70: ='105100-HLS'!E70+'105101-HCQ'!E70+'105102-HOV'!E70+'105103-HIL'!E70 -> 0 | F70: ='105100-HLS'!F70+'105101-HCQ'!F70+'105102-HOV'!F70+'105103-HIL'!F70 -> 0 | G70: ='105100-HLS'!G70+'105101-HCQ'!G70+'105102-HOV'!G70+'105103-HIL'!G70 -> 0 | H70: ='105100-HLS'!H70+'105101-HCQ'!H70+'105102-HOV'!H70+'105103-HIL'!H70 -> 0 | I70: ='105100-HLS'!I70+'105101-HCQ'!I70+'105102-HOV'!I70+'105103-HIL'!I70 -> 0 | ... M70: ='105100-HLS'!M70+'105101-HCQ'!M70+'105102-HOV'!M70+'105103-HIL'!M70 -> 0 | N70: =SUM(B70:M70) -> 0 | O70: ='105100-HLS'!O70+'105101-HCQ'!O70+'105102-HOV'!O70+'105103-HIL'!O70 -> 0 | P70: ='105100-HLS'!P70+'105101-HCQ'!P70+'105102-HOV'!P70+'105103-HIL'!P70 -> 0 | Q70: ='105100-HLS'!Q70+'105101-HCQ'!Q70+'105102-HOV'!Q70+'105103-HIL'!Q70 -> 0 | R70: ='105100-HLS'!R70+'105101-HCQ'!R70+'105102-HOV'!R70+'105103-HIL'!R70 -> 0 | S70: ='105100-HLS'!S70+'105101-HCQ'!S70+'105102-HOV'!S70+'105103-HIL'!S70 -> 0 | T70: ='105100-HLS'!T70+'105101-HCQ'!T70+'105102-HOV'!T70+'105103-HIL'!T70 -> 0 | U70: ='105100-HLS'!U70+'105101-HCQ'!U70+'105102-HOV'!U70+'105103-HIL'!U70 -> 0 | V70: ='105100-HLS'!V70+'105101-HCQ'!V70+'105102-HOV'!V70+'105103-HIL'!V70 -> 0 | ... Z70: ='105100-HLS'!Z70+'105101-HCQ'!Z70+'105102-HOV'!Z70+'105103-HIL'!Z70 -> 0 | AA70: =SUM(O70:Z70) -> 0
A71: *PEDIATRIA (incluye totalidad de produccion de subespecialidades de pediatria) | B71: ='105100-HLS'!B71+'105101-HCQ'!B71+'105102-HOV'!B71+'105103-HIL'!B71 -> 24 | C71: ='105100-HLS'!C71+'105101-HCQ'!C71+'105102-HOV'!C71+'105103-HIL'!C71 -> 16 | D71: ='105100-HLS'!D71+'105101-HCQ'!D71+'105102-HOV'!D71+'105103-HIL'!D71 -> 27 | E71: ='105100-HLS'!E71+'105101-HCQ'!E71+'105102-HOV'!E71+'105103-HIL'!E71 -> 22 | F71: ='105100-HLS'!F71+'105101-HCQ'!F71+'105102-HOV'!F71+'105103-HIL'!F71 -> 31 | G71: ='105100-HLS'!G71+'105101-HCQ'!G71+'105102-HOV'!G71+'105103-HIL'!G71 -> 20 | H71: ='105100-HLS'!H71+'105101-HCQ'!H71+'105102-HOV'!H71+'105103-HIL'!H71 -> 15 | I71: ='105100-HLS'!I71+'105101-HCQ'!I71+'105102-HOV'!I71+'105103-HIL'!I71 -> 12 | ... M71: ='105100-HLS'!M71+'105101-HCQ'!M71+'105102-HOV'!M71+'105103-HIL'!M71 -> 18 | N71: =SUM(B71:M71) -> 251 | O71: ='105100-HLS'!O71+'105101-HCQ'!O71+'105102-HOV'!O71+'105103-HIL'!O71 -> 420 | P71: ='105100-HLS'!P71+'105101-HCQ'!P71+'105102-HOV'!P71+'105103-HIL'!P71 -> 254 | Q71: ='105100-HLS'!Q71+'105101-HCQ'!Q71+'105102-HOV'!Q71+'105103-HIL'!Q71 -> 451 | R71: ='105100-HLS'!R71+'105101-HCQ'!R71+'105102-HOV'!R71+'105103-HIL'!R71 -> 410 | S71: ='105100-HLS'!S71+'105101-HCQ'!S71+'105102-HOV'!S71+'105103-HIL'!S71 -> 489 | T71: ='105100-HLS'!T71+'105101-HCQ'!T71+'105102-HOV'!T71+'105103-HIL'!T71 -> 373 | U71: ='105100-HLS'!U71+'105101-HCQ'!U71+'105102-HOV'!U71+'105103-HIL'!U71 -> 381 | V71: ='105100-HLS'!V71+'105101-HCQ'!V71+'105102-HOV'!V71+'105103-HIL'!V71 -> 308 | ... Z71: ='105100-HLS'!Z71+'105101-HCQ'!Z71+'105102-HOV'!Z71+'105103-HIL'!Z71 -> 257 | AA71: =SUM(O71:Z71) -> 4154
A72: *MEDICINA INTERNA | B72: ='105100-HLS'!B72+'105101-HCQ'!B72+'105102-HOV'!B72+'105103-HIL'!B72 -> 22 | C72: ='105100-HLS'!C72+'105101-HCQ'!C72+'105102-HOV'!C72+'105103-HIL'!C72 -> 20 | D72: ='105100-HLS'!D72+'105101-HCQ'!D72+'105102-HOV'!D72+'105103-HIL'!D72 -> 12 | E72: ='105100-HLS'!E72+'105101-HCQ'!E72+'105102-HOV'!E72+'105103-HIL'!E72 -> 14 | F72: ='105100-HLS'!F72+'105101-HCQ'!F72+'105102-HOV'!F72+'105103-HIL'!F72 -> 16 | G72: ='105100-HLS'!G72+'105101-HCQ'!G72+'105102-HOV'!G72+'105103-HIL'!G72 -> 4 | H72: ='105100-HLS'!H72+'105101-HCQ'!H72+'105102-HOV'!H72+'105103-HIL'!H72 -> 13 | I72: ='105100-HLS'!I72+'105101-HCQ'!I72+'105102-HOV'!I72+'105103-HIL'!I72 -> 7 | ... M72: ='105100-HLS'!M72+'105101-HCQ'!M72+'105102-HOV'!M72+'105103-HIL'!M72 -> 2 | N72: =SUM(B72:M72) -> 141 | O72: ='105100-HLS'!O72+'105101-HCQ'!O72+'105102-HOV'!O72+'105103-HIL'!O72 -> 346 | P72: ='105100-HLS'!P72+'105101-HCQ'!P72+'105102-HOV'!P72+'105103-HIL'!P72 -> 370 | Q72: ='105100-HLS'!Q72+'105101-HCQ'!Q72+'105102-HOV'!Q72+'105103-HIL'!Q72 -> 297 | R72: ='105100-HLS'!R72+'105101-HCQ'!R72+'105102-HOV'!R72+'105103-HIL'!R72 -> 362 | S72: ='105100-HLS'!S72+'105101-HCQ'!S72+'105102-HOV'!S72+'105103-HIL'!S72 -> 387 | T72: ='105100-HLS'!T72+'105101-HCQ'!T72+'105102-HOV'!T72+'105103-HIL'!T72 -> 301 | U72: ='105100-HLS'!U72+'105101-HCQ'!U72+'105102-HOV'!U72+'105103-HIL'!U72 -> 370 | V72: ='105100-HLS'!V72+'105101-HCQ'!V72+'105102-HOV'!V72+'105103-HIL'!V72 -> 343 | ... Z72: ='105100-HLS'!Z72+'105101-HCQ'!Z72+'105102-HOV'!Z72+'105103-HIL'!Z72 -> 225 | AA72: =SUM(O72:Z72) -> 4292
A73: *CIRUGIA | B73: ='105100-HLS'!B73+'105101-HCQ'!B73+'105102-HOV'!B73+'105103-HIL'!B73 -> 1 | C73: ='105100-HLS'!C73+'105101-HCQ'!C73+'105102-HOV'!C73+'105103-HIL'!C73 -> 0 | D73: ='105100-HLS'!D73+'105101-HCQ'!D73+'105102-HOV'!D73+'105103-HIL'!D73 -> 0 | E73: ='105100-HLS'!E73+'105101-HCQ'!E73+'105102-HOV'!E73+'105103-HIL'!E73 -> 0 | F73: ='105100-HLS'!F73+'105101-HCQ'!F73+'105102-HOV'!F73+'105103-HIL'!F73 -> 0 | G73: ='105100-HLS'!G73+'105101-HCQ'!G73+'105102-HOV'!G73+'105103-HIL'!G73 -> 0 | H73: ='105100-HLS'!H73+'105101-HCQ'!H73+'105102-HOV'!H73+'105103-HIL'!H73 -> 0 | I73: ='105100-HLS'!I73+'105101-HCQ'!I73+'105102-HOV'!I73+'105103-HIL'!I73 -> 0 | ... M73: ='105100-HLS'!M73+'105101-HCQ'!M73+'105102-HOV'!M73+'105103-HIL'!M73 -> 0 | N73: =SUM(B73:M73) -> 1 | O73: ='105100-HLS'!O73+'105101-HCQ'!O73+'105102-HOV'!O73+'105103-HIL'!O73 -> 7 | P73: ='105100-HLS'!P73+'105101-HCQ'!P73+'105102-HOV'!P73+'105103-HIL'!P73 -> 12 | Q73: ='105100-HLS'!Q73+'105101-HCQ'!Q73+'105102-HOV'!Q73+'105103-HIL'!Q73 -> 8 | R73: ='105100-HLS'!R73+'105101-HCQ'!R73+'105102-HOV'!R73+'105103-HIL'!R73 -> 1 | S73: ='105100-HLS'!S73+'105101-HCQ'!S73+'105102-HOV'!S73+'105103-HIL'!S73 -> 6 | T73: ='105100-HLS'!T73+'105101-HCQ'!T73+'105102-HOV'!T73+'105103-HIL'!T73 -> 6 | U73: ='105100-HLS'!U73+'105101-HCQ'!U73+'105102-HOV'!U73+'105103-HIL'!U73 -> 0 | V73: ='105100-HLS'!V73+'105101-HCQ'!V73+'105102-HOV'!V73+'105103-HIL'!V73 -> 0 | ... Z73: ='105100-HLS'!Z73+'105101-HCQ'!Z73+'105102-HOV'!Z73+'105103-HIL'!Z73 -> 2 | AA73: =SUM(O73:Z73) -> 44
A74: *ENFERMEDADES RESPIRATORIAS DE ADULTOS (broncopulmonar) | B74: ='105100-HLS'!B74+'105101-HCQ'!B74+'105102-HOV'!B74+'105103-HIL'!B74 -> 0 | C74: ='105100-HLS'!C74+'105101-HCQ'!C74+'105102-HOV'!C74+'105103-HIL'!C74 -> 0 | D74: ='105100-HLS'!D74+'105101-HCQ'!D74+'105102-HOV'!D74+'105103-HIL'!D74 -> 0 | E74: ='105100-HLS'!E74+'105101-HCQ'!E74+'105102-HOV'!E74+'105103-HIL'!E74 -> 0 | F74: ='105100-HLS'!F74+'105101-HCQ'!F74+'105102-HOV'!F74+'105103-HIL'!F74 -> 0 | G74: ='105100-HLS'!G74+'105101-HCQ'!G74+'105102-HOV'!G74+'105103-HIL'!G74 -> 2 | H74: ='105100-HLS'!H74+'105101-HCQ'!H74+'105102-HOV'!H74+'105103-HIL'!H74 -> 0 | I74: ='105100-HLS'!I74+'105101-HCQ'!I74+'105102-HOV'!I74+'105103-HIL'!I74 -> 0 | ... M74: ='105100-HLS'!M74+'105101-HCQ'!M74+'105102-HOV'!M74+'105103-HIL'!M74 -> 0 | N74: =SUM(B74:M74) -> 3 | O74: ='105100-HLS'!O74+'105101-HCQ'!O74+'105102-HOV'!O74+'105103-HIL'!O74 -> 23 | P74: ='105100-HLS'!P74+'105101-HCQ'!P74+'105102-HOV'!P74+'105103-HIL'!P74 -> 18 | Q74: ='105100-HLS'!Q74+'105101-HCQ'!Q74+'105102-HOV'!Q74+'105103-HIL'!Q74 -> 27 | R74: ='105100-HLS'!R74+'105101-HCQ'!R74+'105102-HOV'!R74+'105103-HIL'!R74 -> 13 | S74: ='105100-HLS'!S74+'105101-HCQ'!S74+'105102-HOV'!S74+'105103-HIL'!S74 -> 9 | T74: ='105100-HLS'!T74+'105101-HCQ'!T74+'105102-HOV'!T74+'105103-HIL'!T74 -> 44 | U74: ='105100-HLS'!U74+'105101-HCQ'!U74+'105102-HOV'!U74+'105103-HIL'!U74 -> 1 | V74: ='105100-HLS'!V74+'105101-HCQ'!V74+'105102-HOV'!V74+'105103-HIL'!V74 -> 11 | ... Z74: ='105100-HLS'!Z74+'105101-HCQ'!Z74+'105102-HOV'!Z74+'105103-HIL'!Z74 -> 7 | AA74: =SUM(O74:Z74) -> 203
A75: *CARDIOLOGIA ADULTO | B75: ='105100-HLS'!B75+'105101-HCQ'!B75+'105102-HOV'!B75+'105103-HIL'!B75 -> 0 | C75: ='105100-HLS'!C75+'105101-HCQ'!C75+'105102-HOV'!C75+'105103-HIL'!C75 -> 0 | D75: ='105100-HLS'!D75+'105101-HCQ'!D75+'105102-HOV'!D75+'105103-HIL'!D75 -> 1 | E75: ='105100-HLS'!E75+'105101-HCQ'!E75+'105102-HOV'!E75+'105103-HIL'!E75 -> 0 | F75: ='105100-HLS'!F75+'105101-HCQ'!F75+'105102-HOV'!F75+'105103-HIL'!F75 -> 0 | G75: ='105100-HLS'!G75+'105101-HCQ'!G75+'105102-HOV'!G75+'105103-HIL'!G75 -> 0 | H75: ='105100-HLS'!H75+'105101-HCQ'!H75+'105102-HOV'!H75+'105103-HIL'!H75 -> 1 | I75: ='105100-HLS'!I75+'105101-HCQ'!I75+'105102-HOV'!I75+'105103-HIL'!I75 -> 3 | ... M75: ='105100-HLS'!M75+'105101-HCQ'!M75+'105102-HOV'!M75+'105103-HIL'!M75 -> 0 | N75: =SUM(B75:M75) -> 11 | O75: ='105100-HLS'!O75+'105101-HCQ'!O75+'105102-HOV'!O75+'105103-HIL'!O75 -> 71 | P75: ='105100-HLS'!P75+'105101-HCQ'!P75+'105102-HOV'!P75+'105103-HIL'!P75 -> 82 | Q75: ='105100-HLS'!Q75+'105101-HCQ'!Q75+'105102-HOV'!Q75+'105103-HIL'!Q75 -> 90 | R75: ='105100-HLS'!R75+'105101-HCQ'!R75+'105102-HOV'!R75+'105103-HIL'!R75 -> 78 | S75: ='105100-HLS'!S75+'105101-HCQ'!S75+'105102-HOV'!S75+'105103-HIL'!S75 -> 36 | T75: ='105100-HLS'!T75+'105101-HCQ'!T75+'105102-HOV'!T75+'105103-HIL'!T75 -> 27 | U75: ='105100-HLS'!U75+'105101-HCQ'!U75+'105102-HOV'!U75+'105103-HIL'!U75 -> 37 | V75: ='105100-HLS'!V75+'105101-HCQ'!V75+'105102-HOV'!V75+'105103-HIL'!V75 -> 34 | ... Z75: ='105100-HLS'!Z75+'105101-HCQ'!Z75+'105102-HOV'!Z75+'105103-HIL'!Z75 -> 30 | AA75: =SUM(O75:Z75) -> 555
A76: *ENDOCRINOLOGIA ADULTO | B76: ='105100-HLS'!B76+'105101-HCQ'!B76+'105102-HOV'!B76+'105103-HIL'!B76 -> 0 | C76: ='105100-HLS'!C76+'105101-HCQ'!C76+'105102-HOV'!C76+'105103-HIL'!C76 -> 0 | D76: ='105100-HLS'!D76+'105101-HCQ'!D76+'105102-HOV'!D76+'105103-HIL'!D76 -> 0 | E76: ='105100-HLS'!E76+'105101-HCQ'!E76+'105102-HOV'!E76+'105103-HIL'!E76 -> 0 | F76: ='105100-HLS'!F76+'105101-HCQ'!F76+'105102-HOV'!F76+'105103-HIL'!F76 -> 2 | G76: ='105100-HLS'!G76+'105101-HCQ'!G76+'105102-HOV'!G76+'105103-HIL'!G76 -> 0 | H76: ='105100-HLS'!H76+'105101-HCQ'!H76+'105102-HOV'!H76+'105103-HIL'!H76 -> 3 | I76: ='105100-HLS'!I76+'105101-HCQ'!I76+'105102-HOV'!I76+'105103-HIL'!I76 -> 1 | ... M76: ='105100-HLS'!M76+'105101-HCQ'!M76+'105102-HOV'!M76+'105103-HIL'!M76 -> 1 | N76: =SUM(B76:M76) -> 7 | O76: ='105100-HLS'!O76+'105101-HCQ'!O76+'105102-HOV'!O76+'105103-HIL'!O76 -> 18 | P76: ='105100-HLS'!P76+'105101-HCQ'!P76+'105102-HOV'!P76+'105103-HIL'!P76 -> 38 | Q76: ='105100-HLS'!Q76+'105101-HCQ'!Q76+'105102-HOV'!Q76+'105103-HIL'!Q76 -> 51 | R76: ='105100-HLS'!R76+'105101-HCQ'!R76+'105102-HOV'!R76+'105103-HIL'!R76 -> 14 | S76: ='105100-HLS'!S76+'105101-HCQ'!S76+'105102-HOV'!S76+'105103-HIL'!S76 -> 68 | T76: ='105100-HLS'!T76+'105101-HCQ'!T76+'105102-HOV'!T76+'105103-HIL'!T76 -> 56 | U76: ='105100-HLS'!U76+'105101-HCQ'!U76+'105102-HOV'!U76+'105103-HIL'!U76 -> 64 | V76: ='105100-HLS'!V76+'105101-HCQ'!V76+'105102-HOV'!V76+'105103-HIL'!V76 -> 70 | ... Z76: ='105100-HLS'!Z76+'105101-HCQ'!Z76+'105102-HOV'!Z76+'105103-HIL'!Z76 -> 67 | AA76: =SUM(O76:Z76) -> 627
A77: *REUMATOLOGIA ADULTO | B77: ='105100-HLS'!B77+'105101-HCQ'!B77+'105102-HOV'!B77+'105103-HIL'!B77 -> 0 | C77: ='105100-HLS'!C77+'105101-HCQ'!C77+'105102-HOV'!C77+'105103-HIL'!C77 -> 1 | D77: ='105100-HLS'!D77+'105101-HCQ'!D77+'105102-HOV'!D77+'105103-HIL'!D77 -> 0 | E77: ='105100-HLS'!E77+'105101-HCQ'!E77+'105102-HOV'!E77+'105103-HIL'!E77 -> 1 | F77: ='105100-HLS'!F77+'105101-HCQ'!F77+'105102-HOV'!F77+'105103-HIL'!F77 -> 0 | G77: ='105100-HLS'!G77+'105101-HCQ'!G77+'105102-HOV'!G77+'105103-HIL'!G77 -> 0 | H77: ='105100-HLS'!H77+'105101-HCQ'!H77+'105102-HOV'!H77+'105103-HIL'!H77 -> 6 | I77: ='105100-HLS'!I77+'105101-HCQ'!I77+'105102-HOV'!I77+'105103-HIL'!I77 -> 1 | ... M77: ='105100-HLS'!M77+'105101-HCQ'!M77+'105102-HOV'!M77+'105103-HIL'!M77 -> 0 | N77: =SUM(B77:M77) -> 14 | O77: ='105100-HLS'!O77+'105101-HCQ'!O77+'105102-HOV'!O77+'105103-HIL'!O77 -> 101 | P77: ='105100-HLS'!P77+'105101-HCQ'!P77+'105102-HOV'!P77+'105103-HIL'!P77 -> 89 | Q77: ='105100-HLS'!Q77+'105101-HCQ'!Q77+'105102-HOV'!Q77+'105103-HIL'!Q77 -> 63 | R77: ='105100-HLS'!R77+'105101-HCQ'!R77+'105102-HOV'!R77+'105103-HIL'!R77 -> 46 | S77: ='105100-HLS'!S77+'105101-HCQ'!S77+'105102-HOV'!S77+'105103-HIL'!S77 -> 35 | T77: ='105100-HLS'!T77+'105101-HCQ'!T77+'105102-HOV'!T77+'105103-HIL'!T77 -> 9 | U77: ='105100-HLS'!U77+'105101-HCQ'!U77+'105102-HOV'!U77+'105103-HIL'!U77 -> 31 | V77: ='105100-HLS'!V77+'105101-HCQ'!V77+'105102-HOV'!V77+'105103-HIL'!V77 -> 21 | ... Z77: ='105100-HLS'!Z77+'105101-HCQ'!Z77+'105102-HOV'!Z77+'105103-HIL'!Z77 -> 8 | AA77: =SUM(O77:Z77) -> 477
A78: *INFECTOLOGIA ADULTO | B78: ='105100-HLS'!B78+'105101-HCQ'!B78+'105102-HOV'!B78+'105103-HIL'!B78 -> 0 | C78: ='105100-HLS'!C78+'105101-HCQ'!C78+'105102-HOV'!C78+'105103-HIL'!C78 -> 0 | D78: ='105100-HLS'!D78+'105101-HCQ'!D78+'105102-HOV'!D78+'105103-HIL'!D78 -> 0 | E78: ='105100-HLS'!E78+'105101-HCQ'!E78+'105102-HOV'!E78+'105103-HIL'!E78 -> 0 | F78: ='105100-HLS'!F78+'105101-HCQ'!F78+'105102-HOV'!F78+'105103-HIL'!F78 -> 0 | G78: ='105100-HLS'!G78+'105101-HCQ'!G78+'105102-HOV'!G78+'105103-HIL'!G78 -> 0 | H78: ='105100-HLS'!H78+'105101-HCQ'!H78+'105102-HOV'!H78+'105103-HIL'!H78 -> 0 | I78: ='105100-HLS'!I78+'105101-HCQ'!I78+'105102-HOV'!I78+'105103-HIL'!I78 -> 0 | ... M78: ='105100-HLS'!M78+'105101-HCQ'!M78+'105102-HOV'!M78+'105103-HIL'!M78 -> 0 | N78: =SUM(B78:M78) -> 0 | O78: ='105100-HLS'!O78+'105101-HCQ'!O78+'105102-HOV'!O78+'105103-HIL'!O78 -> 0 | P78: ='105100-HLS'!P78+'105101-HCQ'!P78+'105102-HOV'!P78+'105103-HIL'!P78 -> 0 | Q78: ='105100-HLS'!Q78+'105101-HCQ'!Q78+'105102-HOV'!Q78+'105103-HIL'!Q78 -> 1 | R78: ='105100-HLS'!R78+'105101-HCQ'!R78+'105102-HOV'!R78+'105103-HIL'!R78 -> 1 | S78: ='105100-HLS'!S78+'105101-HCQ'!S78+'105102-HOV'!S78+'105103-HIL'!S78 -> 0 | T78: ='105100-HLS'!T78+'105101-HCQ'!T78+'105102-HOV'!T78+'105103-HIL'!T78 -> 15 | U78: ='105100-HLS'!U78+'105101-HCQ'!U78+'105102-HOV'!U78+'105103-HIL'!U78 -> 0 | V78: ='105100-HLS'!V78+'105101-HCQ'!V78+'105102-HOV'!V78+'105103-HIL'!V78 -> 0 | ... Z78: ='105100-HLS'!Z78+'105101-HCQ'!Z78+'105102-HOV'!Z78+'105103-HIL'!Z78 -> 2 | AA78: =SUM(O78:Z78) -> 53
A79: *DIABETOLOGÍA | B79: ='105100-HLS'!B79+'105101-HCQ'!B79+'105102-HOV'!B79+'105103-HIL'!B79 -> 0 | C79: ='105100-HLS'!C79+'105101-HCQ'!C79+'105102-HOV'!C79+'105103-HIL'!C79 -> 0 | D79: ='105100-HLS'!D79+'105101-HCQ'!D79+'105102-HOV'!D79+'105103-HIL'!D79 -> 0 | E79: ='105100-HLS'!E79+'105101-HCQ'!E79+'105102-HOV'!E79+'105103-HIL'!E79 -> 0 | F79: ='105100-HLS'!F79+'105101-HCQ'!F79+'105102-HOV'!F79+'105103-HIL'!F79 -> 0 | G79: ='105100-HLS'!G79+'105101-HCQ'!G79+'105102-HOV'!G79+'105103-HIL'!G79 -> 1 | H79: ='105100-HLS'!H79+'105101-HCQ'!H79+'105102-HOV'!H79+'105103-HIL'!H79 -> 0 | I79: ='105100-HLS'!I79+'105101-HCQ'!I79+'105102-HOV'!I79+'105103-HIL'!I79 -> 0 | ... M79: ='105100-HLS'!M79+'105101-HCQ'!M79+'105102-HOV'!M79+'105103-HIL'!M79 -> 0 | N79: =SUM(B79:M79) -> 1 | O79: ='105100-HLS'!O79+'105101-HCQ'!O79+'105102-HOV'!O79+'105103-HIL'!O79 -> 0 | P79: ='105100-HLS'!P79+'105101-HCQ'!P79+'105102-HOV'!P79+'105103-HIL'!P79 -> 0 | Q79: ='105100-HLS'!Q79+'105101-HCQ'!Q79+'105102-HOV'!Q79+'105103-HIL'!Q79 -> 0 | R79: ='105100-HLS'!R79+'105101-HCQ'!R79+'105102-HOV'!R79+'105103-HIL'!R79 -> 0 | S79: ='105100-HLS'!S79+'105101-HCQ'!S79+'105102-HOV'!S79+'105103-HIL'!S79 -> 0 | T79: ='105100-HLS'!T79+'105101-HCQ'!T79+'105102-HOV'!T79+'105103-HIL'!T79 -> 3 | U79: ='105100-HLS'!U79+'105101-HCQ'!U79+'105102-HOV'!U79+'105103-HIL'!U79 -> 0 | V79: ='105100-HLS'!V79+'105101-HCQ'!V79+'105102-HOV'!V79+'105103-HIL'!V79 -> 0 | ... Z79: ='105100-HLS'!Z79+'105101-HCQ'!Z79+'105102-HOV'!Z79+'105103-HIL'!Z79 -> 0 | AA79: =SUM(O79:Z79) -> 7
A80: *PSIQUIATRÍA | B80: ='105100-HLS'!B80+'105101-HCQ'!B80+'105102-HOV'!B80+'105103-HIL'!B80 -> 2 | C80: ='105100-HLS'!C80+'105101-HCQ'!C80+'105102-HOV'!C80+'105103-HIL'!C80 -> 3 | D80: ='105100-HLS'!D80+'105101-HCQ'!D80+'105102-HOV'!D80+'105103-HIL'!D80 -> 5 | E80: ='105100-HLS'!E80+'105101-HCQ'!E80+'105102-HOV'!E80+'105103-HIL'!E80 -> 2 | F80: ='105100-HLS'!F80+'105101-HCQ'!F80+'105102-HOV'!F80+'105103-HIL'!F80 -> 5 | G80: ='105100-HLS'!G80+'105101-HCQ'!G80+'105102-HOV'!G80+'105103-HIL'!G80 -> 6 | H80: ='105100-HLS'!H80+'105101-HCQ'!H80+'105102-HOV'!H80+'105103-HIL'!H80 -> 1 | I80: ='105100-HLS'!I80+'105101-HCQ'!I80+'105102-HOV'!I80+'105103-HIL'!I80 -> 3 | ... M80: ='105100-HLS'!M80+'105101-HCQ'!M80+'105102-HOV'!M80+'105103-HIL'!M80 -> 2 | N80: =SUM(B80:M80) -> 32 | O80: ='105100-HLS'!O80+'105101-HCQ'!O80+'105102-HOV'!O80+'105103-HIL'!O80 -> 342 | P80: ='105100-HLS'!P80+'105101-HCQ'!P80+'105102-HOV'!P80+'105103-HIL'!P80 -> 276 | Q80: ='105100-HLS'!Q80+'105101-HCQ'!Q80+'105102-HOV'!Q80+'105103-HIL'!Q80 -> 361 | R80: ='105100-HLS'!R80+'105101-HCQ'!R80+'105102-HOV'!R80+'105103-HIL'!R80 -> 281 | S80: ='105100-HLS'!S80+'105101-HCQ'!S80+'105102-HOV'!S80+'105103-HIL'!S80 -> 315 | T80: ='105100-HLS'!T80+'105101-HCQ'!T80+'105102-HOV'!T80+'105103-HIL'!T80 -> 296 | U80: ='105100-HLS'!U80+'105101-HCQ'!U80+'105102-HOV'!U80+'105103-HIL'!U80 -> 293 | V80: ='105100-HLS'!V80+'105101-HCQ'!V80+'105102-HOV'!V80+'105103-HIL'!V80 -> 231 | ... Z80: ='105100-HLS'!Z80+'105101-HCQ'!Z80+'105102-HOV'!Z80+'105103-HIL'!Z80 -> 144 | AA80: =SUM(O80:Z80) -> 3238
A81: *OFTALMOLOGÍA | B81: ='105100-HLS'!B81+'105101-HCQ'!B81+'105102-HOV'!B81+'105103-HIL'!B81 -> 0 | C81: ='105100-HLS'!C81+'105101-HCQ'!C81+'105102-HOV'!C81+'105103-HIL'!C81 -> 0 | D81: ='105100-HLS'!D81+'105101-HCQ'!D81+'105102-HOV'!D81+'105103-HIL'!D81 -> 0 | E81: ='105100-HLS'!E81+'105101-HCQ'!E81+'105102-HOV'!E81+'105103-HIL'!E81 -> 0 | F81: ='105100-HLS'!F81+'105101-HCQ'!F81+'105102-HOV'!F81+'105103-HIL'!F81 -> 0 | G81: ='105100-HLS'!G81+'105101-HCQ'!G81+'105102-HOV'!G81+'105103-HIL'!G81 -> 0 | H81: ='105100-HLS'!H81+'105101-HCQ'!H81+'105102-HOV'!H81+'105103-HIL'!H81 -> 0 | I81: ='105100-HLS'!I81+'105101-HCQ'!I81+'105102-HOV'!I81+'105103-HIL'!I81 -> 0 | ... M81: ='105100-HLS'!M81+'105101-HCQ'!M81+'105102-HOV'!M81+'105103-HIL'!M81 -> 0 | N81: =SUM(B81:M81) -> 0 | O81: ='105100-HLS'!O81+'105101-HCQ'!O81+'105102-HOV'!O81+'105103-HIL'!O81 -> 69 | P81: ='105100-HLS'!P81+'105101-HCQ'!P81+'105102-HOV'!P81+'105103-HIL'!P81 -> 46 | Q81: ='105100-HLS'!Q81+'105101-HCQ'!Q81+'105102-HOV'!Q81+'105103-HIL'!Q81 -> 53 | R81: ='105100-HLS'!R81+'105101-HCQ'!R81+'105102-HOV'!R81+'105103-HIL'!R81 -> 52 | S81: ='105100-HLS'!S81+'105101-HCQ'!S81+'105102-HOV'!S81+'105103-HIL'!S81 -> 37 | T81: ='105100-HLS'!T81+'105101-HCQ'!T81+'105102-HOV'!T81+'105103-HIL'!T81 -> 39 | U81: ='105100-HLS'!U81+'105101-HCQ'!U81+'105102-HOV'!U81+'105103-HIL'!U81 -> 40 | V81: ='105100-HLS'!V81+'105101-HCQ'!V81+'105102-HOV'!V81+'105103-HIL'!V81 -> 94 | ... Z81: ='105100-HLS'!Z81+'105101-HCQ'!Z81+'105102-HOV'!Z81+'105103-HIL'!Z81 -> 104 | AA81: =SUM(O81:Z81) -> 671
... A85: *OTRAS ESPECIALIDADES ADULTO | B85: ='105100-HLS'!B85+'105101-HCQ'!B85+'105102-HOV'!B85+'105103-HIL'!B85 -> 11 | C85: ='105100-HLS'!C85+'105101-HCQ'!C85+'105102-HOV'!C85+'105103-HIL'!C85 -> 43 | D85: ='105100-HLS'!D85+'105101-HCQ'!D85+'105102-HOV'!D85+'105103-HIL'!D85 -> 340 | E85: ='105100-HLS'!E85+'105101-HCQ'!E85+'105102-HOV'!E85+'105103-HIL'!E85 -> 96 | F85: ='105100-HLS'!F85+'105101-HCQ'!F85+'105102-HOV'!F85+'105103-HIL'!F85 -> 222 | G85: ='105100-HLS'!G85+'105101-HCQ'!G85+'105102-HOV'!G85+'105103-HIL'!G85 -> 182 | H85: ='105100-HLS'!H85+'105101-HCQ'!H85+'105102-HOV'!H85+'105103-HIL'!H85 -> 159 | I85: ='105100-HLS'!I85+'105101-HCQ'!I85+'105102-HOV'!I85+'105103-HIL'!I85 -> 94 | ... M85: ='105100-HLS'!M85+'105101-HCQ'!M85+'105102-HOV'!M85+'105103-HIL'!M85 -> 97 | N85: =SUM(B85:M85) -> 1945 | O85: ='105100-HLS'!O85+'105101-HCQ'!O85+'105102-HOV'!O85+'105103-HIL'!O85 -> 1998 | P85: ='105100-HLS'!P85+'105101-HCQ'!P85+'105102-HOV'!P85+'105103-HIL'!P85 -> 1690 | Q85: ='105100-HLS'!Q85+'105101-HCQ'!Q85+'105102-HOV'!Q85+'105103-HIL'!Q85 -> 2390 | R85: ='105100-HLS'!R85+'105101-HCQ'!R85+'105102-HOV'!R85+'105103-HIL'!R85 -> 1615 | S85: ='105100-HLS'!S85+'105101-HCQ'!S85+'105102-HOV'!S85+'105103-HIL'!S85 -> 1840 | T85: ='105100-HLS'!T85+'105101-HCQ'!T85+'105102-HOV'!T85+'105103-HIL'!T85 -> 1428 | U85: ='105100-HLS'!U85+'105101-HCQ'!U85+'105102-HOV'!U85+'105103-HIL'!U85 -> 1438 | V85: ='105100-HLS'!V85+'105101-HCQ'!V85+'105102-HOV'!V85+'105103-HIL'!V85 -> 957 | ... Z85: ='105100-HLS'!Z85+'105101-HCQ'!Z85+'105102-HOV'!Z85+'105103-HIL'!Z85 -> 1420 | AA85: =SUM(O85:Z85) -> 19199
A86: CONSULTAS PERTINENTES | B86: =SUM(B11:B85) -> 1917 | C86: =SUM(C11:C85) -> 1919 | D86: =SUM(D11:D85) -> 2440 | E86: =SUM(E11:E85) -> 1903 | F86: =SUM(F11:F85) -> 2410 | G86: =SUM(G11:G85) -> 2018 | H86: =SUM(H11:H85) -> 2187 | I86: =SUM(I11:I85) -> 2240 | ... AA86: =SUM(AA11:AA85) -> 396182 | AB86: =IFERROR(N86/AA86,0) -> 0.063637419

Sheet 105100-HLS
A1: MINISTERIO DE SALUD
A2: SERVICIO DE SALUD COQUIMBO
A3: SUBDIRECCION DE GESTION ASISTENCIAL
A4: SUBDEPTO. DE ESTADISTICAS Y GESTION DE LA INFORMACION
A5: AÑO 2022
A6: INDICADOR 1.3:Porcentaje de altas médicas de consulta de especialidad en el nivel secundario.
A8: ESPECIALIDADES Y SUB-ESPECIALIDADES MEDICAS | B8: NUMERADOR | O8: DENOMINADOR | AB8: INDICADOR
B9: N° de altas médicas realizadas en el periodo (presenciales y remotas) | O9: N° de consultas médicas realizadas en el periodo (presenciales y remotas)
B10: Enero | C10: Febrero | D10: Marzo | E10: Abril | F10: Mayo | G10: Junio | H10: Julio | I10: Agosto | J10: Septiembre | K10: Octubre | L10: Noviembre | M10: Diciembre | N10: Total | O10: Enero | P10: Febrero | Q10: Marzo | R10: Abril | S10: Mayo | T10: Junio | U10: Julio | V10: Agosto | W10: Septiembre | X10: Octubre | Y10: Noviembre | Z10: Diciembre | AA10: Total
A11: PEDIATRÍA | B11: 24 | C11: 31 | D11: 0 | E11: 27 | F11: 23 | G11: 17 | H11: 7 | I11: 6 | J11: 1 | K11: 14 | L11: 4 | M11: 2 | N11: =SUM(B11:M11) -> 156 | O11: 43 | P11: 47 | Q11: 57 | R11: 101 | S11: 74 | T11: 53 | U11: 38 | V11: 48 | W11: 64 | X11: 46 | Y11: 52 | Z11: 34 | AA11: =SUM(O11:Z11) -> 657 | AB11: =IFERROR(N11/AA11,0) -> 0.23744292
A12: MEDICINA INTERNA | B12: 208 | C12: 334 | D12: 349 | E12: 269 | F12: 294 | G12: 202 | H12: 257 | I12: 274 | J12: 253 | K12: 210 | L12: 280 | M12: 214 | N12: =SUM(B12:M12) -> 3144 | O12: 273 | P12: 395 | Q12: 440 | R12: 377 | S12: 435 | T12: 321 | U12: 408 | V12: 479 | W12: 413 | X12: 314 | Y12: 443 | Z12: 349 | AA12: =SUM(O12:Z12) -> 4647 | AB12: =IFERROR(N12/AA12,0) -> 0.67656553
A13: NEONATOLOGÍA | B13: 10 | C13: 6 | D13: 0 | E13: 3 | F13: 8 | G13: 2 | H13: 5 | I13: 4 | J13: 6 | K13: 17 | L13: 11 | M13: 8 | N13: =SUM(B13:M13) -> 80 | O13: 124 | P13: 99 | Q13: 101 | R13: 104 | S13: 101 | T13: 92 | U13: 111 | V13: 124 | W13: 93 | X13: 115 | Y13: 82 | Z13: 87 | AA13: =SUM(O13:Z13) -> 1233 | AB13: =IFERROR(N13/AA13,0) -> 0.064882401
A14: ENFERMEDAD RESPIRATORIA PEDIÁTRICA (BRONCOPULMONAR INFANTIL) | B14: 4 | C14: 2 | D14: 2 | E14: 0 | F14: 2 | G14: 0 | H14: 2 | I14: 6 | J14: 0 | K14: 0 | L14: 0 | M14: 1 | N14: =SUM(B14:M14) -> 19 | O14: 131 | P14: 61 | Q14: 81 | R14: 87 | S14: 105 | T14: 139 | U14: 140 | V14: 173 | W14: 132 | X14: 146 | Y14: 167 | Z14: 113 | AA14: =SUM(O14:Z14) -> 1475 | AB14: =IFERROR(N14/AA14,0) -> 0.012881356
A15: ENFERMEDAD RESPIRATORIA DE ADULTO (BRONCOPULMONAR) | B15: 2 | C15: 3 | D15: 2 | E15: 1 | F15: 0 | G15: 0 | H15: 0 | I15: 0 | J15: 0 | K15: 0 | L15: 0 | M15: 0 | N15: =SUM(B15:M15) -> 8 | O15: 97 | P15: 139 | Q15: 183 | R15: 155 | S15: 152 | T15: 117 | U15: 123 | V15: 150 | W15: 119 | X15: 119 | Y15: 131 | Z15: 53 | AA15: =SUM(O15:Z15) -> 1538 | AB15: =IFERROR(N15/AA15,0) -> 0.0052015605
A16: CARDIOLOGÍA PEDIÁTRICA | B16: 14 | C16: 14 | D16: 13 | E16: 11 | F16: 11 | G16: 6 | H16: 9 | I16: 5 | J16: 17 | K16: 6 | L16: 18 | M16: 7 | N16: =SUM(B16:M16) -> 131 | O16: 106 | P16: 115 | Q16: 89 | R16: 121 | S16: 127 | T16: 114 | U16: 127 | V16: 143 | W16: 123 | X16: 119 | Y16: 132 | Z16: 77 | AA16: =SUM(O16:Z16) -> 1393 | AB16: =IFERROR(N16/AA16,0) -> 0.094041637
A17: CARDIOLOGÍA | B17: 16 | C17: 20 | D17: 37 | E17: 18 | F17: 2 | G17: 0 | H17: 1 | I17: 2 | J17: 7 | K17: 3 | L17: 9 | M17: 12 | N17: =SUM(B17:M17) -> 127 | O17: 371 | P17: 342 | Q17: 595 | R17: 554 | S17: 660 | T17: 557 | U17: 594 | V17: 680 | W17: 592 | X17: 455 | Y17: 645 | Z17: 455 | AA17: =SUM(O17:Z17) -> 6500 | AB17: =IFERROR(N17/AA17,0) -> 0.019538462
A18: ENDOCRINOLOGÍA PEDIÁTRICA | B18: 2 | C18: 4 | D18: 6 | E18: 0 | F18: 1 | G18: 0 | H18: 1 | I18: 3 | J18: 4 | K18: 2 | L18: 0 | M18: 5 | N18: =SUM(B18:M18) -> 28 | O18: 37 | P18: 124 | Q18: 72 | R18: 68 | S18: 123 | T18: 80 | U18: 121 | V18: 122 | W18: 119 | X18: 92 | Y18: 0 | Z18: 160 | AA18: =SUM(O18:Z18) -> 1118 | AB18: =IFERROR(N18/AA18,0) -> 0.025044723
A19: ENDOCRINOLOGÍA ADULTO | B19: 7 | C19: 3 | D19: 16 | E19: 10 | F19: 2 | G19: 11 | H19: 7 | I19: 3 | J19: 10 | K19: 8 | L19: 17 | M19: 4 | N19: =SUM(B19:M19) -> 98 | O19: 147 | P19: 152 | Q19: 307 | R19: 247 | S19: 234 | T19: 173 | U19: 143 | V19: 128 | W19: 162 | X19: 162 | Y19: 188 | Z19: 169 | AA19: =SUM(O19:Z19) -> 2212 | AB19: =IFERROR(N19/AA19,0) -> 0.044303797
A20: GASTROENTEROLOGÍA PEDIÁTRICA | B20: 2 | C20: 5 | D20: 3 | E20: 2 | F20: 0 | G20: 5 | H20: 0 | I20: 1 | J20: 2 | K20: 1 | L20: 3 | M20: 2 | N20: =SUM(B20:M20) -> 26 | O20: 70 | P20: 69 | Q20: 42 | R20: 100 | S20: 81 | T20: 105 | U20: 142 | V20: 170 | W20: 155 | X20: 130 | Y20: 171 | Z20: 147 | AA20: =SUM(O20:Z20) -> 1382 | AB20: =IFERROR(N20/AA20,0) -> 0.018813314
A21: GASTROENTEROLOGÍA ADULTO | B21: 4 | C21: 13 | D21: 11 | E21: 6 | F21: 1 | G21: 3 | H21: 3 | I21: 1 | J21: 2 | K21: 2 | L21: 4 | M21: 2 | N21: =SUM(B21:M21) -> 52 | O21: 275 | P21: 247 | Q21: 300 | R21: 183 | S21: 255 | T21: 162 | U21: 171 | V21: 236 | W21: 164 | X21: 174 | Y21: 218 | Z21: 175 | AA21: =SUM(O21:Z21) -> 2560 | AB21: =IFERROR(N21/AA21,0) -> 0.0203125
A22: GENÉTICA CLÍNICA | B22: 0 | C22: 0 | D22: 0 | E22: 0 | F22: 0 | G22: 0 | H22: 0 | I22: 0 | J22: 0 | K22: 0 | L22: 0 | M22: 0 | N22: =SUM(B22:M22) -> 0 | O22: 0 | P22: 0 | Q22: 0 | R22: 0 | S22: 0 | T22: 0 | U22: 0 | V22: 0 | W22: 0 | X22: 0 | Y22: 0 | Z22: 0 | AA22: =SUM(O22:Z22) -> 0 | AB22: =IFERROR(N22/AA22,0) -> 0
... A85: *OTRAS ESPECIALIDADES ADULTO | B85: 0 | C85: 0 | D85: 0 | E85: 0 | F85: 0 | G85: 0 | H85: 0 | I85: 0 | J85: 0 | K85: 0 | L85: 0 | M85: 0 | N85: =SUM(B85:M85) -> 0 | O85: 1202 | P85: 1091 | Q85: 1423 | R85: 1025 | S85: 1113 | T85: 810 | U85: 773 | V85: 410 | W85: 812 | X85: 820 | Y85: 814 | Z85: 931 | AA85: =SUM(O85:Z85) -> 11224 | AB85: =IFERROR(N85/AA85,0) -> 0
A86: CONSULTAS PERTINENTES | B86: =SUM(B11:B85) -> 628 | C86: =SUM(C11:C85) -> 768 | D86: =SUM(D11:D85) -> 837 | E86: =SUM(E11:E85) -> 646 | F86: =SUM(F11:F85) -> 615 | G86: =SUM(G11:G85) -> 500 | H86: =SUM(H11:H85) -> 572 | I86: =SUM(I11:I85) -> 555 | ... AA86: =SUM(AA11:AA85) -> 124513 | AB86: =IFERROR(N86/AA86,0) -> 0.056235092

Sheet 105101-HCQ
A1: MINISTERIO DE SALUD
A2: SERVICIO DE SALUD COQUIMBO
A3: SUBDIRECCION DE GESTION ASISTENCIAL
A4: SUBDEPTO. DE ESTADISTICAS Y GESTION DE LA INFORMACION
A5: AÑO 2022
A6: INDICADOR 1.3:Porcentaje de altas médicas de consulta de especialidad en el nivel secundario.
A8: ESPECIALIDADES Y SUB-ESPECIALIDADES MEDICAS | B8: NUMERADOR | O8: DENOMINADOR | AB8: INDICADOR
B9: N° de altas médicas realizadas en el periodo (presenciales y remotas) | O9: N° de consultas médicas realizadas en el periodo (presenciales y remotas)
B10: Enero | C10: Febrero | D10: Marzo | E10: Abril | F10: Mayo | G10: Junio | H10: Julio | I10: Agosto | J10: Septiembre | K10: Octubre | L10: Noviembre | M10: Diciembre | N10: Total | O10: Enero | P10: Febrero | Q10: Marzo | R10: Abril | S10: Mayo | T10: Junio | U10: Julio | V10: Agosto | W10: Septiembre | X10: Octubre | Y10: Noviembre | Z10: Diciembre | AA10: Total
A11: PEDIATRÍA | B11: 17 | C11: 10 | D11: 14 | E11: 13 | F11: 18 | G11: 20 | H11: 13 | I11: 17 | J11: 12 | K11: 8 | L11: 3 | M11: 13 | N11: =SUM(B11:M11) -> 158 | O11: 194 | P11: 186 | Q11: 218 | R11: 204 | S11: 240 | T11: 234 | U11: 166 | V11: 273 | W11: 179 | X11: 290 | Y11: 304 | Z11: 215 | AA11: =SUM(O11:Z11) -> 2703 | AB11: =IFERROR(N11/AA11,0) -> 0.05845357
A12: MEDICINA INTERNA | B12: 3 | C12: 8 | D12: 23 | E12: 24 | F12: 9 | G12: 6 | H12: 14 | I12: 10 | J12: 14 | K12: 7 | L12: 9 | M12: 4 | N12: =SUM(B12:M12) -> 131 | O12: 616 | P12: 746 | Q12: 1022 | R12: 782 | S12: 874 | T12: 648 | U12: 768 | V12: 614 | W12: 815 | X12: 581 | Y12: 704 | Z12: 354 | AA12: =SUM(O12:Z12) -> 8524 | AB12: =IFERROR(N12/AA12,0) -> 0.015368372
A13: NEONATOLOGÍA | B13: 0 | C13: 0 | D13: 0 | E13: 0 | F13: 0 | G13: 0 | H13: 0 | I13: 0 | J13: 0 | K13: 0 | L13: 0 | M13: 0 | N13: =SUM(B13:M13) -> 0 | O13: 23 | P13: 8 | Q13: 28 | R13: 17 | S13: 31 | T13: 27 | U13: 25 | V13: 0 | W13: 0 | X13: 0 | Y13: 0 | Z13: 0 | AA13: =SUM(O13:Z13) -> 159 | AB13: =IFERROR(N13/AA13,0) -> 0
A14: ENFERMEDAD RESPIRATORIA PEDIÁTRICA (BRONCOPULMONAR INFANTIL) | B14: 7 | C14: 1 | D14: 9 | E14: 8 | F14: 1 | G14: 5 | H14: 3 | I14: 4 | J14: 2 | K14: 1 | L14: 5 | M14: 2 | N14: =SUM(B14:M14) -> 48 | O14: 58 | P14: 71 | Q14: 100 | R14: 79 | S14: 109 | T14: 105 | U14: 120 | V14: 121 | W14: 46 | X14: 77 | Y14: 90 | Z14: 75 | AA14: =SUM(O14:Z14) -> 1051 | AB14: =IFERROR(N14/AA14,0) -> 0.04567079
A15: ENFERMEDAD RESPIRATORIA DE ADULTO (BRONCOPULMONAR) | B15: 1 | C15: 2 | D15: 2 | E15: 1 | F15: 2 | G15: 3 | H15: 2 | I15: 1 | J15: 1 | K15: 6 | L15: 3 | M15: 2 | N15: =SUM(B15:M15) -> 26 | O15: 137 | P15: 117 | Q15: 201 | R15: 148 | S15: 175 | T15: 172 | U15: 165 | V15: 156 | W15: 109 | X15: 91 | Y15: 170 | Z15: 124 | AA15: =SUM(O15:Z15) -> 1765 | AB15: =IFERROR(N15/AA15,0) -> 0.014730878
A16: CARDIOLOGÍA PEDIÁTRICA | B16: 11 | C16: 6 | D16: 18 | E16: 22 | F16: 7 | G16: 11 | H16: 6 | I16: 8 | J16: 12 | K16: 3 | L16: 13 | M16: 8 | N16: =SUM(B16:M16) -> 125 | O16: 68 | P16: 40 | Q16: 70 | R16: 57 | S16: 62 | T16: 71 | U16: 49 | V16: 76 | W16: 62 | X16: 55 | Y16: 84 | Z16: 67 | AA16: =SUM(O16:Z16) -> 761 | AB16: =IFERROR(N16/AA16,0) -> 0.16425756
A17: CARDIOLOGÍA | B17: 4 | C17: 3 | D17: 3 | E17: 1 | F17: 9 | G17: 4 | H17: 4 | I17: 11 | J17: 4 | K17: 5 | L17: 4 | M17: 9 | N17: =SUM(B17:M17) -> 61 | O17: 158 | P17: 165 | Q17: 195 | R17: 179 | S17: 370 | T17: 377 | U17: 302 | V17: 397 | W17: 356 | X17: 358 | Y17: 305 | Z17: 214 | AA17: =SUM(O17:Z17) -> 3376 | AB17: =IFERROR(N17/AA17,0) -> 0.01806872
A18: ENDOCRINOLOGÍA PEDIÁTRICA | B18: 2 | C18: 7 | D18: 7 | E18: 2 | F18: 4 | G18: 4 | H18: 3 | I18: 5 | J18: 10 | K18: 2 | L18: 7 | M18: 5 | N18: =SUM(B18:M18) -> 58 | O18: 96 | P18: 126 | Q18: 135 | R18: 88 | S18: 112 | T18: 102 | U18: 86 | V18: 50 | W18: 88 | X18: 101 | Y18: 114 | Z18: 87 | AA18: =SUM(O18:Z18) -> 1185 | AB18: =IFERROR(N18/AA18,0) -> 0.048945148
A19: ENDOCRINOLOGÍA ADULTO | B19: 1 | C19: 0 | D19: 2 | E19: 3 | F19: 7 | G19: 2 | H19: 4 | I19: 3 | J19: 2 | K19: 3 | L19: 4 | M19: 1 | N19: =SUM(B19:M19) -> 32 | O19: 86 | P19: 84 | Q19: 138 | R19: 100 | S19: 126 | T19: 101 | U19: 106 | V19: 78 | W19: 97 | X19: 64 | Y19: 52 | Z19: 66 | AA19: =SUM(O19:Z19) -> 1098 | AB19: =IFERROR(N19/AA19,0) -> 0.029143898
A20: GASTROENTEROLOGÍA PEDIÁTRICA | B20: 1 | C20: 0 | D20: 1 | E20: 0 | F20: 2 | G20: 3 | H20: 7 | I20: 5 | J20: 12 | K20: 6 | L20: 21 | M20: 9 | N20: =SUM(B20:M20) -> 67 | O20: 29 | P20: 25 | Q20: 45 | R20: 52 | S20: 50 | T20: 51 | U20: 93 | V20: 80 | W20: 109 | X20: 93 | Y20: 146 | Z20: 76 | AA20: =SUM(O20:Z20) -> 849 | AB20: =IFERROR(N20/AA20,0) -> 0.078916372
A21: GASTROENTEROLOGÍA ADULTO | B21: 5 | C21: 0 | D21: 3 | E21: 0 | F21: 0 | G21: 0 | H21: 1 | I21: 0 | J21: 0 | K21: 0 | L21: 0 | M21: 0 | N21: =SUM(B21:M21) -> 9 | O21: 145 | P21: 111 | Q21: 143 | R21: 109 | S21: 127 | T21: 109 | U21: 120 | V21: 82 | W21: 90 | X21: 78 | Y21: 53 | Z21: 74 | AA21: =SUM(O21:Z21) -> 1241 | AB21: =IFERROR(N21/AA21,0) -> 0.007252216
A22: GENÉTICA CLÍNICA | B22: 0 | C22: 0 | D22: 0 | E22: 0 | F22: 0 | G22: 0 | H22: 0 | I22: 0 | J22: 0 | K22: 0 | L22: 0 | M22: 0 | N22: =SUM(B22:M22) -> 0 | O22: 0 | P22: 0 | Q22: 0 | R22: 0 | S22: 0 | T22: 0 | U22: 0 | V22: 0 | W22: 0 | X22: 0 | Y22: 0 | Z22: 0 | AA22: =SUM(O22:Z22) -> 0 | AB22: =IFERROR(N22/AA22,0) -> 0
... A85: *OTRAS ESPECIALIDADES ADULTO | B85: 10 | C85: 3 | D85: 3 | E85: 10 | F85: 10 | G85: 5 | H85: 5 | I85: 5 | J85: 5 | K85: 6 | L85: 4 | M85: 1 | N85: =SUM(B85:M85) -> 67 | O85: 425 | P85: 272 | Q85: 502 | R85: 425 | S85: 404 | T85: 357 | U85: 372 | V85: 324 | W85: 278 | X85: 245 | Y85: 251 | Z85: 258 | AA85: =SUM(O85:Z85) -> 4113 | AB85: =IFERROR(N85/AA85,0) -> 0.016289813
