Workbook

Sheet T2
B1: INDICADORES | C1: ENE-DIC 2017 | D1: ENE-DIC 2018 | E1: TASA DE VARIACIÓN (%)
A2: Modelo Asistencial | B2: 1. Índice Ocupacional | C2: =ROUND('T3'!I12,4) -> 0.7685 | D2: =ROUND('T3'!J12,4) -> 0.7797 | E2: =ROUND((D2-C2)/C2,4) -> 0.0146
B3: 2. Número de Intervenciones Quirúrgicas Mayores Electivas | C3: ='T4'!B12 -> 23391 | D3: ='T4'!C12 -> 25899 | E3: =ROUND((D3-C3)/C3,4) -> 0.1072
B4: 3. Número de Egresos Hospitalarios | C4: ='T5'!B12 -> 41959 | D4: ='T5'!C12 -> 40954 | E4: =ROUND((D4-C4)/C4,4) -> -0.024
B5: 4. Porcentaje de Categorización de Urgencia en Unidades de Emergencia Hospitalaria | C5: =ROUND('T6'!I12,4) -> 0.9293 | D5: =ROUND('T6'!J12,4) -> 1.0959 | E5: =ROUND((D5-C5)/C5,4) -> 0.1793
B6: 5. Porcentaje de Cesáreas sobre Partos | C6: =ROUND('T7'!I12,4) -> 0.5223 | D6: =ROUND('T7'!J12,4) -> 0.5191 | E6: =ROUND((D6-C6)/C6,4) -> -0.0061
B7: 6. Porcentaje de Consultas Nuevas de Especialidad | C7: =ROUND('T8'!I12,4) -> 0.2927 | D7: =ROUND('T8'!J12,4) -> 0.3135 | E7: =ROUND((D7-C7)/C7,4) -> 0.0711
B8: 7. Porcentaje Oportunidad de Hospitalización desde las Unidades de Emergencia Hospitalaria | C8: =ROUND('T9'!I12,4) -> 0.7031 | D8: =ROUND('T9'!J12,4) -> 0.6523 | E8: =ROUND((D8-C8)/C8,4) -> -0.0723
B9: 8. Promedio de Días Estada | C9: =ROUND('T10'!I12,2) -> 6.01 | D9: =ROUND('T10'!J12,2) -> 6.31 | E9: =ROUND((D9-C9)/C9,4) -> 0.0499

Sheet T3
H1: Ind_1 Índice Ocupacional
A2: Nombre Institución | B2: Total de días cama ocupados Enero a Diciembre 2017 | C2: Total de días cama disponibles Enero a Diciembre 2017 | D2: Total de días cama ocupados Enero a Diciembre 2018 | E2: Total de días cama disponibles Enero a Diciembre 2018 | F2: Índice Ocupacional Enero a Diciembre 2017 | G2: Índice Ocupacional Enero a Diciembre 2018 | H2: Institución | I2: Enero a Diciembre 2017 | J2: Enero a Diciembre 2018 | K2: Tasa de Variación (%)
A3: Hospital La Serena | B3: 86685 | C3: 101704 | D3: 89724 | E3: 103706 | F3: =ROUND(Tabla159101112131415167911[[#This Row],[Total de días cama ocupados Enero a Diciembre 2017]]/Tabla159101112131415167911[[#This Row],[Total de días cama disponibles Enero a Diciembre 2017]],4) -> 0.8523 | G3: =ROUND(Tabla159101112131415167911[[#This Row],[Total de días cama ocupados Enero a Diciembre 2018]]/Tabla159101112131415167911[[#This Row],[Total de días cama disponibles Enero a Diciembre 2018]],4) -> 0.8652 | H3: Hospital La Serena | I3: =ROUND(Tabla159101112131415167911[[#This Row],[ Índice Ocupacional Enero a Diciembre 2017]],4) -> 0.8523 | J3: =ROUND(Tabla159101112131415167911[[#This Row],[ Índice Ocupacional Enero a Diciembre 2018]],4) -> 0.8652 | K3: =ROUND((Tabla159101112131415167911[[#This Row],[Enero a Diciembre 2018]]-Tabla159101112131415167911[[#This Row],[Enero a Diciembre 2017]])/Tabla159101112131415167911[[#This Row],[Enero a Diciembre 2017]],4) -> 0.0151
A4: Hospital Coquimbo | B4: 90319 | C4: 104905 | D4: 94475 | E4: 108220 | F4: =ROUND(Tabla159101112131415167911[[#This Row],[Total de días cama ocupados Enero a Diciembre 2017]]/Tabla159101112131415167911[[#This Row],[Total de días cama disponibles Enero a Diciembre 2017]],4) -> 0.861 | G4: =ROUND(Tabla159101112131415167911[[#This Row],[Total de días cama ocupados Enero a Diciembre 2018]]/Tabla159101112131415167911[[#This Row],[Total de días cama disponibles Enero a Diciembre 2018]],4) -> 0.873 | H4: Hospital Coquimbo | I4: =ROUND(Tabla159101112131415167911[[#This Row],[ Índice Ocupacional Enero a Diciembre 2017]],4) -> 0.861 | J4: =ROUND(Tabla159101112131415167911[[#This Row],[ Índice Ocupacional Enero a Diciembre 2018]],4) -> 0.873 | K4: =ROUND((Tabla159101112131415167911[[#This Row],[Enero a Diciembre 2018]]-Tabla159101112131415167911[[#This Row],[Enero a Diciembre 2017]])/Tabla159101112131415167911[[#This Row],[Enero a Diciembre 2017]],4) -> 0.0139
A5: Hospital Ovalle | B5: 52077 | C5: 68416 | D5: 52394 | E5: 68396 | F5: =ROUND(Tabla159101112131415167911[[#This Row],[Total de días cama ocupados Enero a Diciembre 2017]]/Tabla159101112131415167911[[#This Row],[Total de días cama disponibles Enero a Diciembre 2017]],4) -> 0.7612 | G5: =ROUND(Tabla159101112131415167911[[#This Row],[Total de días cama ocupados Enero a Diciembre 2018]]/Tabla159101112131415167911[[#This Row],[Total de días cama disponibles Enero a Diciembre 2018]],4) -> 0.766 | H5: Hospital Ovalle | I5: =ROUND(Tabla159101112131415167911[[#This Row],[ Índice Ocupacional Enero a Diciembre 2017]],4) -> 0.7612 | J5: =ROUND(Tabla159101112131415167911[[#This Row],[ Índice Ocupacional Enero a Diciembre 2018]],4) -> 0.766 | K5: =ROUND((Tabla159101112131415167911[[#This Row],[Enero a Diciembre 2018]]-Tabla159101112131415167911[[#This Row],[Enero a Diciembre 2017]])/Tabla159101112131415167911[[#This Row],[Enero a Diciembre 2017]],4) -> 0.0063
A6: Hospital Illapel | B6: 8565 | C6: 20098 | D6: 9547 | E6: 19517 | F6: =ROUND(Tabla159101112131415167911[[#This Row],[Total de días cama ocupados Enero a Diciembre 2017]]/Tabla159101112131415167911[[#This Row],[Total de días cama disponibles Enero a Diciembre 2017]],4) -> 0.4262 | G6: =ROUND(Tabla159101112131415167911[[#This Row],[Total de días cama ocupados Enero a Diciembre 2018]]/Tabla159101112131415167911[[#This Row],[Total de días cama disponibles Enero a Diciembre 2018]],4) -> 0.4892 | H6: Hospital Illapel | I6: =ROUND(Tabla159101112131415167911[[#This Row],[ Índice Ocupacional Enero a Diciembre 2017]],4) -> 0.4262 | J6: =ROUND(Tabla159101112131415167911[[#This Row],[ Índice Ocupacional Enero a Diciembre 2018]],4) -> 0.4892 | K6: =ROUND((Tabla159101112131415167911[[#This Row],[Enero a Diciembre 2018]]-Tabla159101112131415167911[[#This Row],[Enero a Diciembre 2017]])/Tabla159101112131415167911[[#This Row],[Enero a Diciembre 2017]],4) -> 0.1478
A7: Hospital Salamanca | B7: 4599 | C7: 8228 | D7: 4267 | E7: 6935 | F7: =ROUND(Tabla159101112131415167911[[#This Row],[Total de días cama ocupados Enero a Diciembre 2017]]/Tabla159101112131415167911[[#This Row],[Total de días cama disponibles Enero a Diciembre 2017]],4) -> 0.5589 | G7: =ROUND(Tabla159101112131415167911[[#This Row],[Total de días cama ocupados Enero a Diciembre 2018]]/Tabla159101112131415167911[[#This Row],[Total de días cama disponibles Enero a Diciembre 2018]],4) -> 0.6153 | H7: Hospital Salamanca | I7: =ROUND(Tabla159101112131415167911[[#This Row],[ Índice Ocupacional Enero a Diciembre 2017]],4) -> 0.5589 | J7: =ROUND(Tabla159101112131415167911[[#This Row],[ Índice Ocupacional Enero a Diciembre 2018]],4) -> 0.6153 | K7: =ROUND((Tabla159101112131415167911[[#This Row],[Enero a Diciembre 2018]]-Tabla159101112131415167911[[#This Row],[Enero a Diciembre 2017]])/Tabla159101112131415167911[[#This Row],[Enero a Diciembre 2017]],4) -> 0.1009
A8: Hospital Combarbalá | B8: 2884 | C8: 7300 | D8: 3034 | E8: 7300 | F8: =ROUND(Tabla159101112131415167911[[#This Row],[Total de días cama ocupados Enero a Diciembre 2017]]/Tabla159101112131415167911[[#This Row],[Total de días cama disponibles Enero a Diciembre 2017]],4) -> 0.3951 | G8: =ROUND(Tabla159101112131415167911[[#This Row],[Total de días cama ocupados Enero a Diciembre 2018]]/Tabla159101112131415167911[[#This Row],[Total de días cama disponibles Enero a Diciembre 2018]],4) -> 0.4156 | H8: Hospital Combarbalá | I8: =ROUND(Tabla159101112131415167911[[#This Row],[ Índice Ocupacional Enero a Diciembre 2017]],4) -> 0.3951 | J8: =ROUND(Tabla159101112131415167911[[#This Row],[ Índice Ocupacional Enero a Diciembre 2018]],4) -> 0.4156 | K8: =ROUND((Tabla159101112131415167911[[#This Row],[Enero a Diciembre 2018]]-Tabla159101112131415167911[[#This Row],[Enero a Diciembre 2017]])/Tabla159101112131415167911[[#This Row],[Enero a Diciembre 2017]],4) -> 0.0519
A9: Hospital Andacollo | B9: 2748 | C9: 5141 | D9: 2331 | E9: 5447 | F9: =ROUND(Tabla159101112131415167911[[#This Row],[Total de días cama ocupados Enero a Diciembre 2017]]/Tabla159101112131415167911[[#This Row],[Total de días cama disponibles Enero a Diciembre 2017]],4) -> 0.5345 | G9: =ROUND(Tabla159101112131415167911[[#This Row],[Total de días cama ocupados Enero a Diciembre 2018]]/Tabla159101112131415167911[[#This Row],[Total de días cama disponibles Enero a Diciembre 2018]],4) -> 0.4279 | H9: Hospital Andacollo | I9: =ROUND(Tabla159101112131415167911[[#This Row],[ Índice Ocupacional Enero a Diciembre 2017]],4) -> 0.5345 | J9: =ROUND(Tabla159101112131415167911[[#This Row],[ Índice Ocupacional Enero a Diciembre 2018]],4) -> 0.4279 | K9: =ROUND((Tabla159101112131415167911[[#This Row],[Enero a Diciembre 2018]]-Tabla159101112131415167911[[#This Row],[Enero a Diciembre 2017]])/Tabla159101112131415167911[[#This Row],[Enero a Diciembre 2017]],4) -> -0.1994
A10: Hospital Vicuña | B10: 5112 | C10: 10950 | D10: 5033 | E10: 10950 | F10: =ROUND(Tabla159101112131415167911[[#This Row],[Total de días cama ocupados Enero a Diciembre 2017]]/Tabla159101112131415167911[[#This Row],[Total de días cama disponibles Enero a Diciembre 2017]],4) -> 0.4668 | G10: =ROUND(Tabla159101112131415167911[[#This Row],[Total de días cama ocupados Enero a Diciembre 2018]]/Tabla159101112131415167911[[#This Row],[Total de días cama disponibles Enero a Diciembre 2018]],4) -> 0.4596 | H10: Hospital Vicuña | I10: =ROUND(Tabla159101112131415167911[[#This Row],[ Índice Ocupacional Enero a Diciembre 2017]],4) -> 0.4668 | J10: =ROUND(Tabla159101112131415167911[[#This Row],[ Índice Ocupacional Enero a Diciembre 2018]],4) -> 0.4596 | K10: =ROUND((Tabla159101112131415167911[[#This Row],[Enero a Diciembre 2018]]-Tabla159101112131415167911[[#This Row],[Enero a Diciembre 2017]])/Tabla159101112131415167911[[#This Row],[Enero a Diciembre 2017]],4) -> -0.0154
A11: Hospital Los Vilos | B11: 7252 | C11: 11904 | D11: 6150 | E11: 11904 | F11: =ROUND(Tabla159101112131415167911[[#This Row],[Total de días cama ocupados Enero a Diciembre 2017]]/Tabla159101112131415167911[[#This Row],[Total de días cama disponibles Enero a Diciembre 2017]],4) -> 0.6092 | G11: =ROUND(Tabla159101112131415167911[[#This Row],[Total de días cama ocupados Enero a Diciembre 2018]]/Tabla159101112131415167911[[#This Row],[Total de días cama disponibles Enero a Diciembre 2018]],4) -> 0.5166 | H11: Hospital Los Vilos | I11: =ROUND(Tabla159101112131415167911[[#This Row],[ Índice Ocupacional Enero a Diciembre 2017]],4) -> 0.6092 | J11: =ROUND(Tabla159101112131415167911[[#This Row],[ Índice Ocupacional Enero a Diciembre 2018]],4) -> 0.5166 | K11: =ROUND((Tabla159101112131415167911[[#This Row],[Enero a Diciembre 2018]]-Tabla159101112131415167911[[#This Row],[Enero a Diciembre 2017]])/Tabla159101112131415167911[[#This Row],[Enero a Diciembre 2017]],4) -> -0.152
A12: Total Servicio | B12: =SUBTOTAL(109,B3:B11) -> 260241 | C12: =SUBTOTAL(109,C3:C11) -> 338646 | D12: =SUBTOTAL(109,D3:D11) -> 266955 | E12: =SUBTOTAL(109,E3:E11) -> 342375 | F12: =ROUND(Tabla159101112131415167911[[#This Row],[Total de días cama ocupados Enero a Diciembre 2017]]/Tabla159101112131415167911[[#This Row],[Total de días cama disponibles Enero a Diciembre 2017]],4) -> 0.7685 | G12: =ROUND(Tabla159101112131415167911[[#This Row],[Total de días cama ocupados Enero a Diciembre 2018]]/Tabla159101112131415167911[[#This Row],[Total de días cama disponibles Enero a Diciembre 2018]],4) -> 0.7797 | H12: Total Servicio | I12: =ROUND(Tabla159101112131415167911[[#This Row],[ Índice Ocupacional Enero a Diciembre 2017]],4) -> 0.7685 | J12: =ROUND(Tabla159101112131415167911[[#This Row],[ Índice Ocupacional Enero a Diciembre 2018]],4) -> 0.7797 | K12: =ROUND((Tabla159101112131415167911[[#This Row],[Enero a Diciembre 2018]]-Tabla159101112131415167911[[#This Row],[Enero a Diciembre 2017]])/Tabla159101112131415167911[[#This Row],[Enero a Diciembre 2017]],4) -> 0.0146

Sheet T4
A1: Ind_2 Número de Intervenciones Quirúrgicas Mayores Electivas
A2: Institución | B2: Enero a Diciembre 2017 | C2: Enero a Diciembre 2018 | D2: Tasa de Variación (%)
A3: Hospital La Serena | B3: 9792 | C3: 10224 | D3: =ROUND((Tabla159101112131415167[[#This Row],[Enero a Diciembre 2018]]-Tabla159101112131415167[[#This Row],[Enero a Diciembre 2017]])/Tabla159101112131415167[[#This Row],[Enero a Diciembre 2017]],4) -> 0.0441
A4: Hospital Coquimbo | B4: 7583 | C4: 8773 | D4: =ROUND((Tabla159101112131415167[[#This Row],[Enero a Diciembre 2018]]-Tabla159101112131415167[[#This Row],[Enero a Diciembre 2017]])/Tabla159101112131415167[[#This Row],[Enero a Diciembre 2017]],4) -> 0.1569
A5: Hospital Ovalle | B5: 4977 | C5: 5895 | D5: =ROUND((Tabla159101112131415167[[#This Row],[Enero a Diciembre 2018]]-Tabla159101112131415167[[#This Row],[Enero a Diciembre 2017]])/Tabla159101112131415167[[#This Row],[Enero a Diciembre 2017]],4) -> 0.1844
A6: Hospital Illapel | B6: 969 | C6: 1007 | D6: =ROUND((Tabla159101112131415167[[#This Row],[Enero a Diciembre 2018]]-Tabla159101112131415167[[#This Row],[Enero a Diciembre 2017]])/Tabla159101112131415167[[#This Row],[Enero a Diciembre 2017]],4) -> 0.0392
A7: Hospital Salamanca | D7: =ROUND((Tabla159101112131415167[[#This Row],[Enero a Diciembre 2018]]-Tabla159101112131415167[[#This Row],[Enero a Diciembre 2017]])/Tabla159101112131415167[[#This Row],[Enero a Diciembre 2017]],4) -> #DIV/0!
A8: Hospital Combarbalá | D8: =ROUND((Tabla159101112131415167[[#This Row],[Enero a Diciembre 2018]]-Tabla159101112131415167[[#This Row],[Enero a Diciembre 2017]])/Tabla159101112131415167[[#This Row],[Enero a Diciembre 2017]],4) -> #DIV/0!
A9: Hospital Andacollo | D9: =ROUND((Tabla159101112131415167[[#This Row],[Enero a Diciembre 2018]]-Tabla159101112131415167[[#This Row],[Enero a Diciembre 2017]])/Tabla159101112131415167[[#This Row],[Enero a Diciembre 2017]],4) -> #DIV/0!
A10: Hospital Vicuña | D10: =ROUND((Tabla159101112131415167[[#This Row],[Enero a Diciembre 2018]]-Tabla159101112131415167[[#This Row],[Enero a Diciembre 2017]])/Tabla159101112131415167[[#This Row],[Enero a Diciembre 2017]],4) -> #DIV/0!
A11: Hospital Los Vilos | B11: 70 | D11: =ROUND((Tabla159101112131415167[[#This Row],[Enero a Diciembre 2018]]-Tabla159101112131415167[[#This Row],[Enero a Diciembre 2017]])/Tabla159101112131415167[[#This Row],[Enero a Diciembre 2017]],4) -> -1
A12: Total Servicio | B12: =SUBTOTAL(109,B3:B11) -> 23391 | C12: =SUBTOTAL(109,C3:C11) -> 25899 | D12: =ROUND((Tabla159101112131415167[[#This Row],[Enero a Diciembre 2018]]-Tabla159101112131415167[[#This Row],[Enero a Diciembre 2017]])/Tabla159101112131415167[[#This Row],[Enero a Diciembre 2017]],4) -> 0.1072

Sheet T5
A1: Ind_2 Número de Egresos Hospitalarios
A2: Institución | B2: Enero a Diciembre 2017 | C2: Enero a Diciembre 2018 | D2: Tasa de Variación (%)
A3: Hospital La Serena | B3: 13127 | C3: 12497 | D3: =ROUND((Tabla15910111213141516712[[#This Row],[Enero a Diciembre 2018]]-Tabla15910111213141516712[[#This Row],[Enero a Diciembre 2017]])/Tabla15910111213141516712[[#This Row],[Enero a Diciembre 2017]],4) -> -0.048
A4: Hospital Coquimbo | B4: 13378 | C4: 13511 | D4: =ROUND((Tabla15910111213141516712[[#This Row],[Enero a Diciembre 2018]]-Tabla15910111213141516712[[#This Row],[Enero a Diciembre 2017]])/Tabla15910111213141516712[[#This Row],[Enero a Diciembre 2017]],4) -> 0.0099
A5: Hospital Ovalle | B5: 8960 | C5: 8892 | D5: =ROUND((Tabla15910111213141516712[[#This Row],[Enero a Diciembre 2018]]-Tabla15910111213141516712[[#This Row],[Enero a Diciembre 2017]])/Tabla15910111213141516712[[#This Row],[Enero a Diciembre 2017]],4) -> -0.0076
A6: Hospital Illapel | B6: 2599 | C6: 2888 | D6: =ROUND((Tabla15910111213141516712[[#This Row],[Enero a Diciembre 2018]]-Tabla15910111213141516712[[#This Row],[Enero a Diciembre 2017]])/Tabla15910111213141516712[[#This Row],[Enero a Diciembre 2017]],4) -> 0.1112
A7: Hospital Salamanca | B7: 869 | C7: 794 | D7: =ROUND((Tabla15910111213141516712[[#This Row],[Enero a Diciembre 2018]]-Tabla15910111213141516712[[#This Row],[Enero a Diciembre 2017]])/Tabla15910111213141516712[[#This Row],[Enero a Diciembre 2017]],4) -> -0.0863
A8: Hospital Combarbalá | B8: 390 | C8: 343 | D8: =ROUND((Tabla15910111213141516712[[#This Row],[Enero a Diciembre 2018]]-Tabla15910111213141516712[[#This Row],[Enero a Diciembre 2017]])/Tabla15910111213141516712[[#This Row],[Enero a Diciembre 2017]],4) -> -0.1205
A9: Hospital Andacollo | B9: 338 | C9: 297 | D9: =ROUND((Tabla15910111213141516712[[#This Row],[Enero a Diciembre 2018]]-Tabla15910111213141516712[[#This Row],[Enero a Diciembre 2017]])/Tabla15910111213141516712[[#This Row],[Enero a Diciembre 2017]],4) -> -0.1213
A10: Hospital Vicuña | B10: 1068 | C10: 903 | D10: =ROUND((Tabla15910111213141516712[[#This Row],[Enero a Diciembre 2018]]-Tabla15910111213141516712[[#This Row],[Enero a Diciembre 2017]])/Tabla15910111213141516712[[#This Row],[Enero a Diciembre 2017]],4) -> -0.1545
A11: Hospital Los Vilos | B11: 1230 | C11: 829 | D11: =ROUND((Tabla15910111213141516712[[#This Row],[Enero a Diciembre 2018]]-Tabla15910111213141516712[[#This Row],[Enero a Diciembre 2017]])/Tabla15910111213141516712[[#This Row],[Enero a Diciembre 2017]],4) -> -0.326
A12: Total Servicio | B12: =SUBTOTAL(109,B3:B11) -> 41959 | C12: =SUBTOTAL(109,C3:C11) -> 40954 | D12: =ROUND((Tabla15910111213141516712[[#This Row],[Enero a Diciembre 2018]]-Tabla15910111213141516712[[#This Row],[Enero a Diciembre 2017]])/Tabla15910111213141516712[[#This Row],[Enero a Diciembre 2017]],4) -> -0.024

Sheet T6
H1: Ind_4 Porcentaje de Categorización de Urgencia en UEH
A2: Nombre Institución | B2: Número de pacientes categorizados en UEH Enero a Diciembre 2017 | C2: Total de consultas de urgencia en UEH Enero a Diciembre 2017 | D2: Número de pacientes categorizados en UEH Enero a Diciembre 2018 | E2: Total de consultas de urgencia en UEH Enero a Diciembre 2018 | F2: Porcentaje Categorización de Urgencia Enero a Diciembre 2017 | G2: Porcentaje Categorización de Urgencia Enero a Diciembre 2018 | H2: Institución | I2: Enero a Diciembre 2017 | J2: Enero a Diciembre 2018 | K2: Tasa de Variación (%)
A3: Hospital La Serena | B3: 56353 | C3: 56507 | D3: 53851 | E3: 54467 | F3: =ROUND(Tabla1591011121314151679[[#This Row],[Número de pacientes categorizados en UEH Enero a Diciembre 2017]]/Tabla1591011121314151679[[#This Row],[Total de consultas de urgencia en UEH Enero a Diciembre 2017]],4) -> 0.9973 | G3: =ROUND(Tabla1591011121314151679[[#This Row],[Número de pacientes categorizados en UEH Enero a Diciembre 2018]]/Tabla1591011121314151679[[#This Row],[Total de consultas de urgencia en UEH Enero a Diciembre 2018]],4) -> 0.9887 | H3: Hospital La Serena | I3: =ROUND(Tabla1591011121314151679[[#This Row],[ Porcentaje Categorización de Urgencia Enero a Diciembre 2017]],4) -> 0.9973 | J3: =ROUND(Tabla1591011121314151679[[#This Row],[ Porcentaje Categorización de Urgencia Enero a Diciembre 2018]],4) -> 0.9887 | K3: =ROUND((Tabla1591011121314151679[[#This Row],[Enero a Diciembre 2018]]-Tabla1591011121314151679[[#This Row],[Enero a Diciembre 2017]])/Tabla1591011121314151679[[#This Row],[Enero a Diciembre 2017]],4) -> -0.0086
A4: Hospital Coquimbo | B4: 70344 | C4: 75249 | D4: 63506 | E4: 64917 | F4: =ROUND(Tabla1591011121314151679[[#This Row],[Número de pacientes categorizados en UEH Enero a Diciembre 2017]]/Tabla1591011121314151679[[#This Row],[Total de consultas de urgencia en UEH Enero a Diciembre 2017]],4) -> 0.9348 | G4: =ROUND(Tabla1591011121314151679[[#This Row],[Número de pacientes categorizados en UEH Enero a Diciembre 2018]]/Tabla1591011121314151679[[#This Row],[Total de consultas de urgencia en UEH Enero a Diciembre 2018]],4) -> 0.9783 | H4: Hospital Coquimbo | I4: =ROUND(Tabla1591011121314151679[[#This Row],[ Porcentaje Categorización de Urgencia Enero a Diciembre 2017]],4) -> 0.9348 | J4: =ROUND(Tabla1591011121314151679[[#This Row],[ Porcentaje Categorización de Urgencia Enero a Diciembre 2018]],4) -> 0.9783 | K4: =ROUND((Tabla1591011121314151679[[#This Row],[Enero a Diciembre 2018]]-Tabla1591011121314151679[[#This Row],[Enero a Diciembre 2017]])/Tabla1591011121314151679[[#This Row],[Enero a Diciembre 2017]],4) -> 0.0465
A5: Hospital Ovalle | B5: 57836 | C5: 59698 | D5: 47843 | E5: 49001 | F5: =ROUND(Tabla1591011121314151679[[#This Row],[Número de pacientes categorizados en UEH Enero a Diciembre 2017]]/Tabla1591011121314151679[[#This Row],[Total de consultas de urgencia en UEH Enero a Diciembre 2017]],4) -> 0.9688 | G5: =ROUND(Tabla1591011121314151679[[#This Row],[Número de pacientes categorizados en UEH Enero a Diciembre 2018]]/Tabla1591011121314151679[[#This Row],[Total de consultas de urgencia en UEH Enero a Diciembre 2018]],4) -> 0.9764 | H5: Hospital Ovalle | I5: =ROUND(Tabla1591011121314151679[[#This Row],[ Porcentaje Categorización de Urgencia Enero a Diciembre 2017]],4) -> 0.9688 | J5: =ROUND(Tabla1591011121314151679[[#This Row],[ Porcentaje Categorización de Urgencia Enero a Diciembre 2018]],4) -> 0.9764 | K5: =ROUND((Tabla1591011121314151679[[#This Row],[Enero a Diciembre 2018]]-Tabla1591011121314151679[[#This Row],[Enero a Diciembre 2017]])/Tabla1591011121314151679[[#This Row],[Enero a Diciembre 2017]],4) -> 0.0078
A6: Hospital Illapel | B6: 18473 | C6: 32637 | D6: 22637 | E6: 32914 | F6: =ROUND(Tabla1591011121314151679[[#This Row],[Número de pacientes categorizados en UEH Enero a Diciembre 2017]]/Tabla1591011121314151679[[#This Row],[Total de consultas de urgencia en UEH Enero a Diciembre 2017]],4) -> 0.566 | G6: =ROUND(Tabla1591011121314151679[[#This Row],[Número de pacientes categorizados en UEH Enero a Diciembre 2018]]/Tabla1591011121314151679[[#This Row],[Total de consultas de urgencia en UEH Enero a Diciembre 2018]],4) -> 0.6878 | H6: Hospital Illapel | I6: =ROUND(Tabla1591011121314151679[[#This Row],[ Porcentaje Categorización de Urgencia Enero a Diciembre 2017]],4) -> 0.566 | J6: =ROUND(Tabla1591011121314151679[[#This Row],[ Porcentaje Categorización de Urgencia Enero a Diciembre 2018]],4) -> 0.6878 | K6: =ROUND((Tabla1591011121314151679[[#This Row],[Enero a Diciembre 2018]]-Tabla1591011121314151679[[#This Row],[Enero a Diciembre 2017]])/Tabla1591011121314151679[[#This Row],[Enero a Diciembre 2017]],4) -> 0.2152
A7: Hospital Salamanca | F7: =ROUND(Tabla1591011121314151679[[#This Row],[Número de pacientes categorizados en UEH Enero a Diciembre 2017]]/Tabla1591011121314151679[[#This Row],[Total de consultas de urgencia en UEH Enero a Diciembre 2017]],4) -> #DIV/0! | G7: =ROUND(Tabla1591011121314151679[[#This Row],[Número de pacientes categorizados en UEH Enero a Diciembre 2018]]/Tabla1591011121314151679[[#This Row],[Total de consultas de urgencia en UEH Enero a Diciembre 2018]],4) -> #DIV/0! | H7: Hospital Salamanca | I7: =ROUND(Tabla1591011121314151679[[#This Row],[ Porcentaje Categorización de Urgencia Enero a Diciembre 2017]],4) -> #DIV/0! | J7: =ROUND(Tabla1591011121314151679[[#This Row],[ Porcentaje Categorización de Urgencia Enero a Diciembre 2018]],4) -> #DIV/0! | K7: =ROUND((Tabla1591011121314151679[[#This Row],[Enero a Diciembre 2018]]-Tabla1591011121314151679[[#This Row],[Enero a Diciembre 2017]])/Tabla1591011121314151679[[#This Row],[Enero a Diciembre 2017]],4) -> #DIV/0!
A8: Hospital Combarbalá | F8: =ROUND(Tabla1591011121314151679[[#This Row],[Número de pacientes categorizados en UEH Enero a Diciembre 2017]]/Tabla1591011121314151679[[#This Row],[Total de consultas de urgencia en UEH Enero a Diciembre 2017]],4) -> #DIV/0! | G8: =ROUND(Tabla1591011121314151679[[#This Row],[Número de pacientes categorizados en UEH Enero a Diciembre 2018]]/Tabla1591011121314151679[[#This Row],[Total de consultas de urgencia en UEH Enero a Diciembre 2018]],4) -> #DIV/0! | H8: Hospital Combarbalá | I8: =ROUND(Tabla1591011121314151679[[#This Row],[ Porcentaje Categorización de Urgencia Enero a Diciembre 2017]],4) -> #DIV/0! | J8: =ROUND(Tabla1591011121314151679[[#This Row],[ Porcentaje Categorización de Urgencia Enero a Diciembre 2018]],4) -> #DIV/0! | K8: =ROUND((Tabla1591011121314151679[[#This Row],[Enero a Diciembre 2018]]-Tabla1591011121314151679[[#This Row],[Enero a Diciembre 2017]])/Tabla1591011121314151679[[#This Row],[Enero a Diciembre 2017]],4) -> #DIV/0!
A9: Hospital Andacollo | D9: 5648 | F9: =ROUND(Tabla1591011121314151679[[#This Row],[Número de pacientes categorizados en UEH Enero a Diciembre 2017]]/Tabla1591011121314151679[[#This Row],[Total de consultas de urgencia en UEH Enero a Diciembre 2017]],4) -> #DIV/0! | G9: =ROUND(Tabla1591011121314151679[[#This Row],[Número de pacientes categorizados en UEH Enero a Diciembre 2018]]/Tabla1591011121314151679[[#This Row],[Total de consultas de urgencia en UEH Enero a Diciembre 2018]],4) -> #DIV/0! | H9: Hospital Andacollo | I9: =ROUND(Tabla1591011121314151679[[#This Row],[ Porcentaje Categorización de Urgencia Enero a Diciembre 2017]],4) -> #DIV/0! | J9: =ROUND(Tabla1591011121314151679[[#This Row],[ Porcentaje Categorización de Urgencia Enero a Diciembre 2018]],4) -> #DIV/0! | K9: =ROUND((Tabla1591011121314151679[[#This Row],[Enero a Diciembre 2018]]-Tabla1591011121314151679[[#This Row],[Enero a Diciembre 2017]])/Tabla1591011121314151679[[#This Row],[Enero a Diciembre 2017]],4) -> #DIV/0!
A10: Hospital Vicuña | B10: 5248 | D10: 27070 | F10: =ROUND(Tabla1591011121314151679[[#This Row],[Número de pacientes categorizados en UEH Enero a Diciembre 2017]]/Tabla1591011121314151679[[#This Row],[Total de consultas de urgencia en UEH Enero a Diciembre 2017]],4) -> #DIV/0! | G10: =ROUND(Tabla1591011121314151679[[#This Row],[Número de pacientes categorizados en UEH Enero a Diciembre 2018]]/Tabla1591011121314151679[[#This Row],[Total de consultas de urgencia en UEH Enero a Diciembre 2018]],4) -> #DIV/0! | H10: Hospital Vicuña | I10: =ROUND(Tabla1591011121314151679[[#This Row],[ Porcentaje Categorización de Urgencia Enero a Diciembre 2017]],4) -> #DIV/0! | J10: =ROUND(Tabla1591011121314151679[[#This Row],[ Porcentaje Categorización de Urgencia Enero a Diciembre 2018]],4) -> #DIV/0! | K10: =ROUND((Tabla1591011121314151679[[#This Row],[Enero a Diciembre 2018]]-Tabla1591011121314151679[[#This Row],[Enero a Diciembre 2017]])/Tabla1591011121314151679[[#This Row],[Enero a Diciembre 2017]],4) -> #DIV/0!
A11: Hospital Los Vilos | D11: 47 | F11: =ROUND(Tabla1591011121314151679[[#This Row],[Número de pacientes categorizados en UEH Enero a Diciembre 2017]]/Tabla1591011121314151679[[#This Row],[Total de consultas de urgencia en UEH Enero a Diciembre 2017]],4) -> #DIV/0! | G11: =ROUND(Tabla1591011121314151679[[#This Row],[Número de pacientes categorizados en UEH Enero a Diciembre 2018]]/Tabla1591011121314151679[[#This Row],[Total de consultas de urgencia en UEH Enero a Diciembre 2018]],4) -> #DIV/0! | H11: Hospital Los Vilos | I11: =ROUND(Tabla1591011121314151679[[#This Row],[ Porcentaje Categorización de Urgencia Enero a Diciembre 2017]],4) -> #DIV/0! | J11: =ROUND(Tabla1591011121314151679[[#This Row],[ Porcentaje Categorización de Urgencia Enero a Diciembre 2018]],4) -> #DIV/0! | K11: =ROUND((Tabla1591011121314151679[[#This Row],[Enero a Diciembre 2018]]-Tabla1591011121314151679[[#This Row],[Enero a Diciembre 2017]])/Tabla1591011121314151679[[#This Row],[Enero a Diciembre 2017]],4) -> #DIV/0!
A12: Total Servicio | B12: =SUBTOTAL(109,B3:B11) -> 208254 | C12: =SUBTOTAL(109,C3:C11) -> 224091 | D12: =SUBTOTAL(109,D3:D11) -> 220602 | E12: =SUBTOTAL(109,E3:E11) -> 201299 | F12: =ROUND(Tabla1591011121314151679[[#This Row],[Número de pacientes categorizados en UEH Enero a Diciembre 2017]]/Tabla1591011121314151679[[#This Row],[Total de consultas de urgencia en UEH Enero a Diciembre 2017]],4) -> 0.9293 | G12: =ROUND(Tabla1591011121314151679[[#This Row],[Número de pacientes categorizados en UEH Enero a Diciembre 2018]]/Tabla1591011121314151679[[#This Row],[Total de consultas de urgencia en UEH Enero a Diciembre 2018]],4) -> 1.0959 | H12: Total Servicio | I12: =ROUND(Tabla1591011121314151679[[#This Row],[ Porcentaje Categorización de Urgencia Enero a Diciembre 2017]],4) -> 0.9293 | J12: =ROUND(Tabla1591011121314151679[[#This Row],[ Porcentaje Categorización de Urgencia Enero a Diciembre 2018]],4) -> 1.0959 | K12: =ROUND((Tabla1591011121314151679[[#This Row],[Enero a Diciembre 2018]]-Tabla1591011121314151679[[#This Row],[Enero a Diciembre 2017]])/Tabla1591011121314151679[[#This Row],[Enero a Diciembre 2017]],4) -> 0.1793

Sheet T7
H1: Ind_5 Porcentaje de Cesáreas sobre Partos
A2: Nombre Institución | B2: Número de cesáreas en Enero a Diciembre 2017 | C2: Total de partos en Enero a Diciembre 2017 | D2: Número de cesáreas en Enero a Diciembre 2018 | E2: Total de partos en Enero a Diciembre 2018 | F2: Porcentaje de Cesáreas Enero a Diciembre 2017 | G2: Porcentaje de Cesáreas Enero a Diciembre 2018 | H2: Institución | I2: Enero a Diciembre 2017 | J2: Enero a Diciembre 2018 | K2: Tasa de Variación (%)
A3: Hospital La Serena | B3: 1743 | C3: 3128 | D3: 1518 | E3: 2804 | F3: =ROUND(Tabla159101112131415167913[[#This Row],[Número de cesáreas en Enero a Diciembre 2017]]/Tabla159101112131415167913[[#This Row],[Total de partos en Enero a Diciembre 2017]],4) -> 0.5572 | G3: =ROUND(Tabla159101112131415167913[[#This Row],[Número de cesáreas en Enero a Diciembre 2018]]/Tabla159101112131415167913[[#This Row],[Total de partos en Enero a Diciembre 2018]],4) -> 0.5414 | H3: Hospital La Serena | I3: =ROUND(Tabla159101112131415167913[[#This Row],[Porcentaje de Cesáreas Enero a Diciembre 2017]],4) -> 0.5572 | J3: =ROUND(Tabla159101112131415167913[[#This Row],[Porcentaje de Cesáreas Enero a Diciembre 2018]],4) -> 0.5414 | K3: =ROUND((Tabla159101112131415167913[[#This Row],[Enero a Diciembre 2018]]-Tabla159101112131415167913[[#This Row],[Enero a Diciembre 2017]])/Tabla159101112131415167913[[#This Row],[Enero a Diciembre 2017]],4) -> -0.0284
A4: Hospital Coquimbo | B4: 1263 | C4: 2540 | D4: 1275 | E4: 2589 | F4: =ROUND(Tabla159101112131415167913[[#This Row],[Número de cesáreas en Enero a Diciembre 2017]]/Tabla159101112131415167913[[#This Row],[Total de partos en Enero a Diciembre 2017]],4) -> 0.4972 | G4: =ROUND(Tabla159101112131415167913[[#This Row],[Número de cesáreas en Enero a Diciembre 2018]]/Tabla159101112131415167913[[#This Row],[Total de partos en Enero a Diciembre 2018]],4) -> 0.4925 | H4: Hospital Coquimbo | I4: =ROUND(Tabla159101112131415167913[[#This Row],[Porcentaje de Cesáreas Enero a Diciembre 2017]],4) -> 0.4972 | J4: =ROUND(Tabla159101112131415167913[[#This Row],[Porcentaje de Cesáreas Enero a Diciembre 2018]],4) -> 0.4925 | K4: =ROUND((Tabla159101112131415167913[[#This Row],[Enero a Diciembre 2018]]-Tabla159101112131415167913[[#This Row],[Enero a Diciembre 2017]])/Tabla159101112131415167913[[#This Row],[Enero a Diciembre 2017]],4) -> -0.0095
A5: Hospital Ovalle | B5: 1125 | C5: 1960 | D5: 1090 | E5: 1850 | F5: =ROUND(Tabla159101112131415167913[[#This Row],[Número de cesáreas en Enero a Diciembre 2017]]/Tabla159101112131415167913[[#This Row],[Total de partos en Enero a Diciembre 2017]],4) -> 0.574 | G5: =ROUND(Tabla159101112131415167913[[#This Row],[Número de cesáreas en Enero a Diciembre 2018]]/Tabla159101112131415167913[[#This Row],[Total de partos en Enero a Diciembre 2018]],4) -> 0.5892 | H5: Hospital Ovalle | I5: =ROUND(Tabla159101112131415167913[[#This Row],[Porcentaje de Cesáreas Enero a Diciembre 2017]],4) -> 0.574 | J5: =ROUND(Tabla159101112131415167913[[#This Row],[Porcentaje de Cesáreas Enero a Diciembre 2018]],4) -> 0.5892 | K5: =ROUND((Tabla159101112131415167913[[#This Row],[Enero a Diciembre 2018]]-Tabla159101112131415167913[[#This Row],[Enero a Diciembre 2017]])/Tabla159101112131415167913[[#This Row],[Enero a Diciembre 2017]],4) -> 0.0265
A6: Hospital Illapel | B6: 260 | C6: 570 | D6: 309 | E6: 647 | F6: =ROUND(Tabla159101112131415167913[[#This Row],[Número de cesáreas en Enero a Diciembre 2017]]/Tabla159101112131415167913[[#This Row],[Total de partos en Enero a Diciembre 2017]],4) -> 0.4561 | G6: =ROUND(Tabla159101112131415167913[[#This Row],[Número de cesáreas en Enero a Diciembre 2018]]/Tabla159101112131415167913[[#This Row],[Total de partos en Enero a Diciembre 2018]],4) -> 0.4776 | H6: Hospital Illapel | I6: =ROUND(Tabla159101112131415167913[[#This Row],[Porcentaje de Cesáreas Enero a Diciembre 2017]],4) -> 0.4561 | J6: =ROUND(Tabla159101112131415167913[[#This Row],[Porcentaje de Cesáreas Enero a Diciembre 2018]],4) -> 0.4776 | K6: =ROUND((Tabla159101112131415167913[[#This Row],[Enero a Diciembre 2018]]-Tabla159101112131415167913[[#This Row],[Enero a Diciembre 2017]])/Tabla159101112131415167913[[#This Row],[Enero a Diciembre 2017]],4) -> 0.0471
A7: Hospital Salamanca | C7: 33 | E7: 60 | F7: =ROUND(Tabla159101112131415167913[[#This Row],[Número de cesáreas en Enero a Diciembre 2017]]/Tabla159101112131415167913[[#This Row],[Total de partos en Enero a Diciembre 2017]],4) -> 0 | G7: =ROUND(Tabla159101112131415167913[[#This Row],[Número de cesáreas en Enero a Diciembre 2018]]/Tabla159101112131415167913[[#This Row],[Total de partos en Enero a Diciembre 2018]],4) -> 0 | H7: Hospital Salamanca | I7: =ROUND(Tabla159101112131415167913[[#This Row],[Porcentaje de Cesáreas Enero a Diciembre 2017]],4) -> 0 | J7: =ROUND(Tabla159101112131415167913[[#This Row],[Porcentaje de Cesáreas Enero a Diciembre 2018]],4) -> 0 | K7: =ROUND((Tabla159101112131415167913[[#This Row],[Enero a Diciembre 2018]]-Tabla159101112131415167913[[#This Row],[Enero a Diciembre 2017]])/Tabla159101112131415167913[[#This Row],[Enero a Diciembre 2017]],4) -> #DIV/0!
A8: Hospital Combarbalá | C8: 7 | E8: 8 | F8: =ROUND(Tabla159101112131415167913[[#This Row],[Número de cesáreas en Enero a Diciembre 2017]]/Tabla159101112131415167913[[#This Row],[Total de partos en Enero a Diciembre 2017]],4) -> 0 | G8: =ROUND(Tabla159101112131415167913[[#This Row],[Número de cesáreas en Enero a Diciembre 2018]]/Tabla159101112131415167913[[#This Row],[Total de partos en Enero a Diciembre 2018]],4) -> 0 | H8: Hospital Combarbalá | I8: =ROUND(Tabla159101112131415167913[[#This Row],[Porcentaje de Cesáreas Enero a Diciembre 2017]],4) -> 0 | J8: =ROUND(Tabla159101112131415167913[[#This Row],[Porcentaje de Cesáreas Enero a Diciembre 2018]],4) -> 0 | K8: =ROUND((Tabla159101112131415167913[[#This Row],[Enero a Diciembre 2018]]-Tabla159101112131415167913[[#This Row],[Enero a Diciembre 2017]])/Tabla159101112131415167913[[#This Row],[Enero a Diciembre 2017]],4) -> #DIV/0!
A9: Hospital Andacollo | C9: 28 | E9: 17 | F9: =ROUND(Tabla159101112131415167913[[#This Row],[Número de cesáreas en Enero a Diciembre 2017]]/Tabla159101112131415167913[[#This Row],[Total de partos en Enero a Diciembre 2017]],4) -> 0 | G9: =ROUND(Tabla159101112131415167913[[#This Row],[Número de cesáreas en Enero a Diciembre 2018]]/Tabla159101112131415167913[[#This Row],[Total de partos en Enero a Diciembre 2018]],4) -> 0 | H9: Hospital Andacollo | I9: =ROUND(Tabla159101112131415167913[[#This Row],[Porcentaje de Cesáreas Enero a Diciembre 2017]],4) -> 0 | J9: =ROUND(Tabla159101112131415167913[[#This Row],[Porcentaje de Cesáreas Enero a Diciembre 2018]],4) -> 0 | K9: =ROUND((Tabla159101112131415167913[[#This Row],[Enero a Diciembre 2018]]-Tabla159101112131415167913[[#This Row],[Enero a Diciembre 2017]])/Tabla159101112131415167913[[#This Row],[Enero a Diciembre 2017]],4) -> #DIV/0!
A10: Hospital Vicuña | C10: 39 | E10: 39 | F10: =ROUND(Tabla159101112131415167913[[#This Row],[Número de cesáreas en Enero a Diciembre 2017]]/Tabla159101112131415167913[[#This Row],[Total de partos en Enero a Diciembre 2017]],4) -> 0 | G10: =ROUND(Tabla159101112131415167913[[#This Row],[Número de cesáreas en Enero a Diciembre 2018]]/Tabla159101112131415167913[[#This Row],[Total de partos en Enero a Diciembre 2018]],4) -> 0 | H10: Hospital Vicuña | I10: =ROUND(Tabla159101112131415167913[[#This Row],[Porcentaje de Cesáreas Enero a Diciembre 2017]],4) -> 0 | J10: =ROUND(Tabla159101112131415167913[[#This Row],[Porcentaje de Cesáreas Enero a Diciembre 2018]],4) -> 0 | K10: =ROUND((Tabla159101112131415167913[[#This Row],[Enero a Diciembre 2018]]-Tabla159101112131415167913[[#This Row],[Enero a Diciembre 2017]])/Tabla159101112131415167913[[#This Row],[Enero a Diciembre 2017]],4) -> #DIV/0!
A11: Hospital Los Vilos | B11: 47 | C11: 192 | D11: 3 | E11: 68 | F11: =ROUND(Tabla159101112131415167913[[#This Row],[Número de cesáreas en Enero a Diciembre 2017]]/Tabla159101112131415167913[[#This Row],[Total de partos en Enero a Diciembre 2017]],4) -> 0.2448 | G11: =ROUND(Tabla159101112131415167913[[#This Row],[Número de cesáreas en Enero a Diciembre 2018]]/Tabla159101112131415167913[[#This Row],[Total de partos en Enero a Diciembre 2018]],4) -> 0.0441 | H11: Hospital Los Vilos | I11: =ROUND(Tabla159101112131415167913[[#This Row],[Porcentaje de Cesáreas Enero a Diciembre 2017]],4) -> 0.2448 | J11: =ROUND(Tabla159101112131415167913[[#This Row],[Porcentaje de Cesáreas Enero a Diciembre 2018]],4) -> 0.0441 | K11: =ROUND((Tabla159101112131415167913[[#This Row],[Enero a Diciembre 2018]]-Tabla159101112131415167913[[#This Row],[Enero a Diciembre 2017]])/Tabla159101112131415167913[[#This Row],[Enero a Diciembre 2017]],4) -> -0.8199
A12: Total Servicio | B12: =SUBTOTAL(109,B3:B11) -> 4438 | C12: =SUBTOTAL(109,C3:C11) -> 8497 | D12: =SUBTOTAL(109,D3:D11) -> 4195 | E12: =SUBTOTAL(109,E3:E11) -> 8082 | F12: =ROUND(Tabla159101112131415167913[[#This Row],[Número de cesáreas en Enero a Diciembre 2017]]/Tabla159101112131415167913[[#This Row],[Total de partos en Enero a Diciembre 2017]],4) -> 0.5223 | G12: =ROUND(Tabla159101112131415167913[[#This Row],[Número de cesáreas en Enero a Diciembre 2018]]/Tabla159101112131415167913[[#This Row],[Total de partos en Enero a Diciembre 2018]],4) -> 0.5191 | H12: Total Servicio | I12: =ROUND(Tabla159101112131415167913[[#This Row],[Porcentaje de Cesáreas Enero a Diciembre 2017]],4) -> 0.5223 | J12: =ROUND(Tabla159101112131415167913[[#This Row],[Porcentaje de Cesáreas Enero a Diciembre 2018]],4) -> 0.5191 | K12: =ROUND((Tabla159101112131415167913[[#This Row],[Enero a Diciembre 2018]]-Tabla159101112131415167913[[#This Row],[Enero a Diciembre 2017]])/Tabla159101112131415167913[[#This Row],[Enero a Diciembre 2017]],4) -> -0.0061

Sheet T8
H1: Ind_6 Porcentaje de Consultas Nuevas de Especialidad
A2: Nombre Institución | B2: Número de Consultas Nuevas Enero a Diciembre 2017 | C2: Total de Consultas Especialidad Enero a Diciembre 2017 | D2: Número de Consultas Nuevas Enero a Diciembre 2018 | E2: Total de Consultas Especialidad Enero a Diciembre 2018 | F2: Porcentaje de Consultas Nuevas de especialidad Enero a Diciembre 2017 | G2: Porcentaje de Consultas Nuevas de especialidad Enero a Diciembre 2018 | H2: Institución | I2: Enero a Diciembre 2017 | J2: Enero a Diciembre 2018 | K2: Tasa de Variación (%)
A3: Hospital La Serena | B3: 31954 | C3: 143356 | D3: 38814 | E3: 143573 | F3: =ROUND(Tabla15910111213141516791314[[#This Row],[Número de Consultas Nuevas Enero a Diciembre 2017]]/Tabla15910111213141516791314[[#This Row],[Total de Consultas Especialidad Enero a Diciembre 2017]],4) -> 0.2229 | G3: =ROUND(Tabla15910111213141516791314[[#This Row],[Número de Consultas Nuevas Enero a Diciembre 2018]]/Tabla15910111213141516791314[[#This Row],[Total de Consultas Especialidad Enero a Diciembre 2018]],4) -> 0.2703 | H3: Hospital La Serena | I3: =ROUND(Tabla15910111213141516791314[[#This Row],[Porcentaje de Consultas Nuevas de especialidad Enero a Diciembre 2017]],4) -> 0.2229 | J3: =ROUND(Tabla15910111213141516791314[[#This Row],[Porcentaje de Consultas Nuevas de especialidad Enero a Diciembre 2018]],4) -> 0.2703 | K3: =ROUND((Tabla15910111213141516791314[[#This Row],[Enero a Diciembre 2018]]-Tabla15910111213141516791314[[#This Row],[Enero a Diciembre 2017]])/Tabla15910111213141516791314[[#This Row],[Enero a Diciembre 2017]],4) -> 0.2127
A4: Hospital Coquimbo | B4: 34657 | C4: 96703 | D4: 41657 | E4: 114036 | F4: =ROUND(Tabla15910111213141516791314[[#This Row],[Número de Consultas Nuevas Enero a Diciembre 2017]]/Tabla15910111213141516791314[[#This Row],[Total de Consultas Especialidad Enero a Diciembre 2017]],4) -> 0.3584 | G4: =ROUND(Tabla15910111213141516791314[[#This Row],[Número de Consultas Nuevas Enero a Diciembre 2018]]/Tabla15910111213141516791314[[#This Row],[Total de Consultas Especialidad Enero a Diciembre 2018]],4) -> 0.3653 | H4: Hospital Coquimbo | I4: =ROUND(Tabla15910111213141516791314[[#This Row],[Porcentaje de Consultas Nuevas de especialidad Enero a Diciembre 2017]],4) -> 0.3584 | J4: =ROUND(Tabla15910111213141516791314[[#This Row],[Porcentaje de Consultas Nuevas de especialidad Enero a Diciembre 2018]],4) -> 0.3653 | K4: =ROUND((Tabla15910111213141516791314[[#This Row],[Enero a Diciembre 2018]]-Tabla15910111213141516791314[[#This Row],[Enero a Diciembre 2017]])/Tabla15910111213141516791314[[#This Row],[Enero a Diciembre 2017]],4) -> 0.0193
A5: Hospital Ovalle | B5: 22057 | C5: 73612 | D5: 25713 | E5: 84972 | F5: =ROUND(Tabla15910111213141516791314[[#This Row],[Número de Consultas Nuevas Enero a Diciembre 2017]]/Tabla15910111213141516791314[[#This Row],[Total de Consultas Especialidad Enero a Diciembre 2017]],4) -> 0.2996 | G5: =ROUND(Tabla15910111213141516791314[[#This Row],[Número de Consultas Nuevas Enero a Diciembre 2018]]/Tabla15910111213141516791314[[#This Row],[Total de Consultas Especialidad Enero a Diciembre 2018]],4) -> 0.3026 | H5: Hospital Ovalle | I5: =ROUND(Tabla15910111213141516791314[[#This Row],[Porcentaje de Consultas Nuevas de especialidad Enero a Diciembre 2017]],4) -> 0.2996 | J5: =ROUND(Tabla15910111213141516791314[[#This Row],[Porcentaje de Consultas Nuevas de especialidad Enero a Diciembre 2018]],4) -> 0.3026 | K5: =ROUND((Tabla15910111213141516791314[[#This Row],[Enero a Diciembre 2018]]-Tabla15910111213141516791314[[#This Row],[Enero a Diciembre 2017]])/Tabla15910111213141516791314[[#This Row],[Enero a Diciembre 2017]],4) -> 0.01
A6: Hospital Illapel | B6: 10192 | C6: 27376 | D6: 10824 | E6: 31842 | F6: =ROUND(Tabla15910111213141516791314[[#This Row],[Número de Consultas Nuevas Enero a Diciembre 2017]]/Tabla15910111213141516791314[[#This Row],[Total de Consultas Especialidad Enero a Diciembre 2017]],4) -> 0.3723 | G6: =ROUND(Tabla15910111213141516791314[[#This Row],[Número de Consultas Nuevas Enero a Diciembre 2018]]/Tabla15910111213141516791314[[#This Row],[Total de Consultas Especialidad Enero a Diciembre 2018]],4) -> 0.3399 | H6: Hospital Illapel | I6: =ROUND(Tabla15910111213141516791314[[#This Row],[Porcentaje de Consultas Nuevas de especialidad Enero a Diciembre 2017]],4) -> 0.3723 | J6: =ROUND(Tabla15910111213141516791314[[#This Row],[Porcentaje de Consultas Nuevas de especialidad Enero a Diciembre 2018]],4) -> 0.3399 | K6: =ROUND((Tabla15910111213141516791314[[#This Row],[Enero a Diciembre 2018]]-Tabla15910111213141516791314[[#This Row],[Enero a Diciembre 2017]])/Tabla15910111213141516791314[[#This Row],[Enero a Diciembre 2017]],4) -> -0.087
A7: Hospital Salamanca | B7: 407 | C7: 407 | D7: 330 | E7: 352 | F7: =ROUND(Tabla15910111213141516791314[[#This Row],[Número de Consultas Nuevas Enero a Diciembre 2017]]/Tabla15910111213141516791314[[#This Row],[Total de Consultas Especialidad Enero a Diciembre 2017]],4) -> 1 | G7: =ROUND(Tabla15910111213141516791314[[#This Row],[Número de Consultas Nuevas Enero a Diciembre 2018]]/Tabla15910111213141516791314[[#This Row],[Total de Consultas Especialidad Enero a Diciembre 2018]],4) -> 0.9375 | H7: Hospital Salamanca | I7: =ROUND(Tabla15910111213141516791314[[#This Row],[Porcentaje de Consultas Nuevas de especialidad Enero a Diciembre 2017]],4) -> 1 | J7: =ROUND(Tabla15910111213141516791314[[#This Row],[Porcentaje de Consultas Nuevas de especialidad Enero a Diciembre 2018]],4) -> 0.9375 | K7: =ROUND((Tabla15910111213141516791314[[#This Row],[Enero a Diciembre 2018]]-Tabla15910111213141516791314[[#This Row],[Enero a Diciembre 2017]])/Tabla15910111213141516791314[[#This Row],[Enero a Diciembre 2017]],4) -> -0.0625
A8: Hospital Combarbalá | D8: 0 | E8: 0 | F8: =ROUND(Tabla15910111213141516791314[[#This Row],[Número de Consultas Nuevas Enero a Diciembre 2017]]/Tabla15910111213141516791314[[#This Row],[Total de Consultas Especialidad Enero a Diciembre 2017]],4) -> #DIV/0! | G8: =ROUND(Tabla15910111213141516791314[[#This Row],[Número de Consultas Nuevas Enero a Diciembre 2018]]/Tabla15910111213141516791314[[#This Row],[Total de Consultas Especialidad Enero a Diciembre 2018]],4) -> #DIV/0! | H8: Hospital Combarbalá | I8: =ROUND(Tabla15910111213141516791314[[#This Row],[Porcentaje de Consultas Nuevas de especialidad Enero a Diciembre 2017]],4) -> #DIV/0! | J8: =ROUND(Tabla15910111213141516791314[[#This Row],[Porcentaje de Consultas Nuevas de especialidad Enero a Diciembre 2018]],4) -> #DIV/0! | K8: =ROUND((Tabla15910111213141516791314[[#This Row],[Enero a Diciembre 2018]]-Tabla15910111213141516791314[[#This Row],[Enero a Diciembre 2017]])/Tabla15910111213141516791314[[#This Row],[Enero a Diciembre 2017]],4) -> #DIV/0!
A9: Hospital Andacollo | D9: 0 | E9: 0 | F9: =ROUND(Tabla15910111213141516791314[[#This Row],[Número de Consultas Nuevas Enero a Diciembre 2017]]/Tabla15910111213141516791314[[#This Row],[Total de Consultas Especialidad Enero a Diciembre 2017]],4) -> #DIV/0! | G9: =ROUND(Tabla15910111213141516791314[[#This Row],[Número de Consultas Nuevas Enero a Diciembre 2018]]/Tabla15910111213141516791314[[#This Row],[Total de Consultas Especialidad Enero a Diciembre 2018]],4) -> #DIV/0! | H9: Hospital Andacollo | I9: =ROUND(Tabla15910111213141516791314[[#This Row],[Porcentaje de Consultas Nuevas de especialidad Enero a Diciembre 2017]],4) -> #DIV/0! | J9: =ROUND(Tabla15910111213141516791314[[#This Row],[Porcentaje de Consultas Nuevas de especialidad Enero a Diciembre 2018]],4) -> #DIV/0! | K9: =ROUND((Tabla15910111213141516791314[[#This Row],[Enero a Diciembre 2018]]-Tabla15910111213141516791314[[#This Row],[Enero a Diciembre 2017]])/Tabla15910111213141516791314[[#This Row],[Enero a Diciembre 2017]],4) -> #DIV/0!
A10: Hospital Vicuña | D10: 0 | E10: 0 | F10: =ROUND(Tabla15910111213141516791314[[#This Row],[Número de Consultas Nuevas Enero a Diciembre 2017]]/Tabla15910111213141516791314[[#This Row],[Total de Consultas Especialidad Enero a Diciembre 2017]],4) -> #DIV/0! | G10: =ROUND(Tabla15910111213141516791314[[#This Row],[Número de Consultas Nuevas Enero a Diciembre 2018]]/Tabla15910111213141516791314[[#This Row],[Total de Consultas Especialidad Enero a Diciembre 2018]],4) -> #DIV/0! | H10: Hospital Vicuña | I10: =ROUND(Tabla15910111213141516791314[[#This Row],[Porcentaje de Consultas Nuevas de especialidad Enero a Diciembre 2017]],4) -> #DIV/0! | J10: =ROUND(Tabla15910111213141516791314[[#This Row],[Porcentaje de Consultas Nuevas de especialidad Enero a Diciembre 2018]],4) -> #DIV/0! | K10: =ROUND((Tabla15910111213141516791314[[#This Row],[Enero a Diciembre 2018]]-Tabla15910111213141516791314[[#This Row],[Enero a Diciembre 2017]])/Tabla15910111213141516791314[[#This Row],[Enero a Diciembre 2017]],4) -> #DIV/0!
A11: Hospital Los Vilos | B11: 1390 | C11: 2439 | D11: 1180 | E11: 3245 | F11: =ROUND(Tabla15910111213141516791314[[#This Row],[Número de Consultas Nuevas Enero a Diciembre 2017]]/Tabla15910111213141516791314[[#This Row],[Total de Consultas Especialidad Enero a Diciembre 2017]],4) -> 0.5699 | G11: =ROUND(Tabla15910111213141516791314[[#This Row],[Número de Consultas Nuevas Enero a Diciembre 2018]]/Tabla15910111213141516791314[[#This Row],[Total de Consultas Especialidad Enero a Diciembre 2018]],4) -> 0.3636 | H11: Hospital Los Vilos | I11: =ROUND(Tabla15910111213141516791314[[#This Row],[Porcentaje de Consultas Nuevas de especialidad Enero a Diciembre 2017]],4) -> 0.5699 | J11: =ROUND(Tabla15910111213141516791314[[#This Row],[Porcentaje de Consultas Nuevas de especialidad Enero a Diciembre 2018]],4) -> 0.3636 | K11: =ROUND((Tabla15910111213141516791314[[#This Row],[Enero a Diciembre 2018]]-Tabla15910111213141516791314[[#This Row],[Enero a Diciembre 2017]])/Tabla15910111213141516791314[[#This Row],[Enero a Diciembre 2017]],4) -> -0.362
A12: Total Servicio | B12: =SUBTOTAL(109,B3:B11) -> 100657 | C12: =SUBTOTAL(109,C3:C11) -> 343893 | D12: =SUBTOTAL(109,D3:D11) -> 118518 | E12: =SUBTOTAL(109,E3:E11) -> 378020 | F12: =ROUND(Tabla15910111213141516791314[[#This Row],[Número de Consultas Nuevas Enero a Diciembre 2017]]/Tabla15910111213141516791314[[#This Row],[Total de Consultas Especialidad Enero a Diciembre 2017]],4) -> 0.2927 | G12: =ROUND(Tabla15910111213141516791314[[#This Row],[Número de Consultas Nuevas Enero a Diciembre 2018]]/Tabla15910111213141516791314[[#This Row],[Total de Consultas Especialidad Enero a Diciembre 2018]],4) -> 0.3135 | H12: Total Servicio | I12: =ROUND(Tabla15910111213141516791314[[#This Row],[Porcentaje de Consultas Nuevas de especialidad Enero a Diciembre 2017]],4) -> 0.2927 | J12: =ROUND(Tabla15910111213141516791314[[#This Row],[Porcentaje de Consultas Nuevas de especialidad Enero a Diciembre 2018]],4) -> 0.3135 | K12: =ROUND((Tabla15910111213141516791314[[#This Row],[Enero a Diciembre 2018]]-Tabla15910111213141516791314[[#This Row],[Enero a Diciembre 2017]])/Tabla15910111213141516791314[[#This Row],[Enero a Diciembre 2017]],4) -> 0.0711

Sheet T9
H1: Ind_7 Porcentaje de Oportunidad de Hospitalización desde las UEH
A2: Nombre Institución | B2: Número de pacientes hospitalizados antes de 12 horas, Enero a Diciembre 2017 | C2: Total de pacientes hospitalizados Enero a Diciembre 2017 | D2: Número de pacientes hospitalizados antes de 12 horas, Enero a Diciembre 2018 | E2: Total de pacientes hospitalizados Enero a Diciembre 2018 | F2: Porcentaje Oportunidad de Hospitalización Enero a Diciembre 2017 | G2: Porcentaje Oportunidad de Hospitalización Enero a Diciembre 2018 | H2: Institución | I2: Enero a Diciembre 2017 | J2: Enero a Diciembre 2018 | K2: Tasa de Variación (%)
A3: Hospital La Serena | B3: 3932 | C3: 4641 | D3: 3455 | E3: 4957 | F3: =ROUND(Tabla1591011121314151679131415[[#This Row],[Número de pacientes hospitalizados antes de 12 horas, Enero a Diciembre 2017]]/Tabla1591011121314151679131415[[#This Row],[Total de pacientes hospitalizados Enero a Diciembre 2017]],4) -> 0.8472 | G3: =ROUND(Tabla1591011121314151679131415[[#This Row],[Número de pacientes hospitalizados antes de 12 horas, Enero a Diciembre 2018]]/Tabla1591011121314151679131415[[#This Row],[Total de pacientes hospitalizados Enero a Diciembre 2018]],4) -> 0.697 | H3: Hospital La Serena | I3: =ROUND(Tabla1591011121314151679131415[[#This Row],[Porcentaje Oportunidad de Hospitalización Enero a Diciembre 2017]],4) -> 0.8472 | J3: =ROUND(Tabla1591011121314151679131415[[#This Row],[Porcentaje Oportunidad de Hospitalización Enero a Diciembre 2018]],4) -> 0.697 | K3: =ROUND((Tabla1591011121314151679131415[[#This Row],[Enero a Diciembre 2018]]-Tabla1591011121314151679131415[[#This Row],[Enero a Diciembre 2017]])/Tabla1591011121314151679131415[[#This Row],[Enero a Diciembre 2017]],4) -> -0.1773
A4: Hospital Coquimbo | B4: 3522 | C4: 6315 | D4: 2124 | E4: 4788 | F4: =ROUND(Tabla1591011121314151679131415[[#This Row],[Número de pacientes hospitalizados antes de 12 horas, Enero a Diciembre 2017]]/Tabla1591011121314151679131415[[#This Row],[Total de pacientes hospitalizados Enero a Diciembre 2017]],4) -> 0.5577 | G4: =ROUND(Tabla1591011121314151679131415[[#This Row],[Número de pacientes hospitalizados antes de 12 horas, Enero a Diciembre 2018]]/Tabla1591011121314151679131415[[#This Row],[Total de pacientes hospitalizados Enero a Diciembre 2018]],4) -> 0.4436 | H4: Hospital Coquimbo | I4: =ROUND(Tabla1591011121314151679131415[[#This Row],[Porcentaje Oportunidad de Hospitalización Enero a Diciembre 2017]],4) -> 0.5577 | J4: =ROUND(Tabla1591011121314151679131415[[#This Row],[Porcentaje Oportunidad de Hospitalización Enero a Diciembre 2018]],4) -> 0.4436 | K4: =ROUND((Tabla1591011121314151679131415[[#This Row],[Enero a Diciembre 2018]]-Tabla1591011121314151679131415[[#This Row],[Enero a Diciembre 2017]])/Tabla1591011121314151679131415[[#This Row],[Enero a Diciembre 2017]],4) -> -0.2046
A5: Hospital Ovalle | B5: 2542 | C5: 3558 | D5: 2563 | E5: 3408 | F5: =ROUND(Tabla1591011121314151679131415[[#This Row],[Número de pacientes hospitalizados antes de 12 horas, Enero a Diciembre 2017]]/Tabla1591011121314151679131415[[#This Row],[Total de pacientes hospitalizados Enero a Diciembre 2017]],4) -> 0.7144 | G5: =ROUND(Tabla1591011121314151679131415[[#This Row],[Número de pacientes hospitalizados antes de 12 horas, Enero a Diciembre 2018]]/Tabla1591011121314151679131415[[#This Row],[Total de pacientes hospitalizados Enero a Diciembre 2018]],4) -> 0.7521 | H5: Hospital Ovalle | I5: =ROUND(Tabla1591011121314151679131415[[#This Row],[Porcentaje Oportunidad de Hospitalización Enero a Diciembre 2017]],4) -> 0.7144 | J5: =ROUND(Tabla1591011121314151679131415[[#This Row],[Porcentaje Oportunidad de Hospitalización Enero a Diciembre 2018]],4) -> 0.7521 | K5: =ROUND((Tabla1591011121314151679131415[[#This Row],[Enero a Diciembre 2018]]-Tabla1591011121314151679131415[[#This Row],[Enero a Diciembre 2017]])/Tabla1591011121314151679131415[[#This Row],[Enero a Diciembre 2017]],4) -> 0.0528
A6: Hospital Illapel | B6: 701 | C6: 701 | D6: 750 | E6: 750 | F6: =ROUND(Tabla1591011121314151679131415[[#This Row],[Número de pacientes hospitalizados antes de 12 horas, Enero a Diciembre 2017]]/Tabla1591011121314151679131415[[#This Row],[Total de pacientes hospitalizados Enero a Diciembre 2017]],4) -> 1 | G6: =ROUND(Tabla1591011121314151679131415[[#This Row],[Número de pacientes hospitalizados antes de 12 horas, Enero a Diciembre 2018]]/Tabla1591011121314151679131415[[#This Row],[Total de pacientes hospitalizados Enero a Diciembre 2018]],4) -> 1 | H6: Hospital Illapel | I6: =ROUND(Tabla1591011121314151679131415[[#This Row],[Porcentaje Oportunidad de Hospitalización Enero a Diciembre 2017]],4) -> 1 | J6: =ROUND(Tabla1591011121314151679131415[[#This Row],[Porcentaje Oportunidad de Hospitalización Enero a Diciembre 2018]],4) -> 1 | K6: =ROUND((Tabla1591011121314151679131415[[#This Row],[Enero a Diciembre 2018]]-Tabla1591011121314151679131415[[#This Row],[Enero a Diciembre 2017]])/Tabla1591011121314151679131415[[#This Row],[Enero a Diciembre 2017]],4) -> 0
A7: Hospital Salamanca | F7: =ROUND(Tabla1591011121314151679131415[[#This Row],[Número de pacientes hospitalizados antes de 12 horas, Enero a Diciembre 2017]]/Tabla1591011121314151679131415[[#This Row],[Total de pacientes hospitalizados Enero a Diciembre 2017]],4) -> #DIV/0! | G7: =ROUND(Tabla1591011121314151679131415[[#This Row],[Número de pacientes hospitalizados antes de 12 horas, Enero a Diciembre 2018]]/Tabla1591011121314151679131415[[#This Row],[Total de pacientes hospitalizados Enero a Diciembre 2018]],4) -> #DIV/0! | H7: Hospital Salamanca | I7: =ROUND(Tabla1591011121314151679131415[[#This Row],[Porcentaje Oportunidad de Hospitalización Enero a Diciembre 2017]],4) -> #DIV/0! | J7: =ROUND(Tabla1591011121314151679131415[[#This Row],[Porcentaje Oportunidad de Hospitalización Enero a Diciembre 2018]],4) -> #DIV/0! | K7: =ROUND((Tabla1591011121314151679131415[[#This Row],[Enero a Diciembre 2018]]-Tabla1591011121314151679131415[[#This Row],[Enero a Diciembre 2017]])/Tabla1591011121314151679131415[[#This Row],[Enero a Diciembre 2017]],4) -> #DIV/0!
A8: Hospital Combarbalá | F8: =ROUND(Tabla1591011121314151679131415[[#This Row],[Número de pacientes hospitalizados antes de 12 horas, Enero a Diciembre 2017]]/Tabla1591011121314151679131415[[#This Row],[Total de pacientes hospitalizados Enero a Diciembre 2017]],4) -> #DIV/0! | G8: =ROUND(Tabla1591011121314151679131415[[#This Row],[Número de pacientes hospitalizados antes de 12 horas, Enero a Diciembre 2018]]/Tabla1591011121314151679131415[[#This Row],[Total de pacientes hospitalizados Enero a Diciembre 2018]],4) -> #DIV/0! | H8: Hospital Combarbalá | I8: =ROUND(Tabla1591011121314151679131415[[#This Row],[Porcentaje Oportunidad de Hospitalización Enero a Diciembre 2017]],4) -> #DIV/0! | J8: =ROUND(Tabla1591011121314151679131415[[#This Row],[Porcentaje Oportunidad de Hospitalización Enero a Diciembre 2018]],4) -> #DIV/0! | K8: =ROUND((Tabla1591011121314151679131415[[#This Row],[Enero a Diciembre 2018]]-Tabla1591011121314151679131415[[#This Row],[Enero a Diciembre 2017]])/Tabla1591011121314151679131415[[#This Row],[Enero a Diciembre 2017]],4) -> #DIV/0!
A9: Hospital Andacollo | F9: =ROUND(Tabla1591011121314151679131415[[#This Row],[Número de pacientes hospitalizados antes de 12 horas, Enero a Diciembre 2017]]/Tabla1591011121314151679131415[[#This Row],[Total de pacientes hospitalizados Enero a Diciembre 2017]],4) -> #DIV/0! | G9: =ROUND(Tabla1591011121314151679131415[[#This Row],[Número de pacientes hospitalizados antes de 12 horas, Enero a Diciembre 2018]]/Tabla1591011121314151679131415[[#This Row],[Total de pacientes hospitalizados Enero a Diciembre 2018]],4) -> #DIV/0! | H9: Hospital Andacollo | I9: =ROUND(Tabla1591011121314151679131415[[#This Row],[Porcentaje Oportunidad de Hospitalización Enero a Diciembre 2017]],4) -> #DIV/0! | J9: =ROUND(Tabla1591011121314151679131415[[#This Row],[Porcentaje Oportunidad de Hospitalización Enero a Diciembre 2018]],4) -> #DIV/0! | K9: =ROUND((Tabla1591011121314151679131415[[#This Row],[Enero a Diciembre 2018]]-Tabla1591011121314151679131415[[#This Row],[Enero a Diciembre 2017]])/Tabla1591011121314151679131415[[#This Row],[Enero a Diciembre 2017]],4) -> #DIV/0!
A10: Hospital Vicuña | F10: =ROUND(Tabla1591011121314151679131415[[#This Row],[Número de pacientes hospitalizados antes de 12 horas, Enero a Diciembre 2017]]/Tabla1591011121314151679131415[[#This Row],[Total de pacientes hospitalizados Enero a Diciembre 2017]],4) -> #DIV/0! | G10: =ROUND(Tabla1591011121314151679131415[[#This Row],[Número de pacientes hospitalizados antes de 12 horas, Enero a Diciembre 2018]]/Tabla1591011121314151679131415[[#This Row],[Total de pacientes hospitalizados Enero a Diciembre 2018]],4) -> #DIV/0! | H10: Hospital Vicuña | I10: =ROUND(Tabla1591011121314151679131415[[#This Row],[Porcentaje Oportunidad de Hospitalización Enero a Diciembre 2017]],4) -> #DIV/0! | J10: =ROUND(Tabla1591011121314151679131415[[#This Row],[Porcentaje Oportunidad de Hospitalización Enero a Diciembre 2018]],4) -> #DIV/0! | K10: =ROUND((Tabla1591011121314151679131415[[#This Row],[Enero a Diciembre 2018]]-Tabla1591011121314151679131415[[#This Row],[Enero a Diciembre 2017]])/Tabla1591011121314151679131415[[#This Row],[Enero a Diciembre 2017]],4) -> #DIV/0!
A11: Hospital Los Vilos | D11: 508 | E11: 508 | F11: =ROUND(Tabla1591011121314151679131415[[#This Row],[Número de pacientes hospitalizados antes de 12 horas, Enero a Diciembre 2017]]/Tabla1591011121314151679131415[[#This Row],[Total de pacientes hospitalizados Enero a Diciembre 2017]],4) -> #DIV/0! | G11: =ROUND(Tabla1591011121314151679131415[[#This Row],[Número de pacientes hospitalizados antes de 12 horas, Enero a Diciembre 2018]]/Tabla1591011121314151679131415[[#This Row],[Total de pacientes hospitalizados Enero a Diciembre 2018]],4) -> 1 | H11: Hospital Los Vilos | I11: =ROUND(Tabla1591011121314151679131415[[#This Row],[Porcentaje Oportunidad de Hospitalización Enero a Diciembre 2017]],4) -> #DIV/0! | J11: =ROUND(Tabla1591011121314151679131415[[#This Row],[Porcentaje Oportunidad de Hospitalización Enero a Diciembre 2018]],4) -> 1 | K11: =ROUND((Tabla1591011121314151679131415[[#This Row],[Enero a Diciembre 2018]]-Tabla1591011121314151679131415[[#This Row],[Enero a Diciembre 2017]])/Tabla1591011121314151679131415[[#This Row],[Enero a Diciembre 2017]],4) -> #DIV/0!
