Workbook

Sheet T2
B1: INDICADORES | C1: ENE-DIC 2017 | D1: ENE-DIC 2018 | E1: TASA DE VARIACIÓN (%)
A2: Modelo Asistencial | B2: 1. Índice Ocupacional | C2: =ROUND('T3'!I12,4) -> 0.7685 | D2: =ROUND('T3'!J12,4) -> 0.7797 | E2: =ROUND((D2-C2)/C2,4) -> 0.0146
B3: 2. Número de Intervenciones Quirúrgicas Mayores Electivas | C3: ='T4'!B12 -> 23391 | D3: ='T4'!C12 -> 25899 | E3: =ROUND((D3-C3)/C3,4) -> 0.1072
B4: 3. Número de Egresos Hospitalarios | C4: ='T5'!B12 -> 41959 | D4: ='T5'!C12 -> 40954 | E4: =ROUND((D4-C4)/C4,4) -> -0.024
B5: 4. Porcentaje de Categorización de Urgencia en Unidades de Emergencia Hospitalaria | C5: =ROUND('T6'!I12,4) -> 0.9293 | D5: =ROUND('T6'!J12,4) -> 1.0959 | E5: =ROUND((D5-C5)/C5,4) -> 0.1793
B6: 5. Porcentaje de Cesáreas sobre Partos | C6: =ROUND('T7'!I12,4) -> 0.5223 | D6: =ROUND('T7'!J12,4) -> 0.5191 | E6: =ROUND((D6-C6)/C6,4) -> -0.0061
B7: 6. Porcentaje de Consultas Nuevas de Especialidad | C7: =ROUND('T8'!I12,4) -> 0.2927 | D7: =ROUND('T8'!J12,4) -> 0.3135 | E7: =ROUND((D7-C7)/C7,4) -> 0.0711
B8: 7. Porcentaje Oportunidad de Hospitalización desde las Unidades de Emergencia Hospitalaria | C8: =ROUND('T9'!I12,4) -> 0.7031 | D8: =ROUND('T9'!J12,4) -> 0.6523 | E8: =ROUND((D8-C8)/C8,4) -> -0.0723
B9: 8. Promedio de Días Estada | C9: =ROUND('T10'!I12,2) -> 6.01 | D9: =ROUND('T10'!J12,2) -> 6.31 | E9: =ROUND((D9-C9)/C9,4) -> 0.0499

Sheet T3
H1: Ind_1 Índice Ocupacional
A2: Nombre Institución | B2: Total de días cama ocupados Enero a Diciembre 2017 | C2: Total de días cama disponibles Enero a Diciembre 2017 | D2: Total de días cama ocupados Enero a Diciembre 2018 | E2: Total de días cama disponibles Enero a Diciembre 2018 | F2: Índice Ocupacional Enero a Diciembre 2017 | G2: Índice Ocupacional Enero a Diciembre 2018 | H2: Institución | I2: Enero a Diciembre 2017 | J2: Enero a Diciembre 2018 | K2: Tasa de Variación (%)
A3: Hospital La Serena | B3: 86685 | C3: 101704 | D3: 89724 | E3: 103706 | F3: =ROUND(Tabla159101112131415167911[[#This Row],[Total de días cama ocupados Enero a Diciembre 2017]]/Tabla159101112131415167911[[#This Row],[Total de días cama disponibles Enero a Diciembre 2017]],4) -> 0.8523 | G3: =ROUND(Tabla159101112131415167911[[#This Row],[Total de días cama ocupados Enero a Diciembre 2018]]/Tabla159101112131415167911[[#This Row],[Total de días cama disponibles Enero a Diciembre 2018]],4) -> 0.8652 | H3: Hospital La Serena | I3: =ROUND(Tabla159101112131415167911[[#This Row],[ Índice Ocupacional Enero a Diciembre 2017]],4) -> 0.8523 | J3: =ROUND(Tabla159101112131415167911[[#This Row],[ Índice Ocupacional Enero a Diciembre 2018]],4) -> 0.8652 | K3: =ROUND((Tabla159101112131415167911[[#This Row],[Enero a Diciembre 2018]]-Tabla159101112131415167911[[#This Row],[Enero a Diciembre 2017]])/Tabla159101112131415167911[[#This Row],[Enero a Diciembre 2017]],4) -> 0.0151
A4: Hospital Coquimbo | B4: 90319 | C4: 104905 | D4: 94475 | E4: 108220 | F4: =ROUND(Tabla159101112131415167911[[#This Row],[Total de días cama ocupados Enero a Diciembre 2017]]/Tabla159101112131415167911[[#This Row],[Total de días cama disponibles Enero a Diciembre 2017]],4) -> 0.861 | G4: =ROUND(Tabla159101112131415167911[[#This Row],[Total de días cama ocupados Enero a Diciembre 2018]]/Tabla159101112131415167911[[#This Row],[Total de días cama disponibles Enero a Diciembre 2018]],4) -> 0.873 | H4: Hospital Coquimbo | I4: =ROUND(Tabla159101112131415167911[[#This Row],[ Índice Ocupacional Enero a Diciembre 2017]],4) -> 0.861 | J4: =ROUND(Tabla159101112131415167911[[#This Row],[ Índice Ocupacional Enero a Diciembre 2018]],4) -> 0.873 | K4: =ROUND((Tabla159101112131415167911[[#This Row],[Enero a Diciembre 2018]]-Tabla159101112131415167911[[#This Row],[Enero a Diciembre 2017]])/Tabla159101112131415167911[[#This Row],[Enero a Diciembre 2017]],4) -> 0.0139
A5: Hospital Ovalle | B5: 52077 | C5: 68416 | D5: 52394 | E5: 68396 | F5: =ROUND(Tabla159101112131415167911[[#This Row],[Total de días cama ocupados Enero a Diciembre 2017]]/Tabla159101112131415167911[[#This Row],[Total de días cama disponibles Enero a Diciembre 2017]],4) -> 0.7612 | G5: =ROUND(Tabla159101112131415167911[[#This Row],[Total de días cama ocupados Enero a Diciembre 2018]]/Tabla159101112131415167911[[#This Row],[Total de días cama disponibles Enero a Diciembre 2018]],4) -> 0.766 | H5: Hospital Ovalle | I5: =ROUND(Tabla159101112131415167911[[#This Row],[ Índice Ocupacional Enero a Diciembre 2017]],4) -> 0.7612 | J5: =ROUND(Tabla159101112131415167911[[#This Row],[ Índice Ocupacional Enero a Diciembre 2018]],4) -> 0.766 | K5: =ROUND((Tabla159101112131415167911[[#This Row],[Enero a Diciembre 2018]]-Tabla159101112131415167911[[#This Row],[Enero a Diciembre 2017]])/Tabla159101112131415167911[[#This Row],[Enero a Diciembre 2017]],4) -> 0.0063
A6: Hospital Illapel | B6: 8565 | C6: 20098 | D6: 9547 | E6: 19517 | F6: =ROUND(Tabla159101112131415167911[[#This Row],[Total de días cama ocupados Enero a Diciembre 2017]]/Tabla159101112131415167911[[#This Row],[Total de días cama disponibles Enero a Diciembre 2017]],4) -> 0.4262 | G6: =ROUND(Tabla159101112131415167911[[#This Row],[Total de días cama ocupados Enero a Diciembre 2018]]/Tabla159101112131415167911[[#This Row],[Total de días cama disponibles Enero a Diciembre 2018]],4) -> 0.4892 | H6: Hospital Illapel | I6: =ROUND(Tabla159101112131415167911[[#This Row],[ Índice Ocupacional Enero a Diciembre 2017]],4) -> 0.4262 | J6: =ROUND(Tabla159101112131415167911[[#This Row],[ Índice Ocupacional Enero a Diciembre 2018]],4) -> 0.4892 | K6: =ROUND((Tabla159101112131415167911[[#This Row],[Enero a Diciembre 2018]]-Tabla159101112131415167911[[#This Row],[Enero a Diciembre 2017]])/Tabla159101112131415167911[[#This Row],[Enero a Diciembre 2017]],4) -> 0.1478
A7: Hospital Salamanca | B7: 4599 | C7: 8228 | D7: 4267 | E7: 6935 | F7: =ROUND(Tabla159101112131415167911[[#This Row],[Total de días cama ocupados Enero a Diciembre 2017]]/Tabla159101112131415167911[[#This Row],[Total de días cama disponibles Enero a Diciembre 2017]],4) -> 0.5589 | G7: =ROUND(Tabla159101112131415167911[[#This Row],[Total de días cama ocupados Enero a Diciembre 2018]]/Tabla159101112131415167911[[#This Row],[Total de días cama disponibles Enero a Diciembre 2018]],4) -> 0.6153 | H7: Hospital Salamanca | I7: =ROUND(Tabla159101112131415167911[[#This Row],[ Índice Ocupacional Enero a Diciembre 2017]],4) -> 0.5589 | J7: =ROUND(Tabla159101112131415167911[[#This Row],[ Índice Ocupacional Enero a Diciembre 2018]],4) -> 0.6153 | K7: =ROUND((Tabla159101112131415167911[[#This Row],[Enero a Diciembre 2018]]-Tabla159101112131415167911[[#This Row],[Enero a Diciembre 2017]])/Tabla159101112131415167911[[#This Row],[Enero a Diciembre 2017]],4) -> 0.1009
A8: Hospital Combarbalá | B8: 2884 | C8: 7300 | D8: 3034 | E8: 7300 | F8: =ROUND(Tabla159101112131415167911[[#This Row],[Total de días cama ocupados Enero a Diciembre 2017]]/Tabla159101112131415167911[[#This Row],[Total de días cama disponibles Enero a Diciembre 2017]],4) -> 0.3951 | G8: =ROUND(Tabla159101112131415167911[[#This Row],[Total de días cama ocupados Enero a Diciembre 2018]]/Tabla159101112131415167911[[#This Row],[Total de días cama disponibles Enero a Diciembre 2018]],4) -> 0.4156 | H8: Hospital Combarbalá | I8: =ROUND(Tabla159101112131415167911[[#This Row],[ Índice Ocupacional Enero a Diciembre 2017]],4) -> 0.3951 | J8: =ROUND(Tabla159101112131415167911[[#This Row],[ Índice Ocupacional Enero a Diciembre 2018]],4) -> 0.4156 | K8: =ROUND((Tabla159101112131415167911[[#This Row],[Enero a Diciembre 2018]]-Tabla159101112131415167911[[#This Row],[Enero a Diciembre 2017]])/Tabla159101112131415167911[[#This Row],[Enero a Diciembre 2017]],4) -> 0.0519
A9: Hospital Andacollo | B9: 2748 | C9: 5141 | D9: 2331 | E9: 5447 | F9: =ROUND(Tabla159101112131415167911[[#This Row],[Total de días cama ocupados Enero a Diciembre 2017]]/Tabla159101112131415167911[[#This Row],[Total de días cama disponibles Enero a Diciembre 2017]],4) -> 0.5345 | G9: =ROUND(Tabla159101112131415167911[[#This Row],[Total de días cama ocupados Enero a Diciembre 2018]]/Tabla159101112131415167911[[#This Row],[Total de días cama disponibles Enero a Diciembre 2018]],4) -> 0.4279 | H9: Hospital Andacollo | I9: =ROUND(Tabla159101112131415167911[[#This Row],[ Índice Ocupacional Enero a Diciembre 2017]],4) -> 0.5345 | J9: =ROUND(Tabla159101112131415167911[[#This Row],[ Índice Ocupacional Enero a Diciembre 2018]],4) -> 0.4279 | K9: =ROUND((Tabla159101112131415167911[[#This Row],[Enero a Diciembre 2018]]-Tabla159101112131415167911[[#This Row],[Enero a Diciembre 2017]])/Tabla159101112131415167911[[#This Row],[Enero a Diciembre 2017]],4) -> -0.1994
A10: Hospital Vicuña | B10: 5112 | C10: 10950 | D10: 5033 | E10: 10950 | F10: =ROUND(Tabla159101112131415167911[[#This Row],[Total de días cama ocupados Enero a Diciembre 2017]]/Tabla159101112131415167911[[#This Row],[Total de días cama disponibles Enero a Diciembre 2017]],4) -> 0.4668 | G10: =ROUND(Tabla159101112131415167911[[#This Row],[Total de días cama ocupados Enero a Diciembre 2018]]/Tabla159101112131415167911[[#This Row],[Total de días cama disponibles Enero a Diciembre 2018]],4) -> 0.4596 | H10: Hospital Vicuña | I10: =ROUND(Tabla159101112131415167911[[#This Row],[ Índice Ocupacional Enero a Diciembre 2017]],4) -> 0.4668 | J10: =ROUND(Tabla159101112131415167911[[#This Row],[ Índice Ocupacional Enero a Diciembre 2018]],4) -> 0.4596 | K10: =ROUND((Tabla159101112131415167911[[#This Row],[Enero a Diciembre 2018]]-Tabla159101112131415167911[[#This Row],[Enero a Diciembre 2017]])/Tabla159101112131415167911[[#This Row],[Enero a Diciembre 2017]],4) -> -0.0154
A11: Hospital Los Vilos | B11: 7252 | C11: 11904 | D11: 6150 | E11: 11904 | F11: =ROUND(Tabla159101112131415167911[[#This Row],[Total de días cama ocupados Enero a Diciembre 2017]]/Tabla159101112131415167911[[#This Row],[Total de días cama disponibles Enero a Diciembre 2017]],4) -> 0.6092 | G11: =ROUND(Tabla159101112131415167911[[#This Row],[Total de días cama ocupados Enero a Diciembre 2018]]/Tabla159101112131415167911[[#This Row],[Total de días cama disponibles Enero a Diciembre 2018]],4) -> 0.5166 | H11: Hospital Los Vilos | I11: =ROUND(Tabla159101112131415167911[[#This Row],[ Índice Ocupacional Enero a Diciembre 2017]],4) -> 0.6092 | J11: =ROUND(Tabla159101112131415167911[[#This Row],[ Índice Ocupacional Enero a Diciembre 2018]],4) -> 0.5166 | K11: =ROUND((Tabla159101112131415167911[[#This Row],[Enero a Diciembre 2018]]-Tabla159101112131415167911[[#This Row],[Enero a Diciembre 2017]])/Tabla159101112131415167911[[#This Row],[Enero a Diciembre 2017]],4) -> -0.152
A12: Total Servicio | B12: =SUBTOTAL(109,B3:B11) -> 260241 | C12: =SUBTOTAL(109,C3:C11) -> 338646 | D12: =SUBTOTAL(109,D3:D11) -> 266955 | E12: =SUBTOTAL(109,E3:E11) -> 342375 | F12: =ROUND(Tabla159101112131415167911[[#This Row],[Total de días cama ocupados Enero a Diciembre 2017]]/Tabla159101112131415167911[[#This Row],[Total de días cama disponibles Enero a Diciembre 2017]],4) -> 0.7685 | G12: =ROUND(Tabla159101112131415167911[[#This Row],[Total de días cama ocupados Enero a Diciembre 2018]]/Tabla159101112131415167911[[#This Row],[Total de días cama disponibles Enero a Diciembre 2018]],4) -> 0.7797 | H12: Total Servicio | I12: =ROUND(Tabla159101112131415167911[[#This Row],[ Índice Ocupacional Enero a Diciembre 2017]],4) -> 0.7685 | J12: =ROUND(Tabla159101112131415167911[[#This Row],[ Índice Ocupacional Enero a Diciembre 2018]],4) -> 0.7797 | K12: =ROUND((Tabla159101112131415167911[[#This Row],[Enero a Diciembre 2018]]-Tabla159101112131415167911[[#This Row],[Enero a Diciembre 2017]])/Tabla159101112131415167911[[#This Row],[Enero a Diciembre 2017]],4) -> 0.0146

Sheet T4
A1: Ind_2 Número de Intervenciones Quirúrgicas Mayores Electivas
A2: Institución | B2: Enero a Diciembre 2017 | C2: Enero a Diciembre 2018 | D2: Tasa de Variación (%)
A3: Hospital La Serena | B3: 9792 | C3: 10224 | D3: =ROUND((Tabla159101112131415167[[#This Row],[Enero a Diciembre 2018]]-Tabla159101112131415167[[#This Row],[Enero a Diciembre 2017]])/Tabla159101112131415167[[#This Row],[Enero a Diciembre 2017]],4) -> 0.0441
A4: Hospital Coquimbo | B4: 7583 | C4: 8773 | D4: =ROUND((Tabla159101112131415167[[#This Row],[Enero a Diciembre 2018]]-Tabla159101112131415167[[#This Row],[Enero a Diciembre 2017]])/Tabla159101112131415167[[#This Row],[Enero a Diciembre 2017]],4) -> 0.1569
A5: Hospital Ovalle | B5: 4977 | C5: 5895 | D5: =ROUND((Tabla159101112131415167[[#This Row],[Enero a Diciembre 2018]]-Tabla159101112131415167[[#This Row],[Enero a Diciembre 2017]])/Tabla159101112131415167[[#This Row],[Enero a Diciembre 2017]],4) -> 0.1844
A6: Hospital Illapel | B6: 969 | C6: 1007 | D6: =ROUND((Tabla159101112131415167[[#This Row],[Enero a Diciembre 2018]]-Tabla159101112131415167[[#This Row],[Enero a Diciembre 2017]])/Tabla159101112131415167[[#This Row],[Enero a Diciembre 2017]],4) -> 0.0392
A7: Hospital Salamanca | D7: =ROUND((Tabla159101112131415167[[#This Row],[Enero a Diciembre 2018]]-Tabla159101112131415167[[#This Row],[Enero a Diciembre 2017]])/Tabla159101112131415167[[#This Row],[Enero a Diciembre 2017]],4) -> #DIV/0!
A8: Hospital Combarbalá | D8: =ROUND((Tabla159101112131415167[[#This Row],[Enero a Diciembre 2018]]-Tabla159101112131415167[[#This Row],[Enero a Diciembre 2017]])/Tabla159101112131415167[[#This Row],[Enero a Diciembre 2017]],4) -> #DIV/0!
A9: Hospital Andacollo | D9: =ROUND((Tabla159101112131415167[[#This Row],[Enero a Diciembre 2018]]-Tabla159101112131415167[[#This Row],[Enero a Diciembre 2017]])/Tabla159101112131415167[[#This Row],[Enero a Diciembre 2017]],4) -> #DIV/0!
A10: Hospital Vicuña | D10: =ROUND((Tabla159101112131415167[[#This Row],[Enero a Diciembre 2018]]-Tabla159101112131415167[[#This Row],[Enero a Diciembre 2017]])/Tabla159101112131415167[[#This Row],[Enero a Diciembre 2017]],4) -> #DIV/0!
A11: Hospital Los Vilos | B11: 70 | D11: =ROUND((Tabla159101112131415167[[#This Row],[Enero a Diciembre 2018]]-Tabla159101112131415167[[#This Row],[Enero a Diciembre 2017]])/Tabla159101112131415167[[#This Row],[Enero a Diciembre 2017]],4) -> -1
A12: Total Servicio | B12: =SUBTOTAL(109,B3:B11) -> 23391 | C12: =SUBTOTAL(109,C3:C11) -> 25899 | D12: =ROUND((Tabla159101112131415167[[#This Row],[Enero a Diciembre 2018]]-Tabla159101112131415167[[#This Row],[Enero a Diciembre 2017]])/Tabla159101112131415167[[#This Row],[Enero a Diciembre 2017]],4) -> 0.1072

Sheet T5
A1: Ind_2 Número de Egresos Hospitalarios
A2: Institución | B2: Enero a Diciembre 2017 | C2: Enero a Diciembre 2018 | D2: Tasa de Variación (%)
A3: Hospital La Serena | B3: 13127 | C3: 12497 | D3: =ROUND((Tabla15910111213141516712[[#This Row],[Enero a Diciembre 2018]]-Tabla15910111213141516712[[#This Row],[Enero a Diciembre 2017]])/Tabla15910111213141516712[[#This Row],[Enero a Diciembre 2017]],4) -> -0.048
A4: Hospital Coquimbo | B4: 13378 | C4: 13511 | D4: =ROUND((Tabla15910111213141516712[[#This Row],[Enero a Diciembre 2018]]-Tabla15910111213141516712[[#This Row],[Enero a Diciembre 2017]])/Tabla15910111213141516712[[#This Row],[Enero a Diciembre 2017]],4) -> 0.0099
A5: Hospital Ovalle | B5: 8960 | C5: 8892 | D5: =ROUND((Tabla15910111213141516712[[#This Row],[Enero a Diciembre 2018]]-Tabla15910111213141516712[[#This Row],[Enero a Diciembre 2017]])/Tabla15910111213141516712[[#This Row],[Enero a Diciembre 2017]],4) -> -0.0076
A6: Hospital Illapel | B6: 2599 | C6: 2888 | D6: =ROUND((Tabla15910111213141516712[[#This Row],[Enero a Diciembre 2018]]-Tabla15910111213141516712[[#This Row],[Enero a Diciembre 2017]])/Tabla15910111213141516712[[#This Row],[Enero a Diciembre 2017]],4) -> 0.1112
A7: Hospital Salamanca | B7: 869 | C7: 794 | D7: =ROUND((Tabla15910111213141516712[[#This Row],[Enero a Diciembre 2018]]-Tabla15910111213141516712[[#This Row],[Enero a Diciembre 2017]])/Tabla15910111213141516712[[#This Row],[Enero a Diciembre 2017]],4) -> -0.0863
A8: Hospital Combarbalá | B8: 390 | C8: 343 | D8: =ROUND((Tabla15910111213141516712[[#This Row],[Enero a Diciembre 2018]]-Tabla15910111213141516712[[#This Row],[Enero a Diciembre 2017]])/Tabla15910111213141516712[[#This Row],[Enero a Diciembre 2017]],4) -> -0.1205
A9: Hospital Andacollo | B9: 338 | C9: 297 | D9: =ROUND((Tabla15910111213141516712[[#This Row],[Enero a Diciembre 2018]]-Tabla15910111213141516712[[#This Row],[Enero a Diciembre 2017]])/Tabla15910111213141516712[[#This Row],[Enero a Diciembre 2017]],4) -> -0.1213
A10: Hospital Vicuña | B10: 1068 | C10: 903 | D10: =ROUND((Tabla15910111213141516712[[#This Row],[Enero a Diciembre 2018]]-Tabla15910111213141516712[[#This Row],[Enero a Diciembre 2017]])/Tabla15910111213141516712[[#This Row],[Enero a Diciembre 2017]],4) -> -0.1545
A11: Hospital Los Vilos | B11: 1230 | C11: 829 | D11: =ROUND((Tabla15910111213141516712[[#This Row],[Enero a Diciembre 2018]]-Tabla15910111213141516712[[#This Row],[Enero a Diciembre 2017]])/Tabla15910111213141516712[[#This Row],[Enero a Diciembre 2017]],4) -> -0.326
A12: Total Servicio | B12: =SUBTOTAL(109,B3:B11) -> 41959 | C12: =SUBTOTAL(109,C3:C11) -> 40954 | D12: =ROUND((Tabla15910111213141516712[[#This Row],[Enero a Diciembre 2018]]-Tabla15910111213141516712[[#This Row],[Enero a Diciembre 2017]])/Tabla15910111213141516712[[#This Row],[Enero a Diciembre 2017]],4) -> -0.024

Sheet T6
H1: Ind_4 Porcentaje de Categorización de Urgencia en UEH
A2: Nombre Institución | B2: Número de pacientes categorizados en UEH Enero a Diciembre 2017 | C2: Total de consultas de urgencia en UEH Enero a Diciembre 2017 | D2: Número de pacientes categorizados en UEH Enero a Diciembre 2018 | E2: Total de consultas de urgencia en UEH Enero a Diciembre 2018 | F2: Porcentaje Categorización de Urgencia Enero a Diciembre 2017 | G2: Porcentaje Categorización de Urgencia Enero a Diciembre 2018 | H2: Institución | I2: Enero a Diciembre 2017 | J2: Enero a Diciembre 2018 | K2: Tasa de Variación (%)
A3: Hospital La Serena | B3: 56353 | C3: 56507 | D3: 53851 | E3: 54467 | F3: =ROUND(Tabla1591011121314151679[[#This Row],[Número de pacientes categorizados en UEH Enero a Diciembre 2017]]/Tabla1591011121314151679[[#This Row],[Total de consultas de urgencia en UEH Enero a Diciembre 2017]],4) -> 0.9973 | G3: =ROUND(Tabla1591011121314151679[[#This Row],[Número de pacientes categorizados en UEH Enero a Diciembre 2018]]/Tabla1591011121314151679[[#This Row],[Total de consultas de urgencia en UEH Enero a Diciembre 2018]],4) -> 0.9887 | H3: Hospital La Serena | I3: =ROUND(Tabla1591011121314151679[[#This Row],[ Porcentaje Categorización de Urgencia Enero a Diciembre 2017]],4) -> 0.9973 | J3: =ROUND(Tabla1591011121314151679[[#This Row],[ Porcentaje Categorización de Urgencia Enero a Diciembre 2018]],4) -> 0.9887 | K3: =ROUND((Tabla1591011121314151679[[#This Row],[Enero a Diciembre 2018]]-Tabla1591011121314151679[[#This Row],[Enero a Diciembre 2017]])/Tabla1591011121314151679[[#This Row],[Enero a Diciembre 2017]],4) -> -0.0086
A4: Hospital Coquimbo | B4: 70344 | C4: 75249 | D4: 63506 | E4: 64917 | F4: =ROUND(Tabla1591011121314151679[[#This Row],[Número de pacientes categorizados en UEH Enero a Diciembre 2017]]/Tabla1591011121314151679[[#This Row],[Total de consultas de urgencia en UEH Enero a Diciembre 2017]],4) -> 0.9348 | G4: =ROUND(Tabla1591011121314151679[[#This Row],[Número de pacientes categorizados en UEH Enero a Diciembre 2018]]/Tabla1591011121314151679[[#This Row],[Total de consultas de urgencia en UEH Enero a Diciembre 2018]],4) -> 0.9783 | H4: Hospital Coquimbo | I4: =ROUND(Tabla1591011121314151679[[#This Row],[ Porcentaje Categorización de Urgencia Enero a Diciembre 2017]],4) -> 0.9348 | J4: =ROUND(Tabla1591011121314151679[[#This Row],[ Porcentaje Categorización de Urgencia Enero a Diciembre 2018]],4) -> 0.9783 | K4: =ROUND((Tabla1591011121314151679[[#This Row],[Enero a Diciembre 2018]]-Tabla1591011121314151679[[#This Row],[Enero a Diciembre 2017]])/Tabla1591011121314151679[[#This Row],[Enero a Diciembre 2017]],4) -> 0.0465
A5: Hospital Ovalle | B5: 57836 | C5: 59698 | D5: 47843 | E5: 49001 | F5: =ROUND(Tabla1591011121314151679[[#This Row],[Número de pacientes categorizados en UEH Enero a Diciembre 2017]]/Tabla1591011121314151679[[#This Row],[Total de consultas de urgencia en UEH Enero a Diciembre 2017]],4) -> 0.9688 | G5: =ROUND(Tabla1591011121314151679[[#This Row],[Número de pacientes categorizados en UEH Enero a Diciembre 2018]]/Tabla1591011121314151679[[#This Row],[Total de consultas de urgencia en UEH Enero a Diciembre 2018]],4) -> 0.9764 | H5: Hospital Ovalle | I5: =ROUND(Tabla1591011121314151679[[#This Row],[ Porcentaje Categorización de Urgencia Enero a Diciembre 2017]],4) -> 0.9688 | J5: =ROUND(Tabla1591011121314151679[[#This Row],[ Porcentaje Categorización de Urgencia Enero a Diciembre 2018]],4) -> 0.9764 | K5: =ROUND((Tabla1591011121314151679[[#This Row],[Enero a Diciembre 2018]]-Tabla1591011121314151679[[#This Row],[Enero a Diciembre 2017]])/Tabla1591011121314151679[[#This Row],[Enero a Diciembre 2017]],4) -> 0.0078
A6: Hospital Illapel | B6: 18473 | C6: 32637 | D6: 22637 | E6: 32914 | F6: =ROUND(Tabla1591011121314151679[[#This Row],[Número de pacientes categorizados en UEH Enero a Diciembre 2017]]/Tabla1591011121314151679[[#This Row],[Total de consultas de urgencia en UEH Enero a Diciembre 2017]],4) -> 0.566 | G6: =ROUND(Tabla1591011121314151679[[#This Row],[Número de pacientes categorizados en UEH Enero a Diciembre 2018]]/Tabla1591011121314151679[[#This Row],[Total de consultas de urgencia en UEH Enero a Diciembre 2018]],4) -> 0.6878 | H6: Hospital Illapel | I6: =ROUND(Tabla1591011121314151679[[#This Row],[ Porcentaje Categorización de Urgencia Enero a Diciembre 2017]],4) -> 0.566 | J6: =ROUND(Tabla1591011121314151679[[#This Row],[ Porcentaje Categorización de Urgencia Enero a Diciembre 2018]],4) -> 0.6878 | K6: =ROUND((Tabla1591011121314151679[[#This Row],[Enero a Diciembre 2018]]-Tabla1591011121314151679[[#This Row],[Enero a Diciembre 2017]])/Tabla1591011121314151679[[#This Row],[Enero a Diciembre 2017]],4) -> 0.2152
A7: Hospital Salamanca | F7: =ROUND(Tabla1591011121314151679[[#This Row],[Número de pacientes categorizados en UEH Enero a Diciembre 2017]]/Tabla1591011121314151679[[#This Row],[Total de consultas de urgencia en UEH Enero a Diciembre 2017]],4) -> #DIV/0! | G7: =ROUND(Tabla1591011121314151679[[#This Row],[Número de pacientes categorizados en UEH Enero a Diciembre 2018]]/Tabla1591011121314151679[[#This Row],[Total de consultas de urgencia en UEH Enero a Diciembre 2018]],4) -> #DIV/0! | H7: Hospital Salamanca | I7: =ROUND(Tabla1591011121314151679[[#This Row],[ Porcentaje Categorización de Urgencia Enero a Diciembre 2017]],4) -> #DIV/0! | J7: =ROUND(Tabla1591011121314151679[[#This Row],[ Porcentaje Categorización de Urgencia Enero a Diciembre 2018]],4) -> #DIV/0! | K7: =ROUND((Tabla1591011121314151679[[#This Row],[Enero a Diciembre 2018]]-Tabla1591011121314151679[[#This Row],[Enero a Diciembre 2017]])/Tabla1591011121314151679[[#This Row],[Enero a Diciembre 2017]],4) -> #DIV/0!
A8: Hospital Combarbalá | F8: =ROUND(Tabla1591011121314151679[[#This Row],[Número de pacientes categorizados en UEH Enero a Diciembre 2017]]/Tabla1591011121314151679[[#This Row],[Total de consultas de urgencia en UEH Enero a Diciembre 2017]],4) -> #DIV/0! | G8: =ROUND(Tabla1591011121314151679[[#This Row],[Número de pacientes categorizados en UEH Enero a Diciembre 2018]]/Tabla1591011121314151679[[#This Row],[Total de consultas de urgencia en UEH Enero a Diciembre 2018]],4) -> #DIV/0! | H8: Hospital Combarbalá | I8: =ROUND(Tabla1591011121314151679[[#This Row],[ Porcentaje Categorización de Urgencia Enero a Diciembre 2017]],4) -> #DIV/0! | J8: =ROUND(Tabla1591011121314151679[[#This Row],[ Porcentaje Categorización de Urgencia Enero a Diciembre 2018]],4) -> #DIV/0! | K8: =ROUND((Tabla1591011121314151679[[#This Row],[Enero a Diciembre 2018]]-Tabla1591011121314151679[[#This Row],[Enero a Diciembre 2017]])/Tabla1591011121314151679[[#This Row],[Enero a Diciembre 2017]],4) -> #DIV/0!
A9: Hospital Andacollo | D9: 5648 | F9: =ROUND(Tabla1591011121314151679[[#This Row],[Número de pacientes categorizados en UEH Enero a Diciembre 2017]]/Tabla1591011121314151679[[#This Row],[Total de consultas de urgencia en UEH Enero a Diciembre 2017]],4) -> #DIV/0! | G9: =ROUND(Tabla1591011121314151679[[#This Row],[Número de pacientes categorizados en UEH Enero a Diciembre 2018]]/Tabla1591011121314151679[[#This Row],[Total de consultas de urgencia en UEH Enero a Diciembre 2018]],4) -> #DIV/0! | H9: Hospital Andacollo | I9: =ROUND(Tabla1591011121314151679[[#This Row],[ Porcentaje Categorización de Urgencia Enero a Diciembre 2017]],4) -> #DIV/0! | J9: =ROUND(Tabla1591011121314151679[[#This Row],[ Porcentaje Categorización de Urgencia Enero a Diciembre 2018]],4) -> #DIV/0! | K9: =ROUND((Tabla1591011121314151679[[#This Row],[Enero a Diciembre 2018]]-Tabla1591011121314151679[[#This Row],[Enero a Diciembre 2017]])/Tabla1591011121314151679[[#This Row],[Enero a Diciembre 2017]],4) -> #DIV/0!
A10: Hospital Vicuña | B10: 5248 | D10: 27070 | F10: =ROUND(Tabla1591011121314151679[[#This Row],[Número de pacientes categorizados en UEH Enero a Diciembre 2017]]/Tabla1591011121314151679[[#This Row],[Total de consultas de urgencia en UEH Enero a Diciembre 2017]],4) -> #DIV/0! | G10: =ROUND(Tabla1591011121314151679[[#This Row],[Número de pacientes categorizados en UEH Enero a Diciembre 2018]]/Tabla1591011121314151679[[#This Row],[Total de consultas de urgencia en UEH Enero a Diciembre 2018]],4) -> #DIV/0! | H10: Hospital Vicuña | I10: =ROUND(Tabla1591011121314151679[[#This Row],[ Porcentaje Categorización de Urgencia Enero a Diciembre 2017]],4) -> #DIV/0! | J10: =ROUND(Tabla1591011121314151679[[#This Row],[ Porcentaje Categorización de Urgencia Enero a Diciembre 2018]],4) -> #DIV/0! | K10: =ROUND((Tabla1591011121314151679[[#This Row],[Enero a Diciembre 2018]]-Tabla1591011121314151679[[#This Row],[Enero a Diciembre 2017]])/Tabla1591011121314151679[[#This Row],[Enero a Diciembre 2017]],4) -> #DIV/0!
A11: Hospital Los Vilos | D11: 47 | F11: =ROUND(Tabla1591011121314151679[[#This Row],[Número de pacientes categorizados en UEH Enero a Diciembre 2017]]/Tabla1591011121314151679[[#This Row],[Total de consultas de urgencia en UEH Enero a Diciembre 2017]],4) -> #DIV/0! | G11: =ROUND(Tabla1591011121314151679[[#This Row],[Número de pacientes categorizados en UEH Enero a Diciembre 2018]]/Tabla1591011121314151679[[#This Row],[Total de consultas de urgencia en UEH Enero a Diciembre 2018]],4) -> #DIV/0! | H11: Hospital Los Vilos | I11: =ROUND(Tabla1591011121314151679[[#This Row],[ Porcentaje Categorización de Urgencia Enero a Diciembre 2017]],4) -> #DIV/0! | J11: =ROUND(Tabla1591011121314151679[[#This Row],[ Porcentaje Categorización de Urgencia Enero a Diciembre 2018]],4) -> #DIV/0! | K11: =ROUND((Tabla1591011121314151679[[#This Row],[Enero a Diciembre 2018]]-Tabla1591011121314151679[[#This Row],[Enero a Diciembre 2017]])/Tabla1591011121314151679[[#This Row],[Enero a Diciembre 2017]],4) -> #DIV/0!
A12: Total Servicio | B12: =SUBTOTAL(109,B3:B11) -> 208254 | C12: =SUBTOTAL(109,C3:C11) -> 224091 | D12: =SUBTOTAL(109,D3:D11) -> 220602 | E12: =SUBTOTAL(109,E3:E11) -> 201299 | F12: =ROUND(Tabla1591011121314151679[[#This Row],[Número de pacientes categorizados en UEH Enero a Diciembre 2017]]/Tabla1591011121314151679[[#This Row],[Total de consultas de urgencia en UEH Enero a Diciembre 2017]],4) -> 0.9293 | G12: =ROUND(Tabla1591011121314151679[[#This Row],[Número de pacientes categorizados en UEH Enero a Diciembre 2018]]/Tabla1591011121314151679[[#This Row],[Total de consultas de urgencia en UEH Enero a Diciembre 2018]],4) -> 1.0959 | H12: Total Servicio | I12: =ROUND(Tabla1591011121314151679[[#This Row],[ Porcentaje Categorización de Urgencia Enero a Diciembre 2017]],4) -> 0.9293 | J12: =ROUND(Tabla1591011121314151679[[#This Row],[ Porcentaje Categorización de Urgencia Enero a Diciembre 2018]],4) -> 1.0959 | K12: =ROUND((Tabla1591011121314151679[[#This Row],[Enero a Diciembre 2018]]-Tabla1591011121314151679[[#This Row],[Enero a Diciembre 2017]])/Tabla1591011121314151679[[#This Row],[Enero a Diciembre 2017]],4) -> 0.1793

Sheet T7
H1: Ind_5 Porcentaje de Cesáreas sobre Partos
A2: Nombre Institución | B2: Número de cesáreas en Enero a Diciembre 2017 | C2: Total de partos en Enero a Diciembre 2017 | D2: Número de cesáreas en Enero a Diciembre 2018 | E2: Total de partos en Enero a Diciembre 2018 | F2: Porcentaje de Cesáreas Enero a Diciembre 2017 | G2: Porcentaje de Cesáreas Enero a Diciembre 2018 | H2: Institución | I2: Enero a Diciembre 2017 | J2: Enero a Diciembre 2018 | K2: Tasa de Variación (%)
A3: Hospital La Serena | B3: 1743 | C3: 3128 | D3: 1518 | E3: 2804 | F3: =ROUND(Tabla159101112131415167913[[#This Row],[Número de cesáreas en Enero a Diciembre 2017]]/Tabla159101112131415167913[[#This Row],[Total de partos en Enero a Diciembre 2017]],4) -> 0.5572 | G3: =ROUND(Tabla159101112131415167913[[#This Row],[Número de cesáreas en Enero a Diciembre 2018]]/Tabla159101112131415167913[[#This Row],[Total de partos en Enero a Diciembre 2018]],4) -> 0.5414 | H3: Hospital La Serena | I3: =ROUND(Tabla159101112131415167913[[#This Row],[Porcentaje de Cesáreas Enero a Diciembre 2017]],4) -> 0.5572 | J3: =ROUND(Tabla159101112131415167913[[#This Row],[Porcentaje de Cesáreas Enero a Diciembre 2018]],4) -> 0.5414 | K3: =ROUND((Tabla159101112131415167913[[#This Row],[Enero a Diciembre 2018]]-Tabla159101112131415167913[[#This Row],[Enero a Diciembre 2017]])/Tabla159101112131415167913[[#This Row],[Enero a Diciembre 2017]],4) -> -0.0284
A4: Hospital Coquimbo | B4: 1263 | C4: 2540 | D4: 1275 | E4: 2589 | F4: =ROUND(Tabla159101112131415167913[[#This Row],[Número de cesáreas en Enero a Diciembre 2017]]/Tabla159101112131415167913[[#This Row],[Total de partos en Enero a Diciembre 2017]],4) -> 0.4972 | G4: =ROUND(Tabla159101112131415167913[[#This Row],[Número de cesáreas en Enero a Diciembre 2018]]/Tabla159101112131415167913[[#This Row],[Total de partos en Enero a Diciembre 2018]],4) -> 0.4925 | H4: Hospital Coquimbo | I4: =ROUND(Tabla159101112131415167913[[#This Row],[Porcentaje de Cesáreas Enero a Diciembre 2017]],4) -> 0.4972 | J4: =ROUND(Tabla159101112131415167913[[#This Row],[Porcentaje de Cesáreas Enero a Diciembre 2018]],4) -> 0.4925 | K4: =ROUND((Tabla159101112131415167913[[#This Row],[Enero a Diciembre 2018]]-Tabla159101112131415167913[[#This Row],[Enero a Diciembre 2017]])/Tabla159101112131415167913[[#This Row],[Enero a Diciembre 2017]],4) -> -0.0095
A5: Hospital Ovalle | B5: 1125 | C5: 1960 | D5: 1090 | E5: 1850 | F5: =ROUND(Tabla159101112131415167913[[#This Row],[Número de cesáreas en Enero a Diciembre 2017]]/Tabla159101112131415167913[[#This Row],[Total de partos en Enero a Diciembre 2017]],4) -> 0.574 | G5: =ROUND(Tabla159101112131415167913[[#This Row],[Número de cesáreas en Enero a Diciembre 2018]]/Tabla159101112131415167913[[#This Row],[Total de partos en Enero a Diciembre 2018]],4) -> 0.5892 | H5: Hospital Ovalle | I5: =ROUND(Tabla159101112131415167913[[#This Row],[Porcentaje de Cesáreas Enero a Diciembre 2017]],4) -> 0.574 | J5: =ROUND(Tabla159101112131415167913[[#This Row],[Porcentaje de Cesáreas Enero a Diciembre 2018]],4) -> 0.5892 | K5: =ROUND((Tabla159101112131415167913[[#This Row],[Enero a Diciembre 2018]]-Tabla159101112131415167913[[#This Row],[Enero a Diciembre 2017]])/Tabla159101112131415167913[[#This Row],[Enero a Diciembre 2017]],4) -> 0.0265
A6: Hospital Illapel | B6: 260 | C6: 570 | D6: 309 | E6: 647 | F6: =ROUND(Tabla159101112131415167913[[#This Row],[Número de cesáreas en Enero a Diciembre 2017]]/Tabla159101112131415167913[[#This Row],[Total de partos en Enero a Diciembre 2017]],4) -> 0.4561 | G6: =ROUND(Tabla159101112131415167913[[#This Row],[Número de cesáreas en Enero a Diciembre 2018]]/Tabla159101112131415167913[[#This Row],[Total de partos en Enero a Diciembre 2018]],4) -> 0.4776 | H6: Hospital Illapel | I6: =ROUND(Tabla159101112131415167913[[#This Row],[Porcentaje de Cesáreas Enero a Diciembre 2017]],4) -> 0.4561 | J6: =ROUND(Tabla159101112131415167913[[#This Row],[Porcentaje de Cesáreas Enero a Diciembre 2018]],4) -> 0.4776 | K6: =ROUND((Tabla159101112131415167913[[#This Row],[Enero a Diciembre 2018]]-Tabla159101112131415167913[[#This Row],[Enero a Diciembre 2017]])/Tabla159101112131415167913[[#This Row],[Enero a Diciembre 2017]],4) -> 0.0471
A7: Hospital Salamanca | C7: 33 | E7: 60 | F7: =ROUND(Tabla159101112131415167913[[#This Row],[Número de cesáreas en Enero a Diciembre 2017]]/Tabla159101112131415167913[[#This Row],[Total de partos en Enero a Diciembre 2017]],4) -> 0 | G7: =ROUND(Tabla159101112131415167913[[#This Row],[Número de cesáreas en Enero a Diciembre 2018]]/Tabla159101112131415167913[[#This Row],[Total de partos en Enero a Diciembre 2018]],4) -> 0 | H7: Hospital Salamanca | I7: =ROUND(Tabla159101112131415167913[[#This Row],[Porcentaje de Cesáreas Enero a Diciembre 2017]],4) -> 0 | J7: =ROUND(Tabla159101112131415167913[[#This Row],[Porcentaje de Cesáreas Enero a Diciembre 2018]],4) -> 0 | K7: =ROUND((Tabla159101112131415167913[[#This Row],[Enero a Diciembre 2018]]-Tabla159101112131415167913[[#This Row],[Enero a Diciembre 2017]])/Tabla159101112131415167913[[#This Row],[Enero a Diciembre 2017]],4) -> #DIV/0!
A8: Hospital Combarbalá | C8: 7 | E8: 8 | F8: =ROUND(Tabla159101112131415167913[[#This Row],[Número de cesáreas en Enero a Diciembre 2017]]/Tabla159101112131415167913[[#This Row],[Total de partos en Enero a Diciembre 2017]],4) -> 0 | G8: =ROUND(Tabla159101112131415167913[[#This Row],[Número de cesáreas en Enero a Diciembre 2018]]/Tabla159101112131415167913[[#This Row],[Total de partos en Enero a Diciembre 2018]],4) -> 0 | H8: Hospital Combarbalá | I8: =ROUND(Tabla159101112131415167913[[#This Row],[Porcentaje de Cesáreas Enero a Diciembre 2017]],4) -> 0 | J8: =ROUND(Tabla159101112131415167913[[#This Row],[Porcentaje de Cesáreas Enero a Diciembre 2018]],4) -> 0 | K8: =ROUND((Tabla159101112131415167913[[#This Row],[Enero a Diciembre 2018]]-Tabla159101112131415167913[[#This Row],[Enero a Diciembre 2017]])/Tabla159101112131415167913[[#This Row],[Enero a Diciembre 2017]],4) -> #DIV/0!
A9: Hospital Andacollo | C9: 28 | E9: 17 | F9: =ROUND(Tabla159101112131415167913[[#This Row],[Número de cesáreas en Enero a Diciembre 2017]]/Tabla159101112131415167913[[#This Row],[Total de partos en Enero a Diciembre 2017]],4) -> 0 | G9: =ROUND(Tabla159101112131415167913[[#This Row],[Número de cesáreas en Enero a Diciembre 2018]]/Tabla159101112131415167913[[#This Row],[Total de partos en Enero a Diciembre 2018]],4) -> 0 | H9: Hospital Andacollo | I9: =ROUND(Tabla159101112131415167913[[#This Row],[Porcentaje de Cesáreas Enero a Diciembre 2017]],4) -> 0 | J9: =ROUND(Tabla159101112131415167913[[#This Row],[Porcentaje de Cesáreas Enero a Diciembre 2018]],4) -> 0 | K9: =ROUND((Tabla159101112131415167913[[#This Row],[Enero a Diciembre 2018]]-Tabla159101112131415167913[[#This Row],[Enero a Diciembre 2017]])/Tabla159101112131415167913[[#This Row],[Enero a Diciembre 2017]],4) -> #DIV/0!
A10: Hospital Vicuña | C10: 39 | E10: 39 | F10: =ROUND(Tabla159101112131415167913[[#This Row],[Número de cesáreas en Enero a Diciembre 2017]]/Tabla159101112131415167913[[#This Row],[Total de partos en Enero a Diciembre 2017]],4) -> 0 | G10: =ROUND(Tabla159101112131415167913[[#This Row],[Número de cesáreas en Enero a Diciembre 2018]]/Tabla159101112131415167913[[#This Row],[Total de partos en Enero a Diciembre 2018]],4) -> 0 | H10: Hospital Vicuña | I10: =ROUND(Tabla159101112131415167913[[#This Row],[Porcentaje de Cesáreas Enero a Diciembre 2017]],4) -> 0 | J10: =ROUND(Tabla159101112131415167913[[#This Row],[Porcentaje de Cesáreas Enero a Diciembre 2018]],4) -> 0 | K10: =ROUND((Tabla159101112131415167913[[#This Row],[Enero a Diciembre 2018]]-Tabla159101112131415167913[[#This Row],[Enero a Diciembre 2017]])/Tabla159101112131415167913[[#This Row],[Enero a Diciembre 2017]],4) -> #DIV/0!
A11: Hospital Los Vilos | B11: 47 | C11: 192 | D11: 3 | E11: 68 | F11: =ROUND(Tabla159101112131415167913[[#This Row],[Número de cesáreas en Enero a Diciembre 2017]]/Tabla159101112131415167913[[#This Row],[Total de partos en Enero a Diciembre 2017]],4) -> 0.2448 | G11: =ROUND(Tabla159101112131415167913[[#This Row],[Número de cesáreas en Enero a Diciembre 2018]]/Tabla159101112131415167913[[#This Row],[Total de partos en Enero a Diciembre 2018]],4) -> 0.0441 | H11: Hospital Los Vilos | I11: =ROUND(Tabla159101112131415167913[[#This Row],[Porcentaje de Cesáreas Enero a Diciembre 2017]],4) -> 0.2448 | J11: =ROUND(Tabla159101112131415167913[[#This Row],[Porcentaje de Cesáreas Enero a Diciembre 2018]],4) -> 0.0441 | K11: =ROUND((Tabla159101112131415167913[[#This Row],[Enero a Diciembre 2018]]-Tabla159101112131415167913[[#This Row],[Enero a Diciembre 2017]])/Tabla159101112131415167913[[#This Row],[Enero a Diciembre 2017]],4) -> -0.8199
A12: Total Servicio | B12: =SUBTOTAL(109,B3:B11) -> 4438 | C12: =SUBTOTAL(109,C3:C11) -> 8497 | D12: =SUBTOTAL(109,D3:D11) -> 4195 | E12: =SUBTOTAL(109,E3:E11) -> 8082 | F12: =ROUND(Tabla159101112131415167913[[#This Row],[Número de cesáreas en Enero a Diciembre 2017]]/Tabla159101112131415167913[[#This Row],[Total de partos en Enero a Diciembre 2017]],4) -> 0.5223 | G12: =ROUND(Tabla159101112131415167913[[#This Row],[Número de cesáreas en Enero a Diciembre 2018]]/Tabla159101112131415167913[[#This Row],[Total de partos en Enero a Diciembre 2018]],4) -> 0.5191 | H12: Total Servicio | I12: =ROUND(Tabla159101112131415167913[[#This Row],[Porcentaje de Cesáreas Enero a Diciembre 2017]],4) -> 0.5223 | J12: =ROUND(Tabla159101112131415167913[[#This Row],[Porcentaje de Cesáreas Enero a Diciembre 2018]],4) -> 0.5191 | K12: =ROUND((Tabla159101112131415167913[[#This Row],[Enero a Diciembre 2018]]-Tabla159101112131415167913[[#This Row],[Enero a Diciembre 2017]])/Tabla159101112131415167913[[#This Row],[Enero a Diciembre 2017]],4) -> -0.0061

Sheet T8
H1: Ind_6 Porcentaje de Consultas Nuevas de Especialidad
A2: Nombre Institución | B2: Número de Consultas Nuevas Enero a Diciembre 2017 | C2: Total de Consultas Especialidad Enero a Diciembre 2017 | D2: Número de Consultas Nuevas Enero a Diciembre 2018 | E2: Total de Consultas Especialidad Enero a Diciembre 2018 | F2: Porcentaje de Consultas Nuevas de especialidad Enero a Diciembre 2017 | G2: Porcentaje de Consultas Nuevas de especialidad Enero a Diciembre 2018 | H2: Institución | I2: Enero a Diciembre 2017 | J2: Enero a Diciembre 2018 | K2: Tasa de Variación (%)
A3: Hospital La Serena | B3: 31954 | C3: 143356 | D3: 38814 | E3: 143573 | F3: =ROUND(Tabla15910111213141516791314[[#This Row],[Número de Consultas Nuevas Enero a Diciembre 2017]]/Tabla15910111213141516791314[[#This Row],[Total de Consultas Especialidad Enero a Diciembre 2017]],4) -> 0.2229 | G3: =ROUND(Tabla15910111213141516791314[[#This Row],[Número de Consultas Nuevas Enero a Diciembre 2018]]/Tabla15910111213141516791314[[#This Row],[Total de Consultas Especialidad Enero a Diciembre 2018]],4) -> 0.2703 | H3: Hospital La Serena | I3: =ROUND(Tabla15910111213141516791314[[#This Row],[Porcentaje de Consultas Nuevas de especialidad Enero a Diciembre 2017]],4) -> 0.2229 | J3: =ROUND(Tabla15910111213141516791314[[#This Row],[Porcentaje de Consultas Nuevas de especialidad Enero a Diciembre 2018]],4) -> 0.2703 | K3: =ROUND((Tabla15910111213141516791314[[#This Row],[Enero a Diciembre 2018]]-Tabla15910111213141516791314[[#This Row],[Enero a Diciembre 2017]])/Tabla15910111213141516791314[[#This Row],[Enero a Diciembre 2017]],4) -> 0.2127
A4: Hospital Coquimbo | B4: 34657 | C4: 96703 | D4: 41657 | E4: 114036 | F4: =ROUND(Tabla15910111213141516791314[[#This Row],[Número de Consultas Nuevas Enero a Diciembre 2017]]/Tabla15910111213141516791314[[#This Row],[Total de Consultas Especialidad Enero a Diciembre 2017]],4) -> 0.3584 | G4: =ROUND(Tabla15910111213141516791314[[#This Row],[Número de Consultas Nuevas Enero a Diciembre 2018]]/Tabla15910111213141516791314[[#This Row],[Total de Consultas Especialidad Enero a Diciembre 2018]],4) -> 0.3653 | H4: Hospital Coquimbo | I4: =ROUND(Tabla15910111213141516791314[[#This Row],[Porcentaje de Consultas Nuevas de especialidad Enero a Diciembre 2017]],4) -> 0.3584 | J4: =ROUND(Tabla15910111213141516791314[[#This Row],[Porcentaje de Consultas Nuevas de especialidad Enero a Diciembre 2018]],4) -> 0.3653 | K4: =ROUND((Tabla15910111213141516791314[[#This Row],[Enero a Diciembre 2018]]-Tabla15910111213141516791314[[#This Row],[Enero a Diciembre 2017]])/Tabla15910111213141516791314[[#This Row],[Enero a Diciembre 2017]],4) -> 0.0193
A5: Hospital Ovalle | B5: 22057 | C5: 73612 | D5: 25713 | E5: 84972 | F5: =ROUND(Tabla15910111213141516791314[[#This Row],[Número de Consultas Nuevas Enero a Diciembre 2017]]/Tabla15910111213141516791314[[#This Row],[Total de Consultas Especialidad Enero a Diciembre 2017]],4) -> 0.2996 | G5: =ROUND(Tabla15910111213141516791314[[#This Row],[Número de Consultas Nuevas Enero a Diciembre 2018]]/Tabla15910111213141516791314[[#This Row],[Total de Consultas Especialidad Enero a Diciembre 2018]],4) -> 0.3026 | H5: Hospital Ovalle | I5: =ROUND(Tabla15910111213141516791314[[#This Row],[Porcentaje de Consultas Nuevas de especialidad Enero a Diciembre 2017]],4) -> 0.2996 | J5: =ROUND(Tabla15910111213141516791314[[#This Row],[Porcentaje de Consultas Nuevas de especialidad Enero a Diciembre 2018]],4) -> 0.3026 | K5: =ROUND((Tabla15910111213141516791314[[#This Row],[Enero a Diciembre 2018]]-Tabla15910111213141516791314[[#This Row],[Enero a Diciembre 2017]])/Tabla15910111213141516791314[[#This Row],[Enero a Diciembre 2017]],4) -> 0.01
A6: Hospital Illapel | B6: 10192 | C6: 27376 | D6: 10824 | E6: 31842 | F6: =ROUND(Tabla15910111213141516791314[[#This Row],[Número de Consultas Nuevas Enero a Diciembre 2017]]/Tabla15910111213141516791314[[#This Row],[Total de Consultas Especialidad Enero a Diciembre 2017]],4) -> 0.3723 | G6: =ROUND(Tabla15910111213141516791314[[#This Row],[Número de Consultas Nuevas Enero a Diciembre 2018]]/Tabla15910111213141516791314[[#This Row],[Total de Consultas Especialidad Enero a Diciembre 2018]],4) -> 0.3399 | H6: Hospital Illapel | I6: =ROUND(Tabla15910111213141516791314[[#This Row],[Porcentaje de Consultas Nuevas de especialidad Enero a Diciembre 2017]],4) -> 0.3723 | J6: =ROUND(Tabla15910111213141516791314[[#This Row],[Porcentaje de Consultas Nuevas de especialidad Enero a Diciembre 2018]],4) -> 0.3399 | K6: =ROUND((Tabla15910111213141516791314[[#This Row],[Enero a Diciembre 2018]]-Tabla15910111213141516791314[[#This Row],[Enero a Diciembre 2017]])/Tabla15910111213141516791314[[#This Row],[Enero a Diciembre 2017]],4) -> -0.087
A7: Hospital Salamanca | B7: 407 | C7: 407 | D7: 330 | E7: 352 | F7: =ROUND(Tabla15910111213141516791314[[#This Row],[Número de Consultas Nuevas Enero a Diciembre 2017]]/Tabla15910111213141516791314[[#This Row],[Total de Consultas Especialidad Enero a Diciembre 2017]],4) -> 1 | G7: =ROUND(Tabla15910111213141516791314[[#This Row],[Número de Consultas Nuevas Enero a Diciembre 2018]]/Tabla15910111213141516791314[[#This Row],[Total de Consultas Especialidad Enero a Diciembre 2018]],4) -> 0.9375 | H7: Hospital Salamanca | I7: =ROUND(Tabla15910111213141516791314[[#This Row],[Porcentaje de Consultas Nuevas de especialidad Enero a Diciembre 2017]],4) -> 1 | J7: =ROUND(Tabla15910111213141516791314[[#This Row],[Porcentaje de Consultas Nuevas de especialidad Enero a Diciembre 2018]],4) -> 0.9375 | K7: =ROUND((Tabla15910111213141516791314[[#This Row],[Enero a Diciembre 2018]]-Tabla15910111213141516791314[[#This Row],[Enero a Diciembre 2017]])/Tabla15910111213141516791314[[#This Row],[Enero a Diciembre 2017]],4) -> -0.0625
A8: Hospital Combarbalá | D8: 0 | E8: 0 | F8: =ROUND(Tabla15910111213141516791314[[#This Row],[Número de Consultas Nuevas Enero a Diciembre 2017]]/Tabla15910111213141516791314[[#This Row],[Total de Consultas Especialidad Enero a Diciembre 2017]],4) -> #DIV/0! | G8: =ROUND(Tabla15910111213141516791314[[#This Row],[Número de Consultas Nuevas Enero a Diciembre 2018]]/Tabla15910111213141516791314[[#This Row],[Total de Consultas Especialidad Enero a Diciembre 2018]],4) -> #DIV/0! | H8: Hospital Combarbalá | I8: =ROUND(Tabla15910111213141516791314[[#This Row],[Porcentaje de Consultas Nuevas de especialidad Enero a Diciembre 2017]],4) -> #DIV/0! | J8: =ROUND(Tabla15910111213141516791314[[#This Row],[Porcentaje de Consultas Nuevas de especialidad Enero a Diciembre 2018]],4) -> #DIV/0! | K8: =ROUND((Tabla15910111213141516791314[[#This Row],[Enero a Diciembre 2018]]-Tabla15910111213141516791314[[#This Row],[Enero a Diciembre 2017]])/Tabla15910111213141516791314[[#This Row],[Enero a Diciembre 2017]],4) -> #DIV/0!
A9: Hospital Andacollo | D9: 0 | E9: 0 | F9: =ROUND(Tabla15910111213141516791314[[#This Row],[Número de Consultas Nuevas Enero a Diciembre 2017]]/Tabla15910111213141516791314[[#This Row],[Total de Consultas Especialidad Enero a Diciembre 2017]],4) -> #DIV/0! | G9: =ROUND(Tabla15910111213141516791314[[#This Row],[Número de Consultas Nuevas Enero a Diciembre 2018]]/Tabla15910111213141516791314[[#This Row],[Total de Consultas Especialidad Enero a Diciembre 2018]],4) -> #DIV/0! | H9: Hospital Andacollo | I9: =ROUND(Tabla15910111213141516791314[[#This Row],[Porcentaje de Consultas Nuevas de especialidad Enero a Diciembre 2017]],4) -> #DIV/0! | J9: =ROUND(Tabla15910111213141516791314[[#This Row],[Porcentaje de Consultas Nuevas de especialidad Enero a Diciembre 2018]],4) -> #DIV/0! | K9: =ROUND((Tabla15910111213141516791314[[#This Row],[Enero a Diciembre 2018]]-Tabla15910111213141516791314[[#This Row],[Enero a Diciembre 2017]])/Tabla15910111213141516791314[[#This Row],[Enero a Diciembre 2017]],4) -> #DIV/0!
A10: Hospital Vicuña | D10: 0 | E10: 0 | F10: =ROUND(Tabla15910111213141516791314[[#This Row],[Número de Consultas Nuevas Enero a Diciembre 2017]]/Tabla15910111213141516791314[[#This Row],[Total de Consultas Especialidad Enero a Diciembre 2017]],4) -> #DIV/0! | G10: =ROUND(Tabla15910111213141516791314[[#This Row],[Número de Consultas Nuevas Enero a Diciembre 2018]]/Tabla15910111213141516791314[[#This Row],[Total de Consultas Especialidad Enero a Diciembre 2018]],4) -> #DIV/0! | H10: Hospital Vicuña | I10: =ROUND(Tabla15910111213141516791314[[#This Row],[Porcentaje de Consultas Nuevas de especialidad Enero a Diciembre 2017]],4) -> #DIV/0! | J10: =ROUND(Tabla15910111213141516791314[[#This Row],[Porcentaje de Consultas Nuevas de especialidad Enero a Diciembre 2018]],4) -> #DIV/0! | K10: =ROUND((Tabla15910111213141516791314[[#This Row],[Enero a Diciembre 2018]]-Tabla15910111213141516791314[[#This Row],[Enero a Diciembre 2017]])/Tabla15910111213141516791314[[#This Row],[Enero a Diciembre 2017]],4) -> #DIV/0!
A11: Hospital Los Vilos | B11: 1390 | C11: 2439 | D11: 1180 | E11: 3245 | F11: =ROUND(Tabla15910111213141516791314[[#This Row],[Número de Consultas Nuevas Enero a Diciembre 2017]]/Tabla15910111213141516791314[[#This Row],[Total de Consultas Especialidad Enero a Diciembre 2017]],4) -> 0.5699 | G11: =ROUND(Tabla15910111213141516791314[[#This Row],[Número de Consultas Nuevas Enero a Diciembre 2018]]/Tabla15910111213141516791314[[#This Row],[Total de Consultas Especialidad Enero a Diciembre 2018]],4) -> 0.3636 | H11: Hospital Los Vilos | I11: =ROUND(Tabla15910111213141516791314[[#This Row],[Porcentaje de Consultas Nuevas de especialidad Enero a Diciembre 2017]],4) -> 0.5699 | J11: =ROUND(Tabla15910111213141516791314[[#This Row],[Porcentaje de Consultas Nuevas de especialidad Enero a Diciembre 2018]],4) -> 0.3636 | K11: =ROUND((Tabla15910111213141516791314[[#This Row],[Enero a Diciembre 2018]]-Tabla15910111213141516791314[[#This Row],[Enero a Diciembre 2017]])/Tabla15910111213141516791314[[#This Row],[Enero a Diciembre 2017]],4) -> -0.362
A12: Total Servicio | B12: =SUBTOTAL(109,B3:B11) -> 100657 | C12: =SUBTOTAL(109,C3:C11) -> 343893 | D12: =SUBTOTAL(109,D3:D11) -> 118518 | E12: =SUBTOTAL(109,E3:E11) -> 378020 | F12: =ROUND(Tabla15910111213141516791314[[#This Row],[Número de Consultas Nuevas Enero a Diciembre 2017]]/Tabla15910111213141516791314[[#This Row],[Total de Consultas Especialidad Enero a Diciembre 2017]],4) -> 0.2927 | G12: =ROUND(Tabla15910111213141516791314[[#This Row],[Número de Consultas Nuevas Enero a Diciembre 2018]]/Tabla15910111213141516791314[[#This Row],[Total de Consultas Especialidad Enero a Diciembre 2018]],4) -> 0.3135 | H12: Total Servicio | I12: =ROUND(Tabla15910111213141516791314[[#This Row],[Porcentaje de Consultas Nuevas de especialidad Enero a Diciembre 2017]],4) -> 0.2927 | J12: =ROUND(Tabla15910111213141516791314[[#This Row],[Porcentaje de Consultas Nuevas de especialidad Enero a Diciembre 2018]],4) -> 0.3135 | K12: =ROUND((Tabla15910111213141516791314[[#This Row],[Enero a Diciembre 2018]]-Tabla15910111213141516791314[[#This Row],[Enero a Diciembre 2017]])/Tabla15910111213141516791314[[#This Row],[Enero a Diciembre 2017]],4) -> 0.0711

Sheet T9
H1: Ind_7 Porcentaje de Oportunidad de Hospitalización desde las UEH
A2: Nombre Institución | B2: Número de pacientes hospitalizados antes de 12 horas, Enero a Diciembre 2017 | C2: Total de pacientes hospitalizados Enero a Diciembre 2017 | D2: Número de pacientes hospitalizados antes de 12 horas, Enero a Diciembre 2018 | E2: Total de pacientes hospitalizados Enero a Diciembre 2018 | F2: Porcentaje Oportunidad de Hospitalización Enero a Diciembre 2017 | G2: Porcentaje Oportunidad de Hospitalización Enero a Diciembre 2018 | H2: Institución | I2: Enero a Diciembre 2017 | J2: Enero a Diciembre 2018 | K2: Tasa de Variación (%)
A3: Hospital La Serena | B3: 3932 | C3: 4641 | D3: 3455 | E3: 4957 | F3: =ROUND(Tabla1591011121314151679131415[[#This Row],[Número de pacientes hospitalizados antes de 12 horas, Enero a Diciembre 2017]]/Tabla1591011121314151679131415[[#This Row],[Total de pacientes hospitalizados Enero a Diciembre 2017]],4) -> 0.8472 | G3: =ROUND(Tabla1591011121314151679131415[[#This Row],[Número de pacientes hospitalizados antes de 12 horas, Enero a Diciembre 2018]]/Tabla1591011121314151679131415[[#This Row],[Total de pacientes hospitalizados Enero a Diciembre 2018]],4) -> 0.697 | H3: Hospital La Serena | I3: =ROUND(Tabla1591011121314151679131415[[#This Row],[Porcentaje Oportunidad de Hospitalización Enero a Diciembre 2017]],4) -> 0.8472 | J3: =ROUND(Tabla1591011121314151679131415[[#This Row],[Porcentaje Oportunidad de Hospitalización Enero a Diciembre 2018]],4) -> 0.697 | K3: =ROUND((Tabla1591011121314151679131415[[#This Row],[Enero a Diciembre 2018]]-Tabla1591011121314151679131415[[#This Row],[Enero a Diciembre 2017]])/Tabla1591011121314151679131415[[#This Row],[Enero a Diciembre 2017]],4) -> -0.1773
A4: Hospital Coquimbo | B4: 3522 | C4: 6315 | D4: 2124 | E4: 4788 | F4: =ROUND(Tabla1591011121314151679131415[[#This Row],[Número de pacientes hospitalizados antes de 12 horas, Enero a Diciembre 2017]]/Tabla1591011121314151679131415[[#This Row],[Total de pacientes hospitalizados Enero a Diciembre 2017]],4) -> 0.5577 | G4: =ROUND(Tabla1591011121314151679131415[[#This Row],[Número de pacientes hospitalizados antes de 12 horas, Enero a Diciembre 2018]]/Tabla1591011121314151679131415[[#This Row],[Total de pacientes hospitalizados Enero a Diciembre 2018]],4) -> 0.4436 | H4: Hospital Coquimbo | I4: =ROUND(Tabla1591011121314151679131415[[#This Row],[Porcentaje Oportunidad de Hospitalización Enero a Diciembre 2017]],4) -> 0.5577 | J4: =ROUND(Tabla1591011121314151679131415[[#This Row],[Porcentaje Oportunidad de Hospitalización Enero a Diciembre 2018]],4) -> 0.4436 | K4: =ROUND((Tabla1591011121314151679131415[[#This Row],[Enero a Diciembre 2018]]-Tabla1591011121314151679131415[[#This Row],[Enero a Diciembre 2017]])/Tabla1591011121314151679131415[[#This Row],[Enero a Diciembre 2017]],4) -> -0.2046
A5: Hospital Ovalle | B5: 2542 | C5: 3558 | D5: 2563 | E5: 3408 | F5: =ROUND(Tabla1591011121314151679131415[[#This Row],[Número de pacientes hospitalizados antes de 12 horas, Enero a Diciembre 2017]]/Tabla1591011121314151679131415[[#This Row],[Total de pacientes hospitalizados Enero a Diciembre 2017]],4) -> 0.7144 | G5: =ROUND(Tabla1591011121314151679131415[[#This Row],[Número de pacientes hospitalizados antes de 12 horas, Enero a Diciembre 2018]]/Tabla1591011121314151679131415[[#This Row],[Total de pacientes hospitalizados Enero a Diciembre 2018]],4) -> 0.7521 | H5: Hospital Ovalle | I5: =ROUND(Tabla1591011121314151679131415[[#This Row],[Porcentaje Oportunidad de Hospitalización Enero a Diciembre 2017]],4) -> 0.7144 | J5: =ROUND(Tabla1591011121314151679131415[[#This Row],[Porcentaje Oportunidad de Hospitalización Enero a Diciembre 2018]],4) -> 0.7521 | K5: =ROUND((Tabla1591011121314151679131415[[#This Row],[Enero a Diciembre 2018]]-Tabla1591011121314151679131415[[#This Row],[Enero a Diciembre 2017]])/Tabla1591011121314151679131415[[#This Row],[Enero a Diciembre 2017]],4) -> 0.0528
A6: Hospital Illapel | B6: 701 | C6: 701 | D6: 750 | E6: 750 | F6: =ROUND(Tabla1591011121314151679131415[[#This Row],[Número de pacientes hospitalizados antes de 12 horas, Enero a Diciembre 2017]]/Tabla1591011121314151679131415[[#This Row],[Total de pacientes hospitalizados Enero a Diciembre 2017]],4) -> 1 | G6: =ROUND(Tabla1591011121314151679131415[[#This Row],[Número de pacientes hospitalizados antes de 12 horas, Enero a Diciembre 2018]]/Tabla1591011121314151679131415[[#This Row],[Total de pacientes hospitalizados Enero a Diciembre 2018]],4) -> 1 | H6: Hospital Illapel | I6: =ROUND(Tabla1591011121314151679131415[[#This Row],[Porcentaje Oportunidad de Hospitalización Enero a Diciembre 2017]],4) -> 1 | J6: =ROUND(Tabla1591011121314151679131415[[#This Row],[Porcentaje Oportunidad de Hospitalización Enero a Diciembre 2018]],4) -> 1 | K6: =ROUND((Tabla1591011121314151679131415[[#This Row],[Enero a Diciembre 2018]]-Tabla1591011121314151679131415[[#This Row],[Enero a Diciembre 2017]])/Tabla1591011121314151679131415[[#This Row],[Enero a Diciembre 2017]],4) -> 0
A7: Hospital Salamanca | F7: =ROUND(Tabla1591011121314151679131415[[#This Row],[Número de pacientes hospitalizados antes de 12 horas, Enero a Diciembre 2017]]/Tabla1591011121314151679131415[[#This Row],[Total de pacientes hospitalizados Enero a Diciembre 2017]],4) -> #DIV/0! | G7: =ROUND(Tabla1591011121314151679131415[[#This Row],[Número de pacientes hospitalizados antes de 12 horas, Enero a Diciembre 2018]]/Tabla1591011121314151679131415[[#This Row],[Total de pacientes hospitalizados Enero a Diciembre 2018]],4) -> #DIV/0! | H7: Hospital Salamanca | I7: =ROUND(Tabla1591011121314151679131415[[#This Row],[Porcentaje Oportunidad de Hospitalización Enero a Diciembre 2017]],4) -> #DIV/0! | J7: =ROUND(Tabla1591011121314151679131415[[#This Row],[Porcentaje Oportunidad de Hospitalización Enero a Diciembre 2018]],4) -> #DIV/0! | K7: =ROUND((Tabla1591011121314151679131415[[#This Row],[Enero a Diciembre 2018]]-Tabla1591011121314151679131415[[#This Row],[Enero a Diciembre 2017]])/Tabla1591011121314151679131415[[#This Row],[Enero a Diciembre 2017]],4) -> #DIV/0!
A8: Hospital Combarbalá | F8: =ROUND(Tabla1591011121314151679131415[[#This Row],[Número de pacientes hospitalizados antes de 12 horas, Enero a Diciembre 2017]]/Tabla1591011121314151679131415[[#This Row],[Total de pacientes hospitalizados Enero a Diciembre 2017]],4) -> #DIV/0! | G8: =ROUND(Tabla1591011121314151679131415[[#This Row],[Número de pacientes hospitalizados antes de 12 horas, Enero a Diciembre 2018]]/Tabla1591011121314151679131415[[#This Row],[Total de pacientes hospitalizados Enero a Diciembre 2018]],4) -> #DIV/0! | H8: Hospital Combarbalá | I8: =ROUND(Tabla1591011121314151679131415[[#This Row],[Porcentaje Oportunidad de Hospitalización Enero a Diciembre 2017]],4) -> #DIV/0! | J8: =ROUND(Tabla1591011121314151679131415[[#This Row],[Porcentaje Oportunidad de Hospitalización Enero a Diciembre 2018]],4) -> #DIV/0! | K8: =ROUND((Tabla1591011121314151679131415[[#This Row],[Enero a Diciembre 2018]]-Tabla1591011121314151679131415[[#This Row],[Enero a Diciembre 2017]])/Tabla1591011121314151679131415[[#This Row],[Enero a Diciembre 2017]],4) -> #DIV/0!
A9: Hospital Andacollo | F9: =ROUND(Tabla1591011121314151679131415[[#This Row],[Número de pacientes hospitalizados antes de 12 horas, Enero a Diciembre 2017]]/Tabla1591011121314151679131415[[#This Row],[Total de pacientes hospitalizados Enero a Diciembre 2017]],4) -> #DIV/0! | G9: =ROUND(Tabla1591011121314151679131415[[#This Row],[Número de pacientes hospitalizados antes de 12 horas, Enero a Diciembre 2018]]/Tabla1591011121314151679131415[[#This Row],[Total de pacientes hospitalizados Enero a Diciembre 2018]],4) -> #DIV/0! | H9: Hospital Andacollo | I9: =ROUND(Tabla1591011121314151679131415[[#This Row],[Porcentaje Oportunidad de Hospitalización Enero a Diciembre 2017]],4) -> #DIV/0! | J9: =ROUND(Tabla1591011121314151679131415[[#This Row],[Porcentaje Oportunidad de Hospitalización Enero a Diciembre 2018]],4) -> #DIV/0! | K9: =ROUND((Tabla1591011121314151679131415[[#This Row],[Enero a Diciembre 2018]]-Tabla1591011121314151679131415[[#This Row],[Enero a Diciembre 2017]])/Tabla1591011121314151679131415[[#This Row],[Enero a Diciembre 2017]],4) -> #DIV/0!
A10: Hospital Vicuña | F10: =ROUND(Tabla1591011121314151679131415[[#This Row],[Número de pacientes hospitalizados antes de 12 horas, Enero a Diciembre 2017]]/Tabla1591011121314151679131415[[#This Row],[Total de pacientes hospitalizados Enero a Diciembre 2017]],4) -> #DIV/0! | G10: =ROUND(Tabla1591011121314151679131415[[#This Row],[Número de pacientes hospitalizados antes de 12 horas, Enero a Diciembre 2018]]/Tabla1591011121314151679131415[[#This Row],[Total de pacientes hospitalizados Enero a Diciembre 2018]],4) -> #DIV/0! | H10: Hospital Vicuña | I10: =ROUND(Tabla1591011121314151679131415[[#This Row],[Porcentaje Oportunidad de Hospitalización Enero a Diciembre 2017]],4) -> #DIV/0! | J10: =ROUND(Tabla1591011121314151679131415[[#This Row],[Porcentaje Oportunidad de Hospitalización Enero a Diciembre 2018]],4) -> #DIV/0! | K10: =ROUND((Tabla1591011121314151679131415[[#This Row],[Enero a Diciembre 2018]]-Tabla1591011121314151679131415[[#This Row],[Enero a Diciembre 2017]])/Tabla1591011121314151679131415[[#This Row],[Enero a Diciembre 2017]],4) -> #DIV/0!
A11: Hospital Los Vilos | D11: 508 | E11: 508 | F11: =ROUND(Tabla1591011121314151679131415[[#This Row],[Número de pacientes hospitalizados antes de 12 horas, Enero a Diciembre 2017]]/Tabla1591011121314151679131415[[#This Row],[Total de pacientes hospitalizados Enero a Diciembre 2017]],4) -> #DIV/0! | G11: =ROUND(Tabla1591011121314151679131415[[#This Row],[Número de pacientes hospitalizados antes de 12 horas, Enero a Diciembre 2018]]/Tabla1591011121314151679131415[[#This Row],[Total de pacientes hospitalizados Enero a Diciembre 2018]],4) -> 1 | H11: Hospital Los Vilos | I11: =ROUND(Tabla1591011121314151679131415[[#This Row],[Porcentaje Oportunidad de Hospitalización Enero a Diciembre 2017]],4) -> #DIV/0! | J11: =ROUND(Tabla1591011121314151679131415[[#This Row],[Porcentaje Oportunidad de Hospitalización Enero a Diciembre 2018]],4) -> 1 | K11: =ROUND((Tabla1591011121314151679131415[[#This Row],[Enero a Diciembre 2018]]-Tabla1591011121314151679131415[[#This Row],[Enero a Diciembre 2017]])/Tabla1591011121314151679131415[[#This Row],[Enero a Diciembre 2017]],4) -> #DIV/0!
A12: Total Servicio | B12: =SUBTOTAL(109,B3:B11) -> 10697 | C12: =SUBTOTAL(109,C3:C11) -> 15215 | D12: =SUBTOTAL(109,D3:D11) -> 9400 | E12: =SUBTOTAL(109,E3:E11) -> 14411 | F12: =ROUND(Tabla1591011121314151679131415[[#This Row],[Número de pacientes hospitalizados antes de 12 horas, Enero a Diciembre 2017]]/Tabla1591011121314151679131415[[#This Row],[Total de pacientes hospitalizados Enero a Diciembre 2017]],4) -> 0.7031 | G12: =ROUND(Tabla1591011121314151679131415[[#This Row],[Número de pacientes hospitalizados antes de 12 horas, Enero a Diciembre 2018]]/Tabla1591011121314151679131415[[#This Row],[Total de pacientes hospitalizados Enero a Diciembre 2018]],4) -> 0.6523 | H12: Total Servicio | I12: =ROUND(Tabla1591011121314151679131415[[#This Row],[Porcentaje Oportunidad de Hospitalización Enero a Diciembre 2017]],4) -> 0.7031 | J12: =ROUND(Tabla1591011121314151679131415[[#This Row],[Porcentaje Oportunidad de Hospitalización Enero a Diciembre 2018]],4) -> 0.6523 | K12: =ROUND((Tabla1591011121314151679131415[[#This Row],[Enero a Diciembre 2018]]-Tabla1591011121314151679131415[[#This Row],[Enero a Diciembre 2017]])/Tabla1591011121314151679131415[[#This Row],[Enero a Diciembre 2017]],4) -> -0.0723

Sheet T10
H1: Ind_8 Promedio de Días de Estada
A2: Nombre Institución | B2: Total de Días de Estada Enero a Diciembre 2017 | C2: Total de Egresos Enero a Diciembre 2017 | D2: Total de Días de Estada Enero a Diciembre 2018 | E2: Total de Egresos Enero a Diciembre 2018 | F2: Promedio de Días de Estada Enero a Diciembre 2017 | G2: Promedio de Días de Estada Enero a Diciembre 2018 | H2: Institución | I2: Enero a Diciembre 2017 | J2: Enero a Diciembre 2018 | K2: Tasa de Variación (%)
A3: Hospital La Serena | B3: 82226 | C3: 13127 | D3: 85952 | E3: 12497 | F3: =Tabla159101112131415167913141516[[#This Row],[Total de Días de Estada Enero a Diciembre 2017]]/Tabla159101112131415167913141516[[#This Row],[Total de Egresos Enero a Diciembre 2017]] -> 6.2638836 | G3: =Tabla159101112131415167913141516[[#This Row],[Total de Días de Estada Enero a Diciembre 2018]]/Tabla159101112131415167913141516[[#This Row],[Total de Egresos Enero a Diciembre 2018]] -> 6.8778107 | H3: Hospital La Serena | I3: =ROUND(Tabla159101112131415167913141516[[#This Row],[Promedio de Días de Estada Enero a Diciembre 2017]],2) -> 6.26 | J3: =ROUND(Tabla159101112131415167913141516[[#This Row],[Promedio de Días de Estada Enero a Diciembre 2018]],2) -> 6.88 | K3: =ROUND((Tabla159101112131415167913141516[[#This Row],[Enero a Diciembre 2018]]-Tabla159101112131415167913141516[[#This Row],[Enero a Diciembre 2017]])/Tabla159101112131415167913141516[[#This Row],[Enero a Diciembre 2017]],4) -> 0.099
A4: Hospital Coquimbo | B4: 89086 | C4: 13378 | D4: 92813 | E4: 13511 | F4: =Tabla159101112131415167913141516[[#This Row],[Total de Días de Estada Enero a Diciembre 2017]]/Tabla159101112131415167913141516[[#This Row],[Total de Egresos Enero a Diciembre 2017]] -> 6.6591419 | G4: =Tabla159101112131415167913141516[[#This Row],[Total de Días de Estada Enero a Diciembre 2018]]/Tabla159101112131415167913141516[[#This Row],[Total de Egresos Enero a Diciembre 2018]] -> 6.8694397 | H4: Hospital Coquimbo | I4: =ROUND(Tabla159101112131415167913141516[[#This Row],[Promedio de Días de Estada Enero a Diciembre 2017]],2) -> 6.66 | J4: =ROUND(Tabla159101112131415167913141516[[#This Row],[Promedio de Días de Estada Enero a Diciembre 2018]],2) -> 6.87 | K4: =ROUND((Tabla159101112131415167913141516[[#This Row],[Enero a Diciembre 2018]]-Tabla159101112131415167913141516[[#This Row],[Enero a Diciembre 2017]])/Tabla159101112131415167913141516[[#This Row],[Enero a Diciembre 2017]],4) -> 0.0315
A5: Hospital Ovalle | B5: 51845 | C5: 8960 | D5: 51393 | E5: 8892 | F5: =Tabla159101112131415167913141516[[#This Row],[Total de Días de Estada Enero a Diciembre 2017]]/Tabla159101112131415167913141516[[#This Row],[Total de Egresos Enero a Diciembre 2017]] -> 5.7862723 | G5: =Tabla159101112131415167913141516[[#This Row],[Total de Días de Estada Enero a Diciembre 2018]]/Tabla159101112131415167913141516[[#This Row],[Total de Egresos Enero a Diciembre 2018]] -> 5.7796896 | H5: Hospital Ovalle | I5: =ROUND(Tabla159101112131415167913141516[[#This Row],[Promedio de Días de Estada Enero a Diciembre 2017]],2) -> 5.79 | J5: =ROUND(Tabla159101112131415167913141516[[#This Row],[Promedio de Días de Estada Enero a Diciembre 2018]],2) -> 5.78 | K5: =ROUND((Tabla159101112131415167913141516[[#This Row],[Enero a Diciembre 2018]]-Tabla159101112131415167913141516[[#This Row],[Enero a Diciembre 2017]])/Tabla159101112131415167913141516[[#This Row],[Enero a Diciembre 2017]],4) -> -0.0017
A6: Hospital Illapel | B6: 8389 | C6: 2599 | D6: 9162 | E6: 2888 | F6: =Tabla159101112131415167913141516[[#This Row],[Total de Días de Estada Enero a Diciembre 2017]]/Tabla159101112131415167913141516[[#This Row],[Total de Egresos Enero a Diciembre 2017]] -> 3.2277799 | G6: =Tabla159101112131415167913141516[[#This Row],[Total de Días de Estada Enero a Diciembre 2018]]/Tabla159101112131415167913141516[[#This Row],[Total de Egresos Enero a Diciembre 2018]] -> 3.1724377 | H6: Hospital Illapel | I6: =ROUND(Tabla159101112131415167913141516[[#This Row],[Promedio de Días de Estada Enero a Diciembre 2017]],2) -> 3.23 | J6: =ROUND(Tabla159101112131415167913141516[[#This Row],[Promedio de Días de Estada Enero a Diciembre 2018]],2) -> 3.17 | K6: =ROUND((Tabla159101112131415167913141516[[#This Row],[Enero a Diciembre 2018]]-Tabla159101112131415167913141516[[#This Row],[Enero a Diciembre 2017]])/Tabla159101112131415167913141516[[#This Row],[Enero a Diciembre 2017]],4) -> -0.0186
A7: Hospital Salamanca | B7: 5266 | C7: 869 | D7: 3732 | E7: 794 | F7: =Tabla159101112131415167913141516[[#This Row],[Total de Días de Estada Enero a Diciembre 2017]]/Tabla159101112131415167913141516[[#This Row],[Total de Egresos Enero a Diciembre 2017]] -> 6.0598389 | G7: =Tabla159101112131415167913141516[[#This Row],[Total de Días de Estada Enero a Diciembre 2018]]/Tabla159101112131415167913141516[[#This Row],[Total de Egresos Enero a Diciembre 2018]] -> 4.7002519 | H7: Hospital Salamanca | I7: =ROUND(Tabla159101112131415167913141516[[#This Row],[Promedio de Días de Estada Enero a Diciembre 2017]],2) -> 6.06 | J7: =ROUND(Tabla159101112131415167913141516[[#This Row],[Promedio de Días de Estada Enero a Diciembre 2018]],2) -> 4.7 | K7: =ROUND((Tabla159101112131415167913141516[[#This Row],[Enero a Diciembre 2018]]-Tabla159101112131415167913141516[[#This Row],[Enero a Diciembre 2017]])/Tabla159101112131415167913141516[[#This Row],[Enero a Diciembre 2017]],4) -> -0.2244
A8: Hospital Combarbalá | B8: 2304 | C8: 390 | D8: 3325 | E8: 343 | F8: =Tabla159101112131415167913141516[[#This Row],[Total de Días de Estada Enero a Diciembre 2017]]/Tabla159101112131415167913141516[[#This Row],[Total de Egresos Enero a Diciembre 2017]] -> 5.9076923 | G8: =Tabla159101112131415167913141516[[#This Row],[Total de Días de Estada Enero a Diciembre 2018]]/Tabla159101112131415167913141516[[#This Row],[Total de Egresos Enero a Diciembre 2018]] -> 9.6938776 | H8: Hospital Combarbalá | I8: =ROUND(Tabla159101112131415167913141516[[#This Row],[Promedio de Días de Estada Enero a Diciembre 2017]],2) -> 5.91 | J8: =ROUND(Tabla159101112131415167913141516[[#This Row],[Promedio de Días de Estada Enero a Diciembre 2018]],2) -> 9.69 | K8: =ROUND((Tabla159101112131415167913141516[[#This Row],[Enero a Diciembre 2018]]-Tabla159101112131415167913141516[[#This Row],[Enero a Diciembre 2017]])/Tabla159101112131415167913141516[[#This Row],[Enero a Diciembre 2017]],4) -> 0.6396
A9: Hospital Andacollo | B9: 2621 | C9: 338 | D9: 2680 | E9: 297 | F9: =Tabla159101112131415167913141516[[#This Row],[Total de Días de Estada Enero a Diciembre 2017]]/Tabla159101112131415167913141516[[#This Row],[Total de Egresos Enero a Diciembre 2017]] -> 7.7544379 | G9: =Tabla159101112131415167913141516[[#This Row],[Total de Días de Estada Enero a Diciembre 2018]]/Tabla159101112131415167913141516[[#This Row],[Total de Egresos Enero a Diciembre 2018]] -> 9.023569 | H9: Hospital Andacollo | I9: =ROUND(Tabla159101112131415167913141516[[#This Row],[Promedio de Días de Estada Enero a Diciembre 2017]],2) -> 7.75 | J9: =ROUND(Tabla159101112131415167913141516[[#This Row],[Promedio de Días de Estada Enero a Diciembre 2018]],2) -> 9.02 | K9: =ROUND((Tabla159101112131415167913141516[[#This Row],[Enero a Diciembre 2018]]-Tabla159101112131415167913141516[[#This Row],[Enero a Diciembre 2017]])/Tabla159101112131415167913141516[[#This Row],[Enero a Diciembre 2017]],4) -> 0.1639
A10: Hospital Vicuña | B10: 5163 | C10: 1068 | D10: 4617 | E10: 903 | F10: =Tabla159101112131415167913141516[[#This Row],[Total de Días de Estada Enero a Diciembre 2017]]/Tabla159101112131415167913141516[[#This Row],[Total de Egresos Enero a Diciembre 2017]] -> 4.8342697 | G10: =Tabla159101112131415167913141516[[#This Row],[Total de Días de Estada Enero a Diciembre 2018]]/Tabla159101112131415167913141516[[#This Row],[Total de Egresos Enero a Diciembre 2018]] -> 5.1129568 | H10: Hospital Vicuña | I10: =ROUND(Tabla159101112131415167913141516[[#This Row],[Promedio de Días de Estada Enero a Diciembre 2017]],2) -> 4.83 | J10: =ROUND(Tabla159101112131415167913141516[[#This Row],[Promedio de Días de Estada Enero a Diciembre 2018]],2) -> 5.11 | K10: =ROUND((Tabla159101112131415167913141516[[#This Row],[Enero a Diciembre 2018]]-Tabla159101112131415167913141516[[#This Row],[Enero a Diciembre 2017]])/Tabla159101112131415167913141516[[#This Row],[Enero a Diciembre 2017]],4) -> 0.058
A11: Hospital Los Vilos | B11: 5080 | C11: 1230 | D11: 4702 | E11: 829 | F11: =Tabla159101112131415167913141516[[#This Row],[Total de Días de Estada Enero a Diciembre 2017]]/Tabla159101112131415167913141516[[#This Row],[Total de Egresos Enero a Diciembre 2017]] -> 4.1300813 | G11: =Tabla159101112131415167913141516[[#This Row],[Total de Días de Estada Enero a Diciembre 2018]]/Tabla159101112131415167913141516[[#This Row],[Total de Egresos Enero a Diciembre 2018]] -> 5.6718938 | H11: Hospital Los Vilos | I11: =ROUND(Tabla159101112131415167913141516[[#This Row],[Promedio de Días de Estada Enero a Diciembre 2017]],2) -> 4.13 | J11: =ROUND(Tabla159101112131415167913141516[[#This Row],[Promedio de Días de Estada Enero a Diciembre 2018]],2) -> 5.67 | K11: =ROUND((Tabla159101112131415167913141516[[#This Row],[Enero a Diciembre 2018]]-Tabla159101112131415167913141516[[#This Row],[Enero a Diciembre 2017]])/Tabla159101112131415167913141516[[#This Row],[Enero a Diciembre 2017]],4) -> 0.3729
A12: Total Servicio | B12: =SUBTOTAL(109,B3:B11) -> 251980 | C12: =SUBTOTAL(109,C3:C11) -> 41959 | D12: =SUBTOTAL(109,D3:D11) -> 258376 | E12: =SUBTOTAL(109,E3:E11) -> 40954 | F12: =Tabla159101112131415167913141516[[#This Row],[Total de Días de Estada Enero a Diciembre 2017]]/Tabla159101112131415167913141516[[#This Row],[Total de Egresos Enero a Diciembre 2017]] -> 6.0053862 | G12: =Tabla159101112131415167913141516[[#This Row],[Total de Días de Estada Enero a Diciembre 2018]]/Tabla159101112131415167913141516[[#This Row],[Total de Egresos Enero a Diciembre 2018]] -> 6.308932 | H12: Total Servicio | I12: =ROUND(Tabla159101112131415167913141516[[#This Row],[Promedio de Días de Estada Enero a Diciembre 2017]],2) -> 6.01 | J12: =ROUND(Tabla159101112131415167913141516[[#This Row],[Promedio de Días de Estada Enero a Diciembre 2018]],2) -> 6.31 | K12: =ROUND((Tabla159101112131415167913141516[[#This Row],[Enero a Diciembre 2018]]-Tabla159101112131415167913141516[[#This Row],[Enero a Diciembre 2017]])/Tabla159101112131415167913141516[[#This Row],[Enero a Diciembre 2017]],4) -> 0.0499

Sheet T11
A1: Nivel de Obligaciones Devengadas y no Pagadas (M$) | B1: Presupuesto Vigente año 2018 | D1: Devengado | E1: Pagado | F1: Por Pagar
A2: Total de Obligaciones Devengadas y no Pagadas | B2: ='T12'!B12 -> 101368 | D2: ='T12'!C12 -> 47612 | E2: ='T12'!D12 -> 40303 | F2: ='T12'!E12 -> 7309
A4: Ejecución de Glosas Presupuestarias (M$) | B4: Presupuesto Vigente año 2018 | C4: 1° Trimestre | D4: 2° Trimestre | E4: 3° Trimestre | F4: 4° Trimestre | G4: Acumulado 2018
A5: Horas Extraordinarias | B5: ='T13'!B2+'T14'!B2+'T15'!B2+'T16'!B2+'T17'!B2+'17.1'!B2+'17.2'!B2+'17.3'!B2+'17.4'!B2+'17.5'!B2 -> 120000 | C5: ='T13'!C2+'T14'!C2+'T15'!C2+'T16'!C2+'T17'!C2+'17.1'!C2+'17.2'!C2+'17.3'!C2+'17.4'!C2+'17.5'!C2 -> 20000 | D5: ='T13'!D2+'T14'!D2+'T15'!D2+'T16'!D2+'T17'!D2+'17.1'!D2+'17.2'!D2+'17.3'!D2+'17.4'!D2+'17.5'!D2 -> 20000 | E5: ='T13'!E2+'T14'!E2+'T15'!E2+'T16'!E2+'T17'!E2+'17.1'!E2+'17.2'!E2+'17.3'!E2+'17.4'!E2+'17.5'!E2 -> 21000 | F5: =SUM('T13'!F2:H2,'T14'!F2:H2,'T15'!F2:H2,'T16'!F2:H2,'T17'!F2:H2,'17.1'!F2:H2,'17.2'!F2:H2,'17.3'!F2:H2,'17.4'!F2:H2,'17.5'!F2:H2) -> 41000 | G5: =+'T13'!I2+'T14'!I2+'T15'!I2+'T16'!I2+'T17'!I2+'17.1'!I2+'17.2'!I2+'17.3'!I2+'17.4'!I2+'17.5'!I2 -> 102000
A6: Asignación de Turno, establecida en el artículo 94 del DFL N° 1, (S), de 2005 | B6: ='T13'!B3+'T14'!B3+'T15'!B3+'T16'!B3+'T17'!B3+'17.1'!B3+'17.2'!B3+'17.3'!B3+'17.4'!B3+'17.5'!B3 -> 120000 | C6: ='T13'!C3+'T14'!C3+'T15'!C3+'T16'!C3+'T17'!C3 -> 10000 | D6: ='T13'!D3+'T14'!D3+'T15'!D3+'T16'!D3+'T17'!D3 -> 10000 | E6: ='T13'!E3+'T14'!E3+'T15'!E3+'T16'!E3+'T17'!E3 -> 10500 | F6: =SUM('T13'!F3:H3,'T14'!F3:H3,'T15'!F3:H3,'T16'!F3:H3,'T17'!F3:H3,'17.1'!F3:H3,'17.2'!F3:H3,'17.3'!F3:H3,'17.4'!F3:H3,'17.5'!F3:H3) -> 41000 | G6: =+'T13'!I3+'T14'!I3+'T15'!I3+'T16'!I3+'T17'!I3+'17.1'!I3+'17.2'!I3+'17.3'!I3+'17.4'!I3+'17.5'!I3 -> 102000
A7: Bonificación Compensatoria de la Asignación de Turno, establecida en el Artículo 13° T Ley N° 19.937 | B7: ='T13'!B4+'T14'!B4+'T15'!B4+'T16'!B4+'T17'!B4+'17.1'!B4+'17.2'!B4+'17.3'!B4+'17.4'!B4+'17.5'!B4 -> 120000 | C7: ='T13'!C4+'T14'!C4+'T15'!C4+'T16'!C4+'T17'!C4 -> 10000 | D7: ='T13'!D4+'T14'!D4+'T15'!D4+'T16'!D4+'T17'!D4 -> 10000 | E7: ='T13'!E4+'T14'!E4+'T15'!E4+'T16'!E4+'T17'!E4 -> 10500 | F7: =SUM('T13'!F4:H4,'T14'!F4:H4,'T15'!F4:H4,'T16'!F4:H4,'T17'!F4:H4,'17.1'!F4:H4,'17.2'!F4:H4,'17.3'!F4:H4,'17.4'!F4:H4,'17.5'!F4:H4) -> 41000 | G7: =+'T13'!I4+'T14'!I4+'T15'!I4+'T16'!I4+'T17'!I4+'17.1'!I4+'17.2'!I4+'17.3'!I4+'17.4'!I4+'17.5'!I4 -> 102000
A8: Autorización Máxima para gastos en Viáticos, en territorio Nacional | B8: ='T13'!B5+'T14'!B5+'T15'!B5+'T16'!B5+'T17'!B5+'17.1'!B5+'17.2'!B5+'17.3'!B5+'17.4'!B5+'17.5'!B5 -> 120000 | C8: ='T13'!C5+'T14'!C5+'T15'!C5+'T16'!C5+'T17'!C5 -> 10000 | D8: ='T13'!D5+'T14'!D5+'T15'!D5+'T16'!D5+'T17'!D5 -> 10000 | E8: ='T13'!E5+'T14'!E5+'T15'!E5+'T16'!E5+'T17'!E5 -> 10500 | F8: =SUM('T13'!F5:H5,'T14'!F5:H5,'T15'!F5:H5,'T16'!F5:H5,'T17'!F5:H5,'17.1'!F5:H5,'17.2'!F5:H5,'17.3'!F5:H5,'17.4'!F5:H5,'17.5'!F5:H5) -> 41000 | G8: =+'T13'!I5+'T14'!I5+'T15'!I5+'T16'!I5+'T17'!I5+'17.1'!I5+'17.2'!I5+'17.3'!I5+'17.4'!I5+'17.5'!I5 -> 102000
A9: Convenios con personas naturales | B9: ='T13'!B6+'T14'!B6+'T15'!B6+'T16'!B6+'T17'!B6+'17.1'!B6+'17.2'!B6+'17.3'!B6+'17.4'!B6+'17.5'!B6 -> 120000 | C9: ='T13'!C6+'T14'!C6+'T15'!C6+'T16'!C6+'T17'!C6 -> 10000 | D9: ='T13'!D6+'T14'!D6+'T15'!D6+'T16'!D6+'T17'!D6 -> 10000 | E9: ='T13'!E6+'T14'!E6+'T15'!E6+'T16'!E6+'T17'!E6 -> 10500 | F9: =SUM('T13'!F6:H6,'T14'!F6:H6,'T15'!F6:H6,'T16'!F6:H6,'T17'!F6:H6,'17.1'!F6:H6,'17.2'!F6:H6,'17.3'!F6:H6,'17.4'!F6:H6,'17.5'!F6:H6) -> 3300 | G9: =+'T13'!I6+'T14'!I6+'T15'!I6+'T16'!I6+'T17'!I6+'17.1'!I6+'17.2'!I6+'17.3'!I6+'17.4'!I6+'17.5'!I6 -> 64300
A10: Asignación por Funciones Críticas | B10: ='T13'!B7+'T14'!B7+'T15'!B7+'T16'!B7+'T17'!B7+'17.1'!B7+'17.2'!B7+'17.3'!B7+'17.4'!B7+'17.5'!B7 -> 120000 | C10: ='T13'!C7+'T14'!C7+'T15'!C7+'T16'!C7+'T17'!C7 -> 10000 | D10: ='T13'!D7+'T14'!D7+'T15'!D7+'T16'!D7+'T17'!D7 -> 10000 | E10: ='T13'!E7+'T14'!E7+'T15'!E7+'T16'!E7+'T17'!E7 -> 10500 | F10: =SUM('T13'!F7:H7,'T14'!F7:H7,'T15'!F7:H7,'T16'!F7:H7,'T17'!F7:H7,'17.1'!F7:H7,'17.2'!F7:H7,'17.3'!F7:H7,'17.4'!F7:H7,'17.5'!F7:H7) -> 1530 | G10: =+'T13'!I7+'T14'!I7+'T15'!I7+'T16'!I7+'T17'!I7+'17.1'!I7+'17.2'!I7+'17.3'!I7+'17.4'!I7+'17.5'!I7 -> 62530
A11: Artículo 98 del DFL N° 1, (S), de 2005, Asignación de Responsabilidad | B11: ='T13'!B8+'T14'!B8+'T15'!B8+'T16'!B8+'T17'!B8+'17.1'!B8+'17.2'!B8+'17.3'!B8+'17.4'!B8+'17.5'!B8 -> 120000 | C11: ='T13'!C8+'T14'!C8+'T15'!C8+'T16'!C8+'T17'!C8 -> 10000 | D11: ='T13'!D8+'T14'!D8+'T15'!D8+'T16'!D8+'T17'!D8 -> 10000 | E11: ='T13'!E8+'T14'!E8+'T15'!E8+'T16'!E8+'T17'!E8 -> 10500 | F11: =SUM('T13'!F8:H8,'T14'!F8:H8,'T15'!F8:H8,'T16'!F8:H8,'T17'!F8:H8,'17.1'!F8:H8,'17.2'!F8:H8,'17.3'!F8:H8,'17.4'!F8:H8,'17.5'!F8:H8) -> 41000 | G11: =+'T13'!I8+'T14'!I8+'T15'!I8+'T16'!I8+'T17'!I8+'17.1'!I8+'17.2'!I8+'17.3'!I8+'17.4'!I8+'17.5'!I8 -> 102000
A12: Asignación de Estimulo Aut Max aplicación art 35 Ley 19.664 | B12: ='T13'!B9+'T14'!B9+'T15'!B9+'T16'!B9+'T17'!B9+'17.1'!B9+'17.2'!B9+'17.3'!B9+'17.4'!B9+'17.5'!B9 -> 120000 | C12: ='T13'!C9+'T14'!C9+'T15'!C9+'T16'!C9+'T17'!C9 -> 10000 | D12: ='T13'!D9+'T14'!D9+'T15'!D9+'T16'!D9+'T17'!D9 -> 10000 | E12: ='T13'!E9+'T14'!E9+'T15'!E9+'T16'!E9+'T17'!E9 -> 10500 | F12: =SUM('T13'!F9:H9,'T14'!F9:H9,'T15'!F9:H9,'T16'!F9:H9,'T17'!F9:H9,'17.1'!F9:H9,'17.2'!F9:H9,'17.3'!F9:H9,'17.4'!F9:H9,'17.5'!F9:H9) -> 41000 | G12: =+'T13'!I9+'T14'!I9+'T15'!I9+'T16'!I9+'T17'!I9+'17.1'!I9+'17.2'!I9+'17.3'!I9+'17.4'!I9+'17.5'!I9 -> 102000
A13: Capacitación y perfeccionamiento. Leyes N° 18.575. 15. 076 y 19.664 | B13: ='T13'!B10+'T14'!B10+'T15'!B10+'T16'!B10+'T17'!B10+'17.1'!B10+'17.2'!B10+'17.3'!B10+'17.4'!B10+'17.5'!B10 -> 120000 | C13: ='T13'!C10+'T14'!C10+'T15'!C10+'T16'!C10+'T17'!C10 -> 10000 | D13: ='T13'!D10+'T14'!D10+'T15'!D10+'T16'!D10+'T17'!D10 -> 10000 | E13: ='T13'!E10+'T14'!E10+'T15'!E10+'T16'!E10+'T17'!E10 -> 10500 | F13: =SUM('T13'!F10:H10,'T14'!F10:H10,'T15'!F10:H10,'T16'!F10:H10,'T17'!F10:H10,'17.1'!F10:H10,'17.2'!F10:H10,'17.3'!F10:H10,'17.4'!F10:H10,'17.5'!F10:H10) -> 41000 | G13: =+'T13'!I10+'T14'!I10+'T15'!I10+'T16'!I10+'T17'!I10+'17.1'!I10+'17.2'!I10+'17.3'!I10+'17.4'!I10+'17.5'!I10 -> 102000
A14: Gastos en publicidad y difusión | B14: ='T13'!B11+'T14'!B11+'T15'!B11+'T16'!B11+'T17'!B11+'17.1'!B11+'17.2'!B11+'17.3'!B11+'17.4'!B11+'17.5'!B11 -> 60000 | C14: ='T13'!C11+'T14'!C11+'T15'!C11+'T16'!C11+'T17'!C11 -> 10000 | D14: ='T13'!D11+'T14'!D11+'T15'!D11+'T16'!D11+'T17'!D11 -> 10000 | E14: ='T13'!E11+'T14'!E11+'T15'!E11+'T16'!E11+'T17'!E11 -> 10500 | F14: =SUM('T13'!F11:H11,'T14'!F11:H11,'T15'!F11:H11,'T16'!F11:H11,'T17'!F11:H11,'17.1'!F11:H11,'17.2'!F11:H11,'17.3'!F11:H11,'17.4'!F11:H11,'17.5'!F11:H11) -> 330 | G14: =+'T13'!I11+'T14'!I11+'T15'!I11+'T16'!I11+'T17'!I11+'17.1'!I11+'17.2'!I11+'17.3'!I11+'17.4'!I11+'17.5'!I11 -> 61330
A16: Estrategia de Compras (Eficiencia en compras de suministro e Ingresos Propios) | B16: Enero a Diciembre 2017 | C16: Enero a Diciembre 2018 | D16: Tasa de Variación (%)
A17: Porcentaje de Licitaciones Tipo L1 | B17: =T18_!B12 -> 0.6337 | C17: =T18_!C12 -> 0.5721 | D17: =T18_!D12 -> -0.0972
A18: Porcentaje de Órdenes de Compra vía Trato Directo | B18: =T19_!B12 -> 0.1692 | C18: =T19_!C12 -> 0.1681 | D18: =T19_!D12 -> -0.0065
A19: Recaudación de Ingresos Propios | B19: ='T20'!B12 -> 14904.755 | C19: ='T20'!C12 -> 16095.236 | D19: ='T20'!D12 -> 0.0799

Sheet T12
A1: Nivel de Obligaciones Devengadas y no Pagadas / Institución | B1: Presupuesto Vigente año 2018 (M$) | C1: Devengado (M$) | D1: Pagado (M$) | E1: Por Pagar (M$)
A2: Dirección del Servicio | B2: 8653 | C2: 4120 | D2: 2905 | E2: =Tabla159101112131415161710[[#This Row],[Devengado (M$)]]-Tabla159101112131415161710[[#This Row],[Pagado (M$)]] -> 1215
A3: Hospital La Serena | B3: 7911 | C3: 3767 | D3: 2650 | E3: =Tabla159101112131415161710[[#This Row],[Devengado (M$)]]-Tabla159101112131415161710[[#This Row],[Pagado (M$)]] -> 1117
A4: Hospital Coquimbo | B4: 7152 | C4: 3406 | D4: 3301 | E4: =Tabla159101112131415161710[[#This Row],[Devengado (M$)]]-Tabla159101112131415161710[[#This Row],[Pagado (M$)]] -> 105
A5: Hospital Ovalle | B5: 5362 | C5: 2553 | D5: 2500 | E5: =Tabla159101112131415161710[[#This Row],[Devengado (M$)]]-Tabla159101112131415161710[[#This Row],[Pagado (M$)]] -> 53
A6: Hospital Illapel | B6: 3210 | C6: 1529 | D6: 1325 | E6: =Tabla159101112131415161710[[#This Row],[Devengado (M$)]]-Tabla159101112131415161710[[#This Row],[Pagado (M$)]] -> 204
A7: Hospital Salamanca | B7: 3000 | C7: 1429 | D7: 1101 | E7: =Tabla159101112131415161710[[#This Row],[Devengado (M$)]]-Tabla159101112131415161710[[#This Row],[Pagado (M$)]] -> 328
A8: Hospital Combarbalá | B8: 15000 | C8: 7143 | D8: 5936 | E8: =Tabla159101112131415161710[[#This Row],[Devengado (M$)]]-Tabla159101112131415161710[[#This Row],[Pagado (M$)]] -> 1207
A9: Hospital Andacollo | B9: 25000 | C9: 11905 | D9: 10525 | E9: =Tabla159101112131415161710[[#This Row],[Devengado (M$)]]-Tabla159101112131415161710[[#This Row],[Pagado (M$)]] -> 1380
A10: Hospital Vicuña | B10: 23555 | C10: 10500 | D10: 9200 | E10: =Tabla159101112131415161710[[#This Row],[Devengado (M$)]]-Tabla159101112131415161710[[#This Row],[Pagado (M$)]] -> 1300
A11: Hospital Los Vilos | B11: 2525 | C11: 1260 | D11: 860 | E11: =Tabla159101112131415161710[[#This Row],[Devengado (M$)]]-Tabla159101112131415161710[[#This Row],[Pagado (M$)]] -> 400
A12: Total Servicio | B12: =SUBTOTAL(109,B2:B11) -> 101368 | C12: =SUBTOTAL(109,C2:C11) -> 47612 | D12: =SUBTOTAL(109,D2:D11) -> 40303 | E12: =SUBTOTAL(109,E2:E11) -> 7309

Sheet T13
A1: Ítem Presupuestario | B1: Presupuesto Vigente 2018 | C1: 1° Trimestre | D1: 2° Trimestre | E1: 3° Trimestre | F1: Octubre | G1: Noviembre | H1: Diciembre | I1: Acumulado 2018
A2: Horas Extraordinarias | B2: 12000 | C2: 2000 | D2: 2000 | E2: 2100 | F2: 1100 | G2: 1000 | H2: 2000 | I2: =SUM(C2:H2) -> 10200
A3: Asignación de Turno, establecida en el artículo 94 del DFL N° 1, (S), de 2005 | B3: 12000 | C3: 2000 | D3: 2000 | E3: 2100 | F3: 1100 | G3: 1000 | H3: 2000 | I3: =SUM(C3:H3) -> 10200
A4: Bonificación Compensatoria de la Asignación de Turno, establecida en el Artículo 13° T Ley N° 19.937 | B4: 12000 | C4: 2000 | D4: 2000 | E4: 2100 | F4: 1100 | G4: 1000 | H4: 2000 | I4: =SUM(C4:H4) -> 10200
A5: Autorización Máxima para gastos en Viáticos, en territorio Nacional | B5: 12000 | C5: 2000 | D5: 2000 | E5: 2100 | F5: 1100 | G5: 1000 | H5: 2000 | I5: =SUM(C5:H5) -> 10200
A6: Convenios con personas naturales | B6: 12000 | C6: 2000 | D6: 2000 | E6: 2100 | F6: 110 | G6: 110 | H6: 110 | I6: =SUM(C6:H6) -> 6430
A7: Asignación por Funciones Críticas | B7: 12000 | C7: 2000 | D7: 2000 | E7: 2100 | F7: 51 | G7: 51 | H7: 51 | I7: =SUM(C7:H7) -> 6253
A8: Articulo 98 del DFL N° 1, (S), de 2005, Asignación de Responsabilidad | B8: 12000 | C8: 2000 | D8: 2000 | E8: 2100 | F8: 1100 | G8: 1000 | H8: 2000 | I8: =SUM(C8:H8) -> 10200
A9: Asignación de Estimulo Aut Max aplicación art 35 Ley 19.664 | B9: 12000 | C9: 2000 | D9: 2000 | E9: 2100 | F9: 1100 | G9: 1000 | H9: 2000 | I9: =SUM(C9:H9) -> 10200
A10: Capacitación y perfeccionamiento. Leyes N° 18.575. 15. 076 y 19.664 | B10: 12000 | C10: 2000 | D10: 2000 | E10: 2100 | F10: 1100 | G10: 1000 | H10: 2000 | I10: =SUM(C10:H10) -> 10200
A11: Gastos en publicidad y difusión | B11: 6000 | C11: 2000 | D11: 2000 | E11: 2100 | F11: 11 | G11: 11 | H11: 11 | I11: =SUM(C11:H11) -> 6133
A12: Totales | B12: =SUM(B2:B11) -> 114000 | C12: =SUM(C2:C11) -> 20000 | D12: =SUM(D2:D11) -> 20000 | E12: =SUM(E2:E11) -> 21000 | F12: =SUM(F2:F11) -> 7872 | G12: =SUM(G2:G11) -> 7172 | H12: =SUM(H2:H11) -> 14172 | I12: =SUM(I2:I11) -> 90216
A14: DIRECCIÓN DE SERVICIO

Sheet T14
A1: Ítem Presupuestario | B1: Presupuesto Vigente 2018 | C1: 1° Trimestre | D1: 2° Trimestre | E1: 3° Trimestre | F1: Octubre | G1: Noviembre | H1: Diciembre | I1: Acumulado 2018
A2: Horas Extraordinarias | B2: 12000 | C2: 2000 | D2: 2000 | E2: 2100 | F2: 1100 | G2: 1000 | H2: 2000 | I2: =SUM(C2:H2) -> 10200
A3: Asignación de Turno, establecida en el artículo 94 del DFL N° 1, (S), de 2005 | B3: 12000 | C3: 2000 | D3: 2000 | E3: 2100 | F3: 1100 | G3: 1000 | H3: 2000 | I3: =SUM(C3:H3) -> 10200
A4: Bonificación Compensatoria de la Asignación de Turno, establecida en el Artículo 13° T Ley N° 19.937 | B4: 12000 | C4: 2000 | D4: 2000 | E4: 2100 | F4: 1100 | G4: 1000 | H4: 2000 | I4: =SUM(C4:H4) -> 10200
A5: Autorización Máxima para gastos en Viáticos, en territorio Nacional | B5: 12000 | C5: 2000 | D5: 2000 | E5: 2100 | F5: 1100 | G5: 1000 | H5: 2000 | I5: =SUM(C5:H5) -> 10200
A6: Convenios con personas naturales | B6: 12000 | C6: 2000 | D6: 2000 | E6: 2100 | F6: 110 | G6: 110 | H6: 110 | I6: =SUM(C6:H6) -> 6430
A7: Asignación por Funciones Críticas | B7: 12000 | C7: 2000 | D7: 2000 | E7: 2100 | F7: 51 | G7: 51 | H7: 51 | I7: =SUM(C7:H7) -> 6253
A8: Articulo 98 del DFL N° 1, (S), de 2005, Asignación de Responsabilidad | B8: 12000 | C8: 2000 | D8: 2000 | E8: 2100 | F8: 1100 | G8: 1000 | H8: 2000 | I8: =SUM(C8:H8) -> 10200
A9: Asignación de Estimulo Aut Max aplicación art 35 Ley 19.664 | B9: 12000 | C9: 2000 | D9: 2000 | E9: 2100 | F9: 1100 | G9: 1000 | H9: 2000 | I9: =SUM(C9:H9) -> 10200
A10: Capacitación y perfeccionamiento. Leyes N° 18.575. 15. 076 y 19.664 | B10: 12000 | C10: 2000 | D10: 2000 | E10: 2100 | F10: 1100 | G10: 1000 | H10: 2000 | I10: =SUM(C10:H10) -> 10200
A11: Gastos en publicidad y difusión | B11: 6000 | C11: 2000 | D11: 2000 | E11: 2100 | F11: 11 | G11: 11 | H11: 11 | I11: =SUM(C11:H11) -> 6133
A12: Totales | B12: =SUM(B2:B11) -> 114000 | C12: =SUM(C2:C11) -> 20000 | D12: =SUM(D2:D11) -> 20000 | E12: =SUM(E2:E11) -> 21000 | F12: =SUM(F2:F11) -> 7872 | G12: =SUM(G2:G11) -> 7172 | H12: =SUM(H2:H11) -> 14172 | I12: =SUM(I2:I11) -> 90216
A15: HOSPITAL DE LA SERENA

Sheet T15
A1: Ítem Presupuestario | B1: Presupuesto Vigente 2018 | C1: 1° Trimestre | D1: 2° Trimestre | E1: 3° Trimestre | F1: Octubre | G1: Noviembre | H1: Diciembre | I1: Acumulado 2018
A2: Horas Extraordinarias | B2: 12000 | C2: 2000 | D2: 2000 | E2: 2100 | F2: 1100 | G2: 1000 | H2: 2000 | I2: =SUM(C2:H2) -> 10200
A3: Asignación de Turno, establecida en el artículo 94 del DFL N° 1, (S), de 2005 | B3: 12000 | C3: 2000 | D3: 2000 | E3: 2100 | F3: 1100 | G3: 1000 | H3: 2000 | I3: =SUM(C3:H3) -> 10200
A4: Bonificación Compensatoria de la Asignación de Turno, establecida en el Artículo 13° T Ley N° 19.937 | B4: 12000 | C4: 2000 | D4: 2000 | E4: 2100 | F4: 1100 | G4: 1000 | H4: 2000 | I4: =SUM(C4:H4) -> 10200
A5: Autorización Máxima para gastos en Viáticos, en territorio Nacional | B5: 12000 | C5: 2000 | D5: 2000 | E5: 2100 | F5: 1100 | G5: 1000 | H5: 2000 | I5: =SUM(C5:H5) -> 10200
A6: Convenios con personas naturales | B6: 12000 | C6: 2000 | D6: 2000 | E6: 2100 | F6: 110 | G6: 110 | H6: 110 | I6: =SUM(C6:H6) -> 6430
A7: Asignación por Funciones Críticas | B7: 12000 | C7: 2000 | D7: 2000 | E7: 2100 | F7: 51 | G7: 51 | H7: 51 | I7: =SUM(C7:H7) -> 6253
A8: Articulo 98 del DFL N° 1, (S), de 2005, Asignación de Responsabilidad | B8: 12000 | C8: 2000 | D8: 2000 | E8: 2100 | F8: 1100 | G8: 1000 | H8: 2000 | I8: =SUM(C8:H8) -> 10200
A9: Asignación de Estimulo Aut Max aplicación art 35 Ley 19.664 | B9: 12000 | C9: 2000 | D9: 2000 | E9: 2100 | F9: 1100 | G9: 1000 | H9: 2000 | I9: =SUM(C9:H9) -> 10200
A10: Capacitación y perfeccionamiento. Leyes N° 18.575. 15. 076 y 19.664 | B10: 12000 | C10: 2000 | D10: 2000 | E10: 2100 | F10: 1100 | G10: 1000 | H10: 2000 | I10: =SUM(C10:H10) -> 10200
A11: Gastos en publicidad y difusión | B11: 6000 | C11: 2000 | D11: 2000 | E11: 2100 | F11: 11 | G11: 11 | H11: 11 | I11: =SUM(C11:H11) -> 6133
A12: Totales | B12: =SUM(B2:B11) -> 114000 | C12: =SUM(C2:C11) -> 20000 | D12: =SUM(D2:D11) -> 20000 | E12: =SUM(E2:E11) -> 21000 | F12: =SUM(F2:F11) -> 7872 | G12: =SUM(G2:G11) -> 7172 | H12: =SUM(H2:H11) -> 14172 | I12: =SUM(I2:I11) -> 90216
A15: HOSPITAL DE COQUIMBO

Sheet T16
A1: Ítem Presupuestario | B1: Presupuesto Vigente 2018 | C1: 1° Trimestre | D1: 2° Trimestre | E1: 3° Trimestre | F1: Octubre | G1: Noviembre | H1: Diciembre | I1: Acumulado 2018
A2: Horas Extraordinarias | B2: 12000 | C2: 2000 | D2: 2000 | E2: 2100 | F2: 1100 | G2: 1000 | H2: 2000 | I2: =SUM(C2:H2) -> 10200
A3: Asignación de Turno, establecida en el artículo 94 del DFL N° 1, (S), de 2005 | B3: 12000 | C3: 2000 | D3: 2000 | E3: 2100 | F3: 1100 | G3: 1000 | H3: 2000 | I3: =SUM(C3:H3) -> 10200
A4: Bonificación Compensatoria de la Asignación de Turno, establecida en el Artículo 13° T Ley N° 19.937 | B4: 12000 | C4: 2000 | D4: 2000 | E4: 2100 | F4: 1100 | G4: 1000 | H4: 2000 | I4: =SUM(C4:H4) -> 10200
A5: Autorización Máxima para gastos en Viáticos, en territorio Nacional | B5: 12000 | C5: 2000 | D5: 2000 | E5: 2100 | F5: 1100 | G5: 1000 | H5: 2000 | I5: =SUM(C5:H5) -> 10200
A6: Convenios con personas naturales | B6: 12000 | C6: 2000 | D6: 2000 | E6: 2100 | F6: 110 | G6: 110 | H6: 110 | I6: =SUM(C6:H6) -> 6430
A7: Asignación por Funciones Críticas | B7: 12000 | C7: 2000 | D7: 2000 | E7: 2100 | F7: 51 | G7: 51 | H7: 51 | I7: =SUM(C7:H7) -> 6253
A8: Articulo 98 del DFL N° 1, (S), de 2005, Asignación de Responsabilidad | B8: 12000 | C8: 2000 | D8: 2000 | E8: 2100 | F8: 1100 | G8: 1000 | H8: 2000 | I8: =SUM(C8:H8) -> 10200
A9: Asignación de Estimulo Aut Max aplicación art 35 Ley 19.664 | B9: 12000 | C9: 2000 | D9: 2000 | E9: 2100 | F9: 1100 | G9: 1000 | H9: 2000 | I9: =SUM(C9:H9) -> 10200
A10: Capacitación y perfeccionamiento. Leyes N° 18.575. 15. 076 y 19.664 | B10: 12000 | C10: 2000 | D10: 2000 | E10: 2100 | F10: 1100 | G10: 1000 | H10: 2000 | I10: =SUM(C10:H10) -> 10200
A11: Gastos en publicidad y difusión | B11: 6000 | C11: 2000 | D11: 2000 | E11: 2100 | F11: 11 | G11: 11 | H11: 11 | I11: =SUM(C11:H11) -> 6133
A12: Totales | B12: =SUM(B2:B11) -> 114000 | C12: =SUM(C2:C11) -> 20000 | D12: =SUM(D2:D11) -> 20000 | E12: =SUM(E2:E11) -> 21000 | F12: =SUM(F2:F11) -> 7872 | G12: =SUM(G2:G11) -> 7172 | H12: =SUM(H2:H11) -> 14172 | I12: =SUM(I2:I11) -> 90216
A15: HOSPITAL DE OVALLE

Sheet T17
A1: Ítem Presupuestario | B1: Presupuesto Vigente 2018 | C1: 1° Trimestre | D1: 2° Trimestre | E1: 3° Trimestre | F1: Octubre | G1: Noviembre | H1: Diciembre | I1: Acumulado 2018
A2: Horas Extraordinarias | B2: 12000 | C2: 2000 | D2: 2000 | E2: 2100 | F2: 1100 | G2: 1000 | H2: 2000 | I2: =SUM(C2:H2) -> 10200
A3: Asignación de Turno, establecida en el artículo 94 del DFL N° 1, (S), de 2005 | B3: 12000 | C3: 2000 | D3: 2000 | E3: 2100 | F3: 1100 | G3: 1000 | H3: 2000 | I3: =SUM(C3:H3) -> 10200
A4: Bonificación Compensatoria de la Asignación de Turno, establecida en el Artículo 13° T Ley N° 19.937 | B4: 12000 | C4: 2000 | D4: 2000 | E4: 2100 | F4: 1100 | G4: 1000 | H4: 2000 | I4: =SUM(C4:H4) -> 10200
A5: Autorización Máxima para gastos en Viáticos, en territorio Nacional | B5: 12000 | C5: 2000 | D5: 2000 | E5: 2100 | F5: 1100 | G5: 1000 | H5: 2000 | I5: =SUM(C5:H5) -> 10200
A6: Convenios con personas naturales | B6: 12000 | C6: 2000 | D6: 2000 | E6: 2100 | F6: 110 | G6: 110 | H6: 110 | I6: =SUM(C6:H6) -> 6430
A7: Asignación por Funciones Críticas | B7: 12000 | C7: 2000 | D7: 2000 | E7: 2100 | F7: 51 | G7: 51 | H7: 51 | I7: =SUM(C7:H7) -> 6253
A8: Articulo 98 del DFL N° 1, (S), de 2005, Asignación de Responsabilidad | B8: 12000 | C8: 2000 | D8: 2000 | E8: 2100 | F8: 1100 | G8: 1000 | H8: 2000 | I8: =SUM(C8:H8) -> 10200
A9: Asignación de Estimulo Aut Max aplicación art 35 Ley 19.664 | B9: 12000 | C9: 2000 | D9: 2000 | E9: 2100 | F9: 1100 | G9: 1000 | H9: 2000 | I9: =SUM(C9:H9) -> 10200
A10: Capacitación y perfeccionamiento. Leyes N° 18.575. 15. 076 y 19.664 | B10: 12000 | C10: 2000 | D10: 2000 | E10: 2100 | F10: 1100 | G10: 1000 | H10: 2000 | I10: =SUM(C10:H10) -> 10200
A11: Gastos en publicidad y difusión | B11: 6000 | C11: 2000 | D11: 2000 | E11: 2100 | F11: 11 | G11: 11 | H11: 11 | I11: =SUM(C11:H11) -> 6133
A12: Totales | B12: =SUM(B2:B11) -> 114000 | C12: =SUM(C2:C11) -> 20000 | D12: =SUM(D2:D11) -> 20000 | E12: =SUM(E2:E11) -> 21000 | F12: =SUM(F2:F11) -> 7872 | G12: =SUM(G2:G11) -> 7172 | H12: =SUM(H2:H11) -> 14172 | I12: =SUM(I2:I11) -> 90216
A15: HOSPITAL DE ILLAPEL

Sheet 17.1
A1: Ítem Presupuestario | B1: Presupuesto Vigente 2018 | C1: 1° Trimestre | D1: 2° Trimestre | E1: 3° Trimestre | F1: Octubre | G1: Noviembre | H1: Diciembre | I1: Acumulado 2018
A2: Horas Extraordinarias | B2: 12000 | C2: 2000 | D2: 2000 | E2: 2100 | F2: 1100 | G2: 1000 | H2: 2000 | I2: =SUM(C2:H2) -> 10200
A3: Asignación de Turno, establecida en el artículo 94 del DFL N° 1, (S), de 2005 | B3: 12000 | C3: 2000 | D3: 2000 | E3: 2100 | F3: 1100 | G3: 1000 | H3: 2000 | I3: =SUM(C3:H3) -> 10200
A4: Bonificación Compensatoria de la Asignación de Turno, establecida en el Artículo 13° T Ley N° 19.937 | B4: 12000 | C4: 2000 | D4: 2000 | E4: 2100 | F4: 1100 | G4: 1000 | H4: 2000 | I4: =SUM(C4:H4) -> 10200
A5: Autorización Máxima para gastos en Viáticos, en territorio Nacional | B5: 12000 | C5: 2000 | D5: 2000 | E5: 2100 | F5: 1100 | G5: 1000 | H5: 2000 | I5: =SUM(C5:H5) -> 10200
A6: Convenios con personas naturales | B6: 12000 | C6: 2000 | D6: 2000 | E6: 2100 | F6: 110 | G6: 110 | H6: 110 | I6: =SUM(C6:H6) -> 6430
A7: Asignación por Funciones Críticas | B7: 12000 | C7: 2000 | D7: 2000 | E7: 2100 | F7: 51 | G7: 51 | H7: 51 | I7: =SUM(C7:H7) -> 6253
A8: Articulo 98 del DFL N° 1, (S), de 2005, Asignación de Responsabilidad | B8: 12000 | C8: 2000 | D8: 2000 | E8: 2100 | F8: 1100 | G8: 1000 | H8: 2000 | I8: =SUM(C8:H8) -> 10200
A9: Asignación de Estimulo Aut Max aplicación art 35 Ley 19.664 | B9: 12000 | C9: 2000 | D9: 2000 | E9: 2100 | F9: 1100 | G9: 1000 | H9: 2000 | I9: =SUM(C9:H9) -> 10200
A10: Capacitación y perfeccionamiento. Leyes N° 18.575. 15. 076 y 19.664 | B10: 12000 | C10: 2000 | D10: 2000 | E10: 2100 | F10: 1100 | G10: 1000 | H10: 2000 | I10: =SUM(C10:H10) -> 10200
A11: Gastos en publicidad y difusión | B11: 6000 | C11: 2000 | D11: 2000 | E11: 2100 | F11: 11 | G11: 11 | H11: 11 | I11: =SUM(C11:H11) -> 6133
A12: Totales | B12: =SUM(B2:B11) -> 114000 | C12: =SUM(C2:C11) -> 20000 | D12: =SUM(D2:D11) -> 20000 | E12: =SUM(E2:E11) -> 21000 | F12: =SUM(F2:F11) -> 7872 | G12: =SUM(G2:G11) -> 7172 | H12: =SUM(H2:H11) -> 14172 | I12: =SUM(I2:I11) -> 90216
B15: HOSPITAL DE SALAMANCA

Sheet 17.2
A1: Ítem Presupuestario | B1: Presupuesto Vigente 2018 | C1: 1° Trimestre | D1: 2° Trimestre | E1: 3° Trimestre | F1: Octubre | G1: Noviembre | H1: Diciembre | I1: Acumulado 2018
A2: Horas Extraordinarias | B2: 12000 | C2: 2000 | D2: 2000 | E2: 2100 | F2: 1100 | G2: 1000 | H2: 2000 | I2: =SUM(C2:H2) -> 10200
A3: Asignación de Turno, establecida en el artículo 94 del DFL N° 1, (S), de 2005 | B3: 12000 | C3: 2000 | D3: 2000 | E3: 2100 | F3: 1100 | G3: 1000 | H3: 2000 | I3: =SUM(C3:H3) -> 10200
A4: Bonificación Compensatoria de la Asignación de Turno, establecida en el Artículo 13° T Ley N° 19.937 | B4: 12000 | C4: 2000 | D4: 2000 | E4: 2100 | F4: 1100 | G4: 1000 | H4: 2000 | I4: =SUM(C4:H4) -> 10200
A5: Autorización Máxima para gastos en Viáticos, en territorio Nacional | B5: 12000 | C5: 2000 | D5: 2000 | E5: 2100 | F5: 1100 | G5: 1000 | H5: 2000 | I5: =SUM(C5:H5) -> 10200
A6: Convenios con personas naturales | B6: 12000 | C6: 2000 | D6: 2000 | E6: 2100 | F6: 110 | G6: 110 | H6: 110 | I6: =SUM(C6:H6) -> 6430
A7: Asignación por Funciones Críticas | B7: 12000 | C7: 2000 | D7: 2000 | E7: 2100 | F7: 51 | G7: 51 | H7: 51 | I7: =SUM(C7:H7) -> 6253
A8: Articulo 98 del DFL N° 1, (S), de 2005, Asignación de Responsabilidad | B8: 12000 | C8: 2000 | D8: 2000 | E8: 2100 | F8: 1100 | G8: 1000 | H8: 2000 | I8: =SUM(C8:H8) -> 10200
A9: Asignación de Estimulo Aut Max aplicación art 35 Ley 19.664 | B9: 12000 | C9: 2000 | D9: 2000 | E9: 2100 | F9: 1100 | G9: 1000 | H9: 2000 | I9: =SUM(C9:H9) -> 10200
A10: Capacitación y perfeccionamiento. Leyes N° 18.575. 15. 076 y 19.664 | B10: 12000 | C10: 2000 | D10: 2000 | E10: 2100 | F10: 1100 | G10: 1000 | H10: 2000 | I10: =SUM(C10:H10) -> 10200
A11: Gastos en publicidad y difusión | B11: 6000 | C11: 2000 | D11: 2000 | E11: 2100 | F11: 11 | G11: 11 | H11: 11 | I11: =SUM(C11:H11) -> 6133
A12: Totales | B12: =SUM(B2:B11) -> 114000 | C12: =SUM(C2:C11) -> 20000 | D12: =SUM(D2:D11) -> 20000 | E12: =SUM(E2:E11) -> 21000 | F12: =SUM(F2:F11) -> 7872 | G12: =SUM(G2:G11) -> 7172 | H12: =SUM(H2:H11) -> 14172 | I12: =SUM(I2:I11) -> 90216
B16: HOSPITAL DE COMBARBALÁ

Sheet 17.3
A1: Ítem Presupuestario | B1: Presupuesto Vigente 2018 | C1: 1° Trimestre | D1: 2° Trimestre | E1: 3° Trimestre | F1: Octubre | G1: Noviembre | H1: Diciembre | I1: Acumulado 2018
A2: Horas Extraordinarias | B2: 12000 | C2: 2000 | D2: 2000 | E2: 2100 | F2: 1100 | G2: 1000 | H2: 2000 | I2: =SUM(C2:H2) -> 10200
A3: Asignación de Turno, establecida en el artículo 94 del DFL N° 1, (S), de 2005 | B3: 12000 | C3: 2000 | D3: 2000 | E3: 2100 | F3: 1100 | G3: 1000 | H3: 2000 | I3: =SUM(C3:H3) -> 10200
A4: Bonificación Compensatoria de la Asignación de Turno, establecida en el Artículo 13° T Ley N° 19.937 | B4: 12000 | C4: 2000 | D4: 2000 | E4: 2100 | F4: 1100 | G4: 1000 | H4: 2000 | I4: =SUM(C4:H4) -> 10200
A5: Autorización Máxima para gastos en Viáticos, en territorio Nacional | B5: 12000 | C5: 2000 | D5: 2000 | E5: 2100 | F5: 1100 | G5: 1000 | H5: 2000 | I5: =SUM(C5:H5) -> 10200
A6: Convenios con personas naturales | B6: 12000 | C6: 2000 | D6: 2000 | E6: 2100 | F6: 110 | G6: 110 | H6: 110 | I6: =SUM(C6:H6) -> 6430
A7: Asignación por Funciones Críticas | B7: 12000 | C7: 2000 | D7: 2000 | E7: 2100 | F7: 51 | G7: 51 | H7: 51 | I7: =SUM(C7:H7) -> 6253
A8: Articulo 98 del DFL N° 1, (S), de 2005, Asignación de Responsabilidad | B8: 12000 | C8: 2000 | D8: 2000 | E8: 2100 | F8: 1100 | G8: 1000 | H8: 2000 | I8: =SUM(C8:H8) -> 10200
A9: Asignación de Estimulo Aut Max aplicación art 35 Ley 19.664 | B9: 12000 | C9: 2000 | D9: 2000 | E9: 2100 | F9: 1100 | G9: 1000 | H9: 2000 | I9: =SUM(C9:H9) -> 10200
A10: Capacitación y perfeccionamiento. Leyes N° 18.575. 15. 076 y 19.664 | B10: 12000 | C10: 2000 | D10: 2000 | E10: 2100 | F10: 1100 | G10: 1000 | H10: 2000 | I10: =SUM(C10:H10) -> 10200
A11: Gastos en publicidad y difusión | B11: 6000 | C11: 2000 | D11: 2000 | E11: 2100 | F11: 11 | G11: 11 | H11: 11 | I11: =SUM(C11:H11) -> 6133
A12: Totales | B12: =SUM(B2:B11) -> 114000 | C12: =SUM(C2:C11) -> 20000 | D12: =SUM(D2:D11) -> 20000 | E12: =SUM(E2:E11) -> 21000 | F12: =SUM(F2:F11) -> 7872 | G12: =SUM(G2:G11) -> 7172 | H12: =SUM(H2:H11) -> 14172 | I12: =SUM(I2:I11) -> 90216
B15: HOSPITAL DE ANDACOLLO

Sheet 17.4
A1: Ítem Presupuestario | B1: Presupuesto Vigente 2018 | C1: 1° Trimestre | D1: 2° Trimestre | E1: 3° Trimestre | F1: Octubre | G1: Noviembre | H1: Diciembre | I1: Acumulado 2018
A2: Horas Extraordinarias | B2: 12000 | C2: 2000 | D2: 2000 | E2: 2100 | F2: 1100 | G2: 1000 | H2: 2000 | I2: =SUM(C2:H2) -> 10200
A3: Asignación de Turno, establecida en el artículo 94 del DFL N° 1, (S), de 2005 | B3: 12000 | C3: 2000 | D3: 2000 | E3: 2100 | F3: 1100 | G3: 1000 | H3: 2000 | I3: =SUM(C3:H3) -> 10200
A4: Bonificación Compensatoria de la Asignación de Turno, establecida en el Artículo 13° T Ley N° 19.937 | B4: 12000 | C4: 2000 | D4: 2000 | E4: 2100 | F4: 1100 | G4: 1000 | H4: 2000 | I4: =SUM(C4:H4) -> 10200
A5: Autorización Máxima para gastos en Viáticos, en territorio Nacional | B5: 12000 | C5: 2000 | D5: 2000 | E5: 2100 | F5: 1100 | G5: 1000 | H5: 2000 | I5: =SUM(C5:H5) -> 10200
A6: Convenios con personas naturales | B6: 12000 | C6: 2000 | D6: 2000 | E6: 2100 | F6: 110 | G6: 110 | H6: 110 | I6: =SUM(C6:H6) -> 6430
A7: Asignación por Funciones Críticas | B7: 12000 | C7: 2000 | D7: 2000 | E7: 2100 | F7: 51 | G7: 51 | H7: 51 | I7: =SUM(C7:H7) -> 6253
A8: Articulo 98 del DFL N° 1, (S), de 2005, Asignación de Responsabilidad | B8: 12000 | C8: 2000 | D8: 2000 | E8: 2100 | F8: 1100 | G8: 1000 | H8: 2000 | I8: =SUM(C8:H8) -> 10200
A9: Asignación de Estimulo Aut Max aplicación art 35 Ley 19.664 | B9: 12000 | C9: 2000 | D9: 2000 | E9: 2100 | F9: 1100 | G9: 1000 | H9: 2000 | I9: =SUM(C9:H9) -> 10200
A10: Capacitación y perfeccionamiento. Leyes N° 18.575. 15. 076 y 19.664 | B10: 12000 | C10: 2000 | D10: 2000 | E10: 2100 | F10: 1100 | G10: 1000 | H10: 2000 | I10: =SUM(C10:H10) -> 10200
A11: Gastos en publicidad y difusión | B11: 6000 | C11: 2000 | D11: 2000 | E11: 2100 | F11: 11 | G11: 11 | H11: 11 | I11: =SUM(C11:H11) -> 6133
A12: Totales | B12: =SUM(B2:B11) -> 114000 | C12: =SUM(C2:C11) -> 20000 | D12: =SUM(D2:D11) -> 20000 | E12: =SUM(E2:E11) -> 21000 | F12: =SUM(F2:F11) -> 7872 | G12: =SUM(G2:G11) -> 7172 | H12: =SUM(H2:H11) -> 14172 | I12: =SUM(I2:I11) -> 90216
B15: HOSPITAL DE VICUÑA

Sheet 17.5
A1: Ítem Presupuestario | B1: Presupuesto Vigente 2018 | C1: 1° Trimestre | D1: 2° Trimestre | E1: 3° Trimestre | F1: Octubre | G1: Noviembre | H1: Diciembre | I1: Acumulado 2018
A2: Horas Extraordinarias | B2: 12000 | C2: 2000 | D2: 2000 | E2: 2100 | F2: 1100 | G2: 1000 | H2: 2000 | I2: =SUM(C2:H2) -> 10200
A3: Asignación de Turno, establecida en el artículo 94 del DFL N° 1, (S), de 2005 | B3: 12000 | C3: 2000 | D3: 2000 | E3: 2100 | F3: 1100 | G3: 1000 | H3: 2000 | I3: =SUM(C3:H3) -> 10200
A4: Bonificación Compensatoria de la Asignación de Turno, establecida en el Artículo 13° T Ley N° 19.937 | B4: 12000 | C4: 2000 | D4: 2000 | E4: 2100 | F4: 1100 | G4: 1000 | H4: 2000 | I4: =SUM(C4:H4) -> 10200
A5: Autorización Máxima para gastos en Viáticos, en territorio Nacional | B5: 12000 | C5: 2000 | D5: 2000 | E5: 2100 | F5: 1100 | G5: 1000 | H5: 2000 | I5: =SUM(C5:H5) -> 10200
A6: Convenios con personas naturales | B6: 12000 | C6: 2000 | D6: 2000 | E6: 2100 | F6: 110 | G6: 110 | H6: 110 | I6: =SUM(C6:H6) -> 6430
A7: Asignación por Funciones Críticas | B7: 12000 | C7: 2000 | D7: 2000 | E7: 2100 | F7: 51 | G7: 51 | H7: 51 | I7: =SUM(C7:H7) -> 6253
A8: Articulo 98 del DFL N° 1, (S), de 2005, Asignación de Responsabilidad | B8: 12000 | C8: 2000 | D8: 2000 | E8: 2100 | F8: 1100 | G8: 1000 | H8: 2000 | I8: =SUM(C8:H8) -> 10200
A9: Asignación de Estimulo Aut Max aplicación art 35 Ley 19.664 | B9: 12000 | C9: 2000 | D9: 2000 | E9: 2100 | F9: 1100 | G9: 1000 | H9: 2000 | I9: =SUM(C9:H9) -> 10200
A10: Capacitación y perfeccionamiento. Leyes N° 18.575. 15. 076 y 19.664 | B10: 12000 | C10: 2000 | D10: 2000 | E10: 2100 | F10: 1100 | G10: 1000 | H10: 2000 | I10: =SUM(C10:H10) -> 10200
A11: Gastos en publicidad y difusión | B11: 6000 | C11: 2000 | D11: 2000 | E11: 2100 | F11: 11 | G11: 11 | H11: 11 | I11: =SUM(C11:H11) -> 6133
A12: Totales | B12: =SUM(B2:B11) -> 114000 | C12: =SUM(C2:C11) -> 20000 | D12: =SUM(D2:D11) -> 20000 | E12: =SUM(E2:E11) -> 21000 | F12: =SUM(F2:F11) -> 7872 | G12: =SUM(G2:G11) -> 7172 | H12: =SUM(H2:H11) -> 14172 | I12: =SUM(I2:I11) -> 90216
B15: HOSPITAL LOS VILOS

Sheet T18_
A1: Porcentaje de Licitaciones Tipo L1/ Institución | B1: Enero a Diciembre 2017 | C1: Enero a Diciembre 2018 | D1: Tasa de Variación (%)
A2: Dirección del Servicio | B2: =ROUND(T18__datos!D3,4) -> 0.84 | C2: =ROUND(T18__datos!D17,4) -> 0.8333 | D2: =ROUND((Tabla159101112131415[[#This Row],[Enero a Diciembre 2018]]-Tabla159101112131415[[#This Row],[Enero a Diciembre 2017]])/Tabla159101112131415[[#This Row],[Enero a Diciembre 2017]],4) -> -0.008
A3: Hospital La Serena | B3: =T18__datos!D4 -> 0.9167 | C3: =T18__datos!D18 -> 0.9286 | D3: =ROUND((Tabla159101112131415[[#This Row],[Enero a Diciembre 2018]]-Tabla159101112131415[[#This Row],[Enero a Diciembre 2017]])/Tabla159101112131415[[#This Row],[Enero a Diciembre 2017]],4) -> 0.013
A4: Hospital Coquimbo | B4: =T18__datos!D5 -> 0.4167 | C4: =T18__datos!D19 -> 0.3571 | D4: =ROUND((Tabla159101112131415[[#This Row],[Enero a Diciembre 2018]]-Tabla159101112131415[[#This Row],[Enero a Diciembre 2017]])/Tabla159101112131415[[#This Row],[Enero a Diciembre 2017]],4) -> -0.143
A5: Hospital Ovalle | B5: =T18__datos!D6 -> 0.85 | C5: =T18__datos!D20 -> 0.6 | D5: =ROUND((Tabla159101112131415[[#This Row],[Enero a Diciembre 2018]]-Tabla159101112131415[[#This Row],[Enero a Diciembre 2017]])/Tabla159101112131415[[#This Row],[Enero a Diciembre 2017]],4) -> -0.2941
A6: Hospital Illapel | B6: =T18__datos!D7 -> 0.5714 | C6: =T18__datos!D21 -> 0.5714 | D6: =ROUND((Tabla159101112131415[[#This Row],[Enero a Diciembre 2018]]-Tabla159101112131415[[#This Row],[Enero a Diciembre 2017]])/Tabla159101112131415[[#This Row],[Enero a Diciembre 2017]],4) -> 0
A7: Hospital Salamanca | B7: =T18__datos!D8 -> 0.2 | C7: =T18__datos!D22 -> 0.1667 | D7: =ROUND((Tabla159101112131415[[#This Row],[Enero a Diciembre 2018]]-Tabla159101112131415[[#This Row],[Enero a Diciembre 2017]])/Tabla159101112131415[[#This Row],[Enero a Diciembre 2017]],4) -> -0.1665
A8: Hospital Combarbalá | B8: =T18__datos!D9 -> 0.4286 | C8: =T18__datos!D23 -> 0.1 | D8: =ROUND((Tabla159101112131415[[#This Row],[Enero a Diciembre 2018]]-Tabla159101112131415[[#This Row],[Enero a Diciembre 2017]])/Tabla159101112131415[[#This Row],[Enero a Diciembre 2017]],4) -> -0.7667
A9: Hospital Andacollo | B9: =T18__datos!D10 -> 0.6 | C9: =T18__datos!D24 -> 0.7 | D9: =ROUND((Tabla159101112131415[[#This Row],[Enero a Diciembre 2018]]-Tabla159101112131415[[#This Row],[Enero a Diciembre 2017]])/Tabla159101112131415[[#This Row],[Enero a Diciembre 2017]],4) -> 0.1667
A10: Hospital Vicuña | B10: =T18__datos!D11 -> 0.7 | C10: =T18__datos!D25 -> 0.6 | D10: =ROUND((Tabla159101112131415[[#This Row],[Enero a Diciembre 2018]]-Tabla159101112131415[[#This Row],[Enero a Diciembre 2017]])/Tabla159101112131415[[#This Row],[Enero a Diciembre 2017]],4) -> -0.1429
A11: Hospital Los Vilos | B11: =T18__datos!D12 -> 0.3 | C11: =T18__datos!D26 -> 0.3 | D11: =ROUND((Tabla159101112131415[[#This Row],[Enero a Diciembre 2018]]-Tabla159101112131415[[#This Row],[Enero a Diciembre 2017]])/Tabla159101112131415[[#This Row],[Enero a Diciembre 2017]],4) -> 0
A12: Total Servicio | B12: =T18__datos!D13 -> 0.6337 | C12: =T18__datos!D27 -> 0.5721 | D12: =ROUND((Tabla159101112131415[[#This Row],[Enero a Diciembre 2018]]-Tabla159101112131415[[#This Row],[Enero a Diciembre 2017]])/Tabla159101112131415[[#This Row],[Enero a Diciembre 2017]],4) -> -0.0972

Sheet T18__datos
A1: AÑO 2017 PARA T18
A2: Institución | B2: Enero a Diciembre 2017 Licitaciones Tipo L1 | C2: Enero a Diciembre 2017 Total de Licitaciones | D2: Porcentaje de Licitaciones Tipo L1
A3: Dirección del Servicio | B3: 42 | C3: 50 | D3: =ROUND(B3/C3,4) -> 0.84
A4: Hospital La Serena | B4: 11 | C4: 12 | D4: =ROUND(B4/C4,4) -> 0.9167
A5: Hospital Coquimbo | B5: 5 | C5: 12 | D5: =ROUND(B5/C5,4) -> 0.4167
A6: Hospital Ovalle | B6: 17 | C6: 20 | D6: =ROUND(B6/C6,4) -> 0.85
A7: Hospital Illapel | B7: 8 | C7: 14 | D7: =ROUND(B7/C7,4) -> 0.5714
A8: Hospital Salamanca | B8: 4 | C8: 20 | D8: =ROUND(B8/C8,4) -> 0.2
A9: Hospital Combarbalá | B9: 6 | C9: 14 | D9: =ROUND(B9/C9,4) -> 0.4286
A10: Hospital Andacollo | B10: 6 | C10: 10 | D10: =ROUND(B10/C10,4) -> 0.6
A11: Hospital Vicuña | B11: 7 | C11: 10 | D11: =ROUND(B11/C11,4) -> 0.7
A12: Hospital Los Vilos | B12: 3 | C12: 10 | D12: =ROUND(B12/C12,4) -> 0.3
A13: Total Servicio | B13: =SUBTOTAL(109,B3:B12) -> 109 | C13: =SUBTOTAL(109,C3:C12) -> 172 | D13: =ROUND(B13/C13,4) -> 0.6337
A15: AÑO 2018 PARA T18
A16: Institución | B16: Enero a Diciembre 2018 Licitaciones Tipo L1 | C16: Enero a Diciembre 2018 Total de Licitaciones | D16: Porcentaje de Licitaciones Tipo L1
A17: Dirección del Servicio | B17: 50 | C17: 60 | D17: =ROUND(B17/C17,4) -> 0.8333
A18: Hospital La Serena | B18: 13 | C18: 14 | D18: =ROUND(B18/C18,4) -> 0.9286
A19: Hospital Coquimbo | B19: 5 | C19: 14 | D19: =ROUND(B19/C19,4) -> 0.3571
A20: Hospital Ovalle | B20: 15 | C20: 25 | D20: =ROUND(B20/C20,4) -> 0.6
A21: Hospital Illapel | B21: 8 | C21: 14 | D21: =ROUND(B21/C21,4) -> 0.5714
A22: Hospital Salamanca | B22: 4 | C22: 24 | D22: =ROUND(B22/C22,4) -> 0.1667
A23: Hospital Combarbalá | B23: 1 | C23: 10 | D23: =ROUND(B23/C23,4) -> 0.1
A24: Hospital Andacollo | B24: 7 | C24: 10 | D24: =ROUND(B24/C24,4) -> 0.7
A25: Hospital Vicuña | B25: 6 | C25: 10 | D25: =ROUND(B25/C25,4) -> 0.6
A26: Hospital Los Vilos | B26: 6 | C26: 20 | D26: =ROUND(B26/C26,4) -> 0.3
A27: Total Servicio | B27: =SUBTOTAL(109,B17:B26) -> 115 | C27: =SUBTOTAL(109,C17:C26) -> 201 | D27: =ROUND(B27/C27,4) -> 0.5721

Sheet T19_
A1: Porcentaje de Órdenes de Compra vía Trato Directo/ Institución | B1: Enero a Diciembre 2017 | C1: Enero a Diciembre 2018 | D1: Tasa de Variación (%)
A2: Dirección del Servicio | B2: =ROUND(T19__datos!D3,4) -> 0.06 | C2: =ROUND(T19__datos!D17,4) -> 0.0555 | D2: =ROUND((Tabla15910111213141516[[#This Row],[Enero a Diciembre 2018]]-Tabla15910111213141516[[#This Row],[Enero a Diciembre 2017]])/Tabla15910111213141516[[#This Row],[Enero a Diciembre 2017]],4) -> -0.075
A3: Hospital La Serena | B3: =ROUND(T19__datos!D4,4) -> 0.0267 | C3: =ROUND(T19__datos!D18,4) -> 0.0364 | D3: =ROUND((Tabla15910111213141516[[#This Row],[Enero a Diciembre 2018]]-Tabla15910111213141516[[#This Row],[Enero a Diciembre 2017]])/Tabla15910111213141516[[#This Row],[Enero a Diciembre 2017]],4) -> 0.3633
A4: Hospital Coquimbo | B4: =ROUND(T19__datos!D5,4) -> 0.1291 | C4: =ROUND(T19__datos!D19,4) -> 0.1058 | D4: =ROUND((Tabla15910111213141516[[#This Row],[Enero a Diciembre 2018]]-Tabla15910111213141516[[#This Row],[Enero a Diciembre 2017]])/Tabla15910111213141516[[#This Row],[Enero a Diciembre 2017]],4) -> -0.1805
A5: Hospital Ovalle | B5: =ROUND(T19__datos!D6,4) -> 0.3621 | C5: =ROUND(T19__datos!D20,4) -> 0.347 | D5: =ROUND((Tabla15910111213141516[[#This Row],[Enero a Diciembre 2018]]-Tabla15910111213141516[[#This Row],[Enero a Diciembre 2017]])/Tabla15910111213141516[[#This Row],[Enero a Diciembre 2017]],4) -> -0.0417
A6: Hospital Illapel | B6: =ROUND(T19__datos!D7,4) -> 0.2796 | C6: =ROUND(T19__datos!D21,4) -> 0.2411 | D6: =ROUND((Tabla15910111213141516[[#This Row],[Enero a Diciembre 2018]]-Tabla15910111213141516[[#This Row],[Enero a Diciembre 2017]])/Tabla15910111213141516[[#This Row],[Enero a Diciembre 2017]],4) -> -0.1377
A7: Hospital Salamanca | B7: =ROUND(T19__datos!D8,4) -> 0.2169 | C7: =ROUND(T19__datos!D22,4) -> 0.2186 | D7: =ROUND((Tabla15910111213141516[[#This Row],[Enero a Diciembre 2018]]-Tabla15910111213141516[[#This Row],[Enero a Diciembre 2017]])/Tabla15910111213141516[[#This Row],[Enero a Diciembre 2017]],4) -> 0.0078
A8: Hospital Combarbalá | B8: =ROUND(T19__datos!D9,4) -> 0.1725 | C8: =ROUND(T19__datos!D23,4) -> 0.2133 | D8: =ROUND((Tabla15910111213141516[[#This Row],[Enero a Diciembre 2018]]-Tabla15910111213141516[[#This Row],[Enero a Diciembre 2017]])/Tabla15910111213141516[[#This Row],[Enero a Diciembre 2017]],4) -> 0.2365
A9: Hospital Andacollo | B9: =ROUND(T19__datos!D10,4) -> 0.1602 | C9: =ROUND(T19__datos!D24,4) -> 0.1208 | D9: =ROUND((Tabla15910111213141516[[#This Row],[Enero a Diciembre 2018]]-Tabla15910111213141516[[#This Row],[Enero a Diciembre 2017]])/Tabla15910111213141516[[#This Row],[Enero a Diciembre 2017]],4) -> -0.2459
A10: Hospital Vicuña | B10: =ROUND(T19__datos!D11,4) -> 0.136 | C10: =ROUND(T19__datos!D25,4) -> 0.2073 | D10: =ROUND((Tabla15910111213141516[[#This Row],[Enero a Diciembre 2018]]-Tabla15910111213141516[[#This Row],[Enero a Diciembre 2017]])/Tabla15910111213141516[[#This Row],[Enero a Diciembre 2017]],4) -> 0.5243
A11: Hospital Los Vilos | B11: =ROUND(T19__datos!D12,4) -> 0.1012 | C11: =ROUND(T19__datos!D26,4) -> 0.0886 | D11: =ROUND((Tabla15910111213141516[[#This Row],[Enero a Diciembre 2018]]-Tabla15910111213141516[[#This Row],[Enero a Diciembre 2017]])/Tabla15910111213141516[[#This Row],[Enero a Diciembre 2017]],4) -> -0.1245
A12: Total Servicio | B12: =ROUND(T19__datos!D13,4) -> 0.1692 | C12: =ROUND(T19__datos!D27,4) -> 0.1681 | D12: =ROUND((Tabla15910111213141516[[#This Row],[Enero a Diciembre 2018]]-Tabla15910111213141516[[#This Row],[Enero a Diciembre 2017]])/Tabla15910111213141516[[#This Row],[Enero a Diciembre 2017]],4) -> -0.0065

Sheet T19__datos
A1: AÑO 2017 PARA T19
A2: Institución | B2: Enero a Diciembre 2017 OC Trato Directo | C2: Enero a Diciembre 2017 Total de OC | D2: Porcentaje de Órdenes de Compra vía Trato Directo | G2: OC = Órdenes de Compra
A3: Dirección del Servicio | B3: 57 | C3: 950 | D3: =ROUND(B3/C3,4) -> 0.06
A4: Hospital La Serena | B4: 26 | C4: 975 | D4: =ROUND(B4/C4,4) -> 0.0267
A5: Hospital Coquimbo | B5: 133 | C5: 1030 | D5: =ROUND(B5/C5,4) -> 0.1291
A6: Hospital Ovalle | B6: 449 | C6: 1240 | D6: =ROUND(B6/C6,4) -> 0.3621
A7: Hospital Illapel | B7: 625 | C7: 2235 | D7: =ROUND(B7/C7,4) -> 0.2796
A8: Hospital Salamanca | B8: 282 | C8: 1300 | D8: =ROUND(B8/C8,4) -> 0.2169
A9: Hospital Combarbalá | B9: 326 | C9: 1890 | D9: =ROUND(B9/C9,4) -> 0.1725
A10: Hospital Andacollo | B10: 173 | C10: 1080 | D10: =ROUND(B10/C10,4) -> 0.1602
A11: Hospital Vicuña | B11: 340 | C11: 2500 | D11: =ROUND(B11/C11,4) -> 0.136
A12: Hospital Los Vilos | B12: 263 | C12: 2600 | D12: =ROUND(B12/C12,4) -> 0.1012
A13: Total Servicio | B13: =SUBTOTAL(109,B3:B12) -> 2674 | C13: =SUBTOTAL(109,C3:C12) -> 15800 | D13: =ROUND(B13/C13,4) -> 0.1692
A15: AÑO 2018 PARA T19
A16: Institución | B16: Enero a Diciembre 2018 OC Trato Directo | C16: Enero a Diciembre 2018 Total de OC | D16: Porcentaje de Órdenes de Compra vía Trato Directo
A17: Dirección del Servicio | B17: 53 | C17: 955 | D17: =ROUND(B17/C17,4) -> 0.0555
A18: Hospital La Serena | B18: 40 | C18: 1100 | D18: =ROUND(B18/C18,4) -> 0.0364
A19: Hospital Coquimbo | B19: 127 | C19: 1200 | D19: =ROUND(B19/C19,4) -> 0.1058
A20: Hospital Ovalle | B20: 347 | C20: 1000 | D20: =ROUND(B20/C20,4) -> 0.347
A21: Hospital Illapel | B21: 487 | C21: 2020 | D21: =ROUND(B21/C21,4) -> 0.2411
A22: Hospital Salamanca | B22: 317 | C22: 1450 | D22: =ROUND(B22/C22,4) -> 0.2186
A23: Hospital Combarbalá | B23: 384 | C23: 1800 | D23: =ROUND(B23/C23,4) -> 0.2133
A24: Hospital Andacollo | B24: 122 | C24: 1010 | D24: =ROUND(B24/C24,4) -> 0.1208
A25: Hospital Vicuña | B25: 508 | C25: 2450 | D25: =ROUND(B25/C25,4) -> 0.2073
A26: Hospital Los Vilos | B26: 226 | C26: 2550 | D26: =ROUND(B26/C26,4) -> 0.0886
A27: Total Servicio | B27: =SUBTOTAL(109,B17:B26) -> 2611 | C27: =SUBTOTAL(109,C17:C26) -> 15535 | D27: =ROUND(B27/C27,4) -> 0.1681

Sheet T20
A1: Ingresos Propios/ Institución | B1: Enero a Diciembre 2017 (M$) | C1: Enero a Diciembre 2018 (M$) | D1: Tasa de Variación (%)
A2: Dirección del Servicio | B2: 867.759 | C2: 918.07 | D2: =ROUND((Tabla1591011121314151617[[#This Row],[Enero a Diciembre 2018 (M$)]]-Tabla1591011121314151617[[#This Row],[Enero a Diciembre 2017 (M$)]])/Tabla1591011121314151617[[#This Row],[Enero a Diciembre 2017 (M$)]],4) -> 0.058
A3: Hospital La Serena | B3: 791.162 | C3: 578.434 | D3: =ROUND((Tabla1591011121314151617[[#This Row],[Enero a Diciembre 2018 (M$)]]-Tabla1591011121314151617[[#This Row],[Enero a Diciembre 2017 (M$)]])/Tabla1591011121314151617[[#This Row],[Enero a Diciembre 2017 (M$)]],4) -> -0.2689
A4: Hospital Coquimbo | B4: 952.94 | C4: 1027.097 | D4: =ROUND((Tabla1591011121314151617[[#This Row],[Enero a Diciembre 2018 (M$)]]-Tabla1591011121314151617[[#This Row],[Enero a Diciembre 2017 (M$)]])/Tabla1591011121314151617[[#This Row],[Enero a Diciembre 2017 (M$)]],4) -> 0.0778
A5: Hospital Ovalle | B5: 1053.341 | C5: 1247.621 | D5: =ROUND((Tabla1591011121314151617[[#This Row],[Enero a Diciembre 2018 (M$)]]-Tabla1591011121314151617[[#This Row],[Enero a Diciembre 2017 (M$)]])/Tabla1591011121314151617[[#This Row],[Enero a Diciembre 2017 (M$)]],4) -> 0.1844
A6: Hospital Illapel | B6: 2337.537 | C6: 2230.916 | D6: =ROUND((Tabla1591011121314151617[[#This Row],[Enero a Diciembre 2018 (M$)]]-Tabla1591011121314151617[[#This Row],[Enero a Diciembre 2017 (M$)]])/Tabla1591011121314151617[[#This Row],[Enero a Diciembre 2017 (M$)]],4) -> -0.0456
A7: Hospital Salamanca | B7: 1493.435 | C7: 1287.735 | D7: =ROUND((Tabla1591011121314151617[[#This Row],[Enero a Diciembre 2018 (M$)]]-Tabla1591011121314151617[[#This Row],[Enero a Diciembre 2017 (M$)]])/Tabla1591011121314151617[[#This Row],[Enero a Diciembre 2017 (M$)]],4) -> -0.1377
A8: Hospital Combarbalá | B8: 1459.187 | C8: 1866.527 | D8: =ROUND((Tabla1591011121314151617[[#This Row],[Enero a Diciembre 2018 (M$)]]-Tabla1591011121314151617[[#This Row],[Enero a Diciembre 2017 (M$)]])/Tabla1591011121314151617[[#This Row],[Enero a Diciembre 2017 (M$)]],4) -> 0.2792
A9: Hospital Andacollo | B9: 1296.096 | C9: 1088.085 | D9: =ROUND((Tabla1591011121314151617[[#This Row],[Enero a Diciembre 2018 (M$)]]-Tabla1591011121314151617[[#This Row],[Enero a Diciembre 2017 (M$)]])/Tabla1591011121314151617[[#This Row],[Enero a Diciembre 2017 (M$)]],4) -> -0.1605
A10: Hospital Vicuña | B10: 1844.178 | C10: 2527.6 | D10: =ROUND((Tabla1591011121314151617[[#This Row],[Enero a Diciembre 2018 (M$)]]-Tabla1591011121314151617[[#This Row],[Enero a Diciembre 2017 (M$)]])/Tabla1591011121314151617[[#This Row],[Enero a Diciembre 2017 (M$)]],4) -> 0.3706
A11: Hospital Los Vilos | B11: 2809.12 | C11: 3323.151 | D11: =ROUND((Tabla1591011121314151617[[#This Row],[Enero a Diciembre 2018 (M$)]]-Tabla1591011121314151617[[#This Row],[Enero a Diciembre 2017 (M$)]])/Tabla1591011121314151617[[#This Row],[Enero a Diciembre 2017 (M$)]],4) -> 0.183
A12: Total Servicio | B12: =SUBTOTAL(109,B2:B11) -> 14904.755 | C12: =SUBTOTAL(109,C2:C11) -> 16095.236 | D12: =ROUND((Tabla1591011121314151617[[#This Row],[Enero a Diciembre 2018 (M$)]]-Tabla1591011121314151617[[#This Row],[Enero a Diciembre 2017 (M$)]])/Tabla1591011121314151617[[#This Row],[Enero a Diciembre 2017 (M$)]],4) -> 0.0799
