Workbook

Sheet Filtro 
A1: Mes | B1: (Todas)
A2: Establecimiento | B2: (Todas)
A3: Comuna/ Hospital | B3: (Todas)
A5: Etiquetas de fila | B5: Suma de Col01 | C5: Suma de Col02 | D5: Suma de Col03 | E5: Suma de Col04 | F5: Suma de Col05 | G5: Suma de Col06 | H5: Suma de Col07
A6: 18010100 | B6: 72523 | C6: 0 | D6: 72523
A7: 18010200 | B7: 250441 | C7: 0 | D7: 250441
A8: 18010500 | B8: 2766 | C8: 0 | D8: 2766
A9: 18010601 | B9: 17791 | C9: 0 | D9: 17791
A10: 18010800 | B10: 2067 | C10: 0 | D10: 2067
A11: 18010900 | B11: 92743 | C11: 1375 | D11: 91368
A12: 18011001 | B12: 36942 | C12: 33556 | D12: 3386
A13: 18011002 | B13: 1112 | C13: 59 | D13: 1053
A14: 18020200 | B14: 159 | C14: 107 | D14: 52
A15: 18020300 | B15: 16182 | C15: 13111 | D15: 3071
A16: 18020400 | B16: 716 | C16: 0 | D16: 716
A17: 18020500 | B17: 115153 | C17: 24330 | D17: 90823
... A29: 18050500 | B29: 43566 | C29: 1507 | D29: 42059
A30: 18070100 | B30: 396 | C30: 8 | D30: 241 | E30: 80 | F30: 23 | G30: 1 | H30: 43
A31: 18070300 | B31: 1656 | C31: 365 | D31: 557 | E31: 82 | F31: 64 | G31: 325 | H31: 263
A32: 18090000 | B32: 25966 | C32: 681 | D32: 25281
A33: 18090100 | B33: 48571 | C33: 0 | D33: 48571
A34: 18090200 | B34: 7837 | C34: 1642
A35: 18090300 | B35: 20
A36: 18400400 | B36: 237 | C36: 168 | D36: 69
A37: 18400500 | B37: 230 | C37: 0 | D37: 230
A38: 18400700 | B38: 994625
A39: 18400900 | B39: 12456 | C39: 2365 | D39: 10091
A40: 18700100 | B40: 10934 | C40: 3294 | D40: 6078 | E40: 1562 | F40: 0
A41: 18700110 | B41: 122 | C41: 23 | D41: 66 | E41: 33 | F41: 115 | G41: 7 | H41: 115
A42: 18700140 | B42: 40 | D42: 40 | F42: 28 | G42: 16 | H42: 24
A43: 18700190 | B43: 21 | C43: 0 | D43: 21 | E43: 0 | F43: 21 | G43: 5 | H43: 16
A44: 18700230 | B44: 2246 | C44: 348 | D44: 1681 | E44: 217 | F44: 1326 | G44: 361 | H44: 1254
A45: 18700240 | B45: 16 | D45: 16
A46: 18700250 | B46: 581 | D46: 581
A47: 18700260 | B47: 62 | D47: 62
A48: 18700270 | B48: 1169 | D48: 1169
A49: 18700280 | B49: 174 | D49: 174
A50: 18700290 | B50: 273 | D50: 273
A51: 18700300 | B51: 118 | D51: 118
A52: 18700310 | B52: 418 | D52: 418
...

Sheet BM18
B1: SERVICIO DE SALUD
B2: =CONCATENATE("COMUNA: ",[1]NOMBRE!B2," ","( ",[1]NOMBRE!C2,[1]NOMBRE!D2,[1]NOMBRE!E2,[1]NOMBRE!F2,[1]NOMBRE!G2," )") -> COMUNA: ( )
B3: =CONCATENATE("ESTABLECIMIENTO/ESTRATEGIA: ",[1]NOMBRE!B3," ","( ",[1]NOMBRE!C3,[1]NOMBRE!D3,[1]NOMBRE!E3,[1]NOMBRE!F3,[1]NOMBRE!G3,[1]NOMBRE!H3," )") -> ESTABLECIMIENTO/ESTRATEGIA: ( )
B4: =CONCATENATE("MES: ",[1]NOMBRE!B6," ","( ",[1]NOMBRE!C6,[1]NOMBRE!D6," )") -> MES: ( )
B5: =CONCATENATE("AÑO: ",[1]NOMBRE!B7) -> AÑO: 2023
B8: REM-B18. ACTIVIDADES DE APOYO DIAGNOSTICO Y TERAPEUTICO (USO EXCLUSIVO DE ESTABLECIMIENTOS MUNICIPALES)
B10: SECCIÓN A: EXÁMENES DE DIAGNOSTICO
B11: EXÁMENES | E11: TOTAL | F11: SAPU/SAR/SUR | G11: Resto Establecimientos APS
F12: Total | G12: Total
B13: TOTAL EXÁMENES LABORATORIO | E13: =SUM(F13:G13) -> 486902 | F13: =SUM(F14:F16,F18:F19,F24:F25) -> 1375 | G13: =SUM(G14:G16,G18:G19,G24:G25) -> 485527 | H13: Linea
A14: 18010100 | B14: I | C14: HEMATOLÓGICOS | E14: =IFERROR(VLOOKUP($A14,'Filtro '!$A$5:$H$347,2,FALSE),0) -> 72523 | F14: =IFERROR(VLOOKUP($A14,'Filtro '!$A$5:$H$347,3,FALSE),0) -> 0 | G14: =IFERROR(VLOOKUP($A14,'Filtro '!$A$5:$H$347,4,FALSE),0) -> 72523 | H14: 14
A15: 18010200 | B15: II | C15: BIOQUÍMICOS | E15: =IFERROR(VLOOKUP($A15,'Filtro '!$A$5:$H$347,2,FALSE),0) -> 250441 | F15: =IFERROR(VLOOKUP($A15,'Filtro '!$A$5:$H$347,3,FALSE),0) -> 0 | G15: =IFERROR(VLOOKUP($A15,'Filtro '!$A$5:$H$347,4,FALSE),0) -> 250441 | H15: 15
A16: 18090100 | B16: III | C16: HORMONALES | E16: =IFERROR(VLOOKUP($A16,'Filtro '!$A$5:$H$347,2,FALSE),0) -> 48571 | F16: =IFERROR(VLOOKUP($A16,'Filtro '!$A$5:$H$347,3,FALSE),0) -> 0 | G16: =IFERROR(VLOOKUP($A16,'Filtro '!$A$5:$H$347,4,FALSE),0) -> 48571 | H16: 16
B17: IV | C17: GENÉTICA | H17: 17
A18: 18010500 | B18: V | C18: INMUNOLÓGICOS | E18: =IFERROR(VLOOKUP($A18,'Filtro '!$A$5:$H$347,2,FALSE),0) -> 2766 | F18: =IFERROR(VLOOKUP($A18,'Filtro '!$A$5:$H$347,3,FALSE),0) -> 0 | G18: =IFERROR(VLOOKUP($A18,'Filtro '!$A$5:$H$347,4,FALSE),0) -> 2766 | H18: 18
A19: 18010601 | B19: VI | C19: MICROBIOLÓGICOS | E19: =IFERROR(VLOOKUP($A19,'Filtro '!$A$5:$H$347,2,FALSE),0) -> 17791 | F19: =IFERROR(VLOOKUP($A19,'Filtro '!$A$5:$H$347,3,FALSE),0) -> 0 | G19: =IFERROR(VLOOKUP($A19,'Filtro '!$A$5:$H$347,4,FALSE),0) -> 17791 | H19: 19
C20: a) BACTERIAS Y HONGOS | H20: 20
C21: b) PARÁSITOS | H21: 21
C22: c) VIRUS | H22: 22
B23: VII | C23: PROCEDIMIENTO O DETERMINACIÓN DIRECTA C/PACIENTE | H23: 23
A24: 18010800 | B24: VIII | C24: EX. DE DEPOSICIONES EXUDADOS. SECREC. Y OTROS LIQ. | E24: =IFERROR(VLOOKUP($A24,'Filtro '!$A$5:$H$347,2,FALSE),0) -> 2067 | F24: =IFERROR(VLOOKUP($A24,'Filtro '!$A$5:$H$347,3,FALSE),0) -> 0 | G24: =IFERROR(VLOOKUP($A24,'Filtro '!$A$5:$H$347,4,FALSE),0) -> 2067 | H24: 24
A25: 18010900 | B25: IX | C25: ORINA | E25: =IFERROR(VLOOKUP($A25,'Filtro '!$A$5:$H$347,2,FALSE),0) -> 92743 | F25: =IFERROR(VLOOKUP($A25,'Filtro '!$A$5:$H$347,3,FALSE),0) -> 1375 | G25: =IFERROR(VLOOKUP($A25,'Filtro '!$A$5:$H$347,4,FALSE),0) -> 91368 | H25: 25
B26: TOTAL EXÁMENES IMAGENOLOGIA | E26: =SUM(F26:G26) -> 38054 | F26: =SUM(F27+F28+F44) -> 33615 | G26: =SUM(G27+G28) -> 4439 | H26: 26
A27: 18011001 | B27: a) | C27: EX. RADIOLÓGICOS SIMPLES | E27: =IFERROR(VLOOKUP($A27,'Filtro '!$A$5:$H$347,2,FALSE),0) -> 36942 | F27: =IFERROR(VLOOKUP($A27,'Filtro '!$A$5:$H$347,3,FALSE),0) -> 33556 | G27: =IFERROR(VLOOKUP($A27,'Filtro '!$A$5:$H$347,4,FALSE),0) -> 3386 | H27: 27
A28: 18011002 | C28: Ecotomografías | E28: =IFERROR(VLOOKUP($A28,'Filtro '!$A$5:$H$347,2,FALSE),0) -> 1112 | F28: =IFERROR(VLOOKUP($A28,'Filtro '!$A$5:$H$347,3,FALSE),0) -> 59 | G28: =IFERROR(VLOOKUP($A28,'Filtro '!$A$5:$H$347,4,FALSE),0) -> 1053 | H28: 28
A29: 18400500 | C29: Ecotomografías abdominal | E29: =IFERROR(VLOOKUP($A29,'Filtro '!$A$5:$H$347,2,FALSE),0) -> 230 | F29: =IFERROR(VLOOKUP($A29,'Filtro '!$A$5:$H$347,3,FALSE),0) -> 0 | G29: =IFERROR(VLOOKUP($A29,'Filtro '!$A$5:$H$347,4,FALSE),0) -> 230 | H29: 29
A30: 18700240 | C30: Ecografías Obstétrica Primer Trimestre (<11 semanas) | D30: Médico/a | E30: =IFERROR(VLOOKUP($A30,'Filtro '!$A$5:$H$347,2,FALSE),0) -> 16 | G30: =IFERROR(VLOOKUP($A30,'Filtro '!$A$5:$H$347,4,FALSE),0) -> 16 | H30: 30
A31: 18700250 | D31: Matrón/a | E31: =IFERROR(VLOOKUP($A31,'Filtro '!$A$5:$H$347,2,FALSE),0) -> 581 | G31: =IFERROR(VLOOKUP($A31,'Filtro '!$A$5:$H$347,4,FALSE),0) -> 581 | H31: 31
A32: 18700260 | C32: Ecografias Obstétricas Primer Trimestre (11 - 14 semanas) | D32: Médico/a | E32: =IFERROR(VLOOKUP($A32,'Filtro '!$A$5:$H$347,2,FALSE),0) -> 62 | G32: =IFERROR(VLOOKUP($A32,'Filtro '!$A$5:$H$347,4,FALSE),0) -> 62 | H32: 32
A33: 18700270 | D33: Matrón/a | E33: =IFERROR(VLOOKUP($A33,'Filtro '!$A$5:$H$347,2,FALSE),0) -> 1169 | G33: =IFERROR(VLOOKUP($A33,'Filtro '!$A$5:$H$347,4,FALSE),0) -> 1169 | H33: 33
A34: 18700280 | C34: Ecografias Obstétricas Segundo Trimestre (22 - 24 semanas) | D34: Médico/a | E34: =IFERROR(VLOOKUP($A34,'Filtro '!$A$5:$H$347,2,FALSE),0) -> 174 | G34: =IFERROR(VLOOKUP($A34,'Filtro '!$A$5:$H$347,4,FALSE),0) -> 174 | H34: 34
A35: 18700290 | D35: Matrón/a | E35: =IFERROR(VLOOKUP($A35,'Filtro '!$A$5:$H$347,2,FALSE),0) -> 273 | G35: =IFERROR(VLOOKUP($A35,'Filtro '!$A$5:$H$347,4,FALSE),0) -> 273 | H35: 35
A36: 18700300 | C36: Ecografias Obstétricas Tercer Trimestre (30 - 34 semanas) | D36: Médico/a | E36: =IFERROR(VLOOKUP($A36,'Filtro '!$A$5:$H$347,2,FALSE),0) -> 118 | G36: =IFERROR(VLOOKUP($A36,'Filtro '!$A$5:$H$347,4,FALSE),0) -> 118 | H36: 36
A37: 18700310 | D37: Matrón/a | E37: =IFERROR(VLOOKUP($A37,'Filtro '!$A$5:$H$347,2,FALSE),0) -> 418 | G37: =IFERROR(VLOOKUP($A37,'Filtro '!$A$5:$H$347,4,FALSE),0) -> 418 | H37: 37
C38: Total Ecografías Obstétricas por profesional | D38: Médico/a | E38: =IFERROR(VLOOKUP($A38,'Filtro '!$A$5:$H$347,2,FALSE),0) -> 0 | H38: 38
D39: Matrón/a | E39: =IFERROR(VLOOKUP($A39,'Filtro '!$A$5:$H$347,2,FALSE),0) -> 0 | H39: 39
A40: 18700320 | C40: Ecografía de seguimiento DIU (Regulación de la Fertilidad) | D40: Médico/a | E40: =IFERROR(VLOOKUP($A40,'Filtro '!$A$5:$H$347,2,FALSE),0) -> 0 | G40: =IFERROR(VLOOKUP($A40,'Filtro '!$A$5:$H$347,4,FALSE),0) -> 0 | H40: 40
A41: 18700330 | D41: Matrón/a | E41: =IFERROR(VLOOKUP($A41,'Filtro '!$A$5:$H$347,2,FALSE),0) -> 290 | G41: =IFERROR(VLOOKUP($A41,'Filtro '!$A$5:$H$347,4,FALSE),0) -> 290 | H41: 41
A42: 18700340 | C42: Ecografía Transvaginal (control de Climaterio y Ginecológico) | D42: Médico/a | E42: =IFERROR(VLOOKUP($A42,'Filtro '!$A$5:$H$347,2,FALSE),0) -> 172 | G42: =IFERROR(VLOOKUP($A42,'Filtro '!$A$5:$H$347,4,FALSE),0) -> 172 | H42: 42
A43: 18700350 | D43: Matrón/a | E43: =IFERROR(VLOOKUP($A43,'Filtro '!$A$5:$H$347,2,FALSE),0) -> 336 | G43: =IFERROR(VLOOKUP($A43,'Filtro '!$A$5:$H$347,4,FALSE),0) -> 336 | H43: 43
...

Sheet BM18A
B1: SERVICIO DE SALUD
B2: =CONCATENATE("COMUNA: ",[1]NOMBRE!B2," ","( ",[1]NOMBRE!C2,[1]NOMBRE!D2,[1]NOMBRE!E2,[1]NOMBRE!F2,[1]NOMBRE!G2," )") -> COMUNA: ( )
B3: =CONCATENATE("ESTABLECIMIENTO/ESTRATEGIA: ",[1]NOMBRE!B3," ","( ",[1]NOMBRE!C3,[1]NOMBRE!D3,[1]NOMBRE!E3,[1]NOMBRE!F3,[1]NOMBRE!G3,[1]NOMBRE!H3," )") -> ESTABLECIMIENTO/ESTRATEGIA: ( )
B4: =CONCATENATE("MES: ",[1]NOMBRE!B6," ","( ",[1]NOMBRE!C6,[1]NOMBRE!D6," )") -> MES: ( )
B5: =CONCATENATE("AÑO: ",[1]NOMBRE!B7) -> AÑO: 2023
B7: REM-18A - LIBRO DE PRESTACIONES DE APOYO DIAGNOSTICO y TERAPÉUTICO (USO EXCLUSIVO DE ESTABLECIMIENTOS MUNICIPALES)
B9: SECCIÓN A: EXÁMENES DE DIAGNOSTICO
B10: CÓDIGOS | C10: EXÁMENES | D10: TOTAL | E10: SAPU/SAR/SUR | F10: Resto Establecimientos APS | G10: Compra de Servicios
B12: SANGRE HEMATOLOGÍA | H12: Línea
A13: 80301001 | B13: 0301001 | C13: Acidificación del suero, test de Ham | D13: =IFERROR(VLOOKUP($A13,'Filtro '!$A$5:$H$347,2,FALSE),0) -> 0 | E13: =IFERROR(VLOOKUP($A13,'Filtro '!$A$5:$H$347,3,FALSE),0) -> 0 | F13: =IFERROR(VLOOKUP($A13,'Filtro '!$A$5:$H$347,4,FALSE),0) -> 0 | G13: =IFERROR(VLOOKUP($A13,'Filtro '!$A$5:$H$347,5,FALSE),0) -> 0 | H13: 13
A14: 80301002 | B14: 0301002 | C14: Acido fólico o folatos | D14: =IFERROR(VLOOKUP($A14,'Filtro '!$A$5:$H$347,2,FALSE),0) -> 0 | E14: =IFERROR(VLOOKUP($A14,'Filtro '!$A$5:$H$347,3,FALSE),0) -> 0 | F14: =IFERROR(VLOOKUP($A14,'Filtro '!$A$5:$H$347,4,FALSE),0) -> 0 | G14: =IFERROR(VLOOKUP($A14,'Filtro '!$A$5:$H$347,5,FALSE),0) -> 24 | H14: 14
A15: 80301003 | B15: 0301003 | C15: Adenograma, esplenograma, mielograma c/u | D15: =IFERROR(VLOOKUP($A15,'Filtro '!$A$5:$H$347,2,FALSE),0) -> 0 | E15: =IFERROR(VLOOKUP($A15,'Filtro '!$A$5:$H$347,3,FALSE),0) -> 0 | F15: =IFERROR(VLOOKUP($A15,'Filtro '!$A$5:$H$347,4,FALSE),0) -> 0 | G15: =IFERROR(VLOOKUP($A15,'Filtro '!$A$5:$H$347,5,FALSE),0) -> 0 | H15: 15
A16: 80301004 | B16: 0301004 | C16: Adhesividad plaquetaria | D16: =IFERROR(VLOOKUP($A16,'Filtro '!$A$5:$H$347,2,FALSE),0) -> 0 | E16: =IFERROR(VLOOKUP($A16,'Filtro '!$A$5:$H$347,3,FALSE),0) -> 0 | F16: =IFERROR(VLOOKUP($A16,'Filtro '!$A$5:$H$347,4,FALSE),0) -> 0 | G16: =IFERROR(VLOOKUP($A16,'Filtro '!$A$5:$H$347,5,FALSE),0) -> 0 | H16: 16
A17: 80301005 | B17: 0301005 | C17: Aglutininas anti Rho | D17: =IFERROR(VLOOKUP($A17,'Filtro '!$A$5:$H$347,2,FALSE),0) -> 0 | E17: =IFERROR(VLOOKUP($A17,'Filtro '!$A$5:$H$347,3,FALSE),0) -> 0 | F17: =IFERROR(VLOOKUP($A17,'Filtro '!$A$5:$H$347,4,FALSE),0) -> 0 | G17: =IFERROR(VLOOKUP($A17,'Filtro '!$A$5:$H$347,5,FALSE),0) -> 0 | H17: 17
A18: 80301006 | B18: 0301006 | C18: Agregación plaquetaria | D18: =IFERROR(VLOOKUP($A18,'Filtro '!$A$5:$H$347,2,FALSE),0) -> 0 | E18: =IFERROR(VLOOKUP($A18,'Filtro '!$A$5:$H$347,3,FALSE),0) -> 0 | F18: =IFERROR(VLOOKUP($A18,'Filtro '!$A$5:$H$347,4,FALSE),0) -> 0 | G18: =IFERROR(VLOOKUP($A18,'Filtro '!$A$5:$H$347,5,FALSE),0) -> 0 | H18: 18
A19: 80301007 | B19: 0301007 | C19: Anticoagulantes circulantes o anticoagulante lúpico | D19: =IFERROR(VLOOKUP($A19,'Filtro '!$A$5:$H$347,2,FALSE),0) -> 0 | E19: =IFERROR(VLOOKUP($A19,'Filtro '!$A$5:$H$347,3,FALSE),0) -> 0 | F19: =IFERROR(VLOOKUP($A19,'Filtro '!$A$5:$H$347,4,FALSE),0) -> 0 | G19: =IFERROR(VLOOKUP($A19,'Filtro '!$A$5:$H$347,5,FALSE),0) -> 0 | H19: 19
A20: 80301008 | B20: 0301008 | C20: Antitrombina III | D20: =IFERROR(VLOOKUP($A20,'Filtro '!$A$5:$H$347,2,FALSE),0) -> 0 | E20: =IFERROR(VLOOKUP($A20,'Filtro '!$A$5:$H$347,3,FALSE),0) -> 0 | F20: =IFERROR(VLOOKUP($A20,'Filtro '!$A$5:$H$347,4,FALSE),0) -> 0 | G20: =IFERROR(VLOOKUP($A20,'Filtro '!$A$5:$H$347,5,FALSE),0) -> 0 | H20: 20
A21: 80301009 | B21: 0301009 | C21: Auto-hemólisis test, con y sin glucosa | D21: =IFERROR(VLOOKUP($A21,'Filtro '!$A$5:$H$347,2,FALSE),0) -> 0 | E21: =IFERROR(VLOOKUP($A21,'Filtro '!$A$5:$H$347,3,FALSE),0) -> 0 | F21: =IFERROR(VLOOKUP($A21,'Filtro '!$A$5:$H$347,4,FALSE),0) -> 0 | G21: =IFERROR(VLOOKUP($A21,'Filtro '!$A$5:$H$347,5,FALSE),0) -> 0 | H21: 21
A22: 80301010 | B22: 0301010 | C22: Células del lupus, cada muestra | D22: =IFERROR(VLOOKUP($A22,'Filtro '!$A$5:$H$347,2,FALSE),0) -> 0 | E22: =IFERROR(VLOOKUP($A22,'Filtro '!$A$5:$H$347,3,FALSE),0) -> 0 | F22: =IFERROR(VLOOKUP($A22,'Filtro '!$A$5:$H$347,4,FALSE),0) -> 0 | G22: =IFERROR(VLOOKUP($A22,'Filtro '!$A$5:$H$347,5,FALSE),0) -> 0 | H22: 22
A23: 80301011 | B23: 0301011 | C23: Coagulación, tiempo de | D23: =IFERROR(VLOOKUP($A23,'Filtro '!$A$5:$H$347,2,FALSE),0) -> 0 | E23: =IFERROR(VLOOKUP($A23,'Filtro '!$A$5:$H$347,3,FALSE),0) -> 0 | F23: =IFERROR(VLOOKUP($A23,'Filtro '!$A$5:$H$347,4,FALSE),0) -> 0 | G23: =IFERROR(VLOOKUP($A23,'Filtro '!$A$5:$H$347,5,FALSE),0) -> 196 | H23: 23
A24: 80301012 | B24: 0301012 | C24: Coágulo, tiempo de retracción del | D24: =IFERROR(VLOOKUP($A24,'Filtro '!$A$5:$H$347,2,FALSE),0) -> 0 | E24: =IFERROR(VLOOKUP($A24,'Filtro '!$A$5:$H$347,3,FALSE),0) -> 0 | F24: =IFERROR(VLOOKUP($A24,'Filtro '!$A$5:$H$347,4,FALSE),0) -> 0 | G24: =IFERROR(VLOOKUP($A24,'Filtro '!$A$5:$H$347,5,FALSE),0) -> 0 | H24: 24
... A97: 80301093 | B97: 0301093 | C97: Resistencia Proteína C | D97: =IFERROR(VLOOKUP($A97,'Filtro '!$A$5:$H$347,2,FALSE),0) -> 0 | E97: =IFERROR(VLOOKUP($A97,'Filtro '!$A$5:$H$347,3,FALSE),0) -> 0 | F97: =IFERROR(VLOOKUP($A97,'Filtro '!$A$5:$H$347,4,FALSE),0) -> 0 | G97: =IFERROR(VLOOKUP($A97,'Filtro '!$A$5:$H$347,5,FALSE),0) -> 0 | H97: 97
B98: TOTAL | D98: =SUM(D13:D97) -> 72523 | E98: =SUM(E13:E97) -> 0 | F98: =SUM(F13:F97) -> 72523 | G98: =SUM(G13:G97) -> 193931 | H98: 98
H99: 99
B100: SANGRE BIOQUÍMICO | H100: 100
A101: 80302001 | B101: 0302001 | C101: Acetona cualitativa | D101: =IFERROR(VLOOKUP($A101,'Filtro '!$A$5:$H$347,2,FALSE),0) -> 0 | E101: =IFERROR(VLOOKUP($A101,'Filtro '!$A$5:$H$347,3,FALSE),0) -> 0 | F101: =IFERROR(VLOOKUP($A101,'Filtro '!$A$5:$H$347,4,FALSE),0) -> 0 | G101: =IFERROR(VLOOKUP($A101,'Filtro '!$A$5:$H$347,5,FALSE),0) -> 0 | H101: 101
A102: 80302002 | B102: 0302002 | C102: Acido cítrico | D102: =IFERROR(VLOOKUP($A102,'Filtro '!$A$5:$H$347,2,FALSE),0) -> 0 | E102: =IFERROR(VLOOKUP($A102,'Filtro '!$A$5:$H$347,3,FALSE),0) -> 0 | F102: =IFERROR(VLOOKUP($A102,'Filtro '!$A$5:$H$347,4,FALSE),0) -> 0 | G102: =IFERROR(VLOOKUP($A102,'Filtro '!$A$5:$H$347,5,FALSE),0) -> 0 | H102: 102
A103: 80302004 | B103: 0302004 | C103: Acido láctico | D103: =IFERROR(VLOOKUP($A103,'Filtro '!$A$5:$H$347,2,FALSE),0) -> 0 | E103: =IFERROR(VLOOKUP($A103,'Filtro '!$A$5:$H$347,3,FALSE),0) -> 0 | F103: =IFERROR(VLOOKUP($A103,'Filtro '!$A$5:$H$347,4,FALSE),0) -> 0 | G103: =IFERROR(VLOOKUP($A103,'Filtro '!$A$5:$H$347,5,FALSE),0) -> 0 | H103: 103
A104: 80302005 | B104: 0302005 | C104: Acido úrico, en sangre | D104: =IFERROR(VLOOKUP($A104,'Filtro '!$A$5:$H$347,2,FALSE),0) -> 21993 | E104: =IFERROR(VLOOKUP($A104,'Filtro '!$A$5:$H$347,3,FALSE),0) -> 0 | F104: =IFERROR(VLOOKUP($A104,'Filtro '!$A$5:$H$347,4,FALSE),0) -> 21993 | G104: =IFERROR(VLOOKUP($A104,'Filtro '!$A$5:$H$347,5,FALSE),0) -> 39345 | H104: 104
A105: 80302006 | B105: 0302006 | C105: Alcohol etílico | D105: =IFERROR(VLOOKUP($A105,'Filtro '!$A$5:$H$347,2,FALSE),0) -> 0 | E105: =IFERROR(VLOOKUP($A105,'Filtro '!$A$5:$H$347,3,FALSE),0) -> 0 | F105: =IFERROR(VLOOKUP($A105,'Filtro '!$A$5:$H$347,4,FALSE),0) -> 0 | G105: =IFERROR(VLOOKUP($A105,'Filtro '!$A$5:$H$347,5,FALSE),0) -> 0 | H105: 105
A106: 80302007 | B106: 0302007 | C106: Aldolasa | D106: =IFERROR(VLOOKUP($A106,'Filtro '!$A$5:$H$347,2,FALSE),0) -> 0 | E106: =IFERROR(VLOOKUP($A106,'Filtro '!$A$5:$H$347,3,FALSE),0) -> 0 | F106: =IFERROR(VLOOKUP($A106,'Filtro '!$A$5:$H$347,4,FALSE),0) -> 0 | G106: =IFERROR(VLOOKUP($A106,'Filtro '!$A$5:$H$347,5,FALSE),0) -> 0 | H106: 106
A107: 80302008 | B107: 0302008 | C107: Amilasa, en sangre | D107: =IFERROR(VLOOKUP($A107,'Filtro '!$A$5:$H$347,2,FALSE),0) -> 0 | E107: =IFERROR(VLOOKUP($A107,'Filtro '!$A$5:$H$347,3,FALSE),0) -> 0 | F107: =IFERROR(VLOOKUP($A107,'Filtro '!$A$5:$H$347,4,FALSE),0) -> 0 | G107: =IFERROR(VLOOKUP($A107,'Filtro '!$A$5:$H$347,5,FALSE),0) -> 76 | H107: 107
A108: 80302009 | B108: 0302009 | C108: Aminoácidos, cualitativo en sangre | D108: =IFERROR(VLOOKUP($A108,'Filtro '!$A$5:$H$347,2,FALSE),0) -> 0 | E108: =IFERROR(VLOOKUP($A108,'Filtro '!$A$5:$H$347,3,FALSE),0) -> 0 | F108: =IFERROR(VLOOKUP($A108,'Filtro '!$A$5:$H$347,4,FALSE),0) -> 0 | G108: =IFERROR(VLOOKUP($A108,'Filtro '!$A$5:$H$347,5,FALSE),0) -> 0 | H108: 108
A109: 80302010 | B109: 0302010 | C109: Amonio | D109: =IFERROR(VLOOKUP($A109,'Filtro '!$A$5:$H$347,2,FALSE),0) -> 0 | E109: =IFERROR(VLOOKUP($A109,'Filtro '!$A$5:$H$347,3,FALSE),0) -> 0 | F109: =IFERROR(VLOOKUP($A109,'Filtro '!$A$5:$H$347,4,FALSE),0) -> 0 | G109: =IFERROR(VLOOKUP($A109,'Filtro '!$A$5:$H$347,5,FALSE),0) -> 0 | H109: 109
A110: 80302070 | B110: 0302070 | C110: Apolipoproteínas (A1, B u otras) | D110: =IFERROR(VLOOKUP($A110,'Filtro '!$A$5:$H$347,2,FALSE),0) -> 0 | E110: =IFERROR(VLOOKUP($A110,'Filtro '!$A$5:$H$347,3,FALSE),0) -> 0 | F110: =IFERROR(VLOOKUP($A110,'Filtro '!$A$5:$H$347,4,FALSE),0) -> 0 | G110: =IFERROR(VLOOKUP($A110,'Filtro '!$A$5:$H$347,5,FALSE),0) -> 0 | H110: 110
A111: 80302011 | B111: 0302011 | C111: Bicarbonato (proc. aut.) | D111: =IFERROR(VLOOKUP($A111,'Filtro '!$A$5:$H$347,2,FALSE),0) -> 0 | E111: =IFERROR(VLOOKUP($A111,'Filtro '!$A$5:$H$347,3,FALSE),0) -> 0 | F111: =IFERROR(VLOOKUP($A111,'Filtro '!$A$5:$H$347,4,FALSE),0) -> 0 | G111: =IFERROR(VLOOKUP($A111,'Filtro '!$A$5:$H$347,5,FALSE),0) -> 0 | H111: 111
A112: 80302012 | B112: 0302012 | C112: Bilirrubina total (proc. aut.) | D112: =IFERROR(VLOOKUP($A112,'Filtro '!$A$5:$H$347,2,FALSE),0) -> 173 | E112: =IFERROR(VLOOKUP($A112,'Filtro '!$A$5:$H$347,3,FALSE),0) -> 0 | F112: =IFERROR(VLOOKUP($A112,'Filtro '!$A$5:$H$347,4,FALSE),0) -> 173 | G112: =IFERROR(VLOOKUP($A112,'Filtro '!$A$5:$H$347,5,FALSE),0) -> 691 | H112: 112
... A169: 80302066 | B169: 0302066 | C169: Xilosa, prueba de absorción (no incluye la xilosa que se administra) | D169: =IFERROR(VLOOKUP($A169,'Filtro '!$A$5:$H$347,2,FALSE),0) -> 0 | E169: =IFERROR(VLOOKUP($A169,'Filtro '!$A$5:$H$347,3,FALSE),0) -> 0 | F169: =IFERROR(VLOOKUP($A169,'Filtro '!$A$5:$H$347,4,FALSE),0) -> 0 | G169: =IFERROR(VLOOKUP($A169,'Filtro '!$A$5:$H$347,5,FALSE),0) -> 0 | H169: 169
B170: TOTAL | D170: =SUM(D101:D169) -> 250441 | E170: =SUM(E101:E169) -> 0 | F170: =SUM(F101:F169) -> 250441 | G170: =SUM(G101:G169) -> 627947 | H170: 170
H171: 171
...
