Workbook

Sheet Indicador 10.1
A1: MINISTERIO DE SALUD
A2: SERVICIO DE SALUD COQUIMBO
A3: DEPARTAMENTO DE GESTIÓN, PLANIFICACIÓN Y CONTROL
A4: SUBDEPTO. DE ESTADÍSTICAS Y GESTIÓN DE LA INFORMACIÓN
A5: AÑO 2022
B8: COMUNA | C8: INDICADOR 10.1
C9: Porcentaje de cumplimiento de las acciones para el fortalecimiento del programa Más Adultos Mayores Autovalentes en el periodo.
C10: Numerador A) | D10: Denominador A) | E10: Indicador | F10: Numerador B) | G10: Denominador B) | H10: Indicador
C11: Número de organizaciones sociales ingresadas al Programa Más AM Autovalentes entre los meses de enero y diciembre que cuentan con Líderes Comunitarios capacitados por el Programa en Autocuidado y Estimulación Funcional en el periodo. | D11: Número total de organizaciones sociales ingresadas al programa Más AM Autovalentes en el periodo. | E11: Total | F11: Número de Servicios Locales que cuentan con Planes Intersectoriales para el fomento del Envejecimiento Activo y Positivo en el periodo. | G11: Número total de Servicios Locales en el periodo | H11: Total
B12: 04101-LA SERENA | C12: =IFERROR(VLOOKUP($B12,'IND 10.1_'!$H$3:$I$49,2,FALSE),0) -> 112 | D12: =IFERROR(VLOOKUP($B12,'IND 10.1_'!$H$113:$I$167,2,FALSE),0) -> 135 | E12: =IFERROR(C12/D12,0) -> 0.82962963 | F12: =IFERROR(VLOOKUP($B12,'IND 10.1_'!$H$271:$I$315,2,FALSE),0) -> 7 | G12: =IFERROR(VLOOKUP($B12,'IND 10.1_'!$H$343:$I$389,2,FALSE),0) -> 11 | H12: =IFERROR(F12/G12,0) -> 0.63636364
B13: 04104-LA HIGUERA | C13: =IFERROR(VLOOKUP($B13,'IND 10.1_'!$H$3:$I$49,2,FALSE),0) -> 54 | D13: =IFERROR(VLOOKUP($B13,'IND 10.1_'!$H$113:$I$167,2,FALSE),0) -> 70 | E13: =IFERROR(C13/D13,0) -> 0.77142857 | F13: =IFERROR(VLOOKUP($B13,'IND 10.1_'!$H$271:$I$315,2,FALSE),0) -> 36 | G13: =IFERROR(VLOOKUP($B13,'IND 10.1_'!$H$343:$I$389,2,FALSE),0) -> 37 | H13: =IFERROR(F13/G13,0) -> 0.97297297
B14: 04102-COQUIMBO | C14: =IFERROR(VLOOKUP($B14,'IND 10.1_'!$H$3:$I$49,2,FALSE),0) -> 68 | D14: =IFERROR(VLOOKUP($B14,'IND 10.1_'!$H$113:$I$167,2,FALSE),0) -> 84 | E14: =IFERROR(C14/D14,0) -> 0.80952381 | F14: =IFERROR(VLOOKUP($B14,'IND 10.1_'!$H$271:$I$315,2,FALSE),0) -> 8 | G14: =IFERROR(VLOOKUP($B14,'IND 10.1_'!$H$343:$I$389,2,FALSE),0) -> 14 | H14: =IFERROR(F14/G14,0) -> 0.57142857
B15: 04106-VICUÑA | C15: =IFERROR(VLOOKUP($B15,'IND 10.1_'!$H$3:$I$49,2,FALSE),0) -> 0 | D15: =IFERROR(VLOOKUP($B15,'IND 10.1_'!$H$113:$I$167,2,FALSE),0) -> 0 | E15: =IFERROR(C15/D15,0) -> 0 | F15: =IFERROR(VLOOKUP($B15,'IND 10.1_'!$H$271:$I$315,2,FALSE),0) -> 0 | G15: =IFERROR(VLOOKUP($B15,'IND 10.1_'!$H$343:$I$389,2,FALSE),0) -> 0 | H15: =IFERROR(F15/G15,0) -> 0
B16: 04105-PAIHUANO | C16: =IFERROR(VLOOKUP($B16,'IND 10.1_'!$H$3:$I$49,2,FALSE),0) -> 0 | D16: =IFERROR(VLOOKUP($B16,'IND 10.1_'!$H$113:$I$167,2,FALSE),0) -> 0 | E16: =IFERROR(C16/D16,0) -> 0 | F16: =IFERROR(VLOOKUP($B16,'IND 10.1_'!$H$271:$I$315,2,FALSE),0) -> 0 | G16: =IFERROR(VLOOKUP($B16,'IND 10.1_'!$H$343:$I$389,2,FALSE),0) -> 0 | H16: =IFERROR(F16/G16,0) -> 0
B17: 04301-OVALLE | C17: =IFERROR(VLOOKUP($B17,'IND 10.1_'!$H$3:$I$49,2,FALSE),0) -> 42 | D17: =IFERROR(VLOOKUP($B17,'IND 10.1_'!$H$113:$I$167,2,FALSE),0) -> 43 | E17: =IFERROR(C17/D17,0) -> 0.97674419 | F17: =IFERROR(VLOOKUP($B17,'IND 10.1_'!$H$271:$I$315,2,FALSE),0) -> 19 | G17: =IFERROR(VLOOKUP($B17,'IND 10.1_'!$H$343:$I$389,2,FALSE),0) -> 27 | H17: =IFERROR(F17/G17,0) -> 0.7037037
B18: 04305-RIO HURTADO | C18: =IFERROR(VLOOKUP($B18,'IND 10.1_'!$H$3:$I$49,2,FALSE),0) -> 24 | D18: =IFERROR(VLOOKUP($B18,'IND 10.1_'!$H$113:$I$167,2,FALSE),0) -> 24 | E18: =IFERROR(C18/D18,0) -> 1 | F18: =IFERROR(VLOOKUP($B18,'IND 10.1_'!$H$271:$I$315,2,FALSE),0) -> 6 | G18: =IFERROR(VLOOKUP($B18,'IND 10.1_'!$H$343:$I$389,2,FALSE),0) -> 10 | H18: =IFERROR(F18/G18,0) -> 0.6
B19: 04303-MONTE PATRIA | C19: =IFERROR(VLOOKUP($B19,'IND 10.1_'!$H$3:$I$49,2,FALSE),0) -> 20 | D19: =IFERROR(VLOOKUP($B19,'IND 10.1_'!$H$113:$I$167,2,FALSE),0) -> 26 | E19: =IFERROR(C19/D19,0) -> 0.76923077 | F19: =IFERROR(VLOOKUP($B19,'IND 10.1_'!$H$271:$I$315,2,FALSE),0) -> 14 | G19: =IFERROR(VLOOKUP($B19,'IND 10.1_'!$H$343:$I$389,2,FALSE),0) -> 31 | H19: =IFERROR(F19/G19,0) -> 0.4516129
B20: 04304-PUNITAQUI | C20: =IFERROR(VLOOKUP($B20,'IND 10.1_'!$H$3:$I$49,2,FALSE),0) -> 45 | D20: =IFERROR(VLOOKUP($B20,'IND 10.1_'!$H$113:$I$167,2,FALSE),0) -> 26 | E20: =IFERROR(C20/D20,0) -> 1.7307692 | F20: =IFERROR(VLOOKUP($B20,'IND 10.1_'!$H$271:$I$315,2,FALSE),0) -> 11 | G20: =IFERROR(VLOOKUP($B20,'IND 10.1_'!$H$343:$I$389,2,FALSE),0) -> 9 | H20: =IFERROR(F20/G20,0) -> 1.2222222
B21: 04302-COMBARBALÁ | C21: =IFERROR(VLOOKUP($B21,'IND 10.1_'!$H$3:$I$49,2,FALSE),0) -> 17 | D21: =IFERROR(VLOOKUP($B21,'IND 10.1_'!$H$113:$I$167,2,FALSE),0) -> 77 | E21: =IFERROR(C21/D21,0) -> 0.22077922 | F21: =IFERROR(VLOOKUP($B21,'IND 10.1_'!$H$271:$I$315,2,FALSE),0) -> 47 | G21: =IFERROR(VLOOKUP($B21,'IND 10.1_'!$H$343:$I$389,2,FALSE),0) -> 60 | H21: =IFERROR(F21/G21,0) -> 0.78333333
B22: 04201-ILLAPEL | C22: =IFERROR(VLOOKUP($B22,'IND 10.1_'!$H$3:$I$49,2,FALSE),0) -> 0 | D22: =IFERROR(VLOOKUP($B22,'IND 10.1_'!$H$113:$I$167,2,FALSE),0) -> 0 | E22: =IFERROR(C22/D22,0) -> 0 | F22: =IFERROR(VLOOKUP($B22,'IND 10.1_'!$H$271:$I$315,2,FALSE),0) -> 0 | G22: =IFERROR(VLOOKUP($B22,'IND 10.1_'!$H$343:$I$389,2,FALSE),0) -> 0 | H22: =IFERROR(F22/G22,0) -> 0
B23: 04204-SALAMANCA | C23: =IFERROR(VLOOKUP($B23,'IND 10.1_'!$H$3:$I$49,2,FALSE),0) -> 8 | D23: =IFERROR(VLOOKUP($B23,'IND 10.1_'!$H$113:$I$167,2,FALSE),0) -> 8 | E23: =IFERROR(C23/D23,0) -> 1 | F23: =IFERROR(VLOOKUP($B23,'IND 10.1_'!$H$271:$I$315,2,FALSE),0) -> 17 | G23: =IFERROR(VLOOKUP($B23,'IND 10.1_'!$H$343:$I$389,2,FALSE),0) -> 11 | H23: =IFERROR(F23/G23,0) -> 1.5454545
... B25: 04202-CANELA | C25: =IFERROR(VLOOKUP($B25,'IND 10.1_'!$H$3:$I$49,2,FALSE),0) -> 19 | D25: =IFERROR(VLOOKUP($B25,'IND 10.1_'!$H$113:$I$167,2,FALSE),0) -> 44 | E25: =IFERROR(C25/D25,0) -> 0.43181818 | F25: =IFERROR(VLOOKUP($B25,'IND 10.1_'!$H$271:$I$315,2,FALSE),0) -> 7 | G25: =IFERROR(VLOOKUP($B25,'IND 10.1_'!$H$343:$I$389,2,FALSE),0) -> 8 | H25: =IFERROR(F25/G25,0) -> 0.875
B26: HOSPITAL
B27: 105104-HOSPITAL SALAMANCA | C27: =IFERROR(VLOOKUP($B27,'IND 10.1_'!$H$3:$I$49,2,FALSE),0) -> 0 | D27: =IFERROR(VLOOKUP($B27,'IND 10.1_'!$H$113:$I$167,2,FALSE),0) -> 0 | E27: =IFERROR(C27/D27,0) -> 0 | F27: =IFERROR(VLOOKUP($B27,'IND 10.1_'!$H$271:$I$315,2,FALSE),0) -> 0 | G27: =IFERROR(VLOOKUP($B27,'IND 10.1_'!$H$343:$I$389,2,FALSE),0) -> 0 | H27: =IFERROR(F27/G27,0) -> 0
B28: 105105-HOSPITAL COMBARBALÁ | C28: =IFERROR(VLOOKUP($B28,'IND 10.1_'!$H$3:$I$49,2,FALSE),0) -> 0 | D28: =IFERROR(VLOOKUP($B28,'IND 10.1_'!$H$113:$I$167,2,FALSE),0) -> 0 | E28: =IFERROR(C28/D28,0) -> 0 | F28: =IFERROR(VLOOKUP($B28,'IND 10.1_'!$H$271:$I$315,2,FALSE),0) -> 0 | G28: =IFERROR(VLOOKUP($B28,'IND 10.1_'!$H$343:$I$389,2,FALSE),0) -> 0 | H28: =IFERROR(F28/G28,0) -> 0
B29: 105106-HOSPITAL ANDACOLLO | C29: =IFERROR(VLOOKUP($B29,'IND 10.1_'!$H$3:$I$49,2,FALSE),0) -> 0 | D29: =IFERROR(VLOOKUP($B29,'IND 10.1_'!$H$113:$I$167,2,FALSE),0) -> 0 | E29: =IFERROR(C29/D29,0) -> 0 | F29: =IFERROR(VLOOKUP($B29,'IND 10.1_'!$H$271:$I$315,2,FALSE),0) -> 0 | G29: =IFERROR(VLOOKUP($B29,'IND 10.1_'!$H$343:$I$389,2,FALSE),0) -> 0 | H29: =IFERROR(F29/G29,0) -> 0
B30: 105107-HOSPITAL VICUÑA | C30: =IFERROR(VLOOKUP($B30,'IND 10.1_'!$H$3:$I$49,2,FALSE),0) -> 0 | D30: =IFERROR(VLOOKUP($B30,'IND 10.1_'!$H$113:$I$167,2,FALSE),0) -> 0 | E30: =IFERROR(C30/D30,0) -> 0 | F30: =IFERROR(VLOOKUP($B30,'IND 10.1_'!$H$271:$I$315,2,FALSE),0) -> 0 | G30: =IFERROR(VLOOKUP($B30,'IND 10.1_'!$H$343:$I$389,2,FALSE),0) -> 0 | H30: =IFERROR(F30/G30,0) -> 0
B31: 105108-HOSPITAL LOS VILOS | C31: =IFERROR(VLOOKUP($B31,'IND 10.1_'!$H$3:$I$49,2,FALSE),0) -> 0 | D31: =IFERROR(VLOOKUP($B31,'IND 10.1_'!$H$113:$I$167,2,FALSE),0) -> 0 | E31: =IFERROR(C31/D31,0) -> 0 | F31: =IFERROR(VLOOKUP($B31,'IND 10.1_'!$H$271:$I$315,2,FALSE),0) -> 0 | G31: =IFERROR(VLOOKUP($B31,'IND 10.1_'!$H$343:$I$389,2,FALSE),0) -> 0 | H31: =IFERROR(F31/G31,0) -> 0

Sheet IND 10.1_
A1: NUMERADOR A
A2: Idestablecimiento | B2: Establecimiento | C2: Comuna | D2: Mes | E2: Total
A3: 105300 | B3: =IFERROR(VLOOKUP(A3,[1]Establecimientos!$A$1:$F$174,3,FALSE),0) -> 105300-CES. CARDENAL CARO | C3: =IFERROR(VLOOKUP(A3,[1]Establecimientos!$A$1:$F$174,5,FALSE),0) -> 04101-LA SERENA | D3: 3 | E3: 2 | H3: Etiquetas de fila | I3: Suma de Total
A4: 105300 | B4: =IFERROR(VLOOKUP(A4,[1]Establecimientos!$A$1:$F$174,3,FALSE),0) -> 105300-CES. CARDENAL CARO | C4: =IFERROR(VLOOKUP(A4,[1]Establecimientos!$A$1:$F$174,5,FALSE),0) -> 04101-LA SERENA | D4: 4 | E4: 3 | H4: 04101-LA SERENA | I4: 112
A5: 105300 | B5: =IFERROR(VLOOKUP(A5,[1]Establecimientos!$A$1:$F$174,3,FALSE),0) -> 105300-CES. CARDENAL CARO | C5: =IFERROR(VLOOKUP(A5,[1]Establecimientos!$A$1:$F$174,5,FALSE),0) -> 04101-LA SERENA | D5: 5 | E5: 4 | H5: 105300-CES. CARDENAL CARO | I5: 23
A6: 105300 | B6: =IFERROR(VLOOKUP(A6,[1]Establecimientos!$A$1:$F$174,3,FALSE),0) -> 105300-CES. CARDENAL CARO | C6: =IFERROR(VLOOKUP(A6,[1]Establecimientos!$A$1:$F$174,5,FALSE),0) -> 04101-LA SERENA | D6: 6 | E6: 3 | H6: 105301-CES. LAS COMPAÑIAS | I6: 15
A7: 105300 | B7: =IFERROR(VLOOKUP(A7,[1]Establecimientos!$A$1:$F$174,3,FALSE),0) -> 105300-CES. CARDENAL CARO | C7: =IFERROR(VLOOKUP(A7,[1]Establecimientos!$A$1:$F$174,5,FALSE),0) -> 04101-LA SERENA | D7: 7 | E7: 3 | H7: 105302-CES. PEDRO AGUIRRE C. | I7: 8
A8: 105300 | B8: =IFERROR(VLOOKUP(A8,[1]Establecimientos!$A$1:$F$174,3,FALSE),0) -> 105300-CES. CARDENAL CARO | C8: =IFERROR(VLOOKUP(A8,[1]Establecimientos!$A$1:$F$174,5,FALSE),0) -> 04101-LA SERENA | D8: 8 | E8: 2 | H8: 105313-CES. SCHAFFHAUSER | I8: 18
A9: 105300 | B9: =IFERROR(VLOOKUP(A9,[1]Establecimientos!$A$1:$F$174,3,FALSE),0) -> 105300-CES. CARDENAL CARO | C9: =IFERROR(VLOOKUP(A9,[1]Establecimientos!$A$1:$F$174,5,FALSE),0) -> 04101-LA SERENA | D9: 9 | E9: 2 | H9: 105319-CES. CARDENAL R.S.H. | I9: 17
A10: 105300 | B10: =IFERROR(VLOOKUP(A10,[1]Establecimientos!$A$1:$F$174,3,FALSE),0) -> 105300-CES. CARDENAL CARO | C10: =IFERROR(VLOOKUP(A10,[1]Establecimientos!$A$1:$F$174,5,FALSE),0) -> 04101-LA SERENA | D10: 10 | E10: 2 | H10: 105325-CESFAM JUAN PABLO II | I10: 14
A11: 105300 | B11: =IFERROR(VLOOKUP(A11,[1]Establecimientos!$A$1:$F$174,3,FALSE),0) -> 105300-CES. CARDENAL CARO | C11: =IFERROR(VLOOKUP(A11,[1]Establecimientos!$A$1:$F$174,5,FALSE),0) -> 04101-LA SERENA | D11: 11 | E11: 2 | H11: 105400-P.S.R. ALGARROBITO | I11: 1
A12: 105301 | B12: =IFERROR(VLOOKUP(A12,[1]Establecimientos!$A$1:$F$174,3,FALSE),0) -> 105301-CES. LAS COMPAÑIAS | C12: =IFERROR(VLOOKUP(A12,[1]Establecimientos!$A$1:$F$174,5,FALSE),0) -> 04101-LA SERENA | D12: 6 | E12: 4 | H12: 105401-P.S.R. LAS ROJAS | I12: 4
A13: 105301 | B13: =IFERROR(VLOOKUP(A13,[1]Establecimientos!$A$1:$F$174,3,FALSE),0) -> 105301-CES. LAS COMPAÑIAS | C13: =IFERROR(VLOOKUP(A13,[1]Establecimientos!$A$1:$F$174,5,FALSE),0) -> 04101-LA SERENA | D13: 8 | E13: 4 | H13: 105801-SAPU LAS COMPAÑÍAS | I13: 12
A14: 105301 | B14: =IFERROR(VLOOKUP(A14,[1]Establecimientos!$A$1:$F$174,3,FALSE),0) -> 105301-CES. LAS COMPAÑIAS | C14: =IFERROR(VLOOKUP(A14,[1]Establecimientos!$A$1:$F$174,5,FALSE),0) -> 04101-LA SERENA | D14: 9 | E14: 3 | H14: 04102-COQUIMBO | I14: 68
A15: 105301 | B15: =IFERROR(VLOOKUP(A15,[1]Establecimientos!$A$1:$F$174,3,FALSE),0) -> 105301-CES. LAS COMPAÑIAS | C15: =IFERROR(VLOOKUP(A15,[1]Establecimientos!$A$1:$F$174,5,FALSE),0) -> 04101-LA SERENA | D15: 12 | E15: 4 | H15: 105303-CES. SAN JUAN | I15: 26
... A49: 105309 | B49: =IFERROR(VLOOKUP(A49,[1]Establecimientos!$A$1:$F$174,3,FALSE),0) -> 105309-CES. RURAL CANELA | C49: =IFERROR(VLOOKUP(A49,[1]Establecimientos!$A$1:$F$174,5,FALSE),0) -> 04202-CANELA | D49: 11 | E49: 2 | H49: Total general | I49: 409
A50: 105309 | B50: =IFERROR(VLOOKUP(A50,[1]Establecimientos!$A$1:$F$174,3,FALSE),0) -> 105309-CES. RURAL CANELA | C50: =IFERROR(VLOOKUP(A50,[1]Establecimientos!$A$1:$F$174,5,FALSE),0) -> 04202-CANELA | D50: 12 | E50: 2
A51: 105310 | B51: =IFERROR(VLOOKUP(A51,[1]Establecimientos!$A$1:$F$174,3,FALSE),0) -> 105310-CES. RURAL PICHASCA | C51: =IFERROR(VLOOKUP(A51,[1]Establecimientos!$A$1:$F$174,5,FALSE),0) -> 04305-RIO HURTADO | D51: 8 | E51: 24
A52: 105311 | B52: =IFERROR(VLOOKUP(A52,[1]Establecimientos!$A$1:$F$174,3,FALSE),0) -> 105311-CES. RURAL CHAÑARAL ALTO | C52: =IFERROR(VLOOKUP(A52,[1]Establecimientos!$A$1:$F$174,5,FALSE),0) -> 04303-MONTE PATRIA | D52: 8 | E52: 2
A53: 105313 | B53: =IFERROR(VLOOKUP(A53,[1]Establecimientos!$A$1:$F$174,3,FALSE),0) -> 105313-CES. SCHAFFHAUSER | C53: =IFERROR(VLOOKUP(A53,[1]Establecimientos!$A$1:$F$174,5,FALSE),0) -> 04101-LA SERENA | D53: 3 | E53: 2
A54: 105313 | B54: =IFERROR(VLOOKUP(A54,[1]Establecimientos!$A$1:$F$174,3,FALSE),0) -> 105313-CES. SCHAFFHAUSER | C54: =IFERROR(VLOOKUP(A54,[1]Establecimientos!$A$1:$F$174,5,FALSE),0) -> 04101-LA SERENA | D54: 4 | E54: 2
A55: 105313 | B55: =IFERROR(VLOOKUP(A55,[1]Establecimientos!$A$1:$F$174,3,FALSE),0) -> 105313-CES. SCHAFFHAUSER | C55: =IFERROR(VLOOKUP(A55,[1]Establecimientos!$A$1:$F$174,5,FALSE),0) -> 04101-LA SERENA | D55: 6 | E55: 2
A56: 105313 | B56: =IFERROR(VLOOKUP(A56,[1]Establecimientos!$A$1:$F$174,3,FALSE),0) -> 105313-CES. SCHAFFHAUSER | C56: =IFERROR(VLOOKUP(A56,[1]Establecimientos!$A$1:$F$174,5,FALSE),0) -> 04101-LA SERENA | D56: 7 | E56: 3
A57: 105313 | B57: =IFERROR(VLOOKUP(A57,[1]Establecimientos!$A$1:$F$174,3,FALSE),0) -> 105313-CES. SCHAFFHAUSER | C57: =IFERROR(VLOOKUP(A57,[1]Establecimientos!$A$1:$F$174,5,FALSE),0) -> 04101-LA SERENA | D57: 8 | E57: 4
A58: 105313 | B58: =IFERROR(VLOOKUP(A58,[1]Establecimientos!$A$1:$F$174,3,FALSE),0) -> 105313-CES. SCHAFFHAUSER | C58: =IFERROR(VLOOKUP(A58,[1]Establecimientos!$A$1:$F$174,5,FALSE),0) -> 04101-LA SERENA | D58: 10 | E58: 2
A59: 105313 | B59: =IFERROR(VLOOKUP(A59,[1]Establecimientos!$A$1:$F$174,3,FALSE),0) -> 105313-CES. SCHAFFHAUSER | C59: =IFERROR(VLOOKUP(A59,[1]Establecimientos!$A$1:$F$174,5,FALSE),0) -> 04101-LA SERENA | D59: 11 | E59: 3
A60: 105314 | B60: =IFERROR(VLOOKUP(A60,[1]Establecimientos!$A$1:$F$174,3,FALSE),0) -> 105314-CES. LA HIGUERA | C60: =IFERROR(VLOOKUP(A60,[1]Establecimientos!$A$1:$F$174,5,FALSE),0) -> 04104-LA HIGUERA | D60: 10 | E60: 2
A61: 105314 | B61: =IFERROR(VLOOKUP(A61,[1]Establecimientos!$A$1:$F$174,3,FALSE),0) -> 105314-CES. LA HIGUERA | C61: =IFERROR(VLOOKUP(A61,[1]Establecimientos!$A$1:$F$174,5,FALSE),0) -> 04104-LA HIGUERA | D61: 11 | E61: 1
... A108: 105801 | B108: =IFERROR(VLOOKUP(A108,[1]Establecimientos!$A$1:$F$174,3,FALSE),0) -> 105801-SAPU LAS COMPAÑÍAS | C108: =IFERROR(VLOOKUP(A108,[1]Establecimientos!$A$1:$F$174,5,FALSE),0) -> 04101-LA SERENA | D108: 11 | E108: 4
A110: DENOMINADOR A
A111: Idestablecimiento | B111: Establecimiento | C111: Comuna | D111: Mes | E111: Total
A112: 105300 | B112: =IFERROR(VLOOKUP(A112,[1]Establecimientos!$A$1:$F$174,3,FALSE),0) -> 105300-CES. CARDENAL CARO | C112: =IFERROR(VLOOKUP(A112,[1]Establecimientos!$A$1:$F$174,5,FALSE),0) -> 04101-LA SERENA | D112: 3 | E112: 2
A113: 105300 | B113: =IFERROR(VLOOKUP(A113,[1]Establecimientos!$A$1:$F$174,3,FALSE),0) -> 105300-CES. CARDENAL CARO | C113: =IFERROR(VLOOKUP(A113,[1]Establecimientos!$A$1:$F$174,5,FALSE),0) -> 04101-LA SERENA | D113: 4 | E113: 3 | H113: Etiquetas de fila | I113: Suma de Total
A114: 105300 | B114: =IFERROR(VLOOKUP(A114,[1]Establecimientos!$A$1:$F$174,3,FALSE),0) -> 105300-CES. CARDENAL CARO | C114: =IFERROR(VLOOKUP(A114,[1]Establecimientos!$A$1:$F$174,5,FALSE),0) -> 04101-LA SERENA | D114: 5 | E114: 4 | H114: 04101-LA SERENA | I114: 135
A115: 105300 | B115: =IFERROR(VLOOKUP(A115,[1]Establecimientos!$A$1:$F$174,3,FALSE),0) -> 105300-CES. CARDENAL CARO | C115: =IFERROR(VLOOKUP(A115,[1]Establecimientos!$A$1:$F$174,5,FALSE),0) -> 04101-LA SERENA | D115: 6 | E115: 3 | H115: 105300-CES. CARDENAL CARO | I115: 23
A116: 105300 | B116: =IFERROR(VLOOKUP(A116,[1]Establecimientos!$A$1:$F$174,3,FALSE),0) -> 105300-CES. CARDENAL CARO | C116: =IFERROR(VLOOKUP(A116,[1]Establecimientos!$A$1:$F$174,5,FALSE),0) -> 04101-LA SERENA | D116: 7 | E116: 3 | H116: 105301-CES. LAS COMPAÑIAS | I116: 21
A117: 105300 | B117: =IFERROR(VLOOKUP(A117,[1]Establecimientos!$A$1:$F$174,3,FALSE),0) -> 105300-CES. CARDENAL CARO | C117: =IFERROR(VLOOKUP(A117,[1]Establecimientos!$A$1:$F$174,5,FALSE),0) -> 04101-LA SERENA | D117: 8 | E117: 2 | H117: 105302-CES. PEDRO AGUIRRE C. | I117: 14
A118: 105300 | B118: =IFERROR(VLOOKUP(A118,[1]Establecimientos!$A$1:$F$174,3,FALSE),0) -> 105300-CES. CARDENAL CARO | C118: =IFERROR(VLOOKUP(A118,[1]Establecimientos!$A$1:$F$174,5,FALSE),0) -> 04101-LA SERENA | D118: 9 | E118: 2 | H118: 105313-CES. SCHAFFHAUSER | I118: 18
A119: 105300 | B119: =IFERROR(VLOOKUP(A119,[1]Establecimientos!$A$1:$F$174,3,FALSE),0) -> 105300-CES. CARDENAL CARO | C119: =IFERROR(VLOOKUP(A119,[1]Establecimientos!$A$1:$F$174,5,FALSE),0) -> 04101-LA SERENA | D119: 10 | E119: 2 | H119: 105319-CES. CARDENAL R.S.H. | I119: 18
A120: 105300 | B120: =IFERROR(VLOOKUP(A120,[1]Establecimientos!$A$1:$F$174,3,FALSE),0) -> 105300-CES. CARDENAL CARO | C120: =IFERROR(VLOOKUP(A120,[1]Establecimientos!$A$1:$F$174,5,FALSE),0) -> 04101-LA SERENA | D120: 11 | E120: 2 | H120: 105325-CESFAM JUAN PABLO II | I120: 16
...

Sheet Indicador 10.3
A1: MINISTERIO DE SALUD
A2: SERVICIO DE SALUD COQUIMBO
A3: DEPARTAMENTO DE GESTIÓN, PLANIFICACIÓN Y CONTROL
A4: SUBDEPTO. DE ESTADÍSTICAS Y GESTIÓN DE LA INFORMACIÓN
A5: AÑO 2022
E7: COMUNA | F7: INDICADOR 10.3
F8: Porcentaje de personas con 65 años o más ingresadas a Cuidado Integral, que cuentan con Plan de Cuidado Integral Consensuado en el periodo.
F9: Número de personas de 65 años o más ingresadas a Cuidado Integral centrado en las personas que cuentan con plan de cuidado integral consensuado | G9: N° total de personas de 65 años y más ingresadas a Cuidado Integral centrado en las personas | H9: Total Indicador
E11: 04101-LA SERENA | F11: =IFERROR(VLOOKUP(E11,'IND 10.3_'!$H$3:$I$18,2,FALSE),0) -> 53 | G11: =IFERROR(VLOOKUP(E11,'IND 10.3_'!$H$31:$I$49,2,FALSE),0) -> 52 | H11: =IFERROR(F11/G11,0) -> 1.0192308
E12: 04104-LA HIGUERA | F12: =IFERROR(VLOOKUP(E12,'IND 10.3_'!$H$3:$I$18,2,FALSE),0) -> 0 | G12: =IFERROR(VLOOKUP(E12,'IND 10.3_'!$H$31:$I$49,2,FALSE),0) -> 0 | H12: =IFERROR(F12/G12,0) -> 0
E13: 04102-COQUIMBO | F13: =IFERROR(VLOOKUP(E13,'IND 10.3_'!$H$3:$I$18,2,FALSE),0) -> 196 | G13: =IFERROR(VLOOKUP(E13,'IND 10.3_'!$H$31:$I$49,2,FALSE),0) -> 196 | H13: =IFERROR(F13/G13,0) -> 1
E14: 04106-VICUÑA | F14: =IFERROR(VLOOKUP(E14,'IND 10.3_'!$H$3:$I$18,2,FALSE),0) -> 11 | G14: =IFERROR(VLOOKUP(E14,'IND 10.3_'!$H$31:$I$49,2,FALSE),0) -> 11 | H14: =IFERROR(F14/G14,0) -> 1
E15: 04105-PAIHUANO | F15: =IFERROR(VLOOKUP(E15,'IND 10.3_'!$H$3:$I$18,2,FALSE),0) -> 0 | G15: =IFERROR(VLOOKUP(E15,'IND 10.3_'!$H$31:$I$49,2,FALSE),0) -> 0 | H15: =IFERROR(F15/G15,0) -> 0
E16: 04301-OVALLE | F16: =IFERROR(VLOOKUP(E16,'IND 10.3_'!$H$3:$I$18,2,FALSE),0) -> 6 | G16: =IFERROR(VLOOKUP(E16,'IND 10.3_'!$H$31:$I$49,2,FALSE),0) -> 6 | H16: =IFERROR(F16/G16,0) -> 1
E17: 04305-RIO HURTADO | F17: =IFERROR(VLOOKUP(E17,'IND 10.3_'!$H$3:$I$18,2,FALSE),0) -> 0 | G17: =IFERROR(VLOOKUP(E17,'IND 10.3_'!$H$31:$I$49,2,FALSE),0) -> 0 | H17: =IFERROR(F17/G17,0) -> 0
E18: 04303-MONTE PATRIA | F18: =IFERROR(VLOOKUP(E18,'IND 10.3_'!$H$3:$I$18,2,FALSE),0) -> 0 | G18: =IFERROR(VLOOKUP(E18,'IND 10.3_'!$H$31:$I$49,2,FALSE),0) -> 0 | H18: =IFERROR(F18/G18,0) -> 0
E19: 04304-PUNITAQUI | F19: =IFERROR(VLOOKUP(E19,'IND 10.3_'!$H$3:$I$18,2,FALSE),0) -> 0 | G19: =IFERROR(VLOOKUP(E19,'IND 10.3_'!$H$31:$I$49,2,FALSE),0) -> 0 | H19: =IFERROR(F19/G19,0) -> 0
E20: 04302-COMBARBALÁ | F20: =IFERROR(VLOOKUP(E20,'IND 10.3_'!$H$3:$I$18,2,FALSE),0) -> 0 | G20: =IFERROR(VLOOKUP(E20,'IND 10.3_'!$H$31:$I$49,2,FALSE),0) -> 0 | H20: =IFERROR(F20/G20,0) -> 0
E21: 04201-ILLAPEL | F21: =IFERROR(VLOOKUP(E21,'IND 10.3_'!$H$3:$I$18,2,FALSE),0) -> 0 | G21: =IFERROR(VLOOKUP(E21,'IND 10.3_'!$H$31:$I$49,2,FALSE),0) -> 0 | H21: =IFERROR(F21/G21,0) -> 0
E22: 04204-SALAMANCA | F22: =IFERROR(VLOOKUP(E22,'IND 10.3_'!$H$3:$I$18,2,FALSE),0) -> 0 | G22: =IFERROR(VLOOKUP(E22,'IND 10.3_'!$H$31:$I$49,2,FALSE),0) -> 0 | H22: =IFERROR(F22/G22,0) -> 0
... E24: 04202-CANELA | F24: =IFERROR(VLOOKUP(E24,'IND 10.3_'!$H$3:$I$18,2,FALSE),0) -> 0 | G24: =IFERROR(VLOOKUP(E24,'IND 10.3_'!$H$31:$I$49,2,FALSE),0) -> 0 | H24: =IFERROR(F24/G24,0) -> 0
E25: HOSPITAL
E26: 105104-HOSPITAL SALAMANCA | F26: =IFERROR(VLOOKUP(E26,'IND 10.3_'!$H$3:$I$18,2,FALSE),0) -> 0 | G26: =IFERROR(VLOOKUP(E26,'IND 10.3_'!$H$31:$I$49,2,FALSE),0) -> 0 | H26: =IFERROR(F26/G26,0) -> 0
E27: 105105-HOSPITAL COMBARBALÁ | F27: =IFERROR(VLOOKUP(E27,'IND 10.3_'!$H$3:$I$18,2,FALSE),0) -> 0 | G27: =IFERROR(VLOOKUP(E27,'IND 10.3_'!$H$31:$I$49,2,FALSE),0) -> 0 | H27: =IFERROR(F27/G27,0) -> 0
E28: 105106-HOSPITAL ANDACOLLO | F28: =IFERROR(VLOOKUP(E28,'IND 10.3_'!$H$3:$I$18,2,FALSE),0) -> 0 | G28: =IFERROR(VLOOKUP(E28,'IND 10.3_'!$H$31:$I$49,2,FALSE),0) -> 0 | H28: =IFERROR(F28/G28,0) -> 0
E29: 105107-HOSPITAL VICUÑA | F29: =IFERROR(VLOOKUP(E29,'IND 10.3_'!$H$3:$I$18,2,FALSE),0) -> 0 | G29: =IFERROR(VLOOKUP(E29,'IND 10.3_'!$H$31:$I$49,2,FALSE),0) -> 0 | H29: =IFERROR(F29/G29,0) -> 0
E30: 105108-HOSPITAL LOS VILOS | F30: =IFERROR(VLOOKUP(E30,'IND 10.3_'!$H$3:$I$18,2,FALSE),0) -> 0 | G30: =IFERROR(VLOOKUP(E30,'IND 10.3_'!$H$31:$I$49,2,FALSE),0) -> 122 | H30: =IFERROR(F30/G30,0) -> 0

Sheet IND 10.3_
A1: NUMERADOR
A2: Idestablecimiento | B2: Establecimiento | C2: Comuna | D2: Mes | E2: Total
A3: 105300 | B3: =IFERROR(VLOOKUP(A3,[1]Establecimientos!$A$1:$F$174,3,FALSE),0) -> 105300-CES. CARDENAL CARO | C3: =IFERROR(VLOOKUP(A3,[1]Establecimientos!$A$1:$F$174,5,FALSE),0) -> 04101-LA SERENA | D3: 12 | E3: 5 | H3: Etiquetas de fila | I3: Suma de Total
A4: 105304 | B4: =IFERROR(VLOOKUP(A4,[1]Establecimientos!$A$1:$F$174,3,FALSE),0) -> 105304-CES. SANTA CECILIA | C4: =IFERROR(VLOOKUP(A4,[1]Establecimientos!$A$1:$F$174,5,FALSE),0) -> 04102-COQUIMBO | D4: 12 | E4: 10 | H4: 04101-LA SERENA | I4: 53
A5: 105305 | B5: =IFERROR(VLOOKUP(A5,[1]Establecimientos!$A$1:$F$174,3,FALSE),0) -> 105305-CES. TIERRAS BLANCAS | C5: =IFERROR(VLOOKUP(A5,[1]Establecimientos!$A$1:$F$174,5,FALSE),0) -> 04102-COQUIMBO | D5: 12 | E5: 3 | H5: 105300-CES. CARDENAL CARO | I5: 5
A6: 105323 | B6: =IFERROR(VLOOKUP(A6,[1]Establecimientos!$A$1:$F$174,3,FALSE),0) -> 105323-CES. DR. SERGIO AGUILAR | C6: =IFERROR(VLOOKUP(A6,[1]Establecimientos!$A$1:$F$174,5,FALSE),0) -> 04102-COQUIMBO | D6: 12 | E6: 7 | H6: 105325-CESFAM JUAN PABLO II | I6: 47
A7: 105324 | B7: =IFERROR(VLOOKUP(A7,[1]Establecimientos!$A$1:$F$174,3,FALSE),0) -> 105324-CES. SOTAQUI | C7: =IFERROR(VLOOKUP(A7,[1]Establecimientos!$A$1:$F$174,5,FALSE),0) -> 04301-OVALLE | D7: 12 | E7: 5 | H7: 105701-CECOF VILLA ALEMANIA | I7: 1
A8: 105325 | B8: =IFERROR(VLOOKUP(A8,[1]Establecimientos!$A$1:$F$174,3,FALSE),0) -> 105325-CESFAM JUAN PABLO II | C8: =IFERROR(VLOOKUP(A8,[1]Establecimientos!$A$1:$F$174,5,FALSE),0) -> 04101-LA SERENA | D8: 10 | E8: 13 | H8: 04102-COQUIMBO | I8: 196
A9: 105325 | B9: =IFERROR(VLOOKUP(A9,[1]Establecimientos!$A$1:$F$174,3,FALSE),0) -> 105325-CESFAM JUAN PABLO II | C9: =IFERROR(VLOOKUP(A9,[1]Establecimientos!$A$1:$F$174,5,FALSE),0) -> 04101-LA SERENA | D9: 11 | E9: 17 | H9: 105304-CES. SANTA CECILIA | I9: 10
A10: 105325 | B10: =IFERROR(VLOOKUP(A10,[1]Establecimientos!$A$1:$F$174,3,FALSE),0) -> 105325-CESFAM JUAN PABLO II | C10: =IFERROR(VLOOKUP(A10,[1]Establecimientos!$A$1:$F$174,5,FALSE),0) -> 04101-LA SERENA | D10: 12 | E10: 17 | H10: 105305-CES. TIERRAS BLANCAS | I10: 3
A11: 105701 | B11: =IFERROR(VLOOKUP(A11,[1]Establecimientos!$A$1:$F$174,3,FALSE),0) -> 105701-CECOF VILLA ALEMANIA | C11: =IFERROR(VLOOKUP(A11,[1]Establecimientos!$A$1:$F$174,5,FALSE),0) -> 04101-LA SERENA | D11: 9 | E11: 1 | H11: 105323-CES. DR. SERGIO AGUILAR | I11: 7
A12: 200367 | B12: =IFERROR(VLOOKUP(A12,[1]Establecimientos!$A$1:$F$174,3,FALSE),0) -> 200367-CECOF COLONIA LIMARÍ | C12: =IFERROR(VLOOKUP(A12,[1]Establecimientos!$A$1:$F$174,5,FALSE),0) -> 04301-OVALLE | D12: 11 | E12: 1 | H12: 200499-CESFAM PAN DE AZÚCAR | I12: 176
A13: 200499 | B13: =IFERROR(VLOOKUP(A13,[1]Establecimientos!$A$1:$F$174,3,FALSE),0) -> 200499-CESFAM PAN DE AZÚCAR | C13: =IFERROR(VLOOKUP(A13,[1]Establecimientos!$A$1:$F$174,5,FALSE),0) -> 04102-COQUIMBO | D13: 1 | E13: 176 | H13: 04106-VICUÑA | I13: 11
A14: 200538 | B14: =IFERROR(VLOOKUP(A14,[1]Establecimientos!$A$1:$F$174,3,FALSE),0) -> 200538-CESFAM SAN ISIDRO CALINGASTA | C14: =IFERROR(VLOOKUP(A14,[1]Establecimientos!$A$1:$F$174,5,FALSE),0) -> 04106-VICUÑA | D14: 12 | E14: 11 | H14: 200538-CESFAM SAN ISIDRO CALINGASTA | I14: 11
H15: 04301-OVALLE | I15: 6
H16: 105324-CES. SOTAQUI | I16: 5
H17: 200367-CECOF COLONIA LIMARÍ | I17: 1
H18: Total general | I18: 266
A31: DENOMINADOR | H31: Etiquetas de fila | I31: Suma de Total
A32: Idestablecimiento | B32: Establecimiento | C32: Comuna | D32: Mes | E32: Total | H32: 04101-LA SERENA | I32: 52
A33: 105108 | B33: =IFERROR(VLOOKUP(A33,[1]Establecimientos!$A$1:$F$174,3,FALSE),0) -> 105108-HOSPITAL LOS VILOS | C33: =IFERROR(VLOOKUP(A33,[1]Establecimientos!$A$1:$F$174,5,FALSE),0) -> 105108-HOSPITAL LOS VILOS | D33: 5 | E33: 122 | H33: 105300-CES. CARDENAL CARO | I33: 5
A34: 105300 | B34: =IFERROR(VLOOKUP(A34,[1]Establecimientos!$A$1:$F$174,3,FALSE),0) -> 105300-CES. CARDENAL CARO | C34: =IFERROR(VLOOKUP(A34,[1]Establecimientos!$A$1:$F$174,5,FALSE),0) -> 04101-LA SERENA | D34: 12 | E34: 5 | H34: 105325-CESFAM JUAN PABLO II | I34: 47
A35: 105304 | B35: =IFERROR(VLOOKUP(A35,[1]Establecimientos!$A$1:$F$174,3,FALSE),0) -> 105304-CES. SANTA CECILIA | C35: =IFERROR(VLOOKUP(A35,[1]Establecimientos!$A$1:$F$174,5,FALSE),0) -> 04102-COQUIMBO | D35: 12 | E35: 10 | H35: 04102-COQUIMBO | I35: 196
A36: 105305 | B36: =IFERROR(VLOOKUP(A36,[1]Establecimientos!$A$1:$F$174,3,FALSE),0) -> 105305-CES. TIERRAS BLANCAS | C36: =IFERROR(VLOOKUP(A36,[1]Establecimientos!$A$1:$F$174,5,FALSE),0) -> 04102-COQUIMBO | D36: 12 | E36: 3 | H36: 105304-CES. SANTA CECILIA | I36: 10
A37: 105323 | B37: =IFERROR(VLOOKUP(A37,[1]Establecimientos!$A$1:$F$174,3,FALSE),0) -> 105323-CES. DR. SERGIO AGUILAR | C37: =IFERROR(VLOOKUP(A37,[1]Establecimientos!$A$1:$F$174,5,FALSE),0) -> 04102-COQUIMBO | D37: 12 | E37: 7 | H37: 105305-CES. TIERRAS BLANCAS | I37: 3
A38: 105324 | B38: =IFERROR(VLOOKUP(A38,[1]Establecimientos!$A$1:$F$174,3,FALSE),0) -> 105324-CES. SOTAQUI | C38: =IFERROR(VLOOKUP(A38,[1]Establecimientos!$A$1:$F$174,5,FALSE),0) -> 04301-OVALLE | D38: 12 | E38: 5 | H38: 105323-CES. DR. SERGIO AGUILAR | I38: 7
A39: 105325 | B39: =IFERROR(VLOOKUP(A39,[1]Establecimientos!$A$1:$F$174,3,FALSE),0) -> 105325-CESFAM JUAN PABLO II | C39: =IFERROR(VLOOKUP(A39,[1]Establecimientos!$A$1:$F$174,5,FALSE),0) -> 04101-LA SERENA | D39: 10 | E39: 13 | H39: 200499-CESFAM PAN DE AZÚCAR | I39: 176
A40: 105325 | B40: =IFERROR(VLOOKUP(A40,[1]Establecimientos!$A$1:$F$174,3,FALSE),0) -> 105325-CESFAM JUAN PABLO II | C40: =IFERROR(VLOOKUP(A40,[1]Establecimientos!$A$1:$F$174,5,FALSE),0) -> 04101-LA SERENA | D40: 11 | E40: 17 | H40: 04106-VICUÑA | I40: 11
A41: 105325 | B41: =IFERROR(VLOOKUP(A41,[1]Establecimientos!$A$1:$F$174,3,FALSE),0) -> 105325-CESFAM JUAN PABLO II | C41: =IFERROR(VLOOKUP(A41,[1]Establecimientos!$A$1:$F$174,5,FALSE),0) -> 04101-LA SERENA | D41: 12 | E41: 17 | H41: 200538-CESFAM SAN ISIDRO CALINGASTA | I41: 11
A42: 105481 | B42: =IFERROR(VLOOKUP(A42,[1]Establecimientos!$A$1:$F$174,3,FALSE),0) -> 105481-P.S.R. TILAMA | C42: =IFERROR(VLOOKUP(A42,[1]Establecimientos!$A$1:$F$174,5,FALSE),0) -> 04203-LOS VILOS | D42: 3 | E42: 1 | H42: 04203-LOS VILOS | I42: 1
A43: 200367 | B43: =IFERROR(VLOOKUP(A43,[1]Establecimientos!$A$1:$F$174,3,FALSE),0) -> 200367-CECOF COLONIA LIMARÍ | C43: =IFERROR(VLOOKUP(A43,[1]Establecimientos!$A$1:$F$174,5,FALSE),0) -> 04301-OVALLE | D43: 11 | E43: 1 | H43: 105481-P.S.R. TILAMA | I43: 1
A44: 200499 | B44: =IFERROR(VLOOKUP(A44,[1]Establecimientos!$A$1:$F$174,3,FALSE),0) -> 200499-CESFAM PAN DE AZÚCAR | C44: =IFERROR(VLOOKUP(A44,[1]Establecimientos!$A$1:$F$174,5,FALSE),0) -> 04102-COQUIMBO | D44: 1 | E44: 176 | H44: 04301-OVALLE | I44: 6
A45: 200538 | B45: =IFERROR(VLOOKUP(A45,[1]Establecimientos!$A$1:$F$174,3,FALSE),0) -> 200538-CESFAM SAN ISIDRO CALINGASTA | C45: =IFERROR(VLOOKUP(A45,[1]Establecimientos!$A$1:$F$174,5,FALSE),0) -> 04106-VICUÑA | D45: 11 | E45: 11 | H45: 105324-CES. SOTAQUI | I45: 5
H46: 200367-CECOF COLONIA LIMARÍ | I46: 1
H47: 105108-HOSPITAL LOS VILOS | I47: 122
H48: 105108-HOSPITAL LOS VILOS | I48: 122
H49: Total general | I49: 388

Sheet Indicador 10.4
A1: MINISTERIO DE SALUD
A2: SERVICIO DE SALUD COQUIMBO
A3: DEPARTAMENTO DE GESTIÓN, PLANIFICACIÓN Y CONTROL
A4: SUBDEPTO. DE ESTADÍSTICAS Y GESTIÓN DE LA INFORMACIÓN
A5: AÑO 2022
B8: COMUNA | C8: INDICADOR 10.4
C9: Porcentaje de cumplimiento de las acciones para el fortalecimiento del programa de Atención Domiciliaria en el periodo.
C10: Numerador B) | D10: Denominador B) | E10: Indicador B) | F10: Numerador C) | G10: Denominador C) | H10: Indicador C)
C11: Número de personas bajo control en el programa de atención domiciliaria para personas con dependencia severa que reciben segunda visita domiciliaria integral en el período. | D11: Número de personas bajo control en el programa en el período. | E11: Total | F11: Número de cuidadores del programa de atención domiciliaria para personas con dependencia severa que cuentan con evaluación de sobrecarga en el periodo. | G11: Número de cuidadores del programa de atención domiciliaria para personas con dependencia severa en el período. | H11: Total
B12: 04101-LA SERENA | C12: =IFERROR(VLOOKUP(B12,'IND 10.4_'!$H$3:$I$148,2,FALSE),0) -> 1914 | D12: =IFERROR(VLOOKUP($B12,'IND 10.4_'!$H$1012:$I$1153,2,FALSE),0) -> 2284 | E12: =IFERROR(C12/D12,0) -> 0.8380035 | F12: =IFERROR(VLOOKUP($B12,'IND 10.4_'!$H$1245:$I$1354,2,FALSE),0) -> 216 | G12: =IFERROR(VLOOKUP($B12,'IND 10.4_'!$H$1639:$I$1781,2,FALSE),0) -> 1931 | H12: =IFERROR(F12/G12,0) -> 0.11185914
B13: 04104-LA HIGUERA | C13: =IFERROR(VLOOKUP(B13,'IND 10.4_'!$H$3:$I$148,2,FALSE),0) -> 15 | D13: =IFERROR(VLOOKUP($B13,'IND 10.4_'!$H$1012:$I$1153,2,FALSE),0) -> 35 | E13: =IFERROR(C13/D13,0) -> 0.42857143 | F13: =IFERROR(VLOOKUP($B13,'IND 10.4_'!$H$1245:$I$1354,2,FALSE),0) -> 6 | G13: =IFERROR(VLOOKUP($B13,'IND 10.4_'!$H$1639:$I$1781,2,FALSE),0) -> 39 | H13: =IFERROR(F13/G13,0) -> 0.15384615
B14: 04102-COQUIMBO | C14: =IFERROR(VLOOKUP(B14,'IND 10.4_'!$H$3:$I$148,2,FALSE),0) -> 857 | D14: =IFERROR(VLOOKUP($B14,'IND 10.4_'!$H$1012:$I$1153,2,FALSE),0) -> 1915 | E14: =IFERROR(C14/D14,0) -> 0.44751958 | F14: =IFERROR(VLOOKUP($B14,'IND 10.4_'!$H$1245:$I$1354,2,FALSE),0) -> 591 | G14: =IFERROR(VLOOKUP($B14,'IND 10.4_'!$H$1639:$I$1781,2,FALSE),0) -> 2033 | H14: =IFERROR(F14/G14,0) -> 0.29070339
B15: 04106-VICUÑA | C15: =IFERROR(VLOOKUP(B15,'IND 10.4_'!$H$3:$I$148,2,FALSE),0) -> 23 | D15: =IFERROR(VLOOKUP($B15,'IND 10.4_'!$H$1012:$I$1153,2,FALSE),0) -> 90 | E15: =IFERROR(C15/D15,0) -> 0.25555556 | F15: =IFERROR(VLOOKUP($B15,'IND 10.4_'!$H$1245:$I$1354,2,FALSE),0) -> 26 | G15: =IFERROR(VLOOKUP($B15,'IND 10.4_'!$H$1639:$I$1781,2,FALSE),0) -> 95 | H15: =IFERROR(F15/G15,0) -> 0.27368421
B16: 04105-PAIHUANO | C16: =IFERROR(VLOOKUP(B16,'IND 10.4_'!$H$3:$I$148,2,FALSE),0) -> 3 | D16: =IFERROR(VLOOKUP($B16,'IND 10.4_'!$H$1012:$I$1153,2,FALSE),0) -> 38 | E16: =IFERROR(C16/D16,0) -> 0.078947368 | F16: =IFERROR(VLOOKUP($B16,'IND 10.4_'!$H$1245:$I$1354,2,FALSE),0) -> 35 | G16: =IFERROR(VLOOKUP($B16,'IND 10.4_'!$H$1639:$I$1781,2,FALSE),0) -> 39 | H16: =IFERROR(F16/G16,0) -> 0.8974359
B17: 04301-OVALLE | C17: =IFERROR(VLOOKUP(B17,'IND 10.4_'!$H$3:$I$148,2,FALSE),0) -> 658 | D17: =IFERROR(VLOOKUP($B17,'IND 10.4_'!$H$1012:$I$1153,2,FALSE),0) -> 1133 | E17: =IFERROR(C17/D17,0) -> 0.58075905 | F17: =IFERROR(VLOOKUP($B17,'IND 10.4_'!$H$1245:$I$1354,2,FALSE),0) -> 529 | G17: =IFERROR(VLOOKUP($B17,'IND 10.4_'!$H$1639:$I$1781,2,FALSE),0) -> 1142 | H17: =IFERROR(F17/G17,0) -> 0.46322242
B18: 04305-RIO HURTADO | C18: =IFERROR(VLOOKUP(B18,'IND 10.4_'!$H$3:$I$148,2,FALSE),0) -> 25 | D18: =IFERROR(VLOOKUP($B18,'IND 10.4_'!$H$1012:$I$1153,2,FALSE),0) -> 56 | E18: =IFERROR(C18/D18,0) -> 0.44642857 | F18: =IFERROR(VLOOKUP($B18,'IND 10.4_'!$H$1245:$I$1354,2,FALSE),0) -> 13 | G18: =IFERROR(VLOOKUP($B18,'IND 10.4_'!$H$1639:$I$1781,2,FALSE),0) -> 56 | H18: =IFERROR(F18/G18,0) -> 0.23214286
B19: 04303-MONTE PATRIA | C19: =IFERROR(VLOOKUP(B19,'IND 10.4_'!$H$3:$I$148,2,FALSE),0) -> 158 | D19: =IFERROR(VLOOKUP($B19,'IND 10.4_'!$H$1012:$I$1153,2,FALSE),0) -> 241 | E19: =IFERROR(C19/D19,0) -> 0.65560166 | F19: =IFERROR(VLOOKUP($B19,'IND 10.4_'!$H$1245:$I$1354,2,FALSE),0) -> 35 | G19: =IFERROR(VLOOKUP($B19,'IND 10.4_'!$H$1639:$I$1781,2,FALSE),0) -> 260 | H19: =IFERROR(F19/G19,0) -> 0.13461538
B20: 04304-PUNITAQUI | C20: =IFERROR(VLOOKUP(B20,'IND 10.4_'!$H$3:$I$148,2,FALSE),0) -> 37 | D20: =IFERROR(VLOOKUP($B20,'IND 10.4_'!$H$1012:$I$1153,2,FALSE),0) -> 192 | E20: =IFERROR(C20/D20,0) -> 0.19270833 | F20: =IFERROR(VLOOKUP($B20,'IND 10.4_'!$H$1245:$I$1354,2,FALSE),0) -> 73 | G20: =IFERROR(VLOOKUP($B20,'IND 10.4_'!$H$1639:$I$1781,2,FALSE),0) -> 191 | H20: =IFERROR(F20/G20,0) -> 0.38219895
B21: 04302-COMBARBALÁ | C21: =IFERROR(VLOOKUP(B21,'IND 10.4_'!$H$3:$I$148,2,FALSE),0) -> 114 | D21: =IFERROR(VLOOKUP($B21,'IND 10.4_'!$H$1012:$I$1153,2,FALSE),0) -> 232 | E21: =IFERROR(C21/D21,0) -> 0.49137931 | F21: =IFERROR(VLOOKUP($B21,'IND 10.4_'!$H$1245:$I$1354,2,FALSE),0) -> 68 | G21: =IFERROR(VLOOKUP($B21,'IND 10.4_'!$H$1639:$I$1781,2,FALSE),0) -> 234 | H21: =IFERROR(F21/G21,0) -> 0.29059829
B22: 04201-ILLAPEL | C22: =IFERROR(VLOOKUP(B22,'IND 10.4_'!$H$3:$I$148,2,FALSE),0) -> 203 | D22: =IFERROR(VLOOKUP($B22,'IND 10.4_'!$H$1012:$I$1153,2,FALSE),0) -> 287 | E22: =IFERROR(C22/D22,0) -> 0.70731707 | F22: =IFERROR(VLOOKUP($B22,'IND 10.4_'!$H$1245:$I$1354,2,FALSE),0) -> 264 | G22: =IFERROR(VLOOKUP($B22,'IND 10.4_'!$H$1639:$I$1781,2,FALSE),0) -> 290 | H22: =IFERROR(F22/G22,0) -> 0.91034483
B23: 04204-SALAMANCA | C23: =IFERROR(VLOOKUP(B23,'IND 10.4_'!$H$3:$I$148,2,FALSE),0) -> 5 | D23: =IFERROR(VLOOKUP($B23,'IND 10.4_'!$H$1012:$I$1153,2,FALSE),0) -> 61 | E23: =IFERROR(C23/D23,0) -> 0.081967213 | F23: =IFERROR(VLOOKUP($B23,'IND 10.4_'!$H$1245:$I$1354,2,FALSE),0) -> 30 | G23: =IFERROR(VLOOKUP($B23,'IND 10.4_'!$H$1639:$I$1781,2,FALSE),0) -> 53 | H23: =IFERROR(F23/G23,0) -> 0.56603774
... B25: 04202-CANELA | C25: =IFERROR(VLOOKUP(B25,'IND 10.4_'!$H$3:$I$148,2,FALSE),0) -> 1 | D25: =IFERROR(VLOOKUP($B25,'IND 10.4_'!$H$1012:$I$1153,2,FALSE),0) -> 228 | E25: =IFERROR(C25/D25,0) -> 0.0043859649 | F25: =IFERROR(VLOOKUP($B25,'IND 10.4_'!$H$1245:$I$1354,2,FALSE),0) -> 8 | G25: =IFERROR(VLOOKUP($B25,'IND 10.4_'!$H$1639:$I$1781,2,FALSE),0) -> 179 | H25: =IFERROR(F25/G25,0) -> 0.044692737
B26: HOSPITAL
B27: 105104-HOSPITAL SALAMANCA | C27: =IFERROR(VLOOKUP(B27,'IND 10.4_'!$H$3:$I$148,2,FALSE),0) -> 38 | D27: =IFERROR(VLOOKUP($B27,'IND 10.4_'!$H$1012:$I$1153,2,FALSE),0) -> 152 | E27: =IFERROR(C27/D27,0) -> 0.25 | F27: =IFERROR(VLOOKUP($B27,'IND 10.4_'!$H$1245:$I$1354,2,FALSE),0) -> 84 | G27: =IFERROR(VLOOKUP($B27,'IND 10.4_'!$H$1639:$I$1781,2,FALSE),0) -> 162 | H27: =IFERROR(F27/G27,0) -> 0.51851852
B28: 105105-HOSPITAL COMBARBALÁ | C28: =IFERROR(VLOOKUP(B28,'IND 10.4_'!$H$3:$I$148,2,FALSE),0) -> 187 | D28: =IFERROR(VLOOKUP($B28,'IND 10.4_'!$H$1012:$I$1153,2,FALSE),0) -> 187 | E28: =IFERROR(C28/D28,0) -> 1 | F28: =IFERROR(VLOOKUP($B28,'IND 10.4_'!$H$1245:$I$1354,2,FALSE),0) -> 40 | G28: =IFERROR(VLOOKUP($B28,'IND 10.4_'!$H$1639:$I$1781,2,FALSE),0) -> 187 | H28: =IFERROR(F28/G28,0) -> 0.21390374
B29: 105106-HOSPITAL ANDACOLLO | C29: =IFERROR(VLOOKUP(B29,'IND 10.4_'!$H$3:$I$148,2,FALSE),0) -> 180 | D29: =IFERROR(VLOOKUP($B29,'IND 10.4_'!$H$1012:$I$1153,2,FALSE),0) -> 189 | E29: =IFERROR(C29/D29,0) -> 0.95238095 | F29: =IFERROR(VLOOKUP($B29,'IND 10.4_'!$H$1245:$I$1354,2,FALSE),0) -> 63 | G29: =IFERROR(VLOOKUP($B29,'IND 10.4_'!$H$1639:$I$1781,2,FALSE),0) -> 189 | H29: =IFERROR(F29/G29,0) -> 0.33333333
B30: 105107-HOSPITAL VICUÑA | C30: =IFERROR(VLOOKUP(B30,'IND 10.4_'!$H$3:$I$148,2,FALSE),0) -> 18 | D30: =IFERROR(VLOOKUP($B30,'IND 10.4_'!$H$1012:$I$1153,2,FALSE),0) -> 158 | E30: =IFERROR(C30/D30,0) -> 0.11392405 | F30: =IFERROR(VLOOKUP($B30,'IND 10.4_'!$H$1245:$I$1354,2,FALSE),0) -> 4 | G30: =IFERROR(VLOOKUP($B30,'IND 10.4_'!$H$1639:$I$1781,2,FALSE),0) -> 104 | H30: =IFERROR(F30/G30,0) -> 0.038461538
B31: 105108-HOSPITAL LOS VILOS | C31: =IFERROR(VLOOKUP(B31,'IND 10.4_'!$H$3:$I$148,2,FALSE),0) -> 76 | D31: =IFERROR(VLOOKUP($B31,'IND 10.4_'!$H$1012:$I$1153,2,FALSE),0) -> 153 | E31: =IFERROR(C31/D31,0) -> 0.49673203 | F31: =IFERROR(VLOOKUP($B31,'IND 10.4_'!$H$1245:$I$1354,2,FALSE),0) -> 73 | G31: =IFERROR(VLOOKUP($B31,'IND 10.4_'!$H$1639:$I$1781,2,FALSE),0) -> 149 | H31: =IFERROR(F31/G31,0) -> 0.48993289

Sheet Datos ind 10.4
A2: Numerador B (A)_
A3: Idestablecimiento | B3: Establecimiento | C3: Comuna | D3: Mes | E3: Total
A4: 105103 | B4: =IFERROR(VLOOKUP(A4,[1]Establecimientos!$A$1:$F$174,3,FALSE),0) -> 105103-HOSPITAL ILLAPEL | C4: =IFERROR(VLOOKUP(A4,[1]Establecimientos!$A$1:$F$174,5,FALSE),0) -> 105103-HOSPITAL ILLAPEL | D4: 4 | E4: 0
A5: 105104 | B5: =IFERROR(VLOOKUP(A5,[1]Establecimientos!$A$1:$F$174,3,FALSE),0) -> 105104-HOSPITAL SALAMANCA | C5: =IFERROR(VLOOKUP(A5,[1]Establecimientos!$A$1:$F$174,5,FALSE),0) -> 105104-HOSPITAL SALAMANCA | D5: 1 | E5: 2 | H5: Etiquetas de fila | I5: Suma de Total
A6: 105104 | B6: =IFERROR(VLOOKUP(A6,[1]Establecimientos!$A$1:$F$174,3,FALSE),0) -> 105104-HOSPITAL SALAMANCA | C6: =IFERROR(VLOOKUP(A6,[1]Establecimientos!$A$1:$F$174,5,FALSE),0) -> 105104-HOSPITAL SALAMANCA | D6: 2 | E6: 4 | H6: 04101-LA SERENA | I6: 1803
A7: 105104 | B7: =IFERROR(VLOOKUP(A7,[1]Establecimientos!$A$1:$F$174,3,FALSE),0) -> 105104-HOSPITAL SALAMANCA | C7: =IFERROR(VLOOKUP(A7,[1]Establecimientos!$A$1:$F$174,5,FALSE),0) -> 105104-HOSPITAL SALAMANCA | D7: 3 | E7: 6 | H7: 105300-CES. CARDENAL CARO | I7: 319
A8: 105104 | B8: =IFERROR(VLOOKUP(A8,[1]Establecimientos!$A$1:$F$174,3,FALSE),0) -> 105104-HOSPITAL SALAMANCA | C8: =IFERROR(VLOOKUP(A8,[1]Establecimientos!$A$1:$F$174,5,FALSE),0) -> 105104-HOSPITAL SALAMANCA | D8: 4 | E8: 4 | H8: 105301-CES. LAS COMPAÑIAS | I8: 192
A9: 105104 | B9: =IFERROR(VLOOKUP(A9,[1]Establecimientos!$A$1:$F$174,3,FALSE),0) -> 105104-HOSPITAL SALAMANCA | C9: =IFERROR(VLOOKUP(A9,[1]Establecimientos!$A$1:$F$174,5,FALSE),0) -> 105104-HOSPITAL SALAMANCA | D9: 5 | E9: 0 | H9: 105302-CES. PEDRO AGUIRRE C. | I9: 294
A10: 105104 | B10: =IFERROR(VLOOKUP(A10,[1]Establecimientos!$A$1:$F$174,3,FALSE),0) -> 105104-HOSPITAL SALAMANCA | C10: =IFERROR(VLOOKUP(A10,[1]Establecimientos!$A$1:$F$174,5,FALSE),0) -> 105104-HOSPITAL SALAMANCA | D10: 7 | E10: 1 | H10: 105313-CES. SCHAFFHAUSER | I10: 485
A11: 105104 | B11: =IFERROR(VLOOKUP(A11,[1]Establecimientos!$A$1:$F$174,3,FALSE),0) -> 105104-HOSPITAL SALAMANCA | C11: =IFERROR(VLOOKUP(A11,[1]Establecimientos!$A$1:$F$174,5,FALSE),0) -> 105104-HOSPITAL SALAMANCA | D11: 8 | E11: 2 | H11: 105319-CES. CARDENAL R.S.H. | I11: 200
A12: 105104 | B12: =IFERROR(VLOOKUP(A12,[1]Establecimientos!$A$1:$F$174,3,FALSE),0) -> 105104-HOSPITAL SALAMANCA | C12: =IFERROR(VLOOKUP(A12,[1]Establecimientos!$A$1:$F$174,5,FALSE),0) -> 105104-HOSPITAL SALAMANCA | D12: 9 | E12: 2 | H12: 105325-CESFAM JUAN PABLO II | I12: 250
A13: 105104 | B13: =IFERROR(VLOOKUP(A13,[1]Establecimientos!$A$1:$F$174,3,FALSE),0) -> 105104-HOSPITAL SALAMANCA | C13: =IFERROR(VLOOKUP(A13,[1]Establecimientos!$A$1:$F$174,5,FALSE),0) -> 105104-HOSPITAL SALAMANCA | D13: 10 | E13: 7 | H13: 105400-P.S.R. ALGARROBITO | I13: 16
A14: 105104 | B14: =IFERROR(VLOOKUP(A14,[1]Establecimientos!$A$1:$F$174,3,FALSE),0) -> 105104-HOSPITAL SALAMANCA | C14: =IFERROR(VLOOKUP(A14,[1]Establecimientos!$A$1:$F$174,5,FALSE),0) -> 105104-HOSPITAL SALAMANCA | D14: 11 | E14: 7 | H14: 105401-P.S.R. LAS ROJAS | I14: 9
A15: 105105 | B15: =IFERROR(VLOOKUP(A15,[1]Establecimientos!$A$1:$F$174,3,FALSE),0) -> 105105-HOSPITAL COMBARBALÁ | C15: =IFERROR(VLOOKUP(A15,[1]Establecimientos!$A$1:$F$174,5,FALSE),0) -> 105105-HOSPITAL COMBARBALÁ | D15: 1 | E15: 5 | H15: 105402-P.S.R. EL ROMERO | I15: 6
A16: 105105 | B16: =IFERROR(VLOOKUP(A16,[1]Establecimientos!$A$1:$F$174,3,FALSE),0) -> 105105-HOSPITAL COMBARBALÁ | C16: =IFERROR(VLOOKUP(A16,[1]Establecimientos!$A$1:$F$174,5,FALSE),0) -> 105105-HOSPITAL COMBARBALÁ | D16: 2 | E16: 1 | H16: 105499-P.S.R. LAMBERT | I16: 1
A17: 105105 | B17: =IFERROR(VLOOKUP(A17,[1]Establecimientos!$A$1:$F$174,3,FALSE),0) -> 105105-HOSPITAL COMBARBALÁ | C17: =IFERROR(VLOOKUP(A17,[1]Establecimientos!$A$1:$F$174,5,FALSE),0) -> 105105-HOSPITAL COMBARBALÁ | D17: 3 | E17: 8 | H17: 105700-CECOF VILLA EL INDIO | I17: 16
... A147: 105308 | B147: =IFERROR(VLOOKUP(A147,[1]Establecimientos!$A$1:$F$174,3,FALSE),0) -> 105308-CES. RURAL PUNITAQUI | C147: =IFERROR(VLOOKUP(A147,[1]Establecimientos!$A$1:$F$174,5,FALSE),0) -> 04304-PUNITAQUI | D147: 3 | E147: 4 | H147: Total general | I147: 4147
A148: 105308 | B148: =IFERROR(VLOOKUP(A148,[1]Establecimientos!$A$1:$F$174,3,FALSE),0) -> 105308-CES. RURAL PUNITAQUI | C148: =IFERROR(VLOOKUP(A148,[1]Establecimientos!$A$1:$F$174,5,FALSE),0) -> 04304-PUNITAQUI | D148: 4 | E148: 4
A149: 105308 | B149: =IFERROR(VLOOKUP(A149,[1]Establecimientos!$A$1:$F$174,3,FALSE),0) -> 105308-CES. RURAL PUNITAQUI | C149: =IFERROR(VLOOKUP(A149,[1]Establecimientos!$A$1:$F$174,5,FALSE),0) -> 04304-PUNITAQUI | D149: 5 | E149: 7
A150: 105308 | B150: =IFERROR(VLOOKUP(A150,[1]Establecimientos!$A$1:$F$174,3,FALSE),0) -> 105308-CES. RURAL PUNITAQUI | C150: =IFERROR(VLOOKUP(A150,[1]Establecimientos!$A$1:$F$174,5,FALSE),0) -> 04304-PUNITAQUI | D150: 6 | E150: 3
A151: 105308 | B151: =IFERROR(VLOOKUP(A151,[1]Establecimientos!$A$1:$F$174,3,FALSE),0) -> 105308-CES. RURAL PUNITAQUI | C151: =IFERROR(VLOOKUP(A151,[1]Establecimientos!$A$1:$F$174,5,FALSE),0) -> 04304-PUNITAQUI | D151: 7 | E151: 4
A152: 105308 | B152: =IFERROR(VLOOKUP(A152,[1]Establecimientos!$A$1:$F$174,3,FALSE),0) -> 105308-CES. RURAL PUNITAQUI | C152: =IFERROR(VLOOKUP(A152,[1]Establecimientos!$A$1:$F$174,5,FALSE),0) -> 04304-PUNITAQUI | D152: 9 | E152: 7
A153: 105308 | B153: =IFERROR(VLOOKUP(A153,[1]Establecimientos!$A$1:$F$174,3,FALSE),0) -> 105308-CES. RURAL PUNITAQUI | C153: =IFERROR(VLOOKUP(A153,[1]Establecimientos!$A$1:$F$174,5,FALSE),0) -> 04304-PUNITAQUI | D153: 10 | E153: 7
A154: 105309 | B154: =IFERROR(VLOOKUP(A154,[1]Establecimientos!$A$1:$F$174,3,FALSE),0) -> 105309-CES. RURAL CANELA | C154: =IFERROR(VLOOKUP(A154,[1]Establecimientos!$A$1:$F$174,5,FALSE),0) -> 04202-CANELA | D154: 2 | E154: 0
A155: 105309 | B155: =IFERROR(VLOOKUP(A155,[1]Establecimientos!$A$1:$F$174,3,FALSE),0) -> 105309-CES. RURAL CANELA | C155: =IFERROR(VLOOKUP(A155,[1]Establecimientos!$A$1:$F$174,5,FALSE),0) -> 04202-CANELA | D155: 3 | E155: 1
A156: 105309 | B156: =IFERROR(VLOOKUP(A156,[1]Establecimientos!$A$1:$F$174,3,FALSE),0) -> 105309-CES. RURAL CANELA | C156: =IFERROR(VLOOKUP(A156,[1]Establecimientos!$A$1:$F$174,5,FALSE),0) -> 04202-CANELA | D156: 4 | E156: 0
A157: 105309 | B157: =IFERROR(VLOOKUP(A157,[1]Establecimientos!$A$1:$F$174,3,FALSE),0) -> 105309-CES. RURAL CANELA | C157: =IFERROR(VLOOKUP(A157,[1]Establecimientos!$A$1:$F$174,5,FALSE),0) -> 04202-CANELA | D157: 5 | E157: 0
A158: 105309 | B158: =IFERROR(VLOOKUP(A158,[1]Establecimientos!$A$1:$F$174,3,FALSE),0) -> 105309-CES. RURAL CANELA | C158: =IFERROR(VLOOKUP(A158,[1]Establecimientos!$A$1:$F$174,5,FALSE),0) -> 04202-CANELA | D158: 6 | E158: 0
A159: 105309 | B159: =IFERROR(VLOOKUP(A159,[1]Establecimientos!$A$1:$F$174,3,FALSE),0) -> 105309-CES. RURAL CANELA | C159: =IFERROR(VLOOKUP(A159,[1]Establecimientos!$A$1:$F$174,5,FALSE),0) -> 04202-CANELA | D159: 7 | E159: 0
... A914: 200607 | B914: =IFERROR(VLOOKUP(A914,[1]Establecimientos!$A$1:$F$174,3,FALSE),0) -> 200607-CESFAM LILA CORTES | C914: =IFERROR(VLOOKUP(A914,[1]Establecimientos!$A$1:$F$174,5,FALSE),0) -> 04102-COQUIMBO | D914: 11 | E914: 0
A916: Denominador B (P)_
A917: Idestablecimiento | B917: Establecimiento | C917: Comuna | D917: Mes | E917: Total
A918: 105104 | B918: =IFERROR(VLOOKUP(A918,[1]Establecimientos!$A$1:$F$174,3,FALSE),0) -> 105104-HOSPITAL SALAMANCA | C918: =IFERROR(VLOOKUP(A918,[1]Establecimientos!$A$1:$F$174,5,FALSE),0) -> 105104-HOSPITAL SALAMANCA | D918: 6 | E918: 66 | H918: Etiquetas de fila | I918: Suma de Total
A919: 105105 | B919: =IFERROR(VLOOKUP(A919,[1]Establecimientos!$A$1:$F$174,3,FALSE),0) -> 105105-HOSPITAL COMBARBALÁ | C919: =IFERROR(VLOOKUP(A919,[1]Establecimientos!$A$1:$F$174,5,FALSE),0) -> 105105-HOSPITAL COMBARBALÁ | D919: 6 | E919: 90 | H919: 04101-LA SERENA | I919: 1138
A920: 105106 | B920: =IFERROR(VLOOKUP(A920,[1]Establecimientos!$A$1:$F$174,3,FALSE),0) -> 105106-HOSPITAL ANDACOLLO | C920: =IFERROR(VLOOKUP(A920,[1]Establecimientos!$A$1:$F$174,5,FALSE),0) -> 105106-HOSPITAL ANDACOLLO | D920: 6 | E920: 64 | H920: 105300-CES. CARDENAL CARO | I920: 313
A921: 105107 | B921: =IFERROR(VLOOKUP(A921,[1]Establecimientos!$A$1:$F$174,3,FALSE),0) -> 105107-HOSPITAL VICUÑA | C921: =IFERROR(VLOOKUP(A921,[1]Establecimientos!$A$1:$F$174,5,FALSE),0) -> 105107-HOSPITAL VICUÑA | D921: 6 | E921: 82 | H921: 105301-CES. LAS COMPAÑIAS | I921: 70
A922: 105108 | B922: =IFERROR(VLOOKUP(A922,[1]Establecimientos!$A$1:$F$174,3,FALSE),0) -> 105108-HOSPITAL LOS VILOS | C922: =IFERROR(VLOOKUP(A922,[1]Establecimientos!$A$1:$F$174,5,FALSE),0) -> 105108-HOSPITAL LOS VILOS | D922: 6 | E922: 65 | H922: 105302-CES. PEDRO AGUIRRE C. | I922: 89
A923: 105300 | B923: =IFERROR(VLOOKUP(A923,[1]Establecimientos!$A$1:$F$174,3,FALSE),0) -> 105300-CES. CARDENAL CARO | C923: =IFERROR(VLOOKUP(A923,[1]Establecimientos!$A$1:$F$174,5,FALSE),0) -> 04101-LA SERENA | D923: 6 | E923: 313 | H923: 105313-CES. SCHAFFHAUSER | I923: 320
A924: 105301 | B924: =IFERROR(VLOOKUP(A924,[1]Establecimientos!$A$1:$F$174,3,FALSE),0) -> 105301-CES. LAS COMPAÑIAS | C924: =IFERROR(VLOOKUP(A924,[1]Establecimientos!$A$1:$F$174,5,FALSE),0) -> 04101-LA SERENA | D924: 6 | E924: 70 | H924: 105319-CES. CARDENAL R.S.H. | I924: 133
A925: 105302 | B925: =IFERROR(VLOOKUP(A925,[1]Establecimientos!$A$1:$F$174,3,FALSE),0) -> 105302-CES. PEDRO AGUIRRE C. | C925: =IFERROR(VLOOKUP(A925,[1]Establecimientos!$A$1:$F$174,5,FALSE),0) -> 04101-LA SERENA | D925: 6 | E925: 89 | H925: 105325-CESFAM JUAN PABLO II | I925: 120
...

Sheet IND 10.4_
A1: Numerador B (A)
A2: Idestablecimiento | B2: Establecimiento | C2: Comuna | D2: Mes | E2: Total
A3: 105103 | B3: =IFERROR(VLOOKUP(A3,[1]Establecimientos!$A$1:$F$174,3,FALSE),0) -> 105103-HOSPITAL ILLAPEL | C3: =IFERROR(VLOOKUP(A3,[1]Establecimientos!$A$1:$F$174,5,FALSE),0) -> 105103-HOSPITAL ILLAPEL | D3: 4 | E3: 0 | H3: Etiquetas de fila | I3: Suma de Total
A4: 105104 | B4: =IFERROR(VLOOKUP(A4,[1]Establecimientos!$A$1:$F$174,3,FALSE),0) -> 105104-HOSPITAL SALAMANCA | C4: =IFERROR(VLOOKUP(A4,[1]Establecimientos!$A$1:$F$174,5,FALSE),0) -> 105104-HOSPITAL SALAMANCA | D4: 1 | E4: 2 | H4: 04101-LA SERENA | I4: 1914
A5: 105104 | B5: =IFERROR(VLOOKUP(A5,[1]Establecimientos!$A$1:$F$174,3,FALSE),0) -> 105104-HOSPITAL SALAMANCA | C5: =IFERROR(VLOOKUP(A5,[1]Establecimientos!$A$1:$F$174,5,FALSE),0) -> 105104-HOSPITAL SALAMANCA | D5: 2 | E5: 4 | H5: 105300-CES. CARDENAL CARO | I5: 328
A6: 105104 | B6: =IFERROR(VLOOKUP(A6,[1]Establecimientos!$A$1:$F$174,3,FALSE),0) -> 105104-HOSPITAL SALAMANCA | C6: =IFERROR(VLOOKUP(A6,[1]Establecimientos!$A$1:$F$174,5,FALSE),0) -> 105104-HOSPITAL SALAMANCA | D6: 3 | E6: 6 | H6: 105301-CES. LAS COMPAÑIAS | I6: 194
A7: 105104 | B7: =IFERROR(VLOOKUP(A7,[1]Establecimientos!$A$1:$F$174,3,FALSE),0) -> 105104-HOSPITAL SALAMANCA | C7: =IFERROR(VLOOKUP(A7,[1]Establecimientos!$A$1:$F$174,5,FALSE),0) -> 105104-HOSPITAL SALAMANCA | D7: 4 | E7: 4 | H7: 105302-CES. PEDRO AGUIRRE C. | I7: 296
A8: 105104 | B8: =IFERROR(VLOOKUP(A8,[1]Establecimientos!$A$1:$F$174,3,FALSE),0) -> 105104-HOSPITAL SALAMANCA | C8: =IFERROR(VLOOKUP(A8,[1]Establecimientos!$A$1:$F$174,5,FALSE),0) -> 105104-HOSPITAL SALAMANCA | D8: 5 | E8: 0 | H8: 105313-CES. SCHAFFHAUSER | I8: 494
A9: 105104 | B9: =IFERROR(VLOOKUP(A9,[1]Establecimientos!$A$1:$F$174,3,FALSE),0) -> 105104-HOSPITAL SALAMANCA | C9: =IFERROR(VLOOKUP(A9,[1]Establecimientos!$A$1:$F$174,5,FALSE),0) -> 105104-HOSPITAL SALAMANCA | D9: 7 | E9: 1 | H9: 105319-CES. CARDENAL R.S.H. | I9: 235
A10: 105104 | B10: =IFERROR(VLOOKUP(A10,[1]Establecimientos!$A$1:$F$174,3,FALSE),0) -> 105104-HOSPITAL SALAMANCA | C10: =IFERROR(VLOOKUP(A10,[1]Establecimientos!$A$1:$F$174,5,FALSE),0) -> 105104-HOSPITAL SALAMANCA | D10: 8 | E10: 2 | H10: 105325-CESFAM JUAN PABLO II | I10: 286
A11: 105104 | B11: =IFERROR(VLOOKUP(A11,[1]Establecimientos!$A$1:$F$174,3,FALSE),0) -> 105104-HOSPITAL SALAMANCA | C11: =IFERROR(VLOOKUP(A11,[1]Establecimientos!$A$1:$F$174,5,FALSE),0) -> 105104-HOSPITAL SALAMANCA | D11: 9 | E11: 2 | H11: 105400-P.S.R. ALGARROBITO | I11: 22
A12: 105104 | B12: =IFERROR(VLOOKUP(A12,[1]Establecimientos!$A$1:$F$174,3,FALSE),0) -> 105104-HOSPITAL SALAMANCA | C12: =IFERROR(VLOOKUP(A12,[1]Establecimientos!$A$1:$F$174,5,FALSE),0) -> 105104-HOSPITAL SALAMANCA | D12: 10 | E12: 7 | H12: 105401-P.S.R. LAS ROJAS | I12: 15
A13: 105104 | B13: =IFERROR(VLOOKUP(A13,[1]Establecimientos!$A$1:$F$174,3,FALSE),0) -> 105104-HOSPITAL SALAMANCA | C13: =IFERROR(VLOOKUP(A13,[1]Establecimientos!$A$1:$F$174,5,FALSE),0) -> 105104-HOSPITAL SALAMANCA | D13: 11 | E13: 7 | H13: 105402-P.S.R. EL ROMERO | I13: 6
A14: 105104 | B14: =IFERROR(VLOOKUP(A14,[1]Establecimientos!$A$1:$F$174,3,FALSE),0) -> 105104-HOSPITAL SALAMANCA | C14: =IFERROR(VLOOKUP(A14,[1]Establecimientos!$A$1:$F$174,5,FALSE),0) -> 105104-HOSPITAL SALAMANCA | D14: 12 | E14: 3 | H14: 105499-P.S.R. LAMBERT | I14: 1
A15: 105105 | B15: =IFERROR(VLOOKUP(A15,[1]Establecimientos!$A$1:$F$174,3,FALSE),0) -> 105105-HOSPITAL COMBARBALÁ | C15: =IFERROR(VLOOKUP(A15,[1]Establecimientos!$A$1:$F$174,5,FALSE),0) -> 105105-HOSPITAL COMBARBALÁ | D15: 1 | E15: 5 | H15: 105700-CECOF VILLA EL INDIO | I15: 16
... A148: 105307 | B148: =IFERROR(VLOOKUP(A148,[1]Establecimientos!$A$1:$F$174,3,FALSE),0) -> 105307-CES. RURAL MONTE PATRIA | C148: =IFERROR(VLOOKUP(A148,[1]Establecimientos!$A$1:$F$174,5,FALSE),0) -> 04303-MONTE PATRIA | D148: 5 | E148: 0 | H148: Total general | I148: 4537
A149: 105307 | B149: =IFERROR(VLOOKUP(A149,[1]Establecimientos!$A$1:$F$174,3,FALSE),0) -> 105307-CES. RURAL MONTE PATRIA | C149: =IFERROR(VLOOKUP(A149,[1]Establecimientos!$A$1:$F$174,5,FALSE),0) -> 04303-MONTE PATRIA | D149: 6 | E149: 0
A150: 105307 | B150: =IFERROR(VLOOKUP(A150,[1]Establecimientos!$A$1:$F$174,3,FALSE),0) -> 105307-CES. RURAL MONTE PATRIA | C150: =IFERROR(VLOOKUP(A150,[1]Establecimientos!$A$1:$F$174,5,FALSE),0) -> 04303-MONTE PATRIA | D150: 7 | E150: 3
A151: 105307 | B151: =IFERROR(VLOOKUP(A151,[1]Establecimientos!$A$1:$F$174,3,FALSE),0) -> 105307-CES. RURAL MONTE PATRIA | C151: =IFERROR(VLOOKUP(A151,[1]Establecimientos!$A$1:$F$174,5,FALSE),0) -> 04303-MONTE PATRIA | D151: 8 | E151: 3
A152: 105307 | B152: =IFERROR(VLOOKUP(A152,[1]Establecimientos!$A$1:$F$174,3,FALSE),0) -> 105307-CES. RURAL MONTE PATRIA | C152: =IFERROR(VLOOKUP(A152,[1]Establecimientos!$A$1:$F$174,5,FALSE),0) -> 04303-MONTE PATRIA | D152: 9 | E152: 0
A153: 105307 | B153: =IFERROR(VLOOKUP(A153,[1]Establecimientos!$A$1:$F$174,3,FALSE),0) -> 105307-CES. RURAL MONTE PATRIA | C153: =IFERROR(VLOOKUP(A153,[1]Establecimientos!$A$1:$F$174,5,FALSE),0) -> 04303-MONTE PATRIA | D153: 10 | E153: 0
A154: 105307 | B154: =IFERROR(VLOOKUP(A154,[1]Establecimientos!$A$1:$F$174,3,FALSE),0) -> 105307-CES. RURAL MONTE PATRIA | C154: =IFERROR(VLOOKUP(A154,[1]Establecimientos!$A$1:$F$174,5,FALSE),0) -> 04303-MONTE PATRIA | D154: 11 | E154: 4
A155: 105307 | B155: =IFERROR(VLOOKUP(A155,[1]Establecimientos!$A$1:$F$174,3,FALSE),0) -> 105307-CES. RURAL MONTE PATRIA | C155: =IFERROR(VLOOKUP(A155,[1]Establecimientos!$A$1:$F$174,5,FALSE),0) -> 04303-MONTE PATRIA | D155: 12 | E155: 3
A156: 105308 | B156: =IFERROR(VLOOKUP(A156,[1]Establecimientos!$A$1:$F$174,3,FALSE),0) -> 105308-CES. RURAL PUNITAQUI | C156: =IFERROR(VLOOKUP(A156,[1]Establecimientos!$A$1:$F$174,5,FALSE),0) -> 04304-PUNITAQUI | D156: 1 | E156: 0
A157: 105308 | B157: =IFERROR(VLOOKUP(A157,[1]Establecimientos!$A$1:$F$174,3,FALSE),0) -> 105308-CES. RURAL PUNITAQUI | C157: =IFERROR(VLOOKUP(A157,[1]Establecimientos!$A$1:$F$174,5,FALSE),0) -> 04304-PUNITAQUI | D157: 2 | E157: 1
A158: 105308 | B158: =IFERROR(VLOOKUP(A158,[1]Establecimientos!$A$1:$F$174,3,FALSE),0) -> 105308-CES. RURAL PUNITAQUI | C158: =IFERROR(VLOOKUP(A158,[1]Establecimientos!$A$1:$F$174,5,FALSE),0) -> 04304-PUNITAQUI | D158: 3 | E158: 4
A159: 105308 | B159: =IFERROR(VLOOKUP(A159,[1]Establecimientos!$A$1:$F$174,3,FALSE),0) -> 105308-CES. RURAL PUNITAQUI | C159: =IFERROR(VLOOKUP(A159,[1]Establecimientos!$A$1:$F$174,5,FALSE),0) -> 04304-PUNITAQUI | D159: 4 | E159: 4
A160: 105308 | B160: =IFERROR(VLOOKUP(A160,[1]Establecimientos!$A$1:$F$174,3,FALSE),0) -> 105308-CES. RURAL PUNITAQUI | C160: =IFERROR(VLOOKUP(A160,[1]Establecimientos!$A$1:$F$174,5,FALSE),0) -> 04304-PUNITAQUI | D160: 5 | E160: 7
... A1007: 200607 | B1007: =IFERROR(VLOOKUP(A1007,[1]Establecimientos!$A$1:$F$174,3,FALSE),0) -> 200607-CESFAM LILA CORTES | C1007: =IFERROR(VLOOKUP(A1007,[1]Establecimientos!$A$1:$F$174,5,FALSE),0) -> 04102-COQUIMBO | D1007: 12 | E1007: 0
A1009: Denominador B (P)
A1010: Idestablecimiento | B1010: Establecimiento | C1010: Comuna | D1010: Mes | E1010: Total
A1011: 105104 | B1011: =IFERROR(VLOOKUP(A1011,[1]Establecimientos!$A$1:$F$174,3,FALSE),0) -> 105104-HOSPITAL SALAMANCA | C1011: =IFERROR(VLOOKUP(A1011,[1]Establecimientos!$A$1:$F$174,5,FALSE),0) -> 105104-HOSPITAL SALAMANCA | D1011: 6 | E1011: 66
A1012: 105104 | B1012: =IFERROR(VLOOKUP(A1012,[1]Establecimientos!$A$1:$F$174,3,FALSE),0) -> 105104-HOSPITAL SALAMANCA | C1012: =IFERROR(VLOOKUP(A1012,[1]Establecimientos!$A$1:$F$174,5,FALSE),0) -> 105104-HOSPITAL SALAMANCA | D1012: 12 | E1012: 86 | H1012: Etiquetas de fila | I1012: Suma de Total
A1013: 105105 | B1013: =IFERROR(VLOOKUP(A1013,[1]Establecimientos!$A$1:$F$174,3,FALSE),0) -> 105105-HOSPITAL COMBARBALÁ | C1013: =IFERROR(VLOOKUP(A1013,[1]Establecimientos!$A$1:$F$174,5,FALSE),0) -> 105105-HOSPITAL COMBARBALÁ | D1013: 6 | E1013: 90 | H1013: 04101-LA SERENA | I1013: 2284
A1014: 105105 | B1014: =IFERROR(VLOOKUP(A1014,[1]Establecimientos!$A$1:$F$174,3,FALSE),0) -> 105105-HOSPITAL COMBARBALÁ | C1014: =IFERROR(VLOOKUP(A1014,[1]Establecimientos!$A$1:$F$174,5,FALSE),0) -> 105105-HOSPITAL COMBARBALÁ | D1014: 12 | E1014: 97 | H1014: 105300-CES. CARDENAL CARO | I1014: 610
A1015: 105106 | B1015: =IFERROR(VLOOKUP(A1015,[1]Establecimientos!$A$1:$F$174,3,FALSE),0) -> 105106-HOSPITAL ANDACOLLO | C1015: =IFERROR(VLOOKUP(A1015,[1]Establecimientos!$A$1:$F$174,5,FALSE),0) -> 105106-HOSPITAL ANDACOLLO | D1015: 6 | E1015: 64 | H1015: 105301-CES. LAS COMPAÑIAS | I1015: 133
A1016: 105106 | B1016: =IFERROR(VLOOKUP(A1016,[1]Establecimientos!$A$1:$F$174,3,FALSE),0) -> 105106-HOSPITAL ANDACOLLO | C1016: =IFERROR(VLOOKUP(A1016,[1]Establecimientos!$A$1:$F$174,5,FALSE),0) -> 105106-HOSPITAL ANDACOLLO | D1016: 12 | E1016: 125 | H1016: 105302-CES. PEDRO AGUIRRE C. | I1016: 199
A1017: 105107 | B1017: =IFERROR(VLOOKUP(A1017,[1]Establecimientos!$A$1:$F$174,3,FALSE),0) -> 105107-HOSPITAL VICUÑA | C1017: =IFERROR(VLOOKUP(A1017,[1]Establecimientos!$A$1:$F$174,5,FALSE),0) -> 105107-HOSPITAL VICUÑA | D1017: 6 | E1017: 82 | H1017: 105313-CES. SCHAFFHAUSER | I1017: 654
A1018: 105107 | B1018: =IFERROR(VLOOKUP(A1018,[1]Establecimientos!$A$1:$F$174,3,FALSE),0) -> 105107-HOSPITAL VICUÑA | C1018: =IFERROR(VLOOKUP(A1018,[1]Establecimientos!$A$1:$F$174,5,FALSE),0) -> 105107-HOSPITAL VICUÑA | D1018: 12 | E1018: 76 | H1018: 105319-CES. CARDENAL R.S.H. | I1018: 276
A1019: 105108 | B1019: =IFERROR(VLOOKUP(A1019,[1]Establecimientos!$A$1:$F$174,3,FALSE),0) -> 105108-HOSPITAL LOS VILOS | C1019: =IFERROR(VLOOKUP(A1019,[1]Establecimientos!$A$1:$F$174,5,FALSE),0) -> 105108-HOSPITAL LOS VILOS | D1019: 6 | E1019: 65 | H1019: 105325-CESFAM JUAN PABLO II | I1019: 211
...
