Workbook

Sheet Indicador 10.1
A1: MINISTERIO DE SALUD
A2: SERVICIO DE SALUD COQUIMBO
A3: DEPARTAMENTO DE GESTIÓN, PLANIFICACIÓN Y CONTROL
A4: SUBDEPTO. DE ESTADÍSTICAS Y GESTIÓN DE LA INFORMACIÓN
A5: AÑO 2022
B8: COMUNA | C8: INDICADOR 10.1
C9: Porcentaje de cumplimiento de las acciones para el fortalecimiento del programa Más Adultos Mayores Autovalentes en el periodo.
C10: Numerador A) | D10: Denominador A) | E10: Indicador | F10: Numerador B) | G10: Denominador B) | H10: Indicador
C11: Número de organizaciones sociales ingresadas al Programa Más AM Autovalentes entre los meses de enero y diciembre que cuentan con Líderes Comunitarios capacitados por el Programa en Autocuidado y Estimulación Funcional en el periodo. | D11: Número total de organizaciones sociales ingresadas al programa Más AM Autovalentes en el periodo. | E11: Total | F11: Número de Servicios Locales que cuentan con Planes Intersectoriales para el fomento del Envejecimiento Activo y Positivo en el periodo. | G11: Número total de Servicios Locales en el periodo | H11: Total
B12: 04101-LA SERENA | C12: =IFERROR(VLOOKUP($B12,'IND 10.1_'!$H$3:$I$49,2,FALSE),0) -> 112 | D12: =IFERROR(VLOOKUP($B12,'IND 10.1_'!$H$113:$I$167,2,FALSE),0) -> 135 | E12: =IFERROR(C12/D12,0) -> 0.82962963 | F12: =IFERROR(VLOOKUP($B12,'IND 10.1_'!$H$271:$I$315,2,FALSE),0) -> 7 | G12: =IFERROR(VLOOKUP($B12,'IND 10.1_'!$H$343:$I$389,2,FALSE),0) -> 11 | H12: =IFERROR(F12/G12,0) -> 0.63636364
B13: 04104-LA HIGUERA | C13: =IFERROR(VLOOKUP($B13,'IND 10.1_'!$H$3:$I$49,2,FALSE),0) -> 54 | D13: =IFERROR(VLOOKUP($B13,'IND 10.1_'!$H$113:$I$167,2,FALSE),0) -> 70 | E13: =IFERROR(C13/D13,0) -> 0.77142857 | F13: =IFERROR(VLOOKUP($B13,'IND 10.1_'!$H$271:$I$315,2,FALSE),0) -> 36 | G13: =IFERROR(VLOOKUP($B13,'IND 10.1_'!$H$343:$I$389,2,FALSE),0) -> 37 | H13: =IFERROR(F13/G13,0) -> 0.97297297
B14: 04102-COQUIMBO | C14: =IFERROR(VLOOKUP($B14,'IND 10.1_'!$H$3:$I$49,2,FALSE),0) -> 68 | D14: =IFERROR(VLOOKUP($B14,'IND 10.1_'!$H$113:$I$167,2,FALSE),0) -> 84 | E14: =IFERROR(C14/D14,0) -> 0.80952381 | F14: =IFERROR(VLOOKUP($B14,'IND 10.1_'!$H$271:$I$315,2,FALSE),0) -> 8 | G14: =IFERROR(VLOOKUP($B14,'IND 10.1_'!$H$343:$I$389,2,FALSE),0) -> 14 | H14: =IFERROR(F14/G14,0) -> 0.57142857
B15: 04106-VICUÑA | C15: =IFERROR(VLOOKUP($B15,'IND 10.1_'!$H$3:$I$49,2,FALSE),0) -> 0 | D15: =IFERROR(VLOOKUP($B15,'IND 10.1_'!$H$113:$I$167,2,FALSE),0) -> 0 | E15: =IFERROR(C15/D15,0) -> 0 | F15: =IFERROR(VLOOKUP($B15,'IND 10.1_'!$H$271:$I$315,2,FALSE),0) -> 0 | G15: =IFERROR(VLOOKUP($B15,'IND 10.1_'!$H$343:$I$389,2,FALSE),0) -> 0 | H15: =IFERROR(F15/G15,0) -> 0
B16: 04105-PAIHUANO | C16: =IFERROR(VLOOKUP($B16,'IND 10.1_'!$H$3:$I$49,2,FALSE),0) -> 0 | D16: =IFERROR(VLOOKUP($B16,'IND 10.1_'!$H$113:$I$167,2,FALSE),0) -> 0 | E16: =IFERROR(C16/D16,0) -> 0 | F16: =IFERROR(VLOOKUP($B16,'IND 10.1_'!$H$271:$I$315,2,FALSE),0) -> 0 | G16: =IFERROR(VLOOKUP($B16,'IND 10.1_'!$H$343:$I$389,2,FALSE),0) -> 0 | H16: =IFERROR(F16/G16,0) -> 0
B17: 04301-OVALLE | C17: =IFERROR(VLOOKUP($B17,'IND 10.1_'!$H$3:$I$49,2,FALSE),0) -> 42 | D17: =IFERROR(VLOOKUP($B17,'IND 10.1_'!$H$113:$I$167,2,FALSE),0) -> 43 | E17: =IFERROR(C17/D17,0) -> 0.97674419 | F17: =IFERROR(VLOOKUP($B17,'IND 10.1_'!$H$271:$I$315,2,FALSE),0) -> 19 | G17: =IFERROR(VLOOKUP($B17,'IND 10.1_'!$H$343:$I$389,2,FALSE),0) -> 27 | H17: =IFERROR(F17/G17,0) -> 0.7037037
B18: 04305-RIO HURTADO | C18: =IFERROR(VLOOKUP($B18,'IND 10.1_'!$H$3:$I$49,2,FALSE),0) -> 24 | D18: =IFERROR(VLOOKUP($B18,'IND 10.1_'!$H$113:$I$167,2,FALSE),0) -> 24 | E18: =IFERROR(C18/D18,0) -> 1 | F18: =IFERROR(VLOOKUP($B18,'IND 10.1_'!$H$271:$I$315,2,FALSE),0) -> 6 | G18: =IFERROR(VLOOKUP($B18,'IND 10.1_'!$H$343:$I$389,2,FALSE),0) -> 10 | H18: =IFERROR(F18/G18,0) -> 0.6
B19: 04303-MONTE PATRIA | C19: =IFERROR(VLOOKUP($B19,'IND 10.1_'!$H$3:$I$49,2,FALSE),0) -> 20 | D19: =IFERROR(VLOOKUP($B19,'IND 10.1_'!$H$113:$I$167,2,FALSE),0) -> 26 | E19: =IFERROR(C19/D19,0) -> 0.76923077 | F19: =IFERROR(VLOOKUP($B19,'IND 10.1_'!$H$271:$I$315,2,FALSE),0) -> 14 | G19: =IFERROR(VLOOKUP($B19,'IND 10.1_'!$H$343:$I$389,2,FALSE),0) -> 31 | H19: =IFERROR(F19/G19,0) -> 0.4516129
B20: 04304-PUNITAQUI | C20: =IFERROR(VLOOKUP($B20,'IND 10.1_'!$H$3:$I$49,2,FALSE),0) -> 45 | D20: =IFERROR(VLOOKUP($B20,'IND 10.1_'!$H$113:$I$167,2,FALSE),0) -> 26 | E20: =IFERROR(C20/D20,0) -> 1.7307692 | F20: =IFERROR(VLOOKUP($B20,'IND 10.1_'!$H$271:$I$315,2,FALSE),0) -> 11 | G20: =IFERROR(VLOOKUP($B20,'IND 10.1_'!$H$343:$I$389,2,FALSE),0) -> 9 | H20: =IFERROR(F20/G20,0) -> 1.2222222
B21: 04302-COMBARBALÁ | C21: =IFERROR(VLOOKUP($B21,'IND 10.1_'!$H$3:$I$49,2,FALSE),0) -> 17 | D21: =IFERROR(VLOOKUP($B21,'IND 10.1_'!$H$113:$I$167,2,FALSE),0) -> 77 | E21: =IFERROR(C21/D21,0) -> 0.22077922 | F21: =IFERROR(VLOOKUP($B21,'IND 10.1_'!$H$271:$I$315,2,FALSE),0) -> 47 | G21: =IFERROR(VLOOKUP($B21,'IND 10.1_'!$H$343:$I$389,2,FALSE),0) -> 60 | H21: =IFERROR(F21/G21,0) -> 0.78333333
B22: 04201-ILLAPEL | C22: =IFERROR(VLOOKUP($B22,'IND 10.1_'!$H$3:$I$49,2,FALSE),0) -> 0 | D22: =IFERROR(VLOOKUP($B22,'IND 10.1_'!$H$113:$I$167,2,FALSE),0) -> 0 | E22: =IFERROR(C22/D22,0) -> 0 | F22: =IFERROR(VLOOKUP($B22,'IND 10.1_'!$H$271:$I$315,2,FALSE),0) -> 0 | G22: =IFERROR(VLOOKUP($B22,'IND 10.1_'!$H$343:$I$389,2,FALSE),0) -> 0 | H22: =IFERROR(F22/G22,0) -> 0
B23: 04204-SALAMANCA | C23: =IFERROR(VLOOKUP($B23,'IND 10.1_'!$H$3:$I$49,2,FALSE),0) -> 8 | D23: =IFERROR(VLOOKUP($B23,'IND 10.1_'!$H$113:$I$167,2,FALSE),0) -> 8 | E23: =IFERROR(C23/D23,0) -> 1 | F23: =IFERROR(VLOOKUP($B23,'IND 10.1_'!$H$271:$I$315,2,FALSE),0) -> 17 | G23: =IFERROR(VLOOKUP($B23,'IND 10.1_'!$H$343:$I$389,2,FALSE),0) -> 11 | H23: =IFERROR(F23/G23,0) -> 1.5454545
... B25: 04202-CANELA | C25: =IFERROR(VLOOKUP($B25,'IND 10.1_'!$H$3:$I$49,2,FALSE),0) -> 19 | D25: =IFERROR(VLOOKUP($B25,'IND 10.1_'!$H$113:$I$167,2,FALSE),0) -> 44 | E25: =IFERROR(C25/D25,0) -> 0.43181818 | F25: =IFERROR(VLOOKUP($B25,'IND 10.1_'!$H$271:$I$315,2,FALSE),0) -> 7 | G25: =IFERROR(VLOOKUP($B25,'IND 10.1_'!$H$343:$I$389,2,FALSE),0) -> 8 | H25: =IFERROR(F25/G25,0) -> 0.875
B26: HOSPITAL
B27: 105104-HOSPITAL SALAMANCA | C27: =IFERROR(VLOOKUP($B27,'IND 10.1_'!$H$3:$I$49,2,FALSE),0) -> 0 | D27: =IFERROR(VLOOKUP($B27,'IND 10.1_'!$H$113:$I$167,2,FALSE),0) -> 0 | E27: =IFERROR(C27/D27,0) -> 0 | F27: =IFERROR(VLOOKUP($B27,'IND 10.1_'!$H$271:$I$315,2,FALSE),0) -> 0 | G27: =IFERROR(VLOOKUP($B27,'IND 10.1_'!$H$343:$I$389,2,FALSE),0) -> 0 | H27: =IFERROR(F27/G27,0) -> 0
B28: 105105-HOSPITAL COMBARBALÁ | C28: =IFERROR(VLOOKUP($B28,'IND 10.1_'!$H$3:$I$49,2,FALSE),0) -> 0 | D28: =IFERROR(VLOOKUP($B28,'IND 10.1_'!$H$113:$I$167,2,FALSE),0) -> 0 | E28: =IFERROR(C28/D28,0) -> 0 | F28: =IFERROR(VLOOKUP($B28,'IND 10.1_'!$H$271:$I$315,2,FALSE),0) -> 0 | G28: =IFERROR(VLOOKUP($B28,'IND 10.1_'!$H$343:$I$389,2,FALSE),0) -> 0 | H28: =IFERROR(F28/G28,0) -> 0
B29: 105106-HOSPITAL ANDACOLLO | C29: =IFERROR(VLOOKUP($B29,'IND 10.1_'!$H$3:$I$49,2,FALSE),0) -> 0 | D29: =IFERROR(VLOOKUP($B29,'IND 10.1_'!$H$113:$I$167,2,FALSE),0) -> 0 | E29: =IFERROR(C29/D29,0) -> 0 | F29: =IFERROR(VLOOKUP($B29,'IND 10.1_'!$H$271:$I$315,2,FALSE),0) -> 0 | G29: =IFERROR(VLOOKUP($B29,'IND 10.1_'!$H$343:$I$389,2,FALSE),0) -> 0 | H29: =IFERROR(F29/G29,0) -> 0
B30: 105107-HOSPITAL VICUÑA | C30: =IFERROR(VLOOKUP($B30,'IND 10.1_'!$H$3:$I$49,2,FALSE),0) -> 0 | D30: =IFERROR(VLOOKUP($B30,'IND 10.1_'!$H$113:$I$167,2,FALSE),0) -> 0 | E30: =IFERROR(C30/D30,0) -> 0 | F30: =IFERROR(VLOOKUP($B30,'IND 10.1_'!$H$271:$I$315,2,FALSE),0) -> 0 | G30: =IFERROR(VLOOKUP($B30,'IND 10.1_'!$H$343:$I$389,2,FALSE),0) -> 0 | H30: =IFERROR(F30/G30,0) -> 0
B31: 105108-HOSPITAL LOS VILOS | C31: =IFERROR(VLOOKUP($B31,'IND 10.1_'!$H$3:$I$49,2,FALSE),0) -> 0 | D31: =IFERROR(VLOOKUP($B31,'IND 10.1_'!$H$113:$I$167,2,FALSE),0) -> 0 | E31: =IFERROR(C31/D31,0) -> 0 | F31: =IFERROR(VLOOKUP($B31,'IND 10.1_'!$H$271:$I$315,2,FALSE),0) -> 0 | G31: =IFERROR(VLOOKUP($B31,'IND 10.1_'!$H$343:$I$389,2,FALSE),0) -> 0 | H31: =IFERROR(F31/G31,0) -> 0

Sheet IND 10.1_
A1: NUMERADOR A
A2: Idestablecimiento | B2: Establecimiento | C2: Comuna | D2: Mes | E2: Total
A3: 105300 | B3: =IFERROR(VLOOKUP(A3,[1]Establecimientos!$A$1:$F$174,3,FALSE),0) -> 105300-CES. CARDENAL CARO | C3: =IFERROR(VLOOKUP(A3,[1]Establecimientos!$A$1:$F$174,5,FALSE),0) -> 04101-LA SERENA | D3: 3 | E3: 2 | H3: Etiquetas de fila | I3: Suma de Total
A4: 105300 | B4: =IFERROR(VLOOKUP(A4,[1]Establecimientos!$A$1:$F$174,3,FALSE),0) -> 105300-CES. CARDENAL CARO | C4: =IFERROR(VLOOKUP(A4,[1]Establecimientos!$A$1:$F$174,5,FALSE),0) -> 04101-LA SERENA | D4: 4 | E4: 3 | H4: 04101-LA SERENA | I4: 112
A5: 105300 | B5: =IFERROR(VLOOKUP(A5,[1]Establecimientos!$A$1:$F$174,3,FALSE),0) -> 105300-CES. CARDENAL CARO | C5: =IFERROR(VLOOKUP(A5,[1]Establecimientos!$A$1:$F$174,5,FALSE),0) -> 04101-LA SERENA | D5: 5 | E5: 4 | H5: 105300-CES. CARDENAL CARO | I5: 23
A6: 105300 | B6: =IFERROR(VLOOKUP(A6,[1]Establecimientos!$A$1:$F$174,3,FALSE),0) -> 105300-CES. CARDENAL CARO | C6: =IFERROR(VLOOKUP(A6,[1]Establecimientos!$A$1:$F$174,5,FALSE),0) -> 04101-LA SERENA | D6: 6 | E6: 3 | H6: 105301-CES. LAS COMPAÑIAS | I6: 15
A7: 105300 | B7: =IFERROR(VLOOKUP(A7,[1]Establecimientos!$A$1:$F$174,3,FALSE),0) -> 105300-CES. CARDENAL CARO | C7: =IFERROR(VLOOKUP(A7,[1]Establecimientos!$A$1:$F$174,5,FALSE),0) -> 04101-LA SERENA | D7: 7 | E7: 3 | H7: 105302-CES. PEDRO AGUIRRE C. | I7: 8
A8: 105300 | B8: =IFERROR(VLOOKUP(A8,[1]Establecimientos!$A$1:$F$174,3,FALSE),0) -> 105300-CES. CARDENAL CARO | C8: =IFERROR(VLOOKUP(A8,[1]Establecimientos!$A$1:$F$174,5,FALSE),0) -> 04101-LA SERENA | D8: 8 | E8: 2 | H8: 105313-CES. SCHAFFHAUSER | I8: 18
A9: 105300 | B9: =IFERROR(VLOOKUP(A9,[1]Establecimientos!$A$1:$F$174,3,FALSE),0) -> 105300-CES. CARDENAL CARO | C9: =IFERROR(VLOOKUP(A9,[1]Establecimientos!$A$1:$F$174,5,FALSE),0) -> 04101-LA SERENA | D9: 9 | E9: 2 | H9: 105319-CES. CARDENAL R.S.H. | I9: 17
A10: 105300 | B10: =IFERROR(VLOOKUP(A10,[1]Establecimientos!$A$1:$F$174,3,FALSE),0) -> 105300-CES. CARDENAL CARO | C10: =IFERROR(VLOOKUP(A10,[1]Establecimientos!$A$1:$F$174,5,FALSE),0) -> 04101-LA SERENA | D10: 10 | E10: 2 | H10: 105325-CESFAM JUAN PABLO II | I10: 14
A11: 105300 | B11: =IFERROR(VLOOKUP(A11,[1]Establecimientos!$A$1:$F$174,3,FALSE),0) -> 105300-CES. CARDENAL CARO | C11: =IFERROR(VLOOKUP(A11,[1]Establecimientos!$A$1:$F$174,5,FALSE),0) -> 04101-LA SERENA | D11: 11 | E11: 2 | H11: 105400-P.S.R. ALGARROBITO | I11: 1
A12: 105301 | B12: =IFERROR(VLOOKUP(A12,[1]Establecimientos!$A$1:$F$174,3,FALSE),0) -> 105301-CES. LAS COMPAÑIAS | C12: =IFERROR(VLOOKUP(A12,[1]Establecimientos!$A$1:$F$174,5,FALSE),0) -> 04101-LA SERENA | D12: 6 | E12: 4 | H12: 105401-P.S.R. LAS ROJAS | I12: 4
A13: 105301 | B13: =IFERROR(VLOOKUP(A13,[1]Establecimientos!$A$1:$F$174,3,FALSE),0) -> 105301-CES. LAS COMPAÑIAS | C13: =IFERROR(VLOOKUP(A13,[1]Establecimientos!$A$1:$F$174,5,FALSE),0) -> 04101-LA SERENA | D13: 8 | E13: 4 | H13: 105801-SAPU LAS COMPAÑÍAS | I13: 12
A14: 105301 | B14: =IFERROR(VLOOKUP(A14,[1]Establecimientos!$A$1:$F$174,3,FALSE),0) -> 105301-CES. LAS COMPAÑIAS | C14: =IFERROR(VLOOKUP(A14,[1]Establecimientos!$A$1:$F$174,5,FALSE),0) -> 04101-LA SERENA | D14: 9 | E14: 3 | H14: 04102-COQUIMBO | I14: 68
A15: 105301 | B15: =IFERROR(VLOOKUP(A15,[1]Establecimientos!$A$1:$F$174,3,FALSE),0) -> 105301-CES. LAS COMPAÑIAS | C15: =IFERROR(VLOOKUP(A15,[1]Establecimientos!$A$1:$F$174,5,FALSE),0) -> 04101-LA SERENA | D15: 12 | E15: 4 | H15: 105303-CES. SAN JUAN | I15: 26
... A49: 105309 | B49: =IFERROR(VLOOKUP(A49,[1]Establecimientos!$A$1:$F$174,3,FALSE),0) -> 105309-CES. RURAL CANELA | C49: =IFERROR(VLOOKUP(A49,[1]Establecimientos!$A$1:$F$174,5,FALSE),0) -> 04202-CANELA | D49: 11 | E49: 2 | H49: Total general | I49: 409
A50: 105309 | B50: =IFERROR(VLOOKUP(A50,[1]Establecimientos!$A$1:$F$174,3,FALSE),0) -> 105309-CES. RURAL CANELA | C50: =IFERROR(VLOOKUP(A50,[1]Establecimientos!$A$1:$F$174,5,FALSE),0) -> 04202-CANELA | D50: 12 | E50: 2
A51: 105310 | B51: =IFERROR(VLOOKUP(A51,[1]Establecimientos!$A$1:$F$174,3,FALSE),0) -> 105310-CES. RURAL PICHASCA | C51: =IFERROR(VLOOKUP(A51,[1]Establecimientos!$A$1:$F$174,5,FALSE),0) -> 04305-RIO HURTADO | D51: 8 | E51: 24
A52: 105311 | B52: =IFERROR(VLOOKUP(A52,[1]Establecimientos!$A$1:$F$174,3,FALSE),0) -> 105311-CES. RURAL CHAÑARAL ALTO | C52: =IFERROR(VLOOKUP(A52,[1]Establecimientos!$A$1:$F$174,5,FALSE),0) -> 04303-MONTE PATRIA | D52: 8 | E52: 2
A53: 105313 | B53: =IFERROR(VLOOKUP(A53,[1]Establecimientos!$A$1:$F$174,3,FALSE),0) -> 105313-CES. SCHAFFHAUSER | C53: =IFERROR(VLOOKUP(A53,[1]Establecimientos!$A$1:$F$174,5,FALSE),0) -> 04101-LA SERENA | D53: 3 | E53: 2
A54: 105313 | B54: =IFERROR(VLOOKUP(A54,[1]Establecimientos!$A$1:$F$174,3,FALSE),0) -> 105313-CES. SCHAFFHAUSER | C54: =IFERROR(VLOOKUP(A54,[1]Establecimientos!$A$1:$F$174,5,FALSE),0) -> 04101-LA SERENA | D54: 4 | E54: 2
A55: 105313 | B55: =IFERROR(VLOOKUP(A55,[1]Establecimientos!$A$1:$F$174,3,FALSE),0) -> 105313-CES. SCHAFFHAUSER | C55: =IFERROR(VLOOKUP(A55,[1]Establecimientos!$A$1:$F$174,5,FALSE),0) -> 04101-LA SERENA | D55: 6 | E55: 2
A56: 105313 | B56: =IFERROR(VLOOKUP(A56,[1]Establecimientos!$A$1:$F$174,3,FALSE),0) -> 105313-CES. SCHAFFHAUSER | C56: =IFERROR(VLOOKUP(A56,[1]Establecimientos!$A$1:$F$174,5,FALSE),0) -> 04101-LA SERENA | D56: 7 | E56: 3
A57: 105313 | B57: =IFERROR(VLOOKUP(A57,[1]Establecimientos!$A$1:$F$174,3,FALSE),0) -> 105313-CES. SCHAFFHAUSER | C57: =IFERROR(VLOOKUP(A57,[1]Establecimientos!$A$1:$F$174,5,FALSE),0) -> 04101-LA SERENA | D57: 8 | E57: 4
A58: 105313 | B58: =IFERROR(VLOOKUP(A58,[1]Establecimientos!$A$1:$F$174,3,FALSE),0) -> 105313-CES. SCHAFFHAUSER | C58: =IFERROR(VLOOKUP(A58,[1]Establecimientos!$A$1:$F$174,5,FALSE),0) -> 04101-LA SERENA | D58: 10 | E58: 2
A59: 105313 | B59: =IFERROR(VLOOKUP(A59,[1]Establecimientos!$A$1:$F$174,3,FALSE),0) -> 105313-CES. SCHAFFHAUSER | C59: =IFERROR(VLOOKUP(A59,[1]Establecimientos!$A$1:$F$174,5,FALSE),0) -> 04101-LA SERENA | D59: 11 | E59: 3
A60: 105314 | B60: =IFERROR(VLOOKUP(A60,[1]Establecimientos!$A$1:$F$174,3,FALSE),0) -> 105314-CES. LA HIGUERA | C60: =IFERROR(VLOOKUP(A60,[1]Establecimientos!$A$1:$F$174,5,FALSE),0) -> 04104-LA HIGUERA | D60: 10 | E60: 2
A61: 105314 | B61: =IFERROR(VLOOKUP(A61,[1]Establecimientos!$A$1:$F$174,3,FALSE),0) -> 105314-CES. LA HIGUERA | C61: =IFERROR(VLOOKUP(A61,[1]Establecimientos!$A$1:$F$174,5,FALSE),0) -> 04104-LA HIGUERA | D61: 11 | E61: 1
... A108: 105801 | B108: =IFERROR(VLOOKUP(A108,[1]Establecimientos!$A$1:$F$174,3,FALSE),0) -> 105801-SAPU LAS COMPAÑÍAS | C108: =IFERROR(VLOOKUP(A108,[1]Establecimientos!$A$1:$F$174,5,FALSE),0) -> 04101-LA SERENA | D108: 11 | E108: 4
A110: DENOMINADOR A
A111: Idestablecimiento | B111: Establecimiento | C111: Comuna | D111: Mes | E111: Total
A112: 105300 | B112: =IFERROR(VLOOKUP(A112,[1]Establecimientos!$A$1:$F$174,3,FALSE),0) -> 105300-CES. CARDENAL CARO | C112: =IFERROR(VLOOKUP(A112,[1]Establecimientos!$A$1:$F$174,5,FALSE),0) -> 04101-LA SERENA | D112: 3 | E112: 2
A113: 105300 | B113: =IFERROR(VLOOKUP(A113,[1]Establecimientos!$A$1:$F$174,3,FALSE),0) -> 105300-CES. CARDENAL CARO | C113: =IFERROR(VLOOKUP(A113,[1]Establecimientos!$A$1:$F$174,5,FALSE),0) -> 04101-LA SERENA | D113: 4 | E113: 3 | H113: Etiquetas de fila | I113: Suma de Total
A114: 105300 | B114: =IFERROR(VLOOKUP(A114,[1]Establecimientos!$A$1:$F$174,3,FALSE),0) -> 105300-CES. CARDENAL CARO | C114: =IFERROR(VLOOKUP(A114,[1]Establecimientos!$A$1:$F$174,5,FALSE),0) -> 04101-LA SERENA | D114: 5 | E114: 4 | H114: 04101-LA SERENA | I114: 135
A115: 105300 | B115: =IFERROR(VLOOKUP(A115,[1]Establecimientos!$A$1:$F$174,3,FALSE),0) -> 105300-CES. CARDENAL CARO | C115: =IFERROR(VLOOKUP(A115,[1]Establecimientos!$A$1:$F$174,5,FALSE),0) -> 04101-LA SERENA | D115: 6 | E115: 3 | H115: 105300-CES. CARDENAL CARO | I115: 23
A116: 105300 | B116: =IFERROR(VLOOKUP(A116,[1]Establecimientos!$A$1:$F$174,3,FALSE),0) -> 105300-CES. CARDENAL CARO | C116: =IFERROR(VLOOKUP(A116,[1]Establecimientos!$A$1:$F$174,5,FALSE),0) -> 04101-LA SERENA | D116: 7 | E116: 3 | H116: 105301-CES. LAS COMPAÑIAS | I116: 21
A117: 105300 | B117: =IFERROR(VLOOKUP(A117,[1]Establecimientos!$A$1:$F$174,3,FALSE),0) -> 105300-CES. CARDENAL CARO | C117: =IFERROR(VLOOKUP(A117,[1]Establecimientos!$A$1:$F$174,5,FALSE),0) -> 04101-LA SERENA | D117: 8 | E117: 2 | H117: 105302-CES. PEDRO AGUIRRE C. | I117: 14
A118: 105300 | B118: =IFERROR(VLOOKUP(A118,[1]Establecimientos!$A$1:$F$174,3,FALSE),0) -> 105300-CES. CARDENAL CARO | C118: =IFERROR(VLOOKUP(A118,[1]Establecimientos!$A$1:$F$174,5,FALSE),0) -> 04101-LA SERENA | D118: 9 | E118: 2 | H118: 105313-CES. SCHAFFHAUSER | I118: 18
A119: 105300 | B119: =IFERROR(VLOOKUP(A119,[1]Establecimientos!$A$1:$F$174,3,FALSE),0) -> 105300-CES. CARDENAL CARO | C119: =IFERROR(VLOOKUP(A119,[1]Establecimientos!$A$1:$F$174,5,FALSE),0) -> 04101-LA SERENA | D119: 10 | E119: 2 | H119: 105319-CES. CARDENAL R.S.H. | I119: 18
A120: 105300 | B120: =IFERROR(VLOOKUP(A120,[1]Establecimientos!$A$1:$F$174,3,FALSE),0) -> 105300-CES. CARDENAL CARO | C120: =IFERROR(VLOOKUP(A120,[1]Establecimientos!$A$1:$F$174,5,FALSE),0) -> 04101-LA SERENA | D120: 11 | E120: 2 | H120: 105325-CESFAM JUAN PABLO II | I120: 16
A121: 105301 | B121: =IFERROR(VLOOKUP(A121,[1]Establecimientos!$A$1:$F$174,3,FALSE),0) -> 105301-CES. LAS COMPAÑIAS | C121: =IFERROR(VLOOKUP(A121,[1]Establecimientos!$A$1:$F$174,5,FALSE),0) -> 04101-LA SERENA | D121: 4 | E121: 1 | H121: 105400-P.S.R. ALGARROBITO | I121: 1
A122: 105301 | B122: =IFERROR(VLOOKUP(A122,[1]Establecimientos!$A$1:$F$174,3,FALSE),0) -> 105301-CES. LAS COMPAÑIAS | C122: =IFERROR(VLOOKUP(A122,[1]Establecimientos!$A$1:$F$174,5,FALSE),0) -> 04101-LA SERENA | D122: 6 | E122: 5 | H122: 105401-P.S.R. LAS ROJAS | I122: 5
A123: 105301 | B123: =IFERROR(VLOOKUP(A123,[1]Establecimientos!$A$1:$F$174,3,FALSE),0) -> 105301-CES. LAS COMPAÑIAS | C123: =IFERROR(VLOOKUP(A123,[1]Establecimientos!$A$1:$F$174,5,FALSE),0) -> 04101-LA SERENA | D123: 8 | E123: 5 | H123: 105402-P.S.R. EL ROMERO | I123: 3
A124: 105301 | B124: =IFERROR(VLOOKUP(A124,[1]Establecimientos!$A$1:$F$174,3,FALSE),0) -> 105301-CES. LAS COMPAÑIAS | C124: =IFERROR(VLOOKUP(A124,[1]Establecimientos!$A$1:$F$174,5,FALSE),0) -> 04101-LA SERENA | D124: 9 | E124: 4 | H124: 105499-P.S.R. LAMBERT | I124: 1
A125: 105301 | B125: =IFERROR(VLOOKUP(A125,[1]Establecimientos!$A$1:$F$174,3,FALSE),0) -> 105301-CES. LAS COMPAÑIAS | C125: =IFERROR(VLOOKUP(A125,[1]Establecimientos!$A$1:$F$174,5,FALSE),0) -> 04101-LA SERENA | D125: 10 | E125: 1 | H125: 105801-SAPU LAS COMPAÑÍAS | I125: 15
... A167: 105309 | B167: =IFERROR(VLOOKUP(A167,[1]Establecimientos!$A$1:$F$174,3,FALSE),0) -> 105309-CES. RURAL CANELA | C167: =IFERROR(VLOOKUP(A167,[1]Establecimientos!$A$1:$F$174,5,FALSE),0) -> 04202-CANELA | D167: 6 | E167: 12 | H167: Total general | I167: 537
A168: 105310 | B168: =IFERROR(VLOOKUP(A168,[1]Establecimientos!$A$1:$F$174,3,FALSE),0) -> 105310-CES. RURAL PICHASCA | C168: =IFERROR(VLOOKUP(A168,[1]Establecimientos!$A$1:$F$174,5,FALSE),0) -> 04305-RIO HURTADO | D168: 3 | E168: 6
A169: 105310 | B169: =IFERROR(VLOOKUP(A169,[1]Establecimientos!$A$1:$F$174,3,FALSE),0) -> 105310-CES. RURAL PICHASCA | C169: =IFERROR(VLOOKUP(A169,[1]Establecimientos!$A$1:$F$174,5,FALSE),0) -> 04305-RIO HURTADO | D169: 4 | E169: 5
A170: 105310 | B170: =IFERROR(VLOOKUP(A170,[1]Establecimientos!$A$1:$F$174,3,FALSE),0) -> 105310-CES. RURAL PICHASCA | C170: =IFERROR(VLOOKUP(A170,[1]Establecimientos!$A$1:$F$174,5,FALSE),0) -> 04305-RIO HURTADO | D170: 5 | E170: 7
A171: 105310 | B171: =IFERROR(VLOOKUP(A171,[1]Establecimientos!$A$1:$F$174,3,FALSE),0) -> 105310-CES. RURAL PICHASCA | C171: =IFERROR(VLOOKUP(A171,[1]Establecimientos!$A$1:$F$174,5,FALSE),0) -> 04305-RIO HURTADO | D171: 6 | E171: 3
A172: 105310 | B172: =IFERROR(VLOOKUP(A172,[1]Establecimientos!$A$1:$F$174,3,FALSE),0) -> 105310-CES. RURAL PICHASCA | C172: =IFERROR(VLOOKUP(A172,[1]Establecimientos!$A$1:$F$174,5,FALSE),0) -> 04305-RIO HURTADO | D172: 7 | E172: 2
A173: 105310 | B173: =IFERROR(VLOOKUP(A173,[1]Establecimientos!$A$1:$F$174,3,FALSE),0) -> 105310-CES. RURAL PICHASCA | C173: =IFERROR(VLOOKUP(A173,[1]Establecimientos!$A$1:$F$174,5,FALSE),0) -> 04305-RIO HURTADO | D173: 8 | E173: 1
A174: 105311 | B174: =IFERROR(VLOOKUP(A174,[1]Establecimientos!$A$1:$F$174,3,FALSE),0) -> 105311-CES. RURAL CHAÑARAL ALTO | C174: =IFERROR(VLOOKUP(A174,[1]Establecimientos!$A$1:$F$174,5,FALSE),0) -> 04303-MONTE PATRIA | D174: 6 | E174: 2
A175: 105311 | B175: =IFERROR(VLOOKUP(A175,[1]Establecimientos!$A$1:$F$174,3,FALSE),0) -> 105311-CES. RURAL CHAÑARAL ALTO | C175: =IFERROR(VLOOKUP(A175,[1]Establecimientos!$A$1:$F$174,5,FALSE),0) -> 04303-MONTE PATRIA | D175: 10 | E175: 2
A176: 105313 | B176: =IFERROR(VLOOKUP(A176,[1]Establecimientos!$A$1:$F$174,3,FALSE),0) -> 105313-CES. SCHAFFHAUSER | C176: =IFERROR(VLOOKUP(A176,[1]Establecimientos!$A$1:$F$174,5,FALSE),0) -> 04101-LA SERENA | D176: 3 | E176: 2
A177: 105313 | B177: =IFERROR(VLOOKUP(A177,[1]Establecimientos!$A$1:$F$174,3,FALSE),0) -> 105313-CES. SCHAFFHAUSER | C177: =IFERROR(VLOOKUP(A177,[1]Establecimientos!$A$1:$F$174,5,FALSE),0) -> 04101-LA SERENA | D177: 4 | E177: 2
A178: 105313 | B178: =IFERROR(VLOOKUP(A178,[1]Establecimientos!$A$1:$F$174,3,FALSE),0) -> 105313-CES. SCHAFFHAUSER | C178: =IFERROR(VLOOKUP(A178,[1]Establecimientos!$A$1:$F$174,5,FALSE),0) -> 04101-LA SERENA | D178: 6 | E178: 2
A179: 105313 | B179: =IFERROR(VLOOKUP(A179,[1]Establecimientos!$A$1:$F$174,3,FALSE),0) -> 105313-CES. SCHAFFHAUSER | C179: =IFERROR(VLOOKUP(A179,[1]Establecimientos!$A$1:$F$174,5,FALSE),0) -> 04101-LA SERENA | D179: 7 | E179: 3
... A267: 105801 | B267: =IFERROR(VLOOKUP(A267,[1]Establecimientos!$A$1:$F$174,3,FALSE),0) -> 105801-SAPU LAS COMPAÑÍAS | C267: =IFERROR(VLOOKUP(A267,[1]Establecimientos!$A$1:$F$174,5,FALSE),0) -> 04101-LA SERENA | D267: 11 | E267: 5
A269: NUMERADOR B
A270: Idestablecimiento | B270: Establecimiento | C270: Comuna | D270: Mes | E270: Total
A271: 105301 | B271: =IFERROR(VLOOKUP(A271,[1]Establecimientos!$A$1:$F$174,3,FALSE),0) -> 105301-CES. LAS COMPAÑIAS | C271: =IFERROR(VLOOKUP(A271,[1]Establecimientos!$A$1:$F$174,5,FALSE),0) -> 04101-LA SERENA | D271: 10 | E271: 6 | H271: Etiquetas de fila | I271: Suma de Total
A272: 105304 | B272: =IFERROR(VLOOKUP(A272,[1]Establecimientos!$A$1:$F$174,3,FALSE),0) -> 105304-CES. SANTA CECILIA | C272: =IFERROR(VLOOKUP(A272,[1]Establecimientos!$A$1:$F$174,5,FALSE),0) -> 04102-COQUIMBO | D272: 4 | E272: 1 | H272: 04101-LA SERENA | I272: 7
A273: 105305 | B273: =IFERROR(VLOOKUP(A273,[1]Establecimientos!$A$1:$F$174,3,FALSE),0) -> 105305-CES. TIERRAS BLANCAS | C273: =IFERROR(VLOOKUP(A273,[1]Establecimientos!$A$1:$F$174,5,FALSE),0) -> 04102-COQUIMBO | D273: 2 | E273: 1 | H273: 105301-CES. LAS COMPAÑIAS | I273: 6
A274: 105305 | B274: =IFERROR(VLOOKUP(A274,[1]Establecimientos!$A$1:$F$174,3,FALSE),0) -> 105305-CES. TIERRAS BLANCAS | C274: =IFERROR(VLOOKUP(A274,[1]Establecimientos!$A$1:$F$174,5,FALSE),0) -> 04102-COQUIMBO | D274: 4 | E274: 1 | H274: 105319-CES. CARDENAL R.S.H. | I274: 1
A275: 105307 | B275: =IFERROR(VLOOKUP(A275,[1]Establecimientos!$A$1:$F$174,3,FALSE),0) -> 105307-CES. RURAL MONTE PATRIA | C275: =IFERROR(VLOOKUP(A275,[1]Establecimientos!$A$1:$F$174,5,FALSE),0) -> 04303-MONTE PATRIA | D275: 12 | E275: 2 | H275: 04102-COQUIMBO | I275: 8
A276: 105308 | B276: =IFERROR(VLOOKUP(A276,[1]Establecimientos!$A$1:$F$174,3,FALSE),0) -> 105308-CES. RURAL PUNITAQUI | C276: =IFERROR(VLOOKUP(A276,[1]Establecimientos!$A$1:$F$174,5,FALSE),0) -> 04304-PUNITAQUI | D276: 4 | E276: 1 | H276: 105304-CES. SANTA CECILIA | I276: 1
A277: 105308 | B277: =IFERROR(VLOOKUP(A277,[1]Establecimientos!$A$1:$F$174,3,FALSE),0) -> 105308-CES. RURAL PUNITAQUI | C277: =IFERROR(VLOOKUP(A277,[1]Establecimientos!$A$1:$F$174,5,FALSE),0) -> 04304-PUNITAQUI | D277: 5 | E277: 1 | H277: 105305-CES. TIERRAS BLANCAS | I277: 2
A278: 105308 | B278: =IFERROR(VLOOKUP(A278,[1]Establecimientos!$A$1:$F$174,3,FALSE),0) -> 105308-CES. RURAL PUNITAQUI | C278: =IFERROR(VLOOKUP(A278,[1]Establecimientos!$A$1:$F$174,5,FALSE),0) -> 04304-PUNITAQUI | D278: 6 | E278: 1 | H278: 105323-CES. DR. SERGIO AGUILAR | I278: 5
A279: 105308 | B279: =IFERROR(VLOOKUP(A279,[1]Establecimientos!$A$1:$F$174,3,FALSE),0) -> 105308-CES. RURAL PUNITAQUI | C279: =IFERROR(VLOOKUP(A279,[1]Establecimientos!$A$1:$F$174,5,FALSE),0) -> 04304-PUNITAQUI | D279: 7 | E279: 1 | H279: 04104-LA HIGUERA | I279: 36
A280: 105308 | B280: =IFERROR(VLOOKUP(A280,[1]Establecimientos!$A$1:$F$174,3,FALSE),0) -> 105308-CES. RURAL PUNITAQUI | C280: =IFERROR(VLOOKUP(A280,[1]Establecimientos!$A$1:$F$174,5,FALSE),0) -> 04304-PUNITAQUI | D280: 9 | E280: 1 | H280: 105314-CES. LA HIGUERA | I280: 9
A281: 105308 | B281: =IFERROR(VLOOKUP(A281,[1]Establecimientos!$A$1:$F$174,3,FALSE),0) -> 105308-CES. RURAL PUNITAQUI | C281: =IFERROR(VLOOKUP(A281,[1]Establecimientos!$A$1:$F$174,5,FALSE),0) -> 04304-PUNITAQUI | D281: 11 | E281: 5 | H281: 105500-P.S.R. CALETA HORNOS | I281: 9
A282: 105308 | B282: =IFERROR(VLOOKUP(A282,[1]Establecimientos!$A$1:$F$174,3,FALSE),0) -> 105308-CES. RURAL PUNITAQUI | C282: =IFERROR(VLOOKUP(A282,[1]Establecimientos!$A$1:$F$174,5,FALSE),0) -> 04304-PUNITAQUI | D282: 12 | E282: 1 | H282: 105505-P.S.R. LOS CHOROS | I282: 9
A283: 105309 | B283: =IFERROR(VLOOKUP(A283,[1]Establecimientos!$A$1:$F$174,3,FALSE),0) -> 105309-CES. RURAL CANELA | C283: =IFERROR(VLOOKUP(A283,[1]Establecimientos!$A$1:$F$174,5,FALSE),0) -> 04202-CANELA | D283: 4 | E283: 1 | H283: 105506-P.S.R. EL TRAPICHE | I283: 9
... A315: 105459 | B315: =IFERROR(VLOOKUP(A315,[1]Establecimientos!$A$1:$F$174,3,FALSE),0) -> 105459-P.S.R. BARRANCAS | C315: =IFERROR(VLOOKUP(A315,[1]Establecimientos!$A$1:$F$174,5,FALSE),0) -> 04302-COMBARBALÁ | D315: 11 | E315: 7 | H315: Total general | I315: 172
A316: 105460 | B316: =IFERROR(VLOOKUP(A316,[1]Establecimientos!$A$1:$F$174,3,FALSE),0) -> 105460-P.S.R. COGOTI 18 | C316: =IFERROR(VLOOKUP(A316,[1]Establecimientos!$A$1:$F$174,5,FALSE),0) -> 04302-COMBARBALÁ | D316: 5 | E316: 4
A317: 105460 | B317: =IFERROR(VLOOKUP(A317,[1]Establecimientos!$A$1:$F$174,3,FALSE),0) -> 105460-P.S.R. COGOTI 18 | C317: =IFERROR(VLOOKUP(A317,[1]Establecimientos!$A$1:$F$174,5,FALSE),0) -> 04302-COMBARBALÁ | D317: 6 | E317: 3
A318: 105460 | B318: =IFERROR(VLOOKUP(A318,[1]Establecimientos!$A$1:$F$174,3,FALSE),0) -> 105460-P.S.R. COGOTI 18 | C318: =IFERROR(VLOOKUP(A318,[1]Establecimientos!$A$1:$F$174,5,FALSE),0) -> 04302-COMBARBALÁ | D318: 7 | E318: 2
A319: 105460 | B319: =IFERROR(VLOOKUP(A319,[1]Establecimientos!$A$1:$F$174,3,FALSE),0) -> 105460-P.S.R. COGOTI 18 | C319: =IFERROR(VLOOKUP(A319,[1]Establecimientos!$A$1:$F$174,5,FALSE),0) -> 04302-COMBARBALÁ | D319: 8 | E319: 2
A320: 105460 | B320: =IFERROR(VLOOKUP(A320,[1]Establecimientos!$A$1:$F$174,3,FALSE),0) -> 105460-P.S.R. COGOTI 18 | C320: =IFERROR(VLOOKUP(A320,[1]Establecimientos!$A$1:$F$174,5,FALSE),0) -> 04302-COMBARBALÁ | D320: 11 | E320: 3
A321: 105462 | B321: =IFERROR(VLOOKUP(A321,[1]Establecimientos!$A$1:$F$174,3,FALSE),0) -> 105462-P.S.R. EL SAUCE | C321: =IFERROR(VLOOKUP(A321,[1]Establecimientos!$A$1:$F$174,5,FALSE),0) -> 04302-COMBARBALÁ | D321: 7 | E321: 2
A322: 105462 | B322: =IFERROR(VLOOKUP(A322,[1]Establecimientos!$A$1:$F$174,3,FALSE),0) -> 105462-P.S.R. EL SAUCE | C322: =IFERROR(VLOOKUP(A322,[1]Establecimientos!$A$1:$F$174,5,FALSE),0) -> 04302-COMBARBALÁ | D322: 8 | E322: 2
A323: 105462 | B323: =IFERROR(VLOOKUP(A323,[1]Establecimientos!$A$1:$F$174,3,FALSE),0) -> 105462-P.S.R. EL SAUCE | C323: =IFERROR(VLOOKUP(A323,[1]Establecimientos!$A$1:$F$174,5,FALSE),0) -> 04302-COMBARBALÁ | D323: 9 | E323: 2
A324: 105463 | B324: =IFERROR(VLOOKUP(A324,[1]Establecimientos!$A$1:$F$174,3,FALSE),0) -> 105463-P.S.R. QUILITAPIA | C324: =IFERROR(VLOOKUP(A324,[1]Establecimientos!$A$1:$F$174,5,FALSE),0) -> 04302-COMBARBALÁ | D324: 7 | E324: 2
A325: 105463 | B325: =IFERROR(VLOOKUP(A325,[1]Establecimientos!$A$1:$F$174,3,FALSE),0) -> 105463-P.S.R. QUILITAPIA | C325: =IFERROR(VLOOKUP(A325,[1]Establecimientos!$A$1:$F$174,5,FALSE),0) -> 04302-COMBARBALÁ | D325: 8 | E325: 2
A326: 105463 | B326: =IFERROR(VLOOKUP(A326,[1]Establecimientos!$A$1:$F$174,3,FALSE),0) -> 105463-P.S.R. QUILITAPIA | C326: =IFERROR(VLOOKUP(A326,[1]Establecimientos!$A$1:$F$174,5,FALSE),0) -> 04302-COMBARBALÁ | D326: 9 | E326: 2
A327: 105465 | B327: =IFERROR(VLOOKUP(A327,[1]Establecimientos!$A$1:$F$174,3,FALSE),0) -> 105465-P.S.R. RAMADILLA | C327: =IFERROR(VLOOKUP(A327,[1]Establecimientos!$A$1:$F$174,5,FALSE),0) -> 04302-COMBARBALÁ | D327: 5 | E327: 1
... A337: 105506 | B337: =IFERROR(VLOOKUP(A337,[1]Establecimientos!$A$1:$F$174,3,FALSE),0) -> 105506-P.S.R. EL TRAPICHE | C337: =IFERROR(VLOOKUP(A337,[1]Establecimientos!$A$1:$F$174,5,FALSE),0) -> 04104-LA HIGUERA | D337: 11 | E337: 3
A339: DENOMINADOR B
A341: Idestablecimiento | B341: Establecimiento | C341: Comuna | D341: Mes | E341: Total
A342: 105301 | B342: =IFERROR(VLOOKUP(A342,[1]Establecimientos!$A$1:$F$174,3,FALSE),0) -> 105301-CES. LAS COMPAÑIAS | C342: =IFERROR(VLOOKUP(A342,[1]Establecimientos!$A$1:$F$174,5,FALSE),0) -> 04101-LA SERENA | D342: 10 | E342: 10
A343: 105303 | B343: =IFERROR(VLOOKUP(A343,[1]Establecimientos!$A$1:$F$174,3,FALSE),0) -> 105303-CES. SAN JUAN | C343: =IFERROR(VLOOKUP(A343,[1]Establecimientos!$A$1:$F$174,5,FALSE),0) -> 04102-COQUIMBO | D343: 4 | E343: 1 | H343: Etiquetas de fila | I343: Suma de Total
A344: 105303 | B344: =IFERROR(VLOOKUP(A344,[1]Establecimientos!$A$1:$F$174,3,FALSE),0) -> 105303-CES. SAN JUAN | C344: =IFERROR(VLOOKUP(A344,[1]Establecimientos!$A$1:$F$174,5,FALSE),0) -> 04102-COQUIMBO | D344: 5 | E344: 1 | H344: 04101-LA SERENA | I344: 11
A345: 105303 | B345: =IFERROR(VLOOKUP(A345,[1]Establecimientos!$A$1:$F$174,3,FALSE),0) -> 105303-CES. SAN JUAN | C345: =IFERROR(VLOOKUP(A345,[1]Establecimientos!$A$1:$F$174,5,FALSE),0) -> 04102-COQUIMBO | D345: 6 | E345: 1 | H345: 105301-CES. LAS COMPAÑIAS | I345: 10
A346: 105303 | B346: =IFERROR(VLOOKUP(A346,[1]Establecimientos!$A$1:$F$174,3,FALSE),0) -> 105303-CES. SAN JUAN | C346: =IFERROR(VLOOKUP(A346,[1]Establecimientos!$A$1:$F$174,5,FALSE),0) -> 04102-COQUIMBO | D346: 7 | E346: 1 | H346: 105319-CES. CARDENAL R.S.H. | I346: 1
A347: 105303 | B347: =IFERROR(VLOOKUP(A347,[1]Establecimientos!$A$1:$F$174,3,FALSE),0) -> 105303-CES. SAN JUAN | C347: =IFERROR(VLOOKUP(A347,[1]Establecimientos!$A$1:$F$174,5,FALSE),0) -> 04102-COQUIMBO | D347: 8 | E347: 1 | H347: 04102-COQUIMBO | I347: 14
A348: 105303 | B348: =IFERROR(VLOOKUP(A348,[1]Establecimientos!$A$1:$F$174,3,FALSE),0) -> 105303-CES. SAN JUAN | C348: =IFERROR(VLOOKUP(A348,[1]Establecimientos!$A$1:$F$174,5,FALSE),0) -> 04102-COQUIMBO | D348: 9 | E348: 1 | H348: 105303-CES. SAN JUAN | I348: 9
A349: 105303 | B349: =IFERROR(VLOOKUP(A349,[1]Establecimientos!$A$1:$F$174,3,FALSE),0) -> 105303-CES. SAN JUAN | C349: =IFERROR(VLOOKUP(A349,[1]Establecimientos!$A$1:$F$174,5,FALSE),0) -> 04102-COQUIMBO | D349: 10 | E349: 1 | H349: 105305-CES. TIERRAS BLANCAS | I349: 1
A350: 105303 | B350: =IFERROR(VLOOKUP(A350,[1]Establecimientos!$A$1:$F$174,3,FALSE),0) -> 105303-CES. SAN JUAN | C350: =IFERROR(VLOOKUP(A350,[1]Establecimientos!$A$1:$F$174,5,FALSE),0) -> 04102-COQUIMBO | D350: 11 | E350: 1 | H350: 105323-CES. DR. SERGIO AGUILAR | I350: 4
A351: 105303 | B351: =IFERROR(VLOOKUP(A351,[1]Establecimientos!$A$1:$F$174,3,FALSE),0) -> 105303-CES. SAN JUAN | C351: =IFERROR(VLOOKUP(A351,[1]Establecimientos!$A$1:$F$174,5,FALSE),0) -> 04102-COQUIMBO | D351: 12 | E351: 1 | H351: 04104-LA HIGUERA | I351: 37
...

Sheet Indicador 10.3
A1: MINISTERIO DE SALUD
A2: SERVICIO DE SALUD COQUIMBO
A3: DEPARTAMENTO DE GESTIÓN, PLANIFICACIÓN Y CONTROL
A4: SUBDEPTO. DE ESTADÍSTICAS Y GESTIÓN DE LA INFORMACIÓN
A5: AÑO 2022
E7: COMUNA | F7: INDICADOR 10.3
F8: Porcentaje de personas con 65 años o más ingresadas a Cuidado Integral, que cuentan con Plan de Cuidado Integral Consensuado en el periodo.
F9: Número de personas de 65 años o más ingresadas a Cuidado Integral centrado en las personas que cuentan con plan de cuidado integral consensuado | G9: N° total de personas de 65 años y más ingresadas a Cuidado Integral centrado en las personas | H9: Total Indicador
E11: 04101-LA SERENA | F11: =IFERROR(VLOOKUP(E11,'IND 10.3_'!$H$3:$I$18,2,FALSE),0) -> 53 | G11: =IFERROR(VLOOKUP(E11,'IND 10.3_'!$H$31:$I$49,2,FALSE),0) -> 52 | H11: =IFERROR(F11/G11,0) -> 1.0192308
E12: 04104-LA HIGUERA | F12: =IFERROR(VLOOKUP(E12,'IND 10.3_'!$H$3:$I$18,2,FALSE),0) -> 0 | G12: =IFERROR(VLOOKUP(E12,'IND 10.3_'!$H$31:$I$49,2,FALSE),0) -> 0 | H12: =IFERROR(F12/G12,0) -> 0
E13: 04102-COQUIMBO | F13: =IFERROR(VLOOKUP(E13,'IND 10.3_'!$H$3:$I$18,2,FALSE),0) -> 196 | G13: =IFERROR(VLOOKUP(E13,'IND 10.3_'!$H$31:$I$49,2,FALSE),0) -> 196 | H13: =IFERROR(F13/G13,0) -> 1
E14: 04106-VICUÑA | F14: =IFERROR(VLOOKUP(E14,'IND 10.3_'!$H$3:$I$18,2,FALSE),0) -> 11 | G14: =IFERROR(VLOOKUP(E14,'IND 10.3_'!$H$31:$I$49,2,FALSE),0) -> 11 | H14: =IFERROR(F14/G14,0) -> 1
E15: 04105-PAIHUANO | F15: =IFERROR(VLOOKUP(E15,'IND 10.3_'!$H$3:$I$18,2,FALSE),0) -> 0 | G15: =IFERROR(VLOOKUP(E15,'IND 10.3_'!$H$31:$I$49,2,FALSE),0) -> 0 | H15: =IFERROR(F15/G15,0) -> 0
E16: 04301-OVALLE | F16: =IFERROR(VLOOKUP(E16,'IND 10.3_'!$H$3:$I$18,2,FALSE),0) -> 6 | G16: =IFERROR(VLOOKUP(E16,'IND 10.3_'!$H$31:$I$49,2,FALSE),0) -> 6 | H16: =IFERROR(F16/G16,0) -> 1
E17: 04305-RIO HURTADO | F17: =IFERROR(VLOOKUP(E17,'IND 10.3_'!$H$3:$I$18,2,FALSE),0) -> 0 | G17: =IFERROR(VLOOKUP(E17,'IND 10.3_'!$H$31:$I$49,2,FALSE),0) -> 0 | H17: =IFERROR(F17/G17,0) -> 0
E18: 04303-MONTE PATRIA | F18: =IFERROR(VLOOKUP(E18,'IND 10.3_'!$H$3:$I$18,2,FALSE),0) -> 0 | G18: =IFERROR(VLOOKUP(E18,'IND 10.3_'!$H$31:$I$49,2,FALSE),0) -> 0 | H18: =IFERROR(F18/G18,0) -> 0
E19: 04304-PUNITAQUI | F19: =IFERROR(VLOOKUP(E19,'IND 10.3_'!$H$3:$I$18,2,FALSE),0) -> 0 | G19: =IFERROR(VLOOKUP(E19,'IND 10.3_'!$H$31:$I$49,2,FALSE),0) -> 0 | H19: =IFERROR(F19/G19,0) -> 0
E20: 04302-COMBARBALÁ | F20: =IFERROR(VLOOKUP(E20,'IND 10.3_'!$H$3:$I$18,2,FALSE),0) -> 0 | G20: =IFERROR(VLOOKUP(E20,'IND 10.3_'!$H$31:$I$49,2,FALSE),0) -> 0 | H20: =IFERROR(F20/G20,0) -> 0
E21: 04201-ILLAPEL | F21: =IFERROR(VLOOKUP(E21,'IND 10.3_'!$H$3:$I$18,2,FALSE),0) -> 0 | G21: =IFERROR(VLOOKUP(E21,'IND 10.3_'!$H$31:$I$49,2,FALSE),0) -> 0 | H21: =IFERROR(F21/G21,0) -> 0
E22: 04204-SALAMANCA | F22: =IFERROR(VLOOKUP(E22,'IND 10.3_'!$H$3:$I$18,2,FALSE),0) -> 0 | G22: =IFERROR(VLOOKUP(E22,'IND 10.3_'!$H$31:$I$49,2,FALSE),0) -> 0 | H22: =IFERROR(F22/G22,0) -> 0
... E24: 04202-CANELA | F24: =IFERROR(VLOOKUP(E24,'IND 10.3_'!$H$3:$I$18,2,FALSE),0) -> 0 | G24: =IFERROR(VLOOKUP(E24,'IND 10.3_'!$H$31:$I$49,2,FALSE),0) -> 0 | H24: =IFERROR(F24/G24,0) -> 0
E25: HOSPITAL
E26: 105104-HOSPITAL SALAMANCA | F26: =IFERROR(VLOOKUP(E26,'IND 10.3_'!$H$3:$I$18,2,FALSE),0) -> 0 | G26: =IFERROR(VLOOKUP(E26,'IND 10.3_'!$H$31:$I$49,2,FALSE),0) -> 0 | H26: =IFERROR(F26/G26,0) -> 0
E27: 105105-HOSPITAL COMBARBALÁ | F27: =IFERROR(VLOOKUP(E27,'IND 10.3_'!$H$3:$I$18,2,FALSE),0) -> 0 | G27: =IFERROR(VLOOKUP(E27,'IND 10.3_'!$H$31:$I$49,2,FALSE),0) -> 0 | H27: =IFERROR(F27/G27,0) -> 0
E28: 105106-HOSPITAL ANDACOLLO | F28: =IFERROR(VLOOKUP(E28,'IND 10.3_'!$H$3:$I$18,2,FALSE),0) -> 0 | G28: =IFERROR(VLOOKUP(E28,'IND 10.3_'!$H$31:$I$49,2,FALSE),0) -> 0 | H28: =IFERROR(F28/G28,0) -> 0
E29: 105107-HOSPITAL VICUÑA | F29: =IFERROR(VLOOKUP(E29,'IND 10.3_'!$H$3:$I$18,2,FALSE),0) -> 0 | G29: =IFERROR(VLOOKUP(E29,'IND 10.3_'!$H$31:$I$49,2,FALSE),0) -> 0 | H29: =IFERROR(F29/G29,0) -> 0
E30: 105108-HOSPITAL LOS VILOS | F30: =IFERROR(VLOOKUP(E30,'IND 10.3_'!$H$3:$I$18,2,FALSE),0) -> 0 | G30: =IFERROR(VLOOKUP(E30,'IND 10.3_'!$H$31:$I$49,2,FALSE),0) -> 122 | H30: =IFERROR(F30/G30,0) -> 0

Sheet IND 10.3_
A1: NUMERADOR
A2: Idestablecimiento | B2: Establecimiento | C2: Comuna | D2: Mes | E2: Total
A3: 105300 | B3: =IFERROR(VLOOKUP(A3,[1]Establecimientos!$A$1:$F$174,3,FALSE),0) -> 105300-CES. CARDENAL CARO | C3: =IFERROR(VLOOKUP(A3,[1]Establecimientos!$A$1:$F$174,5,FALSE),0) -> 04101-LA SERENA | D3: 12 | E3: 5 | H3: Etiquetas de fila | I3: Suma de Total
A4: 105304 | B4: =IFERROR(VLOOKUP(A4,[1]Establecimientos!$A$1:$F$174,3,FALSE),0) -> 105304-CES. SANTA CECILIA | C4: =IFERROR(VLOOKUP(A4,[1]Establecimientos!$A$1:$F$174,5,FALSE),0) -> 04102-COQUIMBO | D4: 12 | E4: 10 | H4: 04101-LA SERENA | I4: 53
A5: 105305 | B5: =IFERROR(VLOOKUP(A5,[1]Establecimientos!$A$1:$F$174,3,FALSE),0) -> 105305-CES. TIERRAS BLANCAS | C5: =IFERROR(VLOOKUP(A5,[1]Establecimientos!$A$1:$F$174,5,FALSE),0) -> 04102-COQUIMBO | D5: 12 | E5: 3 | H5: 105300-CES. CARDENAL CARO | I5: 5
A6: 105323 | B6: =IFERROR(VLOOKUP(A6,[1]Establecimientos!$A$1:$F$174,3,FALSE),0) -> 105323-CES. DR. SERGIO AGUILAR | C6: =IFERROR(VLOOKUP(A6,[1]Establecimientos!$A$1:$F$174,5,FALSE),0) -> 04102-COQUIMBO | D6: 12 | E6: 7 | H6: 105325-CESFAM JUAN PABLO II | I6: 47
A7: 105324 | B7: =IFERROR(VLOOKUP(A7,[1]Establecimientos!$A$1:$F$174,3,FALSE),0) -> 105324-CES. SOTAQUI | C7: =IFERROR(VLOOKUP(A7,[1]Establecimientos!$A$1:$F$174,5,FALSE),0) -> 04301-OVALLE | D7: 12 | E7: 5 | H7: 105701-CECOF VILLA ALEMANIA | I7: 1
A8: 105325 | B8: =IFERROR(VLOOKUP(A8,[1]Establecimientos!$A$1:$F$174,3,FALSE),0) -> 105325-CESFAM JUAN PABLO II | C8: =IFERROR(VLOOKUP(A8,[1]Establecimientos!$A$1:$F$174,5,FALSE),0) -> 04101-LA SERENA | D8: 10 | E8: 13 | H8: 04102-COQUIMBO | I8: 196
A9: 105325 | B9: =IFERROR(VLOOKUP(A9,[1]Establecimientos!$A$1:$F$174,3,FALSE),0) -> 105325-CESFAM JUAN PABLO II | C9: =IFERROR(VLOOKUP(A9,[1]Establecimientos!$A$1:$F$174,5,FALSE),0) -> 04101-LA SERENA | D9: 11 | E9: 17 | H9: 105304-CES. SANTA CECILIA | I9: 10
A10: 105325 | B10: =IFERROR(VLOOKUP(A10,[1]Establecimientos!$A$1:$F$174,3,FALSE),0) -> 105325-CESFAM JUAN PABLO II | C10: =IFERROR(VLOOKUP(A10,[1]Establecimientos!$A$1:$F$174,5,FALSE),0) -> 04101-LA SERENA | D10: 12 | E10: 17 | H10: 105305-CES. TIERRAS BLANCAS | I10: 3
A11: 105701 | B11: =IFERROR(VLOOKUP(A11,[1]Establecimientos!$A$1:$F$174,3,FALSE),0) -> 105701-CECOF VILLA ALEMANIA | C11: =IFERROR(VLOOKUP(A11,[1]Establecimientos!$A$1:$F$174,5,FALSE),0) -> 04101-LA SERENA | D11: 9 | E11: 1 | H11: 105323-CES. DR. SERGIO AGUILAR | I11: 7
A12: 200367 | B12: =IFERROR(VLOOKUP(A12,[1]Establecimientos!$A$1:$F$174,3,FALSE),0) -> 200367-CECOF COLONIA LIMARÍ | C12: =IFERROR(VLOOKUP(A12,[1]Establecimientos!$A$1:$F$174,5,FALSE),0) -> 04301-OVALLE | D12: 11 | E12: 1 | H12: 200499-CESFAM PAN DE AZÚCAR | I12: 176
A13: 200499 | B13: =IFERROR(VLOOKUP(A13,[1]Establecimientos!$A$1:$F$174,3,FALSE),0) -> 200499-CESFAM PAN DE AZÚCAR | C13: =IFERROR(VLOOKUP(A13,[1]Establecimientos!$A$1:$F$174,5,FALSE),0) -> 04102-COQUIMBO | D13: 1 | E13: 176 | H13: 04106-VICUÑA | I13: 11
A14: 200538 | B14: =IFERROR(VLOOKUP(A14,[1]Establecimientos!$A$1:$F$174,3,FALSE),0) -> 200538-CESFAM SAN ISIDRO CALINGASTA | C14: =IFERROR(VLOOKUP(A14,[1]Establecimientos!$A$1:$F$174,5,FALSE),0) -> 04106-VICUÑA | D14: 12 | E14: 11 | H14: 200538-CESFAM SAN ISIDRO CALINGASTA | I14: 11
H15: 04301-OVALLE | I15: 6
H16: 105324-CES. SOTAQUI | I16: 5
H17: 200367-CECOF COLONIA LIMARÍ | I17: 1
H18: Total general | I18: 266
A31: DENOMINADOR | H31: Etiquetas de fila | I31: Suma de Total
A32: Idestablecimiento | B32: Establecimiento | C32: Comuna | D32: Mes | E32: Total | H32: 04101-LA SERENA | I32: 52
A33: 105108 | B33: =IFERROR(VLOOKUP(A33,[1]Establecimientos!$A$1:$F$174,3,FALSE),0) -> 105108-HOSPITAL LOS VILOS | C33: =IFERROR(VLOOKUP(A33,[1]Establecimientos!$A$1:$F$174,5,FALSE),0) -> 105108-HOSPITAL LOS VILOS | D33: 5 | E33: 122 | H33: 105300-CES. CARDENAL CARO | I33: 5
A34: 105300 | B34: =IFERROR(VLOOKUP(A34,[1]Establecimientos!$A$1:$F$174,3,FALSE),0) -> 105300-CES. CARDENAL CARO | C34: =IFERROR(VLOOKUP(A34,[1]Establecimientos!$A$1:$F$174,5,FALSE),0) -> 04101-LA SERENA | D34: 12 | E34: 5 | H34: 105325-CESFAM JUAN PABLO II | I34: 47
A35: 105304 | B35: =IFERROR(VLOOKUP(A35,[1]Establecimientos!$A$1:$F$174,3,FALSE),0) -> 105304-CES. SANTA CECILIA | C35: =IFERROR(VLOOKUP(A35,[1]Establecimientos!$A$1:$F$174,5,FALSE),0) -> 04102-COQUIMBO | D35: 12 | E35: 10 | H35: 04102-COQUIMBO | I35: 196
A36: 105305 | B36: =IFERROR(VLOOKUP(A36,[1]Establecimientos!$A$1:$F$174,3,FALSE),0) -> 105305-CES. TIERRAS BLANCAS | C36: =IFERROR(VLOOKUP(A36,[1]Establecimientos!$A$1:$F$174,5,FALSE),0) -> 04102-COQUIMBO | D36: 12 | E36: 3 | H36: 105304-CES. SANTA CECILIA | I36: 10
A37: 105323 | B37: =IFERROR(VLOOKUP(A37,[1]Establecimientos!$A$1:$F$174,3,FALSE),0) -> 105323-CES. DR. SERGIO AGUILAR | C37: =IFERROR(VLOOKUP(A37,[1]Establecimientos!$A$1:$F$174,5,FALSE),0) -> 04102-COQUIMBO | D37: 12 | E37: 7 | H37: 105305-CES. TIERRAS BLANCAS | I37: 3
A38: 105324 | B38: =IFERROR(VLOOKUP(A38,[1]Establecimientos!$A$1:$F$174,3,FALSE),0) -> 105324-CES. SOTAQUI | C38: =IFERROR(VLOOKUP(A38,[1]Establecimientos!$A$1:$F$174,5,FALSE),0) -> 04301-OVALLE | D38: 12 | E38: 5 | H38: 105323-CES. DR. SERGIO AGUILAR | I38: 7
A39: 105325 | B39: =IFERROR(VLOOKUP(A39,[1]Establecimientos!$A$1:$F$174,3,FALSE),0) -> 105325-CESFAM JUAN PABLO II | C39: =IFERROR(VLOOKUP(A39,[1]Establecimientos!$A$1:$F$174,5,FALSE),0) -> 04101-LA SERENA | D39: 10 | E39: 13 | H39: 200499-CESFAM PAN DE AZÚCAR | I39: 176
A40: 105325 | B40: =IFERROR(VLOOKUP(A40,[1]Establecimientos!$A$1:$F$174,3,FALSE),0) -> 105325-CESFAM JUAN PABLO II | C40: =IFERROR(VLOOKUP(A40,[1]Establecimientos!$A$1:$F$174,5,FALSE),0) -> 04101-LA SERENA | D40: 11 | E40: 17 | H40: 04106-VICUÑA | I40: 11
A41: 105325 | B41: =IFERROR(VLOOKUP(A41,[1]Establecimientos!$A$1:$F$174,3,FALSE),0) -> 105325-CESFAM JUAN PABLO II | C41: =IFERROR(VLOOKUP(A41,[1]Establecimientos!$A$1:$F$174,5,FALSE),0) -> 04101-LA SERENA | D41: 12 | E41: 17 | H41: 200538-CESFAM SAN ISIDRO CALINGASTA | I41: 11
A42: 105481 | B42: =IFERROR(VLOOKUP(A42,[1]Establecimientos!$A$1:$F$174,3,FALSE),0) -> 105481-P.S.R. TILAMA | C42: =IFERROR(VLOOKUP(A42,[1]Establecimientos!$A$1:$F$174,5,FALSE),0) -> 04203-LOS VILOS | D42: 3 | E42: 1 | H42: 04203-LOS VILOS | I42: 1
A43: 200367 | B43: =IFERROR(VLOOKUP(A43,[1]Establecimientos!$A$1:$F$174,3,FALSE),0) -> 200367-CECOF COLONIA LIMARÍ | C43: =IFERROR(VLOOKUP(A43,[1]Establecimientos!$A$1:$F$174,5,FALSE),0) -> 04301-OVALLE | D43: 11 | E43: 1 | H43: 105481-P.S.R. TILAMA | I43: 1
A44: 200499 | B44: =IFERROR(VLOOKUP(A44,[1]Establecimientos!$A$1:$F$174,3,FALSE),0) -> 200499-CESFAM PAN DE AZÚCAR | C44: =IFERROR(VLOOKUP(A44,[1]Establecimientos!$A$1:$F$174,5,FALSE),0) -> 04102-COQUIMBO | D44: 1 | E44: 176 | H44: 04301-OVALLE | I44: 6
A45: 200538 | B45: =IFERROR(VLOOKUP(A45,[1]Establecimientos!$A$1:$F$174,3,FALSE),0) -> 200538-CESFAM SAN ISIDRO CALINGASTA | C45: =IFERROR(VLOOKUP(A45,[1]Establecimientos!$A$1:$F$174,5,FALSE),0) -> 04106-VICUÑA | D45: 11 | E45: 11 | H45: 105324-CES. SOTAQUI | I45: 5
H46: 200367-CECOF COLONIA LIMARÍ | I46: 1
H47: 105108-HOSPITAL LOS VILOS | I47: 122
H48: 105108-HOSPITAL LOS VILOS | I48: 122
H49: Total general | I49: 388

Sheet Indicador 10.4
A1: MINISTERIO DE SALUD
A2: SERVICIO DE SALUD COQUIMBO
A3: DEPARTAMENTO DE GESTIÓN, PLANIFICACIÓN Y CONTROL
A4: SUBDEPTO. DE ESTADÍSTICAS Y GESTIÓN DE LA INFORMACIÓN
A5: AÑO 2022
B8: COMUNA | C8: INDICADOR 10.4
C9: Porcentaje de cumplimiento de las acciones para el fortalecimiento del programa de Atención Domiciliaria en el periodo.
C10: Numerador B) | D10: Denominador B) | E10: Indicador B) | F10: Numerador C) | G10: Denominador C) | H10: Indicador C)
C11: Número de personas bajo control en el programa de atención domiciliaria para personas con dependencia severa que reciben segunda visita domiciliaria integral en el período. | D11: Número de personas bajo control en el programa en el período. | E11: Total | F11: Número de cuidadores del programa de atención domiciliaria para personas con dependencia severa que cuentan con evaluación de sobrecarga en el periodo. | G11: Número de cuidadores del programa de atención domiciliaria para personas con dependencia severa en el período. | H11: Total
B12: 04101-LA SERENA | C12: =IFERROR(VLOOKUP(B12,'IND 10.4_'!$H$3:$I$148,2,FALSE),0) -> 1914 | D12: =IFERROR(VLOOKUP($B12,'IND 10.4_'!$H$1012:$I$1153,2,FALSE),0) -> 2284 | E12: =IFERROR(C12/D12,0) -> 0.8380035 | F12: =IFERROR(VLOOKUP($B12,'IND 10.4_'!$H$1245:$I$1354,2,FALSE),0) -> 216 | G12: =IFERROR(VLOOKUP($B12,'IND 10.4_'!$H$1639:$I$1781,2,FALSE),0) -> 1931 | H12: =IFERROR(F12/G12,0) -> 0.11185914
B13: 04104-LA HIGUERA | C13: =IFERROR(VLOOKUP(B13,'IND 10.4_'!$H$3:$I$148,2,FALSE),0) -> 15 | D13: =IFERROR(VLOOKUP($B13,'IND 10.4_'!$H$1012:$I$1153,2,FALSE),0) -> 35 | E13: =IFERROR(C13/D13,0) -> 0.42857143 | F13: =IFERROR(VLOOKUP($B13,'IND 10.4_'!$H$1245:$I$1354,2,FALSE),0) -> 6 | G13: =IFERROR(VLOOKUP($B13,'IND 10.4_'!$H$1639:$I$1781,2,FALSE),0) -> 39 | H13: =IFERROR(F13/G13,0) -> 0.15384615
B14: 04102-COQUIMBO | C14: =IFERROR(VLOOKUP(B14,'IND 10.4_'!$H$3:$I$148,2,FALSE),0) -> 857 | D14: =IFERROR(VLOOKUP($B14,'IND 10.4_'!$H$1012:$I$1153,2,FALSE),0) -> 1915 | E14: =IFERROR(C14/D14,0) -> 0.44751958 | F14: =IFERROR(VLOOKUP($B14,'IND 10.4_'!$H$1245:$I$1354,2,FALSE),0) -> 591 | G14: =IFERROR(VLOOKUP($B14,'IND 10.4_'!$H$1639:$I$1781,2,FALSE),0) -> 2033 | H14: =IFERROR(F14/G14,0) -> 0.29070339
B15: 04106-VICUÑA | C15: =IFERROR(VLOOKUP(B15,'IND 10.4_'!$H$3:$I$148,2,FALSE),0) -> 23 | D15: =IFERROR(VLOOKUP($B15,'IND 10.4_'!$H$1012:$I$1153,2,FALSE),0) -> 90 | E15: =IFERROR(C15/D15,0) -> 0.25555556 | F15: =IFERROR(VLOOKUP($B15,'IND 10.4_'!$H$1245:$I$1354,2,FALSE),0) -> 26 | G15: =IFERROR(VLOOKUP($B15,'IND 10.4_'!$H$1639:$I$1781,2,FALSE),0) -> 95 | H15: =IFERROR(F15/G15,0) -> 0.27368421
B16: 04105-PAIHUANO | C16: =IFERROR(VLOOKUP(B16,'IND 10.4_'!$H$3:$I$148,2,FALSE),0) -> 3 | D16: =IFERROR(VLOOKUP($B16,'IND 10.4_'!$H$1012:$I$1153,2,FALSE),0) -> 38 | E16: =IFERROR(C16/D16,0) -> 0.078947368 | F16: =IFERROR(VLOOKUP($B16,'IND 10.4_'!$H$1245:$I$1354,2,FALSE),0) -> 35 | G16: =IFERROR(VLOOKUP($B16,'IND 10.4_'!$H$1639:$I$1781,2,FALSE),0) -> 39 | H16: =IFERROR(F16/G16,0) -> 0.8974359
B17: 04301-OVALLE | C17: =IFERROR(VLOOKUP(B17,'IND 10.4_'!$H$3:$I$148,2,FALSE),0) -> 658 | D17: =IFERROR(VLOOKUP($B17,'IND 10.4_'!$H$1012:$I$1153,2,FALSE),0) -> 1133 | E17: =IFERROR(C17/D17,0) -> 0.58075905 | F17: =IFERROR(VLOOKUP($B17,'IND 10.4_'!$H$1245:$I$1354,2,FALSE),0) -> 529 | G17: =IFERROR(VLOOKUP($B17,'IND 10.4_'!$H$1639:$I$1781,2,FALSE),0) -> 1142 | H17: =IFERROR(F17/G17,0) -> 0.46322242
B18: 04305-RIO HURTADO | C18: =IFERROR(VLOOKUP(B18,'IND 10.4_'!$H$3:$I$148,2,FALSE),0) -> 25 | D18: =IFERROR(VLOOKUP($B18,'IND 10.4_'!$H$1012:$I$1153,2,FALSE),0) -> 56 | E18: =IFERROR(C18/D18,0) -> 0.44642857 | F18: =IFERROR(VLOOKUP($B18,'IND 10.4_'!$H$1245:$I$1354,2,FALSE),0) -> 13 | G18: =IFERROR(VLOOKUP($B18,'IND 10.4_'!$H$1639:$I$1781,2,FALSE),0) -> 56 | H18: =IFERROR(F18/G18,0) -> 0.23214286
B19: 04303-MONTE PATRIA | C19: =IFERROR(VLOOKUP(B19,'IND 10.4_'!$H$3:$I$148,2,FALSE),0) -> 158 | D19: =IFERROR(VLOOKUP($B19,'IND 10.4_'!$H$1012:$I$1153,2,FALSE),0) -> 241 | E19: =IFERROR(C19/D19,0) -> 0.65560166 | F19: =IFERROR(VLOOKUP($B19,'IND 10.4_'!$H$1245:$I$1354,2,FALSE),0) -> 35 | G19: =IFERROR(VLOOKUP($B19,'IND 10.4_'!$H$1639:$I$1781,2,FALSE),0) -> 260 | H19: =IFERROR(F19/G19,0) -> 0.13461538
B20: 04304-PUNITAQUI | C20: =IFERROR(VLOOKUP(B20,'IND 10.4_'!$H$3:$I$148,2,FALSE),0) -> 37 | D20: =IFERROR(VLOOKUP($B20,'IND 10.4_'!$H$1012:$I$1153,2,FALSE),0) -> 192 | E20: =IFERROR(C20/D20,0) -> 0.19270833 | F20: =IFERROR(VLOOKUP($B20,'IND 10.4_'!$H$1245:$I$1354,2,FALSE),0) -> 73 | G20: =IFERROR(VLOOKUP($B20,'IND 10.4_'!$H$1639:$I$1781,2,FALSE),0) -> 191 | H20: =IFERROR(F20/G20,0) -> 0.38219895
B21: 04302-COMBARBALÁ | C21: =IFERROR(VLOOKUP(B21,'IND 10.4_'!$H$3:$I$148,2,FALSE),0) -> 114 | D21: =IFERROR(VLOOKUP($B21,'IND 10.4_'!$H$1012:$I$1153,2,FALSE),0) -> 232 | E21: =IFERROR(C21/D21,0) -> 0.49137931 | F21: =IFERROR(VLOOKUP($B21,'IND 10.4_'!$H$1245:$I$1354,2,FALSE),0) -> 68 | G21: =IFERROR(VLOOKUP($B21,'IND 10.4_'!$H$1639:$I$1781,2,FALSE),0) -> 234 | H21: =IFERROR(F21/G21,0) -> 0.29059829
B22: 04201-ILLAPEL | C22: =IFERROR(VLOOKUP(B22,'IND 10.4_'!$H$3:$I$148,2,FALSE),0) -> 203 | D22: =IFERROR(VLOOKUP($B22,'IND 10.4_'!$H$1012:$I$1153,2,FALSE),0) -> 287 | E22: =IFERROR(C22/D22,0) -> 0.70731707 | F22: =IFERROR(VLOOKUP($B22,'IND 10.4_'!$H$1245:$I$1354,2,FALSE),0) -> 264 | G22: =IFERROR(VLOOKUP($B22,'IND 10.4_'!$H$1639:$I$1781,2,FALSE),0) -> 290 | H22: =IFERROR(F22/G22,0) -> 0.91034483
B23: 04204-SALAMANCA | C23: =IFERROR(VLOOKUP(B23,'IND 10.4_'!$H$3:$I$148,2,FALSE),0) -> 5 | D23: =IFERROR(VLOOKUP($B23,'IND 10.4_'!$H$1012:$I$1153,2,FALSE),0) -> 61 | E23: =IFERROR(C23/D23,0) -> 0.081967213 | F23: =IFERROR(VLOOKUP($B23,'IND 10.4_'!$H$1245:$I$1354,2,FALSE),0) -> 30 | G23: =IFERROR(VLOOKUP($B23,'IND 10.4_'!$H$1639:$I$1781,2,FALSE),0) -> 53 | H23: =IFERROR(F23/G23,0) -> 0.56603774
... B25: 04202-CANELA | C25: =IFERROR(VLOOKUP(B25,'IND 10.4_'!$H$3:$I$148,2,FALSE),0) -> 1 | D25: =IFERROR(VLOOKUP($B25,'IND 10.4_'!$H$1012:$I$1153,2,FALSE),0) -> 228 | E25: =IFERROR(C25/D25,0) -> 0.0043859649 | F25: =IFERROR(VLOOKUP($B25,'IND 10.4_'!$H$1245:$I$1354,2,FALSE),0) -> 8 | G25: =IFERROR(VLOOKUP($B25,'IND 10.4_'!$H$1639:$I$1781,2,FALSE),0) -> 179 | H25: =IFERROR(F25/G25,0) -> 0.044692737
B26: HOSPITAL
B27: 105104-HOSPITAL SALAMANCA | C27: =IFERROR(VLOOKUP(B27,'IND 10.4_'!$H$3:$I$148,2,FALSE),0) -> 38 | D27: =IFERROR(VLOOKUP($B27,'IND 10.4_'!$H$1012:$I$1153,2,FALSE),0) -> 152 | E27: =IFERROR(C27/D27,0) -> 0.25 | F27: =IFERROR(VLOOKUP($B27,'IND 10.4_'!$H$1245:$I$1354,2,FALSE),0) -> 84 | G27: =IFERROR(VLOOKUP($B27,'IND 10.4_'!$H$1639:$I$1781,2,FALSE),0) -> 162 | H27: =IFERROR(F27/G27,0) -> 0.51851852
B28: 105105-HOSPITAL COMBARBALÁ | C28: =IFERROR(VLOOKUP(B28,'IND 10.4_'!$H$3:$I$148,2,FALSE),0) -> 187 | D28: =IFERROR(VLOOKUP($B28,'IND 10.4_'!$H$1012:$I$1153,2,FALSE),0) -> 187 | E28: =IFERROR(C28/D28,0) -> 1 | F28: =IFERROR(VLOOKUP($B28,'IND 10.4_'!$H$1245:$I$1354,2,FALSE),0) -> 40 | G28: =IFERROR(VLOOKUP($B28,'IND 10.4_'!$H$1639:$I$1781,2,FALSE),0) -> 187 | H28: =IFERROR(F28/G28,0) -> 0.21390374
B29: 105106-HOSPITAL ANDACOLLO | C29: =IFERROR(VLOOKUP(B29,'IND 10.4_'!$H$3:$I$148,2,FALSE),0) -> 180 | D29: =IFERROR(VLOOKUP($B29,'IND 10.4_'!$H$1012:$I$1153,2,FALSE),0) -> 189 | E29: =IFERROR(C29/D29,0) -> 0.95238095 | F29: =IFERROR(VLOOKUP($B29,'IND 10.4_'!$H$1245:$I$1354,2,FALSE),0) -> 63 | G29: =IFERROR(VLOOKUP($B29,'IND 10.4_'!$H$1639:$I$1781,2,FALSE),0) -> 189 | H29: =IFERROR(F29/G29,0) -> 0.33333333
B30: 105107-HOSPITAL VICUÑA | C30: =IFERROR(VLOOKUP(B30,'IND 10.4_'!$H$3:$I$148,2,FALSE),0) -> 18 | D30: =IFERROR(VLOOKUP($B30,'IND 10.4_'!$H$1012:$I$1153,2,FALSE),0) -> 158 | E30: =IFERROR(C30/D30,0) -> 0.11392405 | F30: =IFERROR(VLOOKUP($B30,'IND 10.4_'!$H$1245:$I$1354,2,FALSE),0) -> 4 | G30: =IFERROR(VLOOKUP($B30,'IND 10.4_'!$H$1639:$I$1781,2,FALSE),0) -> 104 | H30: =IFERROR(F30/G30,0) -> 0.038461538
B31: 105108-HOSPITAL LOS VILOS | C31: =IFERROR(VLOOKUP(B31,'IND 10.4_'!$H$3:$I$148,2,FALSE),0) -> 76 | D31: =IFERROR(VLOOKUP($B31,'IND 10.4_'!$H$1012:$I$1153,2,FALSE),0) -> 153 | E31: =IFERROR(C31/D31,0) -> 0.49673203 | F31: =IFERROR(VLOOKUP($B31,'IND 10.4_'!$H$1245:$I$1354,2,FALSE),0) -> 73 | G31: =IFERROR(VLOOKUP($B31,'IND 10.4_'!$H$1639:$I$1781,2,FALSE),0) -> 149 | H31: =IFERROR(F31/G31,0) -> 0.48993289

Sheet Datos ind 10.4
A2: Numerador B (A)_
A3: Idestablecimiento | B3: Establecimiento | C3: Comuna | D3: Mes | E3: Total
A4: 105103 | B4: =IFERROR(VLOOKUP(A4,[1]Establecimientos!$A$1:$F$174,3,FALSE),0) -> 105103-HOSPITAL ILLAPEL | C4: =IFERROR(VLOOKUP(A4,[1]Establecimientos!$A$1:$F$174,5,FALSE),0) -> 105103-HOSPITAL ILLAPEL | D4: 4 | E4: 0
A5: 105104 | B5: =IFERROR(VLOOKUP(A5,[1]Establecimientos!$A$1:$F$174,3,FALSE),0) -> 105104-HOSPITAL SALAMANCA | C5: =IFERROR(VLOOKUP(A5,[1]Establecimientos!$A$1:$F$174,5,FALSE),0) -> 105104-HOSPITAL SALAMANCA | D5: 1 | E5: 2 | H5: Etiquetas de fila | I5: Suma de Total
A6: 105104 | B6: =IFERROR(VLOOKUP(A6,[1]Establecimientos!$A$1:$F$174,3,FALSE),0) -> 105104-HOSPITAL SALAMANCA | C6: =IFERROR(VLOOKUP(A6,[1]Establecimientos!$A$1:$F$174,5,FALSE),0) -> 105104-HOSPITAL SALAMANCA | D6: 2 | E6: 4 | H6: 04101-LA SERENA | I6: 1803
A7: 105104 | B7: =IFERROR(VLOOKUP(A7,[1]Establecimientos!$A$1:$F$174,3,FALSE),0) -> 105104-HOSPITAL SALAMANCA | C7: =IFERROR(VLOOKUP(A7,[1]Establecimientos!$A$1:$F$174,5,FALSE),0) -> 105104-HOSPITAL SALAMANCA | D7: 3 | E7: 6 | H7: 105300-CES. CARDENAL CARO | I7: 319
A8: 105104 | B8: =IFERROR(VLOOKUP(A8,[1]Establecimientos!$A$1:$F$174,3,FALSE),0) -> 105104-HOSPITAL SALAMANCA | C8: =IFERROR(VLOOKUP(A8,[1]Establecimientos!$A$1:$F$174,5,FALSE),0) -> 105104-HOSPITAL SALAMANCA | D8: 4 | E8: 4 | H8: 105301-CES. LAS COMPAÑIAS | I8: 192
A9: 105104 | B9: =IFERROR(VLOOKUP(A9,[1]Establecimientos!$A$1:$F$174,3,FALSE),0) -> 105104-HOSPITAL SALAMANCA | C9: =IFERROR(VLOOKUP(A9,[1]Establecimientos!$A$1:$F$174,5,FALSE),0) -> 105104-HOSPITAL SALAMANCA | D9: 5 | E9: 0 | H9: 105302-CES. PEDRO AGUIRRE C. | I9: 294
A10: 105104 | B10: =IFERROR(VLOOKUP(A10,[1]Establecimientos!$A$1:$F$174,3,FALSE),0) -> 105104-HOSPITAL SALAMANCA | C10: =IFERROR(VLOOKUP(A10,[1]Establecimientos!$A$1:$F$174,5,FALSE),0) -> 105104-HOSPITAL SALAMANCA | D10: 7 | E10: 1 | H10: 105313-CES. SCHAFFHAUSER | I10: 485
A11: 105104 | B11: =IFERROR(VLOOKUP(A11,[1]Establecimientos!$A$1:$F$174,3,FALSE),0) -> 105104-HOSPITAL SALAMANCA | C11: =IFERROR(VLOOKUP(A11,[1]Establecimientos!$A$1:$F$174,5,FALSE),0) -> 105104-HOSPITAL SALAMANCA | D11: 8 | E11: 2 | H11: 105319-CES. CARDENAL R.S.H. | I11: 200
A12: 105104 | B12: =IFERROR(VLOOKUP(A12,[1]Establecimientos!$A$1:$F$174,3,FALSE),0) -> 105104-HOSPITAL SALAMANCA | C12: =IFERROR(VLOOKUP(A12,[1]Establecimientos!$A$1:$F$174,5,FALSE),0) -> 105104-HOSPITAL SALAMANCA | D12: 9 | E12: 2 | H12: 105325-CESFAM JUAN PABLO II | I12: 250
A13: 105104 | B13: =IFERROR(VLOOKUP(A13,[1]Establecimientos!$A$1:$F$174,3,FALSE),0) -> 105104-HOSPITAL SALAMANCA | C13: =IFERROR(VLOOKUP(A13,[1]Establecimientos!$A$1:$F$174,5,FALSE),0) -> 105104-HOSPITAL SALAMANCA | D13: 10 | E13: 7 | H13: 105400-P.S.R. ALGARROBITO | I13: 16
A14: 105104 | B14: =IFERROR(VLOOKUP(A14,[1]Establecimientos!$A$1:$F$174,3,FALSE),0) -> 105104-HOSPITAL SALAMANCA | C14: =IFERROR(VLOOKUP(A14,[1]Establecimientos!$A$1:$F$174,5,FALSE),0) -> 105104-HOSPITAL SALAMANCA | D14: 11 | E14: 7 | H14: 105401-P.S.R. LAS ROJAS | I14: 9
A15: 105105 | B15: =IFERROR(VLOOKUP(A15,[1]Establecimientos!$A$1:$F$174,3,FALSE),0) -> 105105-HOSPITAL COMBARBALÁ | C15: =IFERROR(VLOOKUP(A15,[1]Establecimientos!$A$1:$F$174,5,FALSE),0) -> 105105-HOSPITAL COMBARBALÁ | D15: 1 | E15: 5 | H15: 105402-P.S.R. EL ROMERO | I15: 6
A16: 105105 | B16: =IFERROR(VLOOKUP(A16,[1]Establecimientos!$A$1:$F$174,3,FALSE),0) -> 105105-HOSPITAL COMBARBALÁ | C16: =IFERROR(VLOOKUP(A16,[1]Establecimientos!$A$1:$F$174,5,FALSE),0) -> 105105-HOSPITAL COMBARBALÁ | D16: 2 | E16: 1 | H16: 105499-P.S.R. LAMBERT | I16: 1
A17: 105105 | B17: =IFERROR(VLOOKUP(A17,[1]Establecimientos!$A$1:$F$174,3,FALSE),0) -> 105105-HOSPITAL COMBARBALÁ | C17: =IFERROR(VLOOKUP(A17,[1]Establecimientos!$A$1:$F$174,5,FALSE),0) -> 105105-HOSPITAL COMBARBALÁ | D17: 3 | E17: 8 | H17: 105700-CECOF VILLA EL INDIO | I17: 16
... A147: 105308 | B147: =IFERROR(VLOOKUP(A147,[1]Establecimientos!$A$1:$F$174,3,FALSE),0) -> 105308-CES. RURAL PUNITAQUI | C147: =IFERROR(VLOOKUP(A147,[1]Establecimientos!$A$1:$F$174,5,FALSE),0) -> 04304-PUNITAQUI | D147: 3 | E147: 4 | H147: Total general | I147: 4147
A148: 105308 | B148: =IFERROR(VLOOKUP(A148,[1]Establecimientos!$A$1:$F$174,3,FALSE),0) -> 105308-CES. RURAL PUNITAQUI | C148: =IFERROR(VLOOKUP(A148,[1]Establecimientos!$A$1:$F$174,5,FALSE),0) -> 04304-PUNITAQUI | D148: 4 | E148: 4
A149: 105308 | B149: =IFERROR(VLOOKUP(A149,[1]Establecimientos!$A$1:$F$174,3,FALSE),0) -> 105308-CES. RURAL PUNITAQUI | C149: =IFERROR(VLOOKUP(A149,[1]Establecimientos!$A$1:$F$174,5,FALSE),0) -> 04304-PUNITAQUI | D149: 5 | E149: 7
A150: 105308 | B150: =IFERROR(VLOOKUP(A150,[1]Establecimientos!$A$1:$F$174,3,FALSE),0) -> 105308-CES. RURAL PUNITAQUI | C150: =IFERROR(VLOOKUP(A150,[1]Establecimientos!$A$1:$F$174,5,FALSE),0) -> 04304-PUNITAQUI | D150: 6 | E150: 3
A151: 105308 | B151: =IFERROR(VLOOKUP(A151,[1]Establecimientos!$A$1:$F$174,3,FALSE),0) -> 105308-CES. RURAL PUNITAQUI | C151: =IFERROR(VLOOKUP(A151,[1]Establecimientos!$A$1:$F$174,5,FALSE),0) -> 04304-PUNITAQUI | D151: 7 | E151: 4
A152: 105308 | B152: =IFERROR(VLOOKUP(A152,[1]Establecimientos!$A$1:$F$174,3,FALSE),0) -> 105308-CES. RURAL PUNITAQUI | C152: =IFERROR(VLOOKUP(A152,[1]Establecimientos!$A$1:$F$174,5,FALSE),0) -> 04304-PUNITAQUI | D152: 9 | E152: 7
A153: 105308 | B153: =IFERROR(VLOOKUP(A153,[1]Establecimientos!$A$1:$F$174,3,FALSE),0) -> 105308-CES. RURAL PUNITAQUI | C153: =IFERROR(VLOOKUP(A153,[1]Establecimientos!$A$1:$F$174,5,FALSE),0) -> 04304-PUNITAQUI | D153: 10 | E153: 7
A154: 105309 | B154: =IFERROR(VLOOKUP(A154,[1]Establecimientos!$A$1:$F$174,3,FALSE),0) -> 105309-CES. RURAL CANELA | C154: =IFERROR(VLOOKUP(A154,[1]Establecimientos!$A$1:$F$174,5,FALSE),0) -> 04202-CANELA | D154: 2 | E154: 0
A155: 105309 | B155: =IFERROR(VLOOKUP(A155,[1]Establecimientos!$A$1:$F$174,3,FALSE),0) -> 105309-CES. RURAL CANELA | C155: =IFERROR(VLOOKUP(A155,[1]Establecimientos!$A$1:$F$174,5,FALSE),0) -> 04202-CANELA | D155: 3 | E155: 1
A156: 105309 | B156: =IFERROR(VLOOKUP(A156,[1]Establecimientos!$A$1:$F$174,3,FALSE),0) -> 105309-CES. RURAL CANELA | C156: =IFERROR(VLOOKUP(A156,[1]Establecimientos!$A$1:$F$174,5,FALSE),0) -> 04202-CANELA | D156: 4 | E156: 0
A157: 105309 | B157: =IFERROR(VLOOKUP(A157,[1]Establecimientos!$A$1:$F$174,3,FALSE),0) -> 105309-CES. RURAL CANELA | C157: =IFERROR(VLOOKUP(A157,[1]Establecimientos!$A$1:$F$174,5,FALSE),0) -> 04202-CANELA | D157: 5 | E157: 0
A158: 105309 | B158: =IFERROR(VLOOKUP(A158,[1]Establecimientos!$A$1:$F$174,3,FALSE),0) -> 105309-CES. RURAL CANELA | C158: =IFERROR(VLOOKUP(A158,[1]Establecimientos!$A$1:$F$174,5,FALSE),0) -> 04202-CANELA | D158: 6 | E158: 0
A159: 105309 | B159: =IFERROR(VLOOKUP(A159,[1]Establecimientos!$A$1:$F$174,3,FALSE),0) -> 105309-CES. RURAL CANELA | C159: =IFERROR(VLOOKUP(A159,[1]Establecimientos!$A$1:$F$174,5,FALSE),0) -> 04202-CANELA | D159: 7 | E159: 0
... A914: 200607 | B914: =IFERROR(VLOOKUP(A914,[1]Establecimientos!$A$1:$F$174,3,FALSE),0) -> 200607-CESFAM LILA CORTES | C914: =IFERROR(VLOOKUP(A914,[1]Establecimientos!$A$1:$F$174,5,FALSE),0) -> 04102-COQUIMBO | D914: 11 | E914: 0
A916: Denominador B (P)_
A917: Idestablecimiento | B917: Establecimiento | C917: Comuna | D917: Mes | E917: Total
A918: 105104 | B918: =IFERROR(VLOOKUP(A918,[1]Establecimientos!$A$1:$F$174,3,FALSE),0) -> 105104-HOSPITAL SALAMANCA | C918: =IFERROR(VLOOKUP(A918,[1]Establecimientos!$A$1:$F$174,5,FALSE),0) -> 105104-HOSPITAL SALAMANCA | D918: 6 | E918: 66 | H918: Etiquetas de fila | I918: Suma de Total
A919: 105105 | B919: =IFERROR(VLOOKUP(A919,[1]Establecimientos!$A$1:$F$174,3,FALSE),0) -> 105105-HOSPITAL COMBARBALÁ | C919: =IFERROR(VLOOKUP(A919,[1]Establecimientos!$A$1:$F$174,5,FALSE),0) -> 105105-HOSPITAL COMBARBALÁ | D919: 6 | E919: 90 | H919: 04101-LA SERENA | I919: 1138
A920: 105106 | B920: =IFERROR(VLOOKUP(A920,[1]Establecimientos!$A$1:$F$174,3,FALSE),0) -> 105106-HOSPITAL ANDACOLLO | C920: =IFERROR(VLOOKUP(A920,[1]Establecimientos!$A$1:$F$174,5,FALSE),0) -> 105106-HOSPITAL ANDACOLLO | D920: 6 | E920: 64 | H920: 105300-CES. CARDENAL CARO | I920: 313
A921: 105107 | B921: =IFERROR(VLOOKUP(A921,[1]Establecimientos!$A$1:$F$174,3,FALSE),0) -> 105107-HOSPITAL VICUÑA | C921: =IFERROR(VLOOKUP(A921,[1]Establecimientos!$A$1:$F$174,5,FALSE),0) -> 105107-HOSPITAL VICUÑA | D921: 6 | E921: 82 | H921: 105301-CES. LAS COMPAÑIAS | I921: 70
A922: 105108 | B922: =IFERROR(VLOOKUP(A922,[1]Establecimientos!$A$1:$F$174,3,FALSE),0) -> 105108-HOSPITAL LOS VILOS | C922: =IFERROR(VLOOKUP(A922,[1]Establecimientos!$A$1:$F$174,5,FALSE),0) -> 105108-HOSPITAL LOS VILOS | D922: 6 | E922: 65 | H922: 105302-CES. PEDRO AGUIRRE C. | I922: 89
A923: 105300 | B923: =IFERROR(VLOOKUP(A923,[1]Establecimientos!$A$1:$F$174,3,FALSE),0) -> 105300-CES. CARDENAL CARO | C923: =IFERROR(VLOOKUP(A923,[1]Establecimientos!$A$1:$F$174,5,FALSE),0) -> 04101-LA SERENA | D923: 6 | E923: 313 | H923: 105313-CES. SCHAFFHAUSER | I923: 320
A924: 105301 | B924: =IFERROR(VLOOKUP(A924,[1]Establecimientos!$A$1:$F$174,3,FALSE),0) -> 105301-CES. LAS COMPAÑIAS | C924: =IFERROR(VLOOKUP(A924,[1]Establecimientos!$A$1:$F$174,5,FALSE),0) -> 04101-LA SERENA | D924: 6 | E924: 70 | H924: 105319-CES. CARDENAL R.S.H. | I924: 133
A925: 105302 | B925: =IFERROR(VLOOKUP(A925,[1]Establecimientos!$A$1:$F$174,3,FALSE),0) -> 105302-CES. PEDRO AGUIRRE C. | C925: =IFERROR(VLOOKUP(A925,[1]Establecimientos!$A$1:$F$174,5,FALSE),0) -> 04101-LA SERENA | D925: 6 | E925: 89 | H925: 105325-CESFAM JUAN PABLO II | I925: 120
A926: 105303 | B926: =IFERROR(VLOOKUP(A926,[1]Establecimientos!$A$1:$F$174,3,FALSE),0) -> 105303-CES. SAN JUAN | C926: =IFERROR(VLOOKUP(A926,[1]Establecimientos!$A$1:$F$174,5,FALSE),0) -> 04102-COQUIMBO | D926: 6 | E926: 128 | H926: 105400-P.S.R. ALGARROBITO | I926: 44
A927: 105304 | B927: =IFERROR(VLOOKUP(A927,[1]Establecimientos!$A$1:$F$174,3,FALSE),0) -> 105304-CES. SANTA CECILIA | C927: =IFERROR(VLOOKUP(A927,[1]Establecimientos!$A$1:$F$174,5,FALSE),0) -> 04102-COQUIMBO | D927: 6 | E927: 106 | H927: 105401-P.S.R. LAS ROJAS | I927: 8
A928: 105305 | B928: =IFERROR(VLOOKUP(A928,[1]Establecimientos!$A$1:$F$174,3,FALSE),0) -> 105305-CES. TIERRAS BLANCAS | C928: =IFERROR(VLOOKUP(A928,[1]Establecimientos!$A$1:$F$174,5,FALSE),0) -> 04102-COQUIMBO | D928: 6 | E928: 153 | H928: 105402-P.S.R. EL ROMERO | I928: 1
A929: 105306 | B929: =IFERROR(VLOOKUP(A929,[1]Establecimientos!$A$1:$F$174,3,FALSE),0) -> 105306-CES. PAIHUANO | C929: =IFERROR(VLOOKUP(A929,[1]Establecimientos!$A$1:$F$174,5,FALSE),0) -> 04105-PAIHUANO | D929: 6 | E929: 8 | H929: 105700-CECOF VILLA EL INDIO | I929: 8
A930: 105307 | B930: =IFERROR(VLOOKUP(A930,[1]Establecimientos!$A$1:$F$174,3,FALSE),0) -> 105307-CES. RURAL MONTE PATRIA | C930: =IFERROR(VLOOKUP(A930,[1]Establecimientos!$A$1:$F$174,5,FALSE),0) -> 04303-MONTE PATRIA | D930: 6 | E930: 52 | H930: 105702-CECOF VILLA LAMBERT | I930: 29
... A1030: 200607 | B1030: =IFERROR(VLOOKUP(A1030,[1]Establecimientos!$A$1:$F$174,3,FALSE),0) -> 200607-CESFAM LILA CORTES | C1030: =IFERROR(VLOOKUP(A1030,[1]Establecimientos!$A$1:$F$174,5,FALSE),0) -> 04102-COQUIMBO | D1030: 6 | E1030: 32 | H1030: 04303-MONTE PATRIA | I1030: 104
H1031: 105307-CES. RURAL MONTE PATRIA | I1031: 52
H1032: 105311-CES. RURAL CHAÑARAL ALTO | I1032: 12
H1033: 105312-CES. RURAL CAREN | I1033: 11
H1034: 105318-CES. RURAL EL PALQUI | I1034: 22
H1035: 105435-P.S.R. TULAHUEN | I1035: 4
H1036: 105489-P.S.R. RAMADAS DE TULAHUEN | I1036: 3
H1037: 04304-PUNITAQUI | I1037: 95
H1038: 105308-CES. RURAL PUNITAQUI | I1038: 95
H1039: 04305-RIO HURTADO | I1039: 27
H1040: 105310-CES. RURAL PICHASCA | I1040: 27
H1041: 105104-HOSPITAL SALAMANCA | I1041: 66
H1042: 105104-HOSPITAL SALAMANCA | I1042: 66
... H1051: Total general | I1051: 3695
A1056: Numerador C
A1057: Idestablecimiento | B1057: Establecimiento | C1057: Comuna | D1057: Mes | E1057: Total
A1058: 105104 | B1058: =IFERROR(VLOOKUP(A1058,[1]Establecimientos!$A$1:$F$174,3,FALSE),0) -> 105104-HOSPITAL SALAMANCA | C1058: =IFERROR(VLOOKUP(A1058,[1]Establecimientos!$A$1:$F$174,5,FALSE),0) -> 105104-HOSPITAL SALAMANCA | D1058: 10 | E1058: 67
A1059: 105104 | B1059: =IFERROR(VLOOKUP(A1059,[1]Establecimientos!$A$1:$F$174,3,FALSE),0) -> 105104-HOSPITAL SALAMANCA | C1059: =IFERROR(VLOOKUP(A1059,[1]Establecimientos!$A$1:$F$174,5,FALSE),0) -> 105104-HOSPITAL SALAMANCA | D1059: 11 | E1059: 11
A1060: 105105 | B1060: =IFERROR(VLOOKUP(A1060,[1]Establecimientos!$A$1:$F$174,3,FALSE),0) -> 105105-HOSPITAL COMBARBALÁ | C1060: =IFERROR(VLOOKUP(A1060,[1]Establecimientos!$A$1:$F$174,5,FALSE),0) -> 105105-HOSPITAL COMBARBALÁ | D1060: 1 | E1060: 7
A1061: 105105 | B1061: =IFERROR(VLOOKUP(A1061,[1]Establecimientos!$A$1:$F$174,3,FALSE),0) -> 105105-HOSPITAL COMBARBALÁ | C1061: =IFERROR(VLOOKUP(A1061,[1]Establecimientos!$A$1:$F$174,5,FALSE),0) -> 105105-HOSPITAL COMBARBALÁ | D1061: 2 | E1061: 17 | H1061: Etiquetas de fila | I1061: Suma de Total
A1062: 105105 | B1062: =IFERROR(VLOOKUP(A1062,[1]Establecimientos!$A$1:$F$174,3,FALSE),0) -> 105105-HOSPITAL COMBARBALÁ | C1062: =IFERROR(VLOOKUP(A1062,[1]Establecimientos!$A$1:$F$174,5,FALSE),0) -> 105105-HOSPITAL COMBARBALÁ | D1062: 3 | E1062: 6 | H1062: 04101-LA SERENA | I1062: 207
A1063: 105105 | B1063: =IFERROR(VLOOKUP(A1063,[1]Establecimientos!$A$1:$F$174,3,FALSE),0) -> 105105-HOSPITAL COMBARBALÁ | C1063: =IFERROR(VLOOKUP(A1063,[1]Establecimientos!$A$1:$F$174,5,FALSE),0) -> 105105-HOSPITAL COMBARBALÁ | D1063: 4 | E1063: 1 | H1063: 105300-CES. CARDENAL CARO | I1063: 8
A1064: 105105 | B1064: =IFERROR(VLOOKUP(A1064,[1]Establecimientos!$A$1:$F$174,3,FALSE),0) -> 105105-HOSPITAL COMBARBALÁ | C1064: =IFERROR(VLOOKUP(A1064,[1]Establecimientos!$A$1:$F$174,5,FALSE),0) -> 105105-HOSPITAL COMBARBALÁ | D1064: 8 | E1064: 5 | H1064: 105301-CES. LAS COMPAÑIAS | I1064: 2
A1065: 105105 | B1065: =IFERROR(VLOOKUP(A1065,[1]Establecimientos!$A$1:$F$174,3,FALSE),0) -> 105105-HOSPITAL COMBARBALÁ | C1065: =IFERROR(VLOOKUP(A1065,[1]Establecimientos!$A$1:$F$174,5,FALSE),0) -> 105105-HOSPITAL COMBARBALÁ | D1065: 9 | E1065: 1 | H1065: 105302-CES. PEDRO AGUIRRE C. | I1065: 110
A1066: 105105 | B1066: =IFERROR(VLOOKUP(A1066,[1]Establecimientos!$A$1:$F$174,3,FALSE),0) -> 105105-HOSPITAL COMBARBALÁ | C1066: =IFERROR(VLOOKUP(A1066,[1]Establecimientos!$A$1:$F$174,5,FALSE),0) -> 105105-HOSPITAL COMBARBALÁ | D1066: 10 | E1066: 2 | H1066: 105313-CES. SCHAFFHAUSER | I1066: 31
A1067: 105105 | B1067: =IFERROR(VLOOKUP(A1067,[1]Establecimientos!$A$1:$F$174,3,FALSE),0) -> 105105-HOSPITAL COMBARBALÁ | C1067: =IFERROR(VLOOKUP(A1067,[1]Establecimientos!$A$1:$F$174,5,FALSE),0) -> 105105-HOSPITAL COMBARBALÁ | D1067: 11 | E1067: 1 | H1067: 105400-P.S.R. ALGARROBITO | I1067: 28
A1068: 105106 | B1068: =IFERROR(VLOOKUP(A1068,[1]Establecimientos!$A$1:$F$174,3,FALSE),0) -> 105106-HOSPITAL ANDACOLLO | C1068: =IFERROR(VLOOKUP(A1068,[1]Establecimientos!$A$1:$F$174,5,FALSE),0) -> 105106-HOSPITAL ANDACOLLO | D1068: 1 | E1068: 4 | H1068: 105401-P.S.R. LAS ROJAS | I1068: 7
A1069: 105106 | B1069: =IFERROR(VLOOKUP(A1069,[1]Establecimientos!$A$1:$F$174,3,FALSE),0) -> 105106-HOSPITAL ANDACOLLO | C1069: =IFERROR(VLOOKUP(A1069,[1]Establecimientos!$A$1:$F$174,5,FALSE),0) -> 105106-HOSPITAL ANDACOLLO | D1069: 2 | E1069: 5 | H1069: 105402-P.S.R. EL ROMERO | I1069: 2
A1070: 105106 | B1070: =IFERROR(VLOOKUP(A1070,[1]Establecimientos!$A$1:$F$174,3,FALSE),0) -> 105106-HOSPITAL ANDACOLLO | C1070: =IFERROR(VLOOKUP(A1070,[1]Establecimientos!$A$1:$F$174,5,FALSE),0) -> 105106-HOSPITAL ANDACOLLO | D1070: 3 | E1070: 6 | H1070: 105701-CECOF VILLA ALEMANIA | I1070: 5
A1071: 105106 | B1071: =IFERROR(VLOOKUP(A1071,[1]Establecimientos!$A$1:$F$174,3,FALSE),0) -> 105106-HOSPITAL ANDACOLLO | C1071: =IFERROR(VLOOKUP(A1071,[1]Establecimientos!$A$1:$F$174,5,FALSE),0) -> 105106-HOSPITAL ANDACOLLO | D1071: 4 | E1071: 21 | H1071: 105702-CECOF VILLA LAMBERT | I1071: 8
A1072: 105106 | B1072: =IFERROR(VLOOKUP(A1072,[1]Establecimientos!$A$1:$F$174,3,FALSE),0) -> 105106-HOSPITAL ANDACOLLO | C1072: =IFERROR(VLOOKUP(A1072,[1]Establecimientos!$A$1:$F$174,5,FALSE),0) -> 105106-HOSPITAL ANDACOLLO | D1072: 5 | E1072: 9 | H1072: 200402-CECOF ARCOS DE PINAMAR | I1072: 6
A1073: 105106 | B1073: =IFERROR(VLOOKUP(A1073,[1]Establecimientos!$A$1:$F$174,3,FALSE),0) -> 105106-HOSPITAL ANDACOLLO | C1073: =IFERROR(VLOOKUP(A1073,[1]Establecimientos!$A$1:$F$174,5,FALSE),0) -> 105106-HOSPITAL ANDACOLLO | D1073: 6 | E1073: 1 | H1073: 04102-COQUIMBO | I1073: 523
... A1161: 105313 | B1161: =IFERROR(VLOOKUP(A1161,[1]Establecimientos!$A$1:$F$174,3,FALSE),0) -> 105313-CES. SCHAFFHAUSER | C1161: =IFERROR(VLOOKUP(A1161,[1]Establecimientos!$A$1:$F$174,5,FALSE),0) -> 04101-LA SERENA | D1161: 6 | E1161: 2 | H1161: Total general | I1161: 1980
A1162: 105313 | B1162: =IFERROR(VLOOKUP(A1162,[1]Establecimientos!$A$1:$F$174,3,FALSE),0) -> 105313-CES. SCHAFFHAUSER | C1162: =IFERROR(VLOOKUP(A1162,[1]Establecimientos!$A$1:$F$174,5,FALSE),0) -> 04101-LA SERENA | D1162: 7 | E1162: 2
A1163: 105313 | B1163: =IFERROR(VLOOKUP(A1163,[1]Establecimientos!$A$1:$F$174,3,FALSE),0) -> 105313-CES. SCHAFFHAUSER | C1163: =IFERROR(VLOOKUP(A1163,[1]Establecimientos!$A$1:$F$174,5,FALSE),0) -> 04101-LA SERENA | D1163: 8 | E1163: 11
A1164: 105313 | B1164: =IFERROR(VLOOKUP(A1164,[1]Establecimientos!$A$1:$F$174,3,FALSE),0) -> 105313-CES. SCHAFFHAUSER | C1164: =IFERROR(VLOOKUP(A1164,[1]Establecimientos!$A$1:$F$174,5,FALSE),0) -> 04101-LA SERENA | D1164: 9 | E1164: 6
A1165: 105314 | B1165: =IFERROR(VLOOKUP(A1165,[1]Establecimientos!$A$1:$F$174,3,FALSE),0) -> 105314-CES. LA HIGUERA | C1165: =IFERROR(VLOOKUP(A1165,[1]Establecimientos!$A$1:$F$174,5,FALSE),0) -> 04104-LA HIGUERA | D1165: 3 | E1165: 2
A1166: 105314 | B1166: =IFERROR(VLOOKUP(A1166,[1]Establecimientos!$A$1:$F$174,3,FALSE),0) -> 105314-CES. LA HIGUERA | C1166: =IFERROR(VLOOKUP(A1166,[1]Establecimientos!$A$1:$F$174,5,FALSE),0) -> 04104-LA HIGUERA | D1166: 6 | E1166: 2
A1167: 105314 | B1167: =IFERROR(VLOOKUP(A1167,[1]Establecimientos!$A$1:$F$174,3,FALSE),0) -> 105314-CES. LA HIGUERA | C1167: =IFERROR(VLOOKUP(A1167,[1]Establecimientos!$A$1:$F$174,5,FALSE),0) -> 04104-LA HIGUERA | D1167: 9 | E1167: 1
A1168: 105317 | B1168: =IFERROR(VLOOKUP(A1168,[1]Establecimientos!$A$1:$F$174,3,FALSE),0) -> 105317-CES. JORGE JORDAN D. | C1168: =IFERROR(VLOOKUP(A1168,[1]Establecimientos!$A$1:$F$174,5,FALSE),0) -> 04301-OVALLE | D1168: 1 | E1168: 19
A1169: 105317 | B1169: =IFERROR(VLOOKUP(A1169,[1]Establecimientos!$A$1:$F$174,3,FALSE),0) -> 105317-CES. JORGE JORDAN D. | C1169: =IFERROR(VLOOKUP(A1169,[1]Establecimientos!$A$1:$F$174,5,FALSE),0) -> 04301-OVALLE | D1169: 2 | E1169: 5
A1170: 105317 | B1170: =IFERROR(VLOOKUP(A1170,[1]Establecimientos!$A$1:$F$174,3,FALSE),0) -> 105317-CES. JORGE JORDAN D. | C1170: =IFERROR(VLOOKUP(A1170,[1]Establecimientos!$A$1:$F$174,5,FALSE),0) -> 04301-OVALLE | D1170: 3 | E1170: 10
A1171: 105317 | B1171: =IFERROR(VLOOKUP(A1171,[1]Establecimientos!$A$1:$F$174,3,FALSE),0) -> 105317-CES. JORGE JORDAN D. | C1171: =IFERROR(VLOOKUP(A1171,[1]Establecimientos!$A$1:$F$174,5,FALSE),0) -> 04301-OVALLE | D1171: 4 | E1171: 3
A1172: 105317 | B1172: =IFERROR(VLOOKUP(A1172,[1]Establecimientos!$A$1:$F$174,3,FALSE),0) -> 105317-CES. JORGE JORDAN D. | C1172: =IFERROR(VLOOKUP(A1172,[1]Establecimientos!$A$1:$F$174,5,FALSE),0) -> 04301-OVALLE | D1172: 5 | E1172: 11
A1173: 105317 | B1173: =IFERROR(VLOOKUP(A1173,[1]Establecimientos!$A$1:$F$174,3,FALSE),0) -> 105317-CES. JORGE JORDAN D. | C1173: =IFERROR(VLOOKUP(A1173,[1]Establecimientos!$A$1:$F$174,5,FALSE),0) -> 04301-OVALLE | D1173: 6 | E1173: 11
... A1414: 200607 | B1414: =IFERROR(VLOOKUP(A1414,[1]Establecimientos!$A$1:$F$174,3,FALSE),0) -> 200607-CESFAM LILA CORTES | C1414: =IFERROR(VLOOKUP(A1414,[1]Establecimientos!$A$1:$F$174,5,FALSE),0) -> 04102-COQUIMBO | D1414: 11 | E1414: 5
A1437: Denominador C
A1438: Idestablecimiento | B1438: Establecimiento | C1438: Comuna | D1438: Mes | E1438: Total
A1439: 105104 | B1439: =IFERROR(VLOOKUP(A1439,[1]Establecimientos!$A$1:$F$174,3,FALSE),0) -> 105104-HOSPITAL SALAMANCA | C1439: =IFERROR(VLOOKUP(A1439,[1]Establecimientos!$A$1:$F$174,5,FALSE),0) -> 105104-HOSPITAL SALAMANCA | D1439: 6 | E1439: 76
A1440: 105105 | B1440: =IFERROR(VLOOKUP(A1440,[1]Establecimientos!$A$1:$F$174,3,FALSE),0) -> 105105-HOSPITAL COMBARBALÁ | C1440: =IFERROR(VLOOKUP(A1440,[1]Establecimientos!$A$1:$F$174,5,FALSE),0) -> 105105-HOSPITAL COMBARBALÁ | D1440: 6 | E1440: 90 | H1440: Etiquetas de fila | I1440: Suma de Total
A1441: 105106 | B1441: =IFERROR(VLOOKUP(A1441,[1]Establecimientos!$A$1:$F$174,3,FALSE),0) -> 105106-HOSPITAL ANDACOLLO | C1441: =IFERROR(VLOOKUP(A1441,[1]Establecimientos!$A$1:$F$174,5,FALSE),0) -> 105106-HOSPITAL ANDACOLLO | D1441: 6 | E1441: 65 | H1441: 04101-LA SERENA | I1441: 1051
A1442: 105108 | B1442: =IFERROR(VLOOKUP(A1442,[1]Establecimientos!$A$1:$F$174,3,FALSE),0) -> 105108-HOSPITAL LOS VILOS | C1442: =IFERROR(VLOOKUP(A1442,[1]Establecimientos!$A$1:$F$174,5,FALSE),0) -> 105108-HOSPITAL LOS VILOS | D1442: 6 | E1442: 59 | H1442: 105300-CES. CARDENAL CARO | I1442: 212
A1443: 105300 | B1443: =IFERROR(VLOOKUP(A1443,[1]Establecimientos!$A$1:$F$174,3,FALSE),0) -> 105300-CES. CARDENAL CARO | C1443: =IFERROR(VLOOKUP(A1443,[1]Establecimientos!$A$1:$F$174,5,FALSE),0) -> 04101-LA SERENA | D1443: 6 | E1443: 212 | H1443: 105301-CES. LAS COMPAÑIAS | I1443: 70
A1444: 105301 | B1444: =IFERROR(VLOOKUP(A1444,[1]Establecimientos!$A$1:$F$174,3,FALSE),0) -> 105301-CES. LAS COMPAÑIAS | C1444: =IFERROR(VLOOKUP(A1444,[1]Establecimientos!$A$1:$F$174,5,FALSE),0) -> 04101-LA SERENA | D1444: 6 | E1444: 70 | H1444: 105302-CES. PEDRO AGUIRRE C. | I1444: 114
A1445: 105302 | B1445: =IFERROR(VLOOKUP(A1445,[1]Establecimientos!$A$1:$F$174,3,FALSE),0) -> 105302-CES. PEDRO AGUIRRE C. | C1445: =IFERROR(VLOOKUP(A1445,[1]Establecimientos!$A$1:$F$174,5,FALSE),0) -> 04101-LA SERENA | D1445: 6 | E1445: 114 | H1445: 105313-CES. SCHAFFHAUSER | I1445: 320
...

Sheet IND 10.4_
A1: Numerador B (A)
A2: Idestablecimiento | B2: Establecimiento | C2: Comuna | D2: Mes | E2: Total
A3: 105103 | B3: =IFERROR(VLOOKUP(A3,[1]Establecimientos!$A$1:$F$174,3,FALSE),0) -> 105103-HOSPITAL ILLAPEL | C3: =IFERROR(VLOOKUP(A3,[1]Establecimientos!$A$1:$F$174,5,FALSE),0) -> 105103-HOSPITAL ILLAPEL | D3: 4 | E3: 0 | H3: Etiquetas de fila | I3: Suma de Total
A4: 105104 | B4: =IFERROR(VLOOKUP(A4,[1]Establecimientos!$A$1:$F$174,3,FALSE),0) -> 105104-HOSPITAL SALAMANCA | C4: =IFERROR(VLOOKUP(A4,[1]Establecimientos!$A$1:$F$174,5,FALSE),0) -> 105104-HOSPITAL SALAMANCA | D4: 1 | E4: 2 | H4: 04101-LA SERENA | I4: 1914
A5: 105104 | B5: =IFERROR(VLOOKUP(A5,[1]Establecimientos!$A$1:$F$174,3,FALSE),0) -> 105104-HOSPITAL SALAMANCA | C5: =IFERROR(VLOOKUP(A5,[1]Establecimientos!$A$1:$F$174,5,FALSE),0) -> 105104-HOSPITAL SALAMANCA | D5: 2 | E5: 4 | H5: 105300-CES. CARDENAL CARO | I5: 328
A6: 105104 | B6: =IFERROR(VLOOKUP(A6,[1]Establecimientos!$A$1:$F$174,3,FALSE),0) -> 105104-HOSPITAL SALAMANCA | C6: =IFERROR(VLOOKUP(A6,[1]Establecimientos!$A$1:$F$174,5,FALSE),0) -> 105104-HOSPITAL SALAMANCA | D6: 3 | E6: 6 | H6: 105301-CES. LAS COMPAÑIAS | I6: 194
A7: 105104 | B7: =IFERROR(VLOOKUP(A7,[1]Establecimientos!$A$1:$F$174,3,FALSE),0) -> 105104-HOSPITAL SALAMANCA | C7: =IFERROR(VLOOKUP(A7,[1]Establecimientos!$A$1:$F$174,5,FALSE),0) -> 105104-HOSPITAL SALAMANCA | D7: 4 | E7: 4 | H7: 105302-CES. PEDRO AGUIRRE C. | I7: 296
A8: 105104 | B8: =IFERROR(VLOOKUP(A8,[1]Establecimientos!$A$1:$F$174,3,FALSE),0) -> 105104-HOSPITAL SALAMANCA | C8: =IFERROR(VLOOKUP(A8,[1]Establecimientos!$A$1:$F$174,5,FALSE),0) -> 105104-HOSPITAL SALAMANCA | D8: 5 | E8: 0 | H8: 105313-CES. SCHAFFHAUSER | I8: 494
A9: 105104 | B9: =IFERROR(VLOOKUP(A9,[1]Establecimientos!$A$1:$F$174,3,FALSE),0) -> 105104-HOSPITAL SALAMANCA | C9: =IFERROR(VLOOKUP(A9,[1]Establecimientos!$A$1:$F$174,5,FALSE),0) -> 105104-HOSPITAL SALAMANCA | D9: 7 | E9: 1 | H9: 105319-CES. CARDENAL R.S.H. | I9: 235
A10: 105104 | B10: =IFERROR(VLOOKUP(A10,[1]Establecimientos!$A$1:$F$174,3,FALSE),0) -> 105104-HOSPITAL SALAMANCA | C10: =IFERROR(VLOOKUP(A10,[1]Establecimientos!$A$1:$F$174,5,FALSE),0) -> 105104-HOSPITAL SALAMANCA | D10: 8 | E10: 2 | H10: 105325-CESFAM JUAN PABLO II | I10: 286
A11: 105104 | B11: =IFERROR(VLOOKUP(A11,[1]Establecimientos!$A$1:$F$174,3,FALSE),0) -> 105104-HOSPITAL SALAMANCA | C11: =IFERROR(VLOOKUP(A11,[1]Establecimientos!$A$1:$F$174,5,FALSE),0) -> 105104-HOSPITAL SALAMANCA | D11: 9 | E11: 2 | H11: 105400-P.S.R. ALGARROBITO | I11: 22
A12: 105104 | B12: =IFERROR(VLOOKUP(A12,[1]Establecimientos!$A$1:$F$174,3,FALSE),0) -> 105104-HOSPITAL SALAMANCA | C12: =IFERROR(VLOOKUP(A12,[1]Establecimientos!$A$1:$F$174,5,FALSE),0) -> 105104-HOSPITAL SALAMANCA | D12: 10 | E12: 7 | H12: 105401-P.S.R. LAS ROJAS | I12: 15
A13: 105104 | B13: =IFERROR(VLOOKUP(A13,[1]Establecimientos!$A$1:$F$174,3,FALSE),0) -> 105104-HOSPITAL SALAMANCA | C13: =IFERROR(VLOOKUP(A13,[1]Establecimientos!$A$1:$F$174,5,FALSE),0) -> 105104-HOSPITAL SALAMANCA | D13: 11 | E13: 7 | H13: 105402-P.S.R. EL ROMERO | I13: 6
A14: 105104 | B14: =IFERROR(VLOOKUP(A14,[1]Establecimientos!$A$1:$F$174,3,FALSE),0) -> 105104-HOSPITAL SALAMANCA | C14: =IFERROR(VLOOKUP(A14,[1]Establecimientos!$A$1:$F$174,5,FALSE),0) -> 105104-HOSPITAL SALAMANCA | D14: 12 | E14: 3 | H14: 105499-P.S.R. LAMBERT | I14: 1
A15: 105105 | B15: =IFERROR(VLOOKUP(A15,[1]Establecimientos!$A$1:$F$174,3,FALSE),0) -> 105105-HOSPITAL COMBARBALÁ | C15: =IFERROR(VLOOKUP(A15,[1]Establecimientos!$A$1:$F$174,5,FALSE),0) -> 105105-HOSPITAL COMBARBALÁ | D15: 1 | E15: 5 | H15: 105700-CECOF VILLA EL INDIO | I15: 16
... A148: 105307 | B148: =IFERROR(VLOOKUP(A148,[1]Establecimientos!$A$1:$F$174,3,FALSE),0) -> 105307-CES. RURAL MONTE PATRIA | C148: =IFERROR(VLOOKUP(A148,[1]Establecimientos!$A$1:$F$174,5,FALSE),0) -> 04303-MONTE PATRIA | D148: 5 | E148: 0 | H148: Total general | I148: 4537
A149: 105307 | B149: =IFERROR(VLOOKUP(A149,[1]Establecimientos!$A$1:$F$174,3,FALSE),0) -> 105307-CES. RURAL MONTE PATRIA | C149: =IFERROR(VLOOKUP(A149,[1]Establecimientos!$A$1:$F$174,5,FALSE),0) -> 04303-MONTE PATRIA | D149: 6 | E149: 0
A150: 105307 | B150: =IFERROR(VLOOKUP(A150,[1]Establecimientos!$A$1:$F$174,3,FALSE),0) -> 105307-CES. RURAL MONTE PATRIA | C150: =IFERROR(VLOOKUP(A150,[1]Establecimientos!$A$1:$F$174,5,FALSE),0) -> 04303-MONTE PATRIA | D150: 7 | E150: 3
A151: 105307 | B151: =IFERROR(VLOOKUP(A151,[1]Establecimientos!$A$1:$F$174,3,FALSE),0) -> 105307-CES. RURAL MONTE PATRIA | C151: =IFERROR(VLOOKUP(A151,[1]Establecimientos!$A$1:$F$174,5,FALSE),0) -> 04303-MONTE PATRIA | D151: 8 | E151: 3
A152: 105307 | B152: =IFERROR(VLOOKUP(A152,[1]Establecimientos!$A$1:$F$174,3,FALSE),0) -> 105307-CES. RURAL MONTE PATRIA | C152: =IFERROR(VLOOKUP(A152,[1]Establecimientos!$A$1:$F$174,5,FALSE),0) -> 04303-MONTE PATRIA | D152: 9 | E152: 0
A153: 105307 | B153: =IFERROR(VLOOKUP(A153,[1]Establecimientos!$A$1:$F$174,3,FALSE),0) -> 105307-CES. RURAL MONTE PATRIA | C153: =IFERROR(VLOOKUP(A153,[1]Establecimientos!$A$1:$F$174,5,FALSE),0) -> 04303-MONTE PATRIA | D153: 10 | E153: 0
A154: 105307 | B154: =IFERROR(VLOOKUP(A154,[1]Establecimientos!$A$1:$F$174,3,FALSE),0) -> 105307-CES. RURAL MONTE PATRIA | C154: =IFERROR(VLOOKUP(A154,[1]Establecimientos!$A$1:$F$174,5,FALSE),0) -> 04303-MONTE PATRIA | D154: 11 | E154: 4
A155: 105307 | B155: =IFERROR(VLOOKUP(A155,[1]Establecimientos!$A$1:$F$174,3,FALSE),0) -> 105307-CES. RURAL MONTE PATRIA | C155: =IFERROR(VLOOKUP(A155,[1]Establecimientos!$A$1:$F$174,5,FALSE),0) -> 04303-MONTE PATRIA | D155: 12 | E155: 3
A156: 105308 | B156: =IFERROR(VLOOKUP(A156,[1]Establecimientos!$A$1:$F$174,3,FALSE),0) -> 105308-CES. RURAL PUNITAQUI | C156: =IFERROR(VLOOKUP(A156,[1]Establecimientos!$A$1:$F$174,5,FALSE),0) -> 04304-PUNITAQUI | D156: 1 | E156: 0
A157: 105308 | B157: =IFERROR(VLOOKUP(A157,[1]Establecimientos!$A$1:$F$174,3,FALSE),0) -> 105308-CES. RURAL PUNITAQUI | C157: =IFERROR(VLOOKUP(A157,[1]Establecimientos!$A$1:$F$174,5,FALSE),0) -> 04304-PUNITAQUI | D157: 2 | E157: 1
A158: 105308 | B158: =IFERROR(VLOOKUP(A158,[1]Establecimientos!$A$1:$F$174,3,FALSE),0) -> 105308-CES. RURAL PUNITAQUI | C158: =IFERROR(VLOOKUP(A158,[1]Establecimientos!$A$1:$F$174,5,FALSE),0) -> 04304-PUNITAQUI | D158: 3 | E158: 4
A159: 105308 | B159: =IFERROR(VLOOKUP(A159,[1]Establecimientos!$A$1:$F$174,3,FALSE),0) -> 105308-CES. RURAL PUNITAQUI | C159: =IFERROR(VLOOKUP(A159,[1]Establecimientos!$A$1:$F$174,5,FALSE),0) -> 04304-PUNITAQUI | D159: 4 | E159: 4
A160: 105308 | B160: =IFERROR(VLOOKUP(A160,[1]Establecimientos!$A$1:$F$174,3,FALSE),0) -> 105308-CES. RURAL PUNITAQUI | C160: =IFERROR(VLOOKUP(A160,[1]Establecimientos!$A$1:$F$174,5,FALSE),0) -> 04304-PUNITAQUI | D160: 5 | E160: 7
... A1007: 200607 | B1007: =IFERROR(VLOOKUP(A1007,[1]Establecimientos!$A$1:$F$174,3,FALSE),0) -> 200607-CESFAM LILA CORTES | C1007: =IFERROR(VLOOKUP(A1007,[1]Establecimientos!$A$1:$F$174,5,FALSE),0) -> 04102-COQUIMBO | D1007: 12 | E1007: 0
A1009: Denominador B (P)
A1010: Idestablecimiento | B1010: Establecimiento | C1010: Comuna | D1010: Mes | E1010: Total
A1011: 105104 | B1011: =IFERROR(VLOOKUP(A1011,[1]Establecimientos!$A$1:$F$174,3,FALSE),0) -> 105104-HOSPITAL SALAMANCA | C1011: =IFERROR(VLOOKUP(A1011,[1]Establecimientos!$A$1:$F$174,5,FALSE),0) -> 105104-HOSPITAL SALAMANCA | D1011: 6 | E1011: 66
A1012: 105104 | B1012: =IFERROR(VLOOKUP(A1012,[1]Establecimientos!$A$1:$F$174,3,FALSE),0) -> 105104-HOSPITAL SALAMANCA | C1012: =IFERROR(VLOOKUP(A1012,[1]Establecimientos!$A$1:$F$174,5,FALSE),0) -> 105104-HOSPITAL SALAMANCA | D1012: 12 | E1012: 86 | H1012: Etiquetas de fila | I1012: Suma de Total
A1013: 105105 | B1013: =IFERROR(VLOOKUP(A1013,[1]Establecimientos!$A$1:$F$174,3,FALSE),0) -> 105105-HOSPITAL COMBARBALÁ | C1013: =IFERROR(VLOOKUP(A1013,[1]Establecimientos!$A$1:$F$174,5,FALSE),0) -> 105105-HOSPITAL COMBARBALÁ | D1013: 6 | E1013: 90 | H1013: 04101-LA SERENA | I1013: 2284
A1014: 105105 | B1014: =IFERROR(VLOOKUP(A1014,[1]Establecimientos!$A$1:$F$174,3,FALSE),0) -> 105105-HOSPITAL COMBARBALÁ | C1014: =IFERROR(VLOOKUP(A1014,[1]Establecimientos!$A$1:$F$174,5,FALSE),0) -> 105105-HOSPITAL COMBARBALÁ | D1014: 12 | E1014: 97 | H1014: 105300-CES. CARDENAL CARO | I1014: 610
A1015: 105106 | B1015: =IFERROR(VLOOKUP(A1015,[1]Establecimientos!$A$1:$F$174,3,FALSE),0) -> 105106-HOSPITAL ANDACOLLO | C1015: =IFERROR(VLOOKUP(A1015,[1]Establecimientos!$A$1:$F$174,5,FALSE),0) -> 105106-HOSPITAL ANDACOLLO | D1015: 6 | E1015: 64 | H1015: 105301-CES. LAS COMPAÑIAS | I1015: 133
A1016: 105106 | B1016: =IFERROR(VLOOKUP(A1016,[1]Establecimientos!$A$1:$F$174,3,FALSE),0) -> 105106-HOSPITAL ANDACOLLO | C1016: =IFERROR(VLOOKUP(A1016,[1]Establecimientos!$A$1:$F$174,5,FALSE),0) -> 105106-HOSPITAL ANDACOLLO | D1016: 12 | E1016: 125 | H1016: 105302-CES. PEDRO AGUIRRE C. | I1016: 199
A1017: 105107 | B1017: =IFERROR(VLOOKUP(A1017,[1]Establecimientos!$A$1:$F$174,3,FALSE),0) -> 105107-HOSPITAL VICUÑA | C1017: =IFERROR(VLOOKUP(A1017,[1]Establecimientos!$A$1:$F$174,5,FALSE),0) -> 105107-HOSPITAL VICUÑA | D1017: 6 | E1017: 82 | H1017: 105313-CES. SCHAFFHAUSER | I1017: 654
A1018: 105107 | B1018: =IFERROR(VLOOKUP(A1018,[1]Establecimientos!$A$1:$F$174,3,FALSE),0) -> 105107-HOSPITAL VICUÑA | C1018: =IFERROR(VLOOKUP(A1018,[1]Establecimientos!$A$1:$F$174,5,FALSE),0) -> 105107-HOSPITAL VICUÑA | D1018: 12 | E1018: 76 | H1018: 105319-CES. CARDENAL R.S.H. | I1018: 276
A1019: 105108 | B1019: =IFERROR(VLOOKUP(A1019,[1]Establecimientos!$A$1:$F$174,3,FALSE),0) -> 105108-HOSPITAL LOS VILOS | C1019: =IFERROR(VLOOKUP(A1019,[1]Establecimientos!$A$1:$F$174,5,FALSE),0) -> 105108-HOSPITAL LOS VILOS | D1019: 6 | E1019: 65 | H1019: 105325-CESFAM JUAN PABLO II | I1019: 211
A1020: 105108 | B1020: =IFERROR(VLOOKUP(A1020,[1]Establecimientos!$A$1:$F$174,3,FALSE),0) -> 105108-HOSPITAL LOS VILOS | C1020: =IFERROR(VLOOKUP(A1020,[1]Establecimientos!$A$1:$F$174,5,FALSE),0) -> 105108-HOSPITAL LOS VILOS | D1020: 12 | E1020: 88 | H1020: 105400-P.S.R. ALGARROBITO | I1020: 70
A1021: 105300 | B1021: =IFERROR(VLOOKUP(A1021,[1]Establecimientos!$A$1:$F$174,3,FALSE),0) -> 105300-CES. CARDENAL CARO | C1021: =IFERROR(VLOOKUP(A1021,[1]Establecimientos!$A$1:$F$174,5,FALSE),0) -> 04101-LA SERENA | D1021: 6 | E1021: 313 | H1021: 105401-P.S.R. LAS ROJAS | I1021: 25
A1022: 105300 | B1022: =IFERROR(VLOOKUP(A1022,[1]Establecimientos!$A$1:$F$174,3,FALSE),0) -> 105300-CES. CARDENAL CARO | C1022: =IFERROR(VLOOKUP(A1022,[1]Establecimientos!$A$1:$F$174,5,FALSE),0) -> 04101-LA SERENA | D1022: 12 | E1022: 297 | H1022: 105402-P.S.R. EL ROMERO | I1022: 14
A1023: 105301 | B1023: =IFERROR(VLOOKUP(A1023,[1]Establecimientos!$A$1:$F$174,3,FALSE),0) -> 105301-CES. LAS COMPAÑIAS | C1023: =IFERROR(VLOOKUP(A1023,[1]Establecimientos!$A$1:$F$174,5,FALSE),0) -> 04101-LA SERENA | D1023: 6 | E1023: 70 | H1023: 105700-CECOF VILLA EL INDIO | I1023: 17
A1024: 105301 | B1024: =IFERROR(VLOOKUP(A1024,[1]Establecimientos!$A$1:$F$174,3,FALSE),0) -> 105301-CES. LAS COMPAÑIAS | C1024: =IFERROR(VLOOKUP(A1024,[1]Establecimientos!$A$1:$F$174,5,FALSE),0) -> 04101-LA SERENA | D1024: 12 | E1024: 63 | H1024: 105701-CECOF VILLA ALEMANIA | I1024: 10
... A1153: 105473 | B1153: =IFERROR(VLOOKUP(A1153,[1]Establecimientos!$A$1:$F$174,3,FALSE),0) -> 105473-P.S.R. TALCUNA | C1153: =IFERROR(VLOOKUP(A1153,[1]Establecimientos!$A$1:$F$174,5,FALSE),0) -> 04106-VICUÑA | D1153: 6 | E1153: 9 | H1153: Total general | I1153: 7725
A1154: 105473 | B1154: =IFERROR(VLOOKUP(A1154,[1]Establecimientos!$A$1:$F$174,3,FALSE),0) -> 105473-P.S.R. TALCUNA | C1154: =IFERROR(VLOOKUP(A1154,[1]Establecimientos!$A$1:$F$174,5,FALSE),0) -> 04106-VICUÑA | D1154: 12 | E1154: 6
A1155: 105474 | B1155: =IFERROR(VLOOKUP(A1155,[1]Establecimientos!$A$1:$F$174,3,FALSE),0) -> 105474-P.S.R. CHAPILCA | C1155: =IFERROR(VLOOKUP(A1155,[1]Establecimientos!$A$1:$F$174,5,FALSE),0) -> 04106-VICUÑA | D1155: 6 | E1155: 2
A1156: 105474 | B1156: =IFERROR(VLOOKUP(A1156,[1]Establecimientos!$A$1:$F$174,3,FALSE),0) -> 105474-P.S.R. CHAPILCA | C1156: =IFERROR(VLOOKUP(A1156,[1]Establecimientos!$A$1:$F$174,5,FALSE),0) -> 04106-VICUÑA | D1156: 12 | E1156: 2
A1157: 105475 | B1157: =IFERROR(VLOOKUP(A1157,[1]Establecimientos!$A$1:$F$174,3,FALSE),0) -> 105475-P.S.R. HORCON | C1157: =IFERROR(VLOOKUP(A1157,[1]Establecimientos!$A$1:$F$174,5,FALSE),0) -> 04105-PAIHUANO | D1157: 6 | E1157: 4
A1158: 105475 | B1158: =IFERROR(VLOOKUP(A1158,[1]Establecimientos!$A$1:$F$174,3,FALSE),0) -> 105475-P.S.R. HORCON | C1158: =IFERROR(VLOOKUP(A1158,[1]Establecimientos!$A$1:$F$174,5,FALSE),0) -> 04105-PAIHUANO | D1158: 12 | E1158: 5
A1159: 105476 | B1159: =IFERROR(VLOOKUP(A1159,[1]Establecimientos!$A$1:$F$174,3,FALSE),0) -> 105476-P.S.R. MONTE GRANDE | C1159: =IFERROR(VLOOKUP(A1159,[1]Establecimientos!$A$1:$F$174,5,FALSE),0) -> 04105-PAIHUANO | D1159: 6 | E1159: 3
A1160: 105476 | B1160: =IFERROR(VLOOKUP(A1160,[1]Establecimientos!$A$1:$F$174,3,FALSE),0) -> 105476-P.S.R. MONTE GRANDE | C1160: =IFERROR(VLOOKUP(A1160,[1]Establecimientos!$A$1:$F$174,5,FALSE),0) -> 04105-PAIHUANO | D1160: 12 | E1160: 3
A1161: 105477 | B1161: =IFERROR(VLOOKUP(A1161,[1]Establecimientos!$A$1:$F$174,3,FALSE),0) -> 105477-P.S.R. PISCO ELQUI | C1161: =IFERROR(VLOOKUP(A1161,[1]Establecimientos!$A$1:$F$174,5,FALSE),0) -> 04105-PAIHUANO | D1161: 6 | E1161: 4
A1162: 105477 | B1162: =IFERROR(VLOOKUP(A1162,[1]Establecimientos!$A$1:$F$174,3,FALSE),0) -> 105477-P.S.R. PISCO ELQUI | C1162: =IFERROR(VLOOKUP(A1162,[1]Establecimientos!$A$1:$F$174,5,FALSE),0) -> 04105-PAIHUANO | D1162: 12 | E1162: 5
A1163: 105478 | B1163: =IFERROR(VLOOKUP(A1163,[1]Establecimientos!$A$1:$F$174,3,FALSE),0) -> 105478-P.S.R. CAIMANES | C1163: =IFERROR(VLOOKUP(A1163,[1]Establecimientos!$A$1:$F$174,5,FALSE),0) -> 04203-LOS VILOS | D1163: 6 | E1163: 6
A1164: 105478 | B1164: =IFERROR(VLOOKUP(A1164,[1]Establecimientos!$A$1:$F$174,3,FALSE),0) -> 105478-P.S.R. CAIMANES | C1164: =IFERROR(VLOOKUP(A1164,[1]Establecimientos!$A$1:$F$174,5,FALSE),0) -> 04203-LOS VILOS | D1164: 12 | E1164: 10
A1165: 105479 | B1165: =IFERROR(VLOOKUP(A1165,[1]Establecimientos!$A$1:$F$174,3,FALSE),0) -> 105479-P.S.R. GUANGUALI | C1165: =IFERROR(VLOOKUP(A1165,[1]Establecimientos!$A$1:$F$174,5,FALSE),0) -> 04203-LOS VILOS | D1165: 6 | E1165: 13
... A1240: 200607 | B1240: =IFERROR(VLOOKUP(A1240,[1]Establecimientos!$A$1:$F$174,3,FALSE),0) -> 200607-CESFAM LILA CORTES | C1240: =IFERROR(VLOOKUP(A1240,[1]Establecimientos!$A$1:$F$174,5,FALSE),0) -> 04102-COQUIMBO | D1240: 12 | E1240: 65
A1242: Numerador C (A)
A1243: Idestablecimiento | B1243: Establecimiento | C1243: Comuna | D1243: Mes | E1243: Total
A1244: 105104 | B1244: =IFERROR(VLOOKUP(A1244,[1]Establecimientos!$A$1:$F$174,3,FALSE),0) -> 105104-HOSPITAL SALAMANCA | C1244: =IFERROR(VLOOKUP(A1244,[1]Establecimientos!$A$1:$F$174,5,FALSE),0) -> 105104-HOSPITAL SALAMANCA | D1244: 10 | E1244: 67
A1245: 105104 | B1245: =IFERROR(VLOOKUP(A1245,[1]Establecimientos!$A$1:$F$174,3,FALSE),0) -> 105104-HOSPITAL SALAMANCA | C1245: =IFERROR(VLOOKUP(A1245,[1]Establecimientos!$A$1:$F$174,5,FALSE),0) -> 105104-HOSPITAL SALAMANCA | D1245: 11 | E1245: 11 | H1245: Etiquetas de fila | I1245: Suma de Total
A1246: 105104 | B1246: =IFERROR(VLOOKUP(A1246,[1]Establecimientos!$A$1:$F$174,3,FALSE),0) -> 105104-HOSPITAL SALAMANCA | C1246: =IFERROR(VLOOKUP(A1246,[1]Establecimientos!$A$1:$F$174,5,FALSE),0) -> 105104-HOSPITAL SALAMANCA | D1246: 12 | E1246: 6 | H1246: 04101-LA SERENA | I1246: 216
A1247: 105105 | B1247: =IFERROR(VLOOKUP(A1247,[1]Establecimientos!$A$1:$F$174,3,FALSE),0) -> 105105-HOSPITAL COMBARBALÁ | C1247: =IFERROR(VLOOKUP(A1247,[1]Establecimientos!$A$1:$F$174,5,FALSE),0) -> 105105-HOSPITAL COMBARBALÁ | D1247: 1 | E1247: 7 | H1247: 105300-CES. CARDENAL CARO | I1247: 8
A1248: 105105 | B1248: =IFERROR(VLOOKUP(A1248,[1]Establecimientos!$A$1:$F$174,3,FALSE),0) -> 105105-HOSPITAL COMBARBALÁ | C1248: =IFERROR(VLOOKUP(A1248,[1]Establecimientos!$A$1:$F$174,5,FALSE),0) -> 105105-HOSPITAL COMBARBALÁ | D1248: 2 | E1248: 17 | H1248: 105301-CES. LAS COMPAÑIAS | I1248: 2
A1249: 105105 | B1249: =IFERROR(VLOOKUP(A1249,[1]Establecimientos!$A$1:$F$174,3,FALSE),0) -> 105105-HOSPITAL COMBARBALÁ | C1249: =IFERROR(VLOOKUP(A1249,[1]Establecimientos!$A$1:$F$174,5,FALSE),0) -> 105105-HOSPITAL COMBARBALÁ | D1249: 3 | E1249: 6 | H1249: 105302-CES. PEDRO AGUIRRE C. | I1249: 118
A1250: 105105 | B1250: =IFERROR(VLOOKUP(A1250,[1]Establecimientos!$A$1:$F$174,3,FALSE),0) -> 105105-HOSPITAL COMBARBALÁ | C1250: =IFERROR(VLOOKUP(A1250,[1]Establecimientos!$A$1:$F$174,5,FALSE),0) -> 105105-HOSPITAL COMBARBALÁ | D1250: 4 | E1250: 1 | H1250: 105313-CES. SCHAFFHAUSER | I1250: 31
A1251: 105105 | B1251: =IFERROR(VLOOKUP(A1251,[1]Establecimientos!$A$1:$F$174,3,FALSE),0) -> 105105-HOSPITAL COMBARBALÁ | C1251: =IFERROR(VLOOKUP(A1251,[1]Establecimientos!$A$1:$F$174,5,FALSE),0) -> 105105-HOSPITAL COMBARBALÁ | D1251: 8 | E1251: 5 | H1251: 105400-P.S.R. ALGARROBITO | I1251: 29
A1252: 105105 | B1252: =IFERROR(VLOOKUP(A1252,[1]Establecimientos!$A$1:$F$174,3,FALSE),0) -> 105105-HOSPITAL COMBARBALÁ | C1252: =IFERROR(VLOOKUP(A1252,[1]Establecimientos!$A$1:$F$174,5,FALSE),0) -> 105105-HOSPITAL COMBARBALÁ | D1252: 9 | E1252: 1 | H1252: 105401-P.S.R. LAS ROJAS | I1252: 7
A1253: 105105 | B1253: =IFERROR(VLOOKUP(A1253,[1]Establecimientos!$A$1:$F$174,3,FALSE),0) -> 105105-HOSPITAL COMBARBALÁ | C1253: =IFERROR(VLOOKUP(A1253,[1]Establecimientos!$A$1:$F$174,5,FALSE),0) -> 105105-HOSPITAL COMBARBALÁ | D1253: 10 | E1253: 2 | H1253: 105402-P.S.R. EL ROMERO | I1253: 2
A1254: 105105 | B1254: =IFERROR(VLOOKUP(A1254,[1]Establecimientos!$A$1:$F$174,3,FALSE),0) -> 105105-HOSPITAL COMBARBALÁ | C1254: =IFERROR(VLOOKUP(A1254,[1]Establecimientos!$A$1:$F$174,5,FALSE),0) -> 105105-HOSPITAL COMBARBALÁ | D1254: 11 | E1254: 1 | H1254: 105701-CECOF VILLA ALEMANIA | I1254: 5
A1255: 105106 | B1255: =IFERROR(VLOOKUP(A1255,[1]Establecimientos!$A$1:$F$174,3,FALSE),0) -> 105106-HOSPITAL ANDACOLLO | C1255: =IFERROR(VLOOKUP(A1255,[1]Establecimientos!$A$1:$F$174,5,FALSE),0) -> 105106-HOSPITAL ANDACOLLO | D1255: 1 | E1255: 4 | H1255: 105702-CECOF VILLA LAMBERT | I1255: 8
A1256: 105106 | B1256: =IFERROR(VLOOKUP(A1256,[1]Establecimientos!$A$1:$F$174,3,FALSE),0) -> 105106-HOSPITAL ANDACOLLO | C1256: =IFERROR(VLOOKUP(A1256,[1]Establecimientos!$A$1:$F$174,5,FALSE),0) -> 105106-HOSPITAL ANDACOLLO | D1256: 2 | E1256: 5 | H1256: 200402-CECOF ARCOS DE PINAMAR | I1256: 6
A1257: 105106 | B1257: =IFERROR(VLOOKUP(A1257,[1]Establecimientos!$A$1:$F$174,3,FALSE),0) -> 105106-HOSPITAL ANDACOLLO | C1257: =IFERROR(VLOOKUP(A1257,[1]Establecimientos!$A$1:$F$174,5,FALSE),0) -> 105106-HOSPITAL ANDACOLLO | D1257: 3 | E1257: 6 | H1257: 04102-COQUIMBO | I1257: 591
... A1351: 105310 | B1351: =IFERROR(VLOOKUP(A1351,[1]Establecimientos!$A$1:$F$174,3,FALSE),0) -> 105310-CES. RURAL PICHASCA | C1351: =IFERROR(VLOOKUP(A1351,[1]Establecimientos!$A$1:$F$174,5,FALSE),0) -> 04305-RIO HURTADO | D1351: 8 | E1351: 5 | H1351: 105108-HOSPITAL LOS VILOS | I1351: 73
A1352: 105310 | B1352: =IFERROR(VLOOKUP(A1352,[1]Establecimientos!$A$1:$F$174,3,FALSE),0) -> 105310-CES. RURAL PICHASCA | C1352: =IFERROR(VLOOKUP(A1352,[1]Establecimientos!$A$1:$F$174,5,FALSE),0) -> 04305-RIO HURTADO | D1352: 12 | E1352: 5 | H1352: (en blanco)
A1353: 105313 | B1353: =IFERROR(VLOOKUP(A1353,[1]Establecimientos!$A$1:$F$174,3,FALSE),0) -> 105313-CES. SCHAFFHAUSER | C1353: =IFERROR(VLOOKUP(A1353,[1]Establecimientos!$A$1:$F$174,5,FALSE),0) -> 04101-LA SERENA | D1353: 1 | E1353: 2 | H1353: (en blanco)
A1354: 105313 | B1354: =IFERROR(VLOOKUP(A1354,[1]Establecimientos!$A$1:$F$174,3,FALSE),0) -> 105313-CES. SCHAFFHAUSER | C1354: =IFERROR(VLOOKUP(A1354,[1]Establecimientos!$A$1:$F$174,5,FALSE),0) -> 04101-LA SERENA | D1354: 2 | E1354: 2 | H1354: Total general | I1354: 2162
A1355: 105313 | B1355: =IFERROR(VLOOKUP(A1355,[1]Establecimientos!$A$1:$F$174,3,FALSE),0) -> 105313-CES. SCHAFFHAUSER | C1355: =IFERROR(VLOOKUP(A1355,[1]Establecimientos!$A$1:$F$174,5,FALSE),0) -> 04101-LA SERENA | D1355: 3 | E1355: 2
A1356: 105313 | B1356: =IFERROR(VLOOKUP(A1356,[1]Establecimientos!$A$1:$F$174,3,FALSE),0) -> 105313-CES. SCHAFFHAUSER | C1356: =IFERROR(VLOOKUP(A1356,[1]Establecimientos!$A$1:$F$174,5,FALSE),0) -> 04101-LA SERENA | D1356: 4 | E1356: 2
A1357: 105313 | B1357: =IFERROR(VLOOKUP(A1357,[1]Establecimientos!$A$1:$F$174,3,FALSE),0) -> 105313-CES. SCHAFFHAUSER | C1357: =IFERROR(VLOOKUP(A1357,[1]Establecimientos!$A$1:$F$174,5,FALSE),0) -> 04101-LA SERENA | D1357: 5 | E1357: 2
A1358: 105313 | B1358: =IFERROR(VLOOKUP(A1358,[1]Establecimientos!$A$1:$F$174,3,FALSE),0) -> 105313-CES. SCHAFFHAUSER | C1358: =IFERROR(VLOOKUP(A1358,[1]Establecimientos!$A$1:$F$174,5,FALSE),0) -> 04101-LA SERENA | D1358: 6 | E1358: 2
A1359: 105313 | B1359: =IFERROR(VLOOKUP(A1359,[1]Establecimientos!$A$1:$F$174,3,FALSE),0) -> 105313-CES. SCHAFFHAUSER | C1359: =IFERROR(VLOOKUP(A1359,[1]Establecimientos!$A$1:$F$174,5,FALSE),0) -> 04101-LA SERENA | D1359: 7 | E1359: 2
A1360: 105313 | B1360: =IFERROR(VLOOKUP(A1360,[1]Establecimientos!$A$1:$F$174,3,FALSE),0) -> 105313-CES. SCHAFFHAUSER | C1360: =IFERROR(VLOOKUP(A1360,[1]Establecimientos!$A$1:$F$174,5,FALSE),0) -> 04101-LA SERENA | D1360: 8 | E1360: 11
A1361: 105313 | B1361: =IFERROR(VLOOKUP(A1361,[1]Establecimientos!$A$1:$F$174,3,FALSE),0) -> 105313-CES. SCHAFFHAUSER | C1361: =IFERROR(VLOOKUP(A1361,[1]Establecimientos!$A$1:$F$174,5,FALSE),0) -> 04101-LA SERENA | D1361: 9 | E1361: 6
A1362: 105314 | B1362: =IFERROR(VLOOKUP(A1362,[1]Establecimientos!$A$1:$F$174,3,FALSE),0) -> 105314-CES. LA HIGUERA | C1362: =IFERROR(VLOOKUP(A1362,[1]Establecimientos!$A$1:$F$174,5,FALSE),0) -> 04104-LA HIGUERA | D1362: 3 | E1362: 2
A1363: 105314 | B1363: =IFERROR(VLOOKUP(A1363,[1]Establecimientos!$A$1:$F$174,3,FALSE),0) -> 105314-CES. LA HIGUERA | C1363: =IFERROR(VLOOKUP(A1363,[1]Establecimientos!$A$1:$F$174,5,FALSE),0) -> 04104-LA HIGUERA | D1363: 6 | E1363: 2
A1364: 105314 | B1364: =IFERROR(VLOOKUP(A1364,[1]Establecimientos!$A$1:$F$174,3,FALSE),0) -> 105314-CES. LA HIGUERA | C1364: =IFERROR(VLOOKUP(A1364,[1]Establecimientos!$A$1:$F$174,5,FALSE),0) -> 04104-LA HIGUERA | D1364: 9 | E1364: 1
A1365: 105317 | B1365: =IFERROR(VLOOKUP(A1365,[1]Establecimientos!$A$1:$F$174,3,FALSE),0) -> 105317-CES. JORGE JORDAN D. | C1365: =IFERROR(VLOOKUP(A1365,[1]Establecimientos!$A$1:$F$174,5,FALSE),0) -> 04301-OVALLE | D1365: 1 | E1365: 19
A1366: 105317 | B1366: =IFERROR(VLOOKUP(A1366,[1]Establecimientos!$A$1:$F$174,3,FALSE),0) -> 105317-CES. JORGE JORDAN D. | C1366: =IFERROR(VLOOKUP(A1366,[1]Establecimientos!$A$1:$F$174,5,FALSE),0) -> 04301-OVALLE | D1366: 2 | E1366: 5
... A1633: 200607 | B1633: =IFERROR(VLOOKUP(A1633,[1]Establecimientos!$A$1:$F$174,3,FALSE),0) -> 200607-CESFAM LILA CORTES | C1633: =IFERROR(VLOOKUP(A1633,[1]Establecimientos!$A$1:$F$174,5,FALSE),0) -> 04102-COQUIMBO | D1633: 12 | E1633: 2
A1634: Denominador C (P)
A1636: Idestablecimiento | B1636: Establecimiento | C1636: Comuna | D1636: Mes | E1636: Total
A1637: 105104 | B1637: =IFERROR(VLOOKUP(A1637,[1]Establecimientos!$A$1:$F$174,3,FALSE),0) -> 105104-HOSPITAL SALAMANCA | C1637: =IFERROR(VLOOKUP(A1637,[1]Establecimientos!$A$1:$F$174,5,FALSE),0) -> 105104-HOSPITAL SALAMANCA | D1637: 6 | E1637: 76
A1638: 105104 | B1638: =IFERROR(VLOOKUP(A1638,[1]Establecimientos!$A$1:$F$174,3,FALSE),0) -> 105104-HOSPITAL SALAMANCA | C1638: =IFERROR(VLOOKUP(A1638,[1]Establecimientos!$A$1:$F$174,5,FALSE),0) -> 105104-HOSPITAL SALAMANCA | D1638: 12 | E1638: 86
A1639: 105105 | B1639: =IFERROR(VLOOKUP(A1639,[1]Establecimientos!$A$1:$F$174,3,FALSE),0) -> 105105-HOSPITAL COMBARBALÁ | C1639: =IFERROR(VLOOKUP(A1639,[1]Establecimientos!$A$1:$F$174,5,FALSE),0) -> 105105-HOSPITAL COMBARBALÁ | D1639: 6 | E1639: 90 | H1639: Etiquetas de fila | I1639: Suma de Total
A1640: 105105 | B1640: =IFERROR(VLOOKUP(A1640,[1]Establecimientos!$A$1:$F$174,3,FALSE),0) -> 105105-HOSPITAL COMBARBALÁ | C1640: =IFERROR(VLOOKUP(A1640,[1]Establecimientos!$A$1:$F$174,5,FALSE),0) -> 105105-HOSPITAL COMBARBALÁ | D1640: 12 | E1640: 97 | H1640: 04101-LA SERENA | I1640: 1931
A1641: 105106 | B1641: =IFERROR(VLOOKUP(A1641,[1]Establecimientos!$A$1:$F$174,3,FALSE),0) -> 105106-HOSPITAL ANDACOLLO | C1641: =IFERROR(VLOOKUP(A1641,[1]Establecimientos!$A$1:$F$174,5,FALSE),0) -> 105106-HOSPITAL ANDACOLLO | D1641: 6 | E1641: 65 | H1641: 105300-CES. CARDENAL CARO | I1641: 231
A1642: 105106 | B1642: =IFERROR(VLOOKUP(A1642,[1]Establecimientos!$A$1:$F$174,3,FALSE),0) -> 105106-HOSPITAL ANDACOLLO | C1642: =IFERROR(VLOOKUP(A1642,[1]Establecimientos!$A$1:$F$174,5,FALSE),0) -> 105106-HOSPITAL ANDACOLLO | D1642: 12 | E1642: 124 | H1642: 105301-CES. LAS COMPAÑIAS | I1642: 133
...
