Workbook

Sheet D15
B1: SERVICIO DE SALUD
B2: =CONCATENATE("COMUNA: ",[1]NOMBRE!$B$2," ","( ",[1]NOMBRE!$C$2,[1]NOMBRE!$D$2,[1]NOMBRE!$E$2,[1]NOMBRE!$F$2,[1]NOMBRE!$G$2," )") -> COMUNA: ( )
B3: =CONCATENATE("ESTABLECIMIENTO/ESTRATEGIA: ",[1]NOMBRE!$B$3," ","( ",[1]NOMBRE!$C$3,[1]NOMBRE!$D$3,[1]NOMBRE!$E$3,[1]NOMBRE!$F$3,[1]NOMBRE!$G$3,[1]NOMBRE!$H$3," )") -> ESTABLECIMIENTO/ESTRATEGIA: ( )
B4: =CONCATENATE("MES: ",[1]NOMBRE!$B$6," ","( ",[1]NOMBRE!$C$6,[1]NOMBRE!$D$6," )") -> MES: ( )
B5: =CONCATENATE("AÑO: ",[1]NOMBRE!$B$7) -> AÑO: 2023
B7: REM-D.15 - Programa Nacional de Alimentación Complementaria (PNAC)
B8: Sección A: PNAC - Cantidad distribuida (kg) a personas intrasistema
B9: Subprogramas | C9: Productos | D9: Total | E9: Menores a 6 años | L9: Gestantes | N9: Persona que amamanta a hijo/a menor a 12 meses
E10: 0 - 2 meses | F10: 3 - 5 meses | G10: 6 - 11 meses | H10: 12 - 17 meses | I10: 18 - 23 meses | J10: 24 - 47 meses | K10: 48 - 71 meses | L10: Normal, sobrepeso y obesas | M10: Bajo peso | N10: 0 a 5 meses con Lactancia Materna exclusiva | O10: 0 a 5 meses Lactancia Materna + Fórmula Láctea | P10: 6 a 11 meses Lactancia Materna
A13: 15010100 | B13: Básico | C13: Leche Purita Fortificada (LPF) | D13: =IFERROR(VLOOKUP($A13,Filtro!$5:$58,2,FALSE),0) -> 20035 | E13: =IFERROR(VLOOKUP($A13,Filtro!$5:$58,3,FALSE),0) -> 0 | F13: =IFERROR(VLOOKUP($A13,Filtro!$5:$58,4,FALSE),0) -> 0 | G13: =IFERROR(VLOOKUP($A13,Filtro!$5:$58,5,FALSE),0) -> 0 | H13: =IFERROR(VLOOKUP($A13,Filtro!$5:$58,6,FALSE),0) -> 13808 | I13: =IFERROR(VLOOKUP($A13,Filtro!$5:$58,7,FALSE),0) -> 6087 | J13: =IFERROR(VLOOKUP($A13,Filtro!$5:$58,8,FALSE),0) -> 2 | K13: =IFERROR(VLOOKUP($A13,Filtro!$5:$58,9,FALSE),0) -> 6 | L13: =IFERROR(VLOOKUP($A13,Filtro!$5:$58,10,FALSE),0) -> 65 | M13: =IFERROR(VLOOKUP($A13,Filtro!$5:$58,11,FALSE),0) -> 0 | N13: =IFERROR(VLOOKUP($A13,Filtro!$5:$58,12,FALSE),0) -> 34 | O13: =IFERROR(VLOOKUP($A13,Filtro!$5:$58,13,FALSE),0) -> 19 | P13: =IFERROR(VLOOKUP($A13,Filtro!$5:$58,14,FALSE),0) -> 14
A14: 15080014 | C14: Purita +Pro 1 | D14: =IFERROR(VLOOKUP($A14,Filtro!$5:$58,2,FALSE),0) -> 10702 | E14: =IFERROR(VLOOKUP($A14,Filtro!$5:$58,3,FALSE),0) -> 0 | F14: =IFERROR(VLOOKUP($A14,Filtro!$5:$58,4,FALSE),0) -> 0 | G14: =IFERROR(VLOOKUP($A14,Filtro!$5:$58,5,FALSE),0) -> 0 | H14: =IFERROR(VLOOKUP($A14,Filtro!$5:$58,6,FALSE),0) -> 5892 | I14: =IFERROR(VLOOKUP($A14,Filtro!$5:$58,7,FALSE),0) -> 4759 | J14: =IFERROR(VLOOKUP($A14,Filtro!$5:$58,8,FALSE),0) -> 0 | K14: =IFERROR(VLOOKUP($A14,Filtro!$5:$58,9,FALSE),0) -> 1 | L14: =IFERROR(VLOOKUP($A14,Filtro!$5:$58,10,FALSE),0) -> 27 | M14: =IFERROR(VLOOKUP($A14,Filtro!$5:$58,11,FALSE),0) -> 0 | N14: =IFERROR(VLOOKUP($A14,Filtro!$5:$58,12,FALSE),0) -> 15 | O14: =IFERROR(VLOOKUP($A14,Filtro!$5:$58,13,FALSE),0) -> 2 | P14: =IFERROR(VLOOKUP($A14,Filtro!$5:$58,14,FALSE),0) -> 6
A15: 15010200 | C15: Purita Cereal (PC) | D15: =IFERROR(VLOOKUP($A15,Filtro!$5:$58,2,FALSE),0) -> 65882 | E15: =IFERROR(VLOOKUP($A15,Filtro!$5:$58,3,FALSE),0) -> 0 | F15: =IFERROR(VLOOKUP($A15,Filtro!$5:$58,4,FALSE),0) -> 0 | G15: =IFERROR(VLOOKUP($A15,Filtro!$5:$58,5,FALSE),0) -> 0 | H15: =IFERROR(VLOOKUP($A15,Filtro!$5:$58,6,FALSE),0) -> 0 | I15: =IFERROR(VLOOKUP($A15,Filtro!$5:$58,7,FALSE),0) -> 5690 | J15: =IFERROR(VLOOKUP($A15,Filtro!$5:$58,8,FALSE),0) -> 32385 | K15: =IFERROR(VLOOKUP($A15,Filtro!$5:$58,9,FALSE),0) -> 27807 | L15: =IFERROR(VLOOKUP($A15,Filtro!$5:$58,10,FALSE),0) -> 0 | M15: =IFERROR(VLOOKUP($A15,Filtro!$5:$58,11,FALSE),0) -> 0 | N15: =IFERROR(VLOOKUP($A15,Filtro!$5:$58,12,FALSE),0) -> 0 | O15: =IFERROR(VLOOKUP($A15,Filtro!$5:$58,13,FALSE),0) -> 0 | P15: =IFERROR(VLOOKUP($A15,Filtro!$5:$58,14,FALSE),0) -> 0
A16: 15080015 | C16: Purita +Pro 2 | D16: =IFERROR(VLOOKUP($A16,Filtro!$5:$58,2,FALSE),0) -> 2 | E16: =IFERROR(VLOOKUP($A16,Filtro!$5:$58,3,FALSE),0) -> 0 | F16: =IFERROR(VLOOKUP($A16,Filtro!$5:$58,4,FALSE),0) -> 0 | G16: =IFERROR(VLOOKUP($A16,Filtro!$5:$58,5,FALSE),0) -> 0 | H16: =IFERROR(VLOOKUP($A16,Filtro!$5:$58,6,FALSE),0) -> 0 | I16: =IFERROR(VLOOKUP($A16,Filtro!$5:$58,7,FALSE),0) -> 0 | J16: =IFERROR(VLOOKUP($A16,Filtro!$5:$58,8,FALSE),0) -> 0 | K16: =IFERROR(VLOOKUP($A16,Filtro!$5:$58,9,FALSE),0) -> 2 | L16: =IFERROR(VLOOKUP($A16,Filtro!$5:$58,10,FALSE),0) -> 0 | M16: =IFERROR(VLOOKUP($A16,Filtro!$5:$58,11,FALSE),0) -> 0 | N16: =IFERROR(VLOOKUP($A16,Filtro!$5:$58,12,FALSE),0) -> 0 | O16: =IFERROR(VLOOKUP($A16,Filtro!$5:$58,13,FALSE),0) -> 0 | P16: =IFERROR(VLOOKUP($A16,Filtro!$5:$58,14,FALSE),0) -> 0
A17: 15080008 | C17: Purita Mamá (PM) | D17: =IFERROR(VLOOKUP($A17,Filtro!$5:$58,2,FALSE),0) -> 22048 | E17: =IFERROR(VLOOKUP($A17,Filtro!$5:$58,3,FALSE),0) -> 0 | F17: =IFERROR(VLOOKUP($A17,Filtro!$5:$58,4,FALSE),0) -> 0 | G17: =IFERROR(VLOOKUP($A17,Filtro!$5:$58,5,FALSE),0) -> 0 | H17: =IFERROR(VLOOKUP($A17,Filtro!$5:$58,6,FALSE),0) -> 0 | I17: =IFERROR(VLOOKUP($A17,Filtro!$5:$58,7,FALSE),0) -> 0 | J17: =IFERROR(VLOOKUP($A17,Filtro!$5:$58,8,FALSE),0) -> 0 | K17: =IFERROR(VLOOKUP($A17,Filtro!$5:$58,9,FALSE),0) -> 0 | L17: =IFERROR(VLOOKUP($A17,Filtro!$5:$58,10,FALSE),0) -> 10265 | M17: =IFERROR(VLOOKUP($A17,Filtro!$5:$58,11,FALSE),0) -> 0 | N17: =IFERROR(VLOOKUP($A17,Filtro!$5:$58,12,FALSE),0) -> 7657 | O17: =IFERROR(VLOOKUP($A17,Filtro!$5:$58,13,FALSE),0) -> 1311 | P17: =IFERROR(VLOOKUP($A17,Filtro!$5:$58,14,FALSE),0) -> 2815 | Q17: =$AB17&$AC17&$AD17&$AE17 | AB17: =IF(AND(OR(L13<>0,L14<>0,L17<>0),N42=""),"* No olvide ingresar el Nº de personas que retiran alimento de la sección B en el grupo de Gestantes Normal, Sobrepeso y Obesas.","") | AC17: =IF(AND(SUM(N13,N14,N17)<>0,P42=""),"* No olvide ingresar el Nº de personas que retiran alimento de la sección B en el grupo de Madre con hijo/a menor a 6 meses con Lactancia materna exclusiva.","") | AD17: =IF(AND(SUM(O13,O14,O17)<>0,Q42=""),"* No olvide ingresar el Nº de personas que retiran alimento de la sección D en el grupo de Madre con hijo/a menor a 6 meses con Lactancia materna predominante.","") | AE17: =IF(AND(SUM(P13,P14,P17)<>0,R42=""),"* No olvide ingresar el Nº de personas que retiran alimento de la sección B en el grupo de Madre con hijo/a menor a 6 meses con Formula predominantes o exclusiva.","")
A18: 15900010 | C18: Fórmula de Inicio (FI) | D18: =IFERROR(VLOOKUP($A18,Filtro!$5:$58,2,FALSE),0) -> 22841.5 | E18: =IFERROR(VLOOKUP($A18,Filtro!$5:$58,3,FALSE),0) -> 1861.8 | F18: =IFERROR(VLOOKUP($A18,Filtro!$5:$58,4,FALSE),0) -> 5432.4 | G18: =IFERROR(VLOOKUP($A18,Filtro!$5:$58,5,FALSE),0) -> 15547.3 | H18: =IFERROR(VLOOKUP($A18,Filtro!$5:$58,6,FALSE),0) -> 0 | I18: =IFERROR(VLOOKUP($A18,Filtro!$5:$58,7,FALSE),0) -> 0 | J18: =IFERROR(VLOOKUP($A18,Filtro!$5:$58,8,FALSE),0) -> 0 | K18: =IFERROR(VLOOKUP($A18,Filtro!$5:$58,9,FALSE),0) -> 0 | L18: =IFERROR(VLOOKUP($A18,Filtro!$5:$58,10,FALSE),0) -> 0 | M18: =IFERROR(VLOOKUP($A18,Filtro!$5:$58,11,FALSE),0) -> 0 | N18: =IFERROR(VLOOKUP($A18,Filtro!$5:$58,12,FALSE),0) -> 0 | O18: =IFERROR(VLOOKUP($A18,Filtro!$5:$58,13,FALSE),0) -> 0 | P18: =IFERROR(VLOOKUP($A18,Filtro!$5:$58,14,FALSE),0) -> 0
C19: Subtotal | D19: =SUM(E19:P19) -> 141510.5 | E19: =SUM(E18) -> 1861.8 | F19: =SUM(F18) -> 5432.4 | G19: =SUM(G18) -> 15547.3 | H19: =SUM(H13:H14) -> 19700 | I19: =SUM(I13:I15) -> 16536 | J19: =SUM(J13:J16) -> 32387 | K19: =SUM(K13:K16) -> 27816 | L19: =SUM(L13:L18) -> 10357 | M19: =SUM(M13:M14) -> 0 | N19: =SUM(N13:N18) -> 7706 | O19: =SUM(O13:O18) -> 1332 | P19: =SUM(P13:P18) -> 2835
A20: 15010300 | B20: Refuerzo | C20: Leche Purita Fortificada (LPF) | D20: =IFERROR(VLOOKUP($A20,Filtro!$5:$58,2,FALSE),0) -> 405 | E20: =IFERROR(VLOOKUP($A20,Filtro!$5:$58,3,FALSE),0) -> 0 | F20: =IFERROR(VLOOKUP($A20,Filtro!$5:$58,4,FALSE),0) -> 0 | G20: =IFERROR(VLOOKUP($A20,Filtro!$5:$58,5,FALSE),0) -> 0 | H20: =IFERROR(VLOOKUP($A20,Filtro!$5:$58,6,FALSE),0) -> 295 | I20: =IFERROR(VLOOKUP($A20,Filtro!$5:$58,7,FALSE),0) -> 110 | J20: =IFERROR(VLOOKUP($A20,Filtro!$5:$58,8,FALSE),0) -> 0 | K20: =IFERROR(VLOOKUP($A20,Filtro!$5:$58,9,FALSE),0) -> 0 | L20: =IFERROR(VLOOKUP($A20,Filtro!$5:$58,10,FALSE),0) -> 0 | M20: =IFERROR(VLOOKUP($A20,Filtro!$5:$58,11,FALSE),0) -> 0 | N20: =IFERROR(VLOOKUP($A20,Filtro!$5:$58,12,FALSE),0) -> 0 | O20: =IFERROR(VLOOKUP($A20,Filtro!$5:$58,13,FALSE),0) -> 0 | P20: =IFERROR(VLOOKUP($A20,Filtro!$5:$58,14,FALSE),0) -> 0
A21: 15080016 | C21: Purita +Pro 1 | D21: =IFERROR(VLOOKUP($A21,Filtro!$5:$58,2,FALSE),0) -> 639 | E21: =IFERROR(VLOOKUP($A21,Filtro!$5:$58,3,FALSE),0) -> 0 | F21: =IFERROR(VLOOKUP($A21,Filtro!$5:$58,4,FALSE),0) -> 0 | G21: =IFERROR(VLOOKUP($A21,Filtro!$5:$58,5,FALSE),0) -> 0 | H21: =IFERROR(VLOOKUP($A21,Filtro!$5:$58,6,FALSE),0) -> 143 | I21: =IFERROR(VLOOKUP($A21,Filtro!$5:$58,7,FALSE),0) -> 108 | J21: =IFERROR(VLOOKUP($A21,Filtro!$5:$58,8,FALSE),0) -> 256 | K21: =IFERROR(VLOOKUP($A21,Filtro!$5:$58,9,FALSE),0) -> 127 | L21: =IFERROR(VLOOKUP($A21,Filtro!$5:$58,10,FALSE),0) -> 0 | M21: =IFERROR(VLOOKUP($A21,Filtro!$5:$58,11,FALSE),0) -> 6 | N21: =IFERROR(VLOOKUP($A21,Filtro!$5:$58,12,FALSE),0) -> 3 | O21: =IFERROR(VLOOKUP($A21,Filtro!$5:$58,13,FALSE),0) -> 0 | P21: =IFERROR(VLOOKUP($A21,Filtro!$5:$58,14,FALSE),0) -> 0
A22: 15010400 | C22: Purita Cereal (PC) | D22: =IFERROR(VLOOKUP($A22,Filtro!$5:$58,2,FALSE),0) -> 1419 | E22: =IFERROR(VLOOKUP($A22,Filtro!$5:$58,3,FALSE),0) -> 0 | F22: =IFERROR(VLOOKUP($A22,Filtro!$5:$58,4,FALSE),0) -> 0 | G22: =IFERROR(VLOOKUP($A22,Filtro!$5:$58,5,FALSE),0) -> 0 | H22: =IFERROR(VLOOKUP($A22,Filtro!$5:$58,6,FALSE),0) -> 0 | I22: =IFERROR(VLOOKUP($A22,Filtro!$5:$58,7,FALSE),0) -> 108 | J22: =IFERROR(VLOOKUP($A22,Filtro!$5:$58,8,FALSE),0) -> 824 | K22: =IFERROR(VLOOKUP($A22,Filtro!$5:$58,9,FALSE),0) -> 487 | L22: =IFERROR(VLOOKUP($A22,Filtro!$5:$58,10,FALSE),0) -> 0 | M22: =IFERROR(VLOOKUP($A22,Filtro!$5:$58,11,FALSE),0) -> 0 | N22: =IFERROR(VLOOKUP($A22,Filtro!$5:$58,12,FALSE),0) -> 0 | O22: =IFERROR(VLOOKUP($A22,Filtro!$5:$58,13,FALSE),0) -> 0 | P22: =IFERROR(VLOOKUP($A22,Filtro!$5:$58,14,FALSE),0) -> 0
A23: 15080017 | C23: Purita +Pro 2 | D23: =IFERROR(VLOOKUP($A23,Filtro!$5:$58,2,FALSE),0) -> 0 | E23: =IFERROR(VLOOKUP($A23,Filtro!$5:$58,3,FALSE),0) -> 0 | F23: =IFERROR(VLOOKUP($A23,Filtro!$5:$58,4,FALSE),0) -> 0 | G23: =IFERROR(VLOOKUP($A23,Filtro!$5:$58,5,FALSE),0) -> 0 | H23: =IFERROR(VLOOKUP($A23,Filtro!$5:$58,6,FALSE),0) -> 0 | I23: =IFERROR(VLOOKUP($A23,Filtro!$5:$58,7,FALSE),0) -> 0 | J23: =IFERROR(VLOOKUP($A23,Filtro!$5:$58,8,FALSE),0) -> 0 | K23: =IFERROR(VLOOKUP($A23,Filtro!$5:$58,9,FALSE),0) -> 0 | L23: =IFERROR(VLOOKUP($A23,Filtro!$5:$58,10,FALSE),0) -> 0 | M23: =IFERROR(VLOOKUP($A23,Filtro!$5:$58,11,FALSE),0) -> 0 | N23: =IFERROR(VLOOKUP($A23,Filtro!$5:$58,12,FALSE),0) -> 0 | O23: =IFERROR(VLOOKUP($A23,Filtro!$5:$58,13,FALSE),0) -> 0 | P23: =IFERROR(VLOOKUP($A23,Filtro!$5:$58,14,FALSE),0) -> 0
A24: 15010500 | C24: Mi Sopita (MS) | D24: =IFERROR(VLOOKUP($A24,Filtro!$5:$58,2,FALSE),0) -> 2927 | E24: =IFERROR(VLOOKUP($A24,Filtro!$5:$58,3,FALSE),0) -> 0 | F24: =IFERROR(VLOOKUP($A24,Filtro!$5:$58,4,FALSE),0) -> 8 | G24: =IFERROR(VLOOKUP($A24,Filtro!$5:$58,5,FALSE),0) -> 462 | H24: =IFERROR(VLOOKUP($A24,Filtro!$5:$58,6,FALSE),0) -> 434 | I24: =IFERROR(VLOOKUP($A24,Filtro!$5:$58,7,FALSE),0) -> 328 | J24: =IFERROR(VLOOKUP($A24,Filtro!$5:$58,8,FALSE),0) -> 1074 | K24: =IFERROR(VLOOKUP($A24,Filtro!$5:$58,9,FALSE),0) -> 621 | L24: =IFERROR(VLOOKUP($A24,Filtro!$5:$58,10,FALSE),0) -> 0 | M24: =IFERROR(VLOOKUP($A24,Filtro!$5:$58,11,FALSE),0) -> 0 | N24: =IFERROR(VLOOKUP($A24,Filtro!$5:$58,12,FALSE),0) -> 0 | O24: =IFERROR(VLOOKUP($A24,Filtro!$5:$58,13,FALSE),0) -> 0 | P24: =IFERROR(VLOOKUP($A24,Filtro!$5:$58,14,FALSE),0) -> 0
A25: 15080009 | C25: Purita Mamá (PM) | D25: =IFERROR(VLOOKUP($A25,Filtro!$5:$58,2,FALSE),0) -> 600 | E25: =IFERROR(VLOOKUP($A25,Filtro!$5:$58,3,FALSE),0) -> 0 | F25: =IFERROR(VLOOKUP($A25,Filtro!$5:$58,4,FALSE),0) -> 0 | G25: =IFERROR(VLOOKUP($A25,Filtro!$5:$58,5,FALSE),0) -> 0 | H25: =IFERROR(VLOOKUP($A25,Filtro!$5:$58,6,FALSE),0) -> 0 | I25: =IFERROR(VLOOKUP($A25,Filtro!$5:$58,7,FALSE),0) -> 0 | J25: =IFERROR(VLOOKUP($A25,Filtro!$5:$58,8,FALSE),0) -> 0 | K25: =IFERROR(VLOOKUP($A25,Filtro!$5:$58,9,FALSE),0) -> 0 | L25: =IFERROR(VLOOKUP($A25,Filtro!$5:$58,10,FALSE),0) -> 0 | M25: =IFERROR(VLOOKUP($A25,Filtro!$5:$58,11,FALSE),0) -> 498 | N25: =IFERROR(VLOOKUP($A25,Filtro!$5:$58,12,FALSE),0) -> 81 | O25: =IFERROR(VLOOKUP($A25,Filtro!$5:$58,13,FALSE),0) -> 11 | P25: =IFERROR(VLOOKUP($A25,Filtro!$5:$58,14,FALSE),0) -> 10
A26: 15900020 | C26: Fórmula de Inicio (FI) | D26: =IFERROR(VLOOKUP($A26,Filtro!$5:$58,2,FALSE),0) -> 917.5 | E26: =IFERROR(VLOOKUP($A26,Filtro!$5:$58,3,FALSE),0) -> 91 | F26: =IFERROR(VLOOKUP($A26,Filtro!$5:$58,4,FALSE),0) -> 161.2 | G26: =IFERROR(VLOOKUP($A26,Filtro!$5:$58,5,FALSE),0) -> 665.3 | H26: =IFERROR(VLOOKUP($A26,Filtro!$5:$58,6,FALSE),0) -> 0 | I26: =IFERROR(VLOOKUP($A26,Filtro!$5:$58,7,FALSE),0) -> 0 | J26: =IFERROR(VLOOKUP($A26,Filtro!$5:$58,8,FALSE),0) -> 0 | K26: =IFERROR(VLOOKUP($A26,Filtro!$5:$58,9,FALSE),0) -> 0 | L26: =IFERROR(VLOOKUP($A26,Filtro!$5:$58,10,FALSE),0) -> 0 | M26: =IFERROR(VLOOKUP($A26,Filtro!$5:$58,11,FALSE),0) -> 0 | N26: =IFERROR(VLOOKUP($A26,Filtro!$5:$58,12,FALSE),0) -> 0 | O26: =IFERROR(VLOOKUP($A26,Filtro!$5:$58,13,FALSE),0) -> 0 | P26: =IFERROR(VLOOKUP($A26,Filtro!$5:$58,14,FALSE),0) -> 0
C27: Subtotal | D27: =SUM(E27:Q27) -> 6911.5 | E27: =SUM(E26) -> 91 | F27: =SUM(F20:F26) -> 169.2 | G27: =SUM(G20:G26) -> 1127.3 | H27: =SUM(H20:H24) -> 872 | I27: =SUM(I20:I24) -> 654 | J27: =SUM(J20:J24) -> 2154 | K27: =SUM(K20:K24) -> 1235 | L27: =SUM(L20:L21) -> 0 | M27: =SUM(M20:M26) -> 504 | N27: =SUM(N20:N26) -> 84 | O27: =SUM(O20:O26) -> 11 | P27: =SUM(P20:P26) -> 10
A28: 15030100 | B28: Prematuros | C28: Fórmula de Prematuros (FP) | D28: =IFERROR(VLOOKUP($A28,Filtro!$5:$58,2,FALSE),0) -> 715.2 | E28: =IFERROR(VLOOKUP($A28,Filtro!$5:$58,3,FALSE),0) -> 267.6 | F28: =IFERROR(VLOOKUP($A28,Filtro!$5:$58,4,FALSE),0) -> 218.8 | G28: =IFERROR(VLOOKUP($A28,Filtro!$5:$58,5,FALSE),0) -> 228.8 | H28: =IFERROR(VLOOKUP($A28,Filtro!$5:$58,6,FALSE),0) -> 0 | I28: =IFERROR(VLOOKUP($A28,Filtro!$5:$58,7,FALSE),0) -> 0 | J28: =IFERROR(VLOOKUP($A28,Filtro!$5:$58,8,FALSE),0) -> 0 | K28: =IFERROR(VLOOKUP($A28,Filtro!$5:$58,9,FALSE),0) -> 0 | L28: =IFERROR(VLOOKUP($A28,Filtro!$5:$58,10,FALSE),0) -> 0 | M28: =IFERROR(VLOOKUP($A28,Filtro!$5:$58,11,FALSE),0) -> 0 | N28: =IFERROR(VLOOKUP($A28,Filtro!$5:$58,12,FALSE),0) -> 0 | O28: =IFERROR(VLOOKUP($A28,Filtro!$5:$58,13,FALSE),0) -> 0 | P28: =IFERROR(VLOOKUP($A28,Filtro!$5:$58,14,FALSE),0) -> 0
A29: 15901500 | C29: Fórmula de Incio (FI) | D29: =IFERROR(VLOOKUP($A29,Filtro!$5:$58,2,FALSE),0) -> 240.4 | E29: =IFERROR(VLOOKUP($A29,Filtro!$5:$58,3,FALSE),0) -> 14.1 | F29: =IFERROR(VLOOKUP($A29,Filtro!$5:$58,4,FALSE),0) -> 35.8 | G29: =IFERROR(VLOOKUP($A29,Filtro!$5:$58,5,FALSE),0) -> 190.5 | H29: =IFERROR(VLOOKUP($A29,Filtro!$5:$58,6,FALSE),0) -> 0 | I29: =IFERROR(VLOOKUP($A29,Filtro!$5:$58,7,FALSE),0) -> 0 | J29: =IFERROR(VLOOKUP($A29,Filtro!$5:$58,8,FALSE),0) -> 0 | K29: =IFERROR(VLOOKUP($A29,Filtro!$5:$58,9,FALSE),0) -> 0 | L29: =IFERROR(VLOOKUP($A29,Filtro!$5:$58,10,FALSE),0) -> 0 | M29: =IFERROR(VLOOKUP($A29,Filtro!$5:$58,11,FALSE),0) -> 0 | N29: =IFERROR(VLOOKUP($A29,Filtro!$5:$58,12,FALSE),0) -> 0 | O29: =IFERROR(VLOOKUP($A29,Filtro!$5:$58,13,FALSE),0) -> 0 | P29: =IFERROR(VLOOKUP($A29,Filtro!$5:$58,14,FALSE),0) -> 0
A30: 15080012 | C30: Mi Sopita (MS) | D30: =IFERROR(VLOOKUP($A30,Filtro!$5:$58,2,FALSE),0) -> 10 | E30: =IFERROR(VLOOKUP($A30,Filtro!$5:$58,3,FALSE),0) -> 0 | F30: =IFERROR(VLOOKUP($A30,Filtro!$5:$58,4,FALSE),0) -> 0 | G30: =IFERROR(VLOOKUP($A30,Filtro!$5:$58,5,FALSE),0) -> 10 | H30: =IFERROR(VLOOKUP($A30,Filtro!$5:$58,6,FALSE),0) -> 0 | I30: =IFERROR(VLOOKUP($A30,Filtro!$5:$58,7,FALSE),0) -> 0 | J30: =IFERROR(VLOOKUP($A30,Filtro!$5:$58,8,FALSE),0) -> 0 | K30: =IFERROR(VLOOKUP($A30,Filtro!$5:$58,9,FALSE),0) -> 0 | L30: =IFERROR(VLOOKUP($A30,Filtro!$5:$58,10,FALSE),0) -> 0 | M30: =IFERROR(VLOOKUP($A30,Filtro!$5:$58,11,FALSE),0) -> 0 | N30: =IFERROR(VLOOKUP($A30,Filtro!$5:$58,12,FALSE),0) -> 0 | O30: =IFERROR(VLOOKUP($A30,Filtro!$5:$58,13,FALSE),0) -> 0 | P30: =IFERROR(VLOOKUP($A30,Filtro!$5:$58,14,FALSE),0) -> 0
C31: Subtotal | D31: =SUM(E31:Q31) -> 965.6 | E31: =SUM(E28:E30) -> 281.7 | F31: =SUM(F28:F30) -> 254.6 | G31: =SUM(G28:G30) -> 429.3
A32: 15900030 | B32: Alergia a la proteína de la leche de vaca | C32: Fórmula Extensamente Hidrolizada (FEH) | D32: =IFERROR(VLOOKUP($A32,Filtro!$5:$58,2,FALSE),0) -> 6238.8 | E32: =IFERROR(VLOOKUP($A32,Filtro!$5:$58,3,FALSE),0) -> 98 | F32: =IFERROR(VLOOKUP($A32,Filtro!$5:$58,4,FALSE),0) -> 278.8 | G32: =IFERROR(VLOOKUP($A32,Filtro!$5:$58,5,FALSE),0) -> 4900.4 | H32: =IFERROR(VLOOKUP($A32,Filtro!$5:$58,6,FALSE),0) -> 550.4 | I32: =IFERROR(VLOOKUP($A32,Filtro!$5:$58,7,FALSE),0) -> 380 | J32: =IFERROR(VLOOKUP($A32,Filtro!$5:$58,8,FALSE),0) -> 31.2 | K32: =IFERROR(VLOOKUP($A32,Filtro!$5:$58,9,FALSE),0) -> 0 | L32: =IFERROR(VLOOKUP($A32,Filtro!$5:$58,10,FALSE),0) -> 0 | M32: =IFERROR(VLOOKUP($A32,Filtro!$5:$58,11,FALSE),0) -> 0 | N32: =IFERROR(VLOOKUP($A32,Filtro!$5:$58,12,FALSE),0) -> 0 | O32: =IFERROR(VLOOKUP($A32,Filtro!$5:$58,13,FALSE),0) -> 0 | P32: =IFERROR(VLOOKUP($A32,Filtro!$5:$58,14,FALSE),0) -> 0
A33: 15900040 | C33: Fórmula Aminoacídica (FAA) | D33: =IFERROR(VLOOKUP($A33,Filtro!$5:$58,2,FALSE),0) -> 1087.2 | E33: =IFERROR(VLOOKUP($A33,Filtro!$5:$58,3,FALSE),0) -> 37.2 | F33: =IFERROR(VLOOKUP($A33,Filtro!$5:$58,4,FALSE),0) -> 208 | G33: =IFERROR(VLOOKUP($A33,Filtro!$5:$58,5,FALSE),0) -> 518 | H33: =IFERROR(VLOOKUP($A33,Filtro!$5:$58,6,FALSE),0) -> 252 | I33: =IFERROR(VLOOKUP($A33,Filtro!$5:$58,7,FALSE),0) -> 48 | J33: =IFERROR(VLOOKUP($A33,Filtro!$5:$58,8,FALSE),0) -> 10.8 | K33: =IFERROR(VLOOKUP($A33,Filtro!$5:$58,9,FALSE),0) -> 13.2 | L33: =IFERROR(VLOOKUP($A33,Filtro!$5:$58,10,FALSE),0) -> 0 | M33: =IFERROR(VLOOKUP($A33,Filtro!$5:$58,11,FALSE),0) -> 0 | N33: =IFERROR(VLOOKUP($A33,Filtro!$5:$58,12,FALSE),0) -> 0 | O33: =IFERROR(VLOOKUP($A33,Filtro!$5:$58,13,FALSE),0) -> 0 | P33: =IFERROR(VLOOKUP($A33,Filtro!$5:$58,14,FALSE),0) -> 0
C34: Subtotal | D34: =SUM(E34:Q34) -> 7326 | E34: =SUM(E32:E33) -> 135.2 | F34: =SUM(F32:F33) -> 486.8 | G34: =SUM(G32:G33) -> 5418.4 | H34: =SUM(H32:H33) -> 802.4 | I34: =SUM(I32:I33) -> 428 | J34: =SUM(J32:J33) -> 42 | K34: =SUM(K32:K33) -> 13.2
B35: Total | D35: =SUM(E35:Q35) -> 156713.6 | E35: =+E19+E27+E31+E34 -> 2369.7 | F35: =+F19+F27+F31+F34 -> 6343 | G35: =+G19+G27+G31+G34 -> 22522.3 | H35: =+H19+H27+H31+H34 -> 21374.4 | I35: =+I19+I27+I31+I34 -> 17618 | J35: =+J19+J27+J31+J34 -> 34583 | K35: =+K19+K27+K31+K34 -> 29064.2 | L35: =+L19+L27+L31+L34 -> 10357 | ... P35: =+P19+P27+P31+P34 -> 2845
B37: Sección B: PNAC - Número de personas intrasistema que retiran
B38: Subprogramas | D38: Total | E38: Hombres | F38: Mujeres | G38: Menores a 6 años | N38: Gestantes | P38: Persona que amamanta a hijo/a menor a 12 meses
G39: 0 - 2 meses | H39: 3 - 5 meses | I39: 6 - 11 meses | J39: 12 - 17 meses | K39: 18 - 23 meses | L39: 24 - 47 meses | M39: 48 - 71 meses | N39: Normal, sobrepeso y obesas | O39: Bajo peso | P39: 0 a 5 meses con Lactancia Materna exclusiva | Q39: 0 a 5 meses Lactancia Materna + Fórmula Láctea | R39: 6 a 11 meses Lactancia Materna
A42: 15050100 | B42: Básico | D42: =IFERROR(VLOOKUP($A42,Filtro!$5:$58,2,FALSE),0) -> 76441 | E42: =IFERROR(VLOOKUP($A42,Filtro!$5:$58,3,FALSE),0) -> 30463 | F42: =IFERROR(VLOOKUP($A42,Filtro!$5:$58,4,FALSE),0) -> 46115 | G42: =IFERROR(VLOOKUP($A42,Filtro!$5:$58,5,FALSE),0) -> 867 | H42: =IFERROR(VLOOKUP($A42,Filtro!$5:$58,6,FALSE),0) -> 2104 | I42: =IFERROR(VLOOKUP($A42,Filtro!$5:$58,7,FALSE),0) -> 6248 | J42: =IFERROR(VLOOKUP($A42,Filtro!$5:$58,8,FALSE),0) -> 9807 | K42: =IFERROR(VLOOKUP($A42,Filtro!$5:$58,9,FALSE),0) -> 8442 | L42: =IFERROR(VLOOKUP($A42,Filtro!$5:$58,10,FALSE),0) -> 16351 | M42: =IFERROR(VLOOKUP($A42,Filtro!$5:$58,11,FALSE),0) -> 14185 | N42: =IFERROR(VLOOKUP($A42,Filtro!$5:$58,12,FALSE),0) -> 10365 | O42: =IFERROR(VLOOKUP($A42,Filtro!$5:$58,13,FALSE),0) -> 0 | P42: =IFERROR(VLOOKUP($A42,Filtro!$5:$58,14,FALSE),0) -> 3932 | Q42: =IFERROR(VLOOKUP($A42,Filtro!$5:$58,15,FALSE),0) -> 1320 | R42: =IFERROR(VLOOKUP($A42,Filtro!$5:$58,16,FALSE),0) -> 2820 | S42: =AA42&AB42 | AA42: =IF(AF42=1,"* La suma del Total según grupo etario, gestantes y Personas que amamantan no pueden superar al Total por Sexo. ","") | AF42: =IF(SUM(E42:F42)<SUM(G42:M42,N42,P42:R42),1,0) -> 0
A43: 15050200 | B43: Refuerzo | D43: =IFERROR(VLOOKUP($A43,Filtro!$5:$58,2,FALSE),0) -> 1795 | E43: =IFERROR(VLOOKUP($A43,Filtro!$5:$58,3,FALSE),0) -> 907 | F43: =IFERROR(VLOOKUP($A43,Filtro!$5:$58,4,FALSE),0) -> 853 | G43: =IFERROR(VLOOKUP($A43,Filtro!$5:$58,5,FALSE),0) -> 35 | H43: =IFERROR(VLOOKUP($A43,Filtro!$5:$58,6,FALSE),0) -> 56 | I43: =IFERROR(VLOOKUP($A43,Filtro!$5:$58,7,FALSE),0) -> 244 | J43: =IFERROR(VLOOKUP($A43,Filtro!$5:$58,8,FALSE),0) -> 228 | K43: =IFERROR(VLOOKUP($A43,Filtro!$5:$58,9,FALSE),0) -> 165 | L43: =IFERROR(VLOOKUP($A43,Filtro!$5:$58,10,FALSE),0) -> 544 | M43: =IFERROR(VLOOKUP($A43,Filtro!$5:$58,11,FALSE),0) -> 314 | N43: =IFERROR(VLOOKUP($A43,Filtro!$5:$58,12,FALSE),0) -> 0 | O43: =IFERROR(VLOOKUP($A43,Filtro!$5:$58,13,FALSE),0) -> 168 | P43: =IFERROR(VLOOKUP($A43,Filtro!$5:$58,14,FALSE),0) -> 26 | Q43: =IFERROR(VLOOKUP($A43,Filtro!$5:$58,15,FALSE),0) -> 6 | R43: =IFERROR(VLOOKUP($A43,Filtro!$5:$58,16,FALSE),0) -> 9 | S43: =AA43&AB43 | AA43: =IF(AF43=1,"* La suma del Total según grupo etario, gestantes y Personas que amamantan no pueden superar al Total por Sexo. ","") | AF43: =IF(D43<SUM(G43:M43,O43:R43),1,0) -> 0
A44: 15050500 | B44: Prematuros | D44: =IFERROR(VLOOKUP($A44,Filtro!$5:$58,2,FALSE),0) -> 277 | E44: =IFERROR(VLOOKUP($A44,Filtro!$5:$58,3,FALSE),0) -> 149 | F44: =IFERROR(VLOOKUP($A44,Filtro!$5:$58,4,FALSE),0) -> 125 | G44: =IFERROR(VLOOKUP($A44,Filtro!$5:$58,5,FALSE),0) -> 81 | H44: =IFERROR(VLOOKUP($A44,Filtro!$5:$58,6,FALSE),0) -> 68 | I44: =IFERROR(VLOOKUP($A44,Filtro!$5:$58,7,FALSE),0) -> 128 | J44: =IFERROR(VLOOKUP($A44,Filtro!$5:$58,8,FALSE),0) -> 0 | K44: =IFERROR(VLOOKUP($A44,Filtro!$5:$58,9,FALSE),0) -> 0 | L44: =IFERROR(VLOOKUP($A44,Filtro!$5:$58,10,FALSE),0) -> 0 | M44: =IFERROR(VLOOKUP($A44,Filtro!$5:$58,11,FALSE),0) -> 0 | N44: =IFERROR(VLOOKUP($A44,Filtro!$5:$58,12,FALSE),0) -> 0 | O44: =IFERROR(VLOOKUP($A44,Filtro!$5:$58,13,FALSE),0) -> 0 | P44: =IFERROR(VLOOKUP($A44,Filtro!$5:$58,14,FALSE),0) -> 0 | Q44: =IFERROR(VLOOKUP($A44,Filtro!$5:$58,15,FALSE),0) -> 0 | R44: =IFERROR(VLOOKUP($A44,Filtro!$5:$58,16,FALSE),0) -> 0 | S44: =AA44&AB44 | AA44: =IF(AF44=1,"* El Total según grupo etario no puede superar al Total por Sexo. ","") | AF44: =IF(D44<SUM(G44:M44),1,0) -> 0
A45: 15900050 | B45: Alergia a la Proteína de la leche de vaca | D45: =IFERROR(VLOOKUP($A45,Filtro!$5:$58,2,FALSE),0) -> 960 | E45: =IFERROR(VLOOKUP($A45,Filtro!$5:$58,3,FALSE),0) -> 509 | F45: =IFERROR(VLOOKUP($A45,Filtro!$5:$58,4,FALSE),0) -> 403 | G45: =IFERROR(VLOOKUP($A45,Filtro!$5:$58,5,FALSE),0) -> 50 | H45: =IFERROR(VLOOKUP($A45,Filtro!$5:$58,6,FALSE),0) -> 139 | I45: =IFERROR(VLOOKUP($A45,Filtro!$5:$58,7,FALSE),0) -> 395 | J45: =IFERROR(VLOOKUP($A45,Filtro!$5:$58,8,FALSE),0) -> 231 | K45: =IFERROR(VLOOKUP($A45,Filtro!$5:$58,9,FALSE),0) -> 126 | L45: =IFERROR(VLOOKUP($A45,Filtro!$5:$58,10,FALSE),0) -> 16 | M45: =IFERROR(VLOOKUP($A45,Filtro!$5:$58,11,FALSE),0) -> 3 | N45: =IFERROR(VLOOKUP($A45,Filtro!$5:$58,12,FALSE),0) -> 0 | O45: =IFERROR(VLOOKUP($A45,Filtro!$5:$58,13,FALSE),0) -> 0 | P45: =IFERROR(VLOOKUP($A45,Filtro!$5:$58,14,FALSE),0) -> 0 | Q45: =IFERROR(VLOOKUP($A45,Filtro!$5:$58,15,FALSE),0) -> 0 | R45: =IFERROR(VLOOKUP($A45,Filtro!$5:$58,16,FALSE),0) -> 0 | S45: =AA45&AB45 | AA45: =IF(AF45=1,"* El Total según grupo etario no puede superar al Total por Sexo. ","") | AF45: =IF(D45<SUM(G45:M45),1,0) -> 0
B46: TOTAL | D46: =SUM(E46:F46) -> 79524 | E46: =SUM(E42:E45) -> 32028 | F46: =SUM(F42:F45) -> 47496 | G46: =SUM(G42:G45) -> 1033 | H46: =SUM(H42:H45) -> 2367 | I46: =SUM(I42:I45) -> 7015 | J46: =SUM(J42:J45) -> 10266 | K46: =SUM(K42:K45) -> 8733 | L46: =SUM(L42:L45) -> 16911 | M46: =SUM(M42:M45) -> 14502 | N46: =N42 -> 10365 | O46: =O43 -> 168 | P46: =SUM(P42:P43) -> 3958 | Q46: =SUM(Q42:Q43) -> 1326 | R46: =SUM(R42:R43) -> 2829
...

Sheet D16
B1: SERVICIO DE SALUD
B2: =CONCATENATE("COMUNA: ",[1]NOMBRE!$B$2," ","( ",[1]NOMBRE!$C$2,[1]NOMBRE!$D$2,[1]NOMBRE!$E$2,[1]NOMBRE!$F$2,[1]NOMBRE!$G$2," )") -> COMUNA: ( )
B3: =CONCATENATE("ESTABLECIMIENTO/ESTRATEGIA: ",[1]NOMBRE!$B$3," ","( ",[1]NOMBRE!$C$3,[1]NOMBRE!$D$3,[1]NOMBRE!$E$3,[1]NOMBRE!$F$3,[1]NOMBRE!$G$3,[1]NOMBRE!$H$3," )") -> ESTABLECIMIENTO/ESTRATEGIA: ( )
B4: =CONCATENATE("MES: ",[1]NOMBRE!$B$6," ","( ",[1]NOMBRE!$C$6,[1]NOMBRE!$D$6," )") -> MES: ( )
B5: =CONCATENATE("AÑO: ",[1]NOMBRE!$B$7) -> AÑO: 2023
B7: REM-D.16. Programa de Alimentación Complementaria del Adulto Mayor (PACAM)
B9: Sección A: PACAM - Cantidad distribuida (kg)
B10: Grupo Programático | C10: Sopa/Crema | D10: Bebida Láctea
A11: 16090300 | B11: 70 años y más (independiente del motivo de ingreso) | C11: =IFERROR(VLOOKUP($A11,Filtro!$5:$58,2,FALSE),0) -> 109182 | D11: =IFERROR(VLOOKUP($A11,Filtro!$5:$58,3,FALSE),0) -> 109187 | E11: =$AB11&" "&$AC11 -> La cantidad distribuída de Sopa/Crema es distinta a la cantidad distribuída de Bebida Láctea.- | AB11: =IF(C11<>D11,"La cantidad distribuída de Sopa/Crema es distinta a la cantidad distribuída de Bebida Láctea.- ","") -> La cantidad distribuída de Sopa/Crema es distinta a la cantidad distribuída de Bebida Láctea.-
A12: 16200210 | B12: 65 - 69 años con alteración de la funcionalidad | C12: =IFERROR(VLOOKUP($A12,Filtro!$5:$58,2,FALSE),0) -> 7711 | D12: =IFERROR(VLOOKUP($A12,Filtro!$5:$58,3,FALSE),0) -> 7712 | E12: =$AB12&" "&$AC12 -> La cantidad distribuída de Sopa/Crema es distinta a la cantidad distribuída de Bebida Láctea.- | AB12: =IF(C12<>D12,"La cantidad distribuída de Sopa/Crema es distinta a la cantidad distribuída de Bebida Láctea.- ","") -> La cantidad distribuída de Sopa/Crema es distinta a la cantidad distribuída de Bebida Láctea.-
A13: 16090500 | B13: 65 - 69 años en programa social (Vínculos, Familia, Calle u otro) | C13: =IFERROR(VLOOKUP($A13,Filtro!$5:$58,2,FALSE),0) -> 229 | D13: =IFERROR(VLOOKUP($A13,Filtro!$5:$58,3,FALSE),0) -> 229 | E13: =$AB13&" "&$AC13 | AB13: =IF(C13<>D13,"La cantidad distribuída de Sopa/Crema es distinta a la cantidad distribuída de Bebida Láctea.- ","")
A14: 16090600 | B14: 60 - 69 años con tuberculosis | C14: =IFERROR(VLOOKUP($A14,Filtro!$5:$58,2,FALSE),0) -> 27 | D14: =IFERROR(VLOOKUP($A14,Filtro!$5:$58,3,FALSE),0) -> 27 | E14: =$AB14&" "&$AC14 | AB14: =IF(C14<>D14,"La cantidad distribuída de Sopa/Crema es distinta a la cantidad distribuída de Bebida Láctea.- ","")
A15: 16090100 | B15: 60 - 69 años en ELEAM autorizado o similar | C15: =IFERROR(VLOOKUP($A15,Filtro!$5:$58,2,FALSE),0) -> 412 | D15: =IFERROR(VLOOKUP($A15,Filtro!$5:$58,3,FALSE),0) -> 412 | E15: =$AB15&" "&$AC15 | AB15: =IF(C15<>D15,"La cantidad distribuída de Sopa/Crema es distinta a la cantidad distribuída de Bebida Láctea.- ","")
B16: TOTAL | C16: =SUM(C11:C15) -> 117561 | D16: =SUM(D11:D15) -> 117567
B18: Sección B: PACAM - Número de personas que retiran
B19: Grupo Programático | C19: Sopa/Crema - Bebida Láctea
C20: Total | D20: Total Hombres | E20: Total Mujeres
A21: 16100300 | B21: 70 años y más (independiente del motivo de ingreso | C21: =IFERROR(VLOOKUP($A21,Filtro!5:58,2,FALSE),0) -> 109269 | D21: =IFERROR(VLOOKUP($A21,Filtro!5:58,3,FALSE),0) -> 46512 | E21: =IFERROR(VLOOKUP($A21,Filtro!5:58,4,FALSE),0) -> 62757 | F21: =$AA21 -> No olvide que el Nº de personas que retiran debe ser igual al promedio de Kilos que retiran en Seccion A.- | AA21: =IF(((C11+D11)/2)<>(D21+E21)," No olvide que el Nº de personas que retiran debe ser igual al promedio de Kilos que retiran en Seccion A.-","") -> No olvide que el Nº de personas que retiran debe ser igual al promedio de Kilos que retiran en Seccion A.- | AC21: =IF($D21+$E21=0,"",IF($C11+$D11="",IF($D21+$E21="",0,1),"")) | AD21: =IF(D21+E21=0,"",IF(C11+D11=0,"",IF(((C11+D11)/2)<>D21+E21,1,0))) -> 1
A22: 16200220 | B22: 65 - 69 años con alteración de la funcionalidad | C22: =IFERROR(VLOOKUP($A22,Filtro!6:59,2,FALSE),0) -> 7716 | D22: =IFERROR(VLOOKUP($A22,Filtro!6:59,3,FALSE),0) -> 2952 | E22: =IFERROR(VLOOKUP($A22,Filtro!6:59,4,FALSE),0) -> 4764 | F22: =$AA22 -> No olvide que el Nº de personas que retiran debe ser igual al promedio de Kilos que retiran en Seccion A.- | AA22: =IF(((C12+D12)/2)<>(D22+E22)," No olvide que el Nº de personas que retiran debe ser igual al promedio de Kilos que retiran en Seccion A.-","") -> No olvide que el Nº de personas que retiran debe ser igual al promedio de Kilos que retiran en Seccion A.- | AC22: =IF($D22+$E22=0,"",IF($C12+$D12="",IF($D22+$E22="",0,1),"")) | AD22: =IF(D22+E22=0,"",IF(C12+D12=0,"",IF(((C12+D12)/2)<>D22+E22,1,0))) -> 1
A23: 16100600 | B23: 65 - 69 años en programa social (Vínculos, Familia, Calle u otro) | C23: =IFERROR(VLOOKUP($A23,Filtro!7:60,2,FALSE),0) -> 234 | D23: =IFERROR(VLOOKUP($A23,Filtro!7:60,3,FALSE),0) -> 83 | E23: =IFERROR(VLOOKUP($A23,Filtro!7:60,4,FALSE),0) -> 151 | F23: =$AA23 -> No olvide que el Nº de personas que retiran debe ser igual al promedio de Kilos que retiran en Seccion A.- | AA23: =IF(((C13+D13)/2)<>(D23+E23)," No olvide que el Nº de personas que retiran debe ser igual al promedio de Kilos que retiran en Seccion A.-","") -> No olvide que el Nº de personas que retiran debe ser igual al promedio de Kilos que retiran en Seccion A.- | AC23: =IF($D23+$E23=0,"",IF($C13+$D13="",IF($D23+$E23="",0,1),"")) | AD23: =IF(D23+E23=0,"",IF(C13+D13=0,"",IF(((C13+D13)/2)<>D23+E23,1,0))) -> 1
A24: 16100700 | B24: 60 - 69 años con tuberculosis | C24: =IFERROR(VLOOKUP($A24,Filtro!8:61,2,FALSE),0) -> 22 | D24: =IFERROR(VLOOKUP($A24,Filtro!8:61,3,FALSE),0) -> 18 | E24: =IFERROR(VLOOKUP($A24,Filtro!8:61,4,FALSE),0) -> 4 | F24: =$AA24 -> No olvide que el Nº de personas que retiran debe ser igual al promedio de Kilos que retiran en Seccion A.- | AA24: =IF(((C14+D14)/2)<>(D24+E24)," No olvide que el Nº de personas que retiran debe ser igual al promedio de Kilos que retiran en Seccion A.-","") -> No olvide que el Nº de personas que retiran debe ser igual al promedio de Kilos que retiran en Seccion A.- | AC24: =IF($D24+$E24=0,"",IF($C14+$D14="",IF($D24+$E24="",0,1),"")) | AD24: =IF(D24+E24=0,"",IF(C14+D14=0,"",IF(((C14+D14)/2)<>D24+E24,1,0))) -> 1
A25: 16100100 | B25: 60 - 69 años en ELEAM autorizado o similar | C25: =IFERROR(VLOOKUP($A25,Filtro!9:62,2,FALSE),0) -> 412 | D25: =IFERROR(VLOOKUP($A25,Filtro!9:62,3,FALSE),0) -> 178 | E25: =IFERROR(VLOOKUP($A25,Filtro!9:62,4,FALSE),0) -> 234 | F25: =$AA25 | AA25: =IF(((C15+D15)/2)<>(D25+E25)," No olvide que el Nº de personas que retiran debe ser igual al promedio de Kilos que retiran en Seccion A.-","") | AC25: =IF($D25+$E25=0,"",IF($C15+$D15="",IF($D25+$E25="",0,1),"")) | AD25: =IF(D25+E25=0,"",IF(C15+D15=0,"",IF(((C15+D15)/2)<>D25+E25,1,0))) -> 0
B26: TOTAL | C26: =SUM(C21:C25) -> 117653 | D26: =SUM(D21:D25) -> 49743 | E26: =SUM(E21:E25) -> 67910
B28: Sección C: Existencia y movimiento de productos
B29: Productos | C29: Saldo mes anterior | D29: Ingresos | F29: Total disponible | G29: Egresos | L29: Saldo mes siguiente
D30: Proveedor/Operador Logístico | E30: Por traspaso | G30: Distribuido a población beneficiaria | H30: Mermas (Incluye faltantes) | I30: Otros: (demostraciones, donaciones, etc.) | J30: Traspaso | K30: Total egresos
B32: Sopa/Crema | F32: =SUM(C32:E32) -> 0 | G32: =C16 -> 117561 | K32: =SUM(G32:J32) -> 117561 | L32: =F32-K32 -> -117561
B33: Bebida Láctea | F33: =SUM(C33:E33) -> 0 | G33: =D16 -> 117567 | K33: =SUM(G33:J33) -> 117567 | L33: =F33-K33 -> -117567
B35: Sección D: PACAM - Número de personas que retiran, pertenecientes al PRAIS (incluidos en Sección B)
B36: Grupo Programático | C36: Sopa/Crema - Bebida Láctea
C37: Total | D37: Total Hombres | E37: Total Mujeres
A38: 16200100 | B38: 70 años y más (independiente del motivo de ingreso | C38: =IFERROR(VLOOKUP($A38,Filtro!$5:$58,2,FALSE),0) -> 1702 | D38: =IFERROR(VLOOKUP($A38,Filtro!$5:$58,3,FALSE),0) -> 908 | E38: =IFERROR(VLOOKUP($A38,Filtro!$5:$58,4,FALSE),0) -> 794
A39: 16200230 | B39: 65 - 69 años con alteración de la funcionalidad | C39: =IFERROR(VLOOKUP($A39,Filtro!$5:$58,2,FALSE),0) -> 52 | D39: =IFERROR(VLOOKUP($A39,Filtro!$5:$58,3,FALSE),0) -> 22 | E39: =IFERROR(VLOOKUP($A39,Filtro!$5:$58,4,FALSE),0) -> 30
A40: 16200240 | B40: 65 - 69 años en programa social (Vínculos, Familia, Calle u otro) | C40: =IFERROR(VLOOKUP($A40,Filtro!$5:$58,2,FALSE),0) -> 2 | D40: =IFERROR(VLOOKUP($A40,Filtro!$5:$58,3,FALSE),0) -> 2 | E40: =IFERROR(VLOOKUP($A40,Filtro!$5:$58,4,FALSE),0) -> 0
A41: 16200200 | B41: 60 - 69 años con tuberculosis | C41: =IFERROR(VLOOKUP($A41,Filtro!$5:$58,2,FALSE),0) -> 0 | D41: =IFERROR(VLOOKUP($A41,Filtro!$5:$58,3,FALSE),0) -> 0 | E41: =IFERROR(VLOOKUP($A41,Filtro!$5:$58,4,FALSE),0) -> 0
A42: 16200250 | B42: 60 - 69 años en ELEAM autorizado o similar | C42: =IFERROR(VLOOKUP($A42,Filtro!$5:$58,2,FALSE),0) -> 0 | D42: =IFERROR(VLOOKUP($A42,Filtro!$5:$58,3,FALSE),0) -> 0 | E42: =IFERROR(VLOOKUP($A42,Filtro!$5:$58,4,FALSE),0) -> 0
B43: TOTAL | C43: =SUM(C38:C42) -> 1756 | D43: =SUM(D38:D42) -> 932 | E43: =SUM(E38:E42) -> 824
A48: CODIGOS ELIMINADOS
A49: 16200260
A50: 16200270
...

Sheet Filtro
A1: COMUNA | B1: (Todas)
A2: IdEstablecimiento | B2: (Todas)
A3: Mes | B3: (Todas)
A5: Etiquetas de fila | B5: Suma de Col01 | C5: Suma de Col02 | D5: Suma de Col03 | E5: Suma de Col04 | F5: Suma de Col05 | G5: Suma de Col06 | H5: Suma de Col07 | I5: Suma de Col08 | J5: Suma de Col09 | K5: Suma de Col10 | L5: Suma de Col11 | M5: Suma de Col12 | N5: Suma de Col13 | O5: Suma de Col14 | P5: Suma de Col15
A6: 15010200 | B6: 211 | G6: 12 | H6: 118 | I6: 81
A7: 15900010 | B7: 68.8 | D7: 10.4 | E7: 58.4
A8: 15010100 | B8: 20035 | F8: 13808 | G8: 6087 | H8: 2 | I8: 6 | J8: 65 | K8: 0 | L8: 34 | M8: 19 | N8: 14
A9: 15010200 | B9: 65882 | G9: 5690 | H9: 32385 | I9: 27807
A10: 15010300 | B10: 405 | F10: 295 | G10: 110 | H10: 0 | I10: 0 | J10: 0 | K10: 0 | L10: 0 | M10: 0 | N10: 0
A11: 15010400 | B11: 1419 | G11: 108 | H11: 824 | I11: 487
A12: 15010500 | B12: 2927 | D12: 8 | E12: 462 | F12: 434 | G12: 328 | H12: 1074 | I12: 621
A13: 15020100 | B13: 564 | C13: 8 | D13: 32 | E13: 134 | F13: 314 | G13: 74 | H13: 0 | I13: 0 | J13: 0 | K13: 0 | L13: 0 | M13: 2 | N13: 0
A14: 15020200 | B14: 1066 | G14: 92 | H14: 569 | I14: 405
A15: 15020300 | B15: 2 | G15: 2
A16: 15020400 | B16: 20 | G16: 0 | H16: 14 | I16: 6
A17: 15020500 | B17: 14 | D17: 0 | E17: 0 | F17: 0 | G17: 0 | H17: 12 | I17: 2
A18: 15030100 | B18: 715.2 | C18: 267.6 | D18: 218.8 | E18: 228.8
A19: 15040100 | B19: 38.4 | C19: 22.4 | D19: 16
A20: 15050100 | B20: 76441 | C20: 30463 | D20: 46115 | E20: 867 | F20: 2104 | G20: 6248 | H20: 9807 | I20: 8442 | J20: 16351 | K20: 14185 | L20: 10365 | N20: 3932 | O20: 1320 | P20: 2820
A21: 15050200 | B21: 1795 | C21: 907 | D21: 853 | E21: 35 | F21: 56 | G21: 244 | H21: 228 | I21: 165 | J21: 544 | K21: 314 | M21: 168 | N21: 26 | O21: 6 | P21: 9
A22: 15050500 | B22: 277 | C22: 149 | D22: 125 | E22: 81 | F22: 68 | G22: 128
A23: 15060100 | B23: 1094 | C23: 498 | D23: 601 | E23: 12 | F23: 40 | G23: 118 | H23: 227 | I23: 123 | J23: 298 | K23: 221 | L23: 20 | N23: 19 | O23: 14 | P23: 2
A24: 15060200 | B24: 8 | C24: 6 | D24: 4 | E24: 0 | F24: 0 | G24: 0 | H24: 0 | I24: 1 | J24: 6 | K24: 1 | M24: 0 | N24: 0 | O24: 0 | P24: 0
A25: 15060600 | B25: 10 | C25: 4 | D25: 6 | E25: 6 | F25: 4
A26: 15080008 | B26: 22048 | J26: 10265 | L26: 7657 | M26: 1311 | N26: 2815
A27: 15080009 | B27: 600 | K27: 498 | L27: 81 | M27: 11 | N27: 10
A28: 15080010 | B28: 69 | J28: 17 | L28: 36 | M28: 14 | N28: 2
A29: 15080011 | B29: 1 | K29: 1 | L29: 0 | M29: 0 | N29: 0
A30: 15080012 | B30: 10 | D30: 0 | E30: 10
A31: 15080014 | B31: 10702 | F31: 5892 | G31: 4759 | H31: 0 | I31: 1 | J31: 27 | K31: 0 | L31: 15 | M31: 2 | N31: 6
A32: 15080015 | B32: 2 | I32: 2
A33: 15080016 | B33: 639 | F33: 143 | G33: 108 | H33: 256 | I33: 127 | J33: 0 | K33: 6 | L33: 3 | M33: 0 | N33: 0
A34: 15080018 | B34: 330 | C34: 10 | D34: 31 | E34: 89 | F34: 122 | G34: 78 | H34: 0 | I34: 0 | J34: 0 | K34: 0 | L34: 0 | M34: 0 | N34: 0
A35: 15900010 | B35: 22841.5 | C35: 1861.8 | D35: 5432.4 | E35: 15547.3
A36: 15900020 | B36: 917.5 | C36: 91 | D36: 161.2 | E36: 665.3
A37: 15900030 | B37: 6238.8 | C37: 98 | D37: 278.8 | E37: 4900.4 | F37: 550.4 | G37: 380 | H37: 31.2 | I37: 0
A38: 15900040 | B38: 1087.2 | C38: 37.2 | D38: 208 | E38: 518 | F38: 252 | G38: 48 | H38: 10.8 | I38: 13.2
A39: 15900050 | B39: 960 | C39: 509 | D39: 403 | E39: 50 | F39: 139 | G39: 395 | H39: 231 | I39: 126 | J39: 16 | K39: 3
A40: 15901200 | B40: 744 | C40: 30.8 | D40: 77.6 | E40: 311.6 | F40: 215.6 | G40: 108.4 | H40: 0 | I40: 0
A41: 15901300 | B41: 418 | C41: 10.4 | D41: 41.6 | E41: 212 | F41: 77.6 | G41: 71.6 | H41: 4.8 | I41: 0
...
