Workbook

Sheet D15
B1: SERVICIO DE SALUD
B2: =CONCATENATE("COMUNA: ",[1]NOMBRE!$B$2," ","( ",[1]NOMBRE!$C$2,[1]NOMBRE!$D$2,[1]NOMBRE!$E$2,[1]NOMBRE!$F$2,[1]NOMBRE!$G$2," )") -> COMUNA: ( )
B3: =CONCATENATE("ESTABLECIMIENTO/ESTRATEGIA: ",[1]NOMBRE!$B$3," ","( ",[1]NOMBRE!$C$3,[1]NOMBRE!$D$3,[1]NOMBRE!$E$3,[1]NOMBRE!$F$3,[1]NOMBRE!$G$3,[1]NOMBRE!$H$3," )") -> ESTABLECIMIENTO/ESTRATEGIA: ( )
B4: =CONCATENATE("MES: ",[1]NOMBRE!$B$6," ","( ",[1]NOMBRE!$C$6,[1]NOMBRE!$D$6," )") -> MES: ( )
B5: =CONCATENATE("AÑO: ",[1]NOMBRE!$B$7) -> AÑO: 2023
B7: REM-D.15 - Programa Nacional de Alimentación Complementaria (PNAC)
B8: Sección A: PNAC - Cantidad distribuida (kg) a personas intrasistema
B9: Subprogramas | C9: Productos | D9: Total | E9: Menores a 6 años | L9: Gestantes | N9: Persona que amamanta a hijo/a menor a 12 meses
E10: 0 - 2 meses | F10: 3 - 5 meses | G10: 6 - 11 meses | H10: 12 - 17 meses | I10: 18 - 23 meses | J10: 24 - 47 meses | K10: 48 - 71 meses | L10: Normal, sobrepeso y obesas | M10: Bajo peso | N10: 0 a 5 meses con Lactancia Materna exclusiva | O10: 0 a 5 meses Lactancia Materna + Fórmula Láctea | P10: 6 a 11 meses Lactancia Materna
A13: 15010100 | B13: Básico | C13: Leche Purita Fortificada (LPF) | D13: =IFERROR(VLOOKUP($A13,Filtro!$5:$58,2,FALSE),0) -> 20035 | E13: =IFERROR(VLOOKUP($A13,Filtro!$5:$58,3,FALSE),0) -> 0 | F13: =IFERROR(VLOOKUP($A13,Filtro!$5:$58,4,FALSE),0) -> 0 | G13: =IFERROR(VLOOKUP($A13,Filtro!$5:$58,5,FALSE),0) -> 0 | H13: =IFERROR(VLOOKUP($A13,Filtro!$5:$58,6,FALSE),0) -> 13808 | I13: =IFERROR(VLOOKUP($A13,Filtro!$5:$58,7,FALSE),0) -> 6087 | J13: =IFERROR(VLOOKUP($A13,Filtro!$5:$58,8,FALSE),0) -> 2 | K13: =IFERROR(VLOOKUP($A13,Filtro!$5:$58,9,FALSE),0) -> 6 | L13: =IFERROR(VLOOKUP($A13,Filtro!$5:$58,10,FALSE),0) -> 65 | M13: =IFERROR(VLOOKUP($A13,Filtro!$5:$58,11,FALSE),0) -> 0 | N13: =IFERROR(VLOOKUP($A13,Filtro!$5:$58,12,FALSE),0) -> 34 | O13: =IFERROR(VLOOKUP($A13,Filtro!$5:$58,13,FALSE),0) -> 19 | P13: =IFERROR(VLOOKUP($A13,Filtro!$5:$58,14,FALSE),0) -> 14
A14: 15080014 | C14: Purita +Pro 1 | D14: =IFERROR(VLOOKUP($A14,Filtro!$5:$58,2,FALSE),0) -> 10702 | E14: =IFERROR(VLOOKUP($A14,Filtro!$5:$58,3,FALSE),0) -> 0 | F14: =IFERROR(VLOOKUP($A14,Filtro!$5:$58,4,FALSE),0) -> 0 | G14: =IFERROR(VLOOKUP($A14,Filtro!$5:$58,5,FALSE),0) -> 0 | H14: =IFERROR(VLOOKUP($A14,Filtro!$5:$58,6,FALSE),0) -> 5892 | I14: =IFERROR(VLOOKUP($A14,Filtro!$5:$58,7,FALSE),0) -> 4759 | J14: =IFERROR(VLOOKUP($A14,Filtro!$5:$58,8,FALSE),0) -> 0 | K14: =IFERROR(VLOOKUP($A14,Filtro!$5:$58,9,FALSE),0) -> 1 | L14: =IFERROR(VLOOKUP($A14,Filtro!$5:$58,10,FALSE),0) -> 27 | M14: =IFERROR(VLOOKUP($A14,Filtro!$5:$58,11,FALSE),0) -> 0 | N14: =IFERROR(VLOOKUP($A14,Filtro!$5:$58,12,FALSE),0) -> 15 | O14: =IFERROR(VLOOKUP($A14,Filtro!$5:$58,13,FALSE),0) -> 2 | P14: =IFERROR(VLOOKUP($A14,Filtro!$5:$58,14,FALSE),0) -> 6
A15: 15010200 | C15: Purita Cereal (PC) | D15: =IFERROR(VLOOKUP($A15,Filtro!$5:$58,2,FALSE),0) -> 65882 | E15: =IFERROR(VLOOKUP($A15,Filtro!$5:$58,3,FALSE),0) -> 0 | F15: =IFERROR(VLOOKUP($A15,Filtro!$5:$58,4,FALSE),0) -> 0 | G15: =IFERROR(VLOOKUP($A15,Filtro!$5:$58,5,FALSE),0) -> 0 | H15: =IFERROR(VLOOKUP($A15,Filtro!$5:$58,6,FALSE),0) -> 0 | I15: =IFERROR(VLOOKUP($A15,Filtro!$5:$58,7,FALSE),0) -> 5690 | J15: =IFERROR(VLOOKUP($A15,Filtro!$5:$58,8,FALSE),0) -> 32385 | K15: =IFERROR(VLOOKUP($A15,Filtro!$5:$58,9,FALSE),0) -> 27807 | L15: =IFERROR(VLOOKUP($A15,Filtro!$5:$58,10,FALSE),0) -> 0 | M15: =IFERROR(VLOOKUP($A15,Filtro!$5:$58,11,FALSE),0) -> 0 | N15: =IFERROR(VLOOKUP($A15,Filtro!$5:$58,12,FALSE),0) -> 0 | O15: =IFERROR(VLOOKUP($A15,Filtro!$5:$58,13,FALSE),0) -> 0 | P15: =IFERROR(VLOOKUP($A15,Filtro!$5:$58,14,FALSE),0) -> 0
A16: 15080015 | C16: Purita +Pro 2 | D16: =IFERROR(VLOOKUP($A16,Filtro!$5:$58,2,FALSE),0) -> 2 | E16: =IFERROR(VLOOKUP($A16,Filtro!$5:$58,3,FALSE),0) -> 0 | F16: =IFERROR(VLOOKUP($A16,Filtro!$5:$58,4,FALSE),0) -> 0 | G16: =IFERROR(VLOOKUP($A16,Filtro!$5:$58,5,FALSE),0) -> 0 | H16: =IFERROR(VLOOKUP($A16,Filtro!$5:$58,6,FALSE),0) -> 0 | I16: =IFERROR(VLOOKUP($A16,Filtro!$5:$58,7,FALSE),0) -> 0 | J16: =IFERROR(VLOOKUP($A16,Filtro!$5:$58,8,FALSE),0) -> 0 | K16: =IFERROR(VLOOKUP($A16,Filtro!$5:$58,9,FALSE),0) -> 2 | L16: =IFERROR(VLOOKUP($A16,Filtro!$5:$58,10,FALSE),0) -> 0 | M16: =IFERROR(VLOOKUP($A16,Filtro!$5:$58,11,FALSE),0) -> 0 | N16: =IFERROR(VLOOKUP($A16,Filtro!$5:$58,12,FALSE),0) -> 0 | O16: =IFERROR(VLOOKUP($A16,Filtro!$5:$58,13,FALSE),0) -> 0 | P16: =IFERROR(VLOOKUP($A16,Filtro!$5:$58,14,FALSE),0) -> 0
A17: 15080008 | C17: Purita Mamá (PM) | D17: =IFERROR(VLOOKUP($A17,Filtro!$5:$58,2,FALSE),0) -> 22048 | E17: =IFERROR(VLOOKUP($A17,Filtro!$5:$58,3,FALSE),0) -> 0 | F17: =IFERROR(VLOOKUP($A17,Filtro!$5:$58,4,FALSE),0) -> 0 | G17: =IFERROR(VLOOKUP($A17,Filtro!$5:$58,5,FALSE),0) -> 0 | H17: =IFERROR(VLOOKUP($A17,Filtro!$5:$58,6,FALSE),0) -> 0 | I17: =IFERROR(VLOOKUP($A17,Filtro!$5:$58,7,FALSE),0) -> 0 | J17: =IFERROR(VLOOKUP($A17,Filtro!$5:$58,8,FALSE),0) -> 0 | K17: =IFERROR(VLOOKUP($A17,Filtro!$5:$58,9,FALSE),0) -> 0 | L17: =IFERROR(VLOOKUP($A17,Filtro!$5:$58,10,FALSE),0) -> 10265 | M17: =IFERROR(VLOOKUP($A17,Filtro!$5:$58,11,FALSE),0) -> 0 | N17: =IFERROR(VLOOKUP($A17,Filtro!$5:$58,12,FALSE),0) -> 7657 | O17: =IFERROR(VLOOKUP($A17,Filtro!$5:$58,13,FALSE),0) -> 1311 | P17: =IFERROR(VLOOKUP($A17,Filtro!$5:$58,14,FALSE),0) -> 2815 | Q17: =$AB17&$AC17&$AD17&$AE17 | AB17: =IF(AND(OR(L13<>0,L14<>0,L17<>0),N42=""),"* No olvide ingresar el Nº de personas que retiran alimento de la sección B en el grupo de Gestantes Normal, Sobrepeso y Obesas.","") | AC17: =IF(AND(SUM(N13,N14,N17)<>0,P42=""),"* No olvide ingresar el Nº de personas que retiran alimento de la sección B en el grupo de Madre con hijo/a menor a 6 meses con Lactancia materna exclusiva.","") | AD17: =IF(AND(SUM(O13,O14,O17)<>0,Q42=""),"* No olvide ingresar el Nº de personas que retiran alimento de la sección D en el grupo de Madre con hijo/a menor a 6 meses con Lactancia materna predominante.","") | AE17: =IF(AND(SUM(P13,P14,P17)<>0,R42=""),"* No olvide ingresar el Nº de personas que retiran alimento de la sección B en el grupo de Madre con hijo/a menor a 6 meses con Formula predominantes o exclusiva.","")
A18: 15900010 | C18: Fórmula de Inicio (FI) | D18: =IFERROR(VLOOKUP($A18,Filtro!$5:$58,2,FALSE),0) -> 22841.5 | E18: =IFERROR(VLOOKUP($A18,Filtro!$5:$58,3,FALSE),0) -> 1861.8 | F18: =IFERROR(VLOOKUP($A18,Filtro!$5:$58,4,FALSE),0) -> 5432.4 | G18: =IFERROR(VLOOKUP($A18,Filtro!$5:$58,5,FALSE),0) -> 15547.3 | H18: =IFERROR(VLOOKUP($A18,Filtro!$5:$58,6,FALSE),0) -> 0 | I18: =IFERROR(VLOOKUP($A18,Filtro!$5:$58,7,FALSE),0) -> 0 | J18: =IFERROR(VLOOKUP($A18,Filtro!$5:$58,8,FALSE),0) -> 0 | K18: =IFERROR(VLOOKUP($A18,Filtro!$5:$58,9,FALSE),0) -> 0 | L18: =IFERROR(VLOOKUP($A18,Filtro!$5:$58,10,FALSE),0) -> 0 | M18: =IFERROR(VLOOKUP($A18,Filtro!$5:$58,11,FALSE),0) -> 0 | N18: =IFERROR(VLOOKUP($A18,Filtro!$5:$58,12,FALSE),0) -> 0 | O18: =IFERROR(VLOOKUP($A18,Filtro!$5:$58,13,FALSE),0) -> 0 | P18: =IFERROR(VLOOKUP($A18,Filtro!$5:$58,14,FALSE),0) -> 0
C19: Subtotal | D19: =SUM(E19:P19) -> 141510.5 | E19: =SUM(E18) -> 1861.8 | F19: =SUM(F18) -> 5432.4 | G19: =SUM(G18) -> 15547.3 | H19: =SUM(H13:H14) -> 19700 | I19: =SUM(I13:I15) -> 16536 | J19: =SUM(J13:J16) -> 32387 | K19: =SUM(K13:K16) -> 27816 | L19: =SUM(L13:L18) -> 10357 | M19: =SUM(M13:M14) -> 0 | N19: =SUM(N13:N18) -> 7706 | O19: =SUM(O13:O18) -> 1332 | P19: =SUM(P13:P18) -> 2835
A20: 15010300 | B20: Refuerzo | C20: Leche Purita Fortificada (LPF) | D20: =IFERROR(VLOOKUP($A20,Filtro!$5:$58,2,FALSE),0) -> 405 | E20: =IFERROR(VLOOKUP($A20,Filtro!$5:$58,3,FALSE),0) -> 0 | F20: =IFERROR(VLOOKUP($A20,Filtro!$5:$58,4,FALSE),0) -> 0 | G20: =IFERROR(VLOOKUP($A20,Filtro!$5:$58,5,FALSE),0) -> 0 | H20: =IFERROR(VLOOKUP($A20,Filtro!$5:$58,6,FALSE),0) -> 295 | I20: =IFERROR(VLOOKUP($A20,Filtro!$5:$58,7,FALSE),0) -> 110 | J20: =IFERROR(VLOOKUP($A20,Filtro!$5:$58,8,FALSE),0) -> 0 | K20: =IFERROR(VLOOKUP($A20,Filtro!$5:$58,9,FALSE),0) -> 0 | L20: =IFERROR(VLOOKUP($A20,Filtro!$5:$58,10,FALSE),0) -> 0 | M20: =IFERROR(VLOOKUP($A20,Filtro!$5:$58,11,FALSE),0) -> 0 | N20: =IFERROR(VLOOKUP($A20,Filtro!$5:$58,12,FALSE),0) -> 0 | O20: =IFERROR(VLOOKUP($A20,Filtro!$5:$58,13,FALSE),0) -> 0 | P20: =IFERROR(VLOOKUP($A20,Filtro!$5:$58,14,FALSE),0) -> 0
A21: 15080016 | C21: Purita +Pro 1 | D21: =IFERROR(VLOOKUP($A21,Filtro!$5:$58,2,FALSE),0) -> 639 | E21: =IFERROR(VLOOKUP($A21,Filtro!$5:$58,3,FALSE),0) -> 0 | F21: =IFERROR(VLOOKUP($A21,Filtro!$5:$58,4,FALSE),0) -> 0 | G21: =IFERROR(VLOOKUP($A21,Filtro!$5:$58,5,FALSE),0) -> 0 | H21: =IFERROR(VLOOKUP($A21,Filtro!$5:$58,6,FALSE),0) -> 143 | I21: =IFERROR(VLOOKUP($A21,Filtro!$5:$58,7,FALSE),0) -> 108 | J21: =IFERROR(VLOOKUP($A21,Filtro!$5:$58,8,FALSE),0) -> 256 | K21: =IFERROR(VLOOKUP($A21,Filtro!$5:$58,9,FALSE),0) -> 127 | L21: =IFERROR(VLOOKUP($A21,Filtro!$5:$58,10,FALSE),0) -> 0 | M21: =IFERROR(VLOOKUP($A21,Filtro!$5:$58,11,FALSE),0) -> 6 | N21: =IFERROR(VLOOKUP($A21,Filtro!$5:$58,12,FALSE),0) -> 3 | O21: =IFERROR(VLOOKUP($A21,Filtro!$5:$58,13,FALSE),0) -> 0 | P21: =IFERROR(VLOOKUP($A21,Filtro!$5:$58,14,FALSE),0) -> 0
A22: 15010400 | C22: Purita Cereal (PC) | D22: =IFERROR(VLOOKUP($A22,Filtro!$5:$58,2,FALSE),0) -> 1419 | E22: =IFERROR(VLOOKUP($A22,Filtro!$5:$58,3,FALSE),0) -> 0 | F22: =IFERROR(VLOOKUP($A22,Filtro!$5:$58,4,FALSE),0) -> 0 | G22: =IFERROR(VLOOKUP($A22,Filtro!$5:$58,5,FALSE),0) -> 0 | H22: =IFERROR(VLOOKUP($A22,Filtro!$5:$58,6,FALSE),0) -> 0 | I22: =IFERROR(VLOOKUP($A22,Filtro!$5:$58,7,FALSE),0) -> 108 | J22: =IFERROR(VLOOKUP($A22,Filtro!$5:$58,8,FALSE),0) -> 824 | K22: =IFERROR(VLOOKUP($A22,Filtro!$5:$58,9,FALSE),0) -> 487 | L22: =IFERROR(VLOOKUP($A22,Filtro!$5:$58,10,FALSE),0) -> 0 | M22: =IFERROR(VLOOKUP($A22,Filtro!$5:$58,11,FALSE),0) -> 0 | N22: =IFERROR(VLOOKUP($A22,Filtro!$5:$58,12,FALSE),0) -> 0 | O22: =IFERROR(VLOOKUP($A22,Filtro!$5:$58,13,FALSE),0) -> 0 | P22: =IFERROR(VLOOKUP($A22,Filtro!$5:$58,14,FALSE),0) -> 0
A23: 15080017 | C23: Purita +Pro 2 | D23: =IFERROR(VLOOKUP($A23,Filtro!$5:$58,2,FALSE),0) -> 0 | E23: =IFERROR(VLOOKUP($A23,Filtro!$5:$58,3,FALSE),0) -> 0 | F23: =IFERROR(VLOOKUP($A23,Filtro!$5:$58,4,FALSE),0) -> 0 | G23: =IFERROR(VLOOKUP($A23,Filtro!$5:$58,5,FALSE),0) -> 0 | H23: =IFERROR(VLOOKUP($A23,Filtro!$5:$58,6,FALSE),0) -> 0 | I23: =IFERROR(VLOOKUP($A23,Filtro!$5:$58,7,FALSE),0) -> 0 | J23: =IFERROR(VLOOKUP($A23,Filtro!$5:$58,8,FALSE),0) -> 0 | K23: =IFERROR(VLOOKUP($A23,Filtro!$5:$58,9,FALSE),0) -> 0 | L23: =IFERROR(VLOOKUP($A23,Filtro!$5:$58,10,FALSE),0) -> 0 | M23: =IFERROR(VLOOKUP($A23,Filtro!$5:$58,11,FALSE),0) -> 0 | N23: =IFERROR(VLOOKUP($A23,Filtro!$5:$58,12,FALSE),0) -> 0 | O23: =IFERROR(VLOOKUP($A23,Filtro!$5:$58,13,FALSE),0) -> 0 | P23: =IFERROR(VLOOKUP($A23,Filtro!$5:$58,14,FALSE),0) -> 0
A24: 15010500 | C24: Mi Sopita (MS) | D24: =IFERROR(VLOOKUP($A24,Filtro!$5:$58,2,FALSE),0) -> 2927 | E24: =IFERROR(VLOOKUP($A24,Filtro!$5:$58,3,FALSE),0) -> 0 | F24: =IFERROR(VLOOKUP($A24,Filtro!$5:$58,4,FALSE),0) -> 8 | G24: =IFERROR(VLOOKUP($A24,Filtro!$5:$58,5,FALSE),0) -> 462 | H24: =IFERROR(VLOOKUP($A24,Filtro!$5:$58,6,FALSE),0) -> 434 | I24: =IFERROR(VLOOKUP($A24,Filtro!$5:$58,7,FALSE),0) -> 328 | J24: =IFERROR(VLOOKUP($A24,Filtro!$5:$58,8,FALSE),0) -> 1074 | K24: =IFERROR(VLOOKUP($A24,Filtro!$5:$58,9,FALSE),0) -> 621 | L24: =IFERROR(VLOOKUP($A24,Filtro!$5:$58,10,FALSE),0) -> 0 | M24: =IFERROR(VLOOKUP($A24,Filtro!$5:$58,11,FALSE),0) -> 0 | N24: =IFERROR(VLOOKUP($A24,Filtro!$5:$58,12,FALSE),0) -> 0 | O24: =IFERROR(VLOOKUP($A24,Filtro!$5:$58,13,FALSE),0) -> 0 | P24: =IFERROR(VLOOKUP($A24,Filtro!$5:$58,14,FALSE),0) -> 0
A25: 15080009 | C25: Purita Mamá (PM) | D25: =IFERROR(VLOOKUP($A25,Filtro!$5:$58,2,FALSE),0) -> 600 | E25: =IFERROR(VLOOKUP($A25,Filtro!$5:$58,3,FALSE),0) -> 0 | F25: =IFERROR(VLOOKUP($A25,Filtro!$5:$58,4,FALSE),0) -> 0 | G25: =IFERROR(VLOOKUP($A25,Filtro!$5:$58,5,FALSE),0) -> 0 | H25: =IFERROR(VLOOKUP($A25,Filtro!$5:$58,6,FALSE),0) -> 0 | I25: =IFERROR(VLOOKUP($A25,Filtro!$5:$58,7,FALSE),0) -> 0 | J25: =IFERROR(VLOOKUP($A25,Filtro!$5:$58,8,FALSE),0) -> 0 | K25: =IFERROR(VLOOKUP($A25,Filtro!$5:$58,9,FALSE),0) -> 0 | L25: =IFERROR(VLOOKUP($A25,Filtro!$5:$58,10,FALSE),0) -> 0 | M25: =IFERROR(VLOOKUP($A25,Filtro!$5:$58,11,FALSE),0) -> 498 | N25: =IFERROR(VLOOKUP($A25,Filtro!$5:$58,12,FALSE),0) -> 81 | O25: =IFERROR(VLOOKUP($A25,Filtro!$5:$58,13,FALSE),0) -> 11 | P25: =IFERROR(VLOOKUP($A25,Filtro!$5:$58,14,FALSE),0) -> 10
A26: 15900020 | C26: Fórmula de Inicio (FI) | D26: =IFERROR(VLOOKUP($A26,Filtro!$5:$58,2,FALSE),0) -> 917.5 | E26: =IFERROR(VLOOKUP($A26,Filtro!$5:$58,3,FALSE),0) -> 91 | F26: =IFERROR(VLOOKUP($A26,Filtro!$5:$58,4,FALSE),0) -> 161.2 | G26: =IFERROR(VLOOKUP($A26,Filtro!$5:$58,5,FALSE),0) -> 665.3 | H26: =IFERROR(VLOOKUP($A26,Filtro!$5:$58,6,FALSE),0) -> 0 | I26: =IFERROR(VLOOKUP($A26,Filtro!$5:$58,7,FALSE),0) -> 0 | J26: =IFERROR(VLOOKUP($A26,Filtro!$5:$58,8,FALSE),0) -> 0 | K26: =IFERROR(VLOOKUP($A26,Filtro!$5:$58,9,FALSE),0) -> 0 | L26: =IFERROR(VLOOKUP($A26,Filtro!$5:$58,10,FALSE),0) -> 0 | M26: =IFERROR(VLOOKUP($A26,Filtro!$5:$58,11,FALSE),0) -> 0 | N26: =IFERROR(VLOOKUP($A26,Filtro!$5:$58,12,FALSE),0) -> 0 | O26: =IFERROR(VLOOKUP($A26,Filtro!$5:$58,13,FALSE),0) -> 0 | P26: =IFERROR(VLOOKUP($A26,Filtro!$5:$58,14,FALSE),0) -> 0
C27: Subtotal | D27: =SUM(E27:Q27) -> 6911.5 | E27: =SUM(E26) -> 91 | F27: =SUM(F20:F26) -> 169.2 | G27: =SUM(G20:G26) -> 1127.3 | H27: =SUM(H20:H24) -> 872 | I27: =SUM(I20:I24) -> 654 | J27: =SUM(J20:J24) -> 2154 | K27: =SUM(K20:K24) -> 1235 | L27: =SUM(L20:L21) -> 0 | M27: =SUM(M20:M26) -> 504 | N27: =SUM(N20:N26) -> 84 | O27: =SUM(O20:O26) -> 11 | P27: =SUM(P20:P26) -> 10
A28: 15030100 | B28: Prematuros | C28: Fórmula de Prematuros (FP) | D28: =IFERROR(VLOOKUP($A28,Filtro!$5:$58,2,FALSE),0) -> 715.2 | E28: =IFERROR(VLOOKUP($A28,Filtro!$5:$58,3,FALSE),0) -> 267.6 | F28: =IFERROR(VLOOKUP($A28,Filtro!$5:$58,4,FALSE),0) -> 218.8 | G28: =IFERROR(VLOOKUP($A28,Filtro!$5:$58,5,FALSE),0) -> 228.8 | H28: =IFERROR(VLOOKUP($A28,Filtro!$5:$58,6,FALSE),0) -> 0 | I28: =IFERROR(VLOOKUP($A28,Filtro!$5:$58,7,FALSE),0) -> 0 | J28: =IFERROR(VLOOKUP($A28,Filtro!$5:$58,8,FALSE),0) -> 0 | K28: =IFERROR(VLOOKUP($A28,Filtro!$5:$58,9,FALSE),0) -> 0 | L28: =IFERROR(VLOOKUP($A28,Filtro!$5:$58,10,FALSE),0) -> 0 | M28: =IFERROR(VLOOKUP($A28,Filtro!$5:$58,11,FALSE),0) -> 0 | N28: =IFERROR(VLOOKUP($A28,Filtro!$5:$58,12,FALSE),0) -> 0 | O28: =IFERROR(VLOOKUP($A28,Filtro!$5:$58,13,FALSE),0) -> 0 | P28: =IFERROR(VLOOKUP($A28,Filtro!$5:$58,14,FALSE),0) -> 0
A29: 15901500 | C29: Fórmula de Incio (FI) | D29: =IFERROR(VLOOKUP($A29,Filtro!$5:$58,2,FALSE),0) -> 240.4 | E29: =IFERROR(VLOOKUP($A29,Filtro!$5:$58,3,FALSE),0) -> 14.1 | F29: =IFERROR(VLOOKUP($A29,Filtro!$5:$58,4,FALSE),0) -> 35.8 | G29: =IFERROR(VLOOKUP($A29,Filtro!$5:$58,5,FALSE),0) -> 190.5 | H29: =IFERROR(VLOOKUP($A29,Filtro!$5:$58,6,FALSE),0) -> 0 | I29: =IFERROR(VLOOKUP($A29,Filtro!$5:$58,7,FALSE),0) -> 0 | J29: =IFERROR(VLOOKUP($A29,Filtro!$5:$58,8,FALSE),0) -> 0 | K29: =IFERROR(VLOOKUP($A29,Filtro!$5:$58,9,FALSE),0) -> 0 | L29: =IFERROR(VLOOKUP($A29,Filtro!$5:$58,10,FALSE),0) -> 0 | M29: =IFERROR(VLOOKUP($A29,Filtro!$5:$58,11,FALSE),0) -> 0 | N29: =IFERROR(VLOOKUP($A29,Filtro!$5:$58,12,FALSE),0) -> 0 | O29: =IFERROR(VLOOKUP($A29,Filtro!$5:$58,13,FALSE),0) -> 0 | P29: =IFERROR(VLOOKUP($A29,Filtro!$5:$58,14,FALSE),0) -> 0
A30: 15080012 | C30: Mi Sopita (MS) | D30: =IFERROR(VLOOKUP($A30,Filtro!$5:$58,2,FALSE),0) -> 10 | E30: =IFERROR(VLOOKUP($A30,Filtro!$5:$58,3,FALSE),0) -> 0 | F30: =IFERROR(VLOOKUP($A30,Filtro!$5:$58,4,FALSE),0) -> 0 | G30: =IFERROR(VLOOKUP($A30,Filtro!$5:$58,5,FALSE),0) -> 10 | H30: =IFERROR(VLOOKUP($A30,Filtro!$5:$58,6,FALSE),0) -> 0 | I30: =IFERROR(VLOOKUP($A30,Filtro!$5:$58,7,FALSE),0) -> 0 | J30: =IFERROR(VLOOKUP($A30,Filtro!$5:$58,8,FALSE),0) -> 0 | K30: =IFERROR(VLOOKUP($A30,Filtro!$5:$58,9,FALSE),0) -> 0 | L30: =IFERROR(VLOOKUP($A30,Filtro!$5:$58,10,FALSE),0) -> 0 | M30: =IFERROR(VLOOKUP($A30,Filtro!$5:$58,11,FALSE),0) -> 0 | N30: =IFERROR(VLOOKUP($A30,Filtro!$5:$58,12,FALSE),0) -> 0 | O30: =IFERROR(VLOOKUP($A30,Filtro!$5:$58,13,FALSE),0) -> 0 | P30: =IFERROR(VLOOKUP($A30,Filtro!$5:$58,14,FALSE),0) -> 0
C31: Subtotal | D31: =SUM(E31:Q31) -> 965.6 | E31: =SUM(E28:E30) -> 281.7 | F31: =SUM(F28:F30) -> 254.6 | G31: =SUM(G28:G30) -> 429.3
A32: 15900030 | B32: Alergia a la proteína de la leche de vaca | C32: Fórmula Extensamente Hidrolizada (FEH) | D32: =IFERROR(VLOOKUP($A32,Filtro!$5:$58,2,FALSE),0) -> 6238.8 | E32: =IFERROR(VLOOKUP($A32,Filtro!$5:$58,3,FALSE),0) -> 98 | F32: =IFERROR(VLOOKUP($A32,Filtro!$5:$58,4,FALSE),0) -> 278.8 | G32: =IFERROR(VLOOKUP($A32,Filtro!$5:$58,5,FALSE),0) -> 4900.4 | H32: =IFERROR(VLOOKUP($A32,Filtro!$5:$58,6,FALSE),0) -> 550.4 | I32: =IFERROR(VLOOKUP($A32,Filtro!$5:$58,7,FALSE),0) -> 380 | J32: =IFERROR(VLOOKUP($A32,Filtro!$5:$58,8,FALSE),0) -> 31.2 | K32: =IFERROR(VLOOKUP($A32,Filtro!$5:$58,9,FALSE),0) -> 0 | L32: =IFERROR(VLOOKUP($A32,Filtro!$5:$58,10,FALSE),0) -> 0 | M32: =IFERROR(VLOOKUP($A32,Filtro!$5:$58,11,FALSE),0) -> 0 | N32: =IFERROR(VLOOKUP($A32,Filtro!$5:$58,12,FALSE),0) -> 0 | O32: =IFERROR(VLOOKUP($A32,Filtro!$5:$58,13,FALSE),0) -> 0 | P32: =IFERROR(VLOOKUP($A32,Filtro!$5:$58,14,FALSE),0) -> 0
A33: 15900040 | C33: Fórmula Aminoacídica (FAA) | D33: =IFERROR(VLOOKUP($A33,Filtro!$5:$58,2,FALSE),0) -> 1087.2 | E33: =IFERROR(VLOOKUP($A33,Filtro!$5:$58,3,FALSE),0) -> 37.2 | F33: =IFERROR(VLOOKUP($A33,Filtro!$5:$58,4,FALSE),0) -> 208 | G33: =IFERROR(VLOOKUP($A33,Filtro!$5:$58,5,FALSE),0) -> 518 | H33: =IFERROR(VLOOKUP($A33,Filtro!$5:$58,6,FALSE),0) -> 252 | I33: =IFERROR(VLOOKUP($A33,Filtro!$5:$58,7,FALSE),0) -> 48 | J33: =IFERROR(VLOOKUP($A33,Filtro!$5:$58,8,FALSE),0) -> 10.8 | K33: =IFERROR(VLOOKUP($A33,Filtro!$5:$58,9,FALSE),0) -> 13.2 | L33: =IFERROR(VLOOKUP($A33,Filtro!$5:$58,10,FALSE),0) -> 0 | M33: =IFERROR(VLOOKUP($A33,Filtro!$5:$58,11,FALSE),0) -> 0 | N33: =IFERROR(VLOOKUP($A33,Filtro!$5:$58,12,FALSE),0) -> 0 | O33: =IFERROR(VLOOKUP($A33,Filtro!$5:$58,13,FALSE),0) -> 0 | P33: =IFERROR(VLOOKUP($A33,Filtro!$5:$58,14,FALSE),0) -> 0
C34: Subtotal | D34: =SUM(E34:Q34) -> 7326 | E34: =SUM(E32:E33) -> 135.2 | F34: =SUM(F32:F33) -> 486.8 | G34: =SUM(G32:G33) -> 5418.4 | H34: =SUM(H32:H33) -> 802.4 | I34: =SUM(I32:I33) -> 428 | J34: =SUM(J32:J33) -> 42 | K34: =SUM(K32:K33) -> 13.2
B35: Total | D35: =SUM(E35:Q35) -> 156713.6 | E35: =+E19+E27+E31+E34 -> 2369.7 | F35: =+F19+F27+F31+F34 -> 6343 | G35: =+G19+G27+G31+G34 -> 22522.3 | H35: =+H19+H27+H31+H34 -> 21374.4 | I35: =+I19+I27+I31+I34 -> 17618 | J35: =+J19+J27+J31+J34 -> 34583 | K35: =+K19+K27+K31+K34 -> 29064.2 | L35: =+L19+L27+L31+L34 -> 10357 | ... P35: =+P19+P27+P31+P34 -> 2845
B37: Sección B: PNAC - Número de personas intrasistema que retiran
B38: Subprogramas | D38: Total | E38: Hombres | F38: Mujeres | G38: Menores a 6 años | N38: Gestantes | P38: Persona que amamanta a hijo/a menor a 12 meses
G39: 0 - 2 meses | H39: 3 - 5 meses | I39: 6 - 11 meses | J39: 12 - 17 meses | K39: 18 - 23 meses | L39: 24 - 47 meses | M39: 48 - 71 meses | N39: Normal, sobrepeso y obesas | O39: Bajo peso | P39: 0 a 5 meses con Lactancia Materna exclusiva | Q39: 0 a 5 meses Lactancia Materna + Fórmula Láctea | R39: 6 a 11 meses Lactancia Materna
A42: 15050100 | B42: Básico | D42: =IFERROR(VLOOKUP($A42,Filtro!$5:$58,2,FALSE),0) -> 76441 | E42: =IFERROR(VLOOKUP($A42,Filtro!$5:$58,3,FALSE),0) -> 30463 | F42: =IFERROR(VLOOKUP($A42,Filtro!$5:$58,4,FALSE),0) -> 46115 | G42: =IFERROR(VLOOKUP($A42,Filtro!$5:$58,5,FALSE),0) -> 867 | H42: =IFERROR(VLOOKUP($A42,Filtro!$5:$58,6,FALSE),0) -> 2104 | I42: =IFERROR(VLOOKUP($A42,Filtro!$5:$58,7,FALSE),0) -> 6248 | J42: =IFERROR(VLOOKUP($A42,Filtro!$5:$58,8,FALSE),0) -> 9807 | K42: =IFERROR(VLOOKUP($A42,Filtro!$5:$58,9,FALSE),0) -> 8442 | L42: =IFERROR(VLOOKUP($A42,Filtro!$5:$58,10,FALSE),0) -> 16351 | M42: =IFERROR(VLOOKUP($A42,Filtro!$5:$58,11,FALSE),0) -> 14185 | N42: =IFERROR(VLOOKUP($A42,Filtro!$5:$58,12,FALSE),0) -> 10365 | O42: =IFERROR(VLOOKUP($A42,Filtro!$5:$58,13,FALSE),0) -> 0 | P42: =IFERROR(VLOOKUP($A42,Filtro!$5:$58,14,FALSE),0) -> 3932 | Q42: =IFERROR(VLOOKUP($A42,Filtro!$5:$58,15,FALSE),0) -> 1320 | R42: =IFERROR(VLOOKUP($A42,Filtro!$5:$58,16,FALSE),0) -> 2820 | S42: =AA42&AB42 | AA42: =IF(AF42=1,"* La suma del Total según grupo etario, gestantes y Personas que amamantan no pueden superar al Total por Sexo. ","") | AF42: =IF(SUM(E42:F42)<SUM(G42:M42,N42,P42:R42),1,0) -> 0
A43: 15050200 | B43: Refuerzo | D43: =IFERROR(VLOOKUP($A43,Filtro!$5:$58,2,FALSE),0) -> 1795 | E43: =IFERROR(VLOOKUP($A43,Filtro!$5:$58,3,FALSE),0) -> 907 | F43: =IFERROR(VLOOKUP($A43,Filtro!$5:$58,4,FALSE),0) -> 853 | G43: =IFERROR(VLOOKUP($A43,Filtro!$5:$58,5,FALSE),0) -> 35 | H43: =IFERROR(VLOOKUP($A43,Filtro!$5:$58,6,FALSE),0) -> 56 | I43: =IFERROR(VLOOKUP($A43,Filtro!$5:$58,7,FALSE),0) -> 244 | J43: =IFERROR(VLOOKUP($A43,Filtro!$5:$58,8,FALSE),0) -> 228 | K43: =IFERROR(VLOOKUP($A43,Filtro!$5:$58,9,FALSE),0) -> 165 | L43: =IFERROR(VLOOKUP($A43,Filtro!$5:$58,10,FALSE),0) -> 544 | M43: =IFERROR(VLOOKUP($A43,Filtro!$5:$58,11,FALSE),0) -> 314 | N43: =IFERROR(VLOOKUP($A43,Filtro!$5:$58,12,FALSE),0) -> 0 | O43: =IFERROR(VLOOKUP($A43,Filtro!$5:$58,13,FALSE),0) -> 168 | P43: =IFERROR(VLOOKUP($A43,Filtro!$5:$58,14,FALSE),0) -> 26 | Q43: =IFERROR(VLOOKUP($A43,Filtro!$5:$58,15,FALSE),0) -> 6 | R43: =IFERROR(VLOOKUP($A43,Filtro!$5:$58,16,FALSE),0) -> 9 | S43: =AA43&AB43 | AA43: =IF(AF43=1,"* La suma del Total según grupo etario, gestantes y Personas que amamantan no pueden superar al Total por Sexo. ","") | AF43: =IF(D43<SUM(G43:M43,O43:R43),1,0) -> 0
A44: 15050500 | B44: Prematuros | D44: =IFERROR(VLOOKUP($A44,Filtro!$5:$58,2,FALSE),0) -> 277 | E44: =IFERROR(VLOOKUP($A44,Filtro!$5:$58,3,FALSE),0) -> 149 | F44: =IFERROR(VLOOKUP($A44,Filtro!$5:$58,4,FALSE),0) -> 125 | G44: =IFERROR(VLOOKUP($A44,Filtro!$5:$58,5,FALSE),0) -> 81 | H44: =IFERROR(VLOOKUP($A44,Filtro!$5:$58,6,FALSE),0) -> 68 | I44: =IFERROR(VLOOKUP($A44,Filtro!$5:$58,7,FALSE),0) -> 128 | J44: =IFERROR(VLOOKUP($A44,Filtro!$5:$58,8,FALSE),0) -> 0 | K44: =IFERROR(VLOOKUP($A44,Filtro!$5:$58,9,FALSE),0) -> 0 | L44: =IFERROR(VLOOKUP($A44,Filtro!$5:$58,10,FALSE),0) -> 0 | M44: =IFERROR(VLOOKUP($A44,Filtro!$5:$58,11,FALSE),0) -> 0 | N44: =IFERROR(VLOOKUP($A44,Filtro!$5:$58,12,FALSE),0) -> 0 | O44: =IFERROR(VLOOKUP($A44,Filtro!$5:$58,13,FALSE),0) -> 0 | P44: =IFERROR(VLOOKUP($A44,Filtro!$5:$58,14,FALSE),0) -> 0 | Q44: =IFERROR(VLOOKUP($A44,Filtro!$5:$58,15,FALSE),0) -> 0 | R44: =IFERROR(VLOOKUP($A44,Filtro!$5:$58,16,FALSE),0) -> 0 | S44: =AA44&AB44 | AA44: =IF(AF44=1,"* El Total según grupo etario no puede superar al Total por Sexo. ","") | AF44: =IF(D44<SUM(G44:M44),1,0) -> 0
A45: 15900050 | B45: Alergia a la Proteína de la leche de vaca | D45: =IFERROR(VLOOKUP($A45,Filtro!$5:$58,2,FALSE),0) -> 960 | E45: =IFERROR(VLOOKUP($A45,Filtro!$5:$58,3,FALSE),0) -> 509 | F45: =IFERROR(VLOOKUP($A45,Filtro!$5:$58,4,FALSE),0) -> 403 | G45: =IFERROR(VLOOKUP($A45,Filtro!$5:$58,5,FALSE),0) -> 50 | H45: =IFERROR(VLOOKUP($A45,Filtro!$5:$58,6,FALSE),0) -> 139 | I45: =IFERROR(VLOOKUP($A45,Filtro!$5:$58,7,FALSE),0) -> 395 | J45: =IFERROR(VLOOKUP($A45,Filtro!$5:$58,8,FALSE),0) -> 231 | K45: =IFERROR(VLOOKUP($A45,Filtro!$5:$58,9,FALSE),0) -> 126 | L45: =IFERROR(VLOOKUP($A45,Filtro!$5:$58,10,FALSE),0) -> 16 | M45: =IFERROR(VLOOKUP($A45,Filtro!$5:$58,11,FALSE),0) -> 3 | N45: =IFERROR(VLOOKUP($A45,Filtro!$5:$58,12,FALSE),0) -> 0 | O45: =IFERROR(VLOOKUP($A45,Filtro!$5:$58,13,FALSE),0) -> 0 | P45: =IFERROR(VLOOKUP($A45,Filtro!$5:$58,14,FALSE),0) -> 0 | Q45: =IFERROR(VLOOKUP($A45,Filtro!$5:$58,15,FALSE),0) -> 0 | R45: =IFERROR(VLOOKUP($A45,Filtro!$5:$58,16,FALSE),0) -> 0 | S45: =AA45&AB45 | AA45: =IF(AF45=1,"* El Total según grupo etario no puede superar al Total por Sexo. ","") | AF45: =IF(D45<SUM(G45:M45),1,0) -> 0
B46: TOTAL | D46: =SUM(E46:F46) -> 79524 | E46: =SUM(E42:E45) -> 32028 | F46: =SUM(F42:F45) -> 47496 | G46: =SUM(G42:G45) -> 1033 | H46: =SUM(H42:H45) -> 2367 | I46: =SUM(I42:I45) -> 7015 | J46: =SUM(J42:J45) -> 10266 | K46: =SUM(K42:K45) -> 8733 | L46: =SUM(L42:L45) -> 16911 | M46: =SUM(M42:M45) -> 14502 | N46: =N42 -> 10365 | O46: =O43 -> 168 | P46: =SUM(P42:P43) -> 3958 | Q46: =SUM(Q42:Q43) -> 1326 | R46: =SUM(R42:R43) -> 2829
A47: 15900060 | B47: Programas Sociales (*) | D47: =IFERROR(VLOOKUP($A47,Filtro!$5:$58,2,FALSE),0) -> 0 | E47: =IFERROR(VLOOKUP($A47,Filtro!$5:$58,3,FALSE),0) -> 0 | F47: =IFERROR(VLOOKUP($A47,Filtro!$5:$58,4,FALSE),0) -> 0 | G47: =IFERROR(VLOOKUP($A47,Filtro!$5:$58,5,FALSE),0) -> 0 | H47: =IFERROR(VLOOKUP($A47,Filtro!$5:$58,6,FALSE),0) -> 0 | I47: =IFERROR(VLOOKUP($A47,Filtro!$5:$58,7,FALSE),0) -> 0 | J47: =IFERROR(VLOOKUP($A47,Filtro!$5:$58,8,FALSE),0) -> 0 | K47: =IFERROR(VLOOKUP($A47,Filtro!$5:$58,9,FALSE),0) -> 0 | L47: =IFERROR(VLOOKUP($A47,Filtro!$5:$58,10,FALSE),0) -> 0 | M47: =IFERROR(VLOOKUP($A47,Filtro!$5:$58,11,FALSE),0) -> 0 | N47: =IFERROR(VLOOKUP($A47,Filtro!$5:$58,12,FALSE),0) -> 0 | O47: =IFERROR(VLOOKUP($A47,Filtro!$5:$58,13,FALSE),0) -> 0 | P47: =IFERROR(VLOOKUP($A47,Filtro!$5:$58,14,FALSE),0) -> 0 | Q47: =IFERROR(VLOOKUP($A47,Filtro!$5:$58,15,FALSE),0) -> 0 | R47: =IFERROR(VLOOKUP($A47,Filtro!$5:$58,16,FALSE),0) -> 0 | S47: =AA47&AC47&AB47 | AA47: =IF(AF47=1,"* La suma del Total según grupo etario, gestantes y Personas que amamantan no pueden superar al Total por Sexo. ","") | AB47: =IF(AG47=1,"* Compruebe que lo ingresado en Programas Sociales no supere al Total registrado en los subprogramas. ","") | AC47: =IF(AH47=1,"* El Total registrado en Programas Sociales no puede ser mayor al Total registrado en los subprogramas. ","") | AF47: =IF(SUM(E47:F47)<SUM(G47:R47),1,0) -> 0 | AG47: =IF(OR(E47>E46,F47>F46,G47>G46,H47>H46,I47>I46,J47>J46,K47>K46,L47>L46,M47>M46,N47>N46,O47>O46,P47>P46,Q47>Q46,R47>R46),1,0) -> 0 | AH47: =IF(D47>D46,1,0) -> 0
B48: Nota: (*) Información referencial, ya incluida en los subprogramas.
B50: Sección C: PNAC: Cantidad distribuida (kg) a personas extrasistema (incluye modalidad libre elección)
B51: Subprogramas | C51: Productos | D51: Total | E51: Menores a 6 años | L51: Gestantes | N51: Persona que amamanta a hijo/a menor a 12 meses
E52: 0 - 2 meses | F52: 3 - 5 meses | G52: 6 - 11 meses | H52: 12 - 17 meses | I52: 18 - 23 meses | J52: 24 - 47 meses | K52: 48 - 71 meses | L52: Normal, sobrepeso y obesas | M52: Bajo peso | N52: 0 a 5 meses con Lactancia Materna exclusiva | O52: 0 a 5 meses Lactancia Materna + Fórmula Láctea | P52: 6 a 11 meses Lactancia Materna
A55: 15020100 | B55: Básico | C55: Leche Purita Fortificada (LPF) | D55: =IFERROR(VLOOKUP($A55,Filtro!$5:$58,2,FALSE),0) -> 564 | E55: =IFERROR(VLOOKUP($A55,Filtro!$5:$58,3,FALSE),0) -> 8 | F55: =IFERROR(VLOOKUP($A55,Filtro!$5:$58,4,FALSE),0) -> 32 | G55: =IFERROR(VLOOKUP($A55,Filtro!$5:$58,5,FALSE),0) -> 134 | H55: =IFERROR(VLOOKUP($A55,Filtro!$5:$58,6,FALSE),0) -> 314 | I55: =IFERROR(VLOOKUP($A55,Filtro!$5:$58,7,FALSE),0) -> 74 | J55: =IFERROR(VLOOKUP($A55,Filtro!$5:$58,8,FALSE),0) -> 0 | K55: =IFERROR(VLOOKUP($A55,Filtro!$5:$58,9,FALSE),0) -> 0 | L55: =IFERROR(VLOOKUP($A55,Filtro!$5:$58,10,FALSE),0) -> 0 | M55: =IFERROR(VLOOKUP($A55,Filtro!$5:$58,11,FALSE),0) -> 0 | N55: =IFERROR(VLOOKUP($A55,Filtro!$5:$58,12,FALSE),0) -> 0 | O55: =IFERROR(VLOOKUP($A55,Filtro!$5:$58,13,FALSE),0) -> 2 | P55: =IFERROR(VLOOKUP($A55,Filtro!$5:$58,14,FALSE),0) -> 0
A56: 15080018 | C56: Purita +Pro 1 | D56: =IFERROR(VLOOKUP($A56,Filtro!$5:$58,2,FALSE),0) -> 330 | E56: =IFERROR(VLOOKUP($A56,Filtro!$5:$58,3,FALSE),0) -> 10 | F56: =IFERROR(VLOOKUP($A56,Filtro!$5:$58,4,FALSE),0) -> 31 | G56: =IFERROR(VLOOKUP($A56,Filtro!$5:$58,5,FALSE),0) -> 89 | H56: =IFERROR(VLOOKUP($A56,Filtro!$5:$58,6,FALSE),0) -> 122 | I56: =IFERROR(VLOOKUP($A56,Filtro!$5:$58,7,FALSE),0) -> 78 | J56: =IFERROR(VLOOKUP($A56,Filtro!$5:$58,8,FALSE),0) -> 0 | K56: =IFERROR(VLOOKUP($A56,Filtro!$5:$58,9,FALSE),0) -> 0 | L56: =IFERROR(VLOOKUP($A56,Filtro!$5:$58,10,FALSE),0) -> 0 | M56: =IFERROR(VLOOKUP($A56,Filtro!$5:$58,11,FALSE),0) -> 0 | N56: =IFERROR(VLOOKUP($A56,Filtro!$5:$58,12,FALSE),0) -> 0 | O56: =IFERROR(VLOOKUP($A56,Filtro!$5:$58,13,FALSE),0) -> 0 | P56: =IFERROR(VLOOKUP($A56,Filtro!$5:$58,14,FALSE),0) -> 0
A57: 15020200 | C57: Purita Cereal (PC) | D57: =IFERROR(VLOOKUP($A57,Filtro!$5:$58,2,FALSE),0) -> 1066 | E57: =IFERROR(VLOOKUP($A57,Filtro!$5:$58,3,FALSE),0) -> 0 | F57: =IFERROR(VLOOKUP($A57,Filtro!$5:$58,4,FALSE),0) -> 0 | G57: =IFERROR(VLOOKUP($A57,Filtro!$5:$58,5,FALSE),0) -> 0 | H57: =IFERROR(VLOOKUP($A57,Filtro!$5:$58,6,FALSE),0) -> 0 | I57: =IFERROR(VLOOKUP($A57,Filtro!$5:$58,7,FALSE),0) -> 92 | J57: =IFERROR(VLOOKUP($A57,Filtro!$5:$58,8,FALSE),0) -> 569 | K57: =IFERROR(VLOOKUP($A57,Filtro!$5:$58,9,FALSE),0) -> 405 | L57: =IFERROR(VLOOKUP($A57,Filtro!$5:$58,10,FALSE),0) -> 0 | M57: =IFERROR(VLOOKUP($A57,Filtro!$5:$58,11,FALSE),0) -> 0 | N57: =IFERROR(VLOOKUP($A57,Filtro!$5:$58,12,FALSE),0) -> 0 | O57: =IFERROR(VLOOKUP($A57,Filtro!$5:$58,13,FALSE),0) -> 0 | P57: =IFERROR(VLOOKUP($A57,Filtro!$5:$58,14,FALSE),0) -> 0
A58: 15080019 | C58: Purita +Pro 2 | D58: =IFERROR(VLOOKUP($A58,Filtro!$5:$58,2,FALSE),0) -> 0 | E58: =IFERROR(VLOOKUP($A58,Filtro!$5:$58,3,FALSE),0) -> 0 | F58: =IFERROR(VLOOKUP($A58,Filtro!$5:$58,4,FALSE),0) -> 0 | G58: =IFERROR(VLOOKUP($A58,Filtro!$5:$58,5,FALSE),0) -> 0 | H58: =IFERROR(VLOOKUP($A58,Filtro!$5:$58,6,FALSE),0) -> 0 | I58: =IFERROR(VLOOKUP($A58,Filtro!$5:$58,7,FALSE),0) -> 0 | J58: =IFERROR(VLOOKUP($A58,Filtro!$5:$58,8,FALSE),0) -> 0 | K58: =IFERROR(VLOOKUP($A58,Filtro!$5:$58,9,FALSE),0) -> 0 | L58: =IFERROR(VLOOKUP($A58,Filtro!$5:$58,10,FALSE),0) -> 0 | M58: =IFERROR(VLOOKUP($A58,Filtro!$5:$58,11,FALSE),0) -> 0 | N58: =IFERROR(VLOOKUP($A58,Filtro!$5:$58,12,FALSE),0) -> 0 | O58: =IFERROR(VLOOKUP($A58,Filtro!$5:$58,13,FALSE),0) -> 0 | P58: =IFERROR(VLOOKUP($A58,Filtro!$5:$58,14,FALSE),0) -> 0
A59: 15080010 | C59: Purita Mamá (PM) | D59: =IFERROR(VLOOKUP($A59,Filtro!$5:$58,2,FALSE),0) -> 69 | E59: =IFERROR(VLOOKUP($A59,Filtro!$5:$58,3,FALSE),0) -> 0 | F59: =IFERROR(VLOOKUP($A59,Filtro!$5:$58,4,FALSE),0) -> 0 | G59: =IFERROR(VLOOKUP($A59,Filtro!$5:$58,5,FALSE),0) -> 0 | H59: =IFERROR(VLOOKUP($A59,Filtro!$5:$58,6,FALSE),0) -> 0 | I59: =IFERROR(VLOOKUP($A59,Filtro!$5:$58,7,FALSE),0) -> 0 | J59: =IFERROR(VLOOKUP($A59,Filtro!$5:$58,8,FALSE),0) -> 0 | K59: =IFERROR(VLOOKUP($A59,Filtro!$5:$58,9,FALSE),0) -> 0 | L59: =IFERROR(VLOOKUP($A59,Filtro!$5:$58,10,FALSE),0) -> 17 | M59: =IFERROR(VLOOKUP($A59,Filtro!$5:$58,11,FALSE),0) -> 0 | N59: =IFERROR(VLOOKUP($A59,Filtro!$5:$58,12,FALSE),0) -> 36 | O59: =IFERROR(VLOOKUP($A59,Filtro!$5:$58,13,FALSE),0) -> 14 | P59: =IFERROR(VLOOKUP($A59,Filtro!$5:$58,14,FALSE),0) -> 2 | AB59: =IF(AND(SUM(L55,L56,L59)<>0,N84=""),"* No olvide ingresar el Nº de personas que retiran alimento de la sección D en el grupo de Gestantes Normal, Sobrepeso y Obesas.","") | AC59: =IF(AND(SUM(N56,N55,N59)<>0,P84=""),"* No olvide ingresar el Nº de personas que retiran alimento de la sección D en el grupo de Madre con hijo/a menor a 6 meses con Lactancia materna exclusiva.","") | AD59: =IF(AND(SUM(O57,O56,O59)<>0,Q84=""),"* No olvide ingresar el Nº de personas que retiran alimento de la sección D en el grupo de Madre con hijo/a menor a 6 meses con Lactancia materna predominante.","") | AE59: =IF(AND(SUM(P57,P56,P59)<>0,R84=""),"No olvide ingresar el Nº de personas que retiran alimento de la sección D en el grupo de Madre con hijo/a menor a 6 meses con Fórmula predominantes o exclusiva.","")
A60: 15900070 | C60: Fórmula de Inicio (FI) | D60: =IFERROR(VLOOKUP($A60,Filtro!$5:$58,2,FALSE),0) -> 0 | E60: =IFERROR(VLOOKUP($A60,Filtro!$5:$58,3,FALSE),0) -> 0 | F60: =IFERROR(VLOOKUP($A60,Filtro!$5:$58,4,FALSE),0) -> 0 | G60: =IFERROR(VLOOKUP($A60,Filtro!$5:$58,5,FALSE),0) -> 0 | H60: =IFERROR(VLOOKUP($A60,Filtro!$5:$58,6,FALSE),0) -> 0 | I60: =IFERROR(VLOOKUP($A60,Filtro!$5:$58,7,FALSE),0) -> 0 | J60: =IFERROR(VLOOKUP($A60,Filtro!$5:$58,8,FALSE),0) -> 0 | K60: =IFERROR(VLOOKUP($A60,Filtro!$5:$58,9,FALSE),0) -> 0 | L60: =IFERROR(VLOOKUP($A60,Filtro!$5:$58,10,FALSE),0) -> 0 | M60: =IFERROR(VLOOKUP($A60,Filtro!$5:$58,11,FALSE),0) -> 0 | N60: =IFERROR(VLOOKUP($A60,Filtro!$5:$58,12,FALSE),0) -> 0 | O60: =IFERROR(VLOOKUP($A60,Filtro!$5:$58,13,FALSE),0) -> 0 | P60: =IFERROR(VLOOKUP($A60,Filtro!$5:$58,14,FALSE),0) -> 0
C61: Subtotal | D61: =SUM(E61:P61) -> 2029 | E61: =SUM(E55:E60) -> 18 | F61: =SUM(F55:F60) -> 63 | G61: =SUM(G55:G60) -> 223 | H61: =SUM(H55:H56) -> 436 | I61: =SUM(I55:I57) -> 244 | J61: =SUM(J55:J58) -> 569 | K61: =SUM(K55:K58) -> 405 | L61: =SUM(L55:L60) -> 17 | M61: =SUM(M55:M56) -> 0 | N61: =SUM(N55:N60) -> 36 | O61: =SUM(O55:O60) -> 16 | P61: =SUM(P55:P60) -> 2
A62: 15020300 | B62: Refuerzo | C62: Leche Purita Fortificada (LPF) | D62: =IFERROR(VLOOKUP($A62,Filtro!$5:$58,2,FALSE),0) -> 2 | E62: =IFERROR(VLOOKUP($A62,Filtro!$5:$58,3,FALSE),0) -> 0 | F62: =IFERROR(VLOOKUP($A62,Filtro!$5:$58,4,FALSE),0) -> 0 | G62: =IFERROR(VLOOKUP($A62,Filtro!$5:$58,5,FALSE),0) -> 0 | H62: =IFERROR(VLOOKUP($A62,Filtro!$5:$58,6,FALSE),0) -> 0 | I62: =IFERROR(VLOOKUP($A62,Filtro!$5:$58,7,FALSE),0) -> 2 | J62: =IFERROR(VLOOKUP($A62,Filtro!$5:$58,8,FALSE),0) -> 0 | K62: =IFERROR(VLOOKUP($A62,Filtro!$5:$58,9,FALSE),0) -> 0 | L62: =IFERROR(VLOOKUP($A62,Filtro!$5:$58,10,FALSE),0) -> 0 | M62: =IFERROR(VLOOKUP($A62,Filtro!$5:$58,11,FALSE),0) -> 0 | N62: =IFERROR(VLOOKUP($A62,Filtro!$5:$58,12,FALSE),0) -> 0 | O62: =IFERROR(VLOOKUP($A62,Filtro!$5:$58,13,FALSE),0) -> 0 | P62: =IFERROR(VLOOKUP($A62,Filtro!$5:$58,14,FALSE),0) -> 0
A63: 15080020 | C63: Purita +Pro 1 | D63: =IFERROR(VLOOKUP($A63,Filtro!$5:$58,2,FALSE),0) -> 0 | E63: =IFERROR(VLOOKUP($A63,Filtro!$5:$58,3,FALSE),0) -> 0 | F63: =IFERROR(VLOOKUP($A63,Filtro!$5:$58,4,FALSE),0) -> 0 | G63: =IFERROR(VLOOKUP($A63,Filtro!$5:$58,5,FALSE),0) -> 0 | H63: =IFERROR(VLOOKUP($A63,Filtro!$5:$58,6,FALSE),0) -> 0 | I63: =IFERROR(VLOOKUP($A63,Filtro!$5:$58,7,FALSE),0) -> 0 | J63: =IFERROR(VLOOKUP($A63,Filtro!$5:$58,8,FALSE),0) -> 0 | K63: =IFERROR(VLOOKUP($A63,Filtro!$5:$58,9,FALSE),0) -> 0 | L63: =IFERROR(VLOOKUP($A63,Filtro!$5:$58,10,FALSE),0) -> 0 | M63: =IFERROR(VLOOKUP($A63,Filtro!$5:$58,11,FALSE),0) -> 0 | N63: =IFERROR(VLOOKUP($A63,Filtro!$5:$58,12,FALSE),0) -> 0 | O63: =IFERROR(VLOOKUP($A63,Filtro!$5:$58,13,FALSE),0) -> 0 | P63: =IFERROR(VLOOKUP($A63,Filtro!$5:$58,14,FALSE),0) -> 0
A64: 15020400 | C64: Purita Cereal (PC) | D64: =IFERROR(VLOOKUP($A64,Filtro!$5:$58,2,FALSE),0) -> 20 | E64: =IFERROR(VLOOKUP($A64,Filtro!$5:$58,3,FALSE),0) -> 0 | F64: =IFERROR(VLOOKUP($A64,Filtro!$5:$58,4,FALSE),0) -> 0 | G64: =IFERROR(VLOOKUP($A64,Filtro!$5:$58,5,FALSE),0) -> 0 | H64: =IFERROR(VLOOKUP($A64,Filtro!$5:$58,6,FALSE),0) -> 0 | I64: =IFERROR(VLOOKUP($A64,Filtro!$5:$58,7,FALSE),0) -> 0 | J64: =IFERROR(VLOOKUP($A64,Filtro!$5:$58,8,FALSE),0) -> 14 | K64: =IFERROR(VLOOKUP($A64,Filtro!$5:$58,9,FALSE),0) -> 6 | L64: =IFERROR(VLOOKUP($A64,Filtro!$5:$58,10,FALSE),0) -> 0 | M64: =IFERROR(VLOOKUP($A64,Filtro!$5:$58,11,FALSE),0) -> 0 | N64: =IFERROR(VLOOKUP($A64,Filtro!$5:$58,12,FALSE),0) -> 0 | O64: =IFERROR(VLOOKUP($A64,Filtro!$5:$58,13,FALSE),0) -> 0 | P64: =IFERROR(VLOOKUP($A64,Filtro!$5:$58,14,FALSE),0) -> 0
A65: 15080021 | C65: Purita +Pro 2 | D65: =IFERROR(VLOOKUP($A65,Filtro!$5:$58,2,FALSE),0) -> 0 | E65: =IFERROR(VLOOKUP($A65,Filtro!$5:$58,3,FALSE),0) -> 0 | F65: =IFERROR(VLOOKUP($A65,Filtro!$5:$58,4,FALSE),0) -> 0 | G65: =IFERROR(VLOOKUP($A65,Filtro!$5:$58,5,FALSE),0) -> 0 | H65: =IFERROR(VLOOKUP($A65,Filtro!$5:$58,6,FALSE),0) -> 0 | I65: =IFERROR(VLOOKUP($A65,Filtro!$5:$58,7,FALSE),0) -> 0 | J65: =IFERROR(VLOOKUP($A65,Filtro!$5:$58,8,FALSE),0) -> 0 | K65: =IFERROR(VLOOKUP($A65,Filtro!$5:$58,9,FALSE),0) -> 0 | L65: =IFERROR(VLOOKUP($A65,Filtro!$5:$58,10,FALSE),0) -> 0 | M65: =IFERROR(VLOOKUP($A65,Filtro!$5:$58,11,FALSE),0) -> 0 | N65: =IFERROR(VLOOKUP($A65,Filtro!$5:$58,12,FALSE),0) -> 0 | O65: =IFERROR(VLOOKUP($A65,Filtro!$5:$58,13,FALSE),0) -> 0 | P65: =IFERROR(VLOOKUP($A65,Filtro!$5:$58,14,FALSE),0) -> 0
A66: 15020500 | C66: Mi Sopita (MS) | D66: =IFERROR(VLOOKUP($A66,Filtro!$5:$58,2,FALSE),0) -> 14 | E66: =IFERROR(VLOOKUP($A66,Filtro!$5:$58,3,FALSE),0) -> 0 | F66: =IFERROR(VLOOKUP($A66,Filtro!$5:$58,4,FALSE),0) -> 0 | G66: =IFERROR(VLOOKUP($A66,Filtro!$5:$58,5,FALSE),0) -> 0 | H66: =IFERROR(VLOOKUP($A66,Filtro!$5:$58,6,FALSE),0) -> 0 | I66: =IFERROR(VLOOKUP($A66,Filtro!$5:$58,7,FALSE),0) -> 0 | J66: =IFERROR(VLOOKUP($A66,Filtro!$5:$58,8,FALSE),0) -> 12 | K66: =IFERROR(VLOOKUP($A66,Filtro!$5:$58,9,FALSE),0) -> 2 | L66: =IFERROR(VLOOKUP($A66,Filtro!$5:$58,10,FALSE),0) -> 0 | M66: =IFERROR(VLOOKUP($A66,Filtro!$5:$58,11,FALSE),0) -> 0 | N66: =IFERROR(VLOOKUP($A66,Filtro!$5:$58,12,FALSE),0) -> 0 | O66: =IFERROR(VLOOKUP($A66,Filtro!$5:$58,13,FALSE),0) -> 0 | P66: =IFERROR(VLOOKUP($A66,Filtro!$5:$58,14,FALSE),0) -> 0
A67: 15080011 | C67: Purita Mamá (PM) | D67: =IFERROR(VLOOKUP($A67,Filtro!$5:$58,2,FALSE),0) -> 1 | E67: =IFERROR(VLOOKUP($A67,Filtro!$5:$58,3,FALSE),0) -> 0 | F67: =IFERROR(VLOOKUP($A67,Filtro!$5:$58,4,FALSE),0) -> 0 | G67: =IFERROR(VLOOKUP($A67,Filtro!$5:$58,5,FALSE),0) -> 0 | H67: =IFERROR(VLOOKUP($A67,Filtro!$5:$58,6,FALSE),0) -> 0 | I67: =IFERROR(VLOOKUP($A67,Filtro!$5:$58,7,FALSE),0) -> 0 | J67: =IFERROR(VLOOKUP($A67,Filtro!$5:$58,8,FALSE),0) -> 0 | K67: =IFERROR(VLOOKUP($A67,Filtro!$5:$58,9,FALSE),0) -> 0 | L67: =IFERROR(VLOOKUP($A67,Filtro!$5:$58,10,FALSE),0) -> 0 | M67: =IFERROR(VLOOKUP($A67,Filtro!$5:$58,11,FALSE),0) -> 1 | N67: =IFERROR(VLOOKUP($A67,Filtro!$5:$58,12,FALSE),0) -> 0 | O67: =IFERROR(VLOOKUP($A67,Filtro!$5:$58,13,FALSE),0) -> 0 | P67: =IFERROR(VLOOKUP($A67,Filtro!$5:$58,14,FALSE),0) -> 0
A68: 15900080 | C68: Fórmula de Inicio (FI) | D68: =IFERROR(VLOOKUP($A68,Filtro!$5:$58,2,FALSE),0) -> 0 | E68: =IFERROR(VLOOKUP($A68,Filtro!$5:$58,3,FALSE),0) -> 0 | F68: =IFERROR(VLOOKUP($A68,Filtro!$5:$58,4,FALSE),0) -> 0 | G68: =IFERROR(VLOOKUP($A68,Filtro!$5:$58,5,FALSE),0) -> 0 | H68: =IFERROR(VLOOKUP($A68,Filtro!$5:$58,6,FALSE),0) -> 0 | I68: =IFERROR(VLOOKUP($A68,Filtro!$5:$58,7,FALSE),0) -> 0 | J68: =IFERROR(VLOOKUP($A68,Filtro!$5:$58,8,FALSE),0) -> 0 | K68: =IFERROR(VLOOKUP($A68,Filtro!$5:$58,9,FALSE),0) -> 0 | L68: =IFERROR(VLOOKUP($A68,Filtro!$5:$58,10,FALSE),0) -> 0 | M68: =IFERROR(VLOOKUP($A68,Filtro!$5:$58,11,FALSE),0) -> 0 | N68: =IFERROR(VLOOKUP($A68,Filtro!$5:$58,12,FALSE),0) -> 0 | O68: =IFERROR(VLOOKUP($A68,Filtro!$5:$58,13,FALSE),0) -> 0 | P68: =IFERROR(VLOOKUP($A68,Filtro!$5:$58,14,FALSE),0) -> 0
C69: Subtotal | D69: =SUM(E69:P69) -> 37 | E69: =SUM(E62:E68) -> 0 | F69: =SUM(F62:F68) -> 0 | G69: =SUM(G62:G68) -> 0 | H69: =SUM(H62:H66) -> 0 | I69: =SUM(I62:I66) -> 2 | J69: =SUM(J62:J66) -> 26 | K69: =SUM(K62:K66) -> 8 | L69: =SUM(L62:L63) -> 0 | M69: =SUM(M62:M68) -> 1 | N69: =SUM(N62:N68) -> 0 | O69: =SUM(O62:O68) -> 0 | P69: =SUM(P62:P68) -> 0
A70: 15040100 | B70: Prematuros | C70: Fórmula de Prematuros (FP) | D70: =IFERROR(VLOOKUP($A70,Filtro!$5:$58,2,FALSE),0) -> 38.4 | E70: =IFERROR(VLOOKUP($A70,Filtro!$5:$58,3,FALSE),0) -> 22.4 | F70: =IFERROR(VLOOKUP($A70,Filtro!$5:$58,4,FALSE),0) -> 16 | G70: =IFERROR(VLOOKUP($A70,Filtro!$5:$58,5,FALSE),0) -> 0 | H70: =IFERROR(VLOOKUP($A70,Filtro!$5:$58,6,FALSE),0) -> 0 | I70: =IFERROR(VLOOKUP($A70,Filtro!$5:$58,7,FALSE),0) -> 0 | J70: =IFERROR(VLOOKUP($A70,Filtro!$5:$58,8,FALSE),0) -> 0 | K70: =IFERROR(VLOOKUP($A70,Filtro!$5:$58,9,FALSE),0) -> 0 | L70: =IFERROR(VLOOKUP($A70,Filtro!$5:$58,10,FALSE),0) -> 0 | M70: =IFERROR(VLOOKUP($A70,Filtro!$5:$58,11,FALSE),0) -> 0 | N70: =IFERROR(VLOOKUP($A70,Filtro!$5:$58,12,FALSE),0) -> 0 | O70: =IFERROR(VLOOKUP($A70,Filtro!$5:$58,13,FALSE),0) -> 0 | P70: =IFERROR(VLOOKUP($A70,Filtro!$5:$58,14,FALSE),0) -> 0
A71: 15901600 | C71: Fórmula de Incio (FI) | D71: =IFERROR(VLOOKUP($A71,Filtro!$5:$58,2,FALSE),0) -> 0 | E71: =IFERROR(VLOOKUP($A71,Filtro!$5:$58,3,FALSE),0) -> 0 | F71: =IFERROR(VLOOKUP($A71,Filtro!$5:$58,4,FALSE),0) -> 0 | G71: =IFERROR(VLOOKUP($A71,Filtro!$5:$58,5,FALSE),0) -> 0 | H71: =IFERROR(VLOOKUP($A71,Filtro!$5:$58,6,FALSE),0) -> 0 | I71: =IFERROR(VLOOKUP($A71,Filtro!$5:$58,7,FALSE),0) -> 0 | J71: =IFERROR(VLOOKUP($A71,Filtro!$5:$58,8,FALSE),0) -> 0 | K71: =IFERROR(VLOOKUP($A71,Filtro!$5:$58,9,FALSE),0) -> 0 | L71: =IFERROR(VLOOKUP($A71,Filtro!$5:$58,10,FALSE),0) -> 0 | M71: =IFERROR(VLOOKUP($A71,Filtro!$5:$58,11,FALSE),0) -> 0 | N71: =IFERROR(VLOOKUP($A71,Filtro!$5:$58,12,FALSE),0) -> 0 | O71: =IFERROR(VLOOKUP($A71,Filtro!$5:$58,13,FALSE),0) -> 0 | P71: =IFERROR(VLOOKUP($A71,Filtro!$5:$58,14,FALSE),0) -> 0
A72: 15080013 | C72: Mi Sopita (MS) | D72: =IFERROR(VLOOKUP($A72,Filtro!$5:$58,2,FALSE),0) -> 0 | E72: =IFERROR(VLOOKUP($A72,Filtro!$5:$58,3,FALSE),0) -> 0 | F72: =IFERROR(VLOOKUP($A72,Filtro!$5:$58,4,FALSE),0) -> 0 | G72: =IFERROR(VLOOKUP($A72,Filtro!$5:$58,5,FALSE),0) -> 0 | H72: =IFERROR(VLOOKUP($A72,Filtro!$5:$58,6,FALSE),0) -> 0 | I72: =IFERROR(VLOOKUP($A72,Filtro!$5:$58,7,FALSE),0) -> 0 | J72: =IFERROR(VLOOKUP($A72,Filtro!$5:$58,8,FALSE),0) -> 0 | K72: =IFERROR(VLOOKUP($A72,Filtro!$5:$58,9,FALSE),0) -> 0 | L72: =IFERROR(VLOOKUP($A72,Filtro!$5:$58,10,FALSE),0) -> 0 | M72: =IFERROR(VLOOKUP($A72,Filtro!$5:$58,11,FALSE),0) -> 0 | N72: =IFERROR(VLOOKUP($A72,Filtro!$5:$58,12,FALSE),0) -> 0 | O72: =IFERROR(VLOOKUP($A72,Filtro!$5:$58,13,FALSE),0) -> 0 | P72: =IFERROR(VLOOKUP($A72,Filtro!$5:$58,14,FALSE),0) -> 0
C73: Subtotal | D73: =SUM(E73:P73) -> 38.4 | E73: =SUM(E70:E72) -> 22.4 | F73: =SUM(F70:F72) -> 16 | G73: =SUM(G70:G72) -> 0
A74: 15901200 | B74: Alergia a la proteína de la leche de vaca | C74: Fórmula Extensamente Hidrolizada (FEH) | D74: =IFERROR(VLOOKUP($A74,Filtro!$5:$58,2,FALSE),0) -> 744 | E74: =IFERROR(VLOOKUP($A74,Filtro!$5:$58,3,FALSE),0) -> 30.8 | F74: =IFERROR(VLOOKUP($A74,Filtro!$5:$58,4,FALSE),0) -> 77.6 | G74: =IFERROR(VLOOKUP($A74,Filtro!$5:$58,5,FALSE),0) -> 311.6 | H74: =IFERROR(VLOOKUP($A74,Filtro!$5:$58,6,FALSE),0) -> 215.6 | I74: =IFERROR(VLOOKUP($A74,Filtro!$5:$58,7,FALSE),0) -> 108.4 | J74: =IFERROR(VLOOKUP($A74,Filtro!$5:$58,8,FALSE),0) -> 0 | K74: =IFERROR(VLOOKUP($A74,Filtro!$5:$58,9,FALSE),0) -> 0 | L74: =IFERROR(VLOOKUP($A74,Filtro!$5:$58,10,FALSE),0) -> 0 | M74: =IFERROR(VLOOKUP($A74,Filtro!$5:$58,11,FALSE),0) -> 0 | N74: =IFERROR(VLOOKUP($A74,Filtro!$5:$58,12,FALSE),0) -> 0 | O74: =IFERROR(VLOOKUP($A74,Filtro!$5:$58,13,FALSE),0) -> 0 | P74: =IFERROR(VLOOKUP($A74,Filtro!$5:$58,14,FALSE),0) -> 0
A75: 15901300 | C75: Fórmula Aminoacídica (FAA) | D75: =IFERROR(VLOOKUP($A75,Filtro!$5:$58,2,FALSE),0) -> 418 | E75: =IFERROR(VLOOKUP($A75,Filtro!$5:$58,3,FALSE),0) -> 10.4 | F75: =IFERROR(VLOOKUP($A75,Filtro!$5:$58,4,FALSE),0) -> 41.6 | G75: =IFERROR(VLOOKUP($A75,Filtro!$5:$58,5,FALSE),0) -> 212 | H75: =IFERROR(VLOOKUP($A75,Filtro!$5:$58,6,FALSE),0) -> 77.6 | I75: =IFERROR(VLOOKUP($A75,Filtro!$5:$58,7,FALSE),0) -> 71.6 | J75: =IFERROR(VLOOKUP($A75,Filtro!$5:$58,8,FALSE),0) -> 4.8 | K75: =IFERROR(VLOOKUP($A75,Filtro!$5:$58,9,FALSE),0) -> 0 | L75: =IFERROR(VLOOKUP($A75,Filtro!$5:$58,10,FALSE),0) -> 0 | M75: =IFERROR(VLOOKUP($A75,Filtro!$5:$58,11,FALSE),0) -> 0 | N75: =IFERROR(VLOOKUP($A75,Filtro!$5:$58,12,FALSE),0) -> 0 | O75: =IFERROR(VLOOKUP($A75,Filtro!$5:$58,13,FALSE),0) -> 0 | P75: =IFERROR(VLOOKUP($A75,Filtro!$5:$58,14,FALSE),0) -> 0
C76: Subtotal | D76: =SUM(E76:P76) -> 1162 | E76: =SUM(E74:E75) -> 41.2 | F76: =SUM(F74:F75) -> 119.2 | G76: =SUM(G74:G75) -> 523.6 | H76: =SUM(H74:H75) -> 293.2 | I76: =SUM(I74:I75) -> 180 | J76: =SUM(J74:J75) -> 4.8 | K76: =SUM(K74:K75) -> 0
B77: Total | D77: =SUM(E77:P77) -> 3266.4 | E77: =+E61+E69+E73+E76 -> 81.6 | F77: =+F61+F69+F73+F76 -> 198.2 | G77: =+G61+G69+G73+G76 -> 746.6 | H77: =+H61+H69+H73+H76 -> 729.2 | I77: =+I61+I69+I73+I76 -> 426 | J77: =+J61+J69+J73+J76 -> 599.8 | K77: =+K61+K69+K73+K76 -> 413 | L77: =+L61+L69+L73+L76 -> 17 | ... P77: =+P61+P69+P73+P76 -> 2
B79: Sección D: PNAC - Número de personas extrasistema que retiran
B80: Subprogramas | D80: Total | E80: Hombres | F80: Mujeres | G80: Menores a 6 años | N80: Gestantes | P80: Persona que amamanta a hijo/a menor a 12 meses
G81: 0 - 2 meses | H81: 3 - 5 meses | I81: 6 - 11 meses | J81: 12 - 17 meses | K81: 18 - 23 meses | L81: 24 - 47 meses | M81: 48 - 71 meses | N81: Normal, sobrepeso y obesas | O81: Bajo peso | P81: 0 a 5 meses con Lactancia Materna exclusiva | Q81: 0 a 5 meses Lactancia Materna + Fórmula Láctea | R81: 6 a 11 meses Lactancia Materna
A84: 15060100 | B84: Básico | D84: =IFERROR(VLOOKUP($A84,Filtro!$5:$58,2,FALSE),0) -> 1094 | E84: =IFERROR(VLOOKUP($A84,Filtro!$5:$58,3,FALSE),0) -> 498 | F84: =IFERROR(VLOOKUP($A84,Filtro!$5:$58,4,FALSE),0) -> 601 | G84: =IFERROR(VLOOKUP($A84,Filtro!$5:$58,5,FALSE),0) -> 12 | H84: =IFERROR(VLOOKUP($A84,Filtro!$5:$58,6,FALSE),0) -> 40 | I84: =IFERROR(VLOOKUP($A84,Filtro!$5:$58,7,FALSE),0) -> 118 | J84: =IFERROR(VLOOKUP($A84,Filtro!$5:$58,8,FALSE),0) -> 227 | K84: =IFERROR(VLOOKUP($A84,Filtro!$5:$58,9,FALSE),0) -> 123 | L84: =IFERROR(VLOOKUP($A84,Filtro!$5:$58,10,FALSE),0) -> 298 | M84: =IFERROR(VLOOKUP($A84,Filtro!$5:$58,11,FALSE),0) -> 221 | N84: =IFERROR(VLOOKUP($A84,Filtro!$5:$58,12,FALSE),0) -> 20 | O84: =IFERROR(VLOOKUP($A84,Filtro!$5:$58,13,FALSE),0) -> 0 | P84: =IFERROR(VLOOKUP($A84,Filtro!$5:$58,14,FALSE),0) -> 19 | Q84: =IFERROR(VLOOKUP($A84,Filtro!$5:$58,15,FALSE),0) -> 14 | R84: =IFERROR(VLOOKUP($A84,Filtro!$5:$58,16,FALSE),0) -> 2 | S84: =AA84&AB84 | AA84: =IF(AF84=1,"* La suma del Total según grupo etario, gestantes y Personas que amamantan no pueden superar al Total por Sexo. ","") | AF84: =IF(SUM(E84:F84)<SUM(G84:M84,N84,P84:R84),1,0) -> 0
A85: 15060200 | B85: Refuerzo | D85: =IFERROR(VLOOKUP($A85,Filtro!$5:$58,2,FALSE),0) -> 8 | E85: =IFERROR(VLOOKUP($A85,Filtro!$5:$58,3,FALSE),0) -> 6 | F85: =IFERROR(VLOOKUP($A85,Filtro!$5:$58,4,FALSE),0) -> 4 | G85: =IFERROR(VLOOKUP($A85,Filtro!$5:$58,5,FALSE),0) -> 0 | H85: =IFERROR(VLOOKUP($A85,Filtro!$5:$58,6,FALSE),0) -> 0 | I85: =IFERROR(VLOOKUP($A85,Filtro!$5:$58,7,FALSE),0) -> 0 | J85: =IFERROR(VLOOKUP($A85,Filtro!$5:$58,8,FALSE),0) -> 0 | K85: =IFERROR(VLOOKUP($A85,Filtro!$5:$58,9,FALSE),0) -> 1 | L85: =IFERROR(VLOOKUP($A85,Filtro!$5:$58,10,FALSE),0) -> 6 | M85: =IFERROR(VLOOKUP($A85,Filtro!$5:$58,11,FALSE),0) -> 1 | N85: =IFERROR(VLOOKUP($A85,Filtro!$5:$58,12,FALSE),0) -> 0 | O85: =IFERROR(VLOOKUP($A85,Filtro!$5:$58,13,FALSE),0) -> 0 | P85: =IFERROR(VLOOKUP($A85,Filtro!$5:$58,14,FALSE),0) -> 0 | Q85: =IFERROR(VLOOKUP($A85,Filtro!$5:$58,15,FALSE),0) -> 0 | R85: =IFERROR(VLOOKUP($A85,Filtro!$5:$58,16,FALSE),0) -> 0 | S85: =AA85&AB85 | AA85: =IF(AF85=1,"* La suma del Total según grupo etario, gestantes y Personas que amamantan no pueden superar al Total por Sexo. ","") | AF85: =IF(D85<SUM(G85:M85,O85:R85),1,0) -> 0
A86: 15060600 | B86: Prematuros | D86: =IFERROR(VLOOKUP($A86,Filtro!$5:$58,2,FALSE),0) -> 10 | E86: =IFERROR(VLOOKUP($A86,Filtro!$5:$58,3,FALSE),0) -> 4 | F86: =IFERROR(VLOOKUP($A86,Filtro!$5:$58,4,FALSE),0) -> 6 | G86: =IFERROR(VLOOKUP($A86,Filtro!$5:$58,5,FALSE),0) -> 6 | H86: =IFERROR(VLOOKUP($A86,Filtro!$5:$58,6,FALSE),0) -> 4 | I86: =IFERROR(VLOOKUP($A86,Filtro!$5:$58,7,FALSE),0) -> 0 | J86: =IFERROR(VLOOKUP($A86,Filtro!$5:$58,8,FALSE),0) -> 0 | K86: =IFERROR(VLOOKUP($A86,Filtro!$5:$58,9,FALSE),0) -> 0 | L86: =IFERROR(VLOOKUP($A86,Filtro!$5:$58,10,FALSE),0) -> 0 | M86: =IFERROR(VLOOKUP($A86,Filtro!$5:$58,11,FALSE),0) -> 0 | N86: =IFERROR(VLOOKUP($A86,Filtro!$5:$58,12,FALSE),0) -> 0 | O86: =IFERROR(VLOOKUP($A86,Filtro!$5:$58,13,FALSE),0) -> 0 | P86: =IFERROR(VLOOKUP($A86,Filtro!$5:$58,14,FALSE),0) -> 0 | Q86: =IFERROR(VLOOKUP($A86,Filtro!$5:$58,15,FALSE),0) -> 0 | R86: =IFERROR(VLOOKUP($A86,Filtro!$5:$58,16,FALSE),0) -> 0 | S86: =AA86&AB86 | AA86: =IF(AF86=1,"* El Total según grupo etario no puede superar al Total por Sexo. ","") | AF86: =IF(D86<SUM(G86:M86),1,0) -> 0
A87: 15901400 | B87: Alergia a la Proteína de la leche de vaca | D87: =IFERROR(VLOOKUP($A87,Filtro!$5:$58,2,FALSE),0) -> 334 | E87: =IFERROR(VLOOKUP($A87,Filtro!$5:$58,3,FALSE),0) -> 205 | F87: =IFERROR(VLOOKUP($A87,Filtro!$5:$58,4,FALSE),0) -> 121 | G87: =IFERROR(VLOOKUP($A87,Filtro!$5:$58,5,FALSE),0) -> 14 | H87: =IFERROR(VLOOKUP($A87,Filtro!$5:$58,6,FALSE),0) -> 35 | I87: =IFERROR(VLOOKUP($A87,Filtro!$5:$58,7,FALSE),0) -> 147 | J87: =IFERROR(VLOOKUP($A87,Filtro!$5:$58,8,FALSE),0) -> 84 | K87: =IFERROR(VLOOKUP($A87,Filtro!$5:$58,9,FALSE),0) -> 53 | L87: =IFERROR(VLOOKUP($A87,Filtro!$5:$58,10,FALSE),0) -> 1 | M87: =IFERROR(VLOOKUP($A87,Filtro!$5:$58,11,FALSE),0) -> 0 | N87: =IFERROR(VLOOKUP($A87,Filtro!$5:$58,12,FALSE),0) -> 0 | O87: =IFERROR(VLOOKUP($A87,Filtro!$5:$58,13,FALSE),0) -> 0 | P87: =IFERROR(VLOOKUP($A87,Filtro!$5:$58,14,FALSE),0) -> 0 | Q87: =IFERROR(VLOOKUP($A87,Filtro!$5:$58,15,FALSE),0) -> 0 | R87: =IFERROR(VLOOKUP($A87,Filtro!$5:$58,16,FALSE),0) -> 0 | S87: =AA87&AB87 | AA87: =IF(AF87=1,"* El Total según grupo etario no puede superar al Total por Sexo. ","") | AF87: =IF(D87<SUM(G87:M87),1,0) -> 0
B88: Total | D88: =SUM(E88:F88) -> 1445 | E88: =SUM(E84:E87) -> 713 | F88: =SUM(F84:F87) -> 732 | G88: =SUM(G84:G87) -> 32 | H88: =SUM(H84:H87) -> 79 | I88: =SUM(I84:I87) -> 265 | J88: =SUM(J84:J87) -> 311 | K88: =SUM(K84:K87) -> 177 | L88: =SUM(L84:L87) -> 305 | M88: =SUM(M84:M87) -> 222 | N88: =SUM(N84) -> 20 | O88: =SUM(O85) -> 0 | P88: =SUM(P84:P85) -> 19 | Q88: =SUM(Q84:Q85) -> 14 | R88: =SUM(R84:R85) -> 2
A89: 15900090 | B89: Programas Sociales (*) | D89: =IFERROR(VLOOKUP($A89,Filtro!$5:$58,2,FALSE),0) -> 0 | E89: =IFERROR(VLOOKUP($A89,Filtro!$5:$58,3,FALSE),0) -> 0 | F89: =IFERROR(VLOOKUP($A89,Filtro!$5:$58,4,FALSE),0) -> 0 | G89: =IFERROR(VLOOKUP($A89,Filtro!$5:$58,5,FALSE),0) -> 0 | H89: =IFERROR(VLOOKUP($A89,Filtro!$5:$58,6,FALSE),0) -> 0 | I89: =IFERROR(VLOOKUP($A89,Filtro!$5:$58,7,FALSE),0) -> 0 | J89: =IFERROR(VLOOKUP($A89,Filtro!$5:$58,8,FALSE),0) -> 0 | K89: =IFERROR(VLOOKUP($A89,Filtro!$5:$58,9,FALSE),0) -> 0 | L89: =IFERROR(VLOOKUP($A89,Filtro!$5:$58,10,FALSE),0) -> 0 | M89: =IFERROR(VLOOKUP($A89,Filtro!$5:$58,11,FALSE),0) -> 0 | N89: =IFERROR(VLOOKUP($A89,Filtro!$5:$58,12,FALSE),0) -> 0 | O89: =IFERROR(VLOOKUP($A89,Filtro!$5:$58,13,FALSE),0) -> 0 | P89: =IFERROR(VLOOKUP($A89,Filtro!$5:$58,14,FALSE),0) -> 0 | Q89: =IFERROR(VLOOKUP($A89,Filtro!$5:$58,15,FALSE),0) -> 0 | R89: =IFERROR(VLOOKUP($A89,Filtro!$5:$58,16,FALSE),0) -> 0 | S89: =AA89&AC89&AB89 | AA89: =IF(AF89=1,"* La suma del Total según grupo etario, gestantes y Personas que amamantan no pueden superar al Total por Sexo. ","") | AB89: =IF(AG89=1,"* Compruebe que lo ingresado en Programas Sociales no supere al Total registrado en los subprogramas. ","") | AC89: =IF(AH89=1,"* El Total registrado en Programas Sociales no puede ser mayor al Total registrado en los subprogramas. ","") | AF89: =IF(SUM(E89:F89)<SUM(G89:R89),1,0) -> 0 | AG89: =IF(OR(E89>E88,F89>F88,G89>G88,H89>H88,I89>I88,J89>J88,K89>K88,L89>L88,M89>M88,N89>N88,O89>O88,P89>P88,Q89>Q88,R89>R88),1,0) -> 0 | AH89: =IF(D89>D88,1,0) -> 0
B90: Nota: (*) Información referencial, ya incluida en los subprogramas.
B92: Sección E: Existencia y movimiento total de productos (Intrasistema y Extrasistema)
B93: Productos | D93: Saldo Mes Anterior | E93: Ingresos | G93: Total Disponible | H93: Egresos | O93: Saldo mes siguiente
E94: Proveedor/Operador Logístico | F94: Por traspaso | H94: Distribuido a Población Beneficiaria | K94: Mermas (Incluye faltantes) | L94: Otros (demostraciones, donaciones, etc.) | M94: Traspaso | N94: Total Egresos
H95: Intrasistema | I95: Extrasistema | J95: Total
B96: Leche Purita Fortificada (LPF) | G96: =SUM(D96:F96) -> 0 | H96: =D13+D20 -> 20440 | I96: =+D55+D62 -> 566 | J96: =+H96+I96 -> 21006 | N96: =SUM(J96:M96) -> 21006 | O96: =G96-N96 -> -21006
B97: Purita +Pro 1 | G97: =SUM(D97:F97) -> 0 | H97: =D14+D21 -> 11341 | I97: =+D56+D63 -> 330 | J97: =+H97+I97 -> 11671 | N97: =SUM(J97:M97) -> 11671 | O97: =G97-N97 -> -11671
B98: Purita Cereal (PC) | G98: =SUM(D98:F98) -> 0 | H98: =D15+D22 -> 67301 | I98: =+D57+D64 -> 1086 | J98: =+H98+I98 -> 68387 | N98: =SUM(J98:M98) -> 68387 | O98: =G98-N98 -> -68387
B99: Purita +Pro 2 | G99: =SUM(D99:F99) -> 0 | H99: =D16+D23 -> 2 | I99: =+D58+D65 -> 0 | J99: =+H99+I99 -> 2 | N99: =SUM(J99:M99) -> 2 | O99: =G99-N99 -> -2
B100: Mi Sopita (MS) | G100: =SUM(D100:F100) -> 0 | H100: =D24+D30 -> 2937 | I100: =+D66+D72 -> 14 | J100: =+H100+I100 -> 2951 | N100: =SUM(J100:M100) -> 2951 | O100: =G100-N100 -> -2951
B101: Purita Mamá (PM) | G101: =SUM(D101:F101) -> 0 | H101: =+D17+D25 -> 22648 | I101: =+D59+D67 -> 70 | J101: =+H101+I101 -> 22718 | N101: =SUM(J101:M101) -> 22718 | O101: =G101-N101 -> -22718
B102: Fórmula de Inicio (FI) | G102: =SUM(D102:F102) -> 0 | H102: =D18+D26+D29 -> 23999.4 | I102: =+D60+D68+D71 -> 0 | J102: =+H102+I102 -> 23999.4 | N102: =SUM(J102:M102) -> 23999.4 | O102: =G102-N102 -> -23999.4
B103: Fórmula Prematuros | G103: =SUM(D103:F103) -> 0 | H103: =D28 -> 715.2 | I103: =D70 -> 38.4 | J103: =+H103+I103 -> 753.6 | N103: =SUM(J103:M103) -> 753.6 | O103: =G103-N103 -> -753.6
B104: Fórmula Extensamente Hidrolizada (FEH) | G104: =SUM(D104:F104) -> 0 | H104: =D32 -> 6238.8 | I104: =D74 -> 744 | J104: =+H104+I104 -> 6982.8 | N104: =SUM(J104:M104) -> 6982.8 | O104: =G104-N104 -> -6982.8
B105: Fórmula aminoacídica (FAA) | G105: =SUM(D105:F105) -> 0 | H105: =D33 -> 1087.2 | I105: =D75 -> 418 | J105: =+H105+I105 -> 1505.2 | N105: =SUM(J105:M105) -> 1505.2 | O105: =G105-N105 -> -1505.2
B106: Total (Kg) | D106: =SUM(D96:D105) -> 0 | E106: =SUM(E96:E105) -> 0 | F106: =SUM(F96:F105) -> 0 | G106: =SUM(G96:G105) -> 0 | H106: =SUM(H96:H105) -> 156709.6 | I106: =SUM(I96:I105) -> 3266.4 | J106: =SUM(J96:J105) -> 159976 | K106: =SUM(K96:K105) -> 0 | ... O106: =SUM(O96:O105) -> -159976
A111: Codigos eliminados
A112: 15030200
A113: 15040200
A115: CODIGOS NUEVOS
A116: 15080014
A117: 15080015
A118: 15080016
...

Sheet D16
B1: SERVICIO DE SALUD
B2: =CONCATENATE("COMUNA: ",[1]NOMBRE!$B$2," ","( ",[1]NOMBRE!$C$2,[1]NOMBRE!$D$2,[1]NOMBRE!$E$2,[1]NOMBRE!$F$2,[1]NOMBRE!$G$2," )") -> COMUNA: ( )
B3: =CONCATENATE("ESTABLECIMIENTO/ESTRATEGIA: ",[1]NOMBRE!$B$3," ","( ",[1]NOMBRE!$C$3,[1]NOMBRE!$D$3,[1]NOMBRE!$E$3,[1]NOMBRE!$F$3,[1]NOMBRE!$G$3,[1]NOMBRE!$H$3," )") -> ESTABLECIMIENTO/ESTRATEGIA: ( )
B4: =CONCATENATE("MES: ",[1]NOMBRE!$B$6," ","( ",[1]NOMBRE!$C$6,[1]NOMBRE!$D$6," )") -> MES: ( )
B5: =CONCATENATE("AÑO: ",[1]NOMBRE!$B$7) -> AÑO: 2023
B7: REM-D.16. Programa de Alimentación Complementaria del Adulto Mayor (PACAM)
B9: Sección A: PACAM - Cantidad distribuida (kg)
B10: Grupo Programático | C10: Sopa/Crema | D10: Bebida Láctea
A11: 16090300 | B11: 70 años y más (independiente del motivo de ingreso) | C11: =IFERROR(VLOOKUP($A11,Filtro!$5:$58,2,FALSE),0) -> 109182 | D11: =IFERROR(VLOOKUP($A11,Filtro!$5:$58,3,FALSE),0) -> 109187 | E11: =$AB11&" "&$AC11 -> La cantidad distribuída de Sopa/Crema es distinta a la cantidad distribuída de Bebida Láctea.- | AB11: =IF(C11<>D11,"La cantidad distribuída de Sopa/Crema es distinta a la cantidad distribuída de Bebida Láctea.- ","") -> La cantidad distribuída de Sopa/Crema es distinta a la cantidad distribuída de Bebida Láctea.-
A12: 16200210 | B12: 65 - 69 años con alteración de la funcionalidad | C12: =IFERROR(VLOOKUP($A12,Filtro!$5:$58,2,FALSE),0) -> 7711 | D12: =IFERROR(VLOOKUP($A12,Filtro!$5:$58,3,FALSE),0) -> 7712 | E12: =$AB12&" "&$AC12 -> La cantidad distribuída de Sopa/Crema es distinta a la cantidad distribuída de Bebida Láctea.- | AB12: =IF(C12<>D12,"La cantidad distribuída de Sopa/Crema es distinta a la cantidad distribuída de Bebida Láctea.- ","") -> La cantidad distribuída de Sopa/Crema es distinta a la cantidad distribuída de Bebida Láctea.-
A13: 16090500 | B13: 65 - 69 años en programa social (Vínculos, Familia, Calle u otro) | C13: =IFERROR(VLOOKUP($A13,Filtro!$5:$58,2,FALSE),0) -> 229 | D13: =IFERROR(VLOOKUP($A13,Filtro!$5:$58,3,FALSE),0) -> 229 | E13: =$AB13&" "&$AC13 | AB13: =IF(C13<>D13,"La cantidad distribuída de Sopa/Crema es distinta a la cantidad distribuída de Bebida Láctea.- ","")
A14: 16090600 | B14: 60 - 69 años con tuberculosis | C14: =IFERROR(VLOOKUP($A14,Filtro!$5:$58,2,FALSE),0) -> 27 | D14: =IFERROR(VLOOKUP($A14,Filtro!$5:$58,3,FALSE),0) -> 27 | E14: =$AB14&" "&$AC14 | AB14: =IF(C14<>D14,"La cantidad distribuída de Sopa/Crema es distinta a la cantidad distribuída de Bebida Láctea.- ","")
A15: 16090100 | B15: 60 - 69 años en ELEAM autorizado o similar | C15: =IFERROR(VLOOKUP($A15,Filtro!$5:$58,2,FALSE),0) -> 412 | D15: =IFERROR(VLOOKUP($A15,Filtro!$5:$58,3,FALSE),0) -> 412 | E15: =$AB15&" "&$AC15 | AB15: =IF(C15<>D15,"La cantidad distribuída de Sopa/Crema es distinta a la cantidad distribuída de Bebida Láctea.- ","")
B16: TOTAL | C16: =SUM(C11:C15) -> 117561 | D16: =SUM(D11:D15) -> 117567
B18: Sección B: PACAM - Número de personas que retiran
B19: Grupo Programático | C19: Sopa/Crema - Bebida Láctea
C20: Total | D20: Total Hombres | E20: Total Mujeres
A21: 16100300 | B21: 70 años y más (independiente del motivo de ingreso | C21: =IFERROR(VLOOKUP($A21,Filtro!5:58,2,FALSE),0) -> 109269 | D21: =IFERROR(VLOOKUP($A21,Filtro!5:58,3,FALSE),0) -> 46512 | E21: =IFERROR(VLOOKUP($A21,Filtro!5:58,4,FALSE),0) -> 62757 | F21: =$AA21 -> No olvide que el Nº de personas que retiran debe ser igual al promedio de Kilos que retiran en Seccion A.- | AA21: =IF(((C11+D11)/2)<>(D21+E21)," No olvide que el Nº de personas que retiran debe ser igual al promedio de Kilos que retiran en Seccion A.-","") -> No olvide que el Nº de personas que retiran debe ser igual al promedio de Kilos que retiran en Seccion A.- | AC21: =IF($D21+$E21=0,"",IF($C11+$D11="",IF($D21+$E21="",0,1),"")) | AD21: =IF(D21+E21=0,"",IF(C11+D11=0,"",IF(((C11+D11)/2)<>D21+E21,1,0))) -> 1
A22: 16200220 | B22: 65 - 69 años con alteración de la funcionalidad | C22: =IFERROR(VLOOKUP($A22,Filtro!6:59,2,FALSE),0) -> 7716 | D22: =IFERROR(VLOOKUP($A22,Filtro!6:59,3,FALSE),0) -> 2952 | E22: =IFERROR(VLOOKUP($A22,Filtro!6:59,4,FALSE),0) -> 4764 | F22: =$AA22 -> No olvide que el Nº de personas que retiran debe ser igual al promedio de Kilos que retiran en Seccion A.- | AA22: =IF(((C12+D12)/2)<>(D22+E22)," No olvide que el Nº de personas que retiran debe ser igual al promedio de Kilos que retiran en Seccion A.-","") -> No olvide que el Nº de personas que retiran debe ser igual al promedio de Kilos que retiran en Seccion A.- | AC22: =IF($D22+$E22=0,"",IF($C12+$D12="",IF($D22+$E22="",0,1),"")) | AD22: =IF(D22+E22=0,"",IF(C12+D12=0,"",IF(((C12+D12)/2)<>D22+E22,1,0))) -> 1
A23: 16100600 | B23: 65 - 69 años en programa social (Vínculos, Familia, Calle u otro) | C23: =IFERROR(VLOOKUP($A23,Filtro!7:60,2,FALSE),0) -> 234 | D23: =IFERROR(VLOOKUP($A23,Filtro!7:60,3,FALSE),0) -> 83 | E23: =IFERROR(VLOOKUP($A23,Filtro!7:60,4,FALSE),0) -> 151 | F23: =$AA23 -> No olvide que el Nº de personas que retiran debe ser igual al promedio de Kilos que retiran en Seccion A.- | AA23: =IF(((C13+D13)/2)<>(D23+E23)," No olvide que el Nº de personas que retiran debe ser igual al promedio de Kilos que retiran en Seccion A.-","") -> No olvide que el Nº de personas que retiran debe ser igual al promedio de Kilos que retiran en Seccion A.- | AC23: =IF($D23+$E23=0,"",IF($C13+$D13="",IF($D23+$E23="",0,1),"")) | AD23: =IF(D23+E23=0,"",IF(C13+D13=0,"",IF(((C13+D13)/2)<>D23+E23,1,0))) -> 1
A24: 16100700 | B24: 60 - 69 años con tuberculosis | C24: =IFERROR(VLOOKUP($A24,Filtro!8:61,2,FALSE),0) -> 22 | D24: =IFERROR(VLOOKUP($A24,Filtro!8:61,3,FALSE),0) -> 18 | E24: =IFERROR(VLOOKUP($A24,Filtro!8:61,4,FALSE),0) -> 4 | F24: =$AA24 -> No olvide que el Nº de personas que retiran debe ser igual al promedio de Kilos que retiran en Seccion A.- | AA24: =IF(((C14+D14)/2)<>(D24+E24)," No olvide que el Nº de personas que retiran debe ser igual al promedio de Kilos que retiran en Seccion A.-","") -> No olvide que el Nº de personas que retiran debe ser igual al promedio de Kilos que retiran en Seccion A.- | AC24: =IF($D24+$E24=0,"",IF($C14+$D14="",IF($D24+$E24="",0,1),"")) | AD24: =IF(D24+E24=0,"",IF(C14+D14=0,"",IF(((C14+D14)/2)<>D24+E24,1,0))) -> 1
A25: 16100100 | B25: 60 - 69 años en ELEAM autorizado o similar | C25: =IFERROR(VLOOKUP($A25,Filtro!9:62,2,FALSE),0) -> 412 | D25: =IFERROR(VLOOKUP($A25,Filtro!9:62,3,FALSE),0) -> 178 | E25: =IFERROR(VLOOKUP($A25,Filtro!9:62,4,FALSE),0) -> 234 | F25: =$AA25 | AA25: =IF(((C15+D15)/2)<>(D25+E25)," No olvide que el Nº de personas que retiran debe ser igual al promedio de Kilos que retiran en Seccion A.-","") | AC25: =IF($D25+$E25=0,"",IF($C15+$D15="",IF($D25+$E25="",0,1),"")) | AD25: =IF(D25+E25=0,"",IF(C15+D15=0,"",IF(((C15+D15)/2)<>D25+E25,1,0))) -> 0
B26: TOTAL | C26: =SUM(C21:C25) -> 117653 | D26: =SUM(D21:D25) -> 49743 | E26: =SUM(E21:E25) -> 67910
B28: Sección C: Existencia y movimiento de productos
B29: Productos | C29: Saldo mes anterior | D29: Ingresos | F29: Total disponible | G29: Egresos | L29: Saldo mes siguiente
D30: Proveedor/Operador Logístico | E30: Por traspaso | G30: Distribuido a población beneficiaria | H30: Mermas (Incluye faltantes) | I30: Otros: (demostraciones, donaciones, etc.) | J30: Traspaso | K30: Total egresos
B32: Sopa/Crema | F32: =SUM(C32:E32) -> 0 | G32: =C16 -> 117561 | K32: =SUM(G32:J32) -> 117561 | L32: =F32-K32 -> -117561
B33: Bebida Láctea | F33: =SUM(C33:E33) -> 0 | G33: =D16 -> 117567 | K33: =SUM(G33:J33) -> 117567 | L33: =F33-K33 -> -117567
B35: Sección D: PACAM - Número de personas que retiran, pertenecientes al PRAIS (incluidos en Sección B)
B36: Grupo Programático | C36: Sopa/Crema - Bebida Láctea
C37: Total | D37: Total Hombres | E37: Total Mujeres
A38: 16200100 | B38: 70 años y más (independiente del motivo de ingreso | C38: =IFERROR(VLOOKUP($A38,Filtro!$5:$58,2,FALSE),0) -> 1702 | D38: =IFERROR(VLOOKUP($A38,Filtro!$5:$58,3,FALSE),0) -> 908 | E38: =IFERROR(VLOOKUP($A38,Filtro!$5:$58,4,FALSE),0) -> 794
A39: 16200230 | B39: 65 - 69 años con alteración de la funcionalidad | C39: =IFERROR(VLOOKUP($A39,Filtro!$5:$58,2,FALSE),0) -> 52 | D39: =IFERROR(VLOOKUP($A39,Filtro!$5:$58,3,FALSE),0) -> 22 | E39: =IFERROR(VLOOKUP($A39,Filtro!$5:$58,4,FALSE),0) -> 30
A40: 16200240 | B40: 65 - 69 años en programa social (Vínculos, Familia, Calle u otro) | C40: =IFERROR(VLOOKUP($A40,Filtro!$5:$58,2,FALSE),0) -> 2 | D40: =IFERROR(VLOOKUP($A40,Filtro!$5:$58,3,FALSE),0) -> 2 | E40: =IFERROR(VLOOKUP($A40,Filtro!$5:$58,4,FALSE),0) -> 0
A41: 16200200 | B41: 60 - 69 años con tuberculosis | C41: =IFERROR(VLOOKUP($A41,Filtro!$5:$58,2,FALSE),0) -> 0 | D41: =IFERROR(VLOOKUP($A41,Filtro!$5:$58,3,FALSE),0) -> 0 | E41: =IFERROR(VLOOKUP($A41,Filtro!$5:$58,4,FALSE),0) -> 0
A42: 16200250 | B42: 60 - 69 años en ELEAM autorizado o similar | C42: =IFERROR(VLOOKUP($A42,Filtro!$5:$58,2,FALSE),0) -> 0 | D42: =IFERROR(VLOOKUP($A42,Filtro!$5:$58,3,FALSE),0) -> 0 | E42: =IFERROR(VLOOKUP($A42,Filtro!$5:$58,4,FALSE),0) -> 0
B43: TOTAL | C43: =SUM(C38:C42) -> 1756 | D43: =SUM(D38:D42) -> 932 | E43: =SUM(E38:E42) -> 824
A48: CODIGOS ELIMINADOS
A49: 16200260
A50: 16200270
B209: =SUM(B9:O43) -> 1183020 | AE209: =SUM(AE1:AF208) -> 0

Sheet Filtro
A1: COMUNA | B1: (Todas)
A2: IdEstablecimiento | B2: (Todas)
A3: Mes | B3: (Todas)
A5: Etiquetas de fila | B5: Suma de Col01 | C5: Suma de Col02 | D5: Suma de Col03 | E5: Suma de Col04 | F5: Suma de Col05 | G5: Suma de Col06 | H5: Suma de Col07 | I5: Suma de Col08 | J5: Suma de Col09 | K5: Suma de Col10 | L5: Suma de Col11 | M5: Suma de Col12 | N5: Suma de Col13 | O5: Suma de Col14 | P5: Suma de Col15
A6: 15010200 | B6: 211 | G6: 12 | H6: 118 | I6: 81
A7: 15900010 | B7: 68.8 | D7: 10.4 | E7: 58.4
A8: 15010100 | B8: 20035 | F8: 13808 | G8: 6087 | H8: 2 | I8: 6 | J8: 65 | K8: 0 | L8: 34 | M8: 19 | N8: 14
A9: 15010200 | B9: 65882 | G9: 5690 | H9: 32385 | I9: 27807
A10: 15010300 | B10: 405 | F10: 295 | G10: 110 | H10: 0 | I10: 0 | J10: 0 | K10: 0 | L10: 0 | M10: 0 | N10: 0
A11: 15010400 | B11: 1419 | G11: 108 | H11: 824 | I11: 487
A12: 15010500 | B12: 2927 | D12: 8 | E12: 462 | F12: 434 | G12: 328 | H12: 1074 | I12: 621
A13: 15020100 | B13: 564 | C13: 8 | D13: 32 | E13: 134 | F13: 314 | G13: 74 | H13: 0 | I13: 0 | J13: 0 | K13: 0 | L13: 0 | M13: 2 | N13: 0
A14: 15020200 | B14: 1066 | G14: 92 | H14: 569 | I14: 405
A15: 15020300 | B15: 2 | G15: 2
A16: 15020400 | B16: 20 | G16: 0 | H16: 14 | I16: 6
A17: 15020500 | B17: 14 | D17: 0 | E17: 0 | F17: 0 | G17: 0 | H17: 12 | I17: 2
A18: 15030100 | B18: 715.2 | C18: 267.6 | D18: 218.8 | E18: 228.8
A19: 15040100 | B19: 38.4 | C19: 22.4 | D19: 16
A20: 15050100 | B20: 76441 | C20: 30463 | D20: 46115 | E20: 867 | F20: 2104 | G20: 6248 | H20: 9807 | I20: 8442 | J20: 16351 | K20: 14185 | L20: 10365 | N20: 3932 | O20: 1320 | P20: 2820
A21: 15050200 | B21: 1795 | C21: 907 | D21: 853 | E21: 35 | F21: 56 | G21: 244 | H21: 228 | I21: 165 | J21: 544 | K21: 314 | M21: 168 | N21: 26 | O21: 6 | P21: 9
A22: 15050500 | B22: 277 | C22: 149 | D22: 125 | E22: 81 | F22: 68 | G22: 128
A23: 15060100 | B23: 1094 | C23: 498 | D23: 601 | E23: 12 | F23: 40 | G23: 118 | H23: 227 | I23: 123 | J23: 298 | K23: 221 | L23: 20 | N23: 19 | O23: 14 | P23: 2
A24: 15060200 | B24: 8 | C24: 6 | D24: 4 | E24: 0 | F24: 0 | G24: 0 | H24: 0 | I24: 1 | J24: 6 | K24: 1 | M24: 0 | N24: 0 | O24: 0 | P24: 0
A25: 15060600 | B25: 10 | C25: 4 | D25: 6 | E25: 6 | F25: 4
A26: 15080008 | B26: 22048 | J26: 10265 | L26: 7657 | M26: 1311 | N26: 2815
A27: 15080009 | B27: 600 | K27: 498 | L27: 81 | M27: 11 | N27: 10
A28: 15080010 | B28: 69 | J28: 17 | L28: 36 | M28: 14 | N28: 2
A29: 15080011 | B29: 1 | K29: 1 | L29: 0 | M29: 0 | N29: 0
A30: 15080012 | B30: 10 | D30: 0 | E30: 10
A31: 15080014 | B31: 10702 | F31: 5892 | G31: 4759 | H31: 0 | I31: 1 | J31: 27 | K31: 0 | L31: 15 | M31: 2 | N31: 6
A32: 15080015 | B32: 2 | I32: 2
A33: 15080016 | B33: 639 | F33: 143 | G33: 108 | H33: 256 | I33: 127 | J33: 0 | K33: 6 | L33: 3 | M33: 0 | N33: 0
A34: 15080018 | B34: 330 | C34: 10 | D34: 31 | E34: 89 | F34: 122 | G34: 78 | H34: 0 | I34: 0 | J34: 0 | K34: 0 | L34: 0 | M34: 0 | N34: 0
A35: 15900010 | B35: 22841.5 | C35: 1861.8 | D35: 5432.4 | E35: 15547.3
A36: 15900020 | B36: 917.5 | C36: 91 | D36: 161.2 | E36: 665.3
A37: 15900030 | B37: 6238.8 | C37: 98 | D37: 278.8 | E37: 4900.4 | F37: 550.4 | G37: 380 | H37: 31.2 | I37: 0
A38: 15900040 | B38: 1087.2 | C38: 37.2 | D38: 208 | E38: 518 | F38: 252 | G38: 48 | H38: 10.8 | I38: 13.2
A39: 15900050 | B39: 960 | C39: 509 | D39: 403 | E39: 50 | F39: 139 | G39: 395 | H39: 231 | I39: 126 | J39: 16 | K39: 3
A40: 15901200 | B40: 744 | C40: 30.8 | D40: 77.6 | E40: 311.6 | F40: 215.6 | G40: 108.4 | H40: 0 | I40: 0
A41: 15901300 | B41: 418 | C41: 10.4 | D41: 41.6 | E41: 212 | F41: 77.6 | G41: 71.6 | H41: 4.8 | I41: 0
A42: 15901400 | B42: 334 | C42: 205 | D42: 121 | E42: 14 | F42: 35 | G42: 147 | H42: 84 | I42: 53 | J42: 1 | K42: 0
A43: 15901500 | B43: 240.4 | C43: 14.1 | D43: 35.8 | E43: 190.5
A44: 16090100 | B44: 412 | C44: 412
A45: 16090300 | B45: 109182 | C45: 109187
A46: 16090500 | B46: 229 | C46: 229
A47: 16090600 | B47: 27 | C47: 27
A48: 16100100 | B48: 412 | C48: 178 | D48: 234
A49: 16100300 | B49: 109269 | C49: 46512 | D49: 62757
A50: 16100600 | B50: 234 | C50: 83 | D50: 151
A51: 16100700 | B51: 22 | C51: 18 | D51: 4
A52: 16200100 | B52: 1702 | C52: 908 | D52: 794
A53: 16200210 | B53: 7711 | C53: 7712
A54: 16200220 | B54: 7716 | C54: 2952 | D54: 4764
A55: 16200230 | B55: 52 | C55: 22 | D55: 30
A56: 16200240 | B56: 2 | C56: 2
A57: (en blanco)
A58: Total general | B58: 478144.8 | C58: 203434.3 | D58: 123513.6 | E58: 24392.3 | F58: 24549.6 | G58: 25336 | H58: 45877.8 | I58: 38468.2 | J58: 27590 | K58: 15229 | L58: 18211 | M58: 1527 | N58: 6824 | O58: 1340 | P58: 2831
