Workbook

Sheet D15
B1: SERVICIO DE SALUD
B2: =CONCATENATE("COMUNA: ",[1]NOMBRE!$B$2," ","( ",[1]NOMBRE!$C$2,[1]NOMBRE!$D$2,[1]NOMBRE!$E$2,[1]NOMBRE!$F$2,[1]NOMBRE!$G$2," )") -> COMUNA: ( )
B3: =CONCATENATE("ESTABLECIMIENTO/ESTRATEGIA: ",[1]NOMBRE!$B$3," ","( ",[1]NOMBRE!$C$3,[1]NOMBRE!$D$3,[1]NOMBRE!$E$3,[1]NOMBRE!$F$3,[1]NOMBRE!$G$3,[1]NOMBRE!$H$3," )") -> ESTABLECIMIENTO/ESTRATEGIA: ( )
B4: =CONCATENATE("MES: ",[1]NOMBRE!$B$6," ","( ",[1]NOMBRE!$C$6,[1]NOMBRE!$D$6," )") -> MES: ( )
B5: AÑO: 2025
B7: REM-D.15 - Programa Nacional de Alimentación Complementaria (PNAC)
B8: Sección A: PNAC - Cantidad distribuida (kg) a personas intrasistema
B9: Subprogramas | C9: Productos | D9: Total | E9: Menores a 6 años | L9: Gestantes | N9: Persona que amamanta a hijo/a menor a 12 meses
E10: 0 - 2 meses | F10: 3 - 5 meses | G10: 6 - 11 meses | H10: 12 - 17 meses | I10: 18 - 23 meses | J10: 24 - 47 meses | K10: 48 - 71 meses | L10: Normal, sobrepeso y obesas | M10: Bajo peso | N10: 0 a 5 meses con Lactancia Materna exclusiva | O10: 0 a 5 meses Lactancia Materna + Fórmula Láctea | P10: 6 a 11 meses Lactancia Materna
A13: 15080014 | B13: Básico | C13: Purita +Pro 1 (PP1) | D13: =IFERROR(VLOOKUP($A13,Filtro_!$A$5:$N$52,2,FALSE),0) -> 90021 | E13: 0 | F13: 0 | G13: 0 | H13: =IFERROR(VLOOKUP($A13,Filtro_!$A$5:$N$52,6,FALSE),0) -> 45428 | I13: =IFERROR(VLOOKUP($A13,Filtro_!$A$5:$N$52,7,FALSE),0) -> 0 | J13: 0 | K13: 0 | L13: 0 | M13: 0 | N13: 0 | O13: 0 | P13: 0 | AB13: =IF(AND(OR(D13<>0),N37=""),"* No olvide digitar la Sección B, Número de personas intrasistema que retiran, en el grupo de Gestantes:Normal, Sobrepeso y Obesas.","") | AI13: =IF(AND(OR($D13<>0),$N$37=""),1,0) -> 0
A14: 15080015 | C14: Purita +Pro 2 (PP2) | D14: =IFERROR(VLOOKUP($A14,Filtro_!$A$5:$N$52,2,FALSE),0) -> 164703 | E14: 0 | F14: 0 | G14: 0 | H14: 0 | I14: 0 | J14: =IFERROR(VLOOKUP($A14,Filtro_!$A$5:$N$52,8,FALSE),0) -> 634 | K14: =IFERROR(VLOOKUP($A14,Filtro_!$A$5:$N$52,9,FALSE),0) -> 0 | L14: =IFERROR(VLOOKUP($A14,Filtro_!$A$5:$N$52,10,FALSE),0) -> 244 | M14: 0 | N14: =IFERROR(VLOOKUP($A14,Filtro_!$A$5:$N$52,12,FALSE),0) -> 80 | O14: =IFERROR(VLOOKUP($A14,Filtro_!$A$5:$N$52,13,FALSE),0) -> 0 | P14: =IFERROR(VLOOKUP($A14,Filtro_!$A$5:$N$52,14,FALSE),0) -> 0 | Q14: =$AB14&$AC14&$AD14&$AE14 | AB14: =IF(AND(OR(D14<>0),N37=""),"* No olvide digitar la Sección B, Número de personas intrasistema que retiran, en el grupo de Gestantes:Normal, Sobrepeso y Obesas.","") | AI14: =IF(AND(OR($D14<>0),$N$37=""),1,0) -> 0
A15: 15080008 | C15: Purita Mamá (PM) | D15: =IFERROR(VLOOKUP($A15,Filtro_!$A$5:$N$52,2,FALSE),0) -> 39761 | E15: 0 | F15: 0 | G15: 0 | H15: 0 | I15: 0 | J15: 0 | K15: 0 | L15: =IFERROR(VLOOKUP($A15,Filtro_!$A$5:$N$52,10,FALSE),0) -> 10261 | M15: 0 | N15: =IFERROR(VLOOKUP($A15,Filtro_!$A$5:$N$52,12,FALSE),0) -> 5570 | O15: =IFERROR(VLOOKUP($A15,Filtro_!$A$5:$N$52,13,FALSE),0) -> 0 | P15: =IFERROR(VLOOKUP($A15,Filtro_!$A$5:$N$52,14,FALSE),0) -> 0 | Q15: =$AB15&$AC15&$AD15&$AE15 | AB15: =IF(AND(OR(D15<>0),N37=""),"* No olvide digitar la Sección B, Número de personas intrasistema que retiran, en el grupo de Gestantes:Normal, Sobrepeso y Obesas.","") | AI15: =IF(AND(OR($D15<>0),$N$37=""),1,0) -> 0
A16: 15900010 | C16: Fórmula de Inicio (FI) | D16: =IFERROR(VLOOKUP($A16,Filtro_!$A$5:$N$52,2,FALSE),0) -> 115724.4 | E16: =IFERROR(VLOOKUP($A16,Filtro_!$A$5:$N$52,3,FALSE),0) -> 5584.9 | F16: =IFERROR(VLOOKUP($A16,Filtro_!$A$5:$N$52,4,FALSE),0) -> 18199.9 | G16: =IFERROR(VLOOKUP($A16,Filtro_!$A$5:$N$52,5,FALSE),0) -> 91939.6 | H16: 0 | I16: 0 | J16: 0 | K16: 0 | L16: 0 | M16: 0 | N16: 0 | O16: 0 | P16: 0 | AB16: =IF(AND(OR(D16<>0),N37=""),"* No olvide digitar la Sección B, Número de personas intrasistema que retiran, en el grupo de Gestantes:Normal, Sobrepeso y Obesas.","") | AI16: =IF(AND(OR($D16<>0),$N$37=""),1,0) -> 0
C17: Subtotal | D17: =SUM(E17:P17) -> 177941.4 | E17: =SUM(E16) -> 5584.9 | F17: =SUM(F16) -> 18199.9 | G17: =SUM(G16) -> 91939.6 | H17: =SUM(H13) -> 45428 | I17: =SUM(I13) -> 0 | J17: =SUM(J14) -> 634 | K17: =SUM(K14) -> 0 | L17: =SUM(L14:L15) -> 10505 | N17: =SUM(N14:N15) -> 5650 | O17: =SUM(O14:O15) -> 0 | P17: =SUM(P14:P15) -> 0
A18: 15080016 | B18: Refuerzo | C18: Purita +Pro 1 (PP1) | D18: =IFERROR(VLOOKUP($A18,Filtro_!$A$5:$N$52,2,FALSE),0) -> 6082 | E18: =IFERROR(VLOOKUP($A18,Filtro_!$A$5:$N$52,3,FALSE),0) -> 0 | F18: =IFERROR(VLOOKUP($A18,Filtro_!$A$5:$N$52,4,FALSE),0) -> 0 | G18: =IFERROR(VLOOKUP($A18,Filtro_!$A$5:$N$52,5,FALSE),0) -> 0 | H18: =IFERROR(VLOOKUP($A18,Filtro_!$A$5:$N$52,6,FALSE),0) -> 722 | I18: =IFERROR(VLOOKUP($A18,Filtro_!$A$5:$N$52,7,FALSE),0) -> 2850 | J18: =IFERROR(VLOOKUP($A18,Filtro_!$A$5:$N$52,8,FALSE),0) -> 0 | K18: =IFERROR(VLOOKUP($A18,Filtro_!$A$5:$N$52,9,FALSE),0) -> 0 | L18: =IFERROR(VLOOKUP($A18,Filtro_!$A$5:$N$52,10,FALSE),0) -> 0 | M18: =IFERROR(VLOOKUP($A18,Filtro_!$A$5:$N$52,11,FALSE),0) -> 0 | N18: =IFERROR(VLOOKUP($A18,Filtro_!$A$5:$N$52,12,FALSE),0) -> 0 | O18: =IFERROR(VLOOKUP($A18,Filtro_!$A$5:$N$52,13,FALSE),0) -> 0 | P18: =IFERROR(VLOOKUP($A18,Filtro_!$A$5:$N$52,14,FALSE),0) -> 0
A19: 15080017 | C19: Purita +Pro 2 (PP2) | D19: =IFERROR(VLOOKUP($A19,Filtro_!$A$5:$N$52,2,FALSE),0) -> 1 | E19: =IFERROR(VLOOKUP($A19,Filtro_!$A$5:$N$52,3,FALSE),0) -> 0 | F19: =IFERROR(VLOOKUP($A19,Filtro_!$A$5:$N$52,4,FALSE),0) -> 0 | G19: =IFERROR(VLOOKUP($A19,Filtro_!$A$5:$N$52,5,FALSE),0) -> 0 | H19: =IFERROR(VLOOKUP($A19,Filtro_!$A$5:$N$52,6,FALSE),0) -> 0 | I19: =IFERROR(VLOOKUP($A19,Filtro_!$A$5:$N$52,7,FALSE),0) -> 0 | J19: =IFERROR(VLOOKUP($A19,Filtro_!$A$5:$N$52,8,FALSE),0) -> 0 | K19: =IFERROR(VLOOKUP($A19,Filtro_!$A$5:$N$52,9,FALSE),0) -> 1 | L19: =IFERROR(VLOOKUP($A19,Filtro_!$A$5:$N$52,10,FALSE),0) -> 0 | M19: =IFERROR(VLOOKUP($A19,Filtro_!$A$5:$N$52,11,FALSE),0) -> 0 | N19: =IFERROR(VLOOKUP($A19,Filtro_!$A$5:$N$52,12,FALSE),0) -> 0 | O19: =IFERROR(VLOOKUP($A19,Filtro_!$A$5:$N$52,13,FALSE),0) -> 0 | P19: =IFERROR(VLOOKUP($A19,Filtro_!$A$5:$N$52,14,FALSE),0) -> 0
A20: 15010500 | C20: Mi Sopita (MS) | D20: =IFERROR(VLOOKUP($A20,Filtro_!$A$5:$N$52,2,FALSE),0) -> 7217 | E20: =IFERROR(VLOOKUP($A20,Filtro_!$A$5:$N$52,3,FALSE),0) -> 0 | F20: =IFERROR(VLOOKUP($A20,Filtro_!$A$5:$N$52,4,FALSE),0) -> 41 | G20: =IFERROR(VLOOKUP($A20,Filtro_!$A$5:$N$52,5,FALSE),0) -> 1092 | H20: =IFERROR(VLOOKUP($A20,Filtro_!$A$5:$N$52,6,FALSE),0) -> 699 | I20: =IFERROR(VLOOKUP($A20,Filtro_!$A$5:$N$52,7,FALSE),0) -> 2818 | J20: =IFERROR(VLOOKUP($A20,Filtro_!$A$5:$N$52,8,FALSE),0) -> 0 | K20: =IFERROR(VLOOKUP($A20,Filtro_!$A$5:$N$52,9,FALSE),0) -> 0 | L20: =IFERROR(VLOOKUP($A20,Filtro_!$A$5:$N$52,10,FALSE),0) -> 0 | M20: =IFERROR(VLOOKUP($A20,Filtro_!$A$5:$N$52,11,FALSE),0) -> 0 | N20: =IFERROR(VLOOKUP($A20,Filtro_!$A$5:$N$52,12,FALSE),0) -> 0 | O20: =IFERROR(VLOOKUP($A20,Filtro_!$A$5:$N$52,13,FALSE),0) -> 0 | P20: =IFERROR(VLOOKUP($A20,Filtro_!$A$5:$N$52,14,FALSE),0) -> 0
A21: 15080009 | C21: Purita Mamá (PM) | D21: =IFERROR(VLOOKUP($A21,Filtro_!$A$5:$N$52,2,FALSE),0) -> 593 | E21: =IFERROR(VLOOKUP($A21,Filtro_!$A$5:$N$52,3,FALSE),0) -> 0 | F21: =IFERROR(VLOOKUP($A21,Filtro_!$A$5:$N$52,4,FALSE),0) -> 0 | G21: =IFERROR(VLOOKUP($A21,Filtro_!$A$5:$N$52,5,FALSE),0) -> 0 | H21: =IFERROR(VLOOKUP($A21,Filtro_!$A$5:$N$52,6,FALSE),0) -> 0 | I21: =IFERROR(VLOOKUP($A21,Filtro_!$A$5:$N$52,7,FALSE),0) -> 0 | J21: =IFERROR(VLOOKUP($A21,Filtro_!$A$5:$N$52,8,FALSE),0) -> 0 | K21: =IFERROR(VLOOKUP($A21,Filtro_!$A$5:$N$52,9,FALSE),0) -> 538 | L21: =IFERROR(VLOOKUP($A21,Filtro_!$A$5:$N$52,10,FALSE),0) -> 36 | M21: =IFERROR(VLOOKUP($A21,Filtro_!$A$5:$N$52,11,FALSE),0) -> 11 | N21: =IFERROR(VLOOKUP($A21,Filtro_!$A$5:$N$52,12,FALSE),0) -> 8 | O21: =IFERROR(VLOOKUP($A21,Filtro_!$A$5:$N$52,13,FALSE),0) -> 0 | P21: =IFERROR(VLOOKUP($A21,Filtro_!$A$5:$N$52,14,FALSE),0) -> 0
A22: 15900020 | C22: Fórmula de Inicio (FI) | D22: =IFERROR(VLOOKUP($A22,Filtro_!$A$5:$N$52,2,FALSE),0) -> 8702 | E22: =IFERROR(VLOOKUP($A22,Filtro_!$A$5:$N$52,3,FALSE),0) -> 277.7 | F22: =IFERROR(VLOOKUP($A22,Filtro_!$A$5:$N$52,4,FALSE),0) -> 566.4 | G22: =IFERROR(VLOOKUP($A22,Filtro_!$A$5:$N$52,5,FALSE),0) -> 7857.9 | H22: =IFERROR(VLOOKUP($A22,Filtro_!$A$5:$N$52,6,FALSE),0) -> 0 | I22: =IFERROR(VLOOKUP($A22,Filtro_!$A$5:$N$52,7,FALSE),0) -> 0 | J22: =IFERROR(VLOOKUP($A22,Filtro_!$A$5:$N$52,8,FALSE),0) -> 0 | K22: =IFERROR(VLOOKUP($A22,Filtro_!$A$5:$N$52,9,FALSE),0) -> 0 | L22: =IFERROR(VLOOKUP($A22,Filtro_!$A$5:$N$52,10,FALSE),0) -> 0 | M22: =IFERROR(VLOOKUP($A22,Filtro_!$A$5:$N$52,11,FALSE),0) -> 0 | N22: =IFERROR(VLOOKUP($A22,Filtro_!$A$5:$N$52,12,FALSE),0) -> 0 | O22: =IFERROR(VLOOKUP($A22,Filtro_!$A$5:$N$52,13,FALSE),0) -> 0 | P22: =IFERROR(VLOOKUP($A22,Filtro_!$A$5:$N$52,14,FALSE),0) -> 0
C23: Subtotal | D23: =SUM(E23:P23) -> 16943 | E23: =SUM(E22) -> 277.7 | F23: =SUM(F20+F22) -> 607.4 | G23: =SUM(G20+G22) -> 8949.9 | H23: =SUM(H18+H20) -> 1421 | I23: =SUM(I18+I20) -> 5668 | J23: =SUM(J18+J20) -> 0 | K23: =SUM(K18+K20) -> 0 | M23: =SUM(M19+M21) -> 11 | N23: =SUM(N19+N21) -> 8 | O23: =SUM(O19+O21) -> 0 | P23: =SUM(P19+P21) -> 0
A24: 15030100 | B24: Prematuros | C24: Fórmula de Prematuros (FP) | D24: =IFERROR(VLOOKUP($A24,Filtro_!$A$5:$N$52,2,FALSE),0) -> 2084.8 | E24: =IFERROR(VLOOKUP($A24,Filtro_!$A$5:$N$52,3,FALSE),0) -> 830.68 | F24: =IFERROR(VLOOKUP($A24,Filtro_!$A$5:$N$52,4,FALSE),0) -> 520.04 | G24: =IFERROR(VLOOKUP($A24,Filtro_!$A$5:$N$52,5,FALSE),0) -> 734.08 | H24: =IFERROR(VLOOKUP($A24,Filtro_!$A$5:$N$52,6,FALSE),0) -> 0 | I24: =IFERROR(VLOOKUP($A24,Filtro_!$A$5:$N$52,7,FALSE),0) -> 0 | J24: =IFERROR(VLOOKUP($A24,Filtro_!$A$5:$N$52,8,FALSE),0) -> 0 | K24: =IFERROR(VLOOKUP($A24,Filtro_!$A$5:$N$52,9,FALSE),0) -> 0 | L24: =IFERROR(VLOOKUP($A24,Filtro_!$A$5:$N$52,10,FALSE),0) -> 0 | M24: =IFERROR(VLOOKUP($A24,Filtro_!$A$5:$N$52,11,FALSE),0) -> 0 | N24: =IFERROR(VLOOKUP($A24,Filtro_!$A$5:$N$52,12,FALSE),0) -> 0 | O24: =IFERROR(VLOOKUP($A24,Filtro_!$A$5:$N$52,13,FALSE),0) -> 0 | P24: =IFERROR(VLOOKUP($A24,Filtro_!$A$5:$N$52,14,FALSE),0) -> 0
A25: 15901500 | C25: Fórmula de Incio (FI) | D25: =IFERROR(VLOOKUP($A25,Filtro_!$A$5:$N$52,2,FALSE),0) -> 1103.3 | E25: =IFERROR(VLOOKUP($A25,Filtro_!$A$5:$N$52,3,FALSE),0) -> 100 | F25: =IFERROR(VLOOKUP($A25,Filtro_!$A$5:$N$52,4,FALSE),0) -> 343.2 | G25: =IFERROR(VLOOKUP($A25,Filtro_!$A$5:$N$52,5,FALSE),0) -> 660.1 | H25: =IFERROR(VLOOKUP($A25,Filtro_!$A$5:$N$52,6,FALSE),0) -> 0 | I25: =IFERROR(VLOOKUP($A25,Filtro_!$A$5:$N$52,7,FALSE),0) -> 0 | J25: =IFERROR(VLOOKUP($A25,Filtro_!$A$5:$N$52,8,FALSE),0) -> 0 | K25: =IFERROR(VLOOKUP($A25,Filtro_!$A$5:$N$52,9,FALSE),0) -> 0 | L25: =IFERROR(VLOOKUP($A25,Filtro_!$A$5:$N$52,10,FALSE),0) -> 0 | M25: =IFERROR(VLOOKUP($A25,Filtro_!$A$5:$N$52,11,FALSE),0) -> 0 | N25: =IFERROR(VLOOKUP($A25,Filtro_!$A$5:$N$52,12,FALSE),0) -> 0 | O25: =IFERROR(VLOOKUP($A25,Filtro_!$A$5:$N$52,13,FALSE),0) -> 0 | P25: =IFERROR(VLOOKUP($A25,Filtro_!$A$5:$N$52,147,FALSE),0) -> 0
A26: 15080012 | C26: Mi Sopita (MS) | D26: =IFERROR(VLOOKUP($A26,Filtro_!$A$5:$N$52,2,FALSE),0) -> 26 | E26: =IFERROR(VLOOKUP($A26,Filtro_!$A$5:$N$52,3,FALSE),0) -> 0 | F26: =IFERROR(VLOOKUP($A26,Filtro_!$A$5:$N$52,4,FALSE),0) -> 4 | G26: =IFERROR(VLOOKUP($A26,Filtro_!$A$5:$N$52,5,FALSE),0) -> 22 | H26: =IFERROR(VLOOKUP($A26,Filtro_!$A$5:$N$52,6,FALSE),0) -> 0 | I26: =IFERROR(VLOOKUP($A26,Filtro_!$A$5:$N$52,7,FALSE),0) -> 0 | J26: =IFERROR(VLOOKUP($A26,Filtro_!$A$5:$N$52,8,FALSE),0) -> 0 | K26: =IFERROR(VLOOKUP($A26,Filtro_!$A$5:$N$52,9,FALSE),0) -> 0 | L26: =IFERROR(VLOOKUP($A26,Filtro_!$A$5:$N$52,10,FALSE),0) -> 0 | M26: =IFERROR(VLOOKUP($A26,Filtro_!$A$5:$N$52,11,FALSE),0) -> 0 | N26: =IFERROR(VLOOKUP($A26,Filtro_!$A$5:$N$52,12,FALSE),0) -> 0 | O26: =IFERROR(VLOOKUP($A26,Filtro_!$A$5:$N$52,13,FALSE),0) -> 0 | P26: =IFERROR(VLOOKUP($A26,Filtro_!$A$5:$N$52,14,FALSE),0) -> 0
C27: Subtotal | D27: =SUM(E27:P27) -> 3214.1 | E27: =SUM(E24:E25) -> 930.68 | F27: =SUM(F24:F26) -> 867.24 | G27: =SUM(G24:G26) -> 1416.18
A28: 15900030 | B28: Alergia a la proteína de la leche de vaca | C28: Fórmula Extensamente Hidrolizada (FEH) | D28: =IFERROR(VLOOKUP($A28,Filtro_!$A$5:$N$52,2,FALSE),0) -> 10442.8 | E28: =IFERROR(VLOOKUP($A28,Filtro_!$A$5:$N$52,3,FALSE),0) -> 4686.8 | F28: =IFERROR(VLOOKUP($A28,Filtro_!$A$5:$N$52,4,FALSE),0) -> 716 | G28: =IFERROR(VLOOKUP($A28,Filtro_!$A$5:$N$52,5,FALSE),0) -> 2232 | H28: =IFERROR(VLOOKUP($A28,Filtro_!$A$5:$N$52,6,FALSE),0) -> 1009.2 | I28: =IFERROR(VLOOKUP($A28,Filtro_!$A$5:$N$52,7,FALSE),0) -> 310.8 | J28: =IFERROR(VLOOKUP($A28,Filtro_!$A$5:$N$52,8,FALSE),0) -> 0 | K28: =IFERROR(VLOOKUP($A28,Filtro_!$A$5:$N$52,9,FALSE),0) -> 0 | L28: =IFERROR(VLOOKUP($A28,Filtro_!$A$5:$N$52,10,FALSE),0) -> 0 | M28: =IFERROR(VLOOKUP($A28,Filtro_!$A$5:$N$52,11,FALSE),0) -> 0 | N28: =IFERROR(VLOOKUP($A28,Filtro_!$A$5:$N$52,12,FALSE),0) -> 0 | O28: =IFERROR(VLOOKUP($A28,Filtro_!$A$5:$N$52,13,FALSE),0) -> 0 | P28: =IFERROR(VLOOKUP($A28,Filtro_!$A$5:$N$52,14,FALSE),0) -> 0
A29: 15900040 | C29: Fórmula Aminoacídica (FAA) | D29: =IFERROR(VLOOKUP($A29,Filtro_!$A$5:$N$52,2,FALSE),0) -> 2250.8 | E29: =IFERROR(VLOOKUP($A29,Filtro_!$A$5:$N$52,3,FALSE),0) -> 100.4 | F29: =IFERROR(VLOOKUP($A29,Filtro_!$A$5:$N$52,4,FALSE),0) -> 352 | G29: =IFERROR(VLOOKUP($A29,Filtro_!$A$5:$N$52,5,FALSE),0) -> 752 | H29: =IFERROR(VLOOKUP($A29,Filtro_!$A$5:$N$52,6,FALSE),0) -> 380 | I29: =IFERROR(VLOOKUP($A29,Filtro_!$A$5:$N$52,7,FALSE),0) -> 101.6 | J29: =IFERROR(VLOOKUP($A29,Filtro_!$A$5:$N$52,8,FALSE),0) -> 0 | K29: =IFERROR(VLOOKUP($A29,Filtro_!$A$5:$N$52,9,FALSE),0) -> 0 | L29: =IFERROR(VLOOKUP($A29,Filtro_!$A$5:$N$52,10,FALSE),0) -> 0 | M29: =IFERROR(VLOOKUP($A29,Filtro_!$A$5:$N$52,11,FALSE),0) -> 0 | N29: =IFERROR(VLOOKUP($A29,Filtro_!$A$5:$N$52,12,FALSE),0) -> 0 | O29: =IFERROR(VLOOKUP($A29,Filtro_!$A$5:$N$52,13,FALSE),0) -> 0 | P29: =IFERROR(VLOOKUP($A29,Filtro_!$A$5:$N$52,14,FALSE),0) -> 0
C30: Subtotal | D30: =SUM(E30:P30) -> 10640.8 | E30: =SUM(E28:E29) -> 4787.2 | F30: =SUM(F28:F29) -> 1068 | G30: =SUM(G28:G29) -> 2984 | H30: =SUM(H28:H29) -> 1389.2 | I30: =SUM(I28:I29) -> 412.4 | J30: =SUM(J28:J29) -> 0 | K30: =SUM(K28:K29) -> 0
B31: Total | D31: =SUM(E31:P31) -> 208739.3 | E31: =+E17+E23+E27+E30 -> 11580.48 | F31: =+F17+F23+F27+F30 -> 20742.54 | G31: =+G17+G23+G27+G30 -> 105289.68 | H31: =+H17+H23+H30 -> 48238.2 | I31: =+I17+I23+I30 -> 6080.4 | J31: =+J17+J23+J30 -> 634 | K31: =+K17+K23+K30 -> 0 | L31: =L17 -> 10505 | M31: =M23 -> 11 | N31: =+N17+N23 -> 5658 | O31: =+O17+O23 -> 0 | P31: =+P17+P23 -> 0
B32: Sección B: PNAC - Número de personas intrasistema que retiran
B33: Subprogramas | D33: Total | E33: Hombres | F33: Mujeres | G33: Menores a 6 años | N33: Gestantes | P33: Persona que amamanta a hijo/a menor a 12 meses
G34: 0 - 2 meses | H34: 3 - 5 meses | I34: 6 - 11 meses | J34: 12 - 17 meses | K34: 18 - 23 meses | L34: 24 - 47 meses | M34: 48 - 71 meses | N34: Normal, sobrepeso y obesas | O34: Bajo peso | P34: 0 a 5 meses con Lactancia Materna exclusiva | Q34: 0 a 5 meses Lactancia Materna + Fórmula Láctea | R34: 6 a 11 meses Lactancia Materna
A37: 15050100 | B37: Básico | D37: =IFERROR(VLOOKUP($A37,Filtro_!$A$5:$N$52,2,FALSE),0) -> 184117 | E37: =IFERROR(VLOOKUP($A37,Filtro_!$A$5:$N$52,3,FALSE),0) -> 76378 | F37: =IFERROR(VLOOKUP($A37,Filtro_!$A$5:$N$52,4,FALSE),0) -> 107620 | G37: =IFERROR(VLOOKUP($A37,Filtro_!$A$5:$N$52,5,FALSE),0) -> 2519 | H37: =IFERROR(VLOOKUP($A37,Filtro_!$A$5:$N$52,6,FALSE),0) -> 14026 | I37: =IFERROR(VLOOKUP($A37,Filtro_!$A$5:$N$52,7,FALSE),0) -> 22199 | J37: =IFERROR(VLOOKUP($A37,Filtro_!$A$5:$N$52,8,FALSE),0) -> 47460 | K37: =IFERROR(VLOOKUP($A37,Filtro_!$A$5:$N$52,9,FALSE),0) -> 34814 | L37: =IFERROR(VLOOKUP($A37,Filtro_!$A$5:$N$52,10,FALSE),0) -> 21288 | M37: =IFERROR(VLOOKUP($A37,Filtro_!$A$5:$N$52,11,FALSE),0) -> 0 | N37: =IFERROR(VLOOKUP($A37,Filtro_!$A$5:$N$52,12,FALSE),0) -> 5306 | O37: =IFERROR(VLOOKUP($A37,Filtro_!$A$5:$N$52,13,FALSE),0) -> 3195 | P37: =IFERROR(VLOOKUP($A37,Filtro_!$A$5:$N$52,14,FALSE),0) -> 5634 | Q37: =IFERROR(VLOOKUP($A37,Filtro_!$A$5:$N$52,15,FALSE),0) -> 0 | R37: =IFERROR(VLOOKUP($A37,Filtro_!$A$5:$N$52,16,FALSE),0) -> 0 | S37: =AB37 -> *La suma Total de: Menores a 6 años + Gestantes + Persona que amamanta a hijo/a menor a 12 meses debe ser igual a la suma de Hombres + Mujeres. | AB37: =IF(AND($D37<>0,$E37="",$F37=""),"* No olvide ingresar la variable hombres y/o mujeres. Digite CERO si no tiene.",IF(SUM($E37+$F37)<>$D37, "*La suma Total de: "&$G$33&""&" + "&$N$33&""&" + "&$P$33&""&" debe ser igual a la suma de Hombres + Mujeres. ","")) -> *La suma Total de: Menores a 6 años + Gestantes + Persona que amamanta a hijo/a menor a 12 meses debe ser igual a la suma de Hombres + Mujeres. | AI37: =IF(AND($D37<>0,$E37="",$F37=""),1,IF(SUM($E37+$F37)<>$D37,1,0)) -> 1
A38: 15050200 | B38: Refuerzo | D38: =IFERROR(VLOOKUP($A38,Filtro_!$A$5:$N$52,2,FALSE),0) -> 4135 | E38: =IFERROR(VLOOKUP($A38,Filtro_!$A$5:$N$52,3,FALSE),0) -> 2204 | F38: =IFERROR(VLOOKUP($A38,Filtro_!$A$5:$N$52,4,FALSE),0) -> 1915 | G38: =IFERROR(VLOOKUP($A38,Filtro_!$A$5:$N$52,5,FALSE),0) -> 104 | H38: =IFERROR(VLOOKUP($A38,Filtro_!$A$5:$N$52,6,FALSE),0) -> 553 | I38: =IFERROR(VLOOKUP($A38,Filtro_!$A$5:$N$52,7,FALSE),0) -> 402 | J38: =IFERROR(VLOOKUP($A38,Filtro_!$A$5:$N$52,8,FALSE),0) -> 1438 | K38: =IFERROR(VLOOKUP($A38,Filtro_!$A$5:$N$52,9,FALSE),0) -> 886 | L38: =IFERROR(VLOOKUP($A38,Filtro_!$A$5:$N$52,10,FALSE),0) -> 0 | M38: =IFERROR(VLOOKUP($A38,Filtro_!$A$5:$N$52,11,FALSE),0) -> 183 | N38: =IFERROR(VLOOKUP($A38,Filtro_!$A$5:$N$52,12,FALSE),0) -> 13 | O38: =IFERROR(VLOOKUP($A38,Filtro_!$A$5:$N$52,13,FALSE),0) -> 7 | P38: =IFERROR(VLOOKUP($A38,Filtro_!$A$5:$N$52,14,FALSE),0) -> 5 | Q38: =IFERROR(VLOOKUP($A38,Filtro_!$A$5:$N$52,15,FALSE),0) -> 0 | R38: =IFERROR(VLOOKUP($A38,Filtro_!$A$5:$N$52,16,FALSE),0) -> 0 | S38: =AB38 -> *La suma Total de: Menores a 6 años + Gestantes + Persona que amamanta a hijo/a menor a 12 meses debe ser igual a la suma de Hombres + Mujeres. | AB38: =IF(AND($D38<>0,$E38="",$F38=""),"* No olvide ingresar la variable hombres y/o mujeres. Digite CERO si no tiene.",IF(SUM($E38+$F38)<>$D38, "*La suma Total de: "&$G$33&""&" + "&$N$33&""&" + "&$P$33&""&" debe ser igual a la suma de Hombres + Mujeres. ","")) -> *La suma Total de: Menores a 6 años + Gestantes + Persona que amamanta a hijo/a menor a 12 meses debe ser igual a la suma de Hombres + Mujeres. | AI38: =IF(AND($D38<>0,$E38="",$F38=""),1,IF(SUM($E38+$F38)<>$D38,1,0)) -> 1
A39: 15050500 | B39: Prematuros | D39: =IFERROR(VLOOKUP($A39,Filtro_!$A$5:$N$52,2,FALSE),0) -> 714 | E39: =IFERROR(VLOOKUP($A39,Filtro_!$A$5:$N$52,3,FALSE),0) -> 361 | F39: =IFERROR(VLOOKUP($A39,Filtro_!$A$5:$N$52,4,FALSE),0) -> 353 | G39: =IFERROR(VLOOKUP($A39,Filtro_!$A$5:$N$52,5,FALSE),0) -> 228 | H39: =IFERROR(VLOOKUP($A39,Filtro_!$A$5:$N$52,6,FALSE),0) -> 296 | I39: =IFERROR(VLOOKUP($A39,Filtro_!$A$5:$N$52,7,FALSE),0) -> 0 | J39: =IFERROR(VLOOKUP($A39,Filtro_!$A$5:$N$52,8,FALSE),0) -> 0 | K39: =IFERROR(VLOOKUP($A39,Filtro_!$A$5:$N$52,9,FALSE),0) -> 0 | L39: =IFERROR(VLOOKUP($A39,Filtro_!$A$5:$N$52,10,FALSE),0) -> 0 | M39: =IFERROR(VLOOKUP($A39,Filtro_!$A$5:$N$52,11,FALSE),0) -> 0 | N39: =IFERROR(VLOOKUP($A39,Filtro_!$A$5:$N$52,12,FALSE),0) -> 0 | O39: =IFERROR(VLOOKUP($A39,Filtro_!$A$5:$N$52,13,FALSE),0) -> 0 | P39: =IFERROR(VLOOKUP($A39,Filtro_!$A$5:$N$52,14,FALSE),0) -> 0 | Q39: =IFERROR(VLOOKUP($A39,Filtro_!$A$5:$N$52,15,FALSE),0) -> 0 | R39: =IFERROR(VLOOKUP($A39,Filtro_!$A$5:$N$52,16,FALSE),0) -> 0 | S39: =AB39 | AB39: =IF(AND($D39<>0,$E39="",$F39=""),"* No olvide ingresar la variable hombres y/o mujeres. Digite CERO si no tiene.",IF(SUM($E39+$F39)<>$D39, "*La suma Total de: "&$G$33&""&" + "&$N$33&""&" + "&$P$33&""&" debe ser igual a la suma de Hombres + Mujeres. ","")) | AI39: =IF(AND($D39<>0,$E39="",$F39=""),1,IF(SUM($E39+$F39)<>$D39,1,0)) -> 0
A40: 15900050 | B40: Alergia a la Proteína de la leche de vaca | D40: =IFERROR(VLOOKUP($A40,Filtro_!$A$5:$N$52,2,FALSE),0) -> 2345 | E40: =IFERROR(VLOOKUP($A40,Filtro_!$A$5:$N$52,3,FALSE),0) -> 1184 | F40: =IFERROR(VLOOKUP($A40,Filtro_!$A$5:$N$52,4,FALSE),0) -> 1161 | G40: =IFERROR(VLOOKUP($A40,Filtro_!$A$5:$N$52,5,FALSE),0) -> 120 | H40: =IFERROR(VLOOKUP($A40,Filtro_!$A$5:$N$52,6,FALSE),0) -> 835 | I40: =IFERROR(VLOOKUP($A40,Filtro_!$A$5:$N$52,7,FALSE),0) -> 575 | J40: =IFERROR(VLOOKUP($A40,Filtro_!$A$5:$N$52,8,FALSE),0) -> 124 | K40: =IFERROR(VLOOKUP($A40,Filtro_!$A$5:$N$52,9,FALSE),0) -> 8 | L40: =IFERROR(VLOOKUP($A40,Filtro_!$A$5:$N$52,10,FALSE),0) -> 0 | M40: =IFERROR(VLOOKUP($A40,Filtro_!$A$5:$N$52,11,FALSE),0) -> 0 | N40: =IFERROR(VLOOKUP($A40,Filtro_!$A$5:$N$52,12,FALSE),0) -> 0 | O40: =IFERROR(VLOOKUP($A40,Filtro_!$A$5:$N$52,13,FALSE),0) -> 0 | P40: =IFERROR(VLOOKUP($A40,Filtro_!$A$5:$N$52,14,FALSE),0) -> 0 | Q40: =IFERROR(VLOOKUP($A40,Filtro_!$A$5:$N$52,15,FALSE),0) -> 0 | R40: =IFERROR(VLOOKUP($A40,Filtro_!$A$5:$N$52,16,FALSE),0) -> 0 | S40: =AB40 | AB40: =IF(AND($D40<>0,$E40="",$F40=""),"* No olvide ingresar la variable hombres y/o mujeres. Digite CERO si no tiene.",IF(SUM($E40+$F40)<>$D40, "*La suma Total de: "&$G$33&""&" + "&$N$33&""&" + "&$P$33&""&" debe ser igual a la suma de Hombres + Mujeres. ","")) | AI40: =IF(AND($D40<>0,$E40="",$F40=""),1,IF(SUM($E40+$F40)<>$D40,1,0)) -> 0
B41: TOTAL | D41: =SUM(E41:F41) -> 191176 | E41: =SUM(E37:E40) -> 80127 | F41: =SUM(F37:F40) -> 111049 | G41: =SUM(G37:G40) -> 2971 | H41: =SUM(H37:H40) -> 15710 | I41: =SUM(I37:I40) -> 23176 | J41: =SUM(J37:J38)+J40 -> 49022 | K41: =SUM(K37:K38)+K40 -> 35708 | L41: =SUM(L37:L38)+L40 -> 21288 | M41: =SUM(M37:M38)+M40 -> 183 | N41: =SUM(N37) -> 5306 | O41: =SUM(O38) -> 7 | P41: =SUM(P37:P38) -> 5639 | Q41: =SUM(Q37:Q38) -> 0 | R41: =SUM(R37:R38) -> 0
A42: 15900060 | B42: Programas Sociales (*) | D42: =IFERROR(VLOOKUP($A42,Filtro_!$A$5:$N$52,2,FALSE),0) -> 0 | E42: 0 | F42: 0 | G42: 0 | H42: 0 | I42: 0 | J42: 0 | K42: 0 | L42: 0 | M42: 0 | N42: 0 | O42: 0 | P42: 0 | Q42: 0 | R42: 0 | S42: =AB42 | AB42: =IF(AND($D42<>0,$E42="",$F42=""),"* No olvide ingresar la variable hombres y/o mujeres. Digite CERO si no tiene.",IF(SUM($E42+$F42)<>$D42, "*La suma Total de: "&$G$33&""&" + "&$N$33&""&" + "&$P$33&""&" debe ser igual a la suma de Hombres + Mujeres. ","")) | AI42: =IF(AND($D42<>0,$E42="",$F42=""),1,IF(SUM($E42+$F42)<>$D42,1,0)) -> 0
B43: Nota: (*) Información referencial, ya incluida en los subprogramas.
B45: Sección C: PNAC: Cantidad distribuida (kg) a personas extrasistema (incluye modalidad libre elección)
B46: Subprogramas | C46: Productos | D46: Total | E46: Menores a 6 años | L46: Gestantes | N46: Persona que amamanta a hijo/a menor a 12 meses
E47: 0 - 2 meses | F47: 3 - 5 meses | G47: 6 - 11 meses | H47: 12 - 17 meses | I47: 18 - 23 meses | J47: 24 - 47 meses | K47: 48 - 71 meses | L47: Normal, sobrepeso y obesas | M47: Bajo peso | N47: 0 a 5 meses con Lactancia Materna exclusiva | O47: 0 a 5 meses Lactancia Materna + Fórmula Láctea | P47: 6 a 11 meses Lactancia Materna
A50: 15080018 | B50: Básico | C50: Purita +Pro 1 (PP1) | D50: =IFERROR(VLOOKUP($A50,Filtro_!$A$5:$N$52,2,FALSE),0) -> 1788 | E50: =IFERROR(VLOOKUP($A50,Filtro_!$A$5:$N$52,3,FALSE),0) -> 27 | F50: =IFERROR(VLOOKUP($A50,Filtro_!$A$5:$N$52,4,FALSE),0) -> 57 | G50: =IFERROR(VLOOKUP($A50,Filtro_!$A$5:$N$52,5,FALSE),0) -> 321 | H50: =IFERROR(VLOOKUP($A50,Filtro_!$A$5:$N$52,6,FALSE),0) -> 692 | I50: =IFERROR(VLOOKUP($A50,Filtro_!$A$5:$N$52,7,FALSE),0) -> 0 | J50: =IFERROR(VLOOKUP($A50,Filtro_!$A$5:$N$52,8,FALSE),0) -> 0 | K50: =IFERROR(VLOOKUP($A50,Filtro_!$A$5:$N$52,9,FALSE),0) -> 0 | L50: =IFERROR(VLOOKUP($A50,Filtro_!$A$5:$N$52,10,FALSE),0) -> 0 | M50: =IFERROR(VLOOKUP($A50,Filtro_!$A$5:$N$52,11,FALSE),0) -> 0 | N50: =IFERROR(VLOOKUP($A50,Filtro_!$A$5:$N$52,12,FALSE),0) -> 0 | O50: =IFERROR(VLOOKUP($A50,Filtro_!$A$5:$N$52,13,FALSE),0) -> 0 | P50: =IFERROR(VLOOKUP($A50,Filtro_!$A$5:$N$52,14,FALSE),0) -> 0
A51: 15080019 | C51: Purita +Pro 2 (PP2) | D51: =IFERROR(VLOOKUP($A51,Filtro_!$A$5:$N$52,2,FALSE),0) -> 2330 | E51: =IFERROR(VLOOKUP($A51,Filtro_!$A$5:$N$52,3,FALSE),0) -> 0 | F51: =IFERROR(VLOOKUP($A51,Filtro_!$A$5:$N$52,4,FALSE),0) -> 0 | G51: =IFERROR(VLOOKUP($A51,Filtro_!$A$5:$N$52,5,FALSE),0) -> 0 | H51: =IFERROR(VLOOKUP($A51,Filtro_!$A$5:$N$52,6,FALSE),0) -> 0 | I51: =IFERROR(VLOOKUP($A51,Filtro_!$A$5:$N$52,7,FALSE),0) -> 1444 | J51: =IFERROR(VLOOKUP($A51,Filtro_!$A$5:$N$52,8,FALSE),0) -> 0 | K51: =IFERROR(VLOOKUP($A51,Filtro_!$A$5:$N$52,9,FALSE),0) -> 0 | L51: =IFERROR(VLOOKUP($A51,Filtro_!$A$5:$N$52,10,FALSE),0) -> 0 | M51: =IFERROR(VLOOKUP($A51,Filtro_!$A$5:$N$52,11,FALSE),0) -> 0 | N51: =IFERROR(VLOOKUP($A51,Filtro_!$A$5:$N$52,12,FALSE),0) -> 0 | O51: =IFERROR(VLOOKUP($A51,Filtro_!$A$5:$N$52,13,FALSE),0) -> 0 | P51: =IFERROR(VLOOKUP($A51,Filtro_!$A$5:$N$52,14,FALSE),0) -> 0
A52: 15080010 | C52: Purita Mamá (PM) | D52: =IFERROR(VLOOKUP($A52,Filtro_!$A$5:$N$52,2,FALSE),0) -> 78 | E52: =IFERROR(VLOOKUP($A52,Filtro_!$A$5:$N$52,3,FALSE),0) -> 0 | F52: =IFERROR(VLOOKUP($A52,Filtro_!$A$5:$N$52,4,FALSE),0) -> 0 | G52: =IFERROR(VLOOKUP($A52,Filtro_!$A$5:$N$52,5,FALSE),0) -> 0 | H52: =IFERROR(VLOOKUP($A52,Filtro_!$A$5:$N$52,6,FALSE),0) -> 0 | I52: =IFERROR(VLOOKUP($A52,Filtro_!$A$5:$N$52,7,FALSE),0) -> 0 | J52: =IFERROR(VLOOKUP($A52,Filtro_!$A$5:$N$52,8,FALSE),0) -> 24 | K52: =IFERROR(VLOOKUP($A52,Filtro_!$A$5:$N$52,9,FALSE),0) -> 0 | L52: =IFERROR(VLOOKUP($A52,Filtro_!$A$5:$N$52,10,FALSE),0) -> 42 | M52: =IFERROR(VLOOKUP($A52,Filtro_!$A$5:$N$52,11,FALSE),0) -> 10 | N52: =IFERROR(VLOOKUP($A52,Filtro_!$A$5:$N$52,12,FALSE),0) -> 2 | O52: =IFERROR(VLOOKUP($A52,Filtro_!$A$5:$N$52,13,FALSE),0) -> 0 | P52: =IFERROR(VLOOKUP($A52,Filtro_!$A$5:$N$52,14,FALSE),0) -> 0 | Q52: =$AB52&$AC52&$AD52&$AE52 | AB52: =IF(AND(SUM(L51,L52)<>0,N75=""),"* No olvide digitar la Sección D, Nº de personas intrasistema que retiran, en el grupo de Gestantes/Normal, Sobrepeso y Obesas..","") | AC52: =IF(AND(SUM(N51,N52)<>0,P75=""),"* No olvide digitar la Sección D, Nº de personas intrasistema que retiran, en el grupo Persona que amamanta a hijo/a menor a 12 meses: 0 a 5 meses con Lactancia Materna Exclusiva.","") | AD52: =IF(AND(SUM(O51,O52)<>0,Q75=""),"* No olvide digitar la Sección D, Nº de personas intrasistema que retiran, en el grupo Persona que amamanta a hijo/a menor a 12 meses: 0 a 5 meses con Lactancia Materna + Formula Lactea.","") | AE52: =IF(AND(SUM(P51,P52)<>0,R75=""),"* No olvide digitar la Sección D, Nº de personas intrasistema que retiran, en el grupo Persona que amamanta a hijo/a menor a 12 meses: 6 a 11 meses Lactancia Materna.","") | AI52: =IF(AND(OR(L51<>0,L52<>0),N75=""),1,0) -> 0 | AJ52: =IF(AND(SUM(N51,N52)<>0,P75=""),1,0) -> 0 | AK52: =IF(AND(SUM(O51,O52)<>0,Q75=""),1,0) -> 0 | AL52: =IF(AND(SUM(P51,P52)<>0,R75=""),1,0) -> 0
A53: 15900070 | C53: Fórmula de Inicio (FI) | D53: =IFERROR(VLOOKUP($A53,Filtro_!$A$5:$N$52,2,FALSE),0) -> 15.2 | E53: =IFERROR(VLOOKUP($A53,Filtro_!$A$5:$N$52,3,FALSE),0) -> 0 | F53: =IFERROR(VLOOKUP($A53,Filtro_!$A$5:$N$52,4,FALSE),0) -> 0 | G53: =IFERROR(VLOOKUP($A53,Filtro_!$A$5:$N$52,5,FALSE),0) -> 15.2 | H53: =IFERROR(VLOOKUP($A53,Filtro_!$A$5:$N$52,6,FALSE),0) -> 0 | I53: =IFERROR(VLOOKUP($A53,Filtro_!$A$5:$N$52,7,FALSE),0) -> 0 | J53: =IFERROR(VLOOKUP($A53,Filtro_!$A$5:$N$52,8,FALSE),0) -> 0 | K53: =IFERROR(VLOOKUP($A53,Filtro_!$A$5:$N$52,9,FALSE),0) -> 0 | L53: =IFERROR(VLOOKUP($A53,Filtro_!$A$5:$N$52,10,FALSE),0) -> 0 | M53: =IFERROR(VLOOKUP($A53,Filtro_!$A$5:$N$52,11,FALSE),0) -> 0 | N53: =IFERROR(VLOOKUP($A53,Filtro_!$A$5:$N$52,12,FALSE),0) -> 0 | O53: =IFERROR(VLOOKUP($A53,Filtro_!$A$5:$N$52,13,FALSE),0) -> 0 | P53: =IFERROR(VLOOKUP($A53,Filtro_!$A$5:$N$52,14,FALSE),0) -> 0
C54: Subtotal | D54: =SUM(E54:P54) -> 1156.2 | E54: =SUM(E50+E53) -> 27 | F54: =SUM(F50+F53) -> 57 | G54: =SUM(G50+G53) -> 336.2 | H54: =SUM(H50) -> 692 | I54: =SUM(I50) -> 0 | J54: =SUM(J51) -> 0 | K54: =SUM(K51) -> 0 | L54: =SUM(L51:L52) -> 42 | N54: =SUM(N51:N52) -> 2 | O54: =SUM(O51:O52) -> 0 | P54: =SUM(P51:P52) -> 0
A55: 15080020 | B55: Refuerzo | C55: Purita +Pro 1 (PP1) | D55: =IFERROR(VLOOKUP($A55,Filtro_!$A$5:$N$52,2,FALSE),0) -> 38 | E55: =IFERROR(VLOOKUP($A55,Filtro_!$A$5:$N$52,3,FALSE),0) -> 0 | F55: =IFERROR(VLOOKUP($A55,Filtro_!$A$5:$N$52,4,FALSE),0) -> 0 | G55: =IFERROR(VLOOKUP($A55,Filtro_!$A$5:$N$52,5,FALSE),0) -> 2 | H55: =IFERROR(VLOOKUP($A55,Filtro_!$A$5:$N$52,6,FALSE),0) -> 2 | I55: =IFERROR(VLOOKUP($A55,Filtro_!$A$5:$N$52,7,FALSE),0) -> 6 | J55: =IFERROR(VLOOKUP($A55,Filtro_!$A$5:$N$52,8,FALSE),0) -> 0 | K55: =IFERROR(VLOOKUP($A55,Filtro_!$A$5:$N$52,9,FALSE),0) -> 0 | L55: =IFERROR(VLOOKUP($A55,Filtro_!$A$5:$N$52,10,FALSE),0) -> 0 | M55: =IFERROR(VLOOKUP($A55,Filtro_!$A$5:$N$52,11,FALSE),0) -> 0 | N55: =IFERROR(VLOOKUP($A55,Filtro_!$A$5:$N$52,12,FALSE),0) -> 0 | O55: =IFERROR(VLOOKUP($A55,Filtro_!$A$5:$N$52,13,FALSE),0) -> 0 | P55: =IFERROR(VLOOKUP($A55,Filtro_!$A$5:$N$52,14,FALSE),0) -> 0
A56: 15080021 | C56: Purita +Pro 2 (PP2) | D56: =IFERROR(VLOOKUP($A56,Filtro_!$A$5:$N$52,2,FALSE),0) -> 1 | E56: =IFERROR(VLOOKUP($A56,Filtro_!$A$5:$N$52,3,FALSE),0) -> 0 | F56: =IFERROR(VLOOKUP($A56,Filtro_!$A$5:$N$52,4,FALSE),0) -> 0 | G56: =IFERROR(VLOOKUP($A56,Filtro_!$A$5:$N$52,5,FALSE),0) -> 0 | H56: =IFERROR(VLOOKUP($A56,Filtro_!$A$5:$N$52,6,FALSE),0) -> 0 | I56: =IFERROR(VLOOKUP($A56,Filtro_!$A$5:$N$52,7,FALSE),0) -> 0 | J56: =IFERROR(VLOOKUP($A56,Filtro_!$A$5:$N$52,8,FALSE),0) -> 0 | K56: =IFERROR(VLOOKUP($A56,Filtro_!$A$5:$N$52,9,FALSE),0) -> 1 | L56: =IFERROR(VLOOKUP($A56,Filtro_!$A$5:$N$52,10,FALSE),0) -> 0 | M56: =IFERROR(VLOOKUP($A56,Filtro_!$A$5:$N$52,11,FALSE),0) -> 0 | N56: =IFERROR(VLOOKUP($A56,Filtro_!$A$5:$N$52,12,FALSE),0) -> 0 | O56: =IFERROR(VLOOKUP($A56,Filtro_!$A$5:$N$52,13,FALSE),0) -> 0 | P56: =IFERROR(VLOOKUP($A56,Filtro_!$A$5:$N$52,14,FALSE),0) -> 0
A57: 15020500 | C57: Mi Sopita (MS) | D57: =IFERROR(VLOOKUP($A57,Filtro_!$A$5:$N$52,2,FALSE),0) -> 50 | E57: =IFERROR(VLOOKUP($A57,Filtro_!$A$5:$N$52,3,FALSE),0) -> 0 | F57: =IFERROR(VLOOKUP($A57,Filtro_!$A$5:$N$52,4,FALSE),0) -> 1 | G57: =IFERROR(VLOOKUP($A57,Filtro_!$A$5:$N$52,5,FALSE),0) -> 1 | H57: =IFERROR(VLOOKUP($A57,Filtro_!$A$5:$N$52,6,FALSE),0) -> 4 | I57: =IFERROR(VLOOKUP($A57,Filtro_!$A$5:$N$52,7,FALSE),0) -> 14 | J57: =IFERROR(VLOOKUP($A57,Filtro_!$A$5:$N$52,8,FALSE),0) -> 0 | K57: =IFERROR(VLOOKUP($A57,Filtro_!$A$5:$N$52,9,FALSE),0) -> 0 | L57: =IFERROR(VLOOKUP($A57,Filtro_!$A$5:$N$52,10,FALSE),0) -> 0 | M57: =IFERROR(VLOOKUP($A57,Filtro_!$A$5:$N$52,11,FALSE),0) -> 0 | N57: =IFERROR(VLOOKUP($A57,Filtro_!$A$5:$N$52,12,FALSE),0) -> 0 | O57: =IFERROR(VLOOKUP($A57,Filtro_!$A$5:$N$52,13,FALSE),0) -> 0 | P57: =IFERROR(VLOOKUP($A57,Filtro_!$A$5:$N$52,14,FALSE),0) -> 0 | Q57: =AB57&" "&AC57&" "&AD57&" "&AE57&" "&AB58&" "&AC58
A58: 15080011 | C58: Purita Mamá (PM) | D58: =IFERROR(VLOOKUP($A58,Filtro_!$A$5:$N$52,2,FALSE),0) -> 3 | E58: =IFERROR(VLOOKUP($A58,Filtro_!$A$5:$N$52,3,FALSE),0) -> 0 | F58: =IFERROR(VLOOKUP($A58,Filtro_!$A$5:$N$52,4,FALSE),0) -> 0 | G58: =IFERROR(VLOOKUP($A58,Filtro_!$A$5:$N$52,5,FALSE),0) -> 0 | H58: =IFERROR(VLOOKUP($A58,Filtro_!$A$5:$N$52,6,FALSE),0) -> 0 | I58: =IFERROR(VLOOKUP($A58,Filtro_!$A$5:$N$52,7,FALSE),0) -> 0 | J58: =IFERROR(VLOOKUP($A58,Filtro_!$A$5:$N$52,8,FALSE),0) -> 0 | K58: =IFERROR(VLOOKUP($A58,Filtro_!$A$5:$N$52,9,FALSE),0) -> 3 | L58: =IFERROR(VLOOKUP($A58,Filtro_!$A$5:$N$52,10,FALSE),0) -> 0 | M58: =IFERROR(VLOOKUP($A58,Filtro_!$A$5:$N$52,11,FALSE),0) -> 0 | N58: =IFERROR(VLOOKUP($A58,Filtro_!$A$5:$N$52,12,FALSE),0) -> 0 | O58: =IFERROR(VLOOKUP($A58,Filtro_!$A$5:$N$52,13,FALSE),0) -> 0 | P58: =IFERROR(VLOOKUP($A58,Filtro_!$A$5:$N$52,14,FALSE),0) -> 0
A59: 15900080 | C59: Fórmula de Inicio (FI) | D59: =IFERROR(VLOOKUP($A59,Filtro_!$A$5:$N$52,2,FALSE),0) -> 0 | E59: =IFERROR(VLOOKUP($A59,Filtro_!$A$5:$N$52,3,FALSE),0) -> 0 | F59: =IFERROR(VLOOKUP($A59,Filtro_!$A$5:$N$52,4,FALSE),0) -> 0 | G59: =IFERROR(VLOOKUP($A59,Filtro_!$A$5:$N$52,5,FALSE),0) -> 0 | H59: =IFERROR(VLOOKUP($A59,Filtro_!$A$5:$N$52,6,FALSE),0) -> 0 | I59: =IFERROR(VLOOKUP($A59,Filtro_!$A$5:$N$52,7,FALSE),0) -> 0 | J59: =IFERROR(VLOOKUP($A59,Filtro_!$A$5:$N$52,8,FALSE),0) -> 0 | K59: =IFERROR(VLOOKUP($A59,Filtro_!$A$5:$N$52,9,FALSE),0) -> 0 | L59: =IFERROR(VLOOKUP($A59,Filtro_!$A$5:$N$52,10,FALSE),0) -> 0 | M59: =IFERROR(VLOOKUP($A59,Filtro_!$A$5:$N$52,11,FALSE),0) -> 0 | N59: =IFERROR(VLOOKUP($A59,Filtro_!$A$5:$N$52,12,FALSE),0) -> 0 | O59: =IFERROR(VLOOKUP($A59,Filtro_!$A$5:$N$52,13,FALSE),0) -> 0 | P59: =IFERROR(VLOOKUP($A59,Filtro_!$A$5:$N$52,14,FALSE),0) -> 0 | Q59: =AD58&" "&AE58
C60: Subtotal | D60: =SUM(E60:P60) -> 30 | E60: =SUM(E55+E59) -> 0 | F60: =SUM(F55+F57+F59) -> 1 | G60: =SUM(G55+G57+G59) -> 3 | H60: =SUM(H55+H57) -> 6 | I60: =SUM(I55+I57) -> 20 | J60: =SUM(J55+J57) -> 0 | K60: =SUM(K55+K57) -> 0 | M60: =SUM(M56+M58) -> 0 | N60: =SUM(N56+N58) -> 0 | O60: =SUM(O56+O58) -> 0 | P60: =SUM(P56+P58) -> 0
A61: 15040100 | B61: Prematuros | C61: Fórmula de Prematuros (FP) | D61: =IFERROR(VLOOKUP($A61,Filtro_!$A$5:$N$52,2,FALSE),0) -> 20.83 | E61: =IFERROR(VLOOKUP($A61,Filtro_!$A$5:$N$52,3,FALSE),0) -> 20.83 | F61: =IFERROR(VLOOKUP($A61,Filtro_!$A$5:$N$52,4,FALSE),0) -> 0 | G61: =IFERROR(VLOOKUP($A61,Filtro_!$A$5:$N$52,5,FALSE),0) -> 0 | H61: =IFERROR(VLOOKUP($A61,Filtro_!$A$5:$N$52,6,FALSE),0) -> 0 | I61: =IFERROR(VLOOKUP($A61,Filtro_!$A$5:$N$52,7,FALSE),0) -> 0 | J61: =IFERROR(VLOOKUP($A61,Filtro_!$A$5:$N$52,8,FALSE),0) -> 0 | K61: =IFERROR(VLOOKUP($A61,Filtro_!$A$5:$N$52,9,FALSE),0) -> 0 | L61: =IFERROR(VLOOKUP($A61,Filtro_!$A$5:$N$52,10,FALSE),0) -> 0 | M61: =IFERROR(VLOOKUP($A61,Filtro_!$A$5:$N$52,11,FALSE),0) -> 0 | N61: =IFERROR(VLOOKUP($A61,Filtro_!$A$5:$N$52,12,FALSE),0) -> 0 | O61: =IFERROR(VLOOKUP($A61,Filtro_!$A$5:$N$52,13,FALSE),0) -> 0 | P61: =IFERROR(VLOOKUP($A61,Filtro_!$A$5:$N$52,14,FALSE),0) -> 0
A62: 15901600 | C62: Fórmula de Incio (FI) | D62: =IFERROR(VLOOKUP($A62,Filtro_!$A$5:$N$52,2,FALSE),0) -> 0 | E62: =IFERROR(VLOOKUP($A62,Filtro_!$A$5:$N$52,3,FALSE),0) -> 0 | F62: =IFERROR(VLOOKUP($A62,Filtro_!$A$5:$N$52,4,FALSE),0) -> 0 | G62: =IFERROR(VLOOKUP($A62,Filtro_!$A$5:$N$52,5,FALSE),0) -> 0 | H62: =IFERROR(VLOOKUP($A62,Filtro_!$A$5:$N$52,6,FALSE),0) -> 0 | I62: =IFERROR(VLOOKUP($A62,Filtro_!$A$5:$N$52,7,FALSE),0) -> 0 | J62: =IFERROR(VLOOKUP($A62,Filtro_!$A$5:$N$52,8,FALSE),0) -> 0 | K62: =IFERROR(VLOOKUP($A62,Filtro_!$A$5:$N$52,9,FALSE),0) -> 0 | L62: =IFERROR(VLOOKUP($A62,Filtro_!$A$5:$N$52,10,FALSE),0) -> 0 | M62: =IFERROR(VLOOKUP($A62,Filtro_!$A$5:$N$52,11,FALSE),0) -> 0 | N62: =IFERROR(VLOOKUP($A62,Filtro_!$A$5:$N$52,12,FALSE),0) -> 0 | O62: =IFERROR(VLOOKUP($A62,Filtro_!$A$5:$N$52,13,FALSE),0) -> 0 | P62: =IFERROR(VLOOKUP($A62,Filtro_!$A$5:$N$52,14,FALSE),0) -> 0
A63: 15080013 | C63: Mi Sopita (MS) | D63: =IFERROR(VLOOKUP($A63,Filtro_!$A$5:$N$52,2,FALSE),0) -> 0 | E63: =IFERROR(VLOOKUP($A63,Filtro_!$A$5:$N$52,3,FALSE),0) -> 0 | F63: =IFERROR(VLOOKUP($A63,Filtro_!$A$5:$N$52,4,FALSE),0) -> 0 | G63: =IFERROR(VLOOKUP($A63,Filtro_!$A$5:$N$52,5,FALSE),0) -> 0 | H63: =IFERROR(VLOOKUP($A63,Filtro_!$A$5:$N$52,6,FALSE),0) -> 0 | I63: =IFERROR(VLOOKUP($A63,Filtro_!$A$5:$N$52,7,FALSE),0) -> 0 | J63: =IFERROR(VLOOKUP($A63,Filtro_!$A$5:$N$52,8,FALSE),0) -> 0 | K63: =IFERROR(VLOOKUP($A63,Filtro_!$A$5:$N$52,9,FALSE),0) -> 0 | L63: =IFERROR(VLOOKUP($A63,Filtro_!$A$5:$N$52,10,FALSE),0) -> 0 | M63: =IFERROR(VLOOKUP($A63,Filtro_!$A$5:$N$52,11,FALSE),0) -> 0 | N63: =IFERROR(VLOOKUP($A63,Filtro_!$A$5:$N$52,12,FALSE),0) -> 0 | O63: =IFERROR(VLOOKUP($A63,Filtro_!$A$5:$N$52,13,FALSE),0) -> 0 | P63: =IFERROR(VLOOKUP($A63,Filtro_!$A$5:$N$52,14,FALSE),0) -> 0
C64: Subtotal | D64: =SUM(E64:P64) -> 20.83 | E64: =SUM(E61:E62) -> 20.83 | F64: =SUM(F61:F63) -> 0 | G64: =SUM(G61:G63) -> 0
A65: 15901200 | B65: Alergia a la proteína de la leche de vaca | C65: Fórmula Extensamente Hidrolizada (FEH) | D65: =IFERROR(VLOOKUP($A65,Filtro_!$A$5:$N$52,2,FALSE),0) -> 3823.2 | E65: =IFERROR(VLOOKUP($A65,Filtro_!$A$5:$N$52,3,FALSE),0) -> 180.4 | F65: =IFERROR(VLOOKUP($A65,Filtro_!$A$5:$N$52,4,FALSE),0) -> 546.8 | G65: =IFERROR(VLOOKUP($A65,Filtro_!$A$5:$N$52,5,FALSE),0) -> 1460 | H65: =IFERROR(VLOOKUP($A65,Filtro_!$A$5:$N$52,6,FALSE),0) -> 649.6 | I65: =IFERROR(VLOOKUP($A65,Filtro_!$A$5:$N$52,7,FALSE),0) -> 30.4 | J65: =IFERROR(VLOOKUP($A65,Filtro_!$A$5:$N$52,8,FALSE),0) -> 0 | K65: =IFERROR(VLOOKUP($A65,Filtro_!$A$5:$N$52,9,FALSE),0) -> 0 | L65: =IFERROR(VLOOKUP($A65,Filtro_!$A$5:$N$52,10,FALSE),0) -> 0 | M65: =IFERROR(VLOOKUP($A65,Filtro_!$A$5:$N$52,11,FALSE),0) -> 0 | N65: =IFERROR(VLOOKUP($A65,Filtro_!$A$5:$N$52,12,FALSE),0) -> 0 | O65: =IFERROR(VLOOKUP($A65,Filtro_!$A$5:$N$52,13,FALSE),0) -> 0 | P65: =IFERROR(VLOOKUP($A65,Filtro_!$A$5:$N$52,14,FALSE),0) -> 0
A66: 15901300 | C66: Fórmula Aminoacídica (FAA) | D66: =IFERROR(VLOOKUP($A66,Filtro_!$A$5:$N$52,2,FALSE),0) -> 6050.4 | E66: =IFERROR(VLOOKUP($A66,Filtro_!$A$5:$N$52,3,FALSE),0) -> 102.8 | F66: =IFERROR(VLOOKUP($A66,Filtro_!$A$5:$N$52,4,FALSE),0) -> 356.4 | G66: =IFERROR(VLOOKUP($A66,Filtro_!$A$5:$N$52,5,FALSE),0) -> 5038.4 | H66: =IFERROR(VLOOKUP($A66,Filtro_!$A$5:$N$52,6,FALSE),0) -> 242.8 | I66: =IFERROR(VLOOKUP($A66,Filtro_!$A$5:$N$52,7,FALSE),0) -> 26.4 | J66: =IFERROR(VLOOKUP($A66,Filtro_!$A$5:$N$52,8,FALSE),0) -> 0 | K66: =IFERROR(VLOOKUP($A66,Filtro_!$A$5:$N$52,9,FALSE),0) -> 0 | L66: =IFERROR(VLOOKUP($A66,Filtro_!$A$5:$N$52,10,FALSE),0) -> 0 | M66: =IFERROR(VLOOKUP($A66,Filtro_!$A$5:$N$52,11,FALSE),0) -> 0 | N66: =IFERROR(VLOOKUP($A66,Filtro_!$A$5:$N$52,12,FALSE),0) -> 0 | O66: =IFERROR(VLOOKUP($A66,Filtro_!$A$5:$N$52,13,FALSE),0) -> 0 | P66: =IFERROR(VLOOKUP($A66,Filtro_!$A$5:$N$52,14,FALSE),0) -> 0
C67: Subtotal | D67: =SUM(E67:P67) -> 8634 | E67: =SUM(E65:E66) -> 283.2 | F67: =SUM(F65:F66) -> 903.2 | G67: =SUM(G65:G66) -> 6498.4 | H67: =SUM(H65:H66) -> 892.4 | I67: =SUM(I65:I66) -> 56.8 | J67: =SUM(J65:J66) -> 0 | K67: =SUM(K65:K66) -> 0
B68: TOTAL | D68: =SUM(E68:P68) -> 9841.03 | E68: =+E54+E60+E64+E67 -> 331.03 | F68: =+F54+F60+F64+F67 -> 961.2 | G68: =+G54+G60+G64+G67 -> 6837.6 | H68: =+H54+H60+H64+H67 -> 1590.4 | I68: =+I54+I60+I64+I67 -> 76.8 | J68: =+J54+J60+J64+J67 -> 0 | K68: =+K54+K60+K64+K67 -> 0 | L68: =+L54 -> 42 | M68: =M60 -> 0 | N68: =+N54+N60+N64+N67 -> 2 | O68: =+O54+O60+O64+O67 -> 0 | P68: =+P54+P60+P64+P67 -> 0
B70: Sección D: PNAC - Número de personas extrasistema que retiran
B71: Subprogramas | D71: Total | E71: Hombres | F71: Mujeres | G71: Menores a 6 años | N71: Gestantes | P71: Persona que amamanta a hijo/a menor a 12 meses
G72: 0 - 2 meses | H72: 3 - 5 meses | I72: 6 - 11 meses | J72: 12 - 17 meses | K72: 18 - 23 meses | L72: 24 - 47 meses | M72: 48 - 71 meses | N72: Normal, sobrepeso y obesas | O72: Bajo peso | P72: 0 a 5 meses con Lactancia Materna exclusiva | Q72: 0 a 5 meses Lactancia Materna + Fórmula Láctea | R72: 6 a 11 meses Lactancia Materna
A75: 15060100 | B75: Básico | D75: =IFERROR(VLOOKUP($A75,Filtro_!$A$5:$N$52,2,FALSE),0) -> 2143 | E75: =IFERROR(VLOOKUP($A75,Filtro_!$A$5:$N$52,3,FALSE),0) -> 1038 | F75: =IFERROR(VLOOKUP($A75,Filtro_!$A$5:$N$52,4,FALSE),0) -> 1089 | G75: =IFERROR(VLOOKUP($A75,Filtro_!$A$5:$N$52,5,FALSE),0) -> 18 | H75: =IFERROR(VLOOKUP($A75,Filtro_!$A$5:$N$52,6,FALSE),0) -> 168 | I75: =IFERROR(VLOOKUP($A75,Filtro_!$A$5:$N$52,7,FALSE),0) -> 344 | J75: =IFERROR(VLOOKUP($A75,Filtro_!$A$5:$N$52,8,FALSE),0) -> 727 | K75: =IFERROR(VLOOKUP($A75,Filtro_!$A$5:$N$52,9,FALSE),0) -> 449 | L75: =IFERROR(VLOOKUP($A75,Filtro_!$A$5:$N$52,10,FALSE),0) -> 24 | M75: =IFERROR(VLOOKUP($A75,Filtro_!$A$5:$N$52,11,FALSE),0) -> 0 | N75: =IFERROR(VLOOKUP($A75,Filtro_!$A$5:$N$52,12,FALSE),0) -> 21 | O75: =IFERROR(VLOOKUP($A75,Filtro_!$A$5:$N$52,13,FALSE),0) -> 10 | P75: =IFERROR(VLOOKUP($A75,Filtro_!$A$5:$N$52,14,FALSE),0) -> 2 | Q75: =IFERROR(VLOOKUP($A75,Filtro_!$A$5:$N$52,15,FALSE),0) -> 0 | R75: =IFERROR(VLOOKUP($A75,Filtro_!$A$5:$N$52,16,FALSE),0) -> 0 | S75: =AB75&AC75&AD75&AE75&AF75&AG75 -> *La suma Total de: Menores a 6 años + Gestantes + Persona que amamanta a hijo/a menor a 12 meses debe ser igual a la suma de Hombres + Mujeres. | AB75: =IF(AND($D75<>0,$E75="",$F75=""),"* No olvide ingresar la variable Hombres y/o Mujeres. Digite CERO si no tiene.",IF(SUM($E75+$F75)<>$D75, "*La suma Total de: "&$G$33&""&" + "&$N$33&""&" + "&$P$33&""&" debe ser igual a la suma de Hombres + Mujeres. ","")) -> *La suma Total de: Menores a 6 años + Gestantes + Persona que amamanta a hijo/a menor a 12 meses debe ser igual a la suma de Hombres + Mujeres. | AI75: =IF(AND($D75<>0,$E75="",$F75=""),1,IF(SUM($E75+$F75)<>$D75,1,0)) -> 1
A76: 15060200 | B76: Refuerzo | D76: =IFERROR(VLOOKUP($A76,Filtro_!$A$5:$N$52,2,FALSE),0) -> 60 | E76: =IFERROR(VLOOKUP($A76,Filtro_!$A$5:$N$52,3,FALSE),0) -> 31 | F76: =IFERROR(VLOOKUP($A76,Filtro_!$A$5:$N$52,4,FALSE),0) -> 24 | G76: =IFERROR(VLOOKUP($A76,Filtro_!$A$5:$N$52,5,FALSE),0) -> 0 | H76: =IFERROR(VLOOKUP($A76,Filtro_!$A$5:$N$52,6,FALSE),0) -> 2 | I76: =IFERROR(VLOOKUP($A76,Filtro_!$A$5:$N$52,7,FALSE),0) -> 3 | J76: =IFERROR(VLOOKUP($A76,Filtro_!$A$5:$N$52,8,FALSE),0) -> 28 | K76: =IFERROR(VLOOKUP($A76,Filtro_!$A$5:$N$52,9,FALSE),0) -> 21 | L76: =IFERROR(VLOOKUP($A76,Filtro_!$A$5:$N$52,10,FALSE),0) -> 0 | M76: =IFERROR(VLOOKUP($A76,Filtro_!$A$5:$N$52,11,FALSE),0) -> 3 | N76: =IFERROR(VLOOKUP($A76,Filtro_!$A$5:$N$52,12,FALSE),0) -> 0 | O76: =IFERROR(VLOOKUP($A76,Filtro_!$A$5:$N$52,13,FALSE),0) -> 0 | P76: =IFERROR(VLOOKUP($A76,Filtro_!$A$5:$N$52,14,FALSE),0) -> 0 | Q76: =IFERROR(VLOOKUP($A76,Filtro_!$A$5:$N$52,15,FALSE),0) -> 0 | R76: =IFERROR(VLOOKUP($A76,Filtro_!$A$5:$N$52,16,FALSE),0) -> 0 | S76: =AB76&AC76&AD76&AE76&AF76&AG76 -> *La suma Total de: Menores a 6 años + Gestantes + Persona que amamanta a hijo/a menor a 12 meses debe ser igual a la suma de Hombres + Mujeres. | AB76: =IF(AND($D76<>0,$E76="",$F76=""),"* No olvide ingresar la variable Hombres y/o Mujeres. Digite CERO si no tiene.",IF(SUM($E76+$F76)<>$D76, "*La suma Total de: "&$G$33&""&" + "&$N$33&""&" + "&$P$33&""&" debe ser igual a la suma de Hombres + Mujeres. ","")) -> *La suma Total de: Menores a 6 años + Gestantes + Persona que amamanta a hijo/a menor a 12 meses debe ser igual a la suma de Hombres + Mujeres. | AI76: =IF(AND($D76<>0,$E76="",$F76=""),1,IF(SUM($E76+$F76)<>$D76,1,0)) -> 1
A77: 15060600 | B77: Prematuros | D77: =IFERROR(VLOOKUP($A77,Filtro_!$A$5:$N$52,2,FALSE),0) -> 5 | E77: =IFERROR(VLOOKUP($A77,Filtro_!$A$5:$N$52,3,FALSE),0) -> 0 | F77: =IFERROR(VLOOKUP($A77,Filtro_!$A$5:$N$52,4,FALSE),0) -> 5 | G77: =IFERROR(VLOOKUP($A77,Filtro_!$A$5:$N$52,5,FALSE),0) -> 5 | H77: =IFERROR(VLOOKUP($A77,Filtro_!$A$5:$N$52,6,FALSE),0) -> 0 | I77: =IFERROR(VLOOKUP($A77,Filtro_!$A$5:$N$52,7,FALSE),0) -> 0 | J77: =IFERROR(VLOOKUP($A77,Filtro_!$A$5:$N$52,8,FALSE),0) -> 0 | K77: =IFERROR(VLOOKUP($A77,Filtro_!$A$5:$N$52,9,FALSE),0) -> 0 | L77: =IFERROR(VLOOKUP($A77,Filtro_!$A$5:$N$52,10,FALSE),0) -> 0 | M77: =IFERROR(VLOOKUP($A77,Filtro_!$A$5:$N$52,11,FALSE),0) -> 0 | N77: =IFERROR(VLOOKUP($A77,Filtro_!$A$5:$N$52,12,FALSE),0) -> 0 | O77: =IFERROR(VLOOKUP($A77,Filtro_!$A$5:$N$52,13,FALSE),0) -> 0 | P77: =IFERROR(VLOOKUP($A77,Filtro_!$A$5:$N$52,14,FALSE),0) -> 0 | Q77: =IFERROR(VLOOKUP($A77,Filtro_!$A$5:$N$52,15,FALSE),0) -> 0 | R77: =IFERROR(VLOOKUP($A77,Filtro_!$A$5:$N$52,16,FALSE),0) -> 0 | S77: =AB77&AC77&AD77&AE77&AF77&AG77 | AB77: =IF(AND($D77<>0,$E77="",$F77=""),"* No olvide ingresar la variable Hombres y/o Mujeres. Digite CERO si no tiene.",IF(SUM($E77+$F77)<>$D77, "*La suma Total de: "&$G$33&""&" + "&$N$33&""&" + "&$P$33&""&" debe ser igual a la suma de Hombres + Mujeres. ","")) | AI77: =IF(AND($D77<>0,$E77="",$F77=""),1,IF(SUM($E77+$F77)<>$D77,1,0)) -> 0
A78: 15901400 | B78: Alergia a la Proteína de la leche de vaca | D78: =IFERROR(VLOOKUP($A78,Filtro_!$A$5:$N$52,2,FALSE),0) -> 1454 | E78: =IFERROR(VLOOKUP($A78,Filtro_!$A$5:$N$52,3,FALSE),0) -> 774 | F78: =IFERROR(VLOOKUP($A78,Filtro_!$A$5:$N$52,4,FALSE),0) -> 673 | G78: =IFERROR(VLOOKUP($A78,Filtro_!$A$5:$N$52,5,FALSE),0) -> 87 | H78: =IFERROR(VLOOKUP($A78,Filtro_!$A$5:$N$52,6,FALSE),0) -> 557 | I78: =IFERROR(VLOOKUP($A78,Filtro_!$A$5:$N$52,7,FALSE),0) -> 331 | J78: =IFERROR(VLOOKUP($A78,Filtro_!$A$5:$N$52,8,FALSE),0) -> 14 | K78: =IFERROR(VLOOKUP($A78,Filtro_!$A$5:$N$52,9,FALSE),0) -> 0 | L78: =IFERROR(VLOOKUP($A78,Filtro_!$A$5:$N$52,10,FALSE),0) -> 0 | M78: =IFERROR(VLOOKUP($A78,Filtro_!$A$5:$N$52,11,FALSE),0) -> 0 | N78: =IFERROR(VLOOKUP($A78,Filtro_!$A$5:$N$52,12,FALSE),0) -> 0 | O78: =IFERROR(VLOOKUP($A78,Filtro_!$A$5:$N$52,13,FALSE),0) -> 0 | P78: =IFERROR(VLOOKUP($A78,Filtro_!$A$5:$N$52,14,FALSE),0) -> 0 | Q78: =IFERROR(VLOOKUP($A78,Filtro_!$A$5:$N$52,15,FALSE),0) -> 0 | R78: =IFERROR(VLOOKUP($A78,Filtro_!$A$5:$N$52,16,FALSE),0) -> 0 | S78: =AB78&AC78&AD78&AE78&AF78&AG78 -> *La suma Total de: Menores a 6 años + Gestantes + Persona que amamanta a hijo/a menor a 12 meses debe ser igual a la suma de Hombres + Mujeres. | AB78: =IF(AND($D78<>0,$E78="",$F78=""),"* No olvide ingresar la variable Hombres y/o Mujeres. Digite CERO si no tiene.",IF(SUM($E78+$F78)<>$D78, "*La suma Total de: "&$G$33&""&" + "&$N$33&""&" + "&$P$33&""&" debe ser igual a la suma de Hombres + Mujeres. ","")) -> *La suma Total de: Menores a 6 años + Gestantes + Persona que amamanta a hijo/a menor a 12 meses debe ser igual a la suma de Hombres + Mujeres. | AI78: =IF(AND($D78<>0,$E78="",$F78=""),1,IF(SUM($E78+$F78)<>$D78,1,0)) -> 1
B79: TOTAL | D79: =SUM(E79:F79) -> 3634 | E79: =SUM(E75:E78) -> 1843 | F79: =SUM(F75:F78) -> 1791 | G79: =SUM(G75:G78) -> 110 | H79: =SUM(H75:H78) -> 727 | I79: =SUM(I75:I78) -> 678 | J79: =SUM(J75:J76)+J78 -> 769 | K79: =SUM(K75:K76)+K78 -> 470 | L79: =SUM(L75:L76)+L78 -> 24 | M79: =SUM(M75:M76)+M78 -> 3 | N79: =SUM(N75) -> 21 | O79: =SUM(O76) -> 0 | P79: =SUM(P75:P76) -> 2 | Q79: =SUM(Q75:Q76) -> 0 | R79: =SUM(R75:R76) -> 0
A80: 15900090 | B80: Programas Sociales (*) | D80: =IFERROR(VLOOKUP($A80,Filtro_!$A$5:$N$52,2,FALSE),0) -> 0 | E80: =IFERROR(VLOOKUP($A80,Filtro_!$A$5:$N$52,3,FALSE),0) -> 0 | F80: =IFERROR(VLOOKUP($A80,Filtro_!$A$5:$N$52,4,FALSE),0) -> 0 | G80: =IFERROR(VLOOKUP($A80,Filtro_!$A$5:$N$52,5,FALSE),0) -> 0 | H80: =IFERROR(VLOOKUP($A80,Filtro_!$A$5:$N$52,6,FALSE),0) -> 0 | I80: =IFERROR(VLOOKUP($A80,Filtro_!$A$5:$N$52,7,FALSE),0) -> 0 | J80: =IFERROR(VLOOKUP($A80,Filtro_!$A$5:$N$52,8,FALSE),0) -> 0 | K80: =IFERROR(VLOOKUP($A80,Filtro_!$A$5:$N$52,9,FALSE),0) -> 0 | L80: =IFERROR(VLOOKUP($A80,Filtro_!$A$5:$N$52,10,FALSE),0) -> 0 | M80: =IFERROR(VLOOKUP($A80,Filtro_!$A$5:$N$52,11,FALSE),0) -> 0 | N80: =IFERROR(VLOOKUP($A80,Filtro_!$A$5:$N$52,12,FALSE),0) -> 0 | O80: =IFERROR(VLOOKUP($A80,Filtro_!$A$5:$N$52,13,FALSE),0) -> 0 | P80: =IFERROR(VLOOKUP($A80,Filtro_!$A$5:$N$52,14,FALSE),0) -> 0 | Q80: =IFERROR(VLOOKUP($A80,Filtro_!$A$5:$N$52,15,FALSE),0) -> 0 | R80: =IFERROR(VLOOKUP($A80,Filtro_!$A$5:$N$52,16,FALSE),0) -> 0 | S80: =AB80&AC80&AD80&AE80&AF80&AG80 | AB80: =IF(AND($D80<>0,$E80="",$F80=""),"* No olvide ingresar la variable Hombres y/o Mujeres. Digite CERO si no tiene.",IF(SUM($E80+$F80)<>$D80, "*La suma Total de: "&$G$33&""&" + "&$N$33&""&" + "&$P$33&""&" debe ser igual a la suma de Hombres + Mujeres. ","")) | AI80: =IF(AND($D80<>0,$E80="",$F80=""),1,IF(SUM($E80+$F80)<>$D80,1,0)) -> 0
B81: Nota: (*) Información referencial, ya incluida en los subprogramas.
B83: Sección E: Existencia y movimiento total de productos (Intrasistema y Extrasistema)
B84: Productos | D84: Saldo Mes Anterior | E84: Ingresos | G84: Total Disponible | H84: Egresos | O84: Saldo mes siguiente
E85: Proveedor/Operador Logístico | F85: Por traspaso | H85: Distribuido a Población Beneficiaria | K85: Mermas (Incluye faltantes) | L85: Otros (demostraciones, donaciones, etc.) | M85: Traspaso | N85: Total Egresos
H86: Intrasistema | I86: Extrasistema | J86: Total
B87: Purita +Pro 1 (PP1) | D87: =IFERROR(VLOOKUP($A87,Filtro_!$A$5:$N$52,2,FALSE),0) -> 0 | E87: =IFERROR(VLOOKUP($A87,Filtro_!$A$5:$N$52,3,FALSE),0) -> 0 | F87: =IFERROR(VLOOKUP($A87,Filtro_!$A$5:$N$52,4,FALSE),0) -> 0 | G87: =SUM(D87:F87) -> 0 | H87: =D13+D18 -> 96103 | I87: =+D50+D55 -> 1826 | J87: =+H87+I87 -> 97929 | K87: =IFERROR(VLOOKUP($A87,Filtro_!$A$5:$N$52,9,FALSE),0) -> 0 | L87: =IFERROR(VLOOKUP($A87,Filtro_!$A$5:$N$52,10,FALSE),0) -> 0 | M87: =IFERROR(VLOOKUP($A87,Filtro_!$A$5:$N$52,11,FALSE),0) -> 0 | N87: =SUM(J87:M87) -> 97929 | O87: =G87-N87 -> -97929
B88: Purita +Pro 2 (PP2) | D88: =IFERROR(VLOOKUP($A88,Filtro_!$A$5:$N$52,2,FALSE),0) -> 0 | E88: =IFERROR(VLOOKUP($A88,Filtro_!$A$5:$N$52,3,FALSE),0) -> 0 | F88: =IFERROR(VLOOKUP($A88,Filtro_!$A$5:$N$52,4,FALSE),0) -> 0 | G88: =SUM(D88:F88) -> 0 | H88: =D14+D19 -> 164704 | I88: =+D51+D56 -> 2331 | J88: =+H88+I88 -> 167035 | K88: =IFERROR(VLOOKUP($A88,Filtro_!$A$5:$N$52,9,FALSE),0) -> 0 | L88: =IFERROR(VLOOKUP($A88,Filtro_!$A$5:$N$52,10,FALSE),0) -> 0 | M88: =IFERROR(VLOOKUP($A88,Filtro_!$A$5:$N$52,11,FALSE),0) -> 0 | N88: =SUM(J88:M88) -> 167035 | O88: =G88-N88 -> -167035
B89: Mi Sopita (MS) | D89: =IFERROR(VLOOKUP($A89,Filtro_!$A$5:$N$52,2,FALSE),0) -> 0 | E89: =IFERROR(VLOOKUP($A89,Filtro_!$A$5:$N$52,3,FALSE),0) -> 0 | F89: =IFERROR(VLOOKUP($A89,Filtro_!$A$5:$N$52,4,FALSE),0) -> 0 | G89: =SUM(D89:F89) -> 0 | H89: =D20+D26 -> 7243 | I89: =+D57+D63 -> 50 | J89: =+H89+I89 -> 7293 | K89: =IFERROR(VLOOKUP($A89,Filtro_!$A$5:$N$52,9,FALSE),0) -> 0 | L89: =IFERROR(VLOOKUP($A89,Filtro_!$A$5:$N$52,10,FALSE),0) -> 0 | M89: =IFERROR(VLOOKUP($A89,Filtro_!$A$5:$N$52,11,FALSE),0) -> 0 | N89: =SUM(J89:M89) -> 7293 | O89: =G89-N89 -> -7293
B90: Purita Mamá (PM) | D90: =IFERROR(VLOOKUP($A90,Filtro_!$A$5:$N$52,2,FALSE),0) -> 0 | E90: =IFERROR(VLOOKUP($A90,Filtro_!$A$5:$N$52,3,FALSE),0) -> 0 | F90: =IFERROR(VLOOKUP($A90,Filtro_!$A$5:$N$52,4,FALSE),0) -> 0 | G90: =SUM(D90:F90) -> 0 | H90: =+D15+D21 -> 40354 | I90: =+D52+D58 -> 81 | J90: =+H90+I90 -> 40435 | K90: =IFERROR(VLOOKUP($A90,Filtro_!$A$5:$N$52,9,FALSE),0) -> 0 | L90: =IFERROR(VLOOKUP($A90,Filtro_!$A$5:$N$52,10,FALSE),0) -> 0 | M90: =IFERROR(VLOOKUP($A90,Filtro_!$A$5:$N$52,11,FALSE),0) -> 0 | N90: =SUM(J90:M90) -> 40435 | O90: =G90-N90 -> -40435
B91: Fórmula de Inicio (FI) | D91: =IFERROR(VLOOKUP($A91,Filtro_!$A$5:$N$52,2,FALSE),0) -> 0 | E91: =IFERROR(VLOOKUP($A91,Filtro_!$A$5:$N$52,3,FALSE),0) -> 0 | F91: =IFERROR(VLOOKUP($A91,Filtro_!$A$5:$N$52,4,FALSE),0) -> 0 | G91: =SUM(D91:F91) -> 0 | H91: =D16+D22+D25 -> 125529.7 | I91: =+D53+D59+D62 -> 15.2 | J91: =+H91+I91 -> 125544.9 | K91: =IFERROR(VLOOKUP($A91,Filtro_!$A$5:$N$52,9,FALSE),0) -> 0 | L91: =IFERROR(VLOOKUP($A91,Filtro_!$A$5:$N$52,10,FALSE),0) -> 0 | M91: =IFERROR(VLOOKUP($A91,Filtro_!$A$5:$N$52,11,FALSE),0) -> 0 | N91: =SUM(J91:M91) -> 125544.9 | O91: =G91-N91 -> -125544.9
B92: Fórmula Prematuros | D92: =IFERROR(VLOOKUP($A92,Filtro_!$A$5:$N$52,2,FALSE),0) -> 0 | E92: =IFERROR(VLOOKUP($A92,Filtro_!$A$5:$N$52,3,FALSE),0) -> 0 | F92: =IFERROR(VLOOKUP($A92,Filtro_!$A$5:$N$52,4,FALSE),0) -> 0 | G92: =SUM(D92:F92) -> 0 | H92: =D24 -> 2084.8 | I92: =D61 -> 20.83 | J92: =+H92+I92 -> 2105.63 | K92: =IFERROR(VLOOKUP($A92,Filtro_!$A$5:$N$52,9,FALSE),0) -> 0 | L92: =IFERROR(VLOOKUP($A92,Filtro_!$A$5:$N$52,10,FALSE),0) -> 0 | M92: =IFERROR(VLOOKUP($A92,Filtro_!$A$5:$N$52,11,FALSE),0) -> 0 | N92: =SUM(J92:M92) -> 2105.63 | O92: =G92-N92 -> -2105.63
B93: Fórmula Extensamente Hidrolizada (FEH) | D93: =IFERROR(VLOOKUP($A93,Filtro_!$A$5:$N$52,2,FALSE),0) -> 0 | E93: =IFERROR(VLOOKUP($A93,Filtro_!$A$5:$N$52,3,FALSE),0) -> 0 | F93: =IFERROR(VLOOKUP($A93,Filtro_!$A$5:$N$52,4,FALSE),0) -> 0 | G93: =SUM(D93:F93) -> 0 | H93: =D28 -> 10442.8 | I93: =D65 -> 3823.2 | J93: =+H93+I93 -> 14266 | K93: =IFERROR(VLOOKUP($A93,Filtro_!$A$5:$N$52,9,FALSE),0) -> 0 | L93: =IFERROR(VLOOKUP($A93,Filtro_!$A$5:$N$52,10,FALSE),0) -> 0 | M93: =IFERROR(VLOOKUP($A93,Filtro_!$A$5:$N$52,11,FALSE),0) -> 0 | N93: =SUM(J93:M93) -> 14266 | O93: =G93-N93 -> -14266
B94: Fórmula aminoacídica (FAA) | D94: =IFERROR(VLOOKUP($A94,Filtro_!$A$5:$N$52,2,FALSE),0) -> 0 | E94: =IFERROR(VLOOKUP($A94,Filtro_!$A$5:$N$52,3,FALSE),0) -> 0 | F94: =IFERROR(VLOOKUP($A94,Filtro_!$A$5:$N$52,4,FALSE),0) -> 0 | G94: =SUM(D94:F94) -> 0 | H94: =D29 -> 2250.8 | I94: =D66 -> 6050.4 | J94: =+H94+I94 -> 8301.2 | K94: =IFERROR(VLOOKUP($A94,Filtro_!$A$5:$N$52,9,FALSE),0) -> 0 | L94: =IFERROR(VLOOKUP($A94,Filtro_!$A$5:$N$52,10,FALSE),0) -> 0 | M94: =IFERROR(VLOOKUP($A94,Filtro_!$A$5:$N$52,11,FALSE),0) -> 0 | N94: =SUM(J94:M94) -> 8301.2 | O94: =G94-N94 -> -8301.2
B95: TOTAL (Kg) | D95: =SUM(D87,D88:D94) -> 0 | E95: =SUM(E87,E88:E94) -> 0 | F95: =SUM(F87,F88:F94) -> 0 | G95: =SUM(G87,G88:G94) -> 0 | H95: =SUM(H87,H88:H94) -> 448712.1 | I95: =SUM(I87,I88:I94) -> 14197.63 | J95: =SUM(J87,J88:J94) -> 462909.73 | K95: =SUM(K87,K88:K94) -> 0 | ... O95: =SUM(O87,O88:O94) -> -462909.73
B110: =SUM(D13:D16,D18:D22,D24:D26,D28:D29,D37:D40,D42,D50:D53,D55:D59,D61:D63,D65:D66,D75:D78,D80,D87:D94) -> 657882.73 | C110: =SUM(AI13:AL80) -> 5
B148: =SUM(C8:R95) -> 4515756.3 | AG148: =SUM(AF1:AJ147) -> 5

Sheet D16
B1: SERVICIO DE SALUD
B2: =CONCATENATE("COMUNA: ",[1]NOMBRE!$B$2," ","( ",[1]NOMBRE!$C$2,[1]NOMBRE!$D$2,[1]NOMBRE!$E$2,[1]NOMBRE!$F$2,[1]NOMBRE!$G$2," )") -> COMUNA: ( )
B3: =CONCATENATE("ESTABLECIMIENTO/ESTRATEGIA: ",[1]NOMBRE!$B$3," ","( ",[1]NOMBRE!$C$3,[1]NOMBRE!$D$3,[1]NOMBRE!$E$3,[1]NOMBRE!$F$3,[1]NOMBRE!$G$3,[1]NOMBRE!$H$3," )") -> ESTABLECIMIENTO/ESTRATEGIA: ( )
B4: =CONCATENATE("MES: ",[1]NOMBRE!$B$6," ","( ",[1]NOMBRE!$C$6,[1]NOMBRE!$D$6," )") -> MES: ( )
B5: =CONCATENATE("AÑO: ",[1]NOMBRE!$B$7) -> AÑO: 2025
B7: REM-D.16. Programa de Alimentación Complementaria del Adulto Mayor (PACAM)
B9: Sección A: PACAM - Cantidad distribuida (kg)
B10: Grupo Programático | C10: Sopa/Crema | D10: Bebida Láctea
A11: 16090300 | B11: 70 años y más (independiente del motivo de ingreso) | C11: =IFERROR(VLOOKUP($A11,Filtro_!$A$5:$N$52,2,FALSE),0) -> 319675 | D11: =IFERROR(VLOOKUP($A11,Filtro_!$A$5:$N$52,3,FALSE),0) -> 319686 | E11: =$AB11 -> La cantidad distribuída de Sopa/Crema es distinta a la cantidad distribuída de Bebida Láctea.- | AB11: =IF(C11<>D11,"La cantidad distribuída de Sopa/Crema es distinta a la cantidad distribuída de Bebida Láctea.- ","") -> La cantidad distribuída de Sopa/Crema es distinta a la cantidad distribuída de Bebida Láctea.- | AD11: =IF($C11<>$D11,1,0) -> 1
A12: 16200210 | B12: 65 - 69 años con alteración de la funcionalidad | C12: =IFERROR(VLOOKUP($A12,Filtro_!$A$5:$N$52,2,FALSE),0) -> 26348 | D12: =IFERROR(VLOOKUP($A12,Filtro_!$A$5:$N$52,3,FALSE),0) -> 26344 | E12: =$AB12 -> La cantidad distribuída de Sopa/Crema es distinta a la cantidad distribuída de Bebida Láctea.- | AB12: =IF(C12<>D12,"La cantidad distribuída de Sopa/Crema es distinta a la cantidad distribuída de Bebida Láctea.- ","") -> La cantidad distribuída de Sopa/Crema es distinta a la cantidad distribuída de Bebida Láctea.- | AD12: =IF($C12<>$D12,1,0) -> 1
A13: 16090500 | B13: 65 - 69 años en programa social (Vínculos, Familia, Calle u otro) | C13: =IFERROR(VLOOKUP($A13,Filtro_!$A$5:$N$52,2,FALSE),0) -> 565 | D13: =IFERROR(VLOOKUP($A13,Filtro_!$A$5:$N$52,3,FALSE),0) -> 565 | E13: =$AB13 | AB13: =IF(C13<>D13,"La cantidad distribuída de Sopa/Crema es distinta a la cantidad distribuída de Bebida Láctea.- ","") | AD13: =IF($C13<>$D13,1,0) -> 0
A14: 16090600 | B14: 60 - 69 años con tuberculosis | C14: =IFERROR(VLOOKUP($A14,Filtro_!$A$5:$N$52,2,FALSE),0) -> 115 | D14: =IFERROR(VLOOKUP($A14,Filtro_!$A$5:$N$52,3,FALSE),0) -> 115 | E14: =$AB14 | AB14: =IF(C14<>D14,"La cantidad distribuída de Sopa/Crema es distinta a la cantidad distribuída de Bebida Láctea.- ","") | AD14: =IF($C14<>$D14,1,0) -> 0
A15: 16090100 | B15: 60 - 69 años en ELEAM autorizado o similar | C15: =IFERROR(VLOOKUP($A15,Filtro_!$A$5:$N$52,2,FALSE),0) -> 3171 | D15: =IFERROR(VLOOKUP($A15,Filtro_!$A$5:$N$52,3,FALSE),0) -> 3171 | E15: =$AB15 | AB15: =IF(C15<>D15,"La cantidad distribuída de Sopa/Crema es distinta a la cantidad distribuída de Bebida Láctea.- ","") | AD15: =IF($C15<>$D15,1,0) -> 0
B16: TOTAL | C16: =SUM(C11:C15) -> 349874 | D16: =SUM(D11:D15) -> 349881
B18: Sección B: PACAM - Número de personas que retiran
B19: Grupo Programático | C19: Sopa/Crema - Bebida Láctea
C20: Total | D20: Total Hombres | E20: Total Mujeres
A21: 16100300 | B21: 70 años y más (independiente del motivo de ingreso | C21: =IFERROR(VLOOKUP($A21,Filtro_!$A$5:$N$52,2,FALSE),0) -> 322894 | D21: =IFERROR(VLOOKUP($A21,Filtro_!$A$5:$N$52,3,FALSE),0) -> 135590 | E21: =IFERROR(VLOOKUP($A21,Filtro_!$A$5:$N$52,4,FALSE),0) -> 187312 | F21: =$AB21 -> No olvide que el Nº de personas que retiran debe ser igual al promedio de Kilos que retiran en Seccion A. | AB21: =IF(((C11+D11)/2)<>((D21+E21))," No olvide que el Nº de personas que retiran debe ser igual al promedio de Kilos que retiran en Seccion A.","") -> No olvide que el Nº de personas que retiran debe ser igual al promedio de Kilos que retiran en Seccion A. | AD21: =IF(((C11+D11)/2)<>((D21+E21)),1,0) -> 1
A22: 16200220 | B22: 65 - 69 años con alteración de la funcionalidad | C22: =IFERROR(VLOOKUP($A22,Filtro_!$A$5:$N$52,2,FALSE),0) -> 26299 | D22: =IFERROR(VLOOKUP($A22,Filtro_!$A$5:$N$52,3,FALSE),0) -> 9793 | E22: =IFERROR(VLOOKUP($A22,Filtro_!$A$5:$N$52,4,FALSE),0) -> 16506 | F22: =$AB22 -> No olvide que el Nº de personas que retiran debe ser igual al promedio de Kilos que retiran en Seccion A. | AB22: =IF(((C12+D12)/2)<>((D22+E22))," No olvide que el Nº de personas que retiran debe ser igual al promedio de Kilos que retiran en Seccion A.","") -> No olvide que el Nº de personas que retiran debe ser igual al promedio de Kilos que retiran en Seccion A. | AD22: =IF(((C12+D12)/2)<>((D22+E22)),1,0) -> 1
A23: 16100600 | B23: 65 - 69 años en programa social (Vínculos, Familia, Calle u otro) | C23: =IFERROR(VLOOKUP($A23,Filtro_!$A$5:$N$52,2,FALSE),0) -> 522 | D23: =IFERROR(VLOOKUP($A23,Filtro_!$A$5:$N$52,3,FALSE),0) -> 202 | E23: =IFERROR(VLOOKUP($A23,Filtro_!$A$5:$N$52,4,FALSE),0) -> 320 | F23: =$AB23 -> No olvide que el Nº de personas que retiran debe ser igual al promedio de Kilos que retiran en Seccion A. | AB23: =IF(((C13+D13)/2)<>((D23+E23))," No olvide que el Nº de personas que retiran debe ser igual al promedio de Kilos que retiran en Seccion A.","") -> No olvide que el Nº de personas que retiran debe ser igual al promedio de Kilos que retiran en Seccion A. | AD23: =IF(((C13+D13)/2)<>((D23+E23)),1,0) -> 1
A24: 16100700 | B24: 60 - 69 años con tuberculosis | C24: =IFERROR(VLOOKUP($A24,Filtro_!$A$5:$N$52,2,FALSE),0) -> 78 | D24: =IFERROR(VLOOKUP($A24,Filtro_!$A$5:$N$52,3,FALSE),0) -> 56 | E24: =IFERROR(VLOOKUP($A24,Filtro_!$A$5:$N$52,4,FALSE),0) -> 22 | F24: =$AB24 -> No olvide que el Nº de personas que retiran debe ser igual al promedio de Kilos que retiran en Seccion A. | AB24: =IF(((C14+D14)/2)<>((D24+E24))," No olvide que el Nº de personas que retiran debe ser igual al promedio de Kilos que retiran en Seccion A.","") -> No olvide que el Nº de personas que retiran debe ser igual al promedio de Kilos que retiran en Seccion A. | AD24: =IF(((C14+D14)/2)<>((D24+E24)),1,0) -> 1
A25: 16100100 | B25: 60 - 69 años en ELEAM autorizado o similar | C25: =IFERROR(VLOOKUP($A25,Filtro_!$A$5:$N$52,2,FALSE),0) -> 3281 | D25: =IFERROR(VLOOKUP($A25,Filtro_!$A$5:$N$52,3,FALSE),0) -> 1387 | E25: =IFERROR(VLOOKUP($A25,Filtro_!$A$5:$N$52,4,FALSE),0) -> 1894 | F25: =$AB25 -> No olvide que el Nº de personas que retiran debe ser igual al promedio de Kilos que retiran en Seccion A. | AB25: =IF(((C15+D15)/2)<>((D25+E25))," No olvide que el Nº de personas que retiran debe ser igual al promedio de Kilos que retiran en Seccion A.","") -> No olvide que el Nº de personas que retiran debe ser igual al promedio de Kilos que retiran en Seccion A. | AD25: =IF(((C15+D15)/2)<>((D25+E25)),1,0) -> 1
B26: TOTAL | C26: =SUM(C21:C25) -> 353074 | D26: =SUM(D21:D25) -> 147028 | E26: =SUM(E21:E25) -> 206054
B28: Sección C: Existencia y movimiento de productos
B29: Productos | C29: Saldo mes anterior | D29: Ingresos | F29: Total disponible | G29: Egresos | L29: Saldo mes siguiente
D30: Proveedor/Operador Logístico | E30: Por traspaso | G30: Distribuido a población beneficiaria | H30: Mermas (Incluye faltantes) | I30: Otros: (demostraciones, donaciones, etc.) | J30: Traspaso | K30: Total egresos
B32: Sopa/Crema | C32: =IFERROR(VLOOKUP($A32,Filtro_!$A$5:$N$52,2,FALSE),0) -> 0 | D32: =IFERROR(VLOOKUP($A32,Filtro_!$A$5:$N$52,3,FALSE),0) -> 0 | E32: =IFERROR(VLOOKUP($A32,Filtro_!$A$5:$N$52,4,FALSE),0) -> 0 | F32: =SUM(C32:E32) -> 0 | G32: =C16 -> 349874 | H32: =IFERROR(VLOOKUP($A32,Filtro_!$A$5:$N$52,7,FALSE),0) -> 0 | I32: =IFERROR(VLOOKUP($A32,Filtro_!$A$5:$N$52,8,FALSE),0) -> 0 | J32: =IFERROR(VLOOKUP($A32,Filtro_!$A$5:$N$52,9,FALSE),0) -> 0 | K32: =SUM(G32:J32) -> 349874 | L32: =F32-K32 -> -349874
B33: Bebida Láctea | C33: =IFERROR(VLOOKUP($A33,Filtro_!$A$5:$N$52,2,FALSE),0) -> 0 | D33: =IFERROR(VLOOKUP($A33,Filtro_!$A$5:$N$52,3,FALSE),0) -> 0 | E33: =IFERROR(VLOOKUP($A33,Filtro_!$A$5:$N$52,4,FALSE),0) -> 0 | F33: =SUM(C33:E33) -> 0 | G33: =D16 -> 349881 | H33: =IFERROR(VLOOKUP($A33,Filtro_!$A$5:$N$52,7,FALSE),0) -> 0 | I33: =IFERROR(VLOOKUP($A33,Filtro_!$A$5:$N$52,8,FALSE),0) -> 0 | J33: =IFERROR(VLOOKUP($A33,Filtro_!$A$5:$N$52,9,FALSE),0) -> 0 | K33: =SUM(G33:J33) -> 349881 | L33: =F33-K33 -> -349881
B35: Sección D: PACAM - Número de personas que retiran, pertenecientes al PRAIS (incluidos en Sección B)
B36: Grupo Programático | C36: Sopa/Crema - Bebida Láctea
C37: Total | D37: Total Hombres | E37: Total Mujeres
A38: 16200100 | B38: 70 años y más (independiente del motivo de ingreso | C38: =IFERROR(VLOOKUP($A38,Filtro_!$A$5:$N$52,2,FALSE),0) -> 7303 | D38: =IFERROR(VLOOKUP($A38,Filtro_!$A$5:$N$52,3,FALSE),0) -> 3590 | E38: =IFERROR(VLOOKUP($A38,Filtro_!$A$5:$N$52,4,FALSE),0) -> 3713
A39: 16200230 | B39: 65 - 69 años con alteración de la funcionalidad | C39: =IFERROR(VLOOKUP($A39,Filtro_!$A$5:$N$52,2,FALSE),0) -> 323 | D39: =IFERROR(VLOOKUP($A39,Filtro_!$A$5:$N$52,3,FALSE),0) -> 125 | E39: =IFERROR(VLOOKUP($A39,Filtro_!$A$5:$N$52,4,FALSE),0) -> 198
A40: 16200240 | B40: 65 - 69 años en programa social (Vínculos, Familia, Calle u otro) | C40: =IFERROR(VLOOKUP($A40,Filtro_!$A$5:$N$52,2,FALSE),0) -> 1 | D40: =IFERROR(VLOOKUP($A40,Filtro_!$A$5:$N$52,3,FALSE),0) -> 0 | E40: =IFERROR(VLOOKUP($A40,Filtro_!$A$5:$N$52,4,FALSE),0) -> 1
A41: 16200200 | B41: 60 - 69 años con tuberculosis | C41: =IFERROR(VLOOKUP($A41,Filtro_!$A$5:$N$52,2,FALSE),0) -> 0 | D41: =IFERROR(VLOOKUP($A41,Filtro_!$A$5:$N$52,3,FALSE),0) -> 0 | E41: =IFERROR(VLOOKUP($A41,Filtro_!$A$5:$N$52,4,FALSE),0) -> 0
A42: 16200250 | B42: 60 - 69 años en ELEAM autorizado o similar | C42: =IFERROR(VLOOKUP($A42,Filtro_!$A$5:$N$52,2,FALSE),0) -> 0 | D42: =IFERROR(VLOOKUP($A42,Filtro_!$A$5:$N$52,2,FALSE),0) -> 0 | E42: =IFERROR(VLOOKUP($A42,Filtro_!$A$5:$N$52,4,FALSE),0) -> 0
B43: TOTAL | C43: =SUM(C38:C42) -> 7627 | D43: =SUM(D38:D42) -> 3715 | E43: =SUM(E38:E42) -> 3912
B70: =SUM(C11:D15,D21:E25,C32:E33,H32:J33,D38:E42) -> 1060464
B71: =SUM(AD11:AD25) -> 7

Sheet Filtro_
A1: Mes | B1: (Todas)
A2: Establecimiento | B2: (Todas)
A3: Comuna | B3: (Todas)
A5: Etiquetas de fila | B5: Suma de Col01 | C5: Suma de Col02 | D5: Suma de Col03 | E5: Suma de Col04 | F5: Suma de Col06 | G5: Suma de Col07 | H5: Suma de Col09 | I5: Suma de Col10 | J5: Suma de Col11 | K5: Suma de Col12 | L5: Suma de Col13 | M5: Suma de Col14 | N5: Suma de Col15
A6: 15010500 | B6: 7217 | D6: 41 | E6: 1092 | F6: 699 | G6: 2818
A7: 15020500 | B7: 50 | D7: 1 | E7: 1 | F7: 4 | G7: 14
A8: 15030100 | B8: 2084.8 | C8: 830.68 | D8: 520.04 | E8: 734.08
A9: 15040100 | B9: 20.83 | C9: 20.83
A10: 15050100 | B10: 184117 | C10: 76378 | D10: 107620 | E10: 2519 | F10: 14026 | G10: 22199 | H10: 47460 | I10: 34814 | J10: 21288 | L10: 5306 | M10: 3195 | N10: 5634
A11: 15050200 | B11: 4135 | C11: 2204 | D11: 1915 | E11: 104 | F11: 553 | G11: 402 | H11: 1438 | I11: 886 | K11: 183 | L11: 13 | M11: 7 | N11: 5
A12: 15050500 | B12: 714 | C12: 361 | D12: 353 | E12: 228 | F12: 296
A13: 15060100 | B13: 2143 | C13: 1038 | D13: 1089 | E13: 18 | F13: 168 | G13: 344 | H13: 727 | I13: 449 | J13: 24 | L13: 21 | M13: 10 | N13: 2
A14: 15060200 | B14: 60 | C14: 31 | D14: 24 | E14: 0 | F14: 2 | G14: 3 | H14: 28 | I14: 21 | K14: 3 | L14: 0 | M14: 0 | N14: 0
A15: 15060600 | B15: 5 | C15: 0 | D15: 5 | E15: 5
A16: 15080008 | B16: 39761 | H16: 20759 | J16: 10261 | K16: 3171 | L16: 5570
A17: 15080009 | B17: 593 | I17: 538 | J17: 36 | K17: 11 | L17: 8
A18: 15080010 | B18: 78 | H18: 24 | J18: 42 | K18: 10 | L18: 2
A19: 15080011 | B19: 3 | I19: 3
A20: 15080012 | B20: 26 | D20: 4 | E20: 22
A21: 15080014 | B21: 90021 | F21: 45428
A22: 15080015 | B22: 164703 | G22: 95035 | H22: 634 | J22: 244 | K22: 33 | L22: 80
A23: 15080016 | B23: 6082 | F23: 722 | G23: 2850
A24: 15080017 | B24: 1 | I24: 1
A25: 15080018 | B25: 1788 | C25: 27 | D25: 57 | E25: 321 | F25: 692
A26: 15080019 | B26: 2330 | G26: 1444 | H26: 0 | J26: 0 | K26: 0 | L26: 0
A27: 15080020 | B27: 38 | C27: 0 | D27: 0 | E27: 2 | F27: 2 | G27: 6
A28: 15080021 | B28: 1 | I28: 1
A29: 15900010 | B29: 115724.4 | C29: 5584.9 | D29: 18199.9 | E29: 91939.6
A30: 15900020 | B30: 8702 | C30: 277.7 | D30: 566.4 | E30: 7857.9
A31: 15900030 | B31: 10442.8 | C31: 4686.8 | D31: 716 | E31: 2232 | F31: 1009.2 | G31: 310.8
A32: 15900040 | B32: 2250.8 | C32: 100.4 | D32: 352 | E32: 752 | F32: 380 | G32: 101.6
A33: 15900050 | B33: 2345 | C33: 1184 | D33: 1161 | E33: 120 | F33: 835 | G33: 575 | H33: 124 | I33: 8
A34: 15900070 | B34: 15.2 | C34: 0 | D34: 0 | E34: 15.2
A35: 15901200 | B35: 3823.2 | C35: 180.4 | D35: 546.8 | E35: 1460 | F35: 649.6 | G35: 30.4
A36: 15901300 | B36: 6050.4 | C36: 102.8 | D36: 356.4 | E36: 5038.4 | F36: 242.8 | G36: 26.4
A37: 15901400 | B37: 1454 | C37: 774 | D37: 673 | E37: 87 | F37: 557 | G37: 331 | H37: 14 | I37: 0
A38: 15901500 | B38: 1103.3 | C38: 100 | D38: 343.2 | E38: 660.1
A39: 16090100 | B39: 3171 | C39: 3171
A40: 16090300 | B40: 319675 | C40: 319686
A41: 16090500 | B41: 565 | C41: 565
A42: 16090600 | B42: 115 | C42: 115
A43: 16100100 | B43: 3281 | C43: 1387 | D43: 1894
A44: 16100300 | B44: 322894 | C44: 135590 | D44: 187312
A45: 16100600 | B45: 522 | C45: 202 | D45: 320
A46: 16100700 | B46: 78 | C46: 56 | D46: 22
A47: 16200100 | B47: 7303 | C47: 3590 | D47: 3713
A48: 16200210 | B48: 26348 | C48: 26344
A49: 16200220 | B49: 26299 | C49: 9793 | D49: 16506
A50: 16200230 | B50: 323 | C50: 125 | D50: 198
A51: 16200240 | B51: 1 | D51: 1
A52: Total general | B52: 1368457.7 | C52: 594505.51 | D52: 344509.74 | E52: 115208.28 | F52: 66265.6 | G52: 126490.2 | H52: 71208 | I52: 36721 | J52: 31895 | K52: 3411 | L52: 11000 | M52: 3212 | N52: 5641
