Workbook

Sheet COMGES 11
A1: MINISTERIO DE SALUD
A2: SERVICIO DE SALUD COQUIMBO
A3: SUBDIRECCIÓN DE GESTIÓN ASISTENCIAL
A4: SUBDEPTO. DE ESTADÍSTICAS Y GESTIÓN DE LA INFORMACIÓN
A5: AÑO 2022
B6: INDICADOR 11.2: Porcentaje de atención de pacientes C2 en los tiempos según estándar en las Unidades de Emergencia
B9: HOSPITAL | C9: N° Total de Pacientes C2 que se atiende en 30 minutos o menos en Unidad de Emergencia*100 | P9: N° total de pacientes C2 atendidos en Unidad de Emergencia | AC9: INDICADOR
C10: Enero | D10: Febrero | E10: Marzo | F10: Abril | G10: Mayo | H10: Junio | I10: Julio | J10: Agosto | K10: Septiembre | L10: Octubre | M10: Noviembre | N10: Diciembre | O10: TOTAL | P10: Enero | Q10: Febrero | R10: Marzo | S10: Abril | T10: Mayo | U10: Junio | V10: Julio | W10: Agosto | X10: Septiembre | Y10: Octubre | Z10: Noviembre | AA10: Diciembre | AB10: TOTAL
B11: 105100-HOSPITAL LA SERENA | O11: =SUM(C11:N11) -> 0 | P11: =IFERROR(VLOOKUP($B11,Datos11.2!$F$3:$S$19,2,FALSE),0) -> 473 | Q11: =IFERROR(VLOOKUP($B11,Datos11.2!$F$3:$S$19,3,FALSE),0) -> 383 | R11: =IFERROR(VLOOKUP($B11,Datos11.2!$F$3:$S$19,4,FALSE),0) -> 447 | S11: =IFERROR(VLOOKUP($B11,Datos11.2!$F$3:$S$19,5,FALSE),0) -> 426 | T11: =IFERROR(VLOOKUP($B11,Datos11.2!$F$3:$S$19,6,FALSE),0) -> 545 | U11: =IFERROR(VLOOKUP($B11,Datos11.2!$F$3:$S$19,7,FALSE),0) -> 473 | V11: =IFERROR(VLOOKUP($B11,Datos11.2!$F$3:$S$19,8,FALSE),0) -> 431 | W11: =IFERROR(VLOOKUP($B11,Datos11.2!$F$3:$S$19,9,FALSE),0) -> 538 | X11: =IFERROR(VLOOKUP($B11,Datos11.2!$F$3:$S$19,10,FALSE),0) -> 429 | Y11: =IFERROR(VLOOKUP($B11,Datos11.2!$F$3:$S$19,11,FALSE),0) -> 510 | Z11: =IFERROR(VLOOKUP($B11,Datos11.2!$F$3:$S$19,12,FALSE),0) -> 451 | AA11: =IFERROR(VLOOKUP($B11,Datos11.2!$F$3:$S$19,13,FALSE),0) -> 469 | AB11: =SUM(P11:AA11) -> 5575 | AC11: =O11/AB11 -> 0
B12: 105101-HOSPITAL COQUIMBO | O12: =SUM(C12:N12) -> 0 | P12: =IFERROR(VLOOKUP($B12,Datos11.2!$F$3:$S$19,2,FALSE),0) -> 263 | Q12: =IFERROR(VLOOKUP($B12,Datos11.2!$F$3:$S$19,3,FALSE),0) -> 243 | R12: =IFERROR(VLOOKUP($B12,Datos11.2!$F$3:$S$19,4,FALSE),0) -> 254 | S12: =IFERROR(VLOOKUP($B12,Datos11.2!$F$3:$S$19,5,FALSE),0) -> 255 | T12: =IFERROR(VLOOKUP($B12,Datos11.2!$F$3:$S$19,6,FALSE),0) -> 322 | U12: =IFERROR(VLOOKUP($B12,Datos11.2!$F$3:$S$19,7,FALSE),0) -> 296 | V12: =IFERROR(VLOOKUP($B12,Datos11.2!$F$3:$S$19,8,FALSE),0) -> 290 | W12: =IFERROR(VLOOKUP($B12,Datos11.2!$F$3:$S$19,9,FALSE),0) -> 295 | X12: =IFERROR(VLOOKUP($B12,Datos11.2!$F$3:$S$19,10,FALSE),0) -> 310 | Y12: =IFERROR(VLOOKUP($B12,Datos11.2!$F$3:$S$19,11,FALSE),0) -> 288 | Z12: =IFERROR(VLOOKUP($B12,Datos11.2!$F$3:$S$19,12,FALSE),0) -> 284 | AA12: =IFERROR(VLOOKUP($B12,Datos11.2!$F$3:$S$19,13,FALSE),0) -> 221 | AB12: =SUM(P12:AA12) -> 3321 | AC12: =O12/AB12 -> 0
B13: 105102-HOSPITAL OVALLE | O13: =SUM(C13:N13) -> 0 | P13: =IFERROR(VLOOKUP($B13,Datos11.2!$F$3:$S$19,2,FALSE),0) -> 319 | Q13: =IFERROR(VLOOKUP($B13,Datos11.2!$F$3:$S$19,3,FALSE),0) -> 308 | R13: =IFERROR(VLOOKUP($B13,Datos11.2!$F$3:$S$19,4,FALSE),0) -> 281 | S13: =IFERROR(VLOOKUP($B13,Datos11.2!$F$3:$S$19,5,FALSE),0) -> 328 | T13: =IFERROR(VLOOKUP($B13,Datos11.2!$F$3:$S$19,6,FALSE),0) -> 343 | U13: =IFERROR(VLOOKUP($B13,Datos11.2!$F$3:$S$19,7,FALSE),0) -> 365 | V13: =IFERROR(VLOOKUP($B13,Datos11.2!$F$3:$S$19,8,FALSE),0) -> 349 | W13: =IFERROR(VLOOKUP($B13,Datos11.2!$F$3:$S$19,9,FALSE),0) -> 419 | X13: =IFERROR(VLOOKUP($B13,Datos11.2!$F$3:$S$19,10,FALSE),0) -> 384 | Y13: =IFERROR(VLOOKUP($B13,Datos11.2!$F$3:$S$19,11,FALSE),0) -> 400 | Z13: =IFERROR(VLOOKUP($B13,Datos11.2!$F$3:$S$19,12,FALSE),0) -> 443 | AA13: =IFERROR(VLOOKUP($B13,Datos11.2!$F$3:$S$19,13,FALSE),0) -> 428 | AB13: =SUM(P13:AA13) -> 4367 | AC13: =O13/AB13 -> 0
B14: 105103-HOSPITAL ILLAPEL | O14: =SUM(C14:N14) -> 0 | P14: =IFERROR(VLOOKUP($B14,Datos11.2!$F$3:$S$19,2,FALSE),0) -> 14 | Q14: =IFERROR(VLOOKUP($B14,Datos11.2!$F$3:$S$19,3,FALSE),0) -> 10 | R14: =IFERROR(VLOOKUP($B14,Datos11.2!$F$3:$S$19,4,FALSE),0) -> 14 | S14: =IFERROR(VLOOKUP($B14,Datos11.2!$F$3:$S$19,5,FALSE),0) -> 18 | T14: =IFERROR(VLOOKUP($B14,Datos11.2!$F$3:$S$19,6,FALSE),0) -> 17 | U14: =IFERROR(VLOOKUP($B14,Datos11.2!$F$3:$S$19,7,FALSE),0) -> 18 | V14: =IFERROR(VLOOKUP($B14,Datos11.2!$F$3:$S$19,8,FALSE),0) -> 13 | W14: =IFERROR(VLOOKUP($B14,Datos11.2!$F$3:$S$19,9,FALSE),0) -> 9 | X14: =IFERROR(VLOOKUP($B14,Datos11.2!$F$3:$S$19,10,FALSE),0) -> 16 | Y14: =IFERROR(VLOOKUP($B14,Datos11.2!$F$3:$S$19,11,FALSE),0) -> 15 | Z14: =IFERROR(VLOOKUP($B14,Datos11.2!$F$3:$S$19,12,FALSE),0) -> 17 | AA14: =IFERROR(VLOOKUP($B14,Datos11.2!$F$3:$S$19,13,FALSE),0) -> 16 | AB14: =SUM(P14:AA14) -> 177 | AC14: =O14/AB14 -> 0
B15: Total Regional | C15: =SUM(C11:C14) -> 0 | D15: =SUM(D11:D14) -> 0 | E15: =SUM(E11:E14) -> 0 | F15: =SUM(F11:F14) -> 0 | G15: =SUM(G11:G14) -> 0 | H15: =SUM(H11:H14) -> 0 | I15: =SUM(I11:I14) -> 0 | J15: =SUM(J11:J14) -> 0 | ... AB15: =SUM(AB11:AB14) -> 13440 | AC15: =O15/AB15 -> 0
B16: *Fuente: REM A08, Sección B
B19: INDICADOR:11.3 Porcentaje de Abandono de Paciente del Proceso de Atención Médica en Unidades de Emergencia Hospitalaria
B22: HOSPITAL | C22: (Total de pacientes admitidos con generación de DAU con o sin alta médica - Total de Atenciones de Urgencia con alta médica) | P22: Total de pacientes admitidos con generación de DAU con o sin alta médica | AC22: INDICADOR
C23: Enero | D23: Febrero | E23: Marzo | F23: Abril | G23: Mayo | H23: Junio | I23: Julio | J23: Agosto | K23: Septiembre | L23: Octubre | M23: Noviembre | N23: Diciembre | O23: TOTAL | P23: Enero | Q23: Febrero | R23: Marzo | S23: Abril | T23: Mayo | U23: Junio | V23: Julio | W23: Agosto | X23: Septiembre | Y23: Octubre | Z23: Noviembre | AA23: Diciembre | AB23: TOTAL
B24: 105100-HOSPITAL LA SERENA | C24: =IFERROR(VLOOKUP($B24,Datos11.3!$F$3:$S$9,2,FALSE),0) -> 195 | D24: =IFERROR(VLOOKUP($B24,Datos11.3!$F$3:$S$9,3,FALSE),0) -> 222 | E24: =IFERROR(VLOOKUP($B24,Datos11.3!$F$3:$S$9,4,FALSE),0) -> 176 | F24: =IFERROR(VLOOKUP($B24,Datos11.3!$F$3:$S$9,5,FALSE),0) -> 161 | G24: =IFERROR(VLOOKUP($B24,Datos11.3!$F$3:$S$9,6,FALSE),0) -> 156 | H24: =IFERROR(VLOOKUP($B24,Datos11.3!$F$3:$S$9,7,FALSE),0) -> 170 | I24: =IFERROR(VLOOKUP($B24,Datos11.3!$F$3:$S$9,8,FALSE),0) -> 259 | J24: =IFERROR(VLOOKUP($B24,Datos11.3!$F$3:$S$9,9,FALSE),0) -> 274 | K24: =IFERROR(VLOOKUP($B24,Datos11.3!$F$3:$S$9,10,FALSE),0) -> 356 | L24: =IFERROR(VLOOKUP($B24,Datos11.3!$F$3:$S$9,11,FALSE),0) -> 327 | M24: =IFERROR(VLOOKUP($B24,Datos11.3!$F$3:$S$9,12,FALSE),0) -> 668 | N24: =IFERROR(VLOOKUP($B24,Datos11.3!$F$3:$S$9,13,FALSE),0) -> 281 | O24: =SUM(C24:N24) -> 3245 | P24: =IFERROR(VLOOKUP($B24,Datos11.3!$F$13:$S$19,2,FALSE),0) -> 5500 | Q24: =IFERROR(VLOOKUP($B24,Datos11.3!$F$13:$S$19,3,FALSE),0) -> 4393 | R24: =IFERROR(VLOOKUP($B24,Datos11.3!$F$13:$S$19,4,FALSE),0) -> 5330 | S24: =IFERROR(VLOOKUP($B24,Datos11.3!$F$13:$S$19,5,FALSE),0) -> 5378 | T24: =IFERROR(VLOOKUP($B24,Datos11.3!$F$13:$S$19,6,FALSE),0) -> 6044 | U24: =IFERROR(VLOOKUP($B24,Datos11.3!$F$13:$S$19,7,FALSE),0) -> 5459 | V24: =IFERROR(VLOOKUP($B24,Datos11.3!$F$13:$S$19,8,FALSE),0) -> 3765 | W24: =IFERROR(VLOOKUP($B24,Datos11.3!$F$13:$S$19,9,FALSE),0) -> 6462 | X24: =IFERROR(VLOOKUP($B24,Datos11.3!$F$13:$S$19,10,FALSE),0) -> 6160 | Y24: =IFERROR(VLOOKUP($B24,Datos11.3!$F$13:$S$19,11,FALSE),0) -> 6628 | Z24: =IFERROR(VLOOKUP($B24,Datos11.3!$F$13:$S$19,12,FALSE),0) -> 7268 | AA24: =IFERROR(VLOOKUP($B24,Datos11.3!$F$13:$S$19,13,FALSE),0) -> 5858 | AB24: =SUM(P24:AA24) -> 68245 | AC24: =O24/AB24 -> 0.047549271
B25: 105101-HOSPITAL COQUIMBO | C25: =IFERROR(VLOOKUP($B25,Datos11.3!$F$3:$S$9,2,FALSE),0) -> 1540 | D25: =IFERROR(VLOOKUP($B25,Datos11.3!$F$3:$S$9,3,FALSE),0) -> 1208 | E25: =IFERROR(VLOOKUP($B25,Datos11.3!$F$3:$S$9,4,FALSE),0) -> 1010 | F25: =IFERROR(VLOOKUP($B25,Datos11.3!$F$3:$S$9,5,FALSE),0) -> 946 | G25: =IFERROR(VLOOKUP($B25,Datos11.3!$F$3:$S$9,6,FALSE),0) -> 1127 | H25: =IFERROR(VLOOKUP($B25,Datos11.3!$F$3:$S$9,7,FALSE),0) -> 1199 | I25: =IFERROR(VLOOKUP($B25,Datos11.3!$F$3:$S$9,8,FALSE),0) -> 831 | J25: =IFERROR(VLOOKUP($B25,Datos11.3!$F$3:$S$9,9,FALSE),0) -> 1269 | K25: =IFERROR(VLOOKUP($B25,Datos11.3!$F$3:$S$9,10,FALSE),0) -> 1135 | L25: =IFERROR(VLOOKUP($B25,Datos11.3!$F$3:$S$9,11,FALSE),0) -> 1167 | M25: =IFERROR(VLOOKUP($B25,Datos11.3!$F$3:$S$9,12,FALSE),0) -> 1267 | N25: =IFERROR(VLOOKUP($B25,Datos11.3!$F$3:$S$9,13,FALSE),0) -> 957 | O25: =SUM(C25:N25) -> 13656 | P25: =IFERROR(VLOOKUP($B25,Datos11.3!$F$13:$S$19,2,FALSE),0) -> 5807 | Q25: =IFERROR(VLOOKUP($B25,Datos11.3!$F$13:$S$19,3,FALSE),0) -> 4723 | R25: =IFERROR(VLOOKUP($B25,Datos11.3!$F$13:$S$19,4,FALSE),0) -> 5396 | S25: =IFERROR(VLOOKUP($B25,Datos11.3!$F$13:$S$19,5,FALSE),0) -> 5391 | T25: =IFERROR(VLOOKUP($B25,Datos11.3!$F$13:$S$19,6,FALSE),0) -> 6053 | U25: =IFERROR(VLOOKUP($B25,Datos11.3!$F$13:$S$19,7,FALSE),0) -> 5686 | V25: =IFERROR(VLOOKUP($B25,Datos11.3!$F$13:$S$19,8,FALSE),0) -> 4909 | W25: =IFERROR(VLOOKUP($B25,Datos11.3!$F$13:$S$19,9,FALSE),0) -> 6224 | X25: =IFERROR(VLOOKUP($B25,Datos11.3!$F$13:$S$19,10,FALSE),0) -> 5722 | Y25: =IFERROR(VLOOKUP($B25,Datos11.3!$F$13:$S$19,11,FALSE),0) -> 6248 | Z25: =IFERROR(VLOOKUP($B25,Datos11.3!$F$13:$S$19,12,FALSE),0) -> 6549 | AA25: =IFERROR(VLOOKUP($B25,Datos11.3!$F$13:$S$19,13,FALSE),0) -> 5515 | AB25: =SUM(P25:AA25) -> 68223 | AC25: =O25/AB25 -> 0.2001671
B26: 105102-HOSPITAL OVALLE | C26: =IFERROR(VLOOKUP($B26,Datos11.3!$F$3:$S$9,2,FALSE),0) -> 425 | D26: =IFERROR(VLOOKUP($B26,Datos11.3!$F$3:$S$9,3,FALSE),0) -> 402 | E26: =IFERROR(VLOOKUP($B26,Datos11.3!$F$3:$S$9,4,FALSE),0) -> 376 | F26: =IFERROR(VLOOKUP($B26,Datos11.3!$F$3:$S$9,5,FALSE),0) -> 245 | G26: =IFERROR(VLOOKUP($B26,Datos11.3!$F$3:$S$9,6,FALSE),0) -> 346 | H26: =IFERROR(VLOOKUP($B26,Datos11.3!$F$3:$S$9,7,FALSE),0) -> 362 | I26: =IFERROR(VLOOKUP($B26,Datos11.3!$F$3:$S$9,8,FALSE),0) -> 266 | J26: =IFERROR(VLOOKUP($B26,Datos11.3!$F$3:$S$9,9,FALSE),0) -> 429 | K26: =IFERROR(VLOOKUP($B26,Datos11.3!$F$3:$S$9,10,FALSE),0) -> 397 | L26: =IFERROR(VLOOKUP($B26,Datos11.3!$F$3:$S$9,11,FALSE),0) -> 372 | M26: =IFERROR(VLOOKUP($B26,Datos11.3!$F$3:$S$9,12,FALSE),0) -> 543 | N26: =IFERROR(VLOOKUP($B26,Datos11.3!$F$3:$S$9,13,FALSE),0) -> 12 | O26: =SUM(C26:N26) -> 4175 | P26: =IFERROR(VLOOKUP($B26,Datos11.3!$F$13:$S$19,2,FALSE),0) -> 5452 | Q26: =IFERROR(VLOOKUP($B26,Datos11.3!$F$13:$S$19,3,FALSE),0) -> 4810 | R26: =IFERROR(VLOOKUP($B26,Datos11.3!$F$13:$S$19,4,FALSE),0) -> 5220 | S26: =IFERROR(VLOOKUP($B26,Datos11.3!$F$13:$S$19,5,FALSE),0) -> 4776 | T26: =IFERROR(VLOOKUP($B26,Datos11.3!$F$13:$S$19,6,FALSE),0) -> 5534 | U26: =IFERROR(VLOOKUP($B26,Datos11.3!$F$13:$S$19,7,FALSE),0) -> 5635 | V26: =IFERROR(VLOOKUP($B26,Datos11.3!$F$13:$S$19,8,FALSE),0) -> 4738 | W26: =IFERROR(VLOOKUP($B26,Datos11.3!$F$13:$S$19,9,FALSE),0) -> 5947 | X26: =IFERROR(VLOOKUP($B26,Datos11.3!$F$13:$S$19,10,FALSE),0) -> 5451 | Y26: =IFERROR(VLOOKUP($B26,Datos11.3!$F$13:$S$19,11,FALSE),0) -> 5900 | Z26: =IFERROR(VLOOKUP($B26,Datos11.3!$F$13:$S$19,12,FALSE),0) -> 6342 | AA26: =IFERROR(VLOOKUP($B26,Datos11.3!$F$13:$S$19,13,FALSE),0) -> 5518 | AB26: =SUM(P26:AA26) -> 65323 | AC26: =O26/AB26 -> 0.06391317
B27: 105103-HOSPITAL ILLAPEL | C27: =IFERROR(VLOOKUP($B27,Datos11.3!$F$3:$S$9,2,FALSE),0) -> 36 | D27: =IFERROR(VLOOKUP($B27,Datos11.3!$F$3:$S$9,3,FALSE),0) -> 123 | E27: =IFERROR(VLOOKUP($B27,Datos11.3!$F$3:$S$9,4,FALSE),0) -> 27 | F27: =IFERROR(VLOOKUP($B27,Datos11.3!$F$3:$S$9,5,FALSE),0) -> 136 | G27: =IFERROR(VLOOKUP($B27,Datos11.3!$F$3:$S$9,6,FALSE),0) -> 18 | H27: =IFERROR(VLOOKUP($B27,Datos11.3!$F$3:$S$9,7,FALSE),0) -> 36 | I27: =IFERROR(VLOOKUP($B27,Datos11.3!$F$3:$S$9,8,FALSE),0) -> 55 | J27: =IFERROR(VLOOKUP($B27,Datos11.3!$F$3:$S$9,9,FALSE),0) -> 36 | K27: =IFERROR(VLOOKUP($B27,Datos11.3!$F$3:$S$9,10,FALSE),0) -> 36 | L27: =IFERROR(VLOOKUP($B27,Datos11.3!$F$3:$S$9,11,FALSE),0) -> 265 | M27: =IFERROR(VLOOKUP($B27,Datos11.3!$F$3:$S$9,12,FALSE),0) -> 170 | N27: =IFERROR(VLOOKUP($B27,Datos11.3!$F$3:$S$9,13,FALSE),0) -> 47 | O27: =SUM(C27:N27) -> 985 | P27: =IFERROR(VLOOKUP($B27,Datos11.3!$F$13:$S$19,2,FALSE),0) -> 2379 | Q27: =IFERROR(VLOOKUP($B27,Datos11.3!$F$13:$S$19,3,FALSE),0) -> 2249 | R27: =IFERROR(VLOOKUP($B27,Datos11.3!$F$13:$S$19,4,FALSE),0) -> 2266 | S27: =IFERROR(VLOOKUP($B27,Datos11.3!$F$13:$S$19,5,FALSE),0) -> 2202 | T27: =IFERROR(VLOOKUP($B27,Datos11.3!$F$13:$S$19,6,FALSE),0) -> 2249 | U27: =IFERROR(VLOOKUP($B27,Datos11.3!$F$13:$S$19,7,FALSE),0) -> 2420 | V27: =IFERROR(VLOOKUP($B27,Datos11.3!$F$13:$S$19,8,FALSE),0) -> 2081 | W27: =IFERROR(VLOOKUP($B27,Datos11.3!$F$13:$S$19,9,FALSE),0) -> 2553 | X27: =IFERROR(VLOOKUP($B27,Datos11.3!$F$13:$S$19,10,FALSE),0) -> 2368 | Y27: =IFERROR(VLOOKUP($B27,Datos11.3!$F$13:$S$19,11,FALSE),0) -> 2979 | Z27: =IFERROR(VLOOKUP($B27,Datos11.3!$F$13:$S$19,12,FALSE),0) -> 3181 | AA27: =IFERROR(VLOOKUP($B27,Datos11.3!$F$13:$S$19,13,FALSE),0) -> 2327 | AB27: =SUM(P27:AA27) -> 29254 | AC27: =O27/AB27 -> 0.033670609
B28: Total Regional | C28: =SUM(C24:C27) -> 2196 | D28: =SUM(D24:D27) -> 1955 | E28: =SUM(E24:E27) -> 1589 | F28: =SUM(F24:F27) -> 1488 | G28: =SUM(G24:G27) -> 1647 | H28: =SUM(H24:H27) -> 1767 | I28: =SUM(I24:I27) -> 1411 | J28: =SUM(J24:J27) -> 2008 | ... AB28: =SUM(AB24:AB27) -> 231045 | AC28: =O28/AB28 -> 0.095483564
B29: *Fuente: REM A08, Sección B

Sheet Datos11.2
A1: Idestablecimiento | B1: Hospital | C1: Mes | D1: Total
A2: 105100 | B2: =IFERROR(VLOOKUP($A2,[1]Establecimientos!$A$1:$E$175,5,FALSE),0) -> 105100-HOSPITAL LA SERENA | C2: 1 | D2: 473
A3: 105100 | B3: =IFERROR(VLOOKUP($A3,[1]Establecimientos!$A$1:$E$175,5,FALSE),0) -> 105100-HOSPITAL LA SERENA | C3: 2 | D3: 383 | F3: Suma de Total | G3: Etiquetas de columna
A4: 105100 | B4: =IFERROR(VLOOKUP($A4,[1]Establecimientos!$A$1:$E$175,5,FALSE),0) -> 105100-HOSPITAL LA SERENA | C4: 3 | D4: 447 | F4: Etiquetas de fila | G4: 1 | H4: 2 | I4: 3 | J4: 4 | K4: 5 | L4: 6 | M4: 7 | N4: 8 | O4: 9 | P4: 10 | Q4: 11 | R4: 12 | S4: Total general
A5: 105100 | B5: =IFERROR(VLOOKUP($A5,[1]Establecimientos!$A$1:$E$175,5,FALSE),0) -> 105100-HOSPITAL LA SERENA | C5: 4 | D5: 426 | F5: 04101-LA SERENA | G5: 55 | H5: 85 | I5: 52 | J5: 55 | K5: 53 | L5: 52 | M5: 50 | N5: 54 | O5: 49 | P5: 46 | Q5: 58 | R5: 37 | S5: 646
A6: 105100 | B6: =IFERROR(VLOOKUP($A6,[1]Establecimientos!$A$1:$E$175,5,FALSE),0) -> 105100-HOSPITAL LA SERENA | C6: 5 | D6: 545 | F6: 04102-COQUIMBO | G6: 22 | H6: 30 | I6: 16 | J6: 23 | K6: 20 | L6: 19 | M6: 20 | N6: 18 | O6: 17 | P6: 16 | Q6: 28 | R6: 21 | S6: 250
A7: 105100 | B7: =IFERROR(VLOOKUP($A7,[1]Establecimientos!$A$1:$E$175,5,FALSE),0) -> 105100-HOSPITAL LA SERENA | C7: 6 | D7: 473 | F7: 04106-VICUÑA | I7: 1 | S7: 1
A8: 105100 | B8: =IFERROR(VLOOKUP($A8,[1]Establecimientos!$A$1:$E$175,5,FALSE),0) -> 105100-HOSPITAL LA SERENA | C8: 7 | D8: 431 | F8: 04301-OVALLE | G8: 5 | H8: 9 | I8: 9 | J8: 7 | K8: 8 | L8: 8 | M8: 3 | N8: 6 | O8: 4 | P8: 9 | Q8: 8 | R8: 7 | S8: 83
A9: 105100 | B9: =IFERROR(VLOOKUP($A9,[1]Establecimientos!$A$1:$E$175,5,FALSE),0) -> 105100-HOSPITAL LA SERENA | C9: 8 | D9: 538 | F9: 04303-MONTE PATRIA | G9: 3 | H9: 5 | I9: 6 | K9: 3 | M9: 17 | N9: 12 | O9: 12 | P9: 11 | Q9: 8 | R9: 8 | S9: 85
A10: 105100 | B10: =IFERROR(VLOOKUP($A10,[1]Establecimientos!$A$1:$E$175,5,FALSE),0) -> 105100-HOSPITAL LA SERENA | C10: 9 | D10: 429 | F10: 105100-HOSPITAL LA SERENA | G10: 473 | H10: 383 | I10: 447 | J10: 426 | K10: 545 | L10: 473 | M10: 431 | N10: 538 | O10: 429 | P10: 510 | Q10: 451 | R10: 469 | S10: 5575
A11: 105100 | B11: =IFERROR(VLOOKUP($A11,[1]Establecimientos!$A$1:$E$175,5,FALSE),0) -> 105100-HOSPITAL LA SERENA | C11: 10 | D11: 510 | F11: 105101-HOSPITAL COQUIMBO | G11: 263 | H11: 243 | I11: 254 | J11: 255 | K11: 322 | L11: 296 | M11: 290 | N11: 295 | O11: 310 | P11: 288 | Q11: 284 | R11: 221 | S11: 3321
A12: 105100 | B12: =IFERROR(VLOOKUP($A12,[1]Establecimientos!$A$1:$E$175,5,FALSE),0) -> 105100-HOSPITAL LA SERENA | C12: 11 | D12: 451 | F12: 105102-HOSPITAL OVALLE | G12: 319 | H12: 308 | I12: 281 | J12: 328 | K12: 343 | L12: 365 | M12: 349 | N12: 419 | O12: 384 | P12: 400 | Q12: 443 | R12: 428 | S12: 4367
A13: 105100 | B13: =IFERROR(VLOOKUP($A13,[1]Establecimientos!$A$1:$E$175,5,FALSE),0) -> 105100-HOSPITAL LA SERENA | C13: 12 | D13: 469 | F13: 105103-HOSPITAL ILLAPEL | G13: 14 | H13: 10 | I13: 14 | J13: 18 | K13: 17 | L13: 18 | M13: 13 | N13: 9 | O13: 16 | P13: 15 | Q13: 17 | R13: 16 | S13: 177
A14: 105101 | B14: =IFERROR(VLOOKUP($A14,[1]Establecimientos!$A$1:$E$175,5,FALSE),0) -> 105101-HOSPITAL COQUIMBO | C14: 1 | D14: 263 | F14: 105104-HOSPITAL SALAMANCA | G14: 29 | H14: 29 | I14: 24 | J14: 24 | K14: 46 | L14: 29 | M14: 31 | N14: 40 | O14: 24 | P14: 14 | Q14: 11 | R14: 17 | S14: 318
A15: 105101 | B15: =IFERROR(VLOOKUP($A15,[1]Establecimientos!$A$1:$E$175,5,FALSE),0) -> 105101-HOSPITAL COQUIMBO | C15: 2 | D15: 243 | F15: 105105-HOSPITAL COMBARBALÁ | G15: 4 | H15: 6 | I15: 2 | J15: 6 | K15: 3 | L15: 2 | M15: 3 | N15: 4 | O15: 1 | P15: 3 | Q15: 4 | R15: 5 | S15: 43
A16: 105101 | B16: =IFERROR(VLOOKUP($A16,[1]Establecimientos!$A$1:$E$175,5,FALSE),0) -> 105101-HOSPITAL COQUIMBO | C16: 3 | D16: 254 | F16: 105106-HOSPITAL ANDACOLLO | G16: 5 | H16: 12 | I16: 15 | J16: 20 | K16: 16 | L16: 19 | M16: 30 | N16: 21 | O16: 25 | P16: 41 | Q16: 20 | R16: 33 | S16: 257
A17: 105101 | B17: =IFERROR(VLOOKUP($A17,[1]Establecimientos!$A$1:$E$175,5,FALSE),0) -> 105101-HOSPITAL COQUIMBO | C17: 4 | D17: 255 | F17: 105107-HOSPITAL VICUÑA | G17: 4 | H17: 7 | I17: 3 | J17: 5 | K17: 6 | L17: 11 | M17: 11 | N17: 5 | O17: 5 | P17: 6 | Q17: 6 | R17: 6 | S17: 75
A18: 105101 | B18: =IFERROR(VLOOKUP($A18,[1]Establecimientos!$A$1:$E$175,5,FALSE),0) -> 105101-HOSPITAL COQUIMBO | C18: 5 | D18: 322 | F18: 105108-HOSPITAL LOS VILOS | G18: 25 | H18: 27 | I18: 28 | J18: 19 | K18: 11 | L18: 31 | M18: 18 | N18: 13 | O18: 25 | P18: 26 | Q18: 35 | R18: 28 | S18: 286
A19: 105101 | B19: =IFERROR(VLOOKUP($A19,[1]Establecimientos!$A$1:$E$175,5,FALSE),0) -> 105101-HOSPITAL COQUIMBO | C19: 6 | D19: 296 | F19: Total general | G19: 1221 | H19: 1154 | I19: 1152 | J19: 1186 | K19: 1393 | L19: 1323 | M19: 1266 | N19: 1434 | O19: 1301 | P19: 1385 | Q19: 1373 | R19: 1296 | S19: 15484
A20: 105101 | B20: =IFERROR(VLOOKUP($A20,[1]Establecimientos!$A$1:$E$175,5,FALSE),0) -> 105101-HOSPITAL COQUIMBO | C20: 7 | D20: 290
A21: 105101 | B21: =IFERROR(VLOOKUP($A21,[1]Establecimientos!$A$1:$E$175,5,FALSE),0) -> 105101-HOSPITAL COQUIMBO | C21: 8 | D21: 295
A22: 105101 | B22: =IFERROR(VLOOKUP($A22,[1]Establecimientos!$A$1:$E$175,5,FALSE),0) -> 105101-HOSPITAL COQUIMBO | C22: 9 | D22: 310
A23: 105101 | B23: =IFERROR(VLOOKUP($A23,[1]Establecimientos!$A$1:$E$175,5,FALSE),0) -> 105101-HOSPITAL COQUIMBO | C23: 10 | D23: 288
A24: 105101 | B24: =IFERROR(VLOOKUP($A24,[1]Establecimientos!$A$1:$E$175,5,FALSE),0) -> 105101-HOSPITAL COQUIMBO | C24: 11 | D24: 284
A25: 105101 | B25: =IFERROR(VLOOKUP($A25,[1]Establecimientos!$A$1:$E$175,5,FALSE),0) -> 105101-HOSPITAL COQUIMBO | C25: 12 | D25: 221
A26: 105102 | B26: =IFERROR(VLOOKUP($A26,[1]Establecimientos!$A$1:$E$175,5,FALSE),0) -> 105102-HOSPITAL OVALLE | C26: 1 | D26: 319
A27: 105102 | B27: =IFERROR(VLOOKUP($A27,[1]Establecimientos!$A$1:$E$175,5,FALSE),0) -> 105102-HOSPITAL OVALLE | C27: 2 | D27: 308
A28: 105102 | B28: =IFERROR(VLOOKUP($A28,[1]Establecimientos!$A$1:$E$175,5,FALSE),0) -> 105102-HOSPITAL OVALLE | C28: 3 | D28: 281
A29: 105102 | B29: =IFERROR(VLOOKUP($A29,[1]Establecimientos!$A$1:$E$175,5,FALSE),0) -> 105102-HOSPITAL OVALLE | C29: 4 | D29: 328
A30: 105102 | B30: =IFERROR(VLOOKUP($A30,[1]Establecimientos!$A$1:$E$175,5,FALSE),0) -> 105102-HOSPITAL OVALLE | C30: 5 | D30: 343
A31: 105102 | B31: =IFERROR(VLOOKUP($A31,[1]Establecimientos!$A$1:$E$175,5,FALSE),0) -> 105102-HOSPITAL OVALLE | C31: 6 | D31: 365
... A186: 200720 | B186: =IFERROR(VLOOKUP($A186,[1]Establecimientos!$A$1:$E$175,5,FALSE),0) -> 04303-MONTE PATRIA | C186: 12 | D186: 8

Sheet Datos11.3
A1: Idestablecimiento | B1: Hospital | C1: Mes | D1: Total | U1: Idestablecimiento | V1: Hospital | W1: Mes | X1: Total
A2: 105100 | B2: =IFERROR(VLOOKUP($A2,[1]Establecimientos!$A$1:$E$175,5,FALSE),0) -> 105100-HOSPITAL LA SERENA | C2: 1 | D2: 195 | U2: 105100 | V2: =IFERROR(VLOOKUP($U2,[1]Establecimientos!$A$1:$E$175,5,FALSE),0) -> 105100-HOSPITAL LA SERENA | W2: 1 | X2: 5500
A3: 105100 | B3: =IFERROR(VLOOKUP($A3,[1]Establecimientos!$A$1:$E$175,5,FALSE),0) -> 105100-HOSPITAL LA SERENA | C3: 2 | D3: 222 | F3: Suma de Total | G3: Etiquetas de columna | U3: 105100 | V3: =IFERROR(VLOOKUP($U3,[1]Establecimientos!$A$1:$E$175,5,FALSE),0) -> 105100-HOSPITAL LA SERENA | W3: 2 | X3: 4393
A4: 105100 | B4: =IFERROR(VLOOKUP($A4,[1]Establecimientos!$A$1:$E$175,5,FALSE),0) -> 105100-HOSPITAL LA SERENA | C4: 3 | D4: 176 | F4: Etiquetas de fila | G4: 1 | H4: 2 | I4: 3 | J4: 4 | K4: 5 | L4: 6 | M4: 7 | N4: 8 | O4: 9 | P4: 10 | Q4: 11 | R4: 12 | S4: Total general | U4: 105100 | V4: =IFERROR(VLOOKUP($U4,[1]Establecimientos!$A$1:$E$175,5,FALSE),0) -> 105100-HOSPITAL LA SERENA | W4: 3 | X4: 5330
A5: 105100 | B5: =IFERROR(VLOOKUP($A5,[1]Establecimientos!$A$1:$E$175,5,FALSE),0) -> 105100-HOSPITAL LA SERENA | C5: 4 | D5: 161 | F5: 105100-HOSPITAL LA SERENA | G5: 195 | H5: 222 | I5: 176 | J5: 161 | K5: 156 | L5: 170 | M5: 259 | N5: 274 | O5: 356 | P5: 327 | Q5: 668 | R5: 281 | S5: 3245 | U5: 105100 | V5: =IFERROR(VLOOKUP($U5,[1]Establecimientos!$A$1:$E$175,5,FALSE),0) -> 105100-HOSPITAL LA SERENA | W5: 4 | X5: 5378
A6: 105100 | B6: =IFERROR(VLOOKUP($A6,[1]Establecimientos!$A$1:$E$175,5,FALSE),0) -> 105100-HOSPITAL LA SERENA | C6: 5 | D6: 156 | F6: 105101-HOSPITAL COQUIMBO | G6: 1540 | H6: 1208 | I6: 1010 | J6: 946 | K6: 1127 | L6: 1199 | M6: 831 | N6: 1269 | O6: 1135 | P6: 1167 | Q6: 1267 | R6: 957 | S6: 13656 | U6: 105100 | V6: =IFERROR(VLOOKUP($U6,[1]Establecimientos!$A$1:$E$175,5,FALSE),0) -> 105100-HOSPITAL LA SERENA | W6: 5 | X6: 6044
A7: 105100 | B7: =IFERROR(VLOOKUP($A7,[1]Establecimientos!$A$1:$E$175,5,FALSE),0) -> 105100-HOSPITAL LA SERENA | C7: 6 | D7: 170 | F7: 105102-HOSPITAL OVALLE | G7: 425 | H7: 402 | I7: 376 | J7: 245 | K7: 346 | L7: 362 | M7: 266 | N7: 429 | O7: 397 | P7: 372 | Q7: 543 | R7: 12 | S7: 4175 | U7: 105100 | V7: =IFERROR(VLOOKUP($U7,[1]Establecimientos!$A$1:$E$175,5,FALSE),0) -> 105100-HOSPITAL LA SERENA | W7: 6 | X7: 5459
A8: 105100 | B8: =IFERROR(VLOOKUP($A8,[1]Establecimientos!$A$1:$E$175,5,FALSE),0) -> 105100-HOSPITAL LA SERENA | C8: 7 | D8: 259 | F8: 105103-HOSPITAL ILLAPEL | G8: 36 | H8: 123 | I8: 27 | J8: 136 | K8: 18 | L8: 36 | M8: 55 | N8: 36 | O8: 36 | P8: 265 | Q8: 170 | R8: 47 | S8: 985 | U8: 105100 | V8: =IFERROR(VLOOKUP($U8,[1]Establecimientos!$A$1:$E$175,5,FALSE),0) -> 105100-HOSPITAL LA SERENA | W8: 7 | X8: 3765
A9: 105100 | B9: =IFERROR(VLOOKUP($A9,[1]Establecimientos!$A$1:$E$175,5,FALSE),0) -> 105100-HOSPITAL LA SERENA | C9: 8 | D9: 274 | F9: Total general | G9: 2196 | H9: 1955 | I9: 1589 | J9: 1488 | K9: 1647 | L9: 1767 | M9: 1411 | N9: 2008 | O9: 1924 | P9: 2131 | Q9: 2648 | R9: 1297 | S9: 22061 | U9: 105100 | V9: =IFERROR(VLOOKUP($U9,[1]Establecimientos!$A$1:$E$175,5,FALSE),0) -> 105100-HOSPITAL LA SERENA | W9: 8 | X9: 6462
A10: 105100 | B10: =IFERROR(VLOOKUP($A10,[1]Establecimientos!$A$1:$E$175,5,FALSE),0) -> 105100-HOSPITAL LA SERENA | C10: 9 | D10: 356 | U10: 105100 | V10: =IFERROR(VLOOKUP($U10,[1]Establecimientos!$A$1:$E$175,5,FALSE),0) -> 105100-HOSPITAL LA SERENA | W10: 9 | X10: 6160
A11: 105100 | B11: =IFERROR(VLOOKUP($A11,[1]Establecimientos!$A$1:$E$175,5,FALSE),0) -> 105100-HOSPITAL LA SERENA | C11: 10 | D11: 327 | U11: 105100 | V11: =IFERROR(VLOOKUP($U11,[1]Establecimientos!$A$1:$E$175,5,FALSE),0) -> 105100-HOSPITAL LA SERENA | W11: 10 | X11: 6628
A12: 105100 | B12: =IFERROR(VLOOKUP($A12,[1]Establecimientos!$A$1:$E$175,5,FALSE),0) -> 105100-HOSPITAL LA SERENA | C12: 11 | D12: 668 | U12: 105100 | V12: =IFERROR(VLOOKUP($U12,[1]Establecimientos!$A$1:$E$175,5,FALSE),0) -> 105100-HOSPITAL LA SERENA | W12: 11 | X12: 7268
A13: 105100 | B13: =IFERROR(VLOOKUP($A13,[1]Establecimientos!$A$1:$E$175,5,FALSE),0) -> 105100-HOSPITAL LA SERENA | C13: 12 | D13: 281 | F13: Suma de Total | G13: Etiquetas de columna | U13: 105100 | V13: =IFERROR(VLOOKUP($U13,[1]Establecimientos!$A$1:$E$175,5,FALSE),0) -> 105100-HOSPITAL LA SERENA | W13: 12 | X13: 5858
A14: 105101 | B14: =IFERROR(VLOOKUP($A14,[1]Establecimientos!$A$1:$E$175,5,FALSE),0) -> 105101-HOSPITAL COQUIMBO | C14: 1 | D14: 1540 | F14: Etiquetas de fila | G14: 1 | H14: 2 | I14: 3 | J14: 4 | K14: 5 | L14: 6 | M14: 7 | N14: 8 | O14: 9 | P14: 10 | Q14: 11 | R14: 12 | S14: Total general | U14: 105101 | V14: =IFERROR(VLOOKUP($U14,[1]Establecimientos!$A$1:$E$175,5,FALSE),0) -> 105101-HOSPITAL COQUIMBO | W14: 1 | X14: 5807
A15: 105101 | B15: =IFERROR(VLOOKUP($A15,[1]Establecimientos!$A$1:$E$175,5,FALSE),0) -> 105101-HOSPITAL COQUIMBO | C15: 2 | D15: 1208 | F15: 105100-HOSPITAL LA SERENA | G15: 5500 | H15: 4393 | I15: 5330 | J15: 5378 | K15: 6044 | L15: 5459 | M15: 3765 | N15: 6462 | O15: 6160 | P15: 6628 | Q15: 7268 | R15: 5858 | S15: 68245 | U15: 105101 | V15: =IFERROR(VLOOKUP($U15,[1]Establecimientos!$A$1:$E$175,5,FALSE),0) -> 105101-HOSPITAL COQUIMBO | W15: 2 | X15: 4723
A16: 105101 | B16: =IFERROR(VLOOKUP($A16,[1]Establecimientos!$A$1:$E$175,5,FALSE),0) -> 105101-HOSPITAL COQUIMBO | C16: 3 | D16: 1010 | F16: 105101-HOSPITAL COQUIMBO | G16: 5807 | H16: 4723 | I16: 5396 | J16: 5391 | K16: 6053 | L16: 5686 | M16: 4909 | N16: 6224 | O16: 5722 | P16: 6248 | Q16: 6549 | R16: 5515 | S16: 68223 | U16: 105101 | V16: =IFERROR(VLOOKUP($U16,[1]Establecimientos!$A$1:$E$175,5,FALSE),0) -> 105101-HOSPITAL COQUIMBO | W16: 3 | X16: 5396
A17: 105101 | B17: =IFERROR(VLOOKUP($A17,[1]Establecimientos!$A$1:$E$175,5,FALSE),0) -> 105101-HOSPITAL COQUIMBO | C17: 4 | D17: 946 | F17: 105102-HOSPITAL OVALLE | G17: 5452 | H17: 4810 | I17: 5220 | J17: 4776 | K17: 5534 | L17: 5635 | M17: 4738 | N17: 5947 | O17: 5451 | P17: 5900 | Q17: 6342 | R17: 5518 | S17: 65323 | U17: 105101 | V17: =IFERROR(VLOOKUP($U17,[1]Establecimientos!$A$1:$E$175,5,FALSE),0) -> 105101-HOSPITAL COQUIMBO | W17: 4 | X17: 5391
A18: 105101 | B18: =IFERROR(VLOOKUP($A18,[1]Establecimientos!$A$1:$E$175,5,FALSE),0) -> 105101-HOSPITAL COQUIMBO | C18: 5 | D18: 1127 | F18: 105103-HOSPITAL ILLAPEL | G18: 2379 | H18: 2249 | I18: 2266 | J18: 2202 | K18: 2249 | L18: 2420 | M18: 2081 | N18: 2553 | O18: 2368 | P18: 2979 | Q18: 3181 | R18: 2327 | S18: 29254 | U18: 105101 | V18: =IFERROR(VLOOKUP($U18,[1]Establecimientos!$A$1:$E$175,5,FALSE),0) -> 105101-HOSPITAL COQUIMBO | W18: 5 | X18: 6053
A19: 105101 | B19: =IFERROR(VLOOKUP($A19,[1]Establecimientos!$A$1:$E$175,5,FALSE),0) -> 105101-HOSPITAL COQUIMBO | C19: 6 | D19: 1199 | F19: Total general | G19: 19138 | H19: 16175 | I19: 18212 | J19: 17747 | K19: 19880 | L19: 19200 | M19: 15493 | N19: 21186 | O19: 19701 | P19: 21755 | Q19: 23340 | R19: 19218 | S19: 231045 | U19: 105101 | V19: =IFERROR(VLOOKUP($U19,[1]Establecimientos!$A$1:$E$175,5,FALSE),0) -> 105101-HOSPITAL COQUIMBO | W19: 6 | X19: 5686
A20: 105101 | B20: =IFERROR(VLOOKUP($A20,[1]Establecimientos!$A$1:$E$175,5,FALSE),0) -> 105101-HOSPITAL COQUIMBO | C20: 7 | D20: 831 | U20: 105101 | V20: =IFERROR(VLOOKUP($U20,[1]Establecimientos!$A$1:$E$175,5,FALSE),0) -> 105101-HOSPITAL COQUIMBO | W20: 7 | X20: 4909
A21: 105101 | B21: =IFERROR(VLOOKUP($A21,[1]Establecimientos!$A$1:$E$175,5,FALSE),0) -> 105101-HOSPITAL COQUIMBO | C21: 8 | D21: 1269 | U21: 105101 | V21: =IFERROR(VLOOKUP($U21,[1]Establecimientos!$A$1:$E$175,5,FALSE),0) -> 105101-HOSPITAL COQUIMBO | W21: 8 | X21: 6224
A22: 105101 | B22: =IFERROR(VLOOKUP($A22,[1]Establecimientos!$A$1:$E$175,5,FALSE),0) -> 105101-HOSPITAL COQUIMBO | C22: 9 | D22: 1135 | U22: 105101 | V22: =IFERROR(VLOOKUP($U22,[1]Establecimientos!$A$1:$E$175,5,FALSE),0) -> 105101-HOSPITAL COQUIMBO | W22: 9 | X22: 5722
A23: 105101 | B23: =IFERROR(VLOOKUP($A23,[1]Establecimientos!$A$1:$E$175,5,FALSE),0) -> 105101-HOSPITAL COQUIMBO | C23: 10 | D23: 1167 | U23: 105101 | V23: =IFERROR(VLOOKUP($U23,[1]Establecimientos!$A$1:$E$175,5,FALSE),0) -> 105101-HOSPITAL COQUIMBO | W23: 10 | X23: 6248
A24: 105101 | B24: =IFERROR(VLOOKUP($A24,[1]Establecimientos!$A$1:$E$175,5,FALSE),0) -> 105101-HOSPITAL COQUIMBO | C24: 11 | D24: 1267 | U24: 105101 | V24: =IFERROR(VLOOKUP($U24,[1]Establecimientos!$A$1:$E$175,5,FALSE),0) -> 105101-HOSPITAL COQUIMBO | W24: 11 | X24: 6549
A25: 105101 | B25: =IFERROR(VLOOKUP($A25,[1]Establecimientos!$A$1:$E$175,5,FALSE),0) -> 105101-HOSPITAL COQUIMBO | C25: 12 | D25: 957 | U25: 105101 | V25: =IFERROR(VLOOKUP($U25,[1]Establecimientos!$A$1:$E$175,5,FALSE),0) -> 105101-HOSPITAL COQUIMBO | W25: 12 | X25: 5515
A26: 105102 | B26: =IFERROR(VLOOKUP($A26,[1]Establecimientos!$A$1:$E$175,5,FALSE),0) -> 105102-HOSPITAL OVALLE | C26: 1 | D26: 425 | U26: 105102 | V26: =IFERROR(VLOOKUP($U26,[1]Establecimientos!$A$1:$E$175,5,FALSE),0) -> 105102-HOSPITAL OVALLE | W26: 1 | X26: 5452
A27: 105102 | B27: =IFERROR(VLOOKUP($A27,[1]Establecimientos!$A$1:$E$175,5,FALSE),0) -> 105102-HOSPITAL OVALLE | C27: 2 | D27: 402 | U27: 105102 | V27: =IFERROR(VLOOKUP($U27,[1]Establecimientos!$A$1:$E$175,5,FALSE),0) -> 105102-HOSPITAL OVALLE | W27: 2 | X27: 4810
A28: 105102 | B28: =IFERROR(VLOOKUP($A28,[1]Establecimientos!$A$1:$E$175,5,FALSE),0) -> 105102-HOSPITAL OVALLE | C28: 3 | D28: 376 | U28: 105102 | V28: =IFERROR(VLOOKUP($U28,[1]Establecimientos!$A$1:$E$175,5,FALSE),0) -> 105102-HOSPITAL OVALLE | W28: 3 | X28: 5220
A29: 105102 | B29: =IFERROR(VLOOKUP($A29,[1]Establecimientos!$A$1:$E$175,5,FALSE),0) -> 105102-HOSPITAL OVALLE | C29: 4 | D29: 245 | U29: 105102 | V29: =IFERROR(VLOOKUP($U29,[1]Establecimientos!$A$1:$E$175,5,FALSE),0) -> 105102-HOSPITAL OVALLE | W29: 4 | X29: 4776
A30: 105102 | B30: =IFERROR(VLOOKUP($A30,[1]Establecimientos!$A$1:$E$175,5,FALSE),0) -> 105102-HOSPITAL OVALLE | C30: 5 | D30: 346 | U30: 105102 | V30: =IFERROR(VLOOKUP($U30,[1]Establecimientos!$A$1:$E$175,5,FALSE),0) -> 105102-HOSPITAL OVALLE | W30: 5 | X30: 5534
A31: 105102 | B31: =IFERROR(VLOOKUP($A31,[1]Establecimientos!$A$1:$E$175,5,FALSE),0) -> 105102-HOSPITAL OVALLE | C31: 6 | D31: 362 | U31: 105102 | V31: =IFERROR(VLOOKUP($U31,[1]Establecimientos!$A$1:$E$175,5,FALSE),0) -> 105102-HOSPITAL OVALLE | W31: 6 | X31: 5635
... A49: 105103 | B49: =IFERROR(VLOOKUP($A49,[1]Establecimientos!$A$1:$E$175,5,FALSE),0) -> 105103-HOSPITAL ILLAPEL | C49: 12 | D49: 47 | U49: 105103 | V49: =IFERROR(VLOOKUP($U49,[1]Establecimientos!$A$1:$E$175,5,FALSE),0) -> 105103-HOSPITAL ILLAPEL | W49: 12 | X49: 2327
