Workbook

Sheet ELQUI
A1: MINISTERIO DE SALUD
A2: SERVICIO DE SALUD COQUIMBO
A3: SUBDIRECCION DE GESTION ASISTENCIAL
A4: SUBDEPTO DE ESTADÍSTICA Y GESTIÓN DE LA INFORMACIÓN
A6: POBLACION INSCRITA PERCAPITA VALIDADA 2015 IV REGION - AMBOS SEXOS
A7: PROVINCIA - ELQUI
A9: 2015 | B9: 0 - 4 | C9: 5 - 9 | D9: 10 - 14 | E9: 15 - 19 | F9: 20 - 24 | G9: 25 - 29 | H9: 30 - 34 | I9: 35 - 39 | J9: 40-44 | K9: 45-49 | L9: 50 - 54 | M9: 55 - 59 | N9: 60 - 64 | O9: 65 - 69 | P9: 70 - 74 | Q9: 75 - 79 | R9: 80 Y + | S9: TOTAL
A10: TOTAL IV REGION | B10: =B11+LIMARI!B11+CHOAPA!B11 -> 41550 | C10: =C11+LIMARI!C11+CHOAPA!C11 -> 41604 | D10: =D11+LIMARI!D11+CHOAPA!D11 -> 40412 | E10: =E11+LIMARI!E11+CHOAPA!E11 -> 43674 | F10: =F11+LIMARI!F11+CHOAPA!F11 -> 47900 | G10: =G11+LIMARI!G11+CHOAPA!G11 -> 45273 | H10: =H11+LIMARI!H11+CHOAPA!H11 -> 39192 | I10: =I11+LIMARI!I11+CHOAPA!I11 -> 36105 | ... S10: =S11+LIMARI!S11+CHOAPA!S11 -> 573439
A11: PROVINCIA DE ELQUI | B11: =B48+B85 -> 29839 | C11: =C48+C85 -> 28461 | D11: =D48+D85 -> 27274 | E11: =E48+E85 -> 29529 | F11: =F48+F85 -> 33171 | G11: =G48+G85 -> 31637 | H11: =H48+H85 -> 27273 | I11: =I48+I85 -> 24747 | ... S11: =S48+S85 -> 391177
A12: C. LA SERENA | B12: =SUM(B13:B18) -> 14470 | C12: =SUM(C13:C18) -> 13662 | D12: =SUM(D13:D18) -> 13341 | E12: =SUM(E13:E18) -> 14934 | F12: =SUM(F13:F18) -> 17205 | G12: =SUM(G13:G18) -> 16332 | H12: =SUM(H13:H18) -> 13943 | I12: =SUM(I13:I18) -> 12860 | ... S12: =SUM(S13:S18) -> 197337
A13: CGU CARDENAL CARO | B13: =B50+B87 -> 2692 | C13: =C50+C87 -> 2479 | D13: =D50+D87 -> 2506 | E13: =E50+E87 -> 2782 | F13: =F50+F87 -> 3512 | G13: =G50+G87 -> 3589 | H13: =H50+H87 -> 3153 | I13: =I50+I87 -> 2878 | ... S13: =S50+S87 -> 42308
A14: CGU LAS COMPAÑIAS | B14: =B51+B88 -> 1908 | C14: =C51+C88 -> 2062 | D14: =D51+D88 -> 2029 | E14: =E51+E88 -> 2142 | F14: =F51+F88 -> 2502 | G14: =G51+G88 -> 2309 | H14: =H51+H88 -> 2055 | I14: =I51+I88 -> 1921 | ... S14: =S51+S88 -> 29641
A15: CGU P. AGUIRRE CERDA | B15: =B52+B89 -> 2363 | C15: =C52+C89 -> 2098 | D15: =D52+D89 -> 1962 | E15: =E52+E89 -> 2263 | F15: =F52+F89 -> 2503 | G15: =G52+G89 -> 2350 | H15: =H52+H89 -> 2056 | I15: =I52+I89 -> 1790 | ... S15: =S52+S89 -> 29623
A16: CGU E. SCHAFFAUSER | B16: =B53+B90 -> 2421 | C16: =C53+C90 -> 2384 | D16: =D53+D90 -> 2492 | E16: =E53+E90 -> 3071 | F16: =F53+F90 -> 3740 | G16: =G53+G90 -> 3647 | H16: =H53+H90 -> 3117 | I16: =I53+I90 -> 2838 | ... S16: =S53+S90 -> 42708
A17: C.S. R. SILVA HENRIQUEZ | B17: =B54+B91 -> 2623 | C17: =C54+C91 -> 2553 | D17: =D54+D91 -> 2468 | E17: =E54+E91 -> 2712 | F17: =F54+F91 -> 2964 | G17: =G54+G91 -> 2762 | H17: =H54+H91 -> 2177 | I17: =I54+I91 -> 1994 | ... S17: =S54+S91 -> 31769
A18: C.JUAN PABLO II | B18: =B55+B92 -> 2463 | C18: =C55+C92 -> 2086 | D18: =D55+D92 -> 1884 | E18: =E55+E92 -> 1964 | F18: =F55+F92 -> 1984 | G18: =G55+G92 -> 1675 | H18: =H55+H92 -> 1385 | I18: =I55+I92 -> 1439 | ... S18: =S55+S92 -> 21288
A21: C. COQUIMBO | B21: =SUM(B22:B27) -> 14746 | C21: =SUM(C22:C27) -> 14034 | D21: =SUM(D22:D27) -> 13104 | E21: =SUM(E22:E27) -> 13725 | F21: =SUM(F22:F27) -> 15039 | G21: =SUM(G22:G27) -> 14441 | H21: =SUM(H22:H27) -> 12573 | I21: =SUM(I22:I27) -> 11193 | ... S21: =SUM(S22:S27) -> 182476
A22: CGU SAN JUAN | B22: =B59+B96 -> 2514 | C22: =C59+C96 -> 2434 | D22: =D59+D96 -> 2423 | E22: =E59+E96 -> 2622 | F22: =F59+F96 -> 2816 | G22: =G59+G96 -> 2662 | H22: =H59+H96 -> 2339 | I22: =I59+I96 -> 1994 | ... S22: =S59+S96 -> 33448
A23: CGU SANTA CECILIA | B23: =B60+B97 -> 2452 | C23: =C60+C97 -> 2289 | D23: =D60+D97 -> 2117 | E23: =E60+E97 -> 2444 | F23: =F60+F97 -> 2931 | G23: =G60+G97 -> 2620 | H23: =H60+H97 -> 2222 | I23: =I60+I97 -> 1988 | ... S23: =S60+S97 -> 31683
A24: CGU TIERRAS BLANCAS | B24: =B61+B98 -> 4047 | C24: =C61+C98 -> 3889 | D24: =D61+D98 -> 3653 | E24: =E61+E98 -> 3718 | F24: =F61+F98 -> 3906 | G24: =G61+G98 -> 3866 | H24: =H61+H98 -> 3453 | I24: =I61+I98 -> 3144 | ... S24: =S61+S98 -> 48074
A25: CGU SERGIO AGUILAR | B25: =B62+B99 -> 4412 | C25: =C62+C99 -> 4139 | D25: =D62+D99 -> 3626 | E25: =E62+E99 -> 3598 | F25: =F62+F99 -> 3900 | G25: =G62+G99 -> 3949 | H25: =H62+H99 -> 3387 | I25: =I62+I99 -> 2901 | ... S25: =S62+S99 -> 51670
A26: CGR TONGOY | B26: =B63+B100 -> 639 | C26: =C63+C100 -> 597 | D26: =D63+D100 -> 645 | E26: =E63+E100 -> 690 | F26: =F63+F100 -> 771 | G26: =G63+G100 -> 680 | H26: =H63+H100 -> 586 | I26: =I63+I100 -> 590 | ... S26: =S63+S100 -> 8868
A27: POSTA PAN DE AZUCAR | B27: =B64+B101 -> 682 | C27: =C64+C101 -> 686 | D27: =D64+D101 -> 640 | E27: =E64+E101 -> 653 | F27: =F64+F101 -> 715 | G27: =G64+G101 -> 664 | H27: =H64+H101 -> 586 | I27: =I64+I101 -> 576 | ... S27: =S64+S101 -> 8733
A30: C. VICUÑA | B30: =SUM(B31:B41) -> 623 | C30: =SUM(C31:C41) -> 765 | D30: =SUM(D31:D41) -> 829 | E30: =SUM(E31:E41) -> 870 | F30: =SUM(F31:F41) -> 927 | G30: =SUM(G31:G41) -> 864 | H30: =SUM(H31:H41) -> 757 | I30: =SUM(I31:I41) -> 694 | ... S30: =SUM(S31:S41) -> 11364
A31: HOSPITAL VICUÑA
A32: POSTA DIAGUITAS | B32: =B69+B106 -> 83 | C32: =C69+C106 -> 88 | D32: =D69+D106 -> 120 | E32: =E69+E106 -> 107 | F32: =F69+F106 -> 112 | G32: =G69+G106 -> 94 | H32: =H69+H106 -> 83 | I32: =I69+I106 -> 85 | ... S32: =S69+S106 -> 1415
A33: POSTA EL MOLLE | B33: =B70+B107 -> 31 | C33: =C70+C107 -> 44 | D33: =D70+D107 -> 51 | E33: =E70+E107 -> 47 | F33: =F70+F107 -> 53 | G33: =G70+G107 -> 38 | H33: =H70+H107 -> 41 | I33: =I70+I107 -> 34 | ... S33: =S70+S107 -> 644
A34: POSTA EL TAMBO | B34: =B71+B108 -> 88 | C34: =C71+C108 -> 108 | D34: =D71+D108 -> 99 | E34: =E71+E108 -> 118 | F34: =F71+F108 -> 140 | G34: =G71+G108 -> 125 | H34: =H71+H108 -> 100 | I34: =I71+I108 -> 101 | ... S34: =S71+S108 -> 1622
A35: POSTA HUANTA | B35: =B72+B109 -> 3 | C35: =C72+C109 -> 4 | D35: =D72+D109 -> 6 | E35: =E72+E109 -> 2 | F35: =F72+F109 -> 2 | G35: =G72+G109 -> 4 | H35: =H72+H109 -> 1 | I35: =I72+I109 -> 3 | ... S35: =S72+S109 -> 78
A36: POSTA PERALILLO | B36: =B73+B110 -> 95 | C36: =C73+C110 -> 119 | D36: =D73+D110 -> 127 | E36: =E73+E110 -> 131 | F36: =F73+F110 -> 150 | G36: =G73+G110 -> 163 | H36: =H73+H110 -> 139 | I36: =I73+I110 -> 120 | ... S36: =S73+S110 -> 1901
A37: POSTA RIVADAVIA | B37: =B74+B111 -> 41 | C37: =C74+C111 -> 67 | D37: =D74+D111 -> 82 | E37: =E74+E111 -> 93 | F37: =F74+F111 -> 82 | G37: =G74+G111 -> 67 | H37: =H74+H111 -> 62 | I37: =I74+I111 -> 61 | ... S37: =S74+S111 -> 1042
A38: POSTA CHAPILCA | B38: =B75+B112 -> 15 | C38: =C75+C112 -> 20 | D38: =D75+D112 -> 24 | E38: =E75+E112 -> 27 | F38: =F75+F112 -> 27 | G38: =G75+G112 -> 19 | H38: =H75+H112 -> 29 | I38: =I75+I112 -> 18 | ... S38: =S75+S112 -> 348
A39: POSTA CALINGASTA | B39: =B76+B113 -> 176 | C39: =C76+C113 -> 226 | D39: =D76+D113 -> 236 | E39: =E76+E113 -> 262 | F39: =F76+F113 -> 282 | G39: =G76+G113 -> 268 | H39: =H76+H113 -> 238 | I39: =I76+I113 -> 216 | ... S39: =S76+S113 -> 3228
A40: POSTA TALCUNA | B40: =B77+B114 -> 68 | C40: =C77+C114 -> 60 | D40: =D77+D114 -> 69 | E40: =E77+E114 -> 57 | F40: =F77+F114 -> 46 | G40: =G77+G114 -> 54 | H40: =H77+H114 -> 38 | I40: =I77+I114 -> 37 | ... S40: =S77+S114 -> 722
A41: POSTA GUALLIGUAICA | B41: =B78+B115 -> 23 | C41: =C78+C115 -> 29 | D41: =D78+D115 -> 15 | E41: =E78+E115 -> 26 | F41: =F78+F115 -> 33 | G41: =G78+G115 -> 32 | H41: =H78+H115 -> 26 | I41: =I78+I115 -> 19 | ... S41: =S78+S115 -> 364
J43: POBLACION INSCRITA PERCAPITA VALIDADA 2015 IV REGION - MUJERES
J44: PROVINCIA - ELQUI
A46: 2015 | B46: 0 - 4 | C46: 5 - 9 | D46: 10 - 14 | E46: 15 - 19 | F46: 20 - 24 | G46: 25 - 29 | H46: 30 - 34 | I46: 35 - 39 | J46: 40-44 | K46: 45-49 | L46: 50 - 54 | M46: 55 - 59 | N46: 60 - 64 | O46: 65 - 69 | P46: 70 - 74 | Q46: 75 - 79 | R46: 80 Y + | S46: TOTAL
A47: TOTAL IV REGION | B47: =B48+LIMARI!B46+CHOAPA!B43 -> 20284 | C47: =C48+LIMARI!C46+CHOAPA!C43 -> 20346 | D47: =D48+LIMARI!D46+CHOAPA!D43 -> 19638 | E47: =E48+LIMARI!E46+CHOAPA!E43 -> 21592 | F47: =F48+LIMARI!F46+CHOAPA!F43 -> 24120 | G47: =G48+LIMARI!G46+CHOAPA!G43 -> 23550 | H47: =H48+LIMARI!H46+CHOAPA!H43 -> 20889 | I47: =I48+LIMARI!I46+CHOAPA!I43 -> 19559 | ... S47: =S48+LIMARI!S46+CHOAPA!S43 -> 297723
A48: PROVINCIA DE ELQUI | B48: =+B49+B58+B67 -> 14576 | C48: =+C49+C58+C67 -> 13949 | D48: =+D49+D58+D67 -> 13296 | E48: =+E49+E58+E67 -> 14606 | F48: =+F49+F58+F67 -> 16895 | G48: =+G49+G58+G67 -> 16652 | H48: =+H49+H58+H67 -> 14746 | I48: =+I49+I58+I67 -> 13578 | ... R48: =+R49+R58+R67 -> 6998 | S48: =S49+S58+S67 -> 205491
...

Sheet LIMARI
A1: MINISTERIO DE SALUD
A2: SERVICIO DE SALUD COQUIMBO
A3: SUBDIRECCION DE GESTION ASISTENCIAL
A4: SUBDEPTO DE ESTADÍSTICA Y GESTIÓN DE LA INFORMACIÓN
A6: POBLACION INSCRITA PERCAPITA VALIDADA 2015 IV REGION - AMBOS SEXOS
A7: PROVINCIA - LIMARI
A9: 2015 | B9: 0 - 4 | C9: 5 - 9 | D9: 10 - 14 | E9: 15 - 19 | F9: 20 - 24 | G9: 25 - 29 | H9: 30 - 34 | I9: 35 - 39 | J9: 40 - 44 | K9: 45-49 | L9: 50 - 54 | M9: 55 - 59 | N9: 60 - 64 | O9: 65 - 69 | P9: 70 - 74 | Q9: 75 - 79 | R9: 80 Y + | S9: TOTAL
A10: TOTAL IV REGION | B10: =ELQUI!B11+LIMARI!B11+CHOAPA!B11 -> 41550 | C10: =ELQUI!C11+LIMARI!C11+CHOAPA!C11 -> 41604 | D10: =ELQUI!D11+LIMARI!D11+CHOAPA!D11 -> 40412 | E10: =ELQUI!E11+LIMARI!E11+CHOAPA!E11 -> 43674 | F10: =ELQUI!F11+LIMARI!F11+CHOAPA!F11 -> 47900 | G10: =ELQUI!G11+LIMARI!G11+CHOAPA!G11 -> 45273 | H10: =ELQUI!H11+LIMARI!H11+CHOAPA!H11 -> 39192 | I10: =ELQUI!I11+LIMARI!I11+CHOAPA!I11 -> 36105 | ... S10: =ELQUI!S11+LIMARI!S11+CHOAPA!S11 -> 573439
A11: PROVINCIA EL LIMARI | B11: =B12+B19+B28+B34+B37 -> 9744 | C11: =C12+C19+C28+C34+C37 -> 10464 | D11: =D12+D19+D28+D34+D37 -> 10202 | E11: =E12+E19+E28+E34+E37 -> 11039 | F11: =F12+F19+F28+F34+F37 -> 11575 | G11: =G12+G19+G28+G34+G37 -> 10735 | H11: =H12+H19+H28+H34+H37 -> 9287 | I11: =I12+I19+I28+I34+I37 -> 8822 | ... S11: =S12+S19+S28+S34+S37 -> 142043
A12: C. OVALLE | B12: =SUM(B13:B17) -> 6509 | C12: =SUM(C13:C17) -> 6853 | D12: =SUM(D13:D17) -> 6616 | E12: =SUM(E13:E17) -> 7145 | F12: =SUM(F13:F17) -> 7564 | G12: =SUM(G13:G17) -> 7047 | H12: =SUM(H13:H17) -> 5865 | I12: =SUM(I13:I17) -> 5401 | ... S12: =SUM(S13:S17) -> 90449
A13: C.G.R. CERRILLOS DE TAMAYA | B13: =B48+B83 -> 456 | C13: =C48+C83 -> 554 | D13: =D48+D83 -> 534 | E13: =E48+E83 -> 514 | F13: =F48+F83 -> 620 | G13: =G48+G83 -> 562 | H13: =H48+H83 -> 537 | I13: =I48+I83 -> 504 | ... S13: =S48+S83 -> 7306
A14: C.G.U JORGE JORDAN | B14: =B49+B84 -> 2126 | C14: =C49+C84 -> 2012 | D14: =D49+D84 -> 1887 | E14: =E49+E84 -> 2145 | F14: =F49+F84 -> 2437 | G14: =G49+G84 -> 2293 | H14: =H49+H84 -> 1807 | I14: =I49+I84 -> 1579 | ... S14: =S49+S84 -> 27246
A15: C.G.U MARCOS MACUADA | B15: =B50+B85 -> 3185 | C15: =C50+C85 -> 3412 | D15: =D50+D85 -> 3251 | E15: =E50+E85 -> 3453 | F15: =F50+F85 -> 3351 | G15: =G50+G85 -> 3090 | H15: =H50+H85 -> 2584 | I15: =I50+I85 -> 2469 | ... S15: =S50+S85 -> 41692
A16: C.G.R. SOTAQUI | B16: =B51+B86 -> 305 | C16: =C51+C86 -> 320 | D16: =D51+D86 -> 356 | E16: =E51+E86 -> 393 | F16: =F51+F86 -> 436 | G16: =G51+G86 -> 406 | H16: =H51+H86 -> 330 | I16: =I51+I86 -> 315 | ... S16: =S51+S86 -> 5014
A17: POSTA LIMARI | B17: =B52+B87 -> 437 | C17: =C52+C87 -> 555 | D17: =D52+D87 -> 588 | E17: =E52+E87 -> 640 | F17: =F52+F87 -> 720 | G17: =G52+G87 -> 696 | H17: =H52+H87 -> 607 | I17: =I52+I87 -> 534 | ... S17: =S52+S87 -> 9191
A19: C. RIO HURTADO | B19: =SUM(B20:B26) -> 190 | C19: =SUM(C20:C26) -> 239 | D19: =SUM(D20:D26) -> 244 | E19: =SUM(E20:E26) -> 265 | F19: =SUM(F20:F26) -> 322 | G19: =SUM(G20:G26) -> 265 | H19: =SUM(H20:H26) -> 250 | I19: =SUM(I20:I26) -> 225 | ... S19: =SUM(S20:S26) -> 3982
A20: C.G.R PICHASCA | B20: =B55+B90 -> 57 | C20: =C55+C90 -> 88 | D20: =D55+D90 -> 90 | E20: =E55+E90 -> 72 | F20: =F55+F90 -> 118 | G20: =G55+G90 -> 86 | H20: =H55+H90 -> 79 | I20: =I55+I90 -> 61 | ... S20: =S55+S90 -> 1280
A21: POSTA EL CHAÑAR | B21: =B56+B91 -> 15 | C21: =C56+C91 -> 10 | D21: =D56+D91 -> 16 | E21: =E56+E91 -> 12 | F21: =F56+F91 -> 14 | G21: =G56+G91 -> 13 | H21: =H56+H91 -> 8 | I21: =I56+I91 -> 12 | ... S21: =S56+S91 -> 204
A22: POSTA HURTADO | B22: =B57+B92 -> 18 | C22: =C57+C92 -> 17 | D22: =D57+D92 -> 19 | E22: =E57+E92 -> 50 | F22: =F57+F92 -> 37 | G22: =G57+G92 -> 34 | H22: =H57+H92 -> 30 | I22: =I57+I92 -> 32 | ... S22: =S57+S92 -> 484
A23: POSTA LAS BREAS | B23: =B58+B93 -> 15 | C23: =C58+C93 -> 21 | D23: =D58+D93 -> 23 | E23: =E58+E93 -> 28 | F23: =F58+F93 -> 14 | G23: =G58+G93 -> 14 | H23: =H58+H93 -> 20 | I23: =I58+I93 -> 29 | ... S23: =S58+S93 -> 314
A24: POSTA SAMO ALTO | B24: =B59+B94 -> 32 | C24: =C59+C94 -> 38 | D24: =D59+D94 -> 31 | E24: =E59+E94 -> 30 | F24: =F59+F94 -> 49 | G24: =G59+G94 -> 50 | H24: =H59+H94 -> 45 | I24: =I59+I94 -> 25 | ... S24: =S59+S94 -> 682
A25: POSTA SERON | B25: =B60+B95 -> 31 | C25: =C60+C95 -> 43 | D25: =D60+D95 -> 39 | E25: =E60+E95 -> 50 | F25: =F60+F95 -> 63 | G25: =G60+G95 -> 45 | H25: =H60+H95 -> 49 | I25: =I60+I95 -> 40 | ... S25: =S60+S95 -> 679
A26: POSTA TAHUINCO | B26: =B61+B96 -> 22 | C26: =C61+C96 -> 22 | D26: =D61+D96 -> 26 | E26: =E61+E96 -> 23 | F26: =F61+F96 -> 27 | G26: =G61+G96 -> 23 | H26: =H61+H96 -> 19 | I26: =I61+I96 -> 26 | ... S26: =S61+S96 -> 339
A28: C. MONTE PATRIA | B28: =SUM(B29:B32) -> 2233 | C28: =SUM(C29:C32) -> 2165 | D28: =SUM(D29:D32) -> 2147 | E28: =SUM(E29:E32) -> 2351 | F28: =SUM(F29:F32) -> 2419 | G28: =SUM(G29:G32) -> 2251 | H28: =SUM(H29:H32) -> 2040 | I28: =SUM(I29:I32) -> 1998 | ... S28: =SUM(S29:S32) -> 30423
A29: C.G.R. MONTE PATRIA | B29: =B64+B99 -> 886 | C29: =C64+C99 -> 877 | D29: =D64+D99 -> 879 | E29: =E64+E99 -> 958 | F29: =F64+F99 -> 989 | G29: =G64+G99 -> 941 | H29: =H64+H99 -> 853 | I29: =I64+I99 -> 797 | ... S29: =S64+S99 -> 12260
A30: C.G.R CHAÑARAL ALTO | B30: =B65+B100 -> 348 | C30: =C65+C100 -> 344 | D30: =D65+D100 -> 334 | E30: =E65+E100 -> 383 | F30: =F65+F100 -> 352 | G30: =G65+G100 -> 325 | H30: =H65+H100 -> 298 | I30: =I65+I100 -> 326 | ... S30: =S65+S100 -> 4863
A31: C.G.R CAREN | B31: =B66+B101 -> 324 | C31: =C66+C101 -> 330 | D31: =D66+D101 -> 370 | E31: =E66+E101 -> 399 | F31: =F66+F101 -> 425 | G31: =G66+G101 -> 369 | H31: =H66+H101 -> 350 | I31: =I66+I101 -> 366 | ... S31: =S66+S101 -> 5464
A32: C.G.R EL PALQUI | B32: =B67+B102 -> 675 | C32: =C67+C102 -> 614 | D32: =D67+D102 -> 564 | E32: =E67+E102 -> 611 | F32: =F67+F102 -> 653 | G32: =G67+G102 -> 616 | H32: =H67+H102 -> 539 | I32: =I67+I102 -> 509 | ... S32: =S67+S102 -> 7836
A34: C. PUNITAQUI | B34: =+B35 -> 653 | C34: =+C35 -> 891 | D34: =+D35 -> 831 | E34: =+E35 -> 829 | F34: =+F35 -> 810 | G34: =+G35 -> 763 | H34: =+H35 -> 698 | I34: =+I35 -> 687 | ... R34: =+R35 -> 323 | S34: =S35 -> 10668
A35: C.G.R. PUNITAQUI | B35: =B70+B105 -> 653 | C35: =C70+C105 -> 891 | D35: =D70+D105 -> 831 | E35: =E70+E105 -> 829 | F35: =F70+F105 -> 810 | G35: =G70+G105 -> 763 | H35: =H70+H105 -> 698 | I35: =I70+I105 -> 687 | ... S35: =S70+S105 -> 10668
A37: C. COMBARBALÁ | B37: =+B38 -> 159 | C37: =+C38 -> 316 | D37: =+D38 -> 364 | E37: =+E38 -> 449 | F37: =+F38 -> 460 | G37: =+G38 -> 409 | H37: =+H38 -> 434 | I37: =+I38 -> 511 | ... R37: =+R38 -> 338 | S37: =S38 -> 6521
A38: POSTA SAN LORENZO | B38: =B73+B108 -> 159 | C38: =C73+C108 -> 316 | D38: =D73+D108 -> 364 | E38: =E73+E108 -> 449 | F38: =F73+F108 -> 460 | G38: =G73+G108 -> 409 | H38: =H73+H108 -> 434 | I38: =I73+I108 -> 511 | ... S38: =S73+S108 -> 6521
J41: POBLACION INSCRITA PERCAPITA VALIDADA 2015 IV REGION - MUJERES
J42: PROVINCIA - LIMARI
A44: 2015 | B44: 0 - 4 | C44: 5 - 9 | D44: 10 - 14 | E44: 15 - 19 | F44: 20 - 24 | G44: 25 - 29 | H44: 30 - 34 | I44: 35 - 39 | J44: 40 - 44 | K44: 45-49 | L44: 50 - 54 | M44: 55 - 59 | N44: 60 - 64 | O44: 65 - 69 | P44: 70 - 74 | Q44: 75 - 79 | R44: 80 Y + | S44: TOTAL
A45: TOTAL IV REGION | B45: =B46+ELQUI!B48+CHOAPA!B43 -> 20284 | C45: =C46+ELQUI!C48+CHOAPA!C43 -> 20346 | D45: =D46+ELQUI!D48+CHOAPA!D43 -> 19638 | E45: =E46+ELQUI!E48+CHOAPA!E43 -> 21592 | F45: =F46+ELQUI!F48+CHOAPA!F43 -> 24120 | G45: =G46+ELQUI!G48+CHOAPA!G43 -> 23550 | H45: =H46+ELQUI!H48+CHOAPA!H43 -> 20889 | I45: =I46+ELQUI!I48+CHOAPA!I43 -> 19559 | ... R45: =R46+ELQUI!R48+CHOAPA!R43 -> 10467 | S45: =SUM(B45:R45) -> 297398
A46: PROVINCIA EL LIMARI | B46: =+B47+B54+B63+B69+B72 -> 4767 | C46: =+C47+C54+C63+C69+C72 -> 5117 | D46: =+D47+D54+D63+D69+D72 -> 4912 | E46: =+E47+E54+E63+E69+E72 -> 5486 | F46: =+F47+F54+F63+F69+F72 -> 5724 | G46: =+G47+G54+G63+G69+G72 -> 5445 | H46: =+H47+H54+H63+H69+H72 -> 4773 | I46: =+I47+I54+I63+I69+I72 -> 4630 | ... R46: =+R47+R54+R63+R69+R72 -> 2729 | S46: =S47+S54+S63+S69+S72 -> 72336
A47: C. OVALLE | B47: =SUM(B48:B52) -> 3184 | C47: =SUM(C48:C52) -> 3341 | D47: =SUM(D48:D52) -> 3207 | E47: =SUM(E48:E52) -> 3551 | F47: =SUM(F48:F52) -> 3773 | G47: =SUM(G48:G52) -> 3641 | H47: =SUM(H48:H52) -> 3107 | I47: =SUM(I48:I52) -> 2963 | ... S47: =SUM(S48:S52) -> 47100
A48: C.G.R. CERRILLOS DE TAMAYA | B48: 224 | C48: 277 | D48: 270 | E48: 251 | F48: 312 | G48: 276 | H48: 271 | I48: 233 | J48: 248 | K48: 224 | L48: 192 | M48: 181 | N48: 137 | O48: 142 | P48: 126 | Q48: 74 | R48: 92 | S48: =SUM(B48:R48)+2 -> 3532
A49: C.G.U JORGE JORDAN | B49: 1037 | C49: 953 | D49: 899 | E49: 1107 | F49: 1230 | G49: 1197 | H49: 959 | I49: 873 | J49: 891 | K49: 969 | L49: 1101 | M49: 905 | N49: 642 | O49: 447 | P49: 410 | Q49: 305 | R49: 442 | S49: =SUM(B49:R49)+3 -> 14370
...

Sheet CHOAPA
A1: MINISTERIO DE SALUD
A2: SERVICIO DE SALUD COQUIMBO
A3: SUBDIRECCION DE GESTION ASISTENCIAL
A4: SUBDEPTO DE ESTADÍSTICA Y GESTIÓN DE LA INFORMACIÓN
A6: POBLACION INSCRITA PERCAPITA VALIDADA 2015 IV REGION - AMBOS SEXOS
A7: PROVINCIA - CHOAPA
A9: 2015 | B9: 0 - 4 | C9: 5 - 9 | D9: 10 - 14 | E9: 15 - 19 | F9: 20 - 24 | G9: 25 - 29 | H9: 30 - 34 | I9: 35 - 39 | J9: 40 - 44 | K9: 45-49 | L9: 50 - 54 | M9: 55 - 59 | N9: 60 - 64 | O9: 65 - 69 | P9: 70 - 74 | Q9: 75 - 79 | R9: 80 Y = | S9: TOTAL
A10: TOTAL IV REGION | B10: =ELQUI!B11+LIMARI!B11+CHOAPA!B11 -> 41550 | C10: =ELQUI!C11+LIMARI!C11+CHOAPA!C11 -> 41604 | D10: =ELQUI!D11+LIMARI!D11+CHOAPA!D11 -> 40412 | E10: =ELQUI!E11+LIMARI!E11+CHOAPA!E11 -> 43674 | F10: =ELQUI!F11+LIMARI!F11+CHOAPA!F11 -> 47900 | G10: =ELQUI!G11+LIMARI!G11+CHOAPA!G11 -> 45273 | H10: =ELQUI!H11+LIMARI!H11+CHOAPA!H11 -> 39192 | I10: =ELQUI!I11+LIMARI!I11+CHOAPA!I11 -> 36105 | ... S10: =ELQUI!S11+LIMARI!S11+CHOAPA!S11 -> 573439 | T10: =SUM(E10:R10) -> 449534 | U10: =6*T10/1000 -> 2697.204 | V10: municipal
A11: PROVINCIA CHOAPA | B11: =+B12+B26+B30+B34 -> 1967 | C11: =+C12+C26+C30+C34 -> 2679 | D11: =+D12+D26+D30+D34 -> 2936 | E11: =+E12+E26+E30+E34 -> 3106 | F11: =+F12+F26+F30+F34 -> 3154 | G11: =+G12+G26+G30+G34 -> 2901 | H11: =+H12+H26+H30+H34 -> 2632 | I11: =+I12+I26+I30+I34 -> 2536 | ... S11: =+S12+S26+S30+S34 -> 40219 | T11: 66872.4 | V11: hospital
A12: C. ILLAPEL | B12: =SUM(B13:B24) -> 685 | C12: =SUM(C13:C24) -> 898 | D12: =SUM(D13:D24) -> 1014 | E12: =SUM(E13:E24) -> 994 | F12: =SUM(F13:F24) -> 1052 | G12: =SUM(G13:G24) -> 952 | H12: =SUM(H13:H24) -> 815 | I12: =SUM(I13:I24) -> 774 | ... S12: =SUM(S13:S24) -> 12465 | T12: =+T11+T10 -> 516406.4 | U12: =6*T12/1000 -> 3098.4384
A13: HOSPITAL ILLAPEL
A14: POSTA CARCAMO | B14: =B46+B78 -> 23 | C14: =C46+C78 -> 27 | D14: =D46+D78 -> 45 | E14: =E46+E78 -> 43 | F14: =F46+F78 -> 46 | G14: =G46+G78 -> 63 | H14: =H46+H78 -> 31 | I14: =I46+I78 -> 40 | ... S14: =S46+S78 -> 727
A15: POSTA HUINTIL | B15: =B47+B79 -> 25 | C15: =C47+C79 -> 30 | D15: =D47+D79 -> 30 | E15: =E47+E79 -> 26 | F15: =F47+F79 -> 31 | G15: =G47+G79 -> 25 | H15: =H47+H79 -> 28 | I15: =I47+I79 -> 27 | ... S15: =S47+S79 -> 458
A16: POSTA LIMAHUIDA | B16: =B48+B80 -> 21 | C16: =C48+C80 -> 13 | D16: =D48+D80 -> 28 | E16: =E48+E80 -> 35 | F16: =F48+F80 -> 27 | G16: =G48+G80 -> 25 | H16: =H48+H80 -> 31 | I16: =I48+I80 -> 19 | ... S16: =S48+S80 -> 400
A17: POSTA MATANCILLA | B17: =B49+B81 -> 19 | C17: =C49+C81 -> 23 | D17: =D49+D81 -> 14 | E17: =E49+E81 -> 27 | F17: =F49+F81 -> 29 | G17: =G49+G81 -> 22 | H17: =H49+H81 -> 18 | I17: =I49+I81 -> 21 | ... S17: =S49+S81 -> 386
A18: POSTA PERALILLO | B18: =B50+B82 -> 27 | C18: =C50+C82 -> 37 | D18: =D50+D82 -> 43 | E18: =E50+E82 -> 42 | F18: =F50+F82 -> 52 | G18: =G50+G82 -> 33 | H18: =H50+H82 -> 33 | I18: =I50+I82 -> 39 | ... S18: =S50+S82 -> 559
A19: POSTA STA. VIRGINIA | B19: =B51+B83 -> 16 | C19: =C51+C83 -> 26 | D19: =D51+D83 -> 46 | E19: =E51+E83 -> 48 | F19: =F51+F83 -> 42 | G19: =G51+G83 -> 37 | H19: =H51+H83 -> 23 | I19: =I51+I83 -> 35 | ... S19: =S51+S83 -> 483
A20: POSTA TUNGA-NORTE | B20: =B52+B84 -> 7 | C20: =C52+C84 -> 49 | D20: =D52+D84 -> 63 | E20: =E52+E84 -> 49 | F20: =F52+F84 -> 39 | G20: =G52+G84 -> 57 | H20: =H52+H84 -> 37 | I20: =I52+I84 -> 50 | ... S20: =S52+S84 -> 734
A21: POSTA PLAN DE HORNOS | B21: =B53+B85 -> 10 | C21: =C53+C85 -> 14 | D21: =D53+D85 -> 13 | E21: =E53+E85 -> 14 | F21: =F53+F85 -> 23 | G21: =G53+G85 -> 36 | H21: =H53+H85 -> 23 | I21: =I53+I85 -> 27 | ... S21: =S53+S85 -> 316
A22: POSTA TUNGA-SUR | B22: =B54+B86 -> 3 | C22: =C54+C86 -> 12 | D22: =D54+D86 -> 9 | E22: =E54+E86 -> 15 | F22: =F54+F86 -> 15 | G22: =G54+G86 -> 14 | H22: =H54+H86 -> 14 | I22: =I54+I86 -> 16 | ... S22: =S54+S86 -> 272
A23: POSTA PINTACURA | B23: =B55+B87 -> 436 | C23: =C55+C87 -> 554 | D23: =D55+D87 -> 599 | E23: =E55+E87 -> 573 | F23: =F55+F87 -> 622 | G23: =G55+G87 -> 539 | H23: =H55+H87 -> 466 | I23: =I55+I87 -> 406 | ... S23: =S55+S87 -> 6642
A24: P. CAÑAS UNO DEL CHOAPA | B24: =B56+B88 -> 98 | C24: =C56+C88 -> 113 | D24: =D56+D88 -> 124 | E24: =E56+E88 -> 122 | F24: =F56+F88 -> 126 | G24: =G56+G88 -> 101 | H24: =H56+H88 -> 111 | I24: =I56+I88 -> 94 | ... S24: =S56+S88 -> 1488
A26: C. SALAMANCA | B26: =+B28 -> 556 | C26: =+C28 -> 756 | D26: =+D28 -> 855 | E26: =+E28 -> 981 | F26: =+F28 -> 955 | G26: =+G28 -> 911 | H26: =+H28 -> 804 | I26: =+I28 -> 767 | ... R26: =+R28 -> 418 | S26: =S28 -> 12403
A27: HOSPITAL SALAMANCA
A28: POSTA CUNCUMEN | B28: =B60+B92 -> 556 | C28: =C60+C92 -> 756 | D28: =D60+D92 -> 855 | E28: =E60+E92 -> 981 | F28: =F60+F92 -> 955 | G28: =G60+G92 -> 911 | H28: =H60+H92 -> 804 | I28: =I60+I92 -> 767 | ... S28: =S60+S92 -> 12403
A30: C. LOS VILOS | B30: =+B31+B32 -> 289 | C30: =+C31+C32 -> 440 | D30: =+D31+D32 -> 420 | E30: =+E31+E32 -> 452 | F30: =+F31+F32 -> 447 | G30: =+G31+G32 -> 410 | H30: =+H31+H32 -> 406 | I30: =+I31+I32 -> 383 | ... R30: =+R31+R32 -> 195 | S30: =S32 -> 5926
A31: HOSPITAL LOS VILOS
A32: POSTA CAIMANES | B32: =B64+B96 -> 289 | C32: =C64+C96 -> 440 | D32: =D64+D96 -> 420 | E32: =E64+E96 -> 452 | F32: =F64+F96 -> 447 | G32: =G64+G96 -> 410 | H32: =H64+H96 -> 406 | I32: =I64+I96 -> 383 | ... S32: =S64+S96 -> 5926
A34: C. CANELA | B34: =+B66+B98 -> 437 | C34: =+C66+C98 -> 585 | D34: =+D66+D98 -> 647 | E34: =+E66+E98 -> 679 | F34: =+F66+F98 -> 700 | G34: =+G66+G98 -> 628 | H34: =+H66+H98 -> 607 | I34: =+I66+I98 -> 612 | ... R34: =+R66+R98 -> 452 | S34: =S35 -> 9425
A35: CGR CANELA | B35: =B67+B99 -> 437 | C35: =C67+C99 -> 585 | D35: =D67+D99 -> 647 | E35: =E67+E99 -> 679 | F35: =F67+F99 -> 700 | G35: =G67+G99 -> 628 | H35: =H67+H99 -> 607 | I35: =I67+I99 -> 612 | ... S35: =S67+S99 -> 9425
J38: POBLACION INSCRITA PERCAPITA VALIDADA 2015 IV REGION - MUJERES
J39: PROVINCIA - CHOAPA
A41: 2015 | B41: 0 - 4 | C41: 5 - 9 | D41: 10 - 14 | E41: 15 - 19 | F41: 20 - 24 | G41: 25 - 29 | H41: 30 - 34 | I41: 35 - 39 | J41: 40 - 44 | K41: 45-49 | L41: 50 - 54 | M41: 55 - 59 | N41: 60 - 64 | O41: 65 - 69 | P41: 70 - 74 | Q41: 75 - 79 | R41: 80 Y + | S41: TOTAL
A42: TOTAL IV REGION | B42: =+B43+LIMARI!B46+ELQUI!B48 -> 20284 | C42: =+C43+LIMARI!C46+ELQUI!C48 -> 20346 | D42: =+D43+LIMARI!D46+ELQUI!D48 -> 19638 | E42: =+E43+LIMARI!E46+ELQUI!E48 -> 21592 | F42: =+F43+LIMARI!F46+ELQUI!F48 -> 24120 | G42: =+G43+LIMARI!G46+ELQUI!G48 -> 23550 | H42: =+H43+LIMARI!H46+ELQUI!H48 -> 20889 | I42: =+I43+LIMARI!I46+ELQUI!I48 -> 19559 | ... S42: =+S43+LIMARI!S46+ELQUI!S48 -> 297723
A43: PROVINCIA CHOAPA | B43: =+B44+B58+B62+B66 -> 941 | C43: =+C44+C58+C62+C66 -> 1280 | D43: =+D44+D58+D62+D66 -> 1430 | E43: =+E44+E58+E62+E66 -> 1500 | F43: =+F44+F58+F62+F66 -> 1501 | G43: =+G44+G58+G62+G66 -> 1453 | H43: =+H44+H58+H62+H66 -> 1370 | I43: =+I44+I58+I62+I66 -> 1351 | ... S43: =+S44+S58+S62+S66 -> 19896
A44: C. ILLAPEL | B44: =SUM(B45:B56) -> 338 | C44: =SUM(C45:C56) -> 445 | D44: =SUM(D45:D56) -> 507 | E44: =SUM(E45:E56) -> 488 | F44: =SUM(F45:F56) -> 518 | G44: =SUM(G45:G56) -> 488 | H44: =SUM(H45:H56) -> 439 | I44: =SUM(I45:I56) -> 424 | ... R44: =SUM(R45:R56) -> 173 | S44: =SUM(S46:S56) -> 6342
A45: HOSPITAL ILLAPEL
A46: POSTA CARCAMO | B46: 10 | C46: 10 | D46: 25 | E46: 23 | F46: 20 | G46: 34 | H46: 17 | I46: 22 | J46: 28 | K46: 32 | L46: 23 | M46: 23 | N46: 16 | O46: 16 | P46: 19 | Q46: 14 | R46: 27 | S46: =SUM(B46:R46) -> 359
A47: POSTA HUINTIL | B47: 12 | C47: 18 | D47: 11 | E47: 13 | F47: 19 | G47: 15 | H47: 14 | I47: 12 | J47: 14 | K47: 15 | L47: 14 | M47: 19 | N47: 20 | O47: 10 | P47: 4 | Q47: 5 | R47: 10 | S47: =SUM(B47:R47) -> 225
A48: POSTA LIMAHUIDA | B48: 10 | C48: 4 | D48: 14 | E48: 16 | F48: 12 | G48: 11 | H48: 16 | I48: 5 | J48: 13 | K48: 14 | L48: 23 | M48: 9 | N48: 9 | O48: 7 | P48: 9 | Q48: 3 | R48: 7 | S48: =SUM(B48:R48) -> 182
...
