Workbook

Sheet ELQUI
A1: MINISTERIO DE SALUD
A2: SERVICIO DE SALUD COQUIMBO
A3: SUBDIRECCION DE GESTION ASISTENCIAL
A4: SUBDEPTO DE ESTADÍSTICA Y GESTIÓN DE LA INFORMACIÓN
A6: POBLACION INSCRITA PERCAPITA VALIDADA 2015 IV REGION - AMBOS SEXOS
A7: PROVINCIA - ELQUI
A9: 2015 | B9: 0 - 4 | C9: 5 - 9 | D9: 10 - 14 | E9: 15 - 19 | F9: 20 - 24 | G9: 25 - 29 | H9: 30 - 34 | I9: 35 - 39 | J9: 40-44 | K9: 45-49 | L9: 50 - 54 | M9: 55 - 59 | N9: 60 - 64 | O9: 65 - 69 | P9: 70 - 74 | Q9: 75 - 79 | R9: 80 Y + | S9: TOTAL
A10: TOTAL IV REGION | B10: =B11+LIMARI!B11+CHOAPA!B11 -> 41550 | C10: =C11+LIMARI!C11+CHOAPA!C11 -> 41604 | D10: =D11+LIMARI!D11+CHOAPA!D11 -> 40412 | E10: =E11+LIMARI!E11+CHOAPA!E11 -> 43674 | F10: =F11+LIMARI!F11+CHOAPA!F11 -> 47900 | G10: =G11+LIMARI!G11+CHOAPA!G11 -> 45273 | H10: =H11+LIMARI!H11+CHOAPA!H11 -> 39192 | I10: =I11+LIMARI!I11+CHOAPA!I11 -> 36105 | ... S10: =S11+LIMARI!S11+CHOAPA!S11 -> 573439
A11: PROVINCIA DE ELQUI | B11: =B48+B85 -> 29839 | C11: =C48+C85 -> 28461 | D11: =D48+D85 -> 27274 | E11: =E48+E85 -> 29529 | F11: =F48+F85 -> 33171 | G11: =G48+G85 -> 31637 | H11: =H48+H85 -> 27273 | I11: =I48+I85 -> 24747 | ... S11: =S48+S85 -> 391177
A12: C. LA SERENA | B12: =SUM(B13:B18) -> 14470 | C12: =SUM(C13:C18) -> 13662 | D12: =SUM(D13:D18) -> 13341 | E12: =SUM(E13:E18) -> 14934 | F12: =SUM(F13:F18) -> 17205 | G12: =SUM(G13:G18) -> 16332 | H12: =SUM(H13:H18) -> 13943 | I12: =SUM(I13:I18) -> 12860 | ... S12: =SUM(S13:S18) -> 197337
A13: CGU CARDENAL CARO | B13: =B50+B87 -> 2692 | C13: =C50+C87 -> 2479 | D13: =D50+D87 -> 2506 | E13: =E50+E87 -> 2782 | F13: =F50+F87 -> 3512 | G13: =G50+G87 -> 3589 | H13: =H50+H87 -> 3153 | I13: =I50+I87 -> 2878 | ... S13: =S50+S87 -> 42308
A14: CGU LAS COMPAÑIAS | B14: =B51+B88 -> 1908 | C14: =C51+C88 -> 2062 | D14: =D51+D88 -> 2029 | E14: =E51+E88 -> 2142 | F14: =F51+F88 -> 2502 | G14: =G51+G88 -> 2309 | H14: =H51+H88 -> 2055 | I14: =I51+I88 -> 1921 | ... S14: =S51+S88 -> 29641
A15: CGU P. AGUIRRE CERDA | B15: =B52+B89 -> 2363 | C15: =C52+C89 -> 2098 | D15: =D52+D89 -> 1962 | E15: =E52+E89 -> 2263 | F15: =F52+F89 -> 2503 | G15: =G52+G89 -> 2350 | H15: =H52+H89 -> 2056 | I15: =I52+I89 -> 1790 | ... S15: =S52+S89 -> 29623
A16: CGU E. SCHAFFAUSER | B16: =B53+B90 -> 2421 | C16: =C53+C90 -> 2384 | D16: =D53+D90 -> 2492 | E16: =E53+E90 -> 3071 | F16: =F53+F90 -> 3740 | G16: =G53+G90 -> 3647 | H16: =H53+H90 -> 3117 | I16: =I53+I90 -> 2838 | ... S16: =S53+S90 -> 42708
A17: C.S. R. SILVA HENRIQUEZ | B17: =B54+B91 -> 2623 | C17: =C54+C91 -> 2553 | D17: =D54+D91 -> 2468 | E17: =E54+E91 -> 2712 | F17: =F54+F91 -> 2964 | G17: =G54+G91 -> 2762 | H17: =H54+H91 -> 2177 | I17: =I54+I91 -> 1994 | ... S17: =S54+S91 -> 31769
A18: C.JUAN PABLO II | B18: =B55+B92 -> 2463 | C18: =C55+C92 -> 2086 | D18: =D55+D92 -> 1884 | E18: =E55+E92 -> 1964 | F18: =F55+F92 -> 1984 | G18: =G55+G92 -> 1675 | H18: =H55+H92 -> 1385 | I18: =I55+I92 -> 1439 | ... S18: =S55+S92 -> 21288
A21: C. COQUIMBO | B21: =SUM(B22:B27) -> 14746 | C21: =SUM(C22:C27) -> 14034 | D21: =SUM(D22:D27) -> 13104 | E21: =SUM(E22:E27) -> 13725 | F21: =SUM(F22:F27) -> 15039 | G21: =SUM(G22:G27) -> 14441 | H21: =SUM(H22:H27) -> 12573 | I21: =SUM(I22:I27) -> 11193 | ... S21: =SUM(S22:S27) -> 182476
A22: CGU SAN JUAN | B22: =B59+B96 -> 2514 | C22: =C59+C96 -> 2434 | D22: =D59+D96 -> 2423 | E22: =E59+E96 -> 2622 | F22: =F59+F96 -> 2816 | G22: =G59+G96 -> 2662 | H22: =H59+H96 -> 2339 | I22: =I59+I96 -> 1994 | ... S22: =S59+S96 -> 33448
A23: CGU SANTA CECILIA | B23: =B60+B97 -> 2452 | C23: =C60+C97 -> 2289 | D23: =D60+D97 -> 2117 | E23: =E60+E97 -> 2444 | F23: =F60+F97 -> 2931 | G23: =G60+G97 -> 2620 | H23: =H60+H97 -> 2222 | I23: =I60+I97 -> 1988 | ... S23: =S60+S97 -> 31683
A24: CGU TIERRAS BLANCAS | B24: =B61+B98 -> 4047 | C24: =C61+C98 -> 3889 | D24: =D61+D98 -> 3653 | E24: =E61+E98 -> 3718 | F24: =F61+F98 -> 3906 | G24: =G61+G98 -> 3866 | H24: =H61+H98 -> 3453 | I24: =I61+I98 -> 3144 | ... S24: =S61+S98 -> 48074
A25: CGU SERGIO AGUILAR | B25: =B62+B99 -> 4412 | C25: =C62+C99 -> 4139 | D25: =D62+D99 -> 3626 | E25: =E62+E99 -> 3598 | F25: =F62+F99 -> 3900 | G25: =G62+G99 -> 3949 | H25: =H62+H99 -> 3387 | I25: =I62+I99 -> 2901 | ... S25: =S62+S99 -> 51670
A26: CGR TONGOY | B26: =B63+B100 -> 639 | C26: =C63+C100 -> 597 | D26: =D63+D100 -> 645 | E26: =E63+E100 -> 690 | F26: =F63+F100 -> 771 | G26: =G63+G100 -> 680 | H26: =H63+H100 -> 586 | I26: =I63+I100 -> 590 | ... S26: =S63+S100 -> 8868
A27: POSTA PAN DE AZUCAR | B27: =B64+B101 -> 682 | C27: =C64+C101 -> 686 | D27: =D64+D101 -> 640 | E27: =E64+E101 -> 653 | F27: =F64+F101 -> 715 | G27: =G64+G101 -> 664 | H27: =H64+H101 -> 586 | I27: =I64+I101 -> 576 | ... S27: =S64+S101 -> 8733
A30: C. VICUÑA | B30: =SUM(B31:B41) -> 623 | C30: =SUM(C31:C41) -> 765 | D30: =SUM(D31:D41) -> 829 | E30: =SUM(E31:E41) -> 870 | F30: =SUM(F31:F41) -> 927 | G30: =SUM(G31:G41) -> 864 | H30: =SUM(H31:H41) -> 757 | I30: =SUM(I31:I41) -> 694 | ... S30: =SUM(S31:S41) -> 11364
A31: HOSPITAL VICUÑA
A32: POSTA DIAGUITAS | B32: =B69+B106 -> 83 | C32: =C69+C106 -> 88 | D32: =D69+D106 -> 120 | E32: =E69+E106 -> 107 | F32: =F69+F106 -> 112 | G32: =G69+G106 -> 94 | H32: =H69+H106 -> 83 | I32: =I69+I106 -> 85 | ... S32: =S69+S106 -> 1415
A33: POSTA EL MOLLE | B33: =B70+B107 -> 31 | C33: =C70+C107 -> 44 | D33: =D70+D107 -> 51 | E33: =E70+E107 -> 47 | F33: =F70+F107 -> 53 | G33: =G70+G107 -> 38 | H33: =H70+H107 -> 41 | I33: =I70+I107 -> 34 | ... S33: =S70+S107 -> 644
A34: POSTA EL TAMBO | B34: =B71+B108 -> 88 | C34: =C71+C108 -> 108 | D34: =D71+D108 -> 99 | E34: =E71+E108 -> 118 | F34: =F71+F108 -> 140 | G34: =G71+G108 -> 125 | H34: =H71+H108 -> 100 | I34: =I71+I108 -> 101 | ... S34: =S71+S108 -> 1622
A35: POSTA HUANTA | B35: =B72+B109 -> 3 | C35: =C72+C109 -> 4 | D35: =D72+D109 -> 6 | E35: =E72+E109 -> 2 | F35: =F72+F109 -> 2 | G35: =G72+G109 -> 4 | H35: =H72+H109 -> 1 | I35: =I72+I109 -> 3 | ... S35: =S72+S109 -> 78
A36: POSTA PERALILLO | B36: =B73+B110 -> 95 | C36: =C73+C110 -> 119 | D36: =D73+D110 -> 127 | E36: =E73+E110 -> 131 | F36: =F73+F110 -> 150 | G36: =G73+G110 -> 163 | H36: =H73+H110 -> 139 | I36: =I73+I110 -> 120 | ... S36: =S73+S110 -> 1901
A37: POSTA RIVADAVIA | B37: =B74+B111 -> 41 | C37: =C74+C111 -> 67 | D37: =D74+D111 -> 82 | E37: =E74+E111 -> 93 | F37: =F74+F111 -> 82 | G37: =G74+G111 -> 67 | H37: =H74+H111 -> 62 | I37: =I74+I111 -> 61 | ... S37: =S74+S111 -> 1042
A38: POSTA CHAPILCA | B38: =B75+B112 -> 15 | C38: =C75+C112 -> 20 | D38: =D75+D112 -> 24 | E38: =E75+E112 -> 27 | F38: =F75+F112 -> 27 | G38: =G75+G112 -> 19 | H38: =H75+H112 -> 29 | I38: =I75+I112 -> 18 | ... S38: =S75+S112 -> 348
A39: POSTA CALINGASTA | B39: =B76+B113 -> 176 | C39: =C76+C113 -> 226 | D39: =D76+D113 -> 236 | E39: =E76+E113 -> 262 | F39: =F76+F113 -> 282 | G39: =G76+G113 -> 268 | H39: =H76+H113 -> 238 | I39: =I76+I113 -> 216 | ... S39: =S76+S113 -> 3228
A40: POSTA TALCUNA | B40: =B77+B114 -> 68 | C40: =C77+C114 -> 60 | D40: =D77+D114 -> 69 | E40: =E77+E114 -> 57 | F40: =F77+F114 -> 46 | G40: =G77+G114 -> 54 | H40: =H77+H114 -> 38 | I40: =I77+I114 -> 37 | ... S40: =S77+S114 -> 722
A41: POSTA GUALLIGUAICA | B41: =B78+B115 -> 23 | C41: =C78+C115 -> 29 | D41: =D78+D115 -> 15 | E41: =E78+E115 -> 26 | F41: =F78+F115 -> 33 | G41: =G78+G115 -> 32 | H41: =H78+H115 -> 26 | I41: =I78+I115 -> 19 | ... S41: =S78+S115 -> 364
J43: POBLACION INSCRITA PERCAPITA VALIDADA 2015 IV REGION - MUJERES
J44: PROVINCIA - ELQUI
A46: 2015 | B46: 0 - 4 | C46: 5 - 9 | D46: 10 - 14 | E46: 15 - 19 | F46: 20 - 24 | G46: 25 - 29 | H46: 30 - 34 | I46: 35 - 39 | J46: 40-44 | K46: 45-49 | L46: 50 - 54 | M46: 55 - 59 | N46: 60 - 64 | O46: 65 - 69 | P46: 70 - 74 | Q46: 75 - 79 | R46: 80 Y + | S46: TOTAL
A47: TOTAL IV REGION | B47: =B48+LIMARI!B46+CHOAPA!B43 -> 20284 | C47: =C48+LIMARI!C46+CHOAPA!C43 -> 20346 | D47: =D48+LIMARI!D46+CHOAPA!D43 -> 19638 | E47: =E48+LIMARI!E46+CHOAPA!E43 -> 21592 | F47: =F48+LIMARI!F46+CHOAPA!F43 -> 24120 | G47: =G48+LIMARI!G46+CHOAPA!G43 -> 23550 | H47: =H48+LIMARI!H46+CHOAPA!H43 -> 20889 | I47: =I48+LIMARI!I46+CHOAPA!I43 -> 19559 | ... S47: =S48+LIMARI!S46+CHOAPA!S43 -> 297723
A48: PROVINCIA DE ELQUI | B48: =+B49+B58+B67 -> 14576 | C48: =+C49+C58+C67 -> 13949 | D48: =+D49+D58+D67 -> 13296 | E48: =+E49+E58+E67 -> 14606 | F48: =+F49+F58+F67 -> 16895 | G48: =+G49+G58+G67 -> 16652 | H48: =+H49+H58+H67 -> 14746 | I48: =+I49+I58+I67 -> 13578 | ... R48: =+R49+R58+R67 -> 6998 | S48: =S49+S58+S67 -> 205491
A49: C. LA SERENA | B49: =SUM(B50:B55) -> 7045 | C49: =SUM(C50:C55) -> 6714 | D49: =SUM(D50:D55) -> 6528 | E49: =SUM(E50:E55) -> 7371 | F49: =SUM(F50:F55) -> 8890 | G49: =SUM(G50:G55) -> 8650 | H49: =SUM(H50:H55) -> 7623 | I49: =SUM(I50:I55) -> 7173 | ... S49: =SUM(S50:S55) -> 104779
A50: CGU CARDENAL CARO | B50: 1335 | C50: 1216 | D50: 1192 | E50: 1346 | F50: 1819 | G50: 1802 | H50: 1632 | I50: 1682 | J50: 1698 | K50: 1438 | L50: 1373 | M50: 1246 | N50: 1162 | O50: 1069 | P50: 972 | Q50: 716 | R50: 1071 | S50: =SUM(B50:R50)+43 -> 22812
A51: CGU LAS COMPAÑIAS | B51: 947 | C51: 1024 | D51: 976 | E51: 991 | F51: 1159 | G51: 1162 | H51: 1042 | I51: 1007 | J51: 1071 | K51: 989 | L51: 966 | M51: 951 | N51: 754 | O51: 627 | P51: 487 | Q51: 381 | R51: 458 | S51: =SUM(B51:R51)+23 -> 15015
A52: CGU P. AGUIRRE CERDA | B52: 1113 | C52: 1006 | D52: 965 | E52: 1128 | F52: 1307 | G52: 1315 | H52: 1193 | I52: 985 | J52: 1057 | K52: 1045 | L52: 1030 | M52: 869 | N52: 690 | O52: 576 | P52: 523 | Q52: 355 | R52: 606 | S52: =SUM(B52:R52)+7 -> 15770
A53: CGU E. SCHAFFAUSER | B53: 1155 | C53: 1150 | D53: 1271 | E53: 1547 | F53: 1963 | G53: 1938 | H53: 1775 | I53: 1644 | J53: 1585 | K53: 1613 | L53: 1580 | M53: 1309 | N53: 1183 | O53: 944 | P53: 820 | Q53: 610 | R53: 1046 | S53: =SUM(B53:R53)+26 -> 23159
A54: CGU C.. R. SILVA HENRIQUEZ | B54: 1287 | C54: 1268 | D54: 1216 | E54: 1347 | F54: 1491 | G54: 1408 | H54: 1147 | I54: 1046 | J54: 1059 | K54: 1067 | L54: 1007 | M54: 836 | N54: 660 | O54: 473 | P54: 401 | Q54: 245 | R54: 345 | S54: =SUM(B54:R54)+12 -> 16315
A55: C.JUAN PABLO II | B55: 1208 | C55: 1050 | D55: 908 | E55: 1012 | F55: 1151 | G55: 1025 | H55: 834 | I55: 809 | J55: 829 | K55: 791 | L55: 633 | M55: 485 | N55: 349 | O55: 215 | P55: 170 | Q55: 108 | R55: 122 | S55: =SUM(B55:R55)+9 -> 11708
A58: C. COQUIMBO | B58: =SUM(B59:B64) -> 7229 | C58: =SUM(C59:C64) -> 6875 | D58: =SUM(D59:D64) -> 6355 | E58: =SUM(E59:E64) -> 6810 | F58: =SUM(F59:F64) -> 7537 | G58: =SUM(G59:G64) -> 7598 | H58: =SUM(H59:H64) -> 6752 | I58: =SUM(I59:I64) -> 6066 | ... S58: =SUM(S59:S64) -> 95211
A59: CGU SAN JUAN | B59: 1226 | C59: 1167 | D59: 1182 | E59: 1268 | F59: 1390 | G59: 1368 | H59: 1249 | I59: 1083 | J59: 1140 | K59: 1206 | L59: 1188 | M59: 1034 | N59: 765 | O59: 611 | P59: 524 | Q59: 366 | R59: 554 | S59: =SUM(B59:R59)+21 -> 17342
A60: CGU SANTA CECILIA | B60: 1207 | C60: 1153 | D60: 1036 | E60: 1208 | F60: 1367 | G60: 1297 | H60: 1080 | I60: 977 | J60: 975 | K60: 1038 | L60: 1016 | M60: 887 | N60: 660 | O60: 591 | P60: 428 | Q60: 295 | R60: 479 | S60: =SUM(B60:R60)+13 -> 15707
A61: CGU TIERRAS BLANCAS | B61: 2005 | C61: 1895 | D61: 1805 | E61: 1895 | F61: 2008 | G61: 2054 | H61: 1800 | I61: 1655 | J61: 1660 | K61: 1633 | L61: 1485 | M61: 1262 | N61: 1143 | O61: 852 | P61: 674 | Q61: 448 | R61: 620 | S61: =SUM(B61:R61)+33 -> 24927
A62: CGU SERGIO AGUILAR | B62: 2162 | C62: 2020 | D62: 1736 | E62: 1784 | F62: 2027 | G62: 2208 | H62: 2041 | I62: 1751 | J62: 1733 | K62: 1745 | L62: 1879 | M62: 1686 | N62: 1488 | O62: 1188 | P62: 1061 | Q62: 763 | R62: 1296 | S62: =SUM(B62:R62)+25 -> 28593
A63: CGR TONGOY | B63: 291 | C63: 298 | D63: 301 | E63: 329 | F63: 362 | G63: 331 | H63: 292 | I63: 302 | J63: 279 | K63: 293 | L63: 318 | M63: 228 | N63: 191 | O63: 148 | P63: 116 | Q63: 92 | R63: 130 | S63: =SUM(B63:R63)+9 -> 4310
A64: POSTA PAN DE AZUCAR | B64: 338 | C64: 342 | D64: 295 | E64: 326 | F64: 383 | G64: 340 | H64: 290 | I64: 298 | J64: 313 | K64: 319 | L64: 263 | M64: 196 | N64: 171 | O64: 139 | P64: 125 | Q64: 84 | R64: 103 | S64: =SUM(B64:R64)+7 -> 4332
A67: C. VICUÑA | B67: =SUM(B68:B78) -> 302 | C67: =SUM(C68:C78) -> 360 | D67: =SUM(D68:D78) -> 413 | E67: =SUM(E68:E78) -> 425 | F67: =SUM(F68:F78) -> 468 | G67: =SUM(G68:G78) -> 404 | H67: =SUM(H68:H78) -> 371 | I67: =SUM(I68:I78) -> 339 | ... S67: =SUM(S68:S78) -> 5501
A68: HOSPITAL VICUÑA
A69: POSTA DIAGUITAS | B69: 39 | C69: 39 | D69: 60 | E69: 47 | F69: 57 | G69: 47 | H69: 47 | I69: 48 | J69: 39 | K69: 58 | L69: 50 | M69: 38 | N69: 38 | O69: 17 | P69: 23 | Q69: 21 | R69: 22 | S69: =SUM(B69:R69)+3 -> 693
A70: POSTA EL MOLLE | B70: 13 | C70: 19 | D70: 31 | E70: 29 | F70: 22 | G70: 16 | H70: 24 | I70: 13 | J70: 25 | K70: 17 | L70: 21 | M70: 19 | N70: 13 | O70: 19 | P70: 5 | Q70: 3 | R70: 11 | S70: =SUM(B70:R70) -> 300
A71: POSTA EL TAMBO | B71: 42 | C71: 58 | D71: 54 | E71: 65 | F71: 65 | G71: 59 | H71: 47 | I71: 54 | J71: 67 | K71: 72 | L71: 60 | M71: 37 | N71: 36 | O71: 21 | P71: 29 | Q71: 18 | R71: 21 | S71: =SUM(B71:R71)+4 -> 809
A72: POSTA HUANTA | B72: 3 | C72: 1 | D72: 2 | E72: 1 | F72: 1 | G72: 2 | H72: 0 | I72: 0 | J72: 3 | K72: 2 | L72: 2 | M72: 0 | N72: 0 | O72: 5 | P72: 2 | Q72: 4 | R72: 2 | S72: =SUM(B72:R72) -> 30
A73: POSTA PERALILLO | B73: 43 | C73: 48 | D73: 60 | E73: 64 | F73: 78 | G73: 71 | H73: 64 | I73: 60 | J73: 56 | K73: 84 | L73: 70 | M73: 51 | N73: 36 | O73: 29 | P73: 27 | Q73: 26 | R73: 36 | S73: =SUM(B73:R73)+1 -> 904
A74: POSTA RIVADAVIA | B74: 20 | C74: 31 | D74: 43 | E74: 47 | F74: 38 | G74: 32 | H74: 22 | I74: 33 | J74: 45 | K74: 39 | L74: 41 | M74: 28 | N74: 21 | O74: 20 | P74: 15 | Q74: 9 | R74: 15 | S74: =SUM(B74:R74) -> 499
A75: POSTA CHAPILCA | B75: 10 | C75: 13 | D75: 10 | E75: 12 | F75: 15 | G75: 9 | H75: 14 | I75: 4 | J75: 18 | K75: 12 | L75: 13 | M75: 8 | N75: 4 | O75: 4 | P75: 6 | Q75: 5 | R75: 7 | S75: =SUM(B75:R75) -> 164
A76: POSTA CALINGASTA | B76: 81 | C76: 103 | D76: 113 | E76: 128 | F76: 148 | G76: 124 | H76: 119 | I76: 101 | J76: 113 | K76: 109 | L76: 103 | M76: 91 | N76: 65 | O76: 62 | P76: 40 | Q76: 25 | R76: 40 | S76: =SUM(B76:R76)+7 -> 1572
A77: POSTA TALCUNA | B77: 38 | C77: 33 | D77: 34 | E77: 20 | F77: 27 | G77: 30 | H77: 18 | I77: 15 | J77: 28 | K77: 19 | L77: 15 | M77: 17 | N77: 17 | O77: 7 | P77: 10 | Q77: 6 | R77: 7 | S77: =SUM(B77:R77)+4 -> 345
A78: POSTA GUALLIGUAICA | B78: 13 | C78: 15 | D78: 6 | E78: 12 | F78: 17 | G78: 14 | H78: 16 | I78: 11 | J78: 11 | K78: 14 | L78: 10 | M78: 12 | N78: 5 | O78: 6 | P78: 6 | Q78: 9 | R78: 7 | S78: =SUM(B78:R78)+1 -> 185
J80: POBLACION INSCRITA PERCAPITA VALIDADA 2015 IV REGION - HOMBRES
J81: PROVINCIA - ELQUI
A83: 2015 | B83: 0 - 4 | C83: 5 - 9 | D83: 10 - 14 | E83: 15 - 19 | F83: 20 - 24 | G83: 25 - 29 | H83: 30 - 34 | I83: 35 - 39 | J83: 40 - 44 | K83: 45-49 | L83: 50 - 54 | M83: 55 - 59 | N83: 60 - 64 | O83: 65 - 69 | P83: 70 - 74 | Q83: 75 - 79 | R83: 80 Y + | S83: TOTAL
A84: TOTAL IV REGION | B84: =+B85+LIMARI!B81+CHOAPA!B75 -> 21266 | C84: =+C85+LIMARI!C81+CHOAPA!C75 -> 21258 | D84: =+D85+LIMARI!D81+CHOAPA!D75 -> 20774 | E84: =+E85+LIMARI!E81+CHOAPA!E75 -> 22082 | F84: =+F85+LIMARI!F81+CHOAPA!F75 -> 23780 | G84: =+G85+LIMARI!G81+CHOAPA!G75 -> 21723 | H84: =+H85+LIMARI!H81+CHOAPA!H75 -> 18303 | I84: =+I85+LIMARI!I81+CHOAPA!I75 -> 16546 | ... S84: =+S85+LIMARI!S81+CHOAPA!S75 -> 275716
A85: PROVINCIA DE ELQUI | B85: =+B86+B95+B104 -> 15263 | C85: =+C86+C95+C104 -> 14512 | D85: =+D86+D95+D104 -> 13978 | E85: =+E86+E95+E104 -> 14923 | F85: =+F86+F95+F104 -> 16276 | G85: =+G86+G95+G104 -> 14985 | H85: =+H86+H95+H104 -> 12527 | I85: =+I86+I95+I104 -> 11169 | ... S85: =+S86+S95+S104 -> 185686
A86: C. LA SERENA | B86: =SUM(B87:B92) -> 7425 | C86: =SUM(C87:C92) -> 6948 | D86: =SUM(D87:D92) -> 6813 | E86: =SUM(E87:E92) -> 7563 | F86: =SUM(F87:F92) -> 8315 | G86: =SUM(G87:G92) -> 7682 | H86: =SUM(H87:H92) -> 6320 | I86: =SUM(I87:I92) -> 5687 | ... S86: =SUM(S87:S92) -> 92558
A87: CGU CARDENAL CARO | B87: 1357 | C87: 1263 | D87: 1314 | E87: 1436 | F87: 1693 | G87: 1787 | H87: 1521 | I87: 1196 | J87: 1289 | K87: 1274 | L87: 1132 | M87: 896 | N87: 819 | O87: 760 | P87: 685 | Q87: 538 | R87: 536 | S87: =SUM(B87:R87) -> 19496
A88: CGU LAS COMPAÑIAS | B88: 961 | C88: 1038 | D88: 1053 | E88: 1151 | F88: 1343 | G88: 1147 | H88: 1013 | I88: 914 | J88: 1013 | K88: 949 | L88: 992 | M88: 808 | N88: 669 | O88: 522 | P88: 415 | Q88: 286 | R88: 348 | S88: =SUM(B88:R88)+4 -> 14626
A89: CGU P. AGUIRRE CERDA | B89: 1250 | C89: 1092 | D89: 997 | E89: 1135 | F89: 1196 | G89: 1035 | H89: 863 | I89: 805 | J89: 866 | K89: 938 | L89: 917 | M89: 775 | N89: 574 | O89: 458 | P89: 358 | Q89: 247 | R89: 346 | S89: =SUM(B89:R89)+1 -> 13853
A90: CGU E. SCHAFFAUSER | B90: 1266 | C90: 1234 | D90: 1221 | E90: 1524 | F90: 1777 | G90: 1709 | H90: 1342 | I90: 1194 | J90: 1282 | K90: 1317 | L90: 1310 | M90: 1122 | N90: 900 | O90: 721 | P90: 607 | Q90: 410 | R90: 613 | S90: =SUM(B90:R90) -> 19549
A91: CGU C.. R. SILVA HENRIQUEZ | B91: 1336 | C91: 1285 | D91: 1252 | E91: 1365 | F91: 1473 | G91: 1354 | H91: 1030 | I91: 948 | J91: 991 | K91: 976 | L91: 959 | M91: 777 | N91: 554 | O91: 394 | P91: 314 | Q91: 217 | R91: 229 | S91: =SUM(B91:R91) -> 15454
A92: C.JUAN PABLO II | B92: 1255 | C92: 1036 | D92: 976 | E92: 952 | F92: 833 | G92: 650 | H92: 551 | I92: 630 | J92: 619 | K92: 576 | L92: 488 | M92: 350 | N92: 258 | O92: 156 | P92: 97 | Q92: 75 | R92: 78 | S92: =SUM(B92:R92) -> 9580
A95: C. COQUIMBO | B95: =SUM(B96:B101) -> 7517 | C95: =SUM(C96:C101) -> 7159 | D95: =SUM(D96:D101) -> 6749 | E95: =SUM(E96:E101) -> 6915 | F95: =SUM(F96:F101) -> 7502 | G95: =SUM(G96:G101) -> 6843 | H95: =SUM(H96:H101) -> 5821 | I95: =SUM(I96:I101) -> 5127 | ... S95: =SUM(S96:S101) -> 87265
A96: CGU SAN JUAN | B96: 1288 | C96: 1267 | D96: 1241 | E96: 1354 | F96: 1426 | G96: 1294 | H96: 1090 | I96: 911 | J96: 1014 | K96: 1017 | L96: 1017 | M96: 878 | N96: 676 | O96: 532 | P96: 453 | Q96: 299 | R96: 348 | S96: =SUM(B96:R96)+1 -> 16106
A97: CGU SANTA CECILIA | B97: 1245 | C97: 1136 | D97: 1081 | E97: 1236 | F97: 1564 | G97: 1323 | H97: 1142 | I97: 1011 | J97: 1129 | K97: 1055 | L97: 1053 | M97: 870 | N97: 690 | O97: 503 | P97: 365 | Q97: 238 | R97: 335 | S97: =SUM(B97:R97) -> 15976
A98: CGU TIERRAS BLANCAS | B98: 2042 | C98: 1994 | D98: 1848 | E98: 1823 | F98: 1898 | G98: 1812 | H98: 1653 | I98: 1489 | J98: 1602 | K98: 1543 | L98: 1336 | M98: 1084 | N98: 954 | O98: 714 | P98: 614 | Q98: 343 | R98: 396 | S98: =SUM(B98:R98)+2 -> 23147
A99: CGU SERGIO AGUILAR | B99: 2250 | C99: 2119 | D99: 1890 | E99: 1814 | F99: 1873 | G99: 1741 | H99: 1346 | I99: 1150 | J99: 1235 | K99: 1295 | L99: 1353 | M99: 1210 | N99: 980 | O99: 853 | P99: 807 | Q99: 535 | R99: 626 | S99: =SUM(B99:R99) -> 23077
A100: CGR TONGOY | B100: 348 | C100: 299 | D100: 344 | E100: 361 | F100: 409 | G100: 349 | H100: 294 | I100: 288 | J100: 300 | K100: 320 | L100: 304 | M100: 282 | N100: 182 | O100: 159 | P100: 118 | Q100: 80 | R100: 121 | S100: =SUM(B100:R100) -> 4558
A101: POSTA PAN DE AZUCAR | B101: 344 | C101: 344 | D101: 345 | E101: 327 | F101: 332 | G101: 324 | H101: 296 | I101: 278 | J101: 302 | K101: 310 | L101: 280 | M101: 236 | N101: 188 | O101: 160 | P101: 126 | Q101: 95 | R101: 114 | S101: =SUM(B101:R101) -> 4401
A104: C. VICUÑA | B104: =SUM(B105:B115) -> 321 | C104: =SUM(C105:C115) -> 405 | D104: =SUM(D105:D115) -> 416 | E104: =SUM(E105:E115) -> 445 | F104: =SUM(F105:F115) -> 459 | G104: =SUM(G105:G115) -> 460 | H104: =SUM(H105:H115) -> 386 | I104: =SUM(I105:I115) -> 355 | ... S104: =SUM(S105:S115) -> 5863
A105: HOSPITAL VICUÑA
A106: POSTA DIAGUITAS | B106: 44 | C106: 49 | D106: 60 | E106: 60 | F106: 55 | G106: 47 | H106: 36 | I106: 37 | J106: 31 | K106: 57 | L106: 61 | M106: 49 | N106: 41 | O106: 34 | P106: 19 | Q106: 15 | R106: 27 | S106: =SUM(B106:R106) -> 722
A107: POSTA EL MOLLE | B107: 18 | C107: 25 | D107: 20 | E107: 18 | F107: 31 | G107: 22 | H107: 17 | I107: 21 | J107: 24 | K107: 30 | L107: 23 | M107: 25 | N107: 20 | O107: 16 | P107: 15 | Q107: 14 | R107: 5 | S107: =SUM(B107:R107) -> 344
A108: POSTA EL TAMBO | B108: 46 | C108: 50 | D108: 45 | E108: 53 | F108: 75 | G108: 66 | H108: 53 | I108: 47 | J108: 57 | K108: 73 | L108: 64 | M108: 51 | N108: 38 | O108: 26 | P108: 26 | Q108: 21 | R108: 22 | S108: =SUM(B108:R108) -> 813
A109: POSTA HUANTA | B109: 0 | C109: 3 | D109: 4 | E109: 1 | F109: 1 | G109: 2 | H109: 1 | I109: 3 | J109: 1 | K109: 8 | L109: 4 | M109: 2 | N109: 3 | O109: 6 | P109: 3 | Q109: 3 | R109: 3 | S109: =SUM(B109:R109) -> 48
A110: POSTA PERALILLO | B110: 52 | C110: 71 | D110: 67 | E110: 67 | F110: 72 | G110: 92 | H110: 75 | I110: 60 | J110: 66 | K110: 65 | L110: 81 | M110: 63 | N110: 44 | O110: 39 | P110: 23 | Q110: 26 | R110: 34 | S110: =SUM(B110:R110) -> 997
A111: POSTA RIVADAVIA | B111: 21 | C111: 36 | D111: 39 | E111: 46 | F111: 44 | G111: 35 | H111: 40 | I111: 28 | J111: 41 | K111: 46 | L111: 45 | M111: 28 | N111: 29 | O111: 21 | P111: 20 | Q111: 7 | R111: 17 | S111: =SUM(B111:R111) -> 543
A112: POSTA CHAPILCA | B112: 5 | C112: 7 | D112: 14 | E112: 15 | F112: 12 | G112: 10 | H112: 15 | I112: 14 | J112: 11 | K112: 20 | L112: 15 | M112: 15 | N112: 11 | O112: 6 | P112: 3 | Q112: 4 | R112: 7 | S112: =SUM(B112:R112) -> 184
A113: POSTA CALINGASTA | B113: 95 | C113: 123 | D113: 123 | E113: 134 | F113: 134 | G113: 144 | H113: 119 | I113: 115 | J113: 119 | K113: 111 | L113: 119 | M113: 110 | N113: 65 | O113: 41 | P113: 39 | Q113: 30 | R113: 35 | S113: =SUM(B113:R113) -> 1656
A114: POSTA TALCUNA | B114: 30 | C114: 27 | D114: 35 | E114: 37 | F114: 19 | G114: 24 | H114: 20 | I114: 22 | J114: 27 | K114: 29 | L114: 26 | M114: 20 | N114: 17 | O114: 15 | P114: 10 | Q114: 10 | R114: 9 | S114: =SUM(B114:R114) -> 377
A115: POSTA GUALLIGUAICA | B115: 10 | C115: 14 | D115: 9 | E115: 14 | F115: 16 | G115: 18 | H115: 10 | I115: 8 | J115: 14 | K115: 13 | L115: 8 | M115: 14 | N115: 7 | O115: 7 | P115: 8 | Q115: 5 | R115: 4 | S115: =SUM(B115:R115) -> 179
A116: NOTA: EXISTEN DATOS POR SEXO SIN GRUPOS ETAREOS, ESTOS FUERON INCORPORADOS EN EL TOTAL DE CADA ESTABLECIMIENTO Y SUMADOS AL TOTAL DE LA COMUNA CORRESPONDIENTE.
A117: FUENTE: PROCESO DE VALIDACIÓN NOVIEMBRE 2015 FONASA

Sheet LIMARI
A1: MINISTERIO DE SALUD
A2: SERVICIO DE SALUD COQUIMBO
A3: SUBDIRECCION DE GESTION ASISTENCIAL
A4: SUBDEPTO DE ESTADÍSTICA Y GESTIÓN DE LA INFORMACIÓN
A6: POBLACION INSCRITA PERCAPITA VALIDADA 2015 IV REGION - AMBOS SEXOS
A7: PROVINCIA - LIMARI
A9: 2015 | B9: 0 - 4 | C9: 5 - 9 | D9: 10 - 14 | E9: 15 - 19 | F9: 20 - 24 | G9: 25 - 29 | H9: 30 - 34 | I9: 35 - 39 | J9: 40 - 44 | K9: 45-49 | L9: 50 - 54 | M9: 55 - 59 | N9: 60 - 64 | O9: 65 - 69 | P9: 70 - 74 | Q9: 75 - 79 | R9: 80 Y + | S9: TOTAL
A10: TOTAL IV REGION | B10: =ELQUI!B11+LIMARI!B11+CHOAPA!B11 -> 41550 | C10: =ELQUI!C11+LIMARI!C11+CHOAPA!C11 -> 41604 | D10: =ELQUI!D11+LIMARI!D11+CHOAPA!D11 -> 40412 | E10: =ELQUI!E11+LIMARI!E11+CHOAPA!E11 -> 43674 | F10: =ELQUI!F11+LIMARI!F11+CHOAPA!F11 -> 47900 | G10: =ELQUI!G11+LIMARI!G11+CHOAPA!G11 -> 45273 | H10: =ELQUI!H11+LIMARI!H11+CHOAPA!H11 -> 39192 | I10: =ELQUI!I11+LIMARI!I11+CHOAPA!I11 -> 36105 | ... S10: =ELQUI!S11+LIMARI!S11+CHOAPA!S11 -> 573439
A11: PROVINCIA EL LIMARI | B11: =B12+B19+B28+B34+B37 -> 9744 | C11: =C12+C19+C28+C34+C37 -> 10464 | D11: =D12+D19+D28+D34+D37 -> 10202 | E11: =E12+E19+E28+E34+E37 -> 11039 | F11: =F12+F19+F28+F34+F37 -> 11575 | G11: =G12+G19+G28+G34+G37 -> 10735 | H11: =H12+H19+H28+H34+H37 -> 9287 | I11: =I12+I19+I28+I34+I37 -> 8822 | ... S11: =S12+S19+S28+S34+S37 -> 142043
A12: C. OVALLE | B12: =SUM(B13:B17) -> 6509 | C12: =SUM(C13:C17) -> 6853 | D12: =SUM(D13:D17) -> 6616 | E12: =SUM(E13:E17) -> 7145 | F12: =SUM(F13:F17) -> 7564 | G12: =SUM(G13:G17) -> 7047 | H12: =SUM(H13:H17) -> 5865 | I12: =SUM(I13:I17) -> 5401 | ... S12: =SUM(S13:S17) -> 90449
A13: C.G.R. CERRILLOS DE TAMAYA | B13: =B48+B83 -> 456 | C13: =C48+C83 -> 554 | D13: =D48+D83 -> 534 | E13: =E48+E83 -> 514 | F13: =F48+F83 -> 620 | G13: =G48+G83 -> 562 | H13: =H48+H83 -> 537 | I13: =I48+I83 -> 504 | ... S13: =S48+S83 -> 7306
A14: C.G.U JORGE JORDAN | B14: =B49+B84 -> 2126 | C14: =C49+C84 -> 2012 | D14: =D49+D84 -> 1887 | E14: =E49+E84 -> 2145 | F14: =F49+F84 -> 2437 | G14: =G49+G84 -> 2293 | H14: =H49+H84 -> 1807 | I14: =I49+I84 -> 1579 | ... S14: =S49+S84 -> 27246
A15: C.G.U MARCOS MACUADA | B15: =B50+B85 -> 3185 | C15: =C50+C85 -> 3412 | D15: =D50+D85 -> 3251 | E15: =E50+E85 -> 3453 | F15: =F50+F85 -> 3351 | G15: =G50+G85 -> 3090 | H15: =H50+H85 -> 2584 | I15: =I50+I85 -> 2469 | ... S15: =S50+S85 -> 41692
A16: C.G.R. SOTAQUI | B16: =B51+B86 -> 305 | C16: =C51+C86 -> 320 | D16: =D51+D86 -> 356 | E16: =E51+E86 -> 393 | F16: =F51+F86 -> 436 | G16: =G51+G86 -> 406 | H16: =H51+H86 -> 330 | I16: =I51+I86 -> 315 | ... S16: =S51+S86 -> 5014
A17: POSTA LIMARI | B17: =B52+B87 -> 437 | C17: =C52+C87 -> 555 | D17: =D52+D87 -> 588 | E17: =E52+E87 -> 640 | F17: =F52+F87 -> 720 | G17: =G52+G87 -> 696 | H17: =H52+H87 -> 607 | I17: =I52+I87 -> 534 | ... S17: =S52+S87 -> 9191
A19: C. RIO HURTADO | B19: =SUM(B20:B26) -> 190 | C19: =SUM(C20:C26) -> 239 | D19: =SUM(D20:D26) -> 244 | E19: =SUM(E20:E26) -> 265 | F19: =SUM(F20:F26) -> 322 | G19: =SUM(G20:G26) -> 265 | H19: =SUM(H20:H26) -> 250 | I19: =SUM(I20:I26) -> 225 | ... S19: =SUM(S20:S26) -> 3982
A20: C.G.R PICHASCA | B20: =B55+B90 -> 57 | C20: =C55+C90 -> 88 | D20: =D55+D90 -> 90 | E20: =E55+E90 -> 72 | F20: =F55+F90 -> 118 | G20: =G55+G90 -> 86 | H20: =H55+H90 -> 79 | I20: =I55+I90 -> 61 | ... S20: =S55+S90 -> 1280
A21: POSTA EL CHAÑAR | B21: =B56+B91 -> 15 | C21: =C56+C91 -> 10 | D21: =D56+D91 -> 16 | E21: =E56+E91 -> 12 | F21: =F56+F91 -> 14 | G21: =G56+G91 -> 13 | H21: =H56+H91 -> 8 | I21: =I56+I91 -> 12 | ... S21: =S56+S91 -> 204
A22: POSTA HURTADO | B22: =B57+B92 -> 18 | C22: =C57+C92 -> 17 | D22: =D57+D92 -> 19 | E22: =E57+E92 -> 50 | F22: =F57+F92 -> 37 | G22: =G57+G92 -> 34 | H22: =H57+H92 -> 30 | I22: =I57+I92 -> 32 | ... S22: =S57+S92 -> 484
A23: POSTA LAS BREAS | B23: =B58+B93 -> 15 | C23: =C58+C93 -> 21 | D23: =D58+D93 -> 23 | E23: =E58+E93 -> 28 | F23: =F58+F93 -> 14 | G23: =G58+G93 -> 14 | H23: =H58+H93 -> 20 | I23: =I58+I93 -> 29 | ... S23: =S58+S93 -> 314
A24: POSTA SAMO ALTO | B24: =B59+B94 -> 32 | C24: =C59+C94 -> 38 | D24: =D59+D94 -> 31 | E24: =E59+E94 -> 30 | F24: =F59+F94 -> 49 | G24: =G59+G94 -> 50 | H24: =H59+H94 -> 45 | I24: =I59+I94 -> 25 | ... S24: =S59+S94 -> 682
A25: POSTA SERON | B25: =B60+B95 -> 31 | C25: =C60+C95 -> 43 | D25: =D60+D95 -> 39 | E25: =E60+E95 -> 50 | F25: =F60+F95 -> 63 | G25: =G60+G95 -> 45 | H25: =H60+H95 -> 49 | I25: =I60+I95 -> 40 | ... S25: =S60+S95 -> 679
A26: POSTA TAHUINCO | B26: =B61+B96 -> 22 | C26: =C61+C96 -> 22 | D26: =D61+D96 -> 26 | E26: =E61+E96 -> 23 | F26: =F61+F96 -> 27 | G26: =G61+G96 -> 23 | H26: =H61+H96 -> 19 | I26: =I61+I96 -> 26 | ... S26: =S61+S96 -> 339
A28: C. MONTE PATRIA | B28: =SUM(B29:B32) -> 2233 | C28: =SUM(C29:C32) -> 2165 | D28: =SUM(D29:D32) -> 2147 | E28: =SUM(E29:E32) -> 2351 | F28: =SUM(F29:F32) -> 2419 | G28: =SUM(G29:G32) -> 2251 | H28: =SUM(H29:H32) -> 2040 | I28: =SUM(I29:I32) -> 1998 | ... S28: =SUM(S29:S32) -> 30423
A29: C.G.R. MONTE PATRIA | B29: =B64+B99 -> 886 | C29: =C64+C99 -> 877 | D29: =D64+D99 -> 879 | E29: =E64+E99 -> 958 | F29: =F64+F99 -> 989 | G29: =G64+G99 -> 941 | H29: =H64+H99 -> 853 | I29: =I64+I99 -> 797 | ... S29: =S64+S99 -> 12260
A30: C.G.R CHAÑARAL ALTO | B30: =B65+B100 -> 348 | C30: =C65+C100 -> 344 | D30: =D65+D100 -> 334 | E30: =E65+E100 -> 383 | F30: =F65+F100 -> 352 | G30: =G65+G100 -> 325 | H30: =H65+H100 -> 298 | I30: =I65+I100 -> 326 | ... S30: =S65+S100 -> 4863
A31: C.G.R CAREN | B31: =B66+B101 -> 324 | C31: =C66+C101 -> 330 | D31: =D66+D101 -> 370 | E31: =E66+E101 -> 399 | F31: =F66+F101 -> 425 | G31: =G66+G101 -> 369 | H31: =H66+H101 -> 350 | I31: =I66+I101 -> 366 | ... S31: =S66+S101 -> 5464
A32: C.G.R EL PALQUI | B32: =B67+B102 -> 675 | C32: =C67+C102 -> 614 | D32: =D67+D102 -> 564 | E32: =E67+E102 -> 611 | F32: =F67+F102 -> 653 | G32: =G67+G102 -> 616 | H32: =H67+H102 -> 539 | I32: =I67+I102 -> 509 | ... S32: =S67+S102 -> 7836
A34: C. PUNITAQUI | B34: =+B35 -> 653 | C34: =+C35 -> 891 | D34: =+D35 -> 831 | E34: =+E35 -> 829 | F34: =+F35 -> 810 | G34: =+G35 -> 763 | H34: =+H35 -> 698 | I34: =+I35 -> 687 | ... R34: =+R35 -> 323 | S34: =S35 -> 10668
A35: C.G.R. PUNITAQUI | B35: =B70+B105 -> 653 | C35: =C70+C105 -> 891 | D35: =D70+D105 -> 831 | E35: =E70+E105 -> 829 | F35: =F70+F105 -> 810 | G35: =G70+G105 -> 763 | H35: =H70+H105 -> 698 | I35: =I70+I105 -> 687 | ... S35: =S70+S105 -> 10668
A37: C. COMBARBALÁ | B37: =+B38 -> 159 | C37: =+C38 -> 316 | D37: =+D38 -> 364 | E37: =+E38 -> 449 | F37: =+F38 -> 460 | G37: =+G38 -> 409 | H37: =+H38 -> 434 | I37: =+I38 -> 511 | ... R37: =+R38 -> 338 | S37: =S38 -> 6521
A38: POSTA SAN LORENZO | B38: =B73+B108 -> 159 | C38: =C73+C108 -> 316 | D38: =D73+D108 -> 364 | E38: =E73+E108 -> 449 | F38: =F73+F108 -> 460 | G38: =G73+G108 -> 409 | H38: =H73+H108 -> 434 | I38: =I73+I108 -> 511 | ... S38: =S73+S108 -> 6521
J41: POBLACION INSCRITA PERCAPITA VALIDADA 2015 IV REGION - MUJERES
J42: PROVINCIA - LIMARI
A44: 2015 | B44: 0 - 4 | C44: 5 - 9 | D44: 10 - 14 | E44: 15 - 19 | F44: 20 - 24 | G44: 25 - 29 | H44: 30 - 34 | I44: 35 - 39 | J44: 40 - 44 | K44: 45-49 | L44: 50 - 54 | M44: 55 - 59 | N44: 60 - 64 | O44: 65 - 69 | P44: 70 - 74 | Q44: 75 - 79 | R44: 80 Y + | S44: TOTAL
A45: TOTAL IV REGION | B45: =B46+ELQUI!B48+CHOAPA!B43 -> 20284 | C45: =C46+ELQUI!C48+CHOAPA!C43 -> 20346 | D45: =D46+ELQUI!D48+CHOAPA!D43 -> 19638 | E45: =E46+ELQUI!E48+CHOAPA!E43 -> 21592 | F45: =F46+ELQUI!F48+CHOAPA!F43 -> 24120 | G45: =G46+ELQUI!G48+CHOAPA!G43 -> 23550 | H45: =H46+ELQUI!H48+CHOAPA!H43 -> 20889 | I45: =I46+ELQUI!I48+CHOAPA!I43 -> 19559 | ... R45: =R46+ELQUI!R48+CHOAPA!R43 -> 10467 | S45: =SUM(B45:R45) -> 297398
A46: PROVINCIA EL LIMARI | B46: =+B47+B54+B63+B69+B72 -> 4767 | C46: =+C47+C54+C63+C69+C72 -> 5117 | D46: =+D47+D54+D63+D69+D72 -> 4912 | E46: =+E47+E54+E63+E69+E72 -> 5486 | F46: =+F47+F54+F63+F69+F72 -> 5724 | G46: =+G47+G54+G63+G69+G72 -> 5445 | H46: =+H47+H54+H63+H69+H72 -> 4773 | I46: =+I47+I54+I63+I69+I72 -> 4630 | ... R46: =+R47+R54+R63+R69+R72 -> 2729 | S46: =S47+S54+S63+S69+S72 -> 72336
A47: C. OVALLE | B47: =SUM(B48:B52) -> 3184 | C47: =SUM(C48:C52) -> 3341 | D47: =SUM(D48:D52) -> 3207 | E47: =SUM(E48:E52) -> 3551 | F47: =SUM(F48:F52) -> 3773 | G47: =SUM(G48:G52) -> 3641 | H47: =SUM(H48:H52) -> 3107 | I47: =SUM(I48:I52) -> 2963 | ... S47: =SUM(S48:S52) -> 47100
A48: C.G.R. CERRILLOS DE TAMAYA | B48: 224 | C48: 277 | D48: 270 | E48: 251 | F48: 312 | G48: 276 | H48: 271 | I48: 233 | J48: 248 | K48: 224 | L48: 192 | M48: 181 | N48: 137 | O48: 142 | P48: 126 | Q48: 74 | R48: 92 | S48: =SUM(B48:R48)+2 -> 3532
A49: C.G.U JORGE JORDAN | B49: 1037 | C49: 953 | D49: 899 | E49: 1107 | F49: 1230 | G49: 1197 | H49: 959 | I49: 873 | J49: 891 | K49: 969 | L49: 1101 | M49: 905 | N49: 642 | O49: 447 | P49: 410 | Q49: 305 | R49: 442 | S49: =SUM(B49:R49)+3 -> 14370
A50: C.G.U MARCOS MACUADA | B50: 1560 | C50: 1678 | D50: 1589 | E50: 1738 | F50: 1702 | G50: 1663 | H50: 1463 | I50: 1446 | J50: 1622 | K50: 1450 | L50: 1362 | M50: 1092 | N50: 1016 | O50: 819 | P50: 730 | Q50: 592 | R50: 899 | S50: =SUM(B50:R50) -> 22421
A51: C.G.R. SOTAQUI | B51: 161 | C51: 153 | D51: 165 | E51: 186 | F51: 227 | G51: 199 | H51: 156 | I51: 151 | J51: 167 | K51: 192 | L51: 188 | M51: 127 | N51: 109 | O51: 93 | P51: 79 | Q51: 60 | R51: 103 | S51: =SUM(B51:R51) -> 2516
A52: POSTA LIMARI | B52: 202 | C52: 280 | D52: 284 | E52: 269 | F52: 302 | G52: 306 | H52: 258 | I52: 260 | J52: 283 | K52: 320 | L52: 346 | M52: 270 | N52: 217 | O52: 167 | P52: 153 | Q52: 133 | R52: 208 | S52: =SUM(B52:R52)+3 -> 4261
A54: C. RIO HURTADO | B54: =SUM(B55:B61) -> 99 | C54: =SUM(C55:C61) -> 121 | D54: =SUM(D55:D61) -> 127 | E54: =SUM(E55:E61) -> 113 | F54: =SUM(F55:F61) -> 158 | G54: =SUM(G55:G61) -> 138 | H54: =SUM(H55:H61) -> 112 | I54: =SUM(I55:I61) -> 107 | ... S54: =SUM(S55:S61) -> 1971
A55: C.G.R PICHASCA | B55: 29 | C55: 49 | D55: 50 | E55: 32 | F55: 56 | G55: 50 | H55: 42 | I55: 29 | J55: 42 | K55: 40 | L55: 57 | M55: 42 | N55: 38 | O55: 34 | P55: 35 | Q55: 18 | R55: 37 | S55: =SUM(B55:R55)+2 -> 682
A56: POSTA EL CHAÑAR | B56: 8 | C56: 6 | D56: 9 | E56: 4 | F56: 6 | G56: 7 | H56: 4 | I56: 8 | J56: 3 | K56: 7 | L56: 7 | M56: 6 | N56: 3 | O56: 4 | P56: 6 | Q56: 6 | R56: 5 | S56: =SUM(B56:R56) -> 99
A57: POSTA HURTADO | B57: 11 | C57: 4 | D57: 8 | E57: 18 | F57: 16 | G57: 19 | H57: 13 | I57: 11 | J57: 7 | K57: 22 | L57: 14 | M57: 23 | N57: 9 | O57: 13 | P57: 11 | Q57: 8 | R57: 9 | S57: =SUM(B57:R57) -> 216
A58: POSTA LAS BREAS | B58: 6 | C58: 7 | D58: 9 | E58: 12 | F58: 8 | G58: 8 | H58: 11 | I58: 17 | J58: 9 | K58: 9 | L58: 11 | M58: 11 | N58: 2 | O58: 7 | P58: 5 | Q58: 4 | R58: 11 | S58: =SUM(B58:R58) -> 147
A59: POSTA SAMO ALTO | B59: 17 | C59: 17 | D59: 13 | E59: 16 | F59: 29 | G59: 26 | H59: 15 | I59: 11 | J59: 23 | K59: 28 | L59: 29 | M59: 12 | N59: 25 | O59: 14 | P59: 23 | Q59: 16 | R59: 24 | S59: =SUM(B59:R59) -> 338
A60: POSTA SERON | B60: 15 | C60: 25 | D60: 22 | E60: 22 | F60: 31 | G60: 20 | H60: 16 | I60: 19 | J60: 18 | K60: 22 | L60: 24 | M60: 14 | N60: 19 | O60: 17 | P60: 14 | Q60: 9 | R60: 20 | S60: =SUM(B60:R60) -> 327
A61: POSTA TAHUINCO | B61: 13 | C61: 13 | D61: 16 | E61: 9 | F61: 12 | G61: 8 | H61: 11 | I61: 12 | J61: 8 | K61: 13 | L61: 7 | M61: 9 | N61: 13 | O61: 4 | P61: 1 | Q61: 5 | R61: 8 | S61: =SUM(B61:R61) -> 162
A63: C. MONTE PATRIA | B63: =SUM(B64:B67) -> 1100 | C63: =SUM(C64:C67) -> 1068 | D63: =SUM(D64:D67) -> 1000 | E63: =SUM(E64:E67) -> 1167 | F63: =SUM(F64:F67) -> 1204 | G63: =SUM(G64:G67) -> 1095 | H63: =SUM(H64:H67) -> 998 | I63: =SUM(I64:I67) -> 953 | ... S63: =SUM(S64:S67) -> 14790
A64: C.G.R. MONTE PATRIA | B64: 428 | C64: 445 | D64: 415 | E64: 478 | F64: 474 | G64: 451 | H64: 423 | I64: 396 | J64: 426 | K64: 418 | L64: 410 | M64: 288 | N64: 225 | O64: 170 | P64: 176 | Q64: 162 | R64: 203 | S64: =SUM(B64:R64)+6 -> 5994
A65: C.G.R CHAÑARAL ALTO | B65: 169 | C65: 159 | D65: 147 | E65: 205 | F65: 172 | G65: 151 | H65: 142 | I65: 152 | J65: 191 | K65: 154 | L65: 167 | M65: 121 | N65: 84 | O65: 62 | P65: 68 | Q65: 56 | R65: 77 | S65: =SUM(B65:R65)+5 -> 2282
A66: C.G.R CAREN | B66: 169 | C66: 164 | D66: 160 | E66: 185 | F66: 213 | G66: 192 | H66: 163 | I66: 164 | J66: 171 | K66: 165 | L66: 173 | M66: 149 | N66: 120 | O66: 100 | P66: 100 | Q66: 89 | R66: 137 | S66: =SUM(B66:R66)+11 -> 2625
A67: C.G.R EL PALQUI | B67: 334 | C67: 300 | D67: 278 | E67: 299 | F67: 345 | G67: 301 | H67: 270 | I67: 241 | J67: 253 | K67: 303 | L67: 263 | M67: 215 | N67: 122 | O67: 99 | P67: 100 | Q67: 66 | R67: 88 | S67: =SUM(B67:R67)+12 -> 3889
A69: C. PUNITAQUI | B69: =+B70 -> 307 | C69: =+C70 -> 439 | D69: =+D70 -> 407 | E69: =+E70 -> 424 | F69: =+F70 -> 381 | G69: =+G70 -> 385 | H69: =+H70 -> 346 | I69: =+I70 -> 352 | ... R69: =+R70 -> 181 | S69: =S70 -> 5282
A70: C.G.R. PUNITAQUI | B70: 307 | C70: 439 | D70: 407 | E70: 424 | F70: 381 | G70: 385 | H70: 346 | I70: 352 | J70: 354 | K70: 325 | L70: 314 | M70: 299 | N70: 249 | O70: 220 | P70: 166 | Q70: 130 | R70: 181 | S70: =SUM(B70:R70)+3 -> 5282
A72: C. COMBARBALÁ | B72: =+B73 -> 77 | C72: =+C73 -> 148 | D72: =+D73 -> 171 | E72: =+E73 -> 231 | F72: =+F73 -> 208 | G72: =+G73 -> 186 | H72: =+H73 -> 210 | I72: =+I73 -> 255 | ... R72: =+R73 -> 185 | S72: =S73 -> 3193
A73: POSTA SAN LORENZO | B73: 77 | C73: 148 | D73: 171 | E73: 231 | F73: 208 | G73: 186 | H73: 210 | I73: 255 | J73: 249 | K73: 244 | L73: 241 | M73: 190 | N73: 173 | O73: 147 | P73: 144 | Q73: 132 | R73: 185 | S73: =SUM(B73:R73)+2 -> 3193
J76: POBLACION INSCRITA PERCAPITA VALIDADA 2015 IV REGION - HOMBRES
J77: PROVINCIA - LIMARI
A79: 2015 | B79: 0 - 4 | C79: 5 - 9 | D79: 10 - 14 | E79: 15 - 19 | F79: 20 - 24 | G79: 25 - 29 | H79: 30 - 34 | I79: 35 - 39 | J79: 40 - 44 | K79: 45-49 | L79: 50 - 54 | M79: 55 - 59 | N79: 60 - 64 | O79: 65 - 69 | P79: 70 - 74 | Q79: 75 - 79 | R79: 80 Y + | S79: TOTAL
A80: TOTAL IV REGION | B80: =+B81+ELQUI!B85+CHOAPA!B75 -> 21266 | C80: =+C81+ELQUI!C85+CHOAPA!C75 -> 21258 | D80: =+D81+ELQUI!D85+CHOAPA!D75 -> 20774 | E80: =+E81+ELQUI!E85+CHOAPA!E75 -> 22082 | F80: =+F81+ELQUI!F85+CHOAPA!F75 -> 23780 | G80: =+G81+ELQUI!G85+CHOAPA!G75 -> 21723 | H80: =+H81+ELQUI!H85+CHOAPA!H75 -> 18303 | I80: =+I81+ELQUI!I85+CHOAPA!I75 -> 16546 | ... R80: =+R81+ELQUI!R85+CHOAPA!R75 -> 6863 | S80: =SUM(B80:R80) -> 275702
A81: PROVINCIA EL LIMARI | B81: =+B82+B89+B98+B104+B107 -> 4977 | C81: =+C82+C89+C98+C104+C107 -> 5347 | D81: =+D82+D89+D98+D104+D107 -> 5290 | E81: =+E82+E89+E98+E104+E107 -> 5553 | F81: =+F82+F89+F98+F104+F107 -> 5851 | G81: =+G82+G89+G98+G104+G107 -> 5290 | H81: =+H82+H89+H98+H104+H107 -> 4514 | I81: =+I82+I89+I98+I104+I107 -> 4192 | ... R81: =+R82+R89+R98+R104+R107 -> 1969 | S81: =S82+S89+S98+S104+S107 -> 69707
A82: C. OVALLE | B82: =SUM(B83:B87) -> 3325 | C82: =SUM(C83:C87) -> 3512 | D82: =SUM(D83:D87) -> 3409 | E82: =SUM(E83:E87) -> 3594 | F82: =SUM(F83:F87) -> 3791 | G82: =SUM(G83:G87) -> 3406 | H82: =SUM(H83:H87) -> 2758 | I82: =SUM(I83:I87) -> 2438 | ... S82: =SUM(S83:S87) -> 43349
A83: C.G.R. CERRILLO DE TAMAYA | B83: 232 | C83: 277 | D83: 264 | E83: 263 | F83: 308 | G83: 286 | H83: 266 | I83: 271 | J83: 261 | K83: 277 | L83: 237 | M83: 194 | N83: 165 | O83: 146 | P83: 117 | Q83: 97 | R83: 113 | S83: =SUM(B83:R83) -> 3774
A84: C.G.U JORGE JORDAN | B84: 1089 | C84: 1059 | D84: 988 | E84: 1038 | F84: 1207 | G84: 1096 | H84: 848 | I84: 706 | J84: 706 | K84: 722 | L84: 852 | M84: 732 | N84: 578 | O84: 381 | P84: 355 | Q84: 254 | R84: 265 | S84: =SUM(B84:R84) -> 12876
A85: C.G.U MARCOS MACUADA | B85: 1625 | C85: 1734 | D85: 1662 | E85: 1715 | F85: 1649 | G85: 1427 | H85: 1121 | I85: 1023 | J85: 1146 | K85: 1146 | L85: 1139 | M85: 927 | N85: 783 | O85: 650 | P85: 572 | Q85: 408 | R85: 544 | S85: =SUM(B85:R85) -> 19271
A86: C.G.R. SOTAQUI | B86: 144 | C86: 167 | D86: 191 | E86: 207 | F86: 209 | G86: 207 | H86: 174 | I86: 164 | J86: 150 | K86: 174 | L86: 157 | M86: 141 | N86: 94 | O86: 104 | P86: 92 | Q86: 59 | R86: 64 | S86: =SUM(B86:R86) -> 2498
A87: POSTA LIMARI | B87: 235 | C87: 275 | D87: 304 | E87: 371 | F87: 418 | G87: 390 | H87: 349 | I87: 274 | J87: 337 | K87: 356 | L87: 345 | M87: 329 | N87: 255 | O87: 182 | P87: 187 | Q87: 121 | R87: 199 | S87: =SUM(B87:R87)+3 -> 4930
A89: C. RIO HURTADO | B89: =SUM(B90:B96) -> 91 | C89: =SUM(C90:C96) -> 118 | D89: =SUM(D90:D96) -> 117 | E89: =SUM(E90:E96) -> 152 | F89: =SUM(F90:F96) -> 164 | G89: =SUM(G90:G96) -> 127 | H89: =SUM(H90:H96) -> 138 | I89: =SUM(I90:I96) -> 118 | ... S89: =SUM(S90:S96) -> 2011
A90: C.G.R PICHASCA | B90: 28 | C90: 39 | D90: 40 | E90: 40 | F90: 62 | G90: 36 | H90: 37 | I90: 32 | J90: 32 | K90: 30 | L90: 44 | M90: 44 | N90: 38 | O90: 30 | P90: 22 | Q90: 20 | R90: 24 | S90: =SUM(B90:R90) -> 598
A91: POSTA EL CHAÑAR | B91: 7 | C91: 4 | D91: 7 | E91: 8 | F91: 8 | G91: 6 | H91: 4 | I91: 4 | J91: 8 | K91: 8 | L91: 4 | M91: 8 | N91: 6 | O91: 7 | P91: 7 | Q91: 5 | R91: 4 | S91: =SUM(B91:R91) -> 105
A92: POSTA HURTADO | B92: 7 | C92: 13 | D92: 11 | E92: 32 | F92: 21 | G92: 15 | H92: 17 | I92: 21 | J92: 15 | K92: 19 | L92: 16 | M92: 16 | N92: 16 | O92: 13 | P92: 13 | Q92: 10 | R92: 13 | S92: =SUM(B92:R92) -> 268
A93: POSTA LAS BREAS | B93: 9 | C93: 14 | D93: 14 | E93: 16 | F93: 6 | G93: 6 | H93: 9 | I93: 12 | J93: 11 | K93: 15 | L93: 13 | M93: 11 | N93: 8 | O93: 4 | P93: 7 | Q93: 6 | R93: 6 | S93: =SUM(B93:R93) -> 167
A94: POSTA SAMO ALTO | B94: 15 | C94: 21 | D94: 18 | E94: 14 | F94: 20 | G94: 24 | H94: 30 | I94: 14 | J94: 20 | K94: 32 | L94: 22 | M94: 27 | N94: 20 | O94: 20 | P94: 16 | Q94: 15 | R94: 16 | S94: =SUM(B94:R94) -> 344
A95: POSTA SERON | B95: 16 | C95: 18 | D95: 17 | E95: 28 | F95: 32 | G95: 25 | H95: 33 | I95: 21 | J95: 19 | K95: 21 | L95: 27 | M95: 30 | N95: 17 | O95: 17 | P95: 11 | Q95: 7 | R95: 13 | S95: =SUM(B95:R95) -> 352
A96: POSTA TAHUINCO | B96: 9 | C96: 9 | D96: 10 | E96: 14 | F96: 15 | G96: 15 | H96: 8 | I96: 14 | J96: 10 | K96: 5 | L96: 16 | M96: 11 | N96: 11 | O96: 2 | P96: 11 | Q96: 8 | R96: 9 | S96: =SUM(B96:R96) -> 177
A98: C. MONTE PATRIA | B98: =SUM(B99:B102) -> 1133 | C98: =SUM(C99:C102) -> 1097 | D98: =SUM(D99:D102) -> 1147 | E98: =SUM(E99:E102) -> 1184 | F98: =SUM(F99:F102) -> 1215 | G98: =SUM(G99:G102) -> 1156 | H98: =SUM(H99:H102) -> 1042 | I98: =SUM(I99:I102) -> 1045 | ... S98: =SUM(S99:S102) -> 15633
A99: C.G.R. MONTE PATRIA | B99: 458 | C99: 432 | D99: 464 | E99: 480 | F99: 515 | G99: 490 | H99: 430 | I99: 401 | J99: 426 | K99: 480 | L99: 422 | M99: 346 | N99: 278 | O99: 196 | P99: 179 | Q99: 114 | R99: 155 | S99: =SUM(B99:R99) -> 6266
A100: C.G.R CHAÑARAL ALTO | B100: 179 | C100: 185 | D100: 187 | E100: 178 | F100: 180 | G100: 174 | H100: 156 | I100: 174 | J100: 199 | K100: 220 | L100: 177 | M100: 165 | N100: 110 | O100: 90 | P100: 79 | Q100: 61 | R100: 67 | S100: =SUM(B100:R100) -> 2581
A101: C.G.R CAREN | B101: 155 | C101: 166 | D101: 210 | E101: 214 | F101: 212 | G101: 177 | H101: 187 | I101: 202 | J101: 208 | K101: 206 | L101: 184 | M101: 152 | N101: 146 | O101: 118 | P101: 103 | Q101: 85 | R101: 114 | S101: =SUM(B101:R101) -> 2839
A102: C.G.R EL PALQUI | B102: 341 | C102: 314 | D102: 286 | E102: 312 | F102: 308 | G102: 315 | H102: 269 | I102: 268 | J102: 260 | K102: 280 | L102: 254 | M102: 205 | N102: 174 | O102: 115 | P102: 109 | Q102: 67 | R102: 68 | S102: =SUM(B102:R102)+2 -> 3947
A104: C. PUNITAQUI | B104: =+B105 -> 346 | C104: =+C105 -> 452 | D104: =+D105 -> 424 | E104: =+E105 -> 405 | F104: =+F105 -> 429 | G104: =+G105 -> 378 | H104: =+H105 -> 352 | I104: =+I105 -> 335 | ... R104: =+R105 -> 142 | S104: =S105 -> 5386
A105: C.G.R. PUNITAQUI | B105: 346 | C105: 452 | D105: 424 | E105: 405 | F105: 429 | G105: 378 | H105: 352 | I105: 335 | J105: 325 | K105: 339 | L105: 328 | M105: 311 | N105: 257 | O105: 203 | P105: 211 | Q105: 149 | R105: 142 | S105: =SUM(B105:R105) -> 5386
A107: C. COMBARBALÁ | B107: =+B108 -> 82 | C107: =+C108 -> 168 | D107: =+D108 -> 193 | E107: =+E108 -> 218 | F107: =+F108 -> 252 | G107: =+G108 -> 223 | H107: =+H108 -> 224 | I107: =+I108 -> 256 | ... R107: =+R108 -> 153 | S107: =S108 -> 3328
A108: POSTA SAN LORENZO | B108: 82 | C108: 168 | D108: 193 | E108: 218 | F108: 252 | G108: 223 | H108: 224 | I108: 256 | J108: 250 | K108: 270 | L108: 243 | M108: 204 | N108: 202 | O108: 127 | P108: 145 | Q108: 118 | R108: 153 | S108: =SUM(B108:R108) -> 3328
A110: NOTA: EXISTEN DATOS POR SEXO SIN GRUPOS ETAREOS, ESTOS FUERON INCORPORADOS EN EL TOTAL DE CADA ESTABLECIMIENTO Y SUMADOS AL TOTAL DE LA COMUNA CORRESPONDIENTE.
A111: FUENTE: PROCESO DE VALIDACIÓN NOVIEMBRE 2015 FONASA

Sheet CHOAPA
A1: MINISTERIO DE SALUD
A2: SERVICIO DE SALUD COQUIMBO
A3: SUBDIRECCION DE GESTION ASISTENCIAL
A4: SUBDEPTO DE ESTADÍSTICA Y GESTIÓN DE LA INFORMACIÓN
A6: POBLACION INSCRITA PERCAPITA VALIDADA 2015 IV REGION - AMBOS SEXOS
A7: PROVINCIA - CHOAPA
A9: 2015 | B9: 0 - 4 | C9: 5 - 9 | D9: 10 - 14 | E9: 15 - 19 | F9: 20 - 24 | G9: 25 - 29 | H9: 30 - 34 | I9: 35 - 39 | J9: 40 - 44 | K9: 45-49 | L9: 50 - 54 | M9: 55 - 59 | N9: 60 - 64 | O9: 65 - 69 | P9: 70 - 74 | Q9: 75 - 79 | R9: 80 Y = | S9: TOTAL
A10: TOTAL IV REGION | B10: =ELQUI!B11+LIMARI!B11+CHOAPA!B11 -> 41550 | C10: =ELQUI!C11+LIMARI!C11+CHOAPA!C11 -> 41604 | D10: =ELQUI!D11+LIMARI!D11+CHOAPA!D11 -> 40412 | E10: =ELQUI!E11+LIMARI!E11+CHOAPA!E11 -> 43674 | F10: =ELQUI!F11+LIMARI!F11+CHOAPA!F11 -> 47900 | G10: =ELQUI!G11+LIMARI!G11+CHOAPA!G11 -> 45273 | H10: =ELQUI!H11+LIMARI!H11+CHOAPA!H11 -> 39192 | I10: =ELQUI!I11+LIMARI!I11+CHOAPA!I11 -> 36105 | ... S10: =ELQUI!S11+LIMARI!S11+CHOAPA!S11 -> 573439 | T10: =SUM(E10:R10) -> 449534 | U10: =6*T10/1000 -> 2697.204 | V10: municipal
A11: PROVINCIA CHOAPA | B11: =+B12+B26+B30+B34 -> 1967 | C11: =+C12+C26+C30+C34 -> 2679 | D11: =+D12+D26+D30+D34 -> 2936 | E11: =+E12+E26+E30+E34 -> 3106 | F11: =+F12+F26+F30+F34 -> 3154 | G11: =+G12+G26+G30+G34 -> 2901 | H11: =+H12+H26+H30+H34 -> 2632 | I11: =+I12+I26+I30+I34 -> 2536 | ... S11: =+S12+S26+S30+S34 -> 40219 | T11: 66872.4 | V11: hospital
A12: C. ILLAPEL | B12: =SUM(B13:B24) -> 685 | C12: =SUM(C13:C24) -> 898 | D12: =SUM(D13:D24) -> 1014 | E12: =SUM(E13:E24) -> 994 | F12: =SUM(F13:F24) -> 1052 | G12: =SUM(G13:G24) -> 952 | H12: =SUM(H13:H24) -> 815 | I12: =SUM(I13:I24) -> 774 | ... S12: =SUM(S13:S24) -> 12465 | T12: =+T11+T10 -> 516406.4 | U12: =6*T12/1000 -> 3098.4384
A13: HOSPITAL ILLAPEL
A14: POSTA CARCAMO | B14: =B46+B78 -> 23 | C14: =C46+C78 -> 27 | D14: =D46+D78 -> 45 | E14: =E46+E78 -> 43 | F14: =F46+F78 -> 46 | G14: =G46+G78 -> 63 | H14: =H46+H78 -> 31 | I14: =I46+I78 -> 40 | ... S14: =S46+S78 -> 727
A15: POSTA HUINTIL | B15: =B47+B79 -> 25 | C15: =C47+C79 -> 30 | D15: =D47+D79 -> 30 | E15: =E47+E79 -> 26 | F15: =F47+F79 -> 31 | G15: =G47+G79 -> 25 | H15: =H47+H79 -> 28 | I15: =I47+I79 -> 27 | ... S15: =S47+S79 -> 458
A16: POSTA LIMAHUIDA | B16: =B48+B80 -> 21 | C16: =C48+C80 -> 13 | D16: =D48+D80 -> 28 | E16: =E48+E80 -> 35 | F16: =F48+F80 -> 27 | G16: =G48+G80 -> 25 | H16: =H48+H80 -> 31 | I16: =I48+I80 -> 19 | ... S16: =S48+S80 -> 400
A17: POSTA MATANCILLA | B17: =B49+B81 -> 19 | C17: =C49+C81 -> 23 | D17: =D49+D81 -> 14 | E17: =E49+E81 -> 27 | F17: =F49+F81 -> 29 | G17: =G49+G81 -> 22 | H17: =H49+H81 -> 18 | I17: =I49+I81 -> 21 | ... S17: =S49+S81 -> 386
A18: POSTA PERALILLO | B18: =B50+B82 -> 27 | C18: =C50+C82 -> 37 | D18: =D50+D82 -> 43 | E18: =E50+E82 -> 42 | F18: =F50+F82 -> 52 | G18: =G50+G82 -> 33 | H18: =H50+H82 -> 33 | I18: =I50+I82 -> 39 | ... S18: =S50+S82 -> 559
A19: POSTA STA. VIRGINIA | B19: =B51+B83 -> 16 | C19: =C51+C83 -> 26 | D19: =D51+D83 -> 46 | E19: =E51+E83 -> 48 | F19: =F51+F83 -> 42 | G19: =G51+G83 -> 37 | H19: =H51+H83 -> 23 | I19: =I51+I83 -> 35 | ... S19: =S51+S83 -> 483
A20: POSTA TUNGA-NORTE | B20: =B52+B84 -> 7 | C20: =C52+C84 -> 49 | D20: =D52+D84 -> 63 | E20: =E52+E84 -> 49 | F20: =F52+F84 -> 39 | G20: =G52+G84 -> 57 | H20: =H52+H84 -> 37 | I20: =I52+I84 -> 50 | ... S20: =S52+S84 -> 734
A21: POSTA PLAN DE HORNOS | B21: =B53+B85 -> 10 | C21: =C53+C85 -> 14 | D21: =D53+D85 -> 13 | E21: =E53+E85 -> 14 | F21: =F53+F85 -> 23 | G21: =G53+G85 -> 36 | H21: =H53+H85 -> 23 | I21: =I53+I85 -> 27 | ... S21: =S53+S85 -> 316
A22: POSTA TUNGA-SUR | B22: =B54+B86 -> 3 | C22: =C54+C86 -> 12 | D22: =D54+D86 -> 9 | E22: =E54+E86 -> 15 | F22: =F54+F86 -> 15 | G22: =G54+G86 -> 14 | H22: =H54+H86 -> 14 | I22: =I54+I86 -> 16 | ... S22: =S54+S86 -> 272
A23: POSTA PINTACURA | B23: =B55+B87 -> 436 | C23: =C55+C87 -> 554 | D23: =D55+D87 -> 599 | E23: =E55+E87 -> 573 | F23: =F55+F87 -> 622 | G23: =G55+G87 -> 539 | H23: =H55+H87 -> 466 | I23: =I55+I87 -> 406 | ... S23: =S55+S87 -> 6642
A24: P. CAÑAS UNO DEL CHOAPA | B24: =B56+B88 -> 98 | C24: =C56+C88 -> 113 | D24: =D56+D88 -> 124 | E24: =E56+E88 -> 122 | F24: =F56+F88 -> 126 | G24: =G56+G88 -> 101 | H24: =H56+H88 -> 111 | I24: =I56+I88 -> 94 | ... S24: =S56+S88 -> 1488
A26: C. SALAMANCA | B26: =+B28 -> 556 | C26: =+C28 -> 756 | D26: =+D28 -> 855 | E26: =+E28 -> 981 | F26: =+F28 -> 955 | G26: =+G28 -> 911 | H26: =+H28 -> 804 | I26: =+I28 -> 767 | ... R26: =+R28 -> 418 | S26: =S28 -> 12403
A27: HOSPITAL SALAMANCA
A28: POSTA CUNCUMEN | B28: =B60+B92 -> 556 | C28: =C60+C92 -> 756 | D28: =D60+D92 -> 855 | E28: =E60+E92 -> 981 | F28: =F60+F92 -> 955 | G28: =G60+G92 -> 911 | H28: =H60+H92 -> 804 | I28: =I60+I92 -> 767 | ... S28: =S60+S92 -> 12403
A30: C. LOS VILOS | B30: =+B31+B32 -> 289 | C30: =+C31+C32 -> 440 | D30: =+D31+D32 -> 420 | E30: =+E31+E32 -> 452 | F30: =+F31+F32 -> 447 | G30: =+G31+G32 -> 410 | H30: =+H31+H32 -> 406 | I30: =+I31+I32 -> 383 | ... R30: =+R31+R32 -> 195 | S30: =S32 -> 5926
A31: HOSPITAL LOS VILOS
A32: POSTA CAIMANES | B32: =B64+B96 -> 289 | C32: =C64+C96 -> 440 | D32: =D64+D96 -> 420 | E32: =E64+E96 -> 452 | F32: =F64+F96 -> 447 | G32: =G64+G96 -> 410 | H32: =H64+H96 -> 406 | I32: =I64+I96 -> 383 | ... S32: =S64+S96 -> 5926
A34: C. CANELA | B34: =+B66+B98 -> 437 | C34: =+C66+C98 -> 585 | D34: =+D66+D98 -> 647 | E34: =+E66+E98 -> 679 | F34: =+F66+F98 -> 700 | G34: =+G66+G98 -> 628 | H34: =+H66+H98 -> 607 | I34: =+I66+I98 -> 612 | ... R34: =+R66+R98 -> 452 | S34: =S35 -> 9425
A35: CGR CANELA | B35: =B67+B99 -> 437 | C35: =C67+C99 -> 585 | D35: =D67+D99 -> 647 | E35: =E67+E99 -> 679 | F35: =F67+F99 -> 700 | G35: =G67+G99 -> 628 | H35: =H67+H99 -> 607 | I35: =I67+I99 -> 612 | ... S35: =S67+S99 -> 9425
J38: POBLACION INSCRITA PERCAPITA VALIDADA 2015 IV REGION - MUJERES
J39: PROVINCIA - CHOAPA
A41: 2015 | B41: 0 - 4 | C41: 5 - 9 | D41: 10 - 14 | E41: 15 - 19 | F41: 20 - 24 | G41: 25 - 29 | H41: 30 - 34 | I41: 35 - 39 | J41: 40 - 44 | K41: 45-49 | L41: 50 - 54 | M41: 55 - 59 | N41: 60 - 64 | O41: 65 - 69 | P41: 70 - 74 | Q41: 75 - 79 | R41: 80 Y + | S41: TOTAL
A42: TOTAL IV REGION | B42: =+B43+LIMARI!B46+ELQUI!B48 -> 20284 | C42: =+C43+LIMARI!C46+ELQUI!C48 -> 20346 | D42: =+D43+LIMARI!D46+ELQUI!D48 -> 19638 | E42: =+E43+LIMARI!E46+ELQUI!E48 -> 21592 | F42: =+F43+LIMARI!F46+ELQUI!F48 -> 24120 | G42: =+G43+LIMARI!G46+ELQUI!G48 -> 23550 | H42: =+H43+LIMARI!H46+ELQUI!H48 -> 20889 | I42: =+I43+LIMARI!I46+ELQUI!I48 -> 19559 | ... S42: =+S43+LIMARI!S46+ELQUI!S48 -> 297723
A43: PROVINCIA CHOAPA | B43: =+B44+B58+B62+B66 -> 941 | C43: =+C44+C58+C62+C66 -> 1280 | D43: =+D44+D58+D62+D66 -> 1430 | E43: =+E44+E58+E62+E66 -> 1500 | F43: =+F44+F58+F62+F66 -> 1501 | G43: =+G44+G58+G62+G66 -> 1453 | H43: =+H44+H58+H62+H66 -> 1370 | I43: =+I44+I58+I62+I66 -> 1351 | ... S43: =+S44+S58+S62+S66 -> 19896
A44: C. ILLAPEL | B44: =SUM(B45:B56) -> 338 | C44: =SUM(C45:C56) -> 445 | D44: =SUM(D45:D56) -> 507 | E44: =SUM(E45:E56) -> 488 | F44: =SUM(F45:F56) -> 518 | G44: =SUM(G45:G56) -> 488 | H44: =SUM(H45:H56) -> 439 | I44: =SUM(I45:I56) -> 424 | ... R44: =SUM(R45:R56) -> 173 | S44: =SUM(S46:S56) -> 6342
A45: HOSPITAL ILLAPEL
A46: POSTA CARCAMO | B46: 10 | C46: 10 | D46: 25 | E46: 23 | F46: 20 | G46: 34 | H46: 17 | I46: 22 | J46: 28 | K46: 32 | L46: 23 | M46: 23 | N46: 16 | O46: 16 | P46: 19 | Q46: 14 | R46: 27 | S46: =SUM(B46:R46) -> 359
A47: POSTA HUINTIL | B47: 12 | C47: 18 | D47: 11 | E47: 13 | F47: 19 | G47: 15 | H47: 14 | I47: 12 | J47: 14 | K47: 15 | L47: 14 | M47: 19 | N47: 20 | O47: 10 | P47: 4 | Q47: 5 | R47: 10 | S47: =SUM(B47:R47) -> 225
A48: POSTA LIMAHUIDA | B48: 10 | C48: 4 | D48: 14 | E48: 16 | F48: 12 | G48: 11 | H48: 16 | I48: 5 | J48: 13 | K48: 14 | L48: 23 | M48: 9 | N48: 9 | O48: 7 | P48: 9 | Q48: 3 | R48: 7 | S48: =SUM(B48:R48) -> 182
A49: POSTA MATANCILLA | B49: 13 | C49: 10 | D49: 6 | E49: 15 | F49: 12 | G49: 7 | H49: 10 | I49: 12 | J49: 14 | K49: 20 | L49: 10 | M49: 19 | N49: 8 | O49: 8 | P49: 12 | Q49: 10 | R49: 5 | S49: =SUM(B49:R49) -> 191
A50: POSTA PERALILLO | B50: 12 | C50: 14 | D50: 15 | E50: 19 | F50: 32 | G50: 20 | H50: 19 | I50: 17 | J50: 24 | K50: 18 | L50: 15 | M50: 20 | N50: 12 | O50: 10 | P50: 13 | Q50: 13 | R50: 8 | S50: =SUM(B50:R50) -> 281
A51: POSTA STA. VIRGINIA | B51: 7 | C51: 9 | D51: 19 | E51: 19 | F51: 21 | G51: 12 | H51: 13 | I51: 14 | J51: 16 | K51: 22 | L51: 13 | M51: 14 | N51: 4 | O51: 13 | P51: 5 | Q51: 5 | R51: 4 | S51: =SUM(B51:R51) -> 210
A52: POSTA TUNGA-NORTE | B52: 2 | C52: 21 | D52: 33 | E52: 23 | F52: 22 | G52: 25 | H52: 20 | I52: 29 | J52: 23 | K52: 26 | L52: 29 | M52: 17 | N52: 17 | O52: 13 | P52: 26 | Q52: 13 | R52: 17 | S52: =SUM(B52:R52)+1 -> 357
A53: POSTA PLAN DE HORNOS | B53: 7 | C53: 4 | D53: 8 | E53: 5 | F53: 12 | G53: 15 | H53: 14 | I53: 13 | J53: 19 | K53: 11 | L53: 9 | M53: 9 | N53: 9 | O53: 5 | P53: 3 | Q53: 4 | R53: 3 | S53: =SUM(B53:R53) -> 150
A54: POSTA TUNGA-SUR | B54: 2 | C54: 7 | D54: 5 | E54: 7 | F54: 4 | G54: 5 | H54: 5 | I54: 10 | J54: 6 | K54: 6 | L54: 12 | M54: 12 | N54: 11 | O54: 14 | P54: 8 | Q54: 8 | R54: 8 | S54: =SUM(B54:R54) -> 130
A55: POSTA PINTACURA | B55: 214 | C55: 296 | D55: 310 | E55: 278 | F55: 306 | G55: 289 | H55: 257 | I55: 247 | J55: 246 | K55: 273 | L55: 233 | M55: 182 | N55: 132 | O55: 74 | P55: 66 | Q55: 45 | R55: 60 | S55: =SUM(B55:R55)+2 -> 3510
A56: P. CAÑAS UNO DEL CHOAPA | B56: 49 | C56: 52 | D56: 61 | E56: 70 | F56: 58 | G56: 55 | H56: 54 | I56: 43 | J56: 47 | K56: 50 | L56: 44 | M56: 35 | N56: 40 | O56: 35 | P56: 17 | Q56: 12 | R56: 24 | S56: =SUM(B56:R56)+1 -> 747
A58: C. SALAMANCA | B58: =+B59+B60 -> 255 | C58: =+C59+C60 -> 366 | D58: =+D59+D60 -> 392 | E58: =+E59+E60 -> 465 | F58: =+F59+F60 -> 460 | G58: =+G59+G60 -> 433 | H58: =+H59+H60 -> 403 | I58: =+I59+I60 -> 400 | ... R58: =+R59+R60 -> 220 | S58: =S60 -> 5981
A59: HOSPITAL SALAMANCA
A60: POSTA CUNCUMEN | B60: 255 | C60: 366 | D60: 392 | E60: 465 | F60: 460 | G60: 433 | H60: 403 | I60: 400 | J60: 455 | K60: 463 | L60: 423 | M60: 335 | N60: 287 | O60: 237 | P60: 211 | Q60: 154 | R60: 220 | S60: =SUM(B60:R60)+22 -> 5981
A62: C. LOS VILOS | B62: =B63+B64 -> 137 | C62: =C63+C64 -> 214 | D62: =D63+D64 -> 196 | E62: =E63+E64 -> 226 | F62: =F63+F64 -> 209 | G62: =G63+G64 -> 205 | H62: =H63+H64 -> 201 | I62: =I63+I64 -> 207 | ... R62: =R63+R64 -> 108 | S62: =S64 -> 2900
A63: HOSPITAL LOS VILOS
A64: POSTA CAIMANES | B64: 137 | C64: 214 | D64: 196 | E64: 226 | F64: 209 | G64: 205 | H64: 201 | I64: 207 | J64: 193 | K64: 189 | L64: 216 | M64: 188 | N64: 122 | O64: 100 | P64: 94 | Q64: 93 | R64: 108 | S64: =SUM(B64:R64)+2 -> 2900
A66: C. CANELA | B66: =+B67 -> 211 | C66: =+C67 -> 255 | D66: =+D67 -> 335 | E66: =+E67 -> 321 | F66: =+F67 -> 314 | G66: =+G67 -> 327 | H66: =+H67 -> 327 | I66: =+I67 -> 320 | ... R66: =+R67 -> 239 | S66: =S67 -> 4673
A67: CGR CANELA | B67: 211 | C67: 255 | D67: 335 | E67: 321 | F67: 314 | G67: 327 | H67: 327 | I67: 320 | J67: 294 | K67: 308 | L67: 339 | M67: 279 | N67: 235 | O67: 215 | P67: 182 | Q67: 172 | R67: 239 | S67: =SUM(B67:R67) -> 4673
J70: POBLACION INSCRITA PERCAPITA VALIDADA 2015 IV REGION - HOMBRES
J71: PROVINCIA - CHOAPA
A73: 2015 | B73: 0 - 4 | C73: 5 - 9 | D73: 10 - 14 | E73: 15 - 19 | F73: 20 - 24 | G73: 25 - 29 | H73: 30 - 34 | I73: 35 - 39 | J73: 40 - 44 | K73: 45-49 | L73: 50 - 54 | M73: 55 - 59 | N73: 60 - 64 | O73: 65 - 69 | P73: 70 - 74 | Q73: 75 - 79 | R73: 80 Y + | S73: TOTAL
A74: TOTAL IV REGION | B74: =+B75+LIMARI!B81+ELQUI!B85 -> 21266 | C74: =+C75+LIMARI!C81+ELQUI!C85 -> 21258 | D74: =+D75+LIMARI!D81+ELQUI!D85 -> 20774 | E74: =+E75+LIMARI!E81+ELQUI!E85 -> 22082 | F74: =+F75+LIMARI!F81+ELQUI!F85 -> 23780 | G74: =+G75+LIMARI!G81+ELQUI!G85 -> 21723 | H74: =+H75+LIMARI!H81+ELQUI!H85 -> 18303 | I74: =+I75+LIMARI!I81+ELQUI!I85 -> 16546 | ... S74: =+S75+LIMARI!S81+ELQUI!S85 -> 275716
A75: PROVINCIA CHOAPA | B75: =+B76+B90+B94+B98 -> 1026 | C75: =+C76+C90+C94+C98 -> 1399 | D75: =+D76+D90+D94+D98 -> 1506 | E75: =+E76+E90+E94+E98 -> 1606 | F75: =+F76+F90+F94+F98 -> 1653 | G75: =+G76+G90+G94+G98 -> 1448 | H75: =+H76+H90+H94+H98 -> 1262 | I75: =+I76+I90+I94+I98 -> 1185 | ... S75: =+S76+S90+S94+S98 -> 20323
A76: C. ILLAPEL | B76: =SUM(B77:B88) -> 347 | C76: =SUM(C77:C88) -> 453 | D76: =SUM(D77:D88) -> 507 | E76: =SUM(E77:E88) -> 506 | F76: =SUM(F77:F88) -> 534 | G76: =SUM(G77:G88) -> 464 | H76: =SUM(H77:H88) -> 376 | I76: =SUM(I77:I88) -> 350 | ... R76: =SUM(R77:R88) -> 143 | S76: =SUM(S78:S88) -> 6123
A77: HOSPITAL ILLAPEL
A78: POSTA CARCAMO | B78: 13 | C78: 17 | D78: 20 | E78: 20 | F78: 26 | G78: 29 | H78: 14 | I78: 18 | J78: 26 | K78: 29 | L78: 31 | M78: 23 | N78: 18 | O78: 28 | P78: 27 | Q78: 10 | R78: 19 | S78: =SUM(B78:R78) -> 368
A79: POSTA HUINTIL | B79: 13 | C79: 12 | D79: 19 | E79: 13 | F79: 12 | G79: 10 | H79: 14 | I79: 15 | J79: 18 | K79: 11 | L79: 27 | M79: 15 | N79: 15 | O79: 12 | P79: 7 | Q79: 6 | R79: 14 | S79: =SUM(B79:R79) -> 233
A80: POSTA LIMAHUIDA | B80: 11 | C80: 9 | D80: 14 | E80: 19 | F80: 15 | G80: 14 | H80: 15 | I80: 14 | J80: 10 | K80: 15 | L80: 19 | M80: 22 | N80: 9 | O80: 11 | P80: 8 | Q80: 7 | R80: 6 | S80: =SUM(B80:R80) -> 218
A81: POSTA MATANCILLA | B81: 6 | C81: 13 | D81: 8 | E81: 12 | F81: 17 | G81: 15 | H81: 8 | I81: 9 | J81: 16 | K81: 20 | L81: 14 | M81: 15 | N81: 14 | O81: 9 | P81: 8 | Q81: 6 | R81: 5 | S81: =SUM(B81:R81) -> 195
A82: POSTA PERALILLO | B82: 15 | C82: 23 | D82: 28 | E82: 23 | F82: 20 | G82: 13 | H82: 14 | I82: 22 | J82: 14 | K82: 30 | L82: 12 | M82: 14 | N82: 14 | O82: 8 | P82: 13 | Q82: 9 | R82: 6 | S82: =SUM(B82:R82) -> 278
A83: POSTA STA. VIRGINIA | B83: 9 | C83: 17 | D83: 27 | E83: 29 | F83: 21 | G83: 25 | H83: 10 | I83: 21 | J83: 15 | K83: 14 | L83: 29 | M83: 19 | N83: 12 | O83: 7 | P83: 7 | Q83: 4 | R83: 7 | S83: =SUM(B83:R83) -> 273
A84: POSTA TUNGA-NORTE | B84: 5 | C84: 28 | D84: 30 | E84: 26 | F84: 17 | G84: 32 | H84: 17 | I84: 21 | J84: 33 | K84: 29 | L84: 34 | M84: 17 | N84: 22 | O84: 20 | P84: 19 | Q84: 12 | R84: 15 | S84: =SUM(B84:R84) -> 377
A85: POSTA PLAN DE HORNOS | B85: 3 | C85: 10 | D85: 5 | E85: 9 | F85: 11 | G85: 21 | H85: 9 | I85: 14 | J85: 9 | K85: 17 | L85: 15 | M85: 16 | N85: 4 | O85: 10 | P85: 3 | Q85: 4 | R85: 6 | S85: =SUM(B85:R85) -> 166
A86: POSTA TUNGA-SUR | B86: 1 | C86: 5 | D86: 4 | E86: 8 | F86: 11 | G86: 9 | H86: 9 | I86: 6 | J86: 7 | K86: 15 | L86: 17 | M86: 10 | N86: 8 | O86: 11 | P86: 3 | Q86: 6 | R86: 12 | S86: =SUM(B86:R86) -> 142
A87: POSTA PINTACURA | B87: 222 | C87: 258 | D87: 289 | E87: 295 | F87: 316 | G87: 250 | H87: 209 | I87: 159 | J87: 200 | K87: 232 | L87: 217 | M87: 152 | N87: 121 | O87: 87 | P87: 53 | Q87: 34 | R87: 38 | S87: =SUM(B87:R87) -> 3132
A88: P. CAÑAS UNO DEL CHOAPA | B88: 49 | C88: 61 | D88: 63 | E88: 52 | F88: 68 | G88: 46 | H88: 57 | I88: 51 | J88: 47 | K88: 47 | L88: 39 | M88: 35 | N88: 34 | O88: 34 | P88: 26 | Q88: 17 | R88: 15 | S88: =SUM(B88:R88) -> 741
A90: C. SALAMANCA | B90: =+B91+B92 -> 301 | C90: =+C91+C92 -> 390 | D90: =+D91+D92 -> 463 | E90: =+E91+E92 -> 516 | F90: =+F91+F92 -> 495 | G90: =+G91+G92 -> 478 | H90: =+H91+H92 -> 401 | I90: =+I91+I92 -> 367 | ... R90: =+R91+R92 -> 198 | S90: =S92 -> 6422
A91: HOSPITAL SALAMANCA
A92: POSTA CUNCUMEN | B92: 301 | C92: 390 | D92: 463 | E92: 516 | F92: 495 | G92: 478 | H92: 401 | I92: 367 | J92: 401 | K92: 503 | L92: 490 | M92: 445 | N92: 353 | O92: 244 | P92: 221 | Q92: 156 | R92: 198 | S92: =SUM(B92:R92) -> 6422
A94: C. LOS VILOS | B94: =B95+B96 -> 152 | C94: =C95+C96 -> 226 | D94: =D95+D96 -> 224 | E94: =E95+E96 -> 226 | F94: =F95+F96 -> 238 | G94: =G95+G96 -> 205 | H94: =H95+H96 -> 205 | I94: =I95+I96 -> 176 | ... R94: =R95+R96 -> 87 | S94: =S96 -> 3026
A95: HOSPITAL LOS VILOS
A96: POSTA CAIMANES | B96: 152 | C96: 226 | D96: 224 | E96: 226 | F96: 238 | G96: 205 | H96: 205 | I96: 176 | J96: 200 | K96: 187 | L96: 208 | M96: 177 | N96: 171 | O96: 138 | P96: 105 | Q96: 100 | R96: 87 | S96: =SUM(B96:R96)+1 -> 3026
A98: C. CANELA | B98: =+B99 -> 226 | C98: =+C99 -> 330 | D98: =+D99 -> 312 | E98: =+E99 -> 358 | F98: =+F99 -> 386 | G98: =+G99 -> 301 | H98: =+H99 -> 280 | I98: =+I99 -> 292 | ... R98: =+R99 -> 213 | S98: =S99 -> 4752
A99: CGR CANELA | B99: 226 | C99: 330 | D99: 312 | E99: 358 | F99: 386 | G99: 301 | H99: 280 | I99: 292 | J99: 269 | K99: 322 | L99: 317 | M99: 323 | N99: 273 | O99: 223 | P99: 162 | Q99: 165 | R99: 213 | S99: =SUM(B99:R99) -> 4752
A101: NOTA: EXISTEN DATOS POR SEXO SIN GRUPOS ETAREOS, ESTOS FUERON INCORPORADOS EN EL TOTAL DE CADA ESTABLECIMIENTO Y SUMADOS AL TOTAL DE LA COMUNA CORRESPONDIENTE.
A102: FUENTE: PROCESO DE VALIDACIÓN NOVIEMBRE 2015 FONASA
