Workbook

Sheet COMGES 7
A1: MINISTERIO DE SALUD
A2: SERVICIO DE SALUD COQUIMBO
A3: DEPARTAMENTO DE GESTIÓN, PLANIFICACIÓN Y CONTROL
A4: SUBDEPTO. DE ESTADÍSTICAS Y GESTIÓN DE LA INFORMACIÓN
A5: AÑO 2022
B8: COMUNA | C8: INDICADOR 7.3.1: Porcentaje de cierre de brechas de cobertura, semestral: mujeres con examen de Mamografía vigente cada tres años del Servicio de Salud. | F8: INDICADOR 7.3.2:Porcentaje de cierre de brechas de cobertura, semestral mujeres con examen de Papanicolaou vigente del Servicio de Salud.
C9: Numerador | D9: Denominador | E9: Indicador | F9: Numerador | G9: Denominador | H9: Indicador
C10: Número total de mamografías realizadas en mujeres de 50 a 69 años del Servicio de Salud en el periodo | D10: Número total de mamografías comprometidas a realizar en mujeres de 50 a 69 años con los recursos asignados en el Programa de Imágenes Diagnostica) | E10: Total | F10: Nº de mujeres con examen de Papanicolaou vigente al corte, medición Junio y diciembre 2022 menos Nº de mujeres de 25 a 64 años con PAP vigente | G10: 25% de la brecha de la meta esperada (80%) con PAP vigente | H10: Total
B11: 04101-LA SERENA | C11: =IFERROR(VLOOKUP($B11,'Num7.3.1'!$F$3:$G$24,2,FALSE),0) -> 9382 | E11: =IFERROR(C11/D11,0) -> 0 | F11: =IFERROR(VLOOKUP($B11,'Num7.3.2'!$F$3:$G$27,2,FALSE),0) -> 16620 | H11: =IFERROR(F11/G11,0) -> 0
B12: 04104-LA HIGUERA | C12: =IFERROR(VLOOKUP($B12,'Num7.3.1'!$F$3:$G$24,2,FALSE),0) -> 353 | E12: =IFERROR(C12/D12,0) -> 0 | F12: =IFERROR(VLOOKUP($B12,'Num7.3.2'!$F$3:$G$27,2,FALSE),0) -> 563 | H12: =IFERROR(F12/G12,0) -> 0
B13: 04102-COQUIMBO | C13: =IFERROR(VLOOKUP($B13,'Num7.3.1'!$F$3:$G$24,2,FALSE),0) -> 8678 | E13: =IFERROR(C13/D13,0) -> 0 | F13: =IFERROR(VLOOKUP($B13,'Num7.3.2'!$F$3:$G$27,2,FALSE),0) -> 21687 | H13: =IFERROR(F13/G13,0) -> 0
B14: 04106-VICUÑA | C14: =IFERROR(VLOOKUP($B14,'Num7.3.1'!$F$3:$G$24,2,FALSE),0) -> 1090 | E14: =IFERROR(C14/D14,0) -> 0 | F14: =IFERROR(VLOOKUP($B14,'Num7.3.2'!$F$3:$G$27,2,FALSE),0) -> 2333 | H14: =IFERROR(F14/G14,0) -> 0
B15: 04105-PAIHUANO | C15: =IFERROR(VLOOKUP($B15,'Num7.3.1'!$F$3:$G$24,2,FALSE),0) -> 386 | E15: =IFERROR(C15/D15,0) -> 0 | F15: =IFERROR(VLOOKUP($B15,'Num7.3.2'!$F$3:$G$27,2,FALSE),0) -> 779 | H15: =IFERROR(F15/G15,0) -> 0
B16: 04301-OVALLE | C16: =IFERROR(VLOOKUP($B16,'Num7.3.1'!$F$3:$G$24,2,FALSE),0) -> 3357 | E16: =IFERROR(C16/D16,0) -> 0 | F16: =IFERROR(VLOOKUP($B16,'Num7.3.2'!$F$3:$G$27,2,FALSE),0) -> 9704 | H16: =IFERROR(F16/G16,0) -> 0
B17: 04305-RIO HURTADO | C17: =IFERROR(VLOOKUP($B17,'Num7.3.1'!$F$3:$G$24,2,FALSE),0) -> 293 | E17: =IFERROR(C17/D17,0) -> 0 | F17: =IFERROR(VLOOKUP($B17,'Num7.3.2'!$F$3:$G$27,2,FALSE),0) -> 637 | H17: =IFERROR(F17/G17,0) -> 0
B18: 04303-MONTE PATRIA | C18: =IFERROR(VLOOKUP($B18,'Num7.3.1'!$F$3:$G$24,2,FALSE),0) -> 1401 | E18: =IFERROR(C18/D18,0) -> 0 | F18: =IFERROR(VLOOKUP($B18,'Num7.3.2'!$F$3:$G$27,2,FALSE),0) -> 4074 | H18: =IFERROR(F18/G18,0) -> 0
B19: 04304-PUNITAQUI | C19: =IFERROR(VLOOKUP($B19,'Num7.3.1'!$F$3:$G$24,2,FALSE),0) -> 815 | E19: =IFERROR(C19/D19,0) -> 0 | F19: =IFERROR(VLOOKUP($B19,'Num7.3.2'!$F$3:$G$27,2,FALSE),0) -> 1750 | H19: =IFERROR(F19/G19,0) -> 0
B20: 04302-COMBARBALÁ | C20: =IFERROR(VLOOKUP($B20,'Num7.3.1'!$F$3:$G$24,2,FALSE),0) -> 274 | E20: =IFERROR(C20/D20,0) -> 0 | F20: =IFERROR(VLOOKUP($B20,'Num7.3.2'!$F$3:$G$27,2,FALSE),0) -> 878 | H20: =IFERROR(F20/G20,0) -> 0
B21: 04201-ILLAPEL | C21: =IFERROR(VLOOKUP($B21,'Num7.3.1'!$F$3:$G$24,2,FALSE),0) -> 1055 | E21: =IFERROR(C21/D21,0) -> 0 | F21: =IFERROR(VLOOKUP($B21,'Num7.3.2'!$F$3:$G$27,2,FALSE),0) -> 3701 | H21: =IFERROR(F21/G21,0) -> 0
B22: 04204-SALAMANCA | C22: =IFERROR(VLOOKUP($B22,'Num7.3.1'!$F$3:$G$24,2,FALSE),0) -> 658 | E22: =IFERROR(C22/D22,0) -> 0 | F22: =IFERROR(VLOOKUP($B22,'Num7.3.2'!$F$3:$G$27,2,FALSE),0) -> 2473 | H22: =IFERROR(F22/G22,0) -> 0
... B24: 04202-CANELA | C24: =IFERROR(VLOOKUP($B24,'Num7.3.1'!$F$3:$G$24,2,FALSE),0) -> 940 | E24: =IFERROR(C24/D24,0) -> 0 | F24: =IFERROR(VLOOKUP($B24,'Num7.3.2'!$F$3:$G$27,2,FALSE),0) -> 1183 | H24: =IFERROR(F24/G24,0) -> 0
B25: TOTAL MUNICIPAL | C25: =SUM(C11:C24) -> 29225 | D25: =SUM(D11:D24) -> 0 | E25: =IFERROR(C25/D25,0) -> 0 | F25: =SUM(F11:F24) -> 67283 | G25: =SUM(G11:G24) -> 0 | H25: =IFERROR(F25/G25,0) -> 0
B26: Fuente: REM P12

Sheet Num7.3.1
A1: Idestablecimiento | B1: Comuna/Establecimiento | C1: Mes | D1: Total
A2: 105104 | B2: =IFERROR(VLOOKUP($A2,[1]Establecimientos!$A$1:$E$175,5,FALSE),0) -> 105104-HOSPITAL SALAMANCA | C2: 12 | D2: 683
A3: 105105 | B3: =IFERROR(VLOOKUP($A3,[1]Establecimientos!$A$1:$E$175,5,FALSE),0) -> 105105-HOSPITAL COMBARBALÁ | C3: 12 | D3: 125 | F3: Etiquetas de fila | G3: Suma de Total
A4: 105107 | B4: =IFERROR(VLOOKUP($A4,[1]Establecimientos!$A$1:$E$175,5,FALSE),0) -> 105107-HOSPITAL VICUÑA | C4: 12 | D4: 622 | F4: 04101-LA SERENA | G4: 9382
A5: 105108 | B5: =IFERROR(VLOOKUP($A5,[1]Establecimientos!$A$1:$E$175,5,FALSE),0) -> 105108-HOSPITAL LOS VILOS | C5: 12 | D5: 421 | F5: 04102-COQUIMBO | G5: 8678
A6: 105300 | B6: =IFERROR(VLOOKUP($A6,[1]Establecimientos!$A$1:$E$175,5,FALSE),0) -> 04101-LA SERENA | C6: 12 | D6: 1143 | F6: 04104-LA HIGUERA | G6: 353
A7: 105301 | B7: =IFERROR(VLOOKUP($A7,[1]Establecimientos!$A$1:$E$175,5,FALSE),0) -> 04101-LA SERENA | C7: 12 | D7: 1036 | F7: 04105-PAIHUANO | G7: 386
A8: 105302 | B8: =IFERROR(VLOOKUP($A8,[1]Establecimientos!$A$1:$E$175,5,FALSE),0) -> 04101-LA SERENA | C8: 12 | D8: 849 | F8: 04106-VICUÑA | G8: 1090
A9: 105303 | B9: =IFERROR(VLOOKUP($A9,[1]Establecimientos!$A$1:$E$175,5,FALSE),0) -> 04102-COQUIMBO | C9: 12 | D9: 1223 | F9: 04201-ILLAPEL | G9: 1055
A10: 105304 | B10: =IFERROR(VLOOKUP($A10,[1]Establecimientos!$A$1:$E$175,5,FALSE),0) -> 04102-COQUIMBO | C10: 12 | D10: 899 | F10: 04202-CANELA | G10: 940
A11: 105305 | B11: =IFERROR(VLOOKUP($A11,[1]Establecimientos!$A$1:$E$175,5,FALSE),0) -> 04102-COQUIMBO | C11: 12 | D11: 1101 | F11: 04203-LOS VILOS | G11: 543
A12: 105306 | B12: =IFERROR(VLOOKUP($A12,[1]Establecimientos!$A$1:$E$175,5,FALSE),0) -> 04105-PAIHUANO | C12: 12 | D12: 287 | F12: 04204-SALAMANCA | G12: 658
A13: 105308 | B13: =IFERROR(VLOOKUP($A13,[1]Establecimientos!$A$1:$E$175,5,FALSE),0) -> 04304-PUNITAQUI | C13: 12 | D13: 737 | F13: 04301-OVALLE | G13: 3357
A14: 105309 | B14: =IFERROR(VLOOKUP($A14,[1]Establecimientos!$A$1:$E$175,5,FALSE),0) -> 04202-CANELA | C14: 12 | D14: 311 | F14: 04302-COMBARBALÁ | G14: 274
A15: 105310 | B15: =IFERROR(VLOOKUP($A15,[1]Establecimientos!$A$1:$E$175,5,FALSE),0) -> 04305-RIO HURTADO | C15: 12 | D15: 81 | F15: 04303-MONTE PATRIA | G15: 1401
... A24: 105323 | B24: =IFERROR(VLOOKUP($A24,[1]Establecimientos!$A$1:$E$175,5,FALSE),0) -> 04102-COQUIMBO | C24: 12 | D24: 1614 | F24: Total general | G24: 31840
A25: 105325 | B25: =IFERROR(VLOOKUP($A25,[1]Establecimientos!$A$1:$E$175,5,FALSE),0) -> 04101-LA SERENA | C25: 12 | D25: 1157
A26: 105326 | B26: =IFERROR(VLOOKUP($A26,[1]Establecimientos!$A$1:$E$175,5,FALSE),0) -> 04201-ILLAPEL | C26: 12 | D26: 323
A27: 105400 | B27: =IFERROR(VLOOKUP($A27,[1]Establecimientos!$A$1:$E$175,5,FALSE),0) -> 04101-LA SERENA | C27: 12 | D27: 110
A28: 105401 | B28: =IFERROR(VLOOKUP($A28,[1]Establecimientos!$A$1:$E$175,5,FALSE),0) -> 04101-LA SERENA | C28: 12 | D28: 131
A29: 105402 | B29: =IFERROR(VLOOKUP($A29,[1]Establecimientos!$A$1:$E$175,5,FALSE),0) -> 04101-LA SERENA | C29: 12 | D29: 128
A30: 105405 | B30: =IFERROR(VLOOKUP($A30,[1]Establecimientos!$A$1:$E$175,5,FALSE),0) -> 04102-COQUIMBO | C30: 12 | D30: 86
A31: 105409 | B31: =IFERROR(VLOOKUP($A31,[1]Establecimientos!$A$1:$E$175,5,FALSE),0) -> 04305-RIO HURTADO | C31: 12 | D31: 15
A32: 105410 | B32: =IFERROR(VLOOKUP($A32,[1]Establecimientos!$A$1:$E$175,5,FALSE),0) -> 04305-RIO HURTADO | C32: 12 | D32: 28
A33: 105411 | B33: =IFERROR(VLOOKUP($A33,[1]Establecimientos!$A$1:$E$175,5,FALSE),0) -> 04305-RIO HURTADO | C33: 12 | D33: 14
A34: 105413 | B34: =IFERROR(VLOOKUP($A34,[1]Establecimientos!$A$1:$E$175,5,FALSE),0) -> 04305-RIO HURTADO | C34: 12 | D34: 45
A35: 105414 | B35: =IFERROR(VLOOKUP($A35,[1]Establecimientos!$A$1:$E$175,5,FALSE),0) -> 04305-RIO HURTADO | C35: 12 | D35: 22
A36: 105415 | B36: =IFERROR(VLOOKUP($A36,[1]Establecimientos!$A$1:$E$175,5,FALSE),0) -> 04301-OVALLE | C36: 12 | D36: 73
... A617: 200607 | B617: =IFERROR(VLOOKUP($A617,[1]Establecimientos!$A$1:$E$175,5,FALSE),0) -> 04102-COQUIMBO | C617: 12 | D617: 8

Sheet Num7.3.2
A1: Idestablecimiento | B1: Comuna/Establecimiento | C1: Mes | D1: Total | F1: Mes | G1: 12
A2: 105100 | B2: =IFERROR(VLOOKUP($A2,[1]Establecimientos!$A$1:$E$175,5,FALSE),0) -> 105100-HOSPITAL LA SERENA | C2: 6 | D2: 1062
A3: 105100 | B3: =IFERROR(VLOOKUP($A3,[1]Establecimientos!$A$1:$E$175,5,FALSE),0) -> 105100-HOSPITAL LA SERENA | C3: 12 | D3: 1088 | F3: Etiquetas de fila | G3: Suma de Total
A4: 105101 | B4: =IFERROR(VLOOKUP($A4,[1]Establecimientos!$A$1:$E$175,5,FALSE),0) -> 105101-HOSPITAL COQUIMBO | C4: 6 | D4: 1141 | F4: 04101-LA SERENA | G4: 16620
A5: 105101 | B5: =IFERROR(VLOOKUP($A5,[1]Establecimientos!$A$1:$E$175,5,FALSE),0) -> 105101-HOSPITAL COQUIMBO | C5: 12 | D5: 1153 | F5: 04102-COQUIMBO | G5: 21687
A6: 105102 | B6: =IFERROR(VLOOKUP($A6,[1]Establecimientos!$A$1:$E$175,5,FALSE),0) -> 105102-HOSPITAL OVALLE | C6: 6 | D6: 797 | F6: 04104-LA HIGUERA | G6: 563
A7: 105102 | B7: =IFERROR(VLOOKUP($A7,[1]Establecimientos!$A$1:$E$175,5,FALSE),0) -> 105102-HOSPITAL OVALLE | C7: 12 | D7: 839 | F7: 04105-PAIHUANO | G7: 779
A8: 105103 | B8: =IFERROR(VLOOKUP($A8,[1]Establecimientos!$A$1:$E$175,5,FALSE),0) -> 105103-HOSPITAL ILLAPEL | C8: 6 | D8: 650 | F8: 04106-VICUÑA | G8: 2333
A9: 105103 | B9: =IFERROR(VLOOKUP($A9,[1]Establecimientos!$A$1:$E$175,5,FALSE),0) -> 105103-HOSPITAL ILLAPEL | C9: 12 | D9: 670 | F9: 04201-ILLAPEL | G9: 3701
A10: 105104 | B10: =IFERROR(VLOOKUP($A10,[1]Establecimientos!$A$1:$E$175,5,FALSE),0) -> 105104-HOSPITAL SALAMANCA | C10: 6 | D10: 1792 | F10: 04202-CANELA | G10: 1183
A11: 105104 | B11: =IFERROR(VLOOKUP($A11,[1]Establecimientos!$A$1:$E$175,5,FALSE),0) -> 105104-HOSPITAL SALAMANCA | C11: 12 | D11: 1789 | F11: 04203-LOS VILOS | G11: 901
A12: 105105 | B12: =IFERROR(VLOOKUP($A12,[1]Establecimientos!$A$1:$E$175,5,FALSE),0) -> 105105-HOSPITAL COMBARBALÁ | C12: 6 | D12: 973 | F12: 04204-SALAMANCA | G12: 2473
A13: 105105 | B13: =IFERROR(VLOOKUP($A13,[1]Establecimientos!$A$1:$E$175,5,FALSE),0) -> 105105-HOSPITAL COMBARBALÁ | C13: 12 | D13: 991 | F13: 04301-OVALLE | G13: 9704
A14: 105106 | B14: =IFERROR(VLOOKUP($A14,[1]Establecimientos!$A$1:$E$175,5,FALSE),0) -> 105106-HOSPITAL ANDACOLLO | C14: 6 | D14: 1400 | F14: 04302-COMBARBALÁ | G14: 878
A15: 105106 | B15: =IFERROR(VLOOKUP($A15,[1]Establecimientos!$A$1:$E$175,5,FALSE),0) -> 105106-HOSPITAL ANDACOLLO | C15: 12 | D15: 1452 | F15: 04303-MONTE PATRIA | G15: 4074
... A27: 105303 | B27: =IFERROR(VLOOKUP($A27,[1]Establecimientos!$A$1:$E$175,5,FALSE),0) -> 04102-COQUIMBO | C27: 12 | D27: 2706 | F27: Total general | G27: 77802
A28: 105304 | B28: =IFERROR(VLOOKUP($A28,[1]Establecimientos!$A$1:$E$175,5,FALSE),0) -> 04102-COQUIMBO | C28: 6 | D28: 2722
A29: 105304 | B29: =IFERROR(VLOOKUP($A29,[1]Establecimientos!$A$1:$E$175,5,FALSE),0) -> 04102-COQUIMBO | C29: 12 | D29: 2974
A30: 105305 | B30: =IFERROR(VLOOKUP($A30,[1]Establecimientos!$A$1:$E$175,5,FALSE),0) -> 04102-COQUIMBO | C30: 6 | D30: 4240
A31: 105305 | B31: =IFERROR(VLOOKUP($A31,[1]Establecimientos!$A$1:$E$175,5,FALSE),0) -> 04102-COQUIMBO | C31: 12 | D31: 4150
A32: 105306 | B32: =IFERROR(VLOOKUP($A32,[1]Establecimientos!$A$1:$E$175,5,FALSE),0) -> 04105-PAIHUANO | C32: 6 | D32: 779
A33: 105306 | B33: =IFERROR(VLOOKUP($A33,[1]Establecimientos!$A$1:$E$175,5,FALSE),0) -> 04105-PAIHUANO | C33: 12 | D33: 779
A34: 105307 | B34: =IFERROR(VLOOKUP($A34,[1]Establecimientos!$A$1:$E$175,5,FALSE),0) -> 04303-MONTE PATRIA | C34: 6 | D34: 1313
A35: 105307 | B35: =IFERROR(VLOOKUP($A35,[1]Establecimientos!$A$1:$E$175,5,FALSE),0) -> 04303-MONTE PATRIA | C35: 12 | D35: 1305
A36: 105308 | B36: =IFERROR(VLOOKUP($A36,[1]Establecimientos!$A$1:$E$175,5,FALSE),0) -> 04304-PUNITAQUI | C36: 6 | D36: 1746
A37: 105308 | B37: =IFERROR(VLOOKUP($A37,[1]Establecimientos!$A$1:$E$175,5,FALSE),0) -> 04304-PUNITAQUI | C37: 12 | D37: 1750
A38: 105309 | B38: =IFERROR(VLOOKUP($A38,[1]Establecimientos!$A$1:$E$175,5,FALSE),0) -> 04202-CANELA | C38: 6 | D38: 1184
A39: 105309 | B39: =IFERROR(VLOOKUP($A39,[1]Establecimientos!$A$1:$E$175,5,FALSE),0) -> 04202-CANELA | C39: 12 | D39: 1183
... A107: 200607 | B107: =IFERROR(VLOOKUP($A107,[1]Establecimientos!$A$1:$E$175,5,FALSE),0) -> 04102-COQUIMBO | C107: 12 | D107: 2823
